Workbook

Sheet Būvniecības  koptāme 
A1: APSTIPRINU
B3: (pasūtītāja paraksts un tā atšifrējums)
B4: Z.v.
B5: ____. gada __. ______________
A7: Būvniecības koptāme
A9: Objekta nosaukums | B9: Fasāžu fragmentu vienkāršotā atjaunošana, Lēdmanes iela 3, Rīga
A10: Būves nosaukums | B10: Fasāžu fragmentu vienkāršotā atjaunošana, Lēdmanes iela 3, Rīga
A11: Objekta adrese | B11: Lēdmanes iela 3, Rīga
A12: Pasūtījuma Nr.
A16: Nr. | B16: Objekta nosaukums | C16: Objekta izmaksas
A17: p. k. | C17: (euro)
A18: 1 | B18: Lēdmanes iela 3, Rīga
B24: Kopā
A26: PVN ( 21%)
A28: Sastādīja
B29: (paraksts un tā atšifrējums, datums)
A30: Sertifikāta Nr. | B30: 4-01599
A31: Tāme sastādīta 2023. gada 22 . Novebrī

Sheet Kopsavilkums
A1: Kopsavilkuma aprēķins Nr.
B3: (būvdarbu veids vai konstruktīvā elementa nosaukums)
A4: Objekta nosaukums | B4: Fasāžu fragmentu vienkāršotā atjaunošana, Lēdmanes iela 3, Rīga
A5: Būves nosaukums | B5: Fasāžu fragmentu vienkāršotā atjaunošana, Lēdmanes iela 3, Rīga
A6: Objekta adrese | B6: Lēdmanes iela 3, Rīga
A7: Pasūtījuma Nr.
C8: Par kopējo summu (euro)
C9: Kopējā darbietilpība (c/h)
A10: Nr. p. k. | B10: Kods, tāmes Nr. | C10: Būvdarbu veids vai konstruktīvā elementa nosaukums | D10: Tāmes izmaksas | E10: Tai skaitā | H10: Darbietilpība (c/h)
E14: darba alga | F14: būvizstrādājumi | G14: mehānismi
A15: 1 | B15: Lt-1 | C15: Objekta sagatavošanas darbi
A16: 2 | B16: Lt-2 | C16: Tehniskā stāva pārbūves darbi
A17: Kopā
A18: Virsizdevumi ( 7%) | D18: =ROUND(D17*7%,2) -> 0
A19: t. sk. darba aizsardzība | D19: =ROUND(D18*10%,2) -> 0
A20: Peļņa ( 7 %) | D20: =ROUND(D17*7%,2) -> 0
A21: Pavisam kopā | D21: =SUM(D17:D20)-D19 -> 0
A23: Sastādīja
B24: (paraksts un tā atšifrējums, datums)
A25: ='Būvniecības koptāme '!A31:C31 -> Tāme sastādīta 2023. gada 22 . Novebrī
A26: Pārbaudīja
B27: (paraksts un tā atšifrējums, datums)
A28: Sertifikāta Nr. | B28: ='Būvniecības koptāme '!B30 -> 4-01599

Sheet 1
A1: Lokālā tāme Nr.1
B2: Objekta sagatavošanas darbi
B3: (būvdarbu veids vai konstruktīvā elementa nosaukums)
A4: Objekta nosaukums | C4: Fasāžu fragmentu vienkāršotā atjaunošana, Lēdmanes iela 3, Rīga
A5: Būves nosaukums | C5: Fasāžu fragmentu vienkāršotā atjaunošana, Lēdmanes iela 3, Rīga
A6: Objekta adrese | C6: Lēdmanes iela 3, Rīga
A7: Pasūtījuma Nr.
A9: Tāme sastādīta 2023. gada tirgus cenās, pamatojoties uz DOP daļas rasējumiem. | M9: Tāmes izmaksas | O9: =P29 -> 0 | P9: euro
A11: Tāme sastādīta 2023. gada 22 . Novebrī
A14: Nr. p. k. | B14: Kods | C14: Būvdarbu nosaukums | D14: Mērvienība | E14: Daudzums | F14: Vienības izmaksas | L14: Kopā uz visu apjomu
F15: Laika norma (c/h) | G15: Darba samaksas likme (EUR) | H15: Darba alga (EUR) | I15: Būvizstrādājumi (EUR) | J15: Mehānismi (EUR) | K15: Kopā (EUR) | L15: Darbietilpība (c/h) | M15: Darba alga (EUR) | N15: Būvizstrādājumi (EUR) | O15: Mehānismi (EUR) | P15: Kopā (EUR)
A16: 1 | B16: 2 | C16: 3 | D16: 4 | E16: 5
C18: Būvlaukuma sagatavošana
A19: 1.1 | B19: līgumc. | C19: Mobilais žoga un uzstādīšana teritorijas norobežošanai | D19: m | E19: 15
B20: 0 | C20: mobilā žoga noma | D20: mēn. | E20: 1
A21: 1.2 | B21: līgumc. | C21: Pagaidu 2 viru vārtu montāža,demontāža | D21: gab | E21: 1
A22: 1.3 | B22: līgumc. | C22: Būvtāfeles uzstādīšana, 2,0x1,0m | D22: gab | E22: 1
A23: 1.4 | B23: līgumc. | C23: Ugunsdzēsības stenda izgatavošana, uzstādīšana | D23: gb | E23: 1
A24: 1.5 | B24: līgumc. | C24: Būvgružu savākšana, nogādāšana konteineros un izvešana uz izgāztuvi | D24: m3 | E24: 8
B25: 0 | C25: būvgružu konteiners , noma 1 gab | D25: mēn. | E25: 1
A26: 1.6 | B26: līgumc. | C26: Pagaidu elektrosadales uzstādīšana | D26: kompl. | E26: 1
B27: 0 | C27: maksa par patērēto elektroenerģiji | D27: mēn. | E27: 1
A28: 1.13 | B28: līgumc. | C28: Darbu veikšanas projekta izstrāde | D28: kompl. | E28: 1
A29: Tiešās izmaksas kopā, t. sk. darba devēja sociālais nodoklis (23.59%) | L29: =SUM(L19:L28) -> 0 | M29: =SUM(M19:M28) -> 0 | N29: =SUM(N19:N28) -> 0 | O29: =SUM(O19:O28) -> 0 | P29: =SUM(P19:P28) -> 0
A32: Sastādīja
B33: (paraksts un tā atšifrējums, datums)
A34: =Kopsavilkums!A25 -> Tāme sastādīta 2023. gada 22 . Novebrī
A35: Pārbaudīja
B36: (paraksts un tā atšifrējums, datums)
A37: Sertifikāta Nr. | C37: ='Būvniecības koptāme '!B30 -> 4-01599

Sheet 2
A1: Lokālā tāme Nr.2
B2: Tehniskā stāva pārbūves darbi
B3: (būvdarbu veids vai konstruktīvā elementa nosaukums)
A4: Objekta nosaukums | C4: ='1'!C4 -> Fasāžu fragmentu vienkāršotā atjaunošana, Lēdmanes iela 3, Rīga
A5: Būves nosaukums | C5: ='1'!C5 -> Fasāžu fragmentu vienkāršotā atjaunošana, Lēdmanes iela 3, Rīga
A6: Objekta adrese | C6: ='1'!C6 -> Lēdmanes iela 3, Rīga
A7: Pasūtījuma Nr.
A9: Tāme sastādīta 2023. gada tirgus cenās, pamatojoties uz AR daļas rasējumiem. | M9: Tāmes izmaksas | O9: =P80 -> 0 | P9: euro
A11: ='1'!A11:P11 -> Tāme sastādīta 2023. gada 22 . Novebrī
A13: Nr. p. k. | B13: Kods | C13: Būvdarbu nosaukums | D13: Mērvienība | E13: Daudzums | F13: Vienības izmaksas | L13: Kopā uz visu apjomu
F14: Laika norma (c/h) | G14: Darba samaksas likme (EUR) | H14: Darba alga (EUR) | I14: Būvizstrādājumi (EUR) | J14: Mehānismi (EUR) | K14: Kopā (EUR) | L14: Darbietilpība (c/h) | M14: Darba alga (EUR) | N14: Būvizstrādājumi (EUR) | O14: Mehānismi (EUR) | P14: Kopā (EUR)
A15: 1 | B15: 2 | C15: 3 | D15: 4 | E15: 5
C17: Tehniskā stāva pārbūves darbi
C18: Demotnāžas darbi
A19: 1 | C19: Veco metāla siju demontāža | D19: kompl | E19: 1
A20: =A19+1 -> 2 | C20: Izbūves darbi
A21: =A20+1 -> 3 | C21: MKD daļas izstrāde | D21: kompl | E21: 1
A22: =A21+1 -> 4 | C22: Statņu pamati. Pamatu veidošana no C20/25 XC2 betona | D22: kompl. | E22: 1
A23: =A22+1 -> 5 | C23: Betons C20/25 XC2 | D23: m3 | E23: =0.2*1.15 -> 0.23
A24: =A23+1 -> 6 | C24: Stiegrojums, B500B, d12mm | D24: m | E24: =9.5*1.2 -> 11.4
A25: =A24+1 -> 7 | C25: Stiegrojums, B500B, d8mm | D25: m | E25: =8*1.2 -> 9.6
A26: =A25+1 -> 8 | C26: Blietētas škembas, frakc 20-40mm | D26: m3 | E26: =0.2*1.1 -> 0.22
A27: =A26+1 -> 9 | C27: Palīgmateriāli (distanceri, sienāmā stieple u.c.) | D27: kompl. | E27: 1
A28: =A27+1 -> 10 | C28: Dzelzbetona joslas zem sijām esošajā sienā | D28: kompl. | E28: 1
A29: =A28+1 -> 11 | C29: Betons C20/25 XC2 | D29: m3 | E29: =0.07*1.15 -> 0.0805
A30: =A29+1 -> 12 | C30: Stiegrojums, B500B, d12mm | D30: m | E30: =5.5*1.2 -> 6.6
A31: =A30+1 -> 13 | C31: Stiegrojums, B500B, d6mm | D31: m | E31: =7*1.2 -> 8.4
A32: =A31+1 -> 14 | C32: Palīgmateriāli (distanceri, sienāmā stieple u.c.) | D32: kompl. | E32: 1
A33: =A32+1 -> 15 | C33: Betona grīdas segums | D33: m2 | E33: 19
A34: =A33+1 -> 16 | C34: Betons | D34: m3 | E34: =1.52*1.15 -> 1.748
A35: =A34+1 -> 17 | C35: Armatūras siets 3mm*100mm*100mm | D35: m2 | E35: =19*1.2 -> 22.8
A36: =A35+1 -> 18 | C36: Smilts | D36: m2 | E36: 19
A37: =A36+1 -> 19 | C37: Škemba, frakc. 20-40mm | D37: m3 | E37: =4*1.1 -> 4.4
A38: =A37+1 -> 20 | C38: Palīgmateriāli (distanceri, sienāmā stieple u.c.) | D38: kompl. | E38: 1
A39: =A38+1 -> 21 | C39: Kāpņu izbūve | D39: kompl. | E39: 1
A40: =A39+1 -> 22 | C40: UPN 200 | D40: m | E40: 20.22
A41: =A40+1 -> 23 | C41: Apaļcaurule d50mm | D41: m | E41: 20
A42: =A41+1 -> 24 | C42: L profils 40*40*3mm | D42: m | E42: 65
A43: =A42+1 -> 25 | C43: Profila caurule 70*70*6 | D43: m | E43: 12
A44: =A43+1 -> 26 | C44: Platformu režģi (Starplaukums). 1,30m*0,80m un 1,30m*2,90m | D44: gab. | E44: 2
A45: =A44+1 -> 27 | C45: JMJ pakāpieni, L=0,80m | D45: gab. | E45: 26
A46: =A45+1 -> 28 | C46: Stiprinājumi | D46: kpl | E46: 1
A47: =A46+1 -> 29 | C47: Koka karkasa izveide | D47: m3 | E47: 0.32
A48: =A47+1 -> 30 | C48: Kokmateriāls 150*75mm | D48: m3 | E48: 0.4
A49: =A48+1 -> 31 | C49: Hidroizolējoši distanceri | D49: gab. | E49: 20
... A61: =A60+1 -> 43 | C61: Fasādes apdare ar metāla loksnēm | D61: m2 | E61: 4.11
A62: =A61+1 -> 44 | C62: Metāla loksnes ruukki T15 - RR41 | D62: m2 | E62: =E61*1.1 -> 4.521
A63: =A62+1 -> 45 | C63: Stiprinājumi | D63: kompl. | E63: 1
A64: =A63+1 -> 46 | C64: Vārtu montāža | D64: gab. | E64: 1
A65: =A64+1 -> 47 | C65: Paceļamie vārti, ieskaitot automātiku un sliedes (2,30m*1,85m) | D65: gab. | E65: 1
A66: =A65+1 -> 48 | C66: Palīgmateriāli (kronšteini, putas , tvaika izolācijas lentas, ķīļi). | D66: kompl. | E66: 1
A67: =A66+1 -> 49 | C67: Loga montāža | D67: m2 | E67: 3.7
A68: =A67+1 -> 50 | C68: Neverams PVC logs (2,0m*1,85m) | D68: gab. | E68: 1
A69: =A68+1 -> 51 | C69: Palīgmateriāli (kronšteini, putas , tvaika izolācijas lentas, ķīļi). | D69: kompl. | E69: 1
A70: =A69+1 -> 52 | C70: Durvju montāža | D70: gab. | E70: 1
A71: =A70+1 -> 53 | C71: Metāla divviru ārdurvis (1,35m*2,10m) | D71: gab. | E71: 1
A72: =A71+1 -> 54 | C72: Palīgmateriāli (kronšteini, putas , tvaika izolācijas lentas, ķīļi). | D72: kompl. | E72: 1
A73: =A72+1 -> 55 | C73: Durvju montāža | D73: gab. | E73: 1
A74: =A73+1 -> 56 | C74: Metāla vienviru durvis (0,80m*1,98m) | D74: gab. | E74: 1
... A79: =A78+1 -> 61 | C79: Sastatņu noma un montāža/demontāža | D79: kompl | E79: 1
A80: Tiešās izmaksas kopā, t. sk. darba devēja sociālais nodoklis (23.59%) | L80: =SUM(L17:L79) -> 0 | M80: =SUM(M17:M79) -> 0 | N80: =SUM(N17:N79) -> 0 | O80: =SUM(O17:O79) -> 0 | P80: =SUM(P17:P79) -> 0
A83: Sastādīja
B84: (paraksts un tā atšifrējums, datums)
A86: Pārbaudīja
B87: (paraksts un tā atšifrējums, datums)
A88: Sertifikāta Nr. | C88: ='Būvniecības koptāme '!B30 -> 4-01599
