Workbook
Name datums: [1]KA!$K$45
Name likme: KT!$E$22
Name parb: [1]KA!$K$43
Name procenti: #REF!
Name sast: [1]KA!$K$42
Name sertif: [1]KA!$K$44

Sheet KT
C2: APSTIPRINU_________________________________
C3: (pasūtītāja paraksts un tā atšifrējums)
C4: Z.V.
C5: ___.gada ___.______________
A7: Būvniecības koptāme
A9: Objekta nosaukums: | B9: ĒKU ATJAUNOŠANA, PĀRBŪVE, NOJAUKŠANA UN TERITORIJAS LABIEKĀRTOŠANA I un II kārta
A10: Būves nosaukums: | B10: Pirmsskolas izglītības iestāde
A11: Objekta adrese: | B11: Dārtas iela 1, Cēsis, Cēsu novads
A12: Pasūtītājs: | B12: Cēsu novada pašvaldība Raunas ielā 4, Cēsīs, Cēsu novadā, LV-4101; Reģ.Nr. 90000031048
A13: Būvuzņēmējs: | B13: SIA
A15: Nr.p.k. | B15: Objekta nosaukums | C15: Objekta izmaksas (euro)
A16: 1 | B16: Būves I kārta - būves ar kad. apz. 42010062008001 pārbūve, ēkā izveidojot pirmskolas izglītības iestādi 3 (trīs) audzināmo grupu izvietošanai, viena grupas ēkas 1. stāvā un divas grupas ēkas 2. stāvā; - būvju ar kad apz.42010062008002, 42010062008003 atjaunošana un 42010062008006 nojaukšana; | C16: ='KA1'!E48 -> 0
A17: 2 | B17: Būves II kārta – automašīnu stāvlaukuma pārbūve atbilstoši Cēsu pilsētas apbūves noteikumiem | C17: ='KA2'!E24 -> 0
B18: Kopā | C18: =SUM(C16:C17) -> 0
D19: Virsizdevumi | E19: 0.1
A20: PVN (21%) | C20: =ROUND(C18*21%,2) -> 0 | D20: DA | E20: 0.05
D21: Peļņa | E21: 0.1
D22: Likme | E22: 15
A23: Sastādīja: | D23: 2024.gada __._________
A24: (paraksts un tā atšifrējums, datums)
A25: Sertifikāta Nr.:
A27: Pārbaudīja:
A28: (paraksts un tā atšifrējums, datums)
A29: Sertifikāta Nr.:

Sheet KA1
A2: Kopsavilkuma aprēķins nr.1
A3: =KT!B16 -> Būves I kārta - būves ar kad. apz. 42010062008001 pārbūve, ēkā izveidojot pirmskolas izglītības iestādi 3 (trīs) audzināmo grupu izvietošanai, viena grupas ēkas 1. stāvā un divas grupas ēkas 2. stāvā; - būvju ar kad apz.42010062008002, 42010062008003 atjaunošana un 42010062008006 nojaukšana;
A4: (būvdarbu veids vai konstruktīvā elementa nosaukums)
A6: Objekta nosaukums: | C6: =KT!B9 -> ĒKU ATJAUNOŠANA, PĀRBŪVE, NOJAUKŠANA UN TERITORIJAS LABIEKĀRTOŠANA I un II kārta
A7: Būves nosaukums: | C7: =KT!B10 -> Pirmsskolas izglītības iestāde
A8: Objekta adrese: | C8: =KT!B11 -> Dārtas iela 1, Cēsis, Cēsu novads
A9: Pasūtītājs: | C9: =KT!B12 -> Cēsu novada pašvaldība Raunas ielā 4, Cēsīs, Cēsu novadā, LV-4101; Reģ.Nr. 90000031048
A10: Būvuzņēmējs: | C10: =KT!B13 -> SIA
C11: Par kopējo summu (eiro) | E11: =E48 -> 0
C12: Kopējā darbietilpība (c/h) | E12: =SUM(I15:I43) -> 0
A13: Nr.p.k. | B13: kods, tāmes nr. | C13: Būvdarbu veids vai konstruktīvā elementa nosaukums | E13: Tāmes izmaksas | F13: Tai skaitā | I13: Darbietilpība (c/h)
F14: Darba alga | G14: Būvizstrādājumi | H14: Mehānismi
A15: 1 | C15: 1. Vispārējie būvdarbi | E15: =SUM(F15:H15) -> 0 | I15: =ROUND(F15/likme,2) -> 0
A16: 2 | B16: 1.1 | C16: Demontāžas darbi | E16: =SUM(F16:H16) -> 0 | F16: ='1,1'!M74 -> 0 | G16: ='1,1'!N74 -> 0 | H16: ='1,1'!O74 -> 0 | I16: =ROUND(F16/likme,2) -> 0
A17: 3 | B17: 1.2 | C17: Zemes darbi | E17: =SUM(F17:H17) -> 0 | F17: ='1,2'!M43 -> 0 | G17: ='1,2'!N43 -> 0 | H17: ='1,2'!O43 -> 0 | I17: =ROUND(F17/likme,2) -> 0
A18: 4 | B18: 1.3 | C18: Pamati un pamatnes | E18: =SUM(F18:H18) -> 0 | F18: ='1,3'!M62 -> 0 | G18: ='1,3'!N62 -> 0 | H18: ='1,3'!O62 -> 0 | I18: =ROUND(F18/likme,2) -> 0
A19: 5 | B19: 1.4 | C19: Sienas, ēku un būvju karkasu konstrukcijas | E19: =SUM(F19:H19) -> 0 | F19: ='1,4'!M86 -> 0 | G19: ='1,4'!N86 -> 0 | H19: ='1,4'!O86 -> 0 | I19: =ROUND(F19/likme,2) -> 0
A20: 6 | B20: 1.5 | C20: Starpsienas | E20: =SUM(F20:H20) -> 0 | F20: ='1,5'!M67 -> 0 | G20: ='1,5'!N67 -> 0 | H20: ='1,5'!O67 -> 0 | I20: =ROUND(F20/likme,2) -> 0
A21: 7 | B21: 1.6 | C21: Grīdu pamatnes, segumi | E21: =SUM(F21:H21) -> 0 | F21: ='1,6'!M93 -> 0 | G21: ='1,6'!N93 -> 0 | H21: ='1,6'!O93 -> 0 | I21: =ROUND(F21/likme,2) -> 0
A22: 8 | B22: 1.7 | C22: Jumti, segumi | E22: =SUM(F22:H22) -> 0 | F22: ='1,7'!M46 -> 0 | G22: ='1,7'!N46 -> 0 | H22: ='1,7'!O46 -> 0 | I22: =ROUND(F22/likme,2) -> 0
A23: 9 | B23: 1.8 | C23: Aiļu aizpildījumu elementi, speciālo konstrukciju fasādes | E23: =SUM(F23:H23) -> 0 | F23: ='1,8'!M52 -> 0 | G23: ='1,8'!N52 -> 0 | H23: ='1,8'!O52 -> 0 | I23: =ROUND(F23/likme,2) -> 0
A24: 10 | B24: 1.9 | C24: Iekšējie apdares darbi | E24: =SUM(F24:H24) -> 0 | F24: ='1,9'!M57 -> 0 | G24: ='1,9'!N57 -> 0 | H24: ='1,9'!O57 -> 0 | I24: =ROUND(F24/likme,2) -> 0
A25: 11 | B25: 1.1 | C25: Ārējie apdares darbi | E25: =SUM(F25:H25) -> 0 | F25: ='1,10'!M38 -> 0 | G25: ='1,10'!N38 -> 0 | H25: ='1,10'!O38 -> 0 | I25: =ROUND(F25/likme,2) -> 0
A26: 12 | B26: 1.11 | C26: Ēka ar kad.apz. 002 un 003 | E26: =SUM(F26:H26) -> 0 | F26: ='1,11'!M67 -> 0 | G26: ='1,11'!N67 -> 0 | H26: ='1,11'!O67 -> 0 | I26: =ROUND(F26/likme,2) -> 0
A27: 13 | B27: 1.12 | C27: Slēgtas nojumes Nr.4;5;6 | E27: =SUM(F27:H27) -> 0 | F27: ='1,12'!M61 -> 0 | G27: ='1,12'!N61 -> 0 | H27: ='1,12'!O61 -> 0 | I27: =ROUND(F27/likme,2) -> 0
A28: 14 | B28: 1.13 | C28: Ceļi un laukumi | E28: =SUM(F28:H28) -> 0 | F28: ='1,13'!M139 -> 0 | G28: ='1,13'!N139 -> 0 | H28: ='1,13'!O139 -> 0 | I28: =ROUND(F28/likme,2) -> 0
A29: 15 | B29: 1.14 | C29: Dažādi darbi | E29: =SUM(F29:H29) -> 0 | F29: ='1,14'!M22 -> 0 | G29: ='1,14'!N22 -> 0 | H29: ='1,14'!O22 -> 0 | I29: =ROUND(F29/likme,2) -> 0
A30: 16 | C30: 2. Specializētie darbi – iekšējie tīkli, sistēmas | E30: =SUM(F30:H30) -> 0 | I30: =ROUND(F30/likme,2) -> 0
A31: 17 | B31: 1.15 | C31: Iekšējie elektrotīkli, apgaismojums, spēka pievadi | E31: =SUM(F31:H31) -> 0 | F31: ='1,15'!M111 -> 0 | G31: ='1,15'!N111 -> 0 | H31: ='1,15'!O111 -> 0 | I31: =ROUND(F31/likme,2) -> 0
A32: 18 | B32: 1.16 | C32: Iekšējās apkures sistēmas | E32: =SUM(F32:H32) -> 0 | F32: ='1,16'!M318 -> 0 | G32: ='1,16'!N318 -> 0 | H32: ='1,16'!O318 -> 0 | I32: =ROUND(F32/likme,2) -> 0
A33: 19 | B33: 1.17 | C33: Vēdināšana, gaisa kondicionēšana | E33: =SUM(F33:H33) -> 0 | F33: ='1,17'!M283 -> 0 | G33: ='1,17'!N283 -> 0 | H33: ='1,17'!O283 -> 0 | I33: =ROUND(F33/likme,2) -> 0
A34: 20 | B34: 1.18 | C34: Iekšējie ūdensvada tīkli, aprīkojums | E34: =SUM(F34:H34) -> 0 | F34: ='1,18'!M149 -> 0 | G34: ='1,18'!N149 -> 0 | H34: ='1,18'!O149 -> 0 | I34: =ROUND(F34/likme,2) -> 0
A35: 21 | B35: 1.19 | C35: Iekšējie kanalizācijas tīkli, aprīkojums | E35: =SUM(F35:H35) -> 0 | F35: ='1,19'!M77 -> 0 | G35: ='1,19'!N77 -> 0 | H35: ='1,19'!O77 -> 0 | I35: =ROUND(F35/likme,2) -> 0
A36: 22 | B36: 1.2 | C36: Vājstrāvas tīkli - TK | E36: =SUM(F36:H36) -> 0 | F36: ='1,20'!M26 -> 0 | G36: ='1,20'!N26 -> 0 | H36: ='1,20'!O26 -> 0 | I36: =ROUND(F36/likme,2) -> 0
A37: 23 | B37: 1.21 | C37: Vājstrāvas tīkli - UATS | E37: =SUM(F37:H37) -> 0 | F37: ='1,21'!M41 -> 0 | G37: ='1,21'!N41 -> 0 | H37: ='1,21'!O41 -> 0 | I37: =ROUND(F37/likme,2) -> 0
A38: 24 | C38: 3. Specializētie darbi – ārējie tīkli, sistēmas | E38: =SUM(F38:H38) -> 0 | I38: =ROUND(F38/likme,2) -> 0
A39: 25 | B39: 1.22 | C39: Ārējie elektrotīkli, apgaismojums. Maģistrālās elektrolīnijas | E39: =SUM(F39:H39) -> 0 | F39: ='1,22'!M67 -> 0 | G39: ='1,22'!N67 -> 0 | H39: ='1,22'!O67 -> 0 | I39: =ROUND(F39/likme,2) -> 0
A40: 26 | B40: 1.23 | C40: Ārējie ūdensvada tīkli | E40: =SUM(F40:H40) -> 0 | F40: ='1,23'!M47 -> 0 | G40: ='1,23'!N47 -> 0 | H40: ='1,23'!O47 -> 0 | I40: =ROUND(F40/likme,2) -> 0
A41: 27 | B41: 1.24 | C41: Ārējie kanalizācijas tīkli. Attīrīšanas ietaises | E41: =SUM(F41:H41) -> 0 | F41: ='1,24'!M43 -> 0 | G41: ='1,24'!N43 -> 0 | H41: ='1,24'!O43 -> 0 | I41: =ROUND(F41/likme,2) -> 0
A42: 28 | B42: 1.25 | C42: Lietusūdens kanalizācijas tīkli | E42: =SUM(F42:H42) -> 0 | F42: ='1,25'!M52 -> 0 | G42: ='1,25'!N52 -> 0 | H42: ='1,25'!O52 -> 0 | I42: =ROUND(F42/likme,2) -> 0
A43: 29 | B43: 1.26 | C43: Vājstrāvas tīkli | E43: =SUM(F43:H43) -> 0 | F43: ='1,26'!M38 -> 0 | G43: ='1,26'!N38 -> 0 | H43: ='1,26'!O38 -> 0 | I43: =ROUND(F43/likme,2) -> 0
A44: Kopā | E44: =SUM(E15:E43) -> 0
A45: Virsizdevumi | E45: =ROUND(E44*D45,2) -> 0
A46: t.sk. Darba aizsardzība | E46: =ROUND(E45*D46,2) -> 0
A47: Peļņa | E47: =ROUND(E44*D47,2) -> 0
A48: Pavisam kopā | E48: =ROUND(E44+E45+E47,2) -> 0
A50: =KT!A23 -> Sastādīja: | E50: =KT!D23 -> 2024.gada __._________
A51: (paraksts un tā atšifrējums, datums)
A52: =KT!A25 -> Sertifikāta Nr.:
A54: =KT!A27 -> Pārbaudīja: | E54: =KT!D23 -> 2024.gada __._________
A55: (paraksts un tā atšifrējums, datums)
A56: =KT!A29 -> Sertifikāta Nr.:

Sheet 1,1
A2: Lokālā tāme Nr.1,1
A3: ='KA1'!C16 -> Demontāžas darbi
A4: (būvdarbu veids vai konstruktīvā elementa nosaukums)
A6: Objekta nosaukums: | C6: =KT!B9 -> ĒKU ATJAUNOŠANA, PĀRBŪVE, NOJAUKŠANA UN TERITORIJAS LABIEKĀRTOŠANA I un II kārta
A7: Būves nosaukums: | C7: =KT!B10 -> Pirmsskolas izglītības iestāde
A8: Objekta adrese: | C8: =KT!B11 -> Dārtas iela 1, Cēsis, Cēsu novads
A9: Pasūtītājs: | C9: =KT!B12 -> Cēsu novada pašvaldība Raunas ielā 4, Cēsīs, Cēsu novadā, LV-4101; Reģ.Nr. 90000031048
A10: Būvuzņēmējs: | C10: =KT!B13 -> SIA
A12: Tāme sastādīta 2024. gada tirgus cenās, pamatojoties uz būvprojekta rasējumiem | M12: Tāmes izmaksas: | O12: =P74 -> 0 | P12: EUR
N13: Tāme sastādītā | O13: =KT!D23 -> 2024.gada __._________
A15: Nr.p.k. | B15: Kods | C15: Būvdarbu nosaukums | D15: Mērvienība | E15: Daudzums | F15: Vienības izmaksas | L15: Kopā uz visu apjomu
F16: Laika norma (c/h) | G16: Darba samaksas likme (euro/h) | H16: Darba alga | I16: Būvizstrādājumi | J16: Mehānismi | K16: KOPĀ | L16: Darbietilpība (c/h) | M16: Darba alga | N16: Būvizstrādājumi | O16: Mehānismi | P16: Summa
A18: 1 | C18: Ēku demontāža | H18: =ROUND(F18*G18,2) -> 0 | K18: =SUM(H18:J18) -> 0 | L18: =ROUND(E18*F18,2) -> 0 | M18: =ROUND(E18*H18,2) -> 0 | N18: =ROUND(E18*I18,2) -> 0 | O18: =ROUND(E18*J18,2) -> 0 | P18: =SUM(M18:O18) -> 0
A19: 2 | C19: Esošā azbestcementa jumta seguma demontāža savācot konteinerī | D19: m² | E19: 300 | H19: =ROUND(F19*G19,2) -> 0 | K19: =SUM(H19:J19) -> 0 | L19: =ROUND(E19*F19,2) -> 0 | M19: =ROUND(E19*H19,2) -> 0 | N19: =ROUND(E19*I19,2) -> 0 | O19: =ROUND(E19*J19,2) -> 0 | P19: =SUM(M19:O19) -> 0
A20: 3 | C20: Esošo koka vārtu demontāža | D20: m² | E20: 15 | H20: =ROUND(F20*G20,2) -> 0 | K20: =SUM(H20:J20) -> 0 | L20: =ROUND(E20*F20,2) -> 0 | M20: =ROUND(E20*H20,2) -> 0 | N20: =ROUND(E20*I20,2) -> 0 | O20: =ROUND(E20*J20,2) -> 0 | P20: =SUM(M20:O20) -> 0
A21: 4 | C21: Dēļu apšuvuma demontāža | D21: m² | E21: 215 | H21: =ROUND(F21*G21,2) -> 0 | K21: =SUM(H21:J21) -> 0 | L21: =ROUND(E21*F21,2) -> 0 | M21: =ROUND(E21*H21,2) -> 0 | N21: =ROUND(E21*I21,2) -> 0 | O21: =ROUND(E21*J21,2) -> 0 | P21: =SUM(M21:O21) -> 0
A22: 5 | C22: Šķūņa koka karkasa un jumta nesošo konstrukciju demontāža | D22: m³ | E22: 9.1 | H22: =ROUND(F22*G22,2) -> 0 | K22: =SUM(H22:J22) -> 0 | L22: =ROUND(E22*F22,2) -> 0 | M22: =ROUND(E22*H22,2) -> 0 | N22: =ROUND(E22*I22,2) -> 0 | O22: =ROUND(E22*J22,2) -> 0 | P22: =SUM(M22:O22) -> 0
A23: 6 | C23: Mūra sienu demontāža | D23: m³ | E23: 11.5 | H23: =ROUND(F23*G23,2) -> 0 | K23: =SUM(H23:J23) -> 0 | L23: =ROUND(E23*F23,2) -> 0 | M23: =ROUND(E23*H23,2) -> 0 | N23: =ROUND(E23*I23,2) -> 0 | O23: =ROUND(E23*J23,2) -> 0 | P23: =SUM(M23:O23) -> 0
A24: 7 | C24: Pamatu un grīdas demontāža | D24: m³ | E24: 8.6 | H24: =ROUND(F24*G24,2) -> 0 | K24: =SUM(H24:J24) -> 0 | L24: =ROUND(E24*F24,2) -> 0 | M24: =ROUND(E24*H24,2) -> 0 | N24: =ROUND(E24*I24,2) -> 0 | O24: =ROUND(E24*J24,2) -> 0 | P24: =SUM(M24:O24) -> 0
A25: 8 | C25: Būvgružu savākšana un aizvešana | D25: m³ | E25: 35 | H25: =ROUND(F25*G25,2) -> 0 | K25: =SUM(H25:J25) -> 0 | L25: =ROUND(E25*F25,2) -> 0 | M25: =ROUND(E25*H25,2) -> 0 | N25: =ROUND(E25*I25,2) -> 0 | O25: =ROUND(E25*J25,2) -> 0 | P25: =SUM(M25:O25) -> 0
A26: 9 | C26: Bīstamo būvgružu (azbestcementa loksnes) savākšana un aizvešana | D26: m³ | E26: 2.4 | H26: =ROUND(F26*G26,2) -> 0 | K26: =SUM(H26:J26) -> 0 | L26: =ROUND(E26*F26,2) -> 0 | M26: =ROUND(E26*H26,2) -> 0 | N26: =ROUND(E26*I26,2) -> 0 | O26: =ROUND(E26*J26,2) -> 0 | P26: =SUM(M26:O26) -> 0
A27: 10 | C27: Pēc pamatu demontāžas aizbērt būvbedri ar vidēju rupju blietētu smilti līdz projektēto laukumu salisturīgai kārtai skat. TS-CD | D27: m³ | E27: 5 | H27: =ROUND(F27*G27,2) -> 0 | K27: =SUM(H27:J27) -> 0 | L27: =ROUND(E27*F27,2) -> 0 | M27: =ROUND(E27*H27,2) -> 0 | N27: =ROUND(E27*I27,2) -> 0 | O27: =ROUND(E27*J27,2) -> 0 | P27: =SUM(M27:O27) -> 0
A28: 11 | C28: Demontāžas darbi ( ēkai ar kad.apz. 001 - pagrabstāvs) | H28: =ROUND(F28*G28,2) -> 0 | K28: =SUM(H28:J28) -> 0 | L28: =ROUND(E28*F28,2) -> 0 | M28: =ROUND(E28*H28,2) -> 0 | N28: =ROUND(E28*I28,2) -> 0 | O28: =ROUND(E28*J28,2) -> 0 | P28: =SUM(M28:O28) -> 0
A29: 12 | C29: esošo pagrabtelpu attīrīšana no būvgružiem (izvest būvgružus utilizācijai) | D29: m² | E29: 106.7 | H29: =ROUND(F29*G29,2) -> 0 | K29: =SUM(H29:J29) -> 0 | L29: =ROUND(E29*F29,2) -> 0 | M29: =ROUND(E29*H29,2) -> 0 | N29: =ROUND(E29*I29,2) -> 0 | O29: =ROUND(E29*J29,2) -> 0 | P29: =SUM(M29:O29) -> 0
A30: 13 | C30: Esošo logu un durvju demontāža (izvest būvgružus utilizācijai) | D30: m2 | E30: 14 | H30: =ROUND(F30*G30,2) -> 0 | K30: =SUM(H30:J30) -> 0 | L30: =ROUND(E30*F30,2) -> 0 | M30: =ROUND(E30*H30,2) -> 0 | N30: =ROUND(E30*I30,2) -> 0 | O30: =ROUND(E30*J30,2) -> 0 | P30: =SUM(M30:O30) -> 0
A31: 14 | C31: Aizdarinātas ailes atvēršana (izvest būvgružus utilizācijai) | D31: m² | E31: 3 | H31: =ROUND(F31*G31,2) -> 0 | K31: =SUM(H31:J31) -> 0 | L31: =ROUND(E31*F31,2) -> 0 | M31: =ROUND(E31*H31,2) -> 0 | N31: =ROUND(E31*I31,2) -> 0 | O31: =ROUND(E31*J31,2) -> 0 | P31: =SUM(M31:O31) -> 0
A32: 15 | C32: Āra betona kāpņu ar sieniņu demontāža (izvest būvgružus utilizācijai) | D32: m³ | E32: 2.2 | H32: =ROUND(F32*G32,2) -> 0 | K32: =SUM(H32:J32) -> 0 | L32: =ROUND(E32*F32,2) -> 0 | M32: =ROUND(E32*H32,2) -> 0 | N32: =ROUND(E32*I32,2) -> 0 | O32: =ROUND(E32*J32,2) -> 0 | P32: =SUM(M32:O32) -> 0
A33: 16 | C33: Esošas bedres ( pagraba līmenī) demontāža un aizbēršana (izvest būvgružus utilizācijai) | D33: m³ | E33: 4.5 | H33: =ROUND(F33*G33,2) -> 0 | K33: =SUM(H33:J33) -> 0 | L33: =ROUND(E33*F33,2) -> 0 | M33: =ROUND(E33*H33,2) -> 0 | N33: =ROUND(E33*I33,2) -> 0 | O33: =ROUND(E33*J33,2) -> 0 | P33: =SUM(M33:O33) -> 0
A34: 17 | C34: Vēdināšanas atvērumu cokoldaļā aizdare (betons+akmeņi) | D34: m³ | E34: 1.9 | H34: =ROUND(F34*G34,2) -> 0 | K34: =SUM(H34:J34) -> 0 | L34: =ROUND(E34*F34,2) -> 0 | M34: =ROUND(E34*H34,2) -> 0 | N34: =ROUND(E34*I34,2) -> 0 | O34: =ROUND(E34*J34,2) -> 0 | P34: =SUM(M34:O34) -> 0
A35: 18 | C35: Aiļu aizdare un padziļināšana pa assi 1, (skat. 1.piezīmi) (izvest būvgružus utilizācijai) | D35: m3 | E35: 1.94 | H35: =ROUND(F35*G35,2) -> 0 | K35: =SUM(H35:J35) -> 0 | L35: =ROUND(E35*F35,2) -> 0 | M35: =ROUND(E35*H35,2) -> 0 | N35: =ROUND(E35*I35,2) -> 0 | O35: =ROUND(E35*J35,2) -> 0 | P35: =SUM(M35:O35) -> 0
A36: 19 | C36: Ailes aizbetonēšana vai aizmūrēšana ar betona blokiem | D36: m³ | E36: 1.8 | H36: =ROUND(F36*G36,2) -> 0 | K36: =SUM(H36:J36) -> 0 | L36: =ROUND(E36*F36,2) -> 0 | M36: =ROUND(E36*H36,2) -> 0 | N36: =ROUND(E36*I36,2) -> 0 | O36: =ROUND(E36*J36,2) -> 0 | P36: =SUM(M36:O36) -> 0
A37: 20 | C37: Pagraba aizbirušā koridora atremontēšana ( skat. 2.piezīmi) | D37: m² | E37: 61 | H37: =ROUND(F37*G37,2) -> 0 | K37: =SUM(H37:J37) -> 0 | L37: =ROUND(E37*F37,2) -> 0 | M37: =ROUND(E37*H37,2) -> 0 | N37: =ROUND(E37*I37,2) -> 0 | O37: =ROUND(E37*J37,2) -> 0 | P37: =SUM(M37:O37) -> 0
A38: 21 | C38: Demontāžas darbi ( ēkas ar kad.apz. 001 - 1. stāvs) | H38: =ROUND(F38*G38,2) -> 0 | K38: =SUM(H38:J38) -> 0 | L38: =ROUND(E38*F38,2) -> 0 | M38: =ROUND(E38*H38,2) -> 0 | N38: =ROUND(E38*I38,2) -> 0 | O38: =ROUND(E38*J38,2) -> 0 | P38: =SUM(M38:O38) -> 0
A39: 22 | C39: Logu restu demontāža (izvest būvgružus utilizācijai) | D39: m² | E39: 49.5 | H39: =ROUND(F39*G39,2) -> 0 | K39: =SUM(H39:J39) -> 0 | L39: =ROUND(E39*F39,2) -> 0 | M39: =ROUND(E39*H39,2) -> 0 | N39: =ROUND(E39*I39,2) -> 0 | O39: =ROUND(E39*J39,2) -> 0 | P39: =SUM(M39:O39) -> 0
A40: 23 | C40: Esošo logu demontāža (izvest būvgružus utilizācijai) | D40: m2 | E40: 49.5 | H40: =ROUND(F40*G40,2) -> 0 | K40: =SUM(H40:J40) -> 0 | L40: =ROUND(E40*F40,2) -> 0 | M40: =ROUND(E40*H40,2) -> 0 | N40: =ROUND(E40*I40,2) -> 0 | O40: =ROUND(E40*J40,2) -> 0 | P40: =SUM(M40:O40) -> 0
A41: 24 | C41: Esošo ārdurvju demontāža, kopējot rakstus jauno durvju izgatavošanai (izvest būvgružus utilizācijai) | D41: m2 | E41: 8.5 | H41: =ROUND(F41*G41,2) -> 0 | K41: =SUM(H41:J41) -> 0 | L41: =ROUND(E41*F41,2) -> 0 | M41: =ROUND(E41*H41,2) -> 0 | N41: =ROUND(E41*I41,2) -> 0 | O41: =ROUND(E41*J41,2) -> 0 | P41: =SUM(M41:O41) -> 0
A42: 25 | C42: Iekšdurvju demontāža (izvest būvgružus utilizācijai) | D42: m2 | E42: 44 | H42: =ROUND(F42*G42,2) -> 0 | K42: =SUM(H42:J42) -> 0 | L42: =ROUND(E42*F42,2) -> 0 | M42: =ROUND(E42*H42,2) -> 0 | N42: =ROUND(E42*I42,2) -> 0 | O42: =ROUND(E42*J42,2) -> 0 | P42: =SUM(M42:O42) -> 0
A43: 26 | C43: Iekšējo šķērsienu demontāža (izvest būvgružus utilizācijai) | D43: m³ | E43: 29.7 | H43: =ROUND(F43*G43,2) -> 0 | K43: =SUM(H43:J43) -> 0 | L43: =ROUND(E43*F43,2) -> 0 | M43: =ROUND(E43*H43,2) -> 0 | N43: =ROUND(E43*I43,2) -> 0 | O43: =ROUND(E43*J43,2) -> 0 | P43: =SUM(M43:O43) -> 0
A44: 27 | C44: Esošo betona ieejas kāpņu demontāža (izvest būvgružus utilizācijai) | D44: m³ | E44: 4 | H44: =ROUND(F44*G44,2) -> 0 | K44: =SUM(H44:J44) -> 0 | L44: =ROUND(E44*F44,2) -> 0 | M44: =ROUND(E44*H44,2) -> 0 | N44: =ROUND(E44*I44,2) -> 0 | O44: =ROUND(E44*J44,2) -> 0 | P44: =SUM(M44:O44) -> 0
A45: 28 | C45: Esošo koka kāpņu demontāža kāpņu telpā (izvest būvgružus utilizācijai) | D45: m² | E45: 16.9 | H45: =ROUND(F45*G45,2) -> 0 | K45: =SUM(H45:J45) -> 0 | L45: =ROUND(E45*F45,2) -> 0 | M45: =ROUND(E45*H45,2) -> 0 | N45: =ROUND(E45*I45,2) -> 0 | O45: =ROUND(E45*J45,2) -> 0 | P45: =SUM(M45:O45) -> 0
A46: 29 | C46: Esošā grīdas seguma demontāža (izvest būvgružus utilizācijai) | D46: m² | E46: 380 | H46: =ROUND(F46*G46,2) -> 0 | K46: =SUM(H46:J46) -> 0 | L46: =ROUND(E46*F46,2) -> 0 | M46: =ROUND(E46*H46,2) -> 0 | N46: =ROUND(E46*I46,2) -> 0 | O46: =ROUND(E46*J46,2) -> 0 | P46: =SUM(M46:O46) -> 0
A47: 30 | C47: Zemgrīdas konstrukciju demontāža (izvest būvgružus utilizācijai) | D47: m3 | E47: 11.5 | H47: =ROUND(F47*G47,2) -> 0 | K47: =SUM(H47:J47) -> 0 | L47: =ROUND(E47*F47,2) -> 0 | M47: =ROUND(E47*H47,2) -> 0 | N47: =ROUND(E47*I47,2) -> 0 | O47: =ROUND(E47*J47,2) -> 0 | P47: =SUM(M47:O47) -> 0
A48: 31 | C48: Pagraba noejas aizbēršana ar vidēji rupju smilti to blietējot | D48: m³ | E48: 17 | H48: =ROUND(F48*G48,2) -> 0 | K48: =SUM(H48:J48) -> 0 | L48: =ROUND(E48*F48,2) -> 0 | M48: =ROUND(E48*H48,2) -> 0 | N48: =ROUND(E48*I48,2) -> 0 | O48: =ROUND(E48*J48,2) -> 0 | P48: =SUM(M48:O48) -> 0
A49: 32 | C49: Grīdas pamatnes izlīdzināšana un noblietēšana līdz atzīmei - 0.250 ar vidēji rupju smilti sasniedzot E2≤45mPa | D49: m² | E49: 380 | H49: =ROUND(F49*G49,2) -> 0 | K49: =SUM(H49:J49) -> 0 | L49: =ROUND(E49*F49,2) -> 0 | M49: =ROUND(E49*H49,2) -> 0 | N49: =ROUND(E49*I49,2) -> 0 | O49: =ROUND(E49*J49,2) -> 0 | P49: =SUM(M49:O49) -> 0
A50: 33 | C50: Demontāžas darbi ( ēkas ar kad.apz. 001 - 2. stāvs) | H50: =ROUND(F50*G50,2) -> 0 | K50: =SUM(H50:J50) -> 0 | L50: =ROUND(E50*F50,2) -> 0 | M50: =ROUND(E50*H50,2) -> 0 | N50: =ROUND(E50*I50,2) -> 0 | O50: =ROUND(E50*J50,2) -> 0 | P50: =SUM(M50:O50) -> 0
A51: 34 | C51: Esošo nenesošo ķeģeļu sienu demontāža (izvest būvgružus utilizācijai) | D51: m³ | E51: 15.3 | H51: =ROUND(F51*G51,2) -> 0 | K51: =SUM(H51:J51) -> 0 | L51: =ROUND(E51*F51,2) -> 0 | M51: =ROUND(E51*H51,2) -> 0 | N51: =ROUND(E51*I51,2) -> 0 | O51: =ROUND(E51*J51,2) -> 0 | P51: =SUM(M51:O51) -> 0
A52: 35 | C52: Aiļu paplašināšana esošās šķērsienā, iebūvējot jaunas durvis (izvest būvgružus utilizācijai) | D52: m3 | E52: 1.5 | H52: =ROUND(F52*G52,2) -> 0 | K52: =SUM(H52:J52) -> 0 | L52: =ROUND(E52*F52,2) -> 0 | M52: =ROUND(E52*H52,2) -> 0 | N52: =ROUND(E52*I52,2) -> 0 | O52: =ROUND(E52*J52,2) -> 0 | P52: =SUM(M52:O52) -> 0
A53: 36 | C53: Esošo logu demontāža (izvest būvgružus utilizācijai) | D53: m2 | E53: 61.2 | H53: =ROUND(F53*G53,2) -> 0 | K53: =SUM(H53:J53) -> 0 | L53: =ROUND(E53*F53,2) -> 0 | M53: =ROUND(E53*H53,2) -> 0 | N53: =ROUND(E53*I53,2) -> 0 | O53: =ROUND(E53*J53,2) -> 0 | P53: =SUM(M53:O53) -> 0
A54: 37 | C54: Esošo durvju bloku demontāža (izvest būvgružus utilizācijai) | D54: m2 | E54: 39.7 | H54: =ROUND(F54*G54,2) -> 0 | K54: =SUM(H54:J54) -> 0 | L54: =ROUND(E54*F54,2) -> 0 | M54: =ROUND(E54*H54,2) -> 0 | N54: =ROUND(E54*I54,2) -> 0 | O54: =ROUND(E54*J54,2) -> 0 | P54: =SUM(M54:O54) -> 0
A55: 38 | C55: esošā grīdas virskārtas demontāža un grīdas attīrīšana (izvest būvgružus utilizācijai) | D55: m² | E55: 380 | H55: =ROUND(F55*G55,2) -> 0 | K55: =SUM(H55:J55) -> 0 | L55: =ROUND(E55*F55,2) -> 0 | M55: =ROUND(E55*H55,2) -> 0 | N55: =ROUND(E55*I55,2) -> 0 | O55: =ROUND(E55*J55,2) -> 0 | P55: =SUM(M55:O55) -> 0
A56: 39 | C56: Demontāžas darbi ( ēkas ar akd.apz. 001 - koka verandas) | H56: =ROUND(F56*G56,2) -> 0 | K56: =SUM(H56:J56) -> 0 | L56: =ROUND(E56*F56,2) -> 0 | M56: =ROUND(E56*H56,2) -> 0 | N56: =ROUND(E56*I56,2) -> 0 | O56: =ROUND(E56*J56,2) -> 0 | P56: =SUM(M56:O56) -> 0
A57: 40 | C57: Jumta seguma demontāža, to savācot speciālā konteinerī (izvest būvgružus utilizācijai) | D57: m² | E57: 30 | H57: =ROUND(F57*G57,2) -> 0 | K57: =SUM(H57:J57) -> 0 | L57: =ROUND(E57*F57,2) -> 0 | M57: =ROUND(E57*H57,2) -> 0 | N57: =ROUND(E57*I57,2) -> 0 | O57: =ROUND(E57*J57,2) -> 0 | P57: =SUM(M57:O57) -> 0
A58: 41 | C58: Skārda notekcauruļu un reņu demontāža (izvest būvgružus utilizācijai) | D58: m | E58: 30 | H58: =ROUND(F58*G58,2) -> 0 | K58: =SUM(H58:J58) -> 0 | L58: =ROUND(E58*F58,2) -> 0 | M58: =ROUND(E58*H58,2) -> 0 | N58: =ROUND(E58*I58,2) -> 0 | O58: =ROUND(E58*J58,2) -> 0 | P58: =SUM(M58:O58) -> 0
A59: 42 | C59: Jumta nesošo konstukciju demontāža (izvest būvgružus utilizācijai) | D59: m³ | E59: 0.6 | H59: =ROUND(F59*G59,2) -> 0 | K59: =SUM(H59:J59) -> 0 | L59: =ROUND(E59*F59,2) -> 0 | M59: =ROUND(E59*H59,2) -> 0 | N59: =ROUND(E59*I59,2) -> 0 | O59: =ROUND(E59*J59,2) -> 0 | P59: =SUM(M59:O59) -> 0
A60: 43 | C60: Koka pārsegumu I un II stāva demontāža (izvest būvgružus utilizācijai) | D60: m² | E60: 42 | H60: =ROUND(F60*G60,2) -> 0 | K60: =SUM(H60:J60) -> 0 | L60: =ROUND(E60*F60,2) -> 0 | M60: =ROUND(E60*H60,2) -> 0 | N60: =ROUND(E60*I60,2) -> 0 | O60: =ROUND(E60*J60,2) -> 0 | P60: =SUM(M60:O60) -> 0
A61: 44 | C61: Koka karkasa sienu demontāža (izvest būvgružus utilizācijai) | D61: m³ | E61: 18.5 | H61: =ROUND(F61*G61,2) -> 0 | K61: =SUM(H61:J61) -> 0 | L61: =ROUND(E61*F61,2) -> 0 | M61: =ROUND(E61*H61,2) -> 0 | N61: =ROUND(E61*I61,2) -> 0 | O61: =ROUND(E61*J61,2) -> 0 | P61: =SUM(M61:O61) -> 0
A62: 45 | C62: Koka logu un durvju demontāža (izvest būvgružus utilizācijai) | D62: m² | E62: 38.4 | H62: =ROUND(F62*G62,2) -> 0 | K62: =SUM(H62:J62) -> 0 | L62: =ROUND(E62*F62,2) -> 0 | M62: =ROUND(E62*H62,2) -> 0 | N62: =ROUND(E62*I62,2) -> 0 | O62: =ROUND(E62*J62,2) -> 0 | P62: =SUM(M62:O62) -> 0
A63: 46 | C63: Esošās grīdas demontāža (izvest būvgružus utilizācijai) | D63: m² | E63: 21.7 | H63: =ROUND(F63*G63,2) -> 0 | K63: =SUM(H63:J63) -> 0 | L63: =ROUND(E63*F63,2) -> 0 | M63: =ROUND(E63*H63,2) -> 0 | N63: =ROUND(E63*I63,2) -> 0 | O63: =ROUND(E63*J63,2) -> 0 | P63: =SUM(M63:O63) -> 0
A64: 47 | C64: Esošo betona - akmens pamatu demontāža (izvest būvgružus utilizācijai) | D64: m³ | E64: 2.8 | H64: =ROUND(F64*G64,2) -> 0 | K64: =SUM(H64:J64) -> 0 | L64: =ROUND(E64*F64,2) -> 0 | M64: =ROUND(E64*H64,2) -> 0 | N64: =ROUND(E64*I64,2) -> 0 | O64: =ROUND(E64*J64,2) -> 0 | P64: =SUM(M64:O64) -> 0
A65: 48 | C65: Demontāžas darbi ( ēkas ar kad.apz. 001 - jumta un bēniņu telpas) | H65: =ROUND(F65*G65,2) -> 0 | K65: =SUM(H65:J65) -> 0 | L65: =ROUND(E65*F65,2) -> 0 | M65: =ROUND(E65*H65,2) -> 0 | N65: =ROUND(E65*I65,2) -> 0 | O65: =ROUND(E65*J65,2) -> 0 | P65: =SUM(M65:O65) -> 0
A66: 49 | C66: Notekcauruļu un renu demontāža (izvest būvgružus utilizācijai) | D66: m | E66: 99.8 | H66: =ROUND(F66*G66,2) -> 0 | K66: =SUM(H66:J66) -> 0 | L66: =ROUND(E66*F66,2) -> 0 | M66: =ROUND(E66*H66,2) -> 0 | N66: =ROUND(E66*I66,2) -> 0 | O66: =ROUND(E66*J66,2) -> 0 | P66: =SUM(M66:O66) -> 0
A67: 50 | C67: Jumta seguma demontāža, to savācot speciālā konteinerī (izvest būvgružus utilizācijai) | D67: m² | E67: 640 | H67: =ROUND(F67*G67,2) -> 0 | K67: =SUM(H67:J67) -> 0 | L67: =ROUND(E67*F67,2) -> 0 | M67: =ROUND(E67*H67,2) -> 0 | N67: =ROUND(E67*I67,2) -> 0 | O67: =ROUND(E67*J67,2) -> 0 | P67: =SUM(M67:O67) -> 0
A68: 51 | C68: Neizmantojamo dūmeņu demontāža (izvest būvgružus utilizācijai) | D68: m³ | E68: 3.47 | H68: =ROUND(F68*G68,2) -> 0 | K68: =SUM(H68:J68) -> 0 | L68: =ROUND(E68*F68,2) -> 0 | M68: =ROUND(E68*H68,2) -> 0 | N68: =ROUND(E68*I68,2) -> 0 | O68: =ROUND(E68*J68,2) -> 0 | P68: =SUM(M68:O68) -> 0
A69: 52 | C69: Logu demontāža (izvest būvgružus utilizācijai) | D69: m2 | E69: 5.3 | H69: =ROUND(F69*G69,2) -> 0 | K69: =SUM(H69:J69) -> 0 | L69: =ROUND(E69*F69,2) -> 0 | M69: =ROUND(E69*H69,2) -> 0 | N69: =ROUND(E69*I69,2) -> 0 | O69: =ROUND(E69*J69,2) -> 0 | P69: =SUM(M69:O69) -> 0
A70: 53 | C70: Bēniņu attīrīšana no būvgružiem (izvest būvgružus utilizācijai) | D70: m3 | E70: 2.5 | H70: =ROUND(F70*G70,2) -> 0 | K70: =SUM(H70:J70) -> 0 | L70: =ROUND(E70*F70,2) -> 0 | M70: =ROUND(E70*H70,2) -> 0 | N70: =ROUND(E70*I70,2) -> 0 | O70: =ROUND(E70*J70,2) -> 0 | P70: =SUM(M70:O70) -> 0
A71: 54 | C71: Esošo dēļu laipu ieseguma demontāža (izvest būvgružus utilizācijai) | D71: m³ | E71: 150 | H71: =ROUND(F71*G71,2) -> 0 | K71: =SUM(H71:J71) -> 0 | L71: =ROUND(E71*F71,2) -> 0 | M71: =ROUND(E71*H71,2) -> 0 | N71: =ROUND(E71*I71,2) -> 0 | O71: =ROUND(E71*J71,2) -> 0 | P71: =SUM(M71:O71) -> 0
A72: 55 | C72: Esošās siltumizolācijas demontāža līdz "melnajiem griestiem" (izvest būvgružus utilizācijai) | D72: m3 | E72: 107.8 | H72: =ROUND(F72*G72,2) -> 0 | K72: =SUM(H72:J72) -> 0 | L72: =ROUND(E72*F72,2) -> 0 | M72: =ROUND(E72*H72,2) -> 0 | N72: =ROUND(E72*I72,2) -> 0 | O72: =ROUND(E72*J72,2) -> 0 | P72: =SUM(M72:O72) -> 0
A74: Tiešās izmaksas kopā, t.sk. Darba dēvēja sociālais nodoklis (23,59%) | L74: =SUM(L18:L73) -> 0 | M74: =SUM(M18:M73) -> 0 | N74: =SUM(N18:N73) -> 0 | O74: =SUM(O18:O73) -> 0 | P74: =SUM(P18:P73) -> 0
A76: =KT!A23 -> Sastādīja: | D76: =KT!D23 -> 2024.gada __._________
A77: (paraksts un tā atšifrējums, datums)
A78: =KT!A25 -> Sertifikāta Nr.:
A80: =KT!A27 -> Pārbaudīja: | D80: =KT!D23 -> 2024.gada __._________
A81: (paraksts un tā atšifrējums, datums)
A82: =KT!A29 -> Sertifikāta Nr.:

Sheet 1,2
A2: Lokālā tāme Nr.1,2
A3: ='KA1'!C17 -> Zemes darbi
A4: (būvdarbu veids vai konstruktīvā elementa nosaukums)
A6: Objekta nosaukums: | C6: =KT!B9 -> ĒKU ATJAUNOŠANA, PĀRBŪVE, NOJAUKŠANA UN TERITORIJAS LABIEKĀRTOŠANA I un II kārta
A7: Būves nosaukums: | C7: =KT!B10 -> Pirmsskolas izglītības iestāde
A8: Objekta adrese: | C8: =KT!B11 -> Dārtas iela 1, Cēsis, Cēsu novads
A9: Pasūtītājs: | C9: =KT!B12 -> Cēsu novada pašvaldība Raunas ielā 4, Cēsīs, Cēsu novadā, LV-4101; Reģ.Nr. 90000031048
A10: Būvuzņēmējs: | C10: =KT!B13 -> SIA
A12: Tāme sastādīta 2024. gada tirgus cenās, pamatojoties uz būvprojekta rasējumiem | M12: Tāmes izmaksas: | O12: =P43 -> 0 | P12: EUR
N13: Tāme sastādītā | O13: =KT!D23 -> 2024.gada __._________
A15: Nr.p.k. | B15: Kods | C15: Būvdarbu nosaukums | D15: Mērvienība | E15: Daudzums | F15: Vienības izmaksas | L15: Kopā uz visu apjomu
F16: Laika norma (c/h) | G16: Darba samaksas likme (euro/h) | H16: Darba alga | I16: Būvizstrādājumi | J16: Mehānismi | K16: KOPĀ | L16: Darbietilpība (c/h) | M16: Darba alga | N16: Būvizstrādājumi | O16: Mehānismi | P16: Summa
A18: 1 | C18: Pamati asīs 6-7 | H18: =ROUND(F18*G18,2) -> 0 | K18: =SUM(H18:J18) -> 0 | L18: =ROUND(E18*F18,2) -> 0 | M18: =ROUND(E18*H18,2) -> 0 | N18: =ROUND(E18*I18,2) -> 0 | O18: =ROUND(E18*J18,2) -> 0 | P18: =SUM(M18:O18) -> 0
A19: 2 | C19: Rakt būvbedri līdz projektā paredzētajam dziļumam | D19: m3 | E19: 56.1 | H19: =ROUND(F19*G19,2) -> 0 | K19: =SUM(H19:J19) -> 0 | L19: =ROUND(E19*F19,2) -> 0 | M19: =ROUND(E19*H19,2) -> 0 | N19: =ROUND(E19*I19,2) -> 0 | O19: =ROUND(E19*J19,2) -> 0 | P19: =SUM(M19:O19) -> 0
A20: 3 | C20: Lieko grunti izvest utilizācijai | D20: m3 | E20: 56.1 | H20: =ROUND(F20*G20,2) -> 0 | K20: =SUM(H20:J20) -> 0 | L20: =ROUND(E20*F20,2) -> 0 | M20: =ROUND(E20*H20,2) -> 0 | N20: =ROUND(E20*I20,2) -> 0 | O20: =ROUND(E20*J20,2) -> 0 | P20: =SUM(M20:O20) -> 0
A21: 4 | C21: Aizbērt pamatus izmantot rupjas vai vidēji rupjas smiltis. Aizberumu jāveido pa 20 cm biezām kārtām Blietēta vidēji rupja smilts fr. 0,2-0,6mm | D21: m3 | E21: 21 | H21: =ROUND(F21*G21,2) -> 0 | K21: =SUM(H21:J21) -> 0 | L21: =ROUND(E21*F21,2) -> 0 | M21: =ROUND(E21*H21,2) -> 0 | N21: =ROUND(E21*I21,2) -> 0 | O21: =ROUND(E21*J21,2) -> 0 | P21: =SUM(M21:O21) -> 0
A22: 5 | C22: Kāpnes asīs 6-7 | H22: =ROUND(F22*G22,2) -> 0 | K22: =SUM(H22:J22) -> 0 | L22: =ROUND(E22*F22,2) -> 0 | M22: =ROUND(E22*H22,2) -> 0 | N22: =ROUND(E22*I22,2) -> 0 | O22: =ROUND(E22*J22,2) -> 0 | P22: =SUM(M22:O22) -> 0
A23: 6 | C23: Rakt būvbedri līdz projektā paredzētajam dziļumam | D23: m3 | E23: 5.36 | H23: =ROUND(F23*G23,2) -> 0 | K23: =SUM(H23:J23) -> 0 | L23: =ROUND(E23*F23,2) -> 0 | M23: =ROUND(E23*H23,2) -> 0 | N23: =ROUND(E23*I23,2) -> 0 | O23: =ROUND(E23*J23,2) -> 0 | P23: =SUM(M23:O23) -> 0
A24: 7 | C24: Lieko grunti izvest utilizācijai | D24: m3 | E24: 5.36 | H24: =ROUND(F24*G24,2) -> 0 | K24: =SUM(H24:J24) -> 0 | L24: =ROUND(E24*F24,2) -> 0 | M24: =ROUND(E24*H24,2) -> 0 | N24: =ROUND(E24*I24,2) -> 0 | O24: =ROUND(E24*J24,2) -> 0 | P24: =SUM(M24:O24) -> 0
A25: 8 | C25: Aizbērt pamatus izmantot rupjas vai vidēji rupjas smiltis. Aizberumu jāveido pa 20 cm biezām kārtām Blietēta vidēji rupja smilts fr. 0,2-0,6mm | D25: m3 | E25: 7 | H25: =ROUND(F25*G25,2) -> 0 | K25: =SUM(H25:J25) -> 0 | L25: =ROUND(E25*F25,2) -> 0 | M25: =ROUND(E25*H25,2) -> 0 | N25: =ROUND(E25*I25,2) -> 0 | O25: =ROUND(E25*J25,2) -> 0 | P25: =SUM(M25:O25) -> 0
A26: 9 | C26: Kāpnes asīs 3-4 | H26: =ROUND(F26*G26,2) -> 0 | K26: =SUM(H26:J26) -> 0 | L26: =ROUND(E26*F26,2) -> 0 | M26: =ROUND(E26*H26,2) -> 0 | N26: =ROUND(E26*I26,2) -> 0 | O26: =ROUND(E26*J26,2) -> 0 | P26: =SUM(M26:O26) -> 0
A27: 10 | C27: Rakt būvbedri līdz projektā paredzētajam dziļumam | D27: m3 | E27: 15.36 | H27: =ROUND(F27*G27,2) -> 0 | K27: =SUM(H27:J27) -> 0 | L27: =ROUND(E27*F27,2) -> 0 | M27: =ROUND(E27*H27,2) -> 0 | N27: =ROUND(E27*I27,2) -> 0 | O27: =ROUND(E27*J27,2) -> 0 | P27: =SUM(M27:O27) -> 0
A28: 11 | C28: Lieko grunti izvest utilizācijai | D28: m3 | E28: 15.36 | H28: =ROUND(F28*G28,2) -> 0 | K28: =SUM(H28:J28) -> 0 | L28: =ROUND(E28*F28,2) -> 0 | M28: =ROUND(E28*H28,2) -> 0 | N28: =ROUND(E28*I28,2) -> 0 | O28: =ROUND(E28*J28,2) -> 0 | P28: =SUM(M28:O28) -> 0
A29: 12 | C29: Aizbērt pamatus izmantot rupjas vai vidēji rupjas smiltis. Aizberumu jāveido pa 20 cm biezām kārtām Blietēta vidēji rupja smilts fr. 0,2-0,6mm | D29: m3 | E29: 17 | H29: =ROUND(F29*G29,2) -> 0 | K29: =SUM(H29:J29) -> 0 | L29: =ROUND(E29*F29,2) -> 0 | M29: =ROUND(E29*H29,2) -> 0 | N29: =ROUND(E29*I29,2) -> 0 | O29: =ROUND(E29*J29,2) -> 0 | P29: =SUM(M29:O29) -> 0
A30: 13 | C30: Kāpnes asīs B-C | H30: =ROUND(F30*G30,2) -> 0 | K30: =SUM(H30:J30) -> 0 | L30: =ROUND(E30*F30,2) -> 0 | M30: =ROUND(E30*H30,2) -> 0 | N30: =ROUND(E30*I30,2) -> 0 | O30: =ROUND(E30*J30,2) -> 0 | P30: =SUM(M30:O30) -> 0
A31: 14 | C31: Rakt būvbedri līdz projektā paredzētajam dziļumam | D31: m3 | E31: 11.44 | H31: =ROUND(F31*G31,2) -> 0 | K31: =SUM(H31:J31) -> 0 | L31: =ROUND(E31*F31,2) -> 0 | M31: =ROUND(E31*H31,2) -> 0 | N31: =ROUND(E31*I31,2) -> 0 | O31: =ROUND(E31*J31,2) -> 0 | P31: =SUM(M31:O31) -> 0
A32: 15 | C32: Lieko grunti izvest utilizācijai | D32: m3 | E32: 11.44 | H32: =ROUND(F32*G32,2) -> 0 | K32: =SUM(H32:J32) -> 0 | L32: =ROUND(E32*F32,2) -> 0 | M32: =ROUND(E32*H32,2) -> 0 | N32: =ROUND(E32*I32,2) -> 0 | O32: =ROUND(E32*J32,2) -> 0 | P32: =SUM(M32:O32) -> 0
A33: 16 | C33: Aizbērt pamatus izmantot rupjas vai vidēji rupjas smiltis. Aizberumu jāveido pa 20 cm biezām kārtām Blietēta vidēji rupja smilts fr. 0,2-0,6mm | D33: m3 | E33: 4 | H33: =ROUND(F33*G33,2) -> 0 | K33: =SUM(H33:J33) -> 0 | L33: =ROUND(E33*F33,2) -> 0 | M33: =ROUND(E33*H33,2) -> 0 | N33: =ROUND(E33*I33,2) -> 0 | O33: =ROUND(E33*J33,2) -> 0 | P33: =SUM(M33:O33) -> 0
A34: 17 | C34: Kāpnes asīs E | H34: =ROUND(F34*G34,2) -> 0 | K34: =SUM(H34:J34) -> 0 | L34: =ROUND(E34*F34,2) -> 0 | M34: =ROUND(E34*H34,2) -> 0 | N34: =ROUND(E34*I34,2) -> 0 | O34: =ROUND(E34*J34,2) -> 0 | P34: =SUM(M34:O34) -> 0
A35: 18 | C35: Rakt būvbedri līdz projektā paredzētajam dziļumam | D35: m3 | E35: 5.04 | H35: =ROUND(F35*G35,2) -> 0 | K35: =SUM(H35:J35) -> 0 | L35: =ROUND(E35*F35,2) -> 0 | M35: =ROUND(E35*H35,2) -> 0 | N35: =ROUND(E35*I35,2) -> 0 | O35: =ROUND(E35*J35,2) -> 0 | P35: =SUM(M35:O35) -> 0
A36: 19 | C36: Lieko grunti izvest utilizācijai | D36: m3 | E36: 5.04 | H36: =ROUND(F36*G36,2) -> 0 | K36: =SUM(H36:J36) -> 0 | L36: =ROUND(E36*F36,2) -> 0 | M36: =ROUND(E36*H36,2) -> 0 | N36: =ROUND(E36*I36,2) -> 0 | O36: =ROUND(E36*J36,2) -> 0 | P36: =SUM(M36:O36) -> 0
A37: 20 | C37: Aizbērt pamatus izmantot rupjas vai vidēji rupjas smiltis. Aizberumu jāveido pa 20 cm biezām kārtām Blietēta vidēji rupja smilts fr. 0,2-0,6mm | D37: m3 | E37: 5.5 | H37: =ROUND(F37*G37,2) -> 0 | K37: =SUM(H37:J37) -> 0 | L37: =ROUND(E37*F37,2) -> 0 | M37: =ROUND(E37*H37,2) -> 0 | N37: =ROUND(E37*I37,2) -> 0 | O37: =ROUND(E37*J37,2) -> 0 | P37: =SUM(M37:O37) -> 0
A38: 21 | C38: Loga šahta | H38: =ROUND(F38*G38,2) -> 0 | K38: =SUM(H38:J38) -> 0 | L38: =ROUND(E38*F38,2) -> 0 | M38: =ROUND(E38*H38,2) -> 0 | N38: =ROUND(E38*I38,2) -> 0 | O38: =ROUND(E38*J38,2) -> 0 | P38: =SUM(M38:O38) -> 0
A39: 22 | C39: Rakt būvbedri līdz projektā paredzētajam dziļumam | D39: m3 | E39: 3.98 | H39: =ROUND(F39*G39,2) -> 0 | K39: =SUM(H39:J39) -> 0 | L39: =ROUND(E39*F39,2) -> 0 | M39: =ROUND(E39*H39,2) -> 0 | N39: =ROUND(E39*I39,2) -> 0 | O39: =ROUND(E39*J39,2) -> 0 | P39: =SUM(M39:O39) -> 0
A40: 23 | C40: Lieko grunti izvest utilizācijai | D40: m3 | E40: 3.98 | H40: =ROUND(F40*G40,2) -> 0 | K40: =SUM(H40:J40) -> 0 | L40: =ROUND(E40*F40,2) -> 0 | M40: =ROUND(E40*H40,2) -> 0 | N40: =ROUND(E40*I40,2) -> 0 | O40: =ROUND(E40*J40,2) -> 0 | P40: =SUM(M40:O40) -> 0
A41: 24 | C41: Aizbērt pamatus izmantot rupjas vai vidēji rupjas smiltis. Aizberumu jāveido pa 20 cm biezām kārtām Blietēta vidēji rupja smilts fr. 0,2-0,6mm | D41: m3 | E41: 2.98 | H41: =ROUND(F41*G41,2) -> 0 | K41: =SUM(H41:J41) -> 0 | L41: =ROUND(E41*F41,2) -> 0 | M41: =ROUND(E41*H41,2) -> 0 | N41: =ROUND(E41*I41,2) -> 0 | O41: =ROUND(E41*J41,2) -> 0 | P41: =SUM(M41:O41) -> 0
A43: Tiešās izmaksas kopā, t.sk. Darba dēvēja sociālais nodoklis (23,59%) | L43: =SUM(L18:L42) -> 0 | M43: =SUM(M18:M42) -> 0 | N43: =SUM(N18:N42) -> 0 | O43: =SUM(O18:O42) -> 0 | P43: =SUM(P18:P42) -> 0
A45: =KT!A23 -> Sastādīja: | D45: =KT!D23 -> 2024.gada __._________
A46: (paraksts un tā atšifrējums, datums)
A47: =KT!A25 -> Sertifikāta Nr.:
A49: =KT!A27 -> Pārbaudīja: | D49: =KT!D23 -> 2024.gada __._________
A50: (paraksts un tā atšifrējums, datums)
A51: =KT!A29 -> Sertifikāta Nr.:

Sheet 1,3
A2: Lokālā tāme Nr.1,3
A3: ='KA1'!C18 -> Pamati un pamatnes
A4: (būvdarbu veids vai konstruktīvā elementa nosaukums)
A6: Objekta nosaukums: | C6: =KT!B9 -> ĒKU ATJAUNOŠANA, PĀRBŪVE, NOJAUKŠANA UN TERITORIJAS LABIEKĀRTOŠANA I un II kārta
A7: Būves nosaukums: | C7: =KT!B10 -> Pirmsskolas izglītības iestāde
A8: Objekta adrese: | C8: =KT!B11 -> Dārtas iela 1, Cēsis, Cēsu novads
A9: Pasūtītājs: | C9: =KT!B12 -> Cēsu novada pašvaldība Raunas ielā 4, Cēsīs, Cēsu novadā, LV-4101; Reģ.Nr. 90000031048
A10: Būvuzņēmējs: | C10: =KT!B13 -> SIA
A12: Tāme sastādīta 2024. gada tirgus cenās, pamatojoties uz būvprojekta rasējumiem | M12: Tāmes izmaksas: | O12: =P62 -> 0 | P12: EUR
N13: Tāme sastādītā | O13: =KT!D23 -> 2024.gada __._________
A15: Nr.p.k. | B15: Kods | C15: Būvdarbu nosaukums | D15: Mērvienība | E15: Daudzums | F15: Vienības izmaksas | L15: Kopā uz visu apjomu
F16: Laika norma (c/h) | G16: Darba samaksas likme (euro/h) | H16: Darba alga | I16: Būvizstrādājumi | J16: Mehānismi | K16: KOPĀ | L16: Darbietilpība (c/h) | M16: Darba alga | N16: Būvizstrādājumi | O16: Mehānismi | P16: Summa
A18: 1 | C18: Pamati asīs 6-7 | H18: =ROUND(F18*G18,2) -> 0 | K18: =SUM(H18:J18) -> 0 | L18: =ROUND(E18*F18,2) -> 0 | M18: =ROUND(E18*H18,2) -> 0 | N18: =ROUND(E18*I18,2) -> 0 | O18: =ROUND(E18*J18,2) -> 0 | P18: =SUM(M18:O18) -> 0
A19: 2 | C19: Pamatojums | H19: =ROUND(F19*G19,2) -> 0 | K19: =SUM(H19:J19) -> 0 | L19: =ROUND(E19*F19,2) -> 0 | M19: =ROUND(E19*H19,2) -> 0 | N19: =ROUND(E19*I19,2) -> 0 | O19: =ROUND(E19*J19,2) -> 0 | P19: =SUM(M19:O19) -> 0
A20: 3 | C20: Ierīkot blietētu šķembu kārtu zem pamatiem. Blietētas šķembas, frakcija 0-16mm | D20: m3 | E20: 1.2 | H20: =ROUND(F20*G20,2) -> 0 | K20: =SUM(H20:J20) -> 0 | L20: =ROUND(E20*F20,2) -> 0 | M20: =ROUND(E20*H20,2) -> 0 | N20: =ROUND(E20*I20,2) -> 0 | O20: =ROUND(E20*J20,2) -> 0 | P20: =SUM(M20:O20) -> 0
A21: 4 | C21: Pamati | H21: =ROUND(F21*G21,2) -> 0 | K21: =SUM(H21:J21) -> 0 | L21: =ROUND(E21*F21,2) -> 0 | M21: =ROUND(E21*H21,2) -> 0 | N21: =ROUND(E21*I21,2) -> 0 | O21: =ROUND(E21*J21,2) -> 0 | P21: =SUM(M21:O21) -> 0
A22: 5 | C22: Betonēt veidņos pamatus ar C25/30 XC2 klases betonu un stiegrojot ar B500B terauda stiegrojumu. Ieskaitot visus stiprinājumus un palīgmateriālus. | D22: m3 | E22: 9.74 | H22: =ROUND(F22*G22,2) -> 0 | K22: =SUM(H22:J22) -> 0 | L22: =ROUND(E22*F22,2) -> 0 | M22: =ROUND(E22*H22,2) -> 0 | N22: =ROUND(E22*I22,2) -> 0 | O22: =ROUND(E22*J22,2) -> 0 | P22: =SUM(M22:O22) -> 0
A23: 6 | C23: Ierīkot deformācijas šuvi starp pamatiem un mūri Ekstrudētais putuplasts 20mm | D23: m | E23: 3.9 | H23: =ROUND(F23*G23,2) -> 0 | K23: =SUM(H23:J23) -> 0 | L23: =ROUND(E23*F23,2) -> 0 | M23: =ROUND(E23*H23,2) -> 0 | N23: =ROUND(E23*I23,2) -> 0 | O23: =ROUND(E23*J23,2) -> 0 | P23: =SUM(M23:O23) -> 0
A24: 7 | C24: Ierīkot deformācijas šuvi starp pamatiem un mūri elastīgs blīvējums (ekvil. ISO-ZELL PE-CORD lenta) | D24: m | E24: 7.8 | H24: =ROUND(F24*G24,2) -> 0 | K24: =SUM(H24:J24) -> 0 | L24: =ROUND(E24*F24,2) -> 0 | M24: =ROUND(E24*H24,2) -> 0 | N24: =ROUND(E24*I24,2) -> 0 | O24: =ROUND(E24*J24,2) -> 0 | P24: =SUM(M24:O24) -> 0
A25: 8 | C25: Ieklāt horizontālo hidroizolāciju pa pamatu virsmu, ieklājot divās kārtās ruberoīdu uz bituma līmes kārtas | D25: m2 | E25: 4.56 | H25: =ROUND(F25*G25,2) -> 0 | K25: =SUM(H25:J25) -> 0 | L25: =ROUND(E25*F25,2) -> 0 | M25: =ROUND(E25*H25,2) -> 0 | N25: =ROUND(E25*I25,2) -> 0 | O25: =ROUND(E25*J25,2) -> 0 | P25: =SUM(M25:O25) -> 0
A26: 9 | C26: Kāpnes asīs 6-7 | H26: =ROUND(F26*G26,2) -> 0 | K26: =SUM(H26:J26) -> 0 | L26: =ROUND(E26*F26,2) -> 0 | M26: =ROUND(E26*H26,2) -> 0 | N26: =ROUND(E26*I26,2) -> 0 | O26: =ROUND(E26*J26,2) -> 0 | P26: =SUM(M26:O26) -> 0
A27: 10 | C27: Pamatojums | H27: =ROUND(F27*G27,2) -> 0 | K27: =SUM(H27:J27) -> 0 | L27: =ROUND(E27*F27,2) -> 0 | M27: =ROUND(E27*H27,2) -> 0 | N27: =ROUND(E27*I27,2) -> 0 | O27: =ROUND(E27*J27,2) -> 0 | P27: =SUM(M27:O27) -> 0
A28: 11 | C28: Ierīkot blietētu šķembu kārtu zem pamatiem. Blietētas šķembas, frakcija 0-16mm | D28: m3 | E28: 0.4 | H28: =ROUND(F28*G28,2) -> 0 | K28: =SUM(H28:J28) -> 0 | L28: =ROUND(E28*F28,2) -> 0 | M28: =ROUND(E28*H28,2) -> 0 | N28: =ROUND(E28*I28,2) -> 0 | O28: =ROUND(E28*J28,2) -> 0 | P28: =SUM(M28:O28) -> 0
A29: 12 | C29: Pamati | H29: =ROUND(F29*G29,2) -> 0 | K29: =SUM(H29:J29) -> 0 | L29: =ROUND(E29*F29,2) -> 0 | M29: =ROUND(E29*H29,2) -> 0 | N29: =ROUND(E29*I29,2) -> 0 | O29: =ROUND(E29*J29,2) -> 0 | P29: =SUM(M29:O29) -> 0
A30: 13 | C30: Betonēt veidņos pamatus ar C25/30 klases betonu un stiegrojot ar B500B terauda stiegrojumu. Ieskaitot visus stiprinājumus un palīgmateriālus. | D30: m3 | E30: 2.8 | H30: =ROUND(F30*G30,2) -> 0 | K30: =SUM(H30:J30) -> 0 | L30: =ROUND(E30*F30,2) -> 0 | M30: =ROUND(E30*H30,2) -> 0 | N30: =ROUND(E30*I30,2) -> 0 | O30: =ROUND(E30*J30,2) -> 0 | P30: =SUM(M30:O30) -> 0
A31: 14 | C31: Ierīkot deformācijas šuvi starp pamatiem un mūri Ekstrudētais putuplasts 20mm | D31: m2 | E31: 2.31 | H31: =ROUND(F31*G31,2) -> 0 | K31: =SUM(H31:J31) -> 0 | L31: =ROUND(E31*F31,2) -> 0 | M31: =ROUND(E31*H31,2) -> 0 | N31: =ROUND(E31*I31,2) -> 0 | O31: =ROUND(E31*J31,2) -> 0 | P31: =SUM(M31:O31) -> 0
A32: 15 | C32: Ierīkot deformācijas šuvi starp pamatiem un mūri elastīgs blīvējums (ekvil. ISO-ZELL PE-CORD lenta) | D32: m | E32: 4.58 | H32: =ROUND(F32*G32,2) -> 0 | K32: =SUM(H32:J32) -> 0 | L32: =ROUND(E32*F32,2) -> 0 | M32: =ROUND(E32*H32,2) -> 0 | N32: =ROUND(E32*I32,2) -> 0 | O32: =ROUND(E32*J32,2) -> 0 | P32: =SUM(M32:O32) -> 0
A33: 16 | C33: Kāpnes asīs 3-4 | H33: =ROUND(F33*G33,2) -> 0 | K33: =SUM(H33:J33) -> 0 | L33: =ROUND(E33*F33,2) -> 0 | M33: =ROUND(E33*H33,2) -> 0 | N33: =ROUND(E33*I33,2) -> 0 | O33: =ROUND(E33*J33,2) -> 0 | P33: =SUM(M33:O33) -> 0
A34: 17 | C34: Pamatojums | H34: =ROUND(F34*G34,2) -> 0 | K34: =SUM(H34:J34) -> 0 | L34: =ROUND(E34*F34,2) -> 0 | M34: =ROUND(E34*H34,2) -> 0 | N34: =ROUND(E34*I34,2) -> 0 | O34: =ROUND(E34*J34,2) -> 0 | P34: =SUM(M34:O34) -> 0
A35: 18 | C35: Ierīkot blietētu šķembu kārtu zem pamatiem. Blietētas šķembas, frakcija 0-16mm | D35: m3 | E35: 1.8 | H35: =ROUND(F35*G35,2) -> 0 | K35: =SUM(H35:J35) -> 0 | L35: =ROUND(E35*F35,2) -> 0 | M35: =ROUND(E35*H35,2) -> 0 | N35: =ROUND(E35*I35,2) -> 0 | O35: =ROUND(E35*J35,2) -> 0 | P35: =SUM(M35:O35) -> 0
A36: 19 | C36: Pamati | H36: =ROUND(F36*G36,2) -> 0 | K36: =SUM(H36:J36) -> 0 | L36: =ROUND(E36*F36,2) -> 0 | M36: =ROUND(E36*H36,2) -> 0 | N36: =ROUND(E36*I36,2) -> 0 | O36: =ROUND(E36*J36,2) -> 0 | P36: =SUM(M36:O36) -> 0
A37: 20 | C37: Betonēt veidņos pamatus ar C25/30 klases betonu un stiegrojot ar B500B terauda stiegrojumu. Ieskaitot visus stiprinājumus un palīgmateriālus. | D37: m3 | E37: 6.2 | H37: =ROUND(F37*G37,2) -> 0 | K37: =SUM(H37:J37) -> 0 | L37: =ROUND(E37*F37,2) -> 0 | M37: =ROUND(E37*H37,2) -> 0 | N37: =ROUND(E37*I37,2) -> 0 | O37: =ROUND(E37*J37,2) -> 0 | P37: =SUM(M37:O37) -> 0
A38: 21 | C38: Ierīkot deformācijas šuvi starp pamatiem un mūri Ekstrudētais putuplasts 20mm | D38: m2 | E38: 4.47 | H38: =ROUND(F38*G38,2) -> 0 | K38: =SUM(H38:J38) -> 0 | L38: =ROUND(E38*F38,2) -> 0 | M38: =ROUND(E38*H38,2) -> 0 | N38: =ROUND(E38*I38,2) -> 0 | O38: =ROUND(E38*J38,2) -> 0 | P38: =SUM(M38:O38) -> 0
A39: 22 | C39: Ierīkot deformācijas šuvi starp pamatiem un mūri elastīgs blīvējums (ekvil. ISO-ZELL PE-CORD lenta) | D39: m | E39: 21.18 | H39: =ROUND(F39*G39,2) -> 0 | K39: =SUM(H39:J39) -> 0 | L39: =ROUND(E39*F39,2) -> 0 | M39: =ROUND(E39*H39,2) -> 0 | N39: =ROUND(E39*I39,2) -> 0 | O39: =ROUND(E39*J39,2) -> 0 | P39: =SUM(M39:O39) -> 0
A40: 23 | C40: Kāpnes asīs B-C | H40: =ROUND(F40*G40,2) -> 0 | K40: =SUM(H40:J40) -> 0 | L40: =ROUND(E40*F40,2) -> 0 | M40: =ROUND(E40*H40,2) -> 0 | N40: =ROUND(E40*I40,2) -> 0 | O40: =ROUND(E40*J40,2) -> 0 | P40: =SUM(M40:O40) -> 0
A41: 24 | C41: Pamatojums | H41: =ROUND(F41*G41,2) -> 0 | K41: =SUM(H41:J41) -> 0 | L41: =ROUND(E41*F41,2) -> 0 | M41: =ROUND(E41*H41,2) -> 0 | N41: =ROUND(E41*I41,2) -> 0 | O41: =ROUND(E41*J41,2) -> 0 | P41: =SUM(M41:O41) -> 0
A42: 25 | C42: Ierīkot blietētu šķembu kārtu zem pamatiem. Blietētas šķembas, frakcija 0-16mm | D42: m3 | E42: 0.6 | H42: =ROUND(F42*G42,2) -> 0 | K42: =SUM(H42:J42) -> 0 | L42: =ROUND(E42*F42,2) -> 0 | M42: =ROUND(E42*H42,2) -> 0 | N42: =ROUND(E42*I42,2) -> 0 | O42: =ROUND(E42*J42,2) -> 0 | P42: =SUM(M42:O42) -> 0
A43: 26 | C43: Pamati | H43: =ROUND(F43*G43,2) -> 0 | K43: =SUM(H43:J43) -> 0 | L43: =ROUND(E43*F43,2) -> 0 | M43: =ROUND(E43*H43,2) -> 0 | N43: =ROUND(E43*I43,2) -> 0 | O43: =ROUND(E43*J43,2) -> 0 | P43: =SUM(M43:O43) -> 0
A44: 27 | C44: Betonēt veidņos pamatus ar C25/30 klases betonu un stiegrojot ar B500B terauda stiegrojumu. Ieskaitot visus stiprinājumus un palīgmateriālus. | D44: m3 | E44: 2 | H44: =ROUND(F44*G44,2) -> 0 | K44: =SUM(H44:J44) -> 0 | L44: =ROUND(E44*F44,2) -> 0 | M44: =ROUND(E44*H44,2) -> 0 | N44: =ROUND(E44*I44,2) -> 0 | O44: =ROUND(E44*J44,2) -> 0 | P44: =SUM(M44:O44) -> 0
A45: 28 | C45: Ierīkot deformācijas šuvi starp pamatiem un mūri Ekstrudētais putuplasts 20mm | D45: m2 | E45: 1.17 | H45: =ROUND(F45*G45,2) -> 0 | K45: =SUM(H45:J45) -> 0 | L45: =ROUND(E45*F45,2) -> 0 | M45: =ROUND(E45*H45,2) -> 0 | N45: =ROUND(E45*I45,2) -> 0 | O45: =ROUND(E45*J45,2) -> 0 | P45: =SUM(M45:O45) -> 0
A46: 29 | C46: Ierīkot deformācijas šuvi starp pamatiem un mūri elastīgs blīvējums (ekvil. ISO-ZELL PE-CORD lenta) | D46: m | E46: 12.38 | H46: =ROUND(F46*G46,2) -> 0 | K46: =SUM(H46:J46) -> 0 | L46: =ROUND(E46*F46,2) -> 0 | M46: =ROUND(E46*H46,2) -> 0 | N46: =ROUND(E46*I46,2) -> 0 | O46: =ROUND(E46*J46,2) -> 0 | P46: =SUM(M46:O46) -> 0
A47: 30 | C47: Kāpnes asīs E | H47: =ROUND(F47*G47,2) -> 0 | K47: =SUM(H47:J47) -> 0 | L47: =ROUND(E47*F47,2) -> 0 | M47: =ROUND(E47*H47,2) -> 0 | N47: =ROUND(E47*I47,2) -> 0 | O47: =ROUND(E47*J47,2) -> 0 | P47: =SUM(M47:O47) -> 0
A48: 31 | C48: Pamatojums | H48: =ROUND(F48*G48,2) -> 0 | K48: =SUM(H48:J48) -> 0 | L48: =ROUND(E48*F48,2) -> 0 | M48: =ROUND(E48*H48,2) -> 0 | N48: =ROUND(E48*I48,2) -> 0 | O48: =ROUND(E48*J48,2) -> 0 | P48: =SUM(M48:O48) -> 0
A49: 32 | C49: Ierīkot blietētu šķembu kārtu zem pamatiem. Blietētas šķembas, frakcija 0-16mm | D49: m3 | E49: 0.3 | H49: =ROUND(F49*G49,2) -> 0 | K49: =SUM(H49:J49) -> 0 | L49: =ROUND(E49*F49,2) -> 0 | M49: =ROUND(E49*H49,2) -> 0 | N49: =ROUND(E49*I49,2) -> 0 | O49: =ROUND(E49*J49,2) -> 0 | P49: =SUM(M49:O49) -> 0
A50: 33 | C50: Pamati | H50: =ROUND(F50*G50,2) -> 0 | K50: =SUM(H50:J50) -> 0 | L50: =ROUND(E50*F50,2) -> 0 | M50: =ROUND(E50*H50,2) -> 0 | N50: =ROUND(E50*I50,2) -> 0 | O50: =ROUND(E50*J50,2) -> 0 | P50: =SUM(M50:O50) -> 0
A51: 34 | C51: Betonēt veidņos pamatus ar C25/30 klases betonu un stiegrojot ar B500B terauda stiegrojumu. Ieskaitot visus stiprinājumus un palīgmateriālus. | D51: m3 | E51: 1.6 | H51: =ROUND(F51*G51,2) -> 0 | K51: =SUM(H51:J51) -> 0 | L51: =ROUND(E51*F51,2) -> 0 | M51: =ROUND(E51*H51,2) -> 0 | N51: =ROUND(E51*I51,2) -> 0 | O51: =ROUND(E51*J51,2) -> 0 | P51: =SUM(M51:O51) -> 0
A52: 35 | C52: Ierīkot deformācijas šuvi starp pamatiem un mūri Ekstrudētais putuplasts 20mm | D52: m2 | E52: 2.17 | H52: =ROUND(F52*G52,2) -> 0 | K52: =SUM(H52:J52) -> 0 | L52: =ROUND(E52*F52,2) -> 0 | M52: =ROUND(E52*H52,2) -> 0 | N52: =ROUND(E52*I52,2) -> 0 | O52: =ROUND(E52*J52,2) -> 0 | P52: =SUM(M52:O52) -> 0
A53: 36 | C53: Ierīkot deformācijas šuvi starp pamatiem un mūri elastīgs blīvējums (ekvil. ISO-ZELL PE-CORD lenta) | D53: m | E53: 4.16 | H53: =ROUND(F53*G53,2) -> 0 | K53: =SUM(H53:J53) -> 0 | L53: =ROUND(E53*F53,2) -> 0 | M53: =ROUND(E53*H53,2) -> 0 | N53: =ROUND(E53*I53,2) -> 0 | O53: =ROUND(E53*J53,2) -> 0 | P53: =SUM(M53:O53) -> 0
A54: 37 | C54: Loga šahta | H54: =ROUND(F54*G54,2) -> 0 | K54: =SUM(H54:J54) -> 0 | L54: =ROUND(E54*F54,2) -> 0 | M54: =ROUND(E54*H54,2) -> 0 | N54: =ROUND(E54*I54,2) -> 0 | O54: =ROUND(E54*J54,2) -> 0 | P54: =SUM(M54:O54) -> 0
A55: 38 | C55: Pamatojums | H55: =ROUND(F55*G55,2) -> 0 | K55: =SUM(H55:J55) -> 0 | L55: =ROUND(E55*F55,2) -> 0 | M55: =ROUND(E55*H55,2) -> 0 | N55: =ROUND(E55*I55,2) -> 0 | O55: =ROUND(E55*J55,2) -> 0 | P55: =SUM(M55:O55) -> 0
A56: 39 | C56: Ierīkot blietētu šķembu kārtu zem pamatiem. Blietētas šķembas, frakcija 0-16mm | D56: m3 | E56: 0.16 | H56: =ROUND(F56*G56,2) -> 0 | K56: =SUM(H56:J56) -> 0 | L56: =ROUND(E56*F56,2) -> 0 | M56: =ROUND(E56*H56,2) -> 0 | N56: =ROUND(E56*I56,2) -> 0 | O56: =ROUND(E56*J56,2) -> 0 | P56: =SUM(M56:O56) -> 0
A57: 40 | C57: Pamati | H57: =ROUND(F57*G57,2) -> 0 | K57: =SUM(H57:J57) -> 0 | L57: =ROUND(E57*F57,2) -> 0 | M57: =ROUND(E57*H57,2) -> 0 | N57: =ROUND(E57*I57,2) -> 0 | O57: =ROUND(E57*J57,2) -> 0 | P57: =SUM(M57:O57) -> 0
A58: 41 | C58: Betonēt veidņos pamatus ar C25/30 XC2 klases betonu un stiegrojot ar B500B terauda stiegrojumu. Ieskaitot visus stiprinājumus un palīgmateriālus. | D58: m3 | E58: 0.45 | H58: =ROUND(F58*G58,2) -> 0 | K58: =SUM(H58:J58) -> 0 | L58: =ROUND(E58*F58,2) -> 0 | M58: =ROUND(E58*H58,2) -> 0 | N58: =ROUND(E58*I58,2) -> 0 | O58: =ROUND(E58*J58,2) -> 0 | P58: =SUM(M58:O58) -> 0
A59: 42 | C59: Ieklāt ģeotekstilu | D59: m2 | E59: 1.1 | H59: =ROUND(F59*G59,2) -> 0 | K59: =SUM(H59:J59) -> 0 | L59: =ROUND(E59*F59,2) -> 0 | M59: =ROUND(E59*H59,2) -> 0 | N59: =ROUND(E59*I59,2) -> 0 | O59: =ROUND(E59*J59,2) -> 0 | P59: =SUM(M59:O59) -> 0
A60: 43 | C60: Ieklāt PVC cauruli dn50 | D60: m | E60: 2 | H60: =ROUND(F60*G60,2) -> 0 | K60: =SUM(H60:J60) -> 0 | L60: =ROUND(E60*F60,2) -> 0 | M60: =ROUND(E60*H60,2) -> 0 | N60: =ROUND(E60*I60,2) -> 0 | O60: =ROUND(E60*J60,2) -> 0 | P60: =SUM(M60:O60) -> 0
A62: Tiešās izmaksas kopā, t.sk. Darba dēvēja sociālais nodoklis (23,59%) | L62: =SUM(L18:L61) -> 0 | M62: =SUM(M18:M61) -> 0 | N62: =SUM(N18:N61) -> 0 | O62: =SUM(O18:O61) -> 0 | P62: =SUM(P18:P61) -> 0
A64: =KT!A23 -> Sastādīja: | D64: =KT!D23 -> 2024.gada __._________
A65: (paraksts un tā atšifrējums, datums)
A66: =KT!A25 -> Sertifikāta Nr.:
A68: =KT!A27 -> Pārbaudīja: | D68: =KT!D23 -> 2024.gada __._________
A69: (paraksts un tā atšifrējums, datums)
A70: =KT!A29 -> Sertifikāta Nr.:

Sheet 1,4
A2: Lokālā tāme Nr.1,4
A3: ='KA1'!C19 -> Sienas, ēku un būvju karkasu konstrukcijas
A4: (būvdarbu veids vai konstruktīvā elementa nosaukums)
A6: Objekta nosaukums: | C6: =KT!B9 -> ĒKU ATJAUNOŠANA, PĀRBŪVE, NOJAUKŠANA UN TERITORIJAS LABIEKĀRTOŠANA I un II kārta
A7: Būves nosaukums: | C7: =KT!B10 -> Pirmsskolas izglītības iestāde
A8: Objekta adrese: | C8: =KT!B11 -> Dārtas iela 1, Cēsis, Cēsu novads
A9: Pasūtītājs: | C9: =KT!B12 -> Cēsu novada pašvaldība Raunas ielā 4, Cēsīs, Cēsu novadā, LV-4101; Reģ.Nr. 90000031048
A10: Būvuzņēmējs: | C10: =KT!B13 -> SIA
A12: Tāme sastādīta 2024. gada tirgus cenās, pamatojoties uz būvprojekta rasējumiem | M12: Tāmes izmaksas: | O12: =P86 -> 0 | P12: EUR
N13: Tāme sastādītā | O13: =KT!D23 -> 2024.gada __._________
A15: Nr.p.k. | B15: Kods | C15: Būvdarbu nosaukums | D15: Mērvienība | E15: Daudzums | F15: Vienības izmaksas | L15: Kopā uz visu apjomu
F16: Laika norma (c/h) | G16: Darba samaksas likme (euro/h) | H16: Darba alga | I16: Būvizstrādājumi | J16: Mehānismi | K16: KOPĀ | L16: Darbietilpība (c/h) | M16: Darba alga | N16: Būvizstrādājumi | O16: Mehānismi | P16: Summa
A18: 1 | C18: 1.stāva pārsedzes | H18: =ROUND(F18*G18,2) -> 0 | K18: =SUM(H18:J18) -> 0 | L18: =ROUND(E18*F18,2) -> 0 | M18: =ROUND(E18*H18,2) -> 0 | N18: =ROUND(E18*I18,2) -> 0 | O18: =ROUND(E18*J18,2) -> 0 | P18: =SUM(M18:O18) -> 0
A19: 2 | C19: Izkalt sienās caurumus pārsedžu ievietošanai no abām pusēm un izvest būvgružus utilizācijai | D19: m | E19: 31.22 | H19: =ROUND(F19*G19,2) -> 0 | K19: =SUM(H19:J19) -> 0 | L19: =ROUND(E19*F19,2) -> 0 | M19: =ROUND(E19*H19,2) -> 0 | N19: =ROUND(E19*I19,2) -> 0 | O19: =ROUND(E19*J19,2) -> 0 | P19: =SUM(M19:O19) -> 0
A20: 3 | C20: Montēt UPN 80/120/180 pārsedzes, ieskaitot visus stiprinājumus un palīgmateriālus Visiem metāla elementiem saskaņā ar ISO/DIS 12944-2 ir C2 korozijas kategorija. Tērauda konstrukcijas pārklāt ar firmas "RILAK" 2 kārtām grunti "EPOPRIM" 120mkm un 1 kārtu krāsu "URETOP" 40mkm. vai ekvivalents | D20: kg | E20: 328.8 | H20: =ROUND(F20*G20,2) -> 0 | K20: =SUM(H20:J20) -> 0 | L20: =ROUND(E20*F20,2) -> 0 | M20: =ROUND(E20*H20,2) -> 0 | N20: =ROUND(E20*I20,2) -> 0 | O20: =ROUND(E20*J20,2) -> 0 | P20: =SUM(M20:O20) -> 0
A21: 4 | C21: Urbt sienā caurumus vītņstieņu ievietošanai | D21: gb | E21: 40 | H21: =ROUND(F21*G21,2) -> 0 | K21: =SUM(H21:J21) -> 0 | L21: =ROUND(E21*F21,2) -> 0 | M21: =ROUND(E21*H21,2) -> 0 | N21: =ROUND(E21*I21,2) -> 0 | O21: =ROUND(E21*J21,2) -> 0 | P21: =SUM(M21:O21) -> 0
A22: 5 | C22: Savienot pārsedzes ar M12 vītņstieņiem, ieskaitot visus stiprinājumus un palīgmateriālus | D22: gb | E22: 40 | H22: =ROUND(F22*G22,2) -> 0 | K22: =SUM(H22:J22) -> 0 | L22: =ROUND(E22*F22,2) -> 0 | M22: =ROUND(E22*H22,2) -> 0 | N22: =ROUND(E22*I22,2) -> 0 | O22: =ROUND(E22*J22,2) -> 0 | P22: =SUM(M22:O22) -> 0
A23: 6 | C23: Aptīt pārsedzes ar sietu 3x3x100x100mm un apmest ar smalkgraudainu bezrukuma javu | D23: m2 | E23: 13.8 | H23: =ROUND(F23*G23,2) -> 0 | K23: =SUM(H23:J23) -> 0 | L23: =ROUND(E23*F23,2) -> 0 | M23: =ROUND(E23*H23,2) -> 0 | N23: =ROUND(E23*I23,2) -> 0 | O23: =ROUND(E23*J23,2) -> 0 | P23: =SUM(M23:O23) -> 0
A24: 7 | C24: Montēt FIBO keramzītbetona pārsedzes uz mūrjavas kārtas vai ekvivalents 1800x250x200mm | D24: gb | E24: 1 | H24: =ROUND(F24*G24,2) -> 0 | K24: =SUM(H24:J24) -> 0 | L24: =ROUND(E24*F24,2) -> 0 | M24: =ROUND(E24*H24,2) -> 0 | N24: =ROUND(E24*I24,2) -> 0 | O24: =ROUND(E24*J24,2) -> 0 | P24: =SUM(M24:O24) -> 0
A25: 8 | C25: Izurbt sienā caurumu 300mm diametrā un izvest būvgružus utilizācijai | D25: gb | E25: 4 | H25: =ROUND(F25*G25,2) -> 0 | K25: =SUM(H25:J25) -> 0 | L25: =ROUND(E25*F25,2) -> 0 | M25: =ROUND(E25*H25,2) -> 0 | N25: =ROUND(E25*I25,2) -> 0 | O25: =ROUND(E25*J25,2) -> 0 | P25: =SUM(M25:O25) -> 0
A26: 9 | C26: 2.stāva pārsedzes | H26: =ROUND(F26*G26,2) -> 0 | K26: =SUM(H26:J26) -> 0 | L26: =ROUND(E26*F26,2) -> 0 | M26: =ROUND(E26*H26,2) -> 0 | N26: =ROUND(E26*I26,2) -> 0 | O26: =ROUND(E26*J26,2) -> 0 | P26: =SUM(M26:O26) -> 0
A27: 10 | C27: Izkalt sienās caurumus pārsedžu ievietošanai no abām pusēm un izvest būvgružus utilizācijai | D27: m | E27: 7.93 | H27: =ROUND(F27*G27,2) -> 0 | K27: =SUM(H27:J27) -> 0 | L27: =ROUND(E27*F27,2) -> 0 | M27: =ROUND(E27*H27,2) -> 0 | N27: =ROUND(E27*I27,2) -> 0 | O27: =ROUND(E27*J27,2) -> 0 | P27: =SUM(M27:O27) -> 0
A28: 11 | C28: Montēt UPN 80/120/180 pārsedzes, ieskaitot visus stiprinājumus un palīgmateriālus Visiem metāla elementiem saskaņā ar ISO/DIS 12944-2 ir C2 korozijas kategorija. Tērauda konstrukcijas pārklāt ar firmas "RILAK" 2 kārtām grunti "EPOPRIM" 120mkm un 1 kārtu krāsu "URETOP" 40mkm. vai ekvivalents | D28: kg | E28: 202.7 | H28: =ROUND(F28*G28,2) -> 0 | K28: =SUM(H28:J28) -> 0 | L28: =ROUND(E28*F28,2) -> 0 | M28: =ROUND(E28*H28,2) -> 0 | N28: =ROUND(E28*I28,2) -> 0 | O28: =ROUND(E28*J28,2) -> 0 | P28: =SUM(M28:O28) -> 0
A29: 12 | C29: Urbt sienā caurumus vītņstieņu ievietošanai | D29: gb | E29: 20 | H29: =ROUND(F29*G29,2) -> 0 | K29: =SUM(H29:J29) -> 0 | L29: =ROUND(E29*F29,2) -> 0 | M29: =ROUND(E29*H29,2) -> 0 | N29: =ROUND(E29*I29,2) -> 0 | O29: =ROUND(E29*J29,2) -> 0 | P29: =SUM(M29:O29) -> 0
A30: 13 | C30: Savienot pārsedzes ar M12 vītņstieņiem, ieskaitot visus stiprinājumus un palīgmateriālus | D30: gb | E30: 20 | H30: =ROUND(F30*G30,2) -> 0 | K30: =SUM(H30:J30) -> 0 | L30: =ROUND(E30*F30,2) -> 0 | M30: =ROUND(E30*H30,2) -> 0 | N30: =ROUND(E30*I30,2) -> 0 | O30: =ROUND(E30*J30,2) -> 0 | P30: =SUM(M30:O30) -> 0
A31: 14 | C31: Aptīt pārsedzes ar sietu 3x3x100x100mm un apmest ar smalkgraudainu bezrukuma javu | D31: m2 | E31: 7 | H31: =ROUND(F31*G31,2) -> 0 | K31: =SUM(H31:J31) -> 0 | L31: =ROUND(E31*F31,2) -> 0 | M31: =ROUND(E31*H31,2) -> 0 | N31: =ROUND(E31*I31,2) -> 0 | O31: =ROUND(E31*J31,2) -> 0 | P31: =SUM(M31:O31) -> 0
A32: 15 | C32: Montēt FIBO keramzītbetona pārsedzes uz mūrjavas kārtas vai ekvivalents 1500x250x200mm | D32: gb | E32: 1 | H32: =ROUND(F32*G32,2) -> 0 | K32: =SUM(H32:J32) -> 0 | L32: =ROUND(E32*F32,2) -> 0 | M32: =ROUND(E32*H32,2) -> 0 | N32: =ROUND(E32*I32,2) -> 0 | O32: =ROUND(E32*J32,2) -> 0 | P32: =SUM(M32:O32) -> 0
A33: 16 | C33: Izurbt sienā caurumu 300mm diametrā un izvest būvgružus utilizācijai | D33: gb | E33: 4 | H33: =ROUND(F33*G33,2) -> 0 | K33: =SUM(H33:J33) -> 0 | L33: =ROUND(E33*F33,2) -> 0 | M33: =ROUND(E33*H33,2) -> 0 | N33: =ROUND(E33*I33,2) -> 0 | O33: =ROUND(E33*J33,2) -> 0 | P33: =SUM(M33:O33) -> 0
A34: 17 | C34: Kāpnes asīs 3-4/E | H34: =ROUND(F34*G34,2) -> 0 | K34: =SUM(H34:J34) -> 0 | L34: =ROUND(E34*F34,2) -> 0 | M34: =ROUND(E34*H34,2) -> 0 | N34: =ROUND(E34*I34,2) -> 0 | O34: =ROUND(E34*J34,2) -> 0 | P34: =SUM(M34:O34) -> 0
A35: 18 | C35: Izkalt sienās caurumus siju ievietošanai un izvest būvgružus utilizācijai | D35: gb | E35: 4 | H35: =ROUND(F35*G35,2) -> 0 | K35: =SUM(H35:J35) -> 0 | L35: =ROUND(E35*F35,2) -> 0 | M35: =ROUND(E35*H35,2) -> 0 | N35: =ROUND(E35*I35,2) -> 0 | O35: =ROUND(E35*J35,2) -> 0 | P35: =SUM(M35:O35) -> 0
A36: 19 | C36: Betonēt veidņos siju balstus ar C25/30 klases betonu un stiegrojot ar B500B terauda stiegrojumu. Ieskaitot visus stiprinājumus un palīgmateriālus. | D36: m3 | E36: 0.08 | H36: =ROUND(F36*G36,2) -> 0 | K36: =SUM(H36:J36) -> 0 | L36: =ROUND(E36*F36,2) -> 0 | M36: =ROUND(E36*H36,2) -> 0 | N36: =ROUND(E36*I36,2) -> 0 | O36: =ROUND(E36*J36,2) -> 0 | P36: =SUM(M36:O36) -> 0
A37: 20 | C37: Montēt tērauda kāpņu konstrukciju, ieskaitot visus stiprinājumus un palīgmateriālus | D37: t | E37: 0.45 | H37: =ROUND(F37*G37,2) -> 0 | K37: =SUM(H37:J37) -> 0 | L37: =ROUND(E37*F37,2) -> 0 | M37: =ROUND(E37*H37,2) -> 0 | N37: =ROUND(E37*I37,2) -> 0 | O37: =ROUND(E37*J37,2) -> 0 | P37: =SUM(M37:O37) -> 0
A38: 21 | C38: Frēzēt gropi mūrī 100mm dziļumā un izvest būvgružus utilizācijai | D38: m | E38: 10.8 | H38: =ROUND(F38*G38,2) -> 0 | K38: =SUM(H38:J38) -> 0 | L38: =ROUND(E38*F38,2) -> 0 | M38: =ROUND(E38*H38,2) -> 0 | N38: =ROUND(E38*I38,2) -> 0 | O38: =ROUND(E38*J38,2) -> 0 | P38: =SUM(M38:O38) -> 0
A39: 22 | C39: Betonēt veidņos siju galus ar C25/30 klases betonu un stiegrojot ar B500B terauda stiegrojumu. Ieskaitot visus stiprinājumus un palīgmateriālus. | D39: m3 | E39: 0.16 | H39: =ROUND(F39*G39,2) -> 0 | K39: =SUM(H39:J39) -> 0 | L39: =ROUND(E39*F39,2) -> 0 | M39: =ROUND(E39*H39,2) -> 0 | N39: =ROUND(E39*I39,2) -> 0 | O39: =ROUND(E39*J39,2) -> 0 | P39: =SUM(M39:O39) -> 0
A40: 23 | C40: Betonēt veidņos kāpņu konstrukciju ar C25/30 klases betonu un stiegrojot ar B500B terauda stiegrojumu. Ieskaitot visus stiprinājumus un palīgmateriālus. | D40: m3 | E40: 5.1 | H40: =ROUND(F40*G40,2) -> 0 | K40: =SUM(H40:J40) -> 0 | L40: =ROUND(E40*F40,2) -> 0 | M40: =ROUND(E40*H40,2) -> 0 | N40: =ROUND(E40*I40,2) -> 0 | O40: =ROUND(E40*J40,2) -> 0 | P40: =SUM(M40:O40) -> 0
A41: 24 | C41: Montēt smalkgraudainus betona pakāpienus, ieskaitot visus stiprinājumus un palīgmateriālus Pa-1 Smalkgraudaina betona pakāpieni ar noapaļotu kanti tips Nr.-6 (330x144,4);L=1300 | D41: gb | E41: 8 | H41: =ROUND(F41*G41,2) -> 0 | K41: =SUM(H41:J41) -> 0 | L41: =ROUND(E41*F41,2) -> 0 | M41: =ROUND(E41*H41,2) -> 0 | N41: =ROUND(E41*I41,2) -> 0 | O41: =ROUND(E41*J41,2) -> 0 | P41: =SUM(M41:O41) -> 0
A42: 25 | C42: Montēt smalkgraudainus betona pakāpienus, ieskaitot visus stiprinājumus un palīgmateriālus Pa-2 (330x144,4);L=1300 | D42: gb | E42: 1 | H42: =ROUND(F42*G42,2) -> 0 | K42: =SUM(H42:J42) -> 0 | L42: =ROUND(E42*F42,2) -> 0 | M42: =ROUND(E42*H42,2) -> 0 | N42: =ROUND(E42*I42,2) -> 0 | O42: =ROUND(E42*J42,2) -> 0 | P42: =SUM(M42:O42) -> 0
A43: 26 | C43: Montēt smalkgraudainus betona pakāpienus, ieskaitot visus stiprinājumus un palīgmateriālus Pa-3 (300x146.2);L=1300 | D43: gb | E43: 24 | H43: =ROUND(F43*G43,2) -> 0 | K43: =SUM(H43:J43) -> 0 | L43: =ROUND(E43*F43,2) -> 0 | M43: =ROUND(E43*H43,2) -> 0 | N43: =ROUND(E43*I43,2) -> 0 | O43: =ROUND(E43*J43,2) -> 0 | P43: =SUM(M43:O43) -> 0
A44: 27 | C44: Montēt smalkgraudainus betona pakāpienus, ieskaitot visus stiprinājumus un palīgmateriālus Pa-4 (300x146.2);L=1300 | D44: gb | E44: 1 | H44: =ROUND(F44*G44,2) -> 0 | K44: =SUM(H44:J44) -> 0 | L44: =ROUND(E44*F44,2) -> 0 | M44: =ROUND(E44*H44,2) -> 0 | N44: =ROUND(E44*I44,2) -> 0 | O44: =ROUND(E44*J44,2) -> 0 | P44: =SUM(M44:O44) -> 0
A45: 28 | C45: Montēt smalkgraudainus betona pakāpienus, ieskaitot visus stiprinājumus un palīgmateriālus Pa-5 (300/150x146.2);L=1300 | D45: gb | E45: 2 | H45: =ROUND(F45*G45,2) -> 0 | K45: =SUM(H45:J45) -> 0 | L45: =ROUND(E45*F45,2) -> 0 | M45: =ROUND(E45*H45,2) -> 0 | N45: =ROUND(E45*I45,2) -> 0 | O45: =ROUND(E45*J45,2) -> 0 | P45: =SUM(M45:O45) -> 0
A46: 29 | C46: Metāla konstrukcijas apšūt ar reģipša Fireboard plāksnēm b=15mm ( sist. K252 R30 Knauf). Vai ekvivalents | D46: m2 | E46: 2.5 | H46: =ROUND(F46*G46,2) -> 0 | K46: =SUM(H46:J46) -> 0 | L46: =ROUND(E46*F46,2) -> 0 | M46: =ROUND(E46*H46,2) -> 0 | N46: =ROUND(E46*I46,2) -> 0 | O46: =ROUND(E46*J46,2) -> 0 | P46: =SUM(M46:O46) -> 0
A47: 30 | C47: Pārsegums uz atz. +6,770 | H47: =ROUND(F47*G47,2) -> 0 | K47: =SUM(H47:J47) -> 0 | L47: =ROUND(E47*F47,2) -> 0 | M47: =ROUND(E47*H47,2) -> 0 | N47: =ROUND(E47*I47,2) -> 0 | O47: =ROUND(E47*J47,2) -> 0 | P47: =SUM(M47:O47) -> 0
A48: 31 | C48: Frēzēt gropi mūrī 120mm dziļumā un izvest būvgružus utilizācijai | D48: m | E48: 16.52 | H48: =ROUND(F48*G48,2) -> 0 | K48: =SUM(H48:J48) -> 0 | L48: =ROUND(E48*F48,2) -> 0 | M48: =ROUND(E48*H48,2) -> 0 | N48: =ROUND(E48*I48,2) -> 0 | O48: =ROUND(E48*J48,2) -> 0 | P48: =SUM(M48:O48) -> 0
A49: 32 | C49: Betonēt veidņos pārseguma plātni ar C25/30 klases betonu un stiegrojot ar B500B terauda stiegrojumu. Ieskaitot visus stiprinājumus un palīgmateriālus. | D49: m3 | E49: 3.1 | H49: =ROUND(F49*G49,2) -> 0 | K49: =SUM(H49:J49) -> 0 | L49: =ROUND(E49*F49,2) -> 0 | M49: =ROUND(E49*H49,2) -> 0 | N49: =ROUND(E49*I49,2) -> 0 | O49: =ROUND(E49*J49,2) -> 0 | P49: =SUM(M49:O49) -> 0
A50: 33 | C50: Jumta konstrukcija | H50: =ROUND(F50*G50,2) -> 0 | K50: =SUM(H50:J50) -> 0 | L50: =ROUND(E50*F50,2) -> 0 | M50: =ROUND(E50*H50,2) -> 0 | N50: =ROUND(E50*I50,2) -> 0 | O50: =ROUND(E50*J50,2) -> 0 | P50: =SUM(M50:O50) -> 0
A51: 34 | C51: Pārseguma bojāto konstrukciju nomaiņa, mezglu atjaunošana (pieņemts ≈20%) | D51: m3 | E51: 9.8 | H51: =ROUND(F51*G51,2) -> 0 | K51: =SUM(H51:J51) -> 0 | L51: =ROUND(E51*F51,2) -> 0 | M51: =ROUND(E51*H51,2) -> 0 | N51: =ROUND(E51*I51,2) -> 0 | O51: =ROUND(E51*J51,2) -> 0 | P51: =SUM(M51:O51) -> 0
A52: 35 | C52: Jumta bojāto elementu nomaiņa un pastiprināšana (pieņemts ≈20%) | D52: m3 | E52: 5 | H52: =ROUND(F52*G52,2) -> 0 | K52: =SUM(H52:J52) -> 0 | L52: =ROUND(E52*F52,2) -> 0 | M52: =ROUND(E52*H52,2) -> 0 | N52: =ROUND(E52*I52,2) -> 0 | O52: =ROUND(E52*J52,2) -> 0 | P52: =SUM(M52:O52) -> 0
A53: 36 | C53: Esošo krēslu pārbūve demontējot divus ststņus un izbūvējot četrus jaunus (izvietojumu precizēt ar AVK sadaļu) | D53: m3 | E53: 0.27 | H53: =ROUND(F53*G53,2) -> 0 | K53: =SUM(H53:J53) -> 0 | L53: =ROUND(E53*F53,2) -> 0 | M53: =ROUND(E53*H53,2) -> 0 | N53: =ROUND(E53*I53,2) -> 0 | O53: =ROUND(E53*J53,2) -> 0 | P53: =SUM(M53:O53) -> 0
A54: 37 | C54: Pārsedzes uz atz. +2,500; +6,200 | H54: =ROUND(F54*G54,2) -> 0 | K54: =SUM(H54:J54) -> 0 | L54: =ROUND(E54*F54,2) -> 0 | M54: =ROUND(E54*H54,2) -> 0 | N54: =ROUND(E54*I54,2) -> 0 | O54: =ROUND(E54*J54,2) -> 0 | P54: =SUM(M54:O54) -> 0
A55: 38 | C55: Betonēt veidņos pārsedzi ar C25/30 XC1 klases betonu un stiegrojot ar B500B terauda stiegrojumu. Ieskaitot visus stiprinājumus un palīgmateriālus. | D55: m3 | E55: 0.33 | H55: =ROUND(F55*G55,2) -> 0 | K55: =SUM(H55:J55) -> 0 | L55: =ROUND(E55*F55,2) -> 0 | M55: =ROUND(E55*H55,2) -> 0 | N55: =ROUND(E55*I55,2) -> 0 | O55: =ROUND(E55*J55,2) -> 0 | P55: =SUM(M55:O55) -> 0
A56: 39 | C56: Siltināt pārsedzi ar putupolistirolu EPS100 50mm biezumā | D56: m2 | E56: 1.7 | H56: =ROUND(F56*G56,2) -> 0 | K56: =SUM(H56:J56) -> 0 | L56: =ROUND(E56*F56,2) -> 0 | M56: =ROUND(E56*H56,2) -> 0 | N56: =ROUND(E56*I56,2) -> 0 | O56: =ROUND(E56*J56,2) -> 0 | P56: =SUM(M56:O56) -> 0
A57: 40 | C57: Montēt FIBO keramzītbetona pārsedzes uz mūrjavas kārtas vai ekvivalents 1790x300x190mm | D57: gb | E57: 4 | H57: =ROUND(F57*G57,2) -> 0 | K57: =SUM(H57:J57) -> 0 | L57: =ROUND(E57*F57,2) -> 0 | M57: =ROUND(E57*H57,2) -> 0 | N57: =ROUND(E57*I57,2) -> 0 | O57: =ROUND(E57*J57,2) -> 0 | P57: =SUM(M57:O57) -> 0
A58: 41 | C58: Ierīkot deformācijas šuvi Paroc ROB50 20mm vai ekvivalents | D58: m | E58: 12.2 | H58: =ROUND(F58*G58,2) -> 0 | K58: =SUM(H58:J58) -> 0 | L58: =ROUND(E58*F58,2) -> 0 | M58: =ROUND(E58*H58,2) -> 0 | N58: =ROUND(E58*I58,2) -> 0 | O58: =ROUND(E58*J58,2) -> 0 | P58: =SUM(M58:O58) -> 0
A59: 42 | C59: Ierīkot deformācijas šuvi elastīgs blīvējums (ekvil. ISO-ZELL PE-CORD lenta) | D59: m | E59: 24.4 | H59: =ROUND(F59*G59,2) -> 0 | K59: =SUM(H59:J59) -> 0 | L59: =ROUND(E59*F59,2) -> 0 | M59: =ROUND(E59*H59,2) -> 0 | N59: =ROUND(E59*I59,2) -> 0 | O59: =ROUND(E59*J59,2) -> 0 | P59: =SUM(M59:O59) -> 0
A60: 43 | C60: Pārsegums uz atz.+3,500; +6,500 | H60: =ROUND(F60*G60,2) -> 0 | K60: =SUM(H60:J60) -> 0 | L60: =ROUND(E60*F60,2) -> 0 | M60: =ROUND(E60*H60,2) -> 0 | N60: =ROUND(E60*I60,2) -> 0 | O60: =ROUND(E60*J60,2) -> 0 | P60: =SUM(M60:O60) -> 0
A61: 44 | C61: Montēt FIBO keramzītbetona U-blokus uz mūrjavas kārtas vai ekvivalents 185x200x300 | D61: m | E61: 14.4 | H61: =ROUND(F61*G61,2) -> 0 | K61: =SUM(H61:J61) -> 0 | L61: =ROUND(E61*F61,2) -> 0 | M61: =ROUND(E61*H61,2) -> 0 | N61: =ROUND(E61*I61,2) -> 0 | O61: =ROUND(E61*J61,2) -> 0 | P61: =SUM(M61:O61) -> 0
A62: 45 | C62: Betonēt monolīto joslu ar C20/25 klases betonu un stiegrojot ar B500B terauda stiegrojumu. Ieskaitot visus stiprinājumus un palīgmateriālus. | D62: m3 | E62: 0.26 | H62: =ROUND(F62*G62,2) -> 0 | K62: =SUM(H62:J62) -> 0 | L62: =ROUND(E62*F62,2) -> 0 | M62: =ROUND(E62*H62,2) -> 0 | N62: =ROUND(E62*I62,2) -> 0 | O62: =ROUND(E62*J62,2) -> 0 | P62: =SUM(M62:O62) -> 0
A63: 46 | C63: Montēt iepriekš saspriegtā dobtā dzelzsbetona pārseguma plātnes HCE220, ieskaitot visus stiprinājumus un palīgmateriālus | D63: m2 | E63: 36 | H63: =ROUND(F63*G63,2) -> 0 | K63: =SUM(H63:J63) -> 0 | L63: =ROUND(E63*F63,2) -> 0 | M63: =ROUND(E63*H63,2) -> 0 | N63: =ROUND(E63*I63,2) -> 0 | O63: =ROUND(E63*J63,2) -> 0 | P63: =SUM(M63:O63) -> 0
A64: 47 | C64: Betonēt veidņos paneļu šuves un galus ar C20/25 klases betonu un stiegrojot ar B500B terauda stiegrojumu. Ieskaitot visus stiprinājumus un palīgmateriālus. | D64: m3 | E64: 0.5 | H64: =ROUND(F64*G64,2) -> 0 | K64: =SUM(H64:J64) -> 0 | L64: =ROUND(E64*F64,2) -> 0 | M64: =ROUND(E64*H64,2) -> 0 | N64: =ROUND(E64*I64,2) -> 0 | O64: =ROUND(E64*J64,2) -> 0 | P64: =SUM(M64:O64) -> 0
A65: 48 | C65: Ierīkot deformācijas šuvi Putuplasts EPS50 20mm | D65: m | E65: 11.16 | H65: =ROUND(F65*G65,2) -> 0 | K65: =SUM(H65:J65) -> 0 | L65: =ROUND(E65*F65,2) -> 0 | M65: =ROUND(E65*H65,2) -> 0 | N65: =ROUND(E65*I65,2) -> 0 | O65: =ROUND(E65*J65,2) -> 0 | P65: =SUM(M65:O65) -> 0
A66: 49 | C66: Ierīkot deformācijas šuvi elastīgs blīvējums (ekvil. ISO-ZELL PE-CORD lenta) | D66: m | E66: 11.16 | H66: =ROUND(F66*G66,2) -> 0 | K66: =SUM(H66:J66) -> 0 | L66: =ROUND(E66*F66,2) -> 0 | M66: =ROUND(E66*H66,2) -> 0 | N66: =ROUND(E66*I66,2) -> 0 | O66: =ROUND(E66*J66,2) -> 0 | P66: =SUM(M66:O66) -> 0
A67: 50 | C67: Jumts asīs 6-7 | H67: =ROUND(F67*G67,2) -> 0 | K67: =SUM(H67:J67) -> 0 | L67: =ROUND(E67*F67,2) -> 0 | M67: =ROUND(E67*H67,2) -> 0 | N67: =ROUND(E67*I67,2) -> 0 | O67: =ROUND(E67*J67,2) -> 0 | P67: =SUM(M67:O67) -> 0
A68: 51 | C68: Montēt koka konstrukcijas jumtu, ieskaitot visus stiprinājumus un palīgmateriālus | D68: m3 | E68: 0.9 | H68: =ROUND(F68*G68,2) -> 0 | K68: =SUM(H68:J68) -> 0 | L68: =ROUND(E68*F68,2) -> 0 | M68: =ROUND(E68*H68,2) -> 0 | N68: =ROUND(E68*I68,2) -> 0 | O68: =ROUND(E68*J68,2) -> 0 | P68: =SUM(M68:O68) -> 0
A69: 52 | C69: Kāpnes asīs 6-7 | H69: =ROUND(F69*G69,2) -> 0 | K69: =SUM(H69:J69) -> 0 | L69: =ROUND(E69*F69,2) -> 0 | M69: =ROUND(E69*H69,2) -> 0 | N69: =ROUND(E69*I69,2) -> 0 | O69: =ROUND(E69*J69,2) -> 0 | P69: =SUM(M69:O69) -> 0
A70: 53 | C70: Montēt smalkgraudainus betona pakāpienus, ieskaitot visus stiprinājumus un palīgmateriālus Pa-6 Smalkgraudaina betona pakāpieni ar noapaļotu kanti tips Nr.-6 (300x150);L=1180 | D70: gb | E70: 6 | H70: =ROUND(F70*G70,2) -> 0 | K70: =SUM(H70:J70) -> 0 | L70: =ROUND(E70*F70,2) -> 0 | M70: =ROUND(E70*H70,2) -> 0 | N70: =ROUND(E70*I70,2) -> 0 | O70: =ROUND(E70*J70,2) -> 0 | P70: =SUM(M70:O70) -> 0
A71: 54 | C71: Kāpnes asīs 3-4 | H71: =ROUND(F71*G71,2) -> 0 | K71: =SUM(H71:J71) -> 0 | L71: =ROUND(E71*F71,2) -> 0 | M71: =ROUND(E71*H71,2) -> 0 | N71: =ROUND(E71*I71,2) -> 0 | O71: =ROUND(E71*J71,2) -> 0 | P71: =SUM(M71:O71) -> 0
A72: 55 | C72: Montēt smalkgraudainus betona pakāpienus, ieskaitot visus stiprinājumus un palīgmateriālus Pa-8 Smalkgraudaina betona pakāpieni ar noapaļotu kanti tips Nr.-6 (300x150);L=2680 | D72: gb | E72: 3 | H72: =ROUND(F72*G72,2) -> 0 | K72: =SUM(H72:J72) -> 0 | L72: =ROUND(E72*F72,2) -> 0 | M72: =ROUND(E72*H72,2) -> 0 | N72: =ROUND(E72*I72,2) -> 0 | O72: =ROUND(E72*J72,2) -> 0 | P72: =SUM(M72:O72) -> 0
A73: 56 | C73: Kāpnes asīs B-C | H73: =ROUND(F73*G73,2) -> 0 | K73: =SUM(H73:J73) -> 0 | L73: =ROUND(E73*F73,2) -> 0 | M73: =ROUND(E73*H73,2) -> 0 | N73: =ROUND(E73*I73,2) -> 0 | O73: =ROUND(E73*J73,2) -> 0 | P73: =SUM(M73:O73) -> 0
A74: 57 | C74: Montēt smalkgraudainus betona pakāpienus, ieskaitot visus stiprinājumus un palīgmateriālus Pa-9 Smalkgraudaina betona pakāpieni ar noapaļotu kanti tips Nr.-6 (250x180);L=1180 | D74: gb | E74: 6 | H74: =ROUND(F74*G74,2) -> 0 | K74: =SUM(H74:J74) -> 0 | L74: =ROUND(E74*F74,2) -> 0 | M74: =ROUND(E74*H74,2) -> 0 | N74: =ROUND(E74*I74,2) -> 0 | O74: =ROUND(E74*J74,2) -> 0 | P74: =SUM(M74:O74) -> 0
A75: 58 | C75: Kāpnes asīs E | H75: =ROUND(F75*G75,2) -> 0 | K75: =SUM(H75:J75) -> 0 | L75: =ROUND(E75*F75,2) -> 0 | M75: =ROUND(E75*H75,2) -> 0 | N75: =ROUND(E75*I75,2) -> 0 | O75: =ROUND(E75*J75,2) -> 0 | P75: =SUM(M75:O75) -> 0
A76: 59 | C76: Montēt smalkgraudainus betona pakāpienus, ieskaitot visus stiprinājumus un palīgmateriālus Pa-7 Smalkgraudaina betona pakāpieni ar noapaļotu kanti tips Nr.-7 (300x150);L=1180 | D76: gb | E76: 3 | H76: =ROUND(F76*G76,2) -> 0 | K76: =SUM(H76:J76) -> 0 | L76: =ROUND(E76*F76,2) -> 0 | M76: =ROUND(E76*H76,2) -> 0 | N76: =ROUND(E76*I76,2) -> 0 | O76: =ROUND(E76*J76,2) -> 0 | P76: =SUM(M76:O76) -> 0
A77: 60 | C77: Loga šahta | H77: =ROUND(F77*G77,2) -> 0 | K77: =SUM(H77:J77) -> 0 | L77: =ROUND(E77*F77,2) -> 0 | M77: =ROUND(E77*H77,2) -> 0 | N77: =ROUND(E77*I77,2) -> 0 | O77: =ROUND(E77*J77,2) -> 0 | P77: =SUM(M77:O77) -> 0
A78: 61 | C78: Montēt metinātu platformu, ieskaitot visus stiprinājumus un palīgmateriālus Režģis SP 34x38/40x2 | D78: m2 | E78: 0.9 | H78: =ROUND(F78*G78,2) -> 0 | K78: =SUM(H78:J78) -> 0 | L78: =ROUND(E78*F78,2) -> 0 | M78: =ROUND(E78*H78,2) -> 0 | N78: =ROUND(E78*I78,2) -> 0 | O78: =ROUND(E78*J78,2) -> 0 | P78: =SUM(M78:O78) -> 0
A79: 62 | C79: Cokola renovācija | H79: =ROUND(F79*G79,2) -> 0 | K79: =SUM(H79:J79) -> 0 | L79: =ROUND(E79*F79,2) -> 0 | M79: =ROUND(E79*H79,2) -> 0 | N79: =ROUND(E79*I79,2) -> 0 | O79: =ROUND(E79*J79,2) -> 0 | P79: =SUM(M79:O79) -> 0
A80: 63 | C80: Atsegt cokola daļu pa perimetru un izvest būvgružus utilizācijai | D80: m | E80: 111 | H80: =ROUND(F80*G80,2) -> 0 | K80: =SUM(H80:J80) -> 0 | L80: =ROUND(E80*F80,2) -> 0 | M80: =ROUND(E80*H80,2) -> 0 | N80: =ROUND(E80*I80,2) -> 0 | O80: =ROUND(E80*J80,2) -> 0 | P80: =SUM(M80:O80) -> 0
A81: 64 | C81: Izkritušo laukakmeņu iemūrēšana ar (ekvil.Sakret) ZM / Cementa java vai ekvivalents | D81: m3 | E81: 4.8 | H81: =ROUND(F81*G81,2) -> 0 | K81: =SUM(H81:J81) -> 0 | L81: =ROUND(E81*F81,2) -> 0 | M81: =ROUND(E81*H81,2) -> 0 | N81: =ROUND(E81*I81,2) -> 0 | O81: =ROUND(E81*J81,2) -> 0 | P81: =SUM(M81:O81) -> 0
A82: 65 | C82: Šuvju rīrīšana un aizpildīšana ar (ekvil.Sakret) ZM / Cementa javu. Iztīrītās šuvēs mūris jāgruntē ar grunti ekvil.SAKRET QG. Vai ekvivalents | D82: m2 | E82: 116.55 | H82: =ROUND(F82*G82,2) -> 0 | K82: =SUM(H82:J82) -> 0 | L82: =ROUND(E82*F82,2) -> 0 | M82: =ROUND(E82*H82,2) -> 0 | N82: =ROUND(E82*I82,2) -> 0 | O82: =ROUND(E82*J82,2) -> 0 | P82: =SUM(M82:O82) -> 0
A83: 66 | C83: Siltināt pamatu sienu no iekšpuses ar Tenapors EXTRA b=100 uz izlīdzinošās (ekvil.Sakret) ZM / Cementa javas slāņa | D83: m2 | E83: 66.6 | H83: =ROUND(F83*G83,2) -> 0 | K83: =SUM(H83:J83) -> 0 | L83: =ROUND(E83*F83,2) -> 0 | M83: =ROUND(E83*H83,2) -> 0 | N83: =ROUND(E83*I83,2) -> 0 | O83: =ROUND(E83*J83,2) -> 0 | P83: =SUM(M83:O83) -> 0
A84: 67 | C84: Atjaunot atsegto cokola daļu | D84: m | E84: 111 | H84: =ROUND(F84*G84,2) -> 0 | K84: =SUM(H84:J84) -> 0 | L84: =ROUND(E84*F84,2) -> 0 | M84: =ROUND(E84*H84,2) -> 0 | N84: =ROUND(E84*I84,2) -> 0 | O84: =ROUND(E84*J84,2) -> 0 | P84: =SUM(M84:O84) -> 0
A86: Tiešās izmaksas kopā, t.sk. Darba dēvēja sociālais nodoklis (23,59%) | L86: =SUM(L18:L85) -> 0 | M86: =SUM(M18:M85) -> 0 | N86: =SUM(N18:N85) -> 0 | O86: =SUM(O18:O85) -> 0 | P86: =SUM(P18:P85) -> 0
A88: =KT!A23 -> Sastādīja: | D88: =KT!D23 -> 2024.gada __._________
A89: (paraksts un tā atšifrējums, datums)
A90: =KT!A25 -> Sertifikāta Nr.:
A92: =KT!A27 -> Pārbaudīja: | D92: =KT!D23 -> 2024.gada __._________
A93: (paraksts un tā atšifrējums, datums)
A94: =KT!A29 -> Sertifikāta Nr.:

Sheet 1,5
A2: Lokālā tāme Nr.1,5
A3: ='KA1'!C20 -> Starpsienas
A4: (būvdarbu veids vai konstruktīvā elementa nosaukums)
A6: Objekta nosaukums: | C6: =KT!B9 -> ĒKU ATJAUNOŠANA, PĀRBŪVE, NOJAUKŠANA UN TERITORIJAS LABIEKĀRTOŠANA I un II kārta
A7: Būves nosaukums: | C7: =KT!B10 -> Pirmsskolas izglītības iestāde
A8: Objekta adrese: | C8: =KT!B11 -> Dārtas iela 1, Cēsis, Cēsu novads
A9: Pasūtītājs: | C9: =KT!B12 -> Cēsu novada pašvaldība Raunas ielā 4, Cēsīs, Cēsu novadā, LV-4101; Reģ.Nr. 90000031048
A10: Būvuzņēmējs: | C10: =KT!B13 -> SIA
A12: Tāme sastādīta 2024. gada tirgus cenās, pamatojoties uz būvprojekta rasējumiem | M12: Tāmes izmaksas: | O12: =P67 -> 0 | P12: EUR
N13: Tāme sastādītā | O13: =KT!D23 -> 2024.gada __._________
A15: Nr.p.k. | B15: Kods | C15: Būvdarbu nosaukums | D15: Mērvienība | E15: Daudzums | F15: Vienības izmaksas | L15: Kopā uz visu apjomu
F16: Laika norma (c/h) | G16: Darba samaksas likme (euro/h) | H16: Darba alga | I16: Būvizstrādājumi | J16: Mehānismi | K16: KOPĀ | L16: Darbietilpība (c/h) | M16: Darba alga | N16: Būvizstrādājumi | O16: Mehānismi | P16: Summa
A18: 1 | C18: AS-1 | H18: =ROUND(F18*G18,2) -> 0 | K18: =SUM(H18:J18) -> 0 | L18: =ROUND(E18*F18,2) -> 0 | M18: =ROUND(E18*H18,2) -> 0 | N18: =ROUND(E18*I18,2) -> 0 | O18: =ROUND(E18*J18,2) -> 0 | P18: =SUM(M18:O18) -> 0
A19: 2 | C19: Montēt metala profilu karkasu 100mm, ieskaitot visus stiprinājumus un palīgmateriālus | D19: m2 | E19: 485 | H19: =ROUND(F19*G19,2) -> 0 | K19: =SUM(H19:J19) -> 0 | L19: =ROUND(E19*F19,2) -> 0 | M19: =ROUND(E19*H19,2) -> 0 | N19: =ROUND(E19*I19,2) -> 0 | O19: =ROUND(E19*J19,2) -> 0 | P19: =SUM(M19:O19) -> 0
A20: 3 | C20: Ieklāt akmens vates plāksnes Paroc Extra, d=100mm vai ekvivalents | D20: m2 | E20: 485 | H20: =ROUND(F20*G20,2) -> 0 | K20: =SUM(H20:J20) -> 0 | L20: =ROUND(E20*F20,2) -> 0 | M20: =ROUND(E20*H20,2) -> 0 | N20: =ROUND(E20*I20,2) -> 0 | O20: =ROUND(E20*J20,2) -> 0 | P20: =SUM(M20:O20) -> 0
A21: 4 | C21: Ieklāt tvaika barjeru Paroc XMV 020 bas Tvaika caurlaidība Sd /80 m( vai ekviv.) | D21: m2 | E21: 485 | H21: =ROUND(F21*G21,2) -> 0 | K21: =SUM(H21:J21) -> 0 | L21: =ROUND(E21*F21,2) -> 0 | M21: =ROUND(E21*H21,2) -> 0 | N21: =ROUND(E21*I21,2) -> 0 | O21: =ROUND(E21*J21,2) -> 0 | P21: =SUM(M21:O21) -> 0
A22: 5 | C22: Apšūt karkasu ar 12,5mm ģipškartona loksnēm divās kārtās, ieskaitot visus stiprinājumus un palīgmateriālus. Veikt šuvju špaktelēšanu | D22: m2 | E22: 970 | H22: =ROUND(F22*G22,2) -> 0 | K22: =SUM(H22:J22) -> 0 | L22: =ROUND(E22*F22,2) -> 0 | M22: =ROUND(E22*H22,2) -> 0 | N22: =ROUND(E22*I22,2) -> 0 | O22: =ROUND(E22*J22,2) -> 0 | P22: =SUM(M22:O22) -> 0
A23: 6 | C23: AS-2 | H23: =ROUND(F23*G23,2) -> 0 | K23: =SUM(H23:J23) -> 0 | L23: =ROUND(E23*F23,2) -> 0 | M23: =ROUND(E23*H23,2) -> 0 | N23: =ROUND(E23*I23,2) -> 0 | O23: =ROUND(E23*J23,2) -> 0 | P23: =SUM(M23:O23) -> 0
A24: 7 | C24: Montēt metala profilu karkasu 100mm, ieskaitot visus stiprinājumus un palīgmateriālus | D24: m2 | E24: 32 | H24: =ROUND(F24*G24,2) -> 0 | K24: =SUM(H24:J24) -> 0 | L24: =ROUND(E24*F24,2) -> 0 | M24: =ROUND(E24*H24,2) -> 0 | N24: =ROUND(E24*I24,2) -> 0 | O24: =ROUND(E24*J24,2) -> 0 | P24: =SUM(M24:O24) -> 0
A25: 8 | C25: Ieklāt akmens vates plāksnes Paroc Extra, d=100mm vai ekvivalents | D25: m2 | E25: 32 | H25: =ROUND(F25*G25,2) -> 0 | K25: =SUM(H25:J25) -> 0 | L25: =ROUND(E25*F25,2) -> 0 | M25: =ROUND(E25*H25,2) -> 0 | N25: =ROUND(E25*I25,2) -> 0 | O25: =ROUND(E25*J25,2) -> 0 | P25: =SUM(M25:O25) -> 0
A26: 9 | C26: Ieklāt tvaika barjeru Paroc XMV 020 bas Tvaika caurlaidība Sd /80 m( vai ekviv.) | D26: m2 | E26: 32 | H26: =ROUND(F26*G26,2) -> 0 | K26: =SUM(H26:J26) -> 0 | L26: =ROUND(E26*F26,2) -> 0 | M26: =ROUND(E26*H26,2) -> 0 | N26: =ROUND(E26*I26,2) -> 0 | O26: =ROUND(E26*J26,2) -> 0 | P26: =SUM(M26:O26) -> 0
A27: 10 | C27: Apšūt karkasu ar 12,5mm ģipškartona loksnēm divās kārtās, ieskaitot visus stiprinājumus un palīgmateriālus. Veikt šuvju špaktelēšanu | D27: m2 | E27: 64 | H27: =ROUND(F27*G27,2) -> 0 | K27: =SUM(H27:J27) -> 0 | L27: =ROUND(E27*F27,2) -> 0 | M27: =ROUND(E27*H27,2) -> 0 | N27: =ROUND(E27*I27,2) -> 0 | O27: =ROUND(E27*J27,2) -> 0 | P27: =SUM(M27:O27) -> 0
A28: 11 | C28: AS-3 | H28: =ROUND(F28*G28,2) -> 0 | K28: =SUM(H28:J28) -> 0 | L28: =ROUND(E28*F28,2) -> 0 | M28: =ROUND(E28*H28,2) -> 0 | N28: =ROUND(E28*I28,2) -> 0 | O28: =ROUND(E28*J28,2) -> 0 | P28: =SUM(M28:O28) -> 0
A29: 12 | C29: Mūrēt keramzītbetona bloku sienu 250mm biezumā uz mūrjavas kārtas. Stiegrot atbilstoši tehnoloģijai. Ieskaitot visus stiprinājumus un palīgmateriālus. | D29: m3 | E29: 19 | H29: =ROUND(F29*G29,2) -> 0 | K29: =SUM(H29:J29) -> 0 | L29: =ROUND(E29*F29,2) -> 0 | M29: =ROUND(E29*H29,2) -> 0 | N29: =ROUND(E29*I29,2) -> 0 | O29: =ROUND(E29*J29,2) -> 0 | P29: =SUM(M29:O29) -> 0
A30: 13 | C30: Apmest mūra sienu ar kaļķa-cementa apmetumu 25mm biezumā | D30: m2 | E30: 59 | H30: =ROUND(F30*G30,2) -> 0 | K30: =SUM(H30:J30) -> 0 | L30: =ROUND(E30*F30,2) -> 0 | M30: =ROUND(E30*H30,2) -> 0 | N30: =ROUND(E30*I30,2) -> 0 | O30: =ROUND(E30*J30,2) -> 0 | P30: =SUM(M30:O30) -> 0
A31: 14 | C31: IS-1 | H31: =ROUND(F31*G31,2) -> 0 | K31: =SUM(H31:J31) -> 0 | L31: =ROUND(E31*F31,2) -> 0 | M31: =ROUND(E31*H31,2) -> 0 | N31: =ROUND(E31*I31,2) -> 0 | O31: =ROUND(E31*J31,2) -> 0 | P31: =SUM(M31:O31) -> 0
A32: 15 | C32: Apmest mūra sienu ar kaļķa-cementa apmetumu 20mm biezumā | D32: m2 | E32: 30 | H32: =ROUND(F32*G32,2) -> 0 | K32: =SUM(H32:J32) -> 0 | L32: =ROUND(E32*F32,2) -> 0 | M32: =ROUND(E32*H32,2) -> 0 | N32: =ROUND(E32*I32,2) -> 0 | O32: =ROUND(E32*J32,2) -> 0 | P32: =SUM(M32:O32) -> 0
A33: 16 | C33: Mūrēt keramzītbetona bloku sienu 250mm biezumā uz mūrjavas kārtas. Stiegrot atbilstoši tehnoloģijai. Ieskaitot visus stiprinājumus un palīgmateriālus. | D33: m3 | E33: 7.5 | H33: =ROUND(F33*G33,2) -> 0 | K33: =SUM(H33:J33) -> 0 | L33: =ROUND(E33*F33,2) -> 0 | M33: =ROUND(E33*H33,2) -> 0 | N33: =ROUND(E33*I33,2) -> 0 | O33: =ROUND(E33*J33,2) -> 0 | P33: =SUM(M33:O33) -> 0
A34: 17 | C34: Apmest mūra sienu ar kaļķa-cementa apmetumu 20mm biezumā | D34: m2 | E34: 30 | H34: =ROUND(F34*G34,2) -> 0 | K34: =SUM(H34:J34) -> 0 | L34: =ROUND(E34*F34,2) -> 0 | M34: =ROUND(E34*H34,2) -> 0 | N34: =ROUND(E34*I34,2) -> 0 | O34: =ROUND(E34*J34,2) -> 0 | P34: =SUM(M34:O34) -> 0
A35: 18 | C35: IS-2 | H35: =ROUND(F35*G35,2) -> 0 | K35: =SUM(H35:J35) -> 0 | L35: =ROUND(E35*F35,2) -> 0 | M35: =ROUND(E35*H35,2) -> 0 | N35: =ROUND(E35*I35,2) -> 0 | O35: =ROUND(E35*J35,2) -> 0 | P35: =SUM(M35:O35) -> 0
A36: 19 | C36: Apšūt karkasu ar 12,5mm ģipškartona loksnēm divās kārtās, ieskaitot visus stiprinājumus un palīgmateriālus. Veikt šuvju špaktelēšanu | D36: m2 | E36: 90 | H36: =ROUND(F36*G36,2) -> 0 | K36: =SUM(H36:J36) -> 0 | L36: =ROUND(E36*F36,2) -> 0 | M36: =ROUND(E36*H36,2) -> 0 | N36: =ROUND(E36*I36,2) -> 0 | O36: =ROUND(E36*J36,2) -> 0 | P36: =SUM(M36:O36) -> 0
A37: 20 | C37: Montēt metala profilu karkasu 100mm, ieskaitot visus stiprinājumus un palīgmateriālus | D37: m2 | E37: 45 | H37: =ROUND(F37*G37,2) -> 0 | K37: =SUM(H37:J37) -> 0 | L37: =ROUND(E37*F37,2) -> 0 | M37: =ROUND(E37*H37,2) -> 0 | N37: =ROUND(E37*I37,2) -> 0 | O37: =ROUND(E37*J37,2) -> 0 | P37: =SUM(M37:O37) -> 0
A38: 21 | C38: Ieklāt skaņas izolāciju ( A klase) ekviv. Knauf TI 140 Decibel 100mm biezumā | D38: m2 | E38: 45 | H38: =ROUND(F38*G38,2) -> 0 | K38: =SUM(H38:J38) -> 0 | L38: =ROUND(E38*F38,2) -> 0 | M38: =ROUND(E38*H38,2) -> 0 | N38: =ROUND(E38*I38,2) -> 0 | O38: =ROUND(E38*J38,2) -> 0 | P38: =SUM(M38:O38) -> 0
A39: 22 | C39: Apšūt karkasu ar 12,5mm ģipškartona loksnēm divās kārtās, ieskaitot visus stiprinājumus un palīgmateriālus. Veikt šuvju špaktelēšanu | D39: m2 | E39: 90 | H39: =ROUND(F39*G39,2) -> 0 | K39: =SUM(H39:J39) -> 0 | L39: =ROUND(E39*F39,2) -> 0 | M39: =ROUND(E39*H39,2) -> 0 | N39: =ROUND(E39*I39,2) -> 0 | O39: =ROUND(E39*J39,2) -> 0 | P39: =SUM(M39:O39) -> 0
A40: 23 | C40: IS-3 | H40: =ROUND(F40*G40,2) -> 0 | K40: =SUM(H40:J40) -> 0 | L40: =ROUND(E40*F40,2) -> 0 | M40: =ROUND(E40*H40,2) -> 0 | N40: =ROUND(E40*I40,2) -> 0 | O40: =ROUND(E40*J40,2) -> 0 | P40: =SUM(M40:O40) -> 0
A41: 24 | C41: Apšūt karkasu ar GKBI 12,5mm ģipškartona loksnēm divās kārtās, ieskaitot visus stiprinājumus un palīgmateriālus. Veikt šuvju špaktelēšanu | D41: m2 | E41: 68 | H41: =ROUND(F41*G41,2) -> 0 | K41: =SUM(H41:J41) -> 0 | L41: =ROUND(E41*F41,2) -> 0 | M41: =ROUND(E41*H41,2) -> 0 | N41: =ROUND(E41*I41,2) -> 0 | O41: =ROUND(E41*J41,2) -> 0 | P41: =SUM(M41:O41) -> 0
A42: 25 | C42: Montēt metala profilu karkasu 100mm, ieskaitot visus stiprinājumus un palīgmateriālus | D42: m2 | E42: 34 | H42: =ROUND(F42*G42,2) -> 0 | K42: =SUM(H42:J42) -> 0 | L42: =ROUND(E42*F42,2) -> 0 | M42: =ROUND(E42*H42,2) -> 0 | N42: =ROUND(E42*I42,2) -> 0 | O42: =ROUND(E42*J42,2) -> 0 | P42: =SUM(M42:O42) -> 0
A43: 26 | C43: Ieklāt skaņas izolāciju ( A klase) ekviv. Knauf TI 140 Decibel 100mm biezumā | D43: m2 | E43: 34 | H43: =ROUND(F43*G43,2) -> 0 | K43: =SUM(H43:J43) -> 0 | L43: =ROUND(E43*F43,2) -> 0 | M43: =ROUND(E43*H43,2) -> 0 | N43: =ROUND(E43*I43,2) -> 0 | O43: =ROUND(E43*J43,2) -> 0 | P43: =SUM(M43:O43) -> 0
A44: 27 | C44: Apšūt karkasu ar GKB 12,5mm ģipškartona loksnēm divās kārtās, ieskaitot visus stiprinājumus un palīgmateriālus. Veikt šuvju špaktelēšanu | D44: m2 | E44: 68 | H44: =ROUND(F44*G44,2) -> 0 | K44: =SUM(H44:J44) -> 0 | L44: =ROUND(E44*F44,2) -> 0 | M44: =ROUND(E44*H44,2) -> 0 | N44: =ROUND(E44*I44,2) -> 0 | O44: =ROUND(E44*J44,2) -> 0 | P44: =SUM(M44:O44) -> 0
A45: 28 | C45: IS-4 | H45: =ROUND(F45*G45,2) -> 0 | K45: =SUM(H45:J45) -> 0 | L45: =ROUND(E45*F45,2) -> 0 | M45: =ROUND(E45*H45,2) -> 0 | N45: =ROUND(E45*I45,2) -> 0 | O45: =ROUND(E45*J45,2) -> 0 | P45: =SUM(M45:O45) -> 0
A46: 29 | C46: Apšūt karkasu ar GKBI 12,5mm ģipškartona loksnēm vienā kārtā, ieskaitot visus stiprinājumus un palīgmateriālus. Veikt šuvju špaktelēšanu | D46: m2 | E46: 20.5 | H46: =ROUND(F46*G46,2) -> 0 | K46: =SUM(H46:J46) -> 0 | L46: =ROUND(E46*F46,2) -> 0 | M46: =ROUND(E46*H46,2) -> 0 | N46: =ROUND(E46*I46,2) -> 0 | O46: =ROUND(E46*J46,2) -> 0 | P46: =SUM(M46:O46) -> 0
A47: 30 | C47: Montēt metala profilu karkasu 100mm, ieskaitot visus stiprinājumus un palīgmateriālus | D47: m2 | E47: 20.5 | H47: =ROUND(F47*G47,2) -> 0 | K47: =SUM(H47:J47) -> 0 | L47: =ROUND(E47*F47,2) -> 0 | M47: =ROUND(E47*H47,2) -> 0 | N47: =ROUND(E47*I47,2) -> 0 | O47: =ROUND(E47*J47,2) -> 0 | P47: =SUM(M47:O47) -> 0
A48: 31 | C48: Ieklāt skaņas izolāciju ( A klase) ekviv. Knauf TI 140 Decibel 50mm biezumā | D48: m2 | E48: 20.5 | H48: =ROUND(F48*G48,2) -> 0 | K48: =SUM(H48:J48) -> 0 | L48: =ROUND(E48*F48,2) -> 0 | M48: =ROUND(E48*H48,2) -> 0 | N48: =ROUND(E48*I48,2) -> 0 | O48: =ROUND(E48*J48,2) -> 0 | P48: =SUM(M48:O48) -> 0
A49: 32 | C49: IS-5 | H49: =ROUND(F49*G49,2) -> 0 | K49: =SUM(H49:J49) -> 0 | L49: =ROUND(E49*F49,2) -> 0 | M49: =ROUND(E49*H49,2) -> 0 | N49: =ROUND(E49*I49,2) -> 0 | O49: =ROUND(E49*J49,2) -> 0 | P49: =SUM(M49:O49) -> 0
A50: 33 | C50: Apšūt karkasu ar GKF 12,5mm ģipškartona loksnēm divās kārtās, ieskaitot visus stiprinājumus un palīgmateriālus. Veikt šuvju špaktelēšanu | D50: m2 | E50: 170 | H50: =ROUND(F50*G50,2) -> 0 | K50: =SUM(H50:J50) -> 0 | L50: =ROUND(E50*F50,2) -> 0 | M50: =ROUND(E50*H50,2) -> 0 | N50: =ROUND(E50*I50,2) -> 0 | O50: =ROUND(E50*J50,2) -> 0 | P50: =SUM(M50:O50) -> 0
A51: 34 | C51: Montēt metala profilu karkasu 100mm, ieskaitot visus stiprinājumus un palīgmateriālus | D51: m2 | E51: 85 | H51: =ROUND(F51*G51,2) -> 0 | K51: =SUM(H51:J51) -> 0 | L51: =ROUND(E51*F51,2) -> 0 | M51: =ROUND(E51*H51,2) -> 0 | N51: =ROUND(E51*I51,2) -> 0 | O51: =ROUND(E51*J51,2) -> 0 | P51: =SUM(M51:O51) -> 0
A52: 35 | C52: Ieklāt skaņas izolāciju ( A klase) ekviv. Knauf TI 140 Decibel 100mm biezumā | D52: m2 | E52: 85 | H52: =ROUND(F52*G52,2) -> 0 | K52: =SUM(H52:J52) -> 0 | L52: =ROUND(E52*F52,2) -> 0 | M52: =ROUND(E52*H52,2) -> 0 | N52: =ROUND(E52*I52,2) -> 0 | O52: =ROUND(E52*J52,2) -> 0 | P52: =SUM(M52:O52) -> 0
A53: 36 | C53: Apšūt karkasu ar GKF 12,5mm ģipškartona loksnēm divās kārtās, ieskaitot visus stiprinājumus un palīgmateriālus. Veikt šuvju špaktelēšanu | D53: m2 | E53: 170 | H53: =ROUND(F53*G53,2) -> 0 | K53: =SUM(H53:J53) -> 0 | L53: =ROUND(E53*F53,2) -> 0 | M53: =ROUND(E53*H53,2) -> 0 | N53: =ROUND(E53*I53,2) -> 0 | O53: =ROUND(E53*J53,2) -> 0 | P53: =SUM(M53:O53) -> 0
A54: 37 | C54: AS-6 | H54: =ROUND(F54*G54,2) -> 0 | K54: =SUM(H54:J54) -> 0 | L54: =ROUND(E54*F54,2) -> 0 | M54: =ROUND(E54*H54,2) -> 0 | N54: =ROUND(E54*I54,2) -> 0 | O54: =ROUND(E54*J54,2) -> 0 | P54: =SUM(M54:O54) -> 0
A55: 38 | C55: Atjaunot cementa smilšu apmetumu 40mm biezumā | D55: m2 | E55: 89.9 | H55: =ROUND(F55*G55,2) -> 0 | K55: =SUM(H55:J55) -> 0 | L55: =ROUND(E55*F55,2) -> 0 | M55: =ROUND(E55*H55,2) -> 0 | N55: =ROUND(E55*I55,2) -> 0 | O55: =ROUND(E55*J55,2) -> 0 | P55: =SUM(M55:O55) -> 0
A56: 39 | C56: Ieklāt hidroizolāciju "Penetron" divās kārtās vai ekvivalents | D56: m2 | E56: 89.9 | H56: =ROUND(F56*G56,2) -> 0 | K56: =SUM(H56:J56) -> 0 | L56: =ROUND(E56*F56,2) -> 0 | M56: =ROUND(E56*H56,2) -> 0 | N56: =ROUND(E56*I56,2) -> 0 | O56: =ROUND(E56*J56,2) -> 0 | P56: =SUM(M56:O56) -> 0
A57: 40 | C57: Mezgls 2 | H57: =ROUND(F57*G57,2) -> 0 | K57: =SUM(H57:J57) -> 0 | L57: =ROUND(E57*F57,2) -> 0 | M57: =ROUND(E57*H57,2) -> 0 | N57: =ROUND(E57*I57,2) -> 0 | O57: =ROUND(E57*J57,2) -> 0 | P57: =SUM(M57:O57) -> 0
A58: 41 | C58: Logailu apdare no ēkas iekšpuses un krāsošana | D58: m2 | E58: 225.5 | H58: =ROUND(F58*G58,2) -> 0 | K58: =SUM(H58:J58) -> 0 | L58: =ROUND(E58*F58,2) -> 0 | M58: =ROUND(E58*H58,2) -> 0 | N58: =ROUND(E58*I58,2) -> 0 | O58: =ROUND(E58*J58,2) -> 0 | P58: =SUM(M58:O58) -> 0
A59: 42 | C59: Bēniņu logu ailu un daļēji sienas apdare no iekšpuses ar cementa javas apmetumu | D59: m2 | E59: 20 | H59: =ROUND(F59*G59,2) -> 0 | K59: =SUM(H59:J59) -> 0 | L59: =ROUND(E59*F59,2) -> 0 | M59: =ROUND(E59*H59,2) -> 0 | N59: =ROUND(E59*I59,2) -> 0 | O59: =ROUND(E59*J59,2) -> 0 | P59: =SUM(M59:O59) -> 0
A60: 43 | C60: Cits | H60: =ROUND(F60*G60,2) -> 0 | K60: =SUM(H60:J60) -> 0 | L60: =ROUND(E60*F60,2) -> 0 | M60: =ROUND(E60*H60,2) -> 0 | N60: =ROUND(E60*I60,2) -> 0 | O60: =ROUND(E60*J60,2) -> 0 | P60: =SUM(M60:O60) -> 0
A61: 44 | C61: Pagraba ieejas izbūve loga vietā paplašinot aili | D61: m3 | E61: 1.2 | H61: =ROUND(F61*G61,2) -> 0 | K61: =SUM(H61:J61) -> 0 | L61: =ROUND(E61*F61,2) -> 0 | M61: =ROUND(E61*H61,2) -> 0 | N61: =ROUND(E61*I61,2) -> 0 | O61: =ROUND(E61*J61,2) -> 0 | P61: =SUM(M61:O61) -> 0
A62: 45 | C62: Pagraba vecās ieejas piemūrēšana, analogi esošai | D62: m3 | E62: 1.2 | H62: =ROUND(F62*G62,2) -> 0 | K62: =SUM(H62:J62) -> 0 | L62: =ROUND(E62*F62,2) -> 0 | M62: =ROUND(E62*H62,2) -> 0 | N62: =ROUND(E62*I62,2) -> 0 | O62: =ROUND(E62*J62,2) -> 0 | P62: =SUM(M62:O62) -> 0
A63: 46 | C63: Atvērumu aizmūrēšana cokola sienā | D63: m3 | E63: 1.9 | H63: =ROUND(F63*G63,2) -> 0 | K63: =SUM(H63:J63) -> 0 | L63: =ROUND(E63*F63,2) -> 0 | M63: =ROUND(E63*H63,2) -> 0 | N63: =ROUND(E63*I63,2) -> 0 | O63: =ROUND(E63*J63,2) -> 0 | P63: =SUM(M63:O63) -> 0
A64: 47 | C64: WC lamināta starpsienu alumīnija karkasā iebūve | D64: m2 | E64: 10 | H64: =ROUND(F64*G64,2) -> 0 | K64: =SUM(H64:J64) -> 0 | L64: =ROUND(E64*F64,2) -> 0 | M64: =ROUND(E64*H64,2) -> 0 | N64: =ROUND(E64*I64,2) -> 0 | O64: =ROUND(E64*J64,2) -> 0 | P64: =SUM(M64:O64) -> 0
A65: 48 | C65: WC lamināta alumīnija karkasa durvis 0.6x1.3m iebūve | D65: gb | E65: 6 | H65: =ROUND(F65*G65,2) -> 0 | K65: =SUM(H65:J65) -> 0 | L65: =ROUND(E65*F65,2) -> 0 | M65: =ROUND(E65*H65,2) -> 0 | N65: =ROUND(E65*I65,2) -> 0 | O65: =ROUND(E65*J65,2) -> 0 | P65: =SUM(M65:O65) -> 0
A67: Tiešās izmaksas kopā, t.sk. Darba dēvēja sociālais nodoklis (23,59%) | L67: =SUM(L18:L66) -> 0 | M67: =SUM(M18:M66) -> 0 | N67: =SUM(N18:N66) -> 0 | O67: =SUM(O18:O66) -> 0 | P67: =SUM(P18:P66) -> 0
A69: =KT!A23 -> Sastādīja: | D69: =KT!D23 -> 2024.gada __._________
A70: (paraksts un tā atšifrējums, datums)
A71: =KT!A25 -> Sertifikāta Nr.:
A73: =KT!A27 -> Pārbaudīja: | D73: =KT!D23 -> 2024.gada __._________
A74: (paraksts un tā atšifrējums, datums)
A75: =KT!A29 -> Sertifikāta Nr.:

Sheet 1,6
A2: Lokālā tāme Nr.1,6
A3: ='KA1'!C21 -> Grīdu pamatnes, segumi
A4: (būvdarbu veids vai konstruktīvā elementa nosaukums)
A6: Objekta nosaukums: | C6: =KT!B9 -> ĒKU ATJAUNOŠANA, PĀRBŪVE, NOJAUKŠANA UN TERITORIJAS LABIEKĀRTOŠANA I un II kārta
A7: Būves nosaukums: | C7: =KT!B10 -> Pirmsskolas izglītības iestāde
A8: Objekta adrese: | C8: =KT!B11 -> Dārtas iela 1, Cēsis, Cēsu novads
A9: Pasūtītājs: | C9: =KT!B12 -> Cēsu novada pašvaldība Raunas ielā 4, Cēsīs, Cēsu novadā, LV-4101; Reģ.Nr. 90000031048
A10: Būvuzņēmējs: | C10: =KT!B13 -> SIA
A12: Tāme sastādīta 2024. gada tirgus cenās, pamatojoties uz būvprojekta rasējumiem | M12: Tāmes izmaksas: | O12: =P93 -> 0 | P12: EUR
N13: Tāme sastādītā | O13: =KT!D23 -> 2024.gada __._________
A15: Nr.p.k. | B15: Kods | C15: Būvdarbu nosaukums | D15: Mērvienība | E15: Daudzums | F15: Vienības izmaksas | L15: Kopā uz visu apjomu
F16: Laika norma (c/h) | G16: Darba samaksas likme (euro/h) | H16: Darba alga | I16: Būvizstrādājumi | J16: Mehānismi | K16: KOPĀ | L16: Darbietilpība (c/h) | M16: Darba alga | N16: Būvizstrādājumi | O16: Mehānismi | P16: Summa
A18: 1 | C18: G-1 | H18: =ROUND(F18*G18,2) -> 0 | K18: =SUM(H18:J18) -> 0 | L18: =ROUND(E18*F18,2) -> 0 | M18: =ROUND(E18*H18,2) -> 0 | N18: =ROUND(E18*I18,2) -> 0 | O18: =ROUND(E18*J18,2) -> 0 | P18: =SUM(M18:O18) -> 0
A19: 2 | C19: Ieklāt betona klona grīdu 100mm biezumā, ieskaitot visus stiprinājumus un palīgmateriālus | D19: m2 | E19: 205.8 | H19: =ROUND(F19*G19,2) -> 0 | K19: =SUM(H19:J19) -> 0 | L19: =ROUND(E19*F19,2) -> 0 | M19: =ROUND(E19*H19,2) -> 0 | N19: =ROUND(E19*I19,2) -> 0 | O19: =ROUND(E19*J19,2) -> 0 | P19: =SUM(M19:O19) -> 0
A20: 3 | C20: Ieklāt hidroizolējošu slāni vai norobežojošu filtraudumu | D20: m2 | E20: 205.8 | H20: =ROUND(F20*G20,2) -> 0 | K20: =SUM(H20:J20) -> 0 | L20: =ROUND(E20*F20,2) -> 0 | M20: =ROUND(E20*H20,2) -> 0 | N20: =ROUND(E20*I20,2) -> 0 | O20: =ROUND(E20*J20,2) -> 0 | P20: =SUM(M20:O20) -> 0
A21: 4 | C21: Siltināt grīdu ar ekstrudētais putopolostirolu XPS l=0,037 W/m2 vai ekviv. 120mm biezumā | D21: m2 | E21: 205.8 | H21: =ROUND(F21*G21,2) -> 0 | K21: =SUM(H21:J21) -> 0 | L21: =ROUND(E21*F21,2) -> 0 | M21: =ROUND(E21*H21,2) -> 0 | N21: =ROUND(E21*I21,2) -> 0 | O21: =ROUND(E21*J21,2) -> 0 | P21: =SUM(M21:O21) -> 0
A22: 5 | C22: Ieklāt blietētu smilts kārtu 500mm biezumā Blietēta rupja smilts E > 45mPa | D22: m3 | E22: 102.9 | H22: =ROUND(F22*G22,2) -> 0 | K22: =SUM(H22:J22) -> 0 | L22: =ROUND(E22*F22,2) -> 0 | M22: =ROUND(E22*H22,2) -> 0 | N22: =ROUND(E22*I22,2) -> 0 | O22: =ROUND(E22*J22,2) -> 0 | P22: =SUM(M22:O22) -> 0
A23: 6 | C23: G-2 | H23: =ROUND(F23*G23,2) -> 0 | K23: =SUM(H23:J23) -> 0 | L23: =ROUND(E23*F23,2) -> 0 | M23: =ROUND(E23*H23,2) -> 0 | N23: =ROUND(E23*I23,2) -> 0 | O23: =ROUND(E23*J23,2) -> 0 | P23: =SUM(M23:O23) -> 0
A24: 7 | C24: Ieklāt grīdas hidroizolāciju ekviv. Sakret OAD Elastic | D24: m2 | E24: 41.7 | H24: =ROUND(F24*G24,2) -> 0 | K24: =SUM(H24:J24) -> 0 | L24: =ROUND(E24*F24,2) -> 0 | M24: =ROUND(E24*H24,2) -> 0 | N24: =ROUND(E24*I24,2) -> 0 | O24: =ROUND(E24*J24,2) -> 0 | P24: =SUM(M24:O24) -> 0
A25: 8 | C25: Gruntēt grīdu ar , ekviv. OAD Elastic Primer | D25: m2 | E25: 41.7 | H25: =ROUND(F25*G25,2) -> 0 | K25: =SUM(H25:J25) -> 0 | L25: =ROUND(E25*F25,2) -> 0 | M25: =ROUND(E25*H25,2) -> 0 | N25: =ROUND(E25*I25,2) -> 0 | O25: =ROUND(E25*J25,2) -> 0 | P25: =SUM(M25:O25) -> 0
A26: 9 | C26: Ieklāt betona klona grīdu 100mm biezumā, ieskaitot visus stiprinājumus un palīgmateriālus | D26: m2 | E26: 41.7 | H26: =ROUND(F26*G26,2) -> 0 | K26: =SUM(H26:J26) -> 0 | L26: =ROUND(E26*F26,2) -> 0 | M26: =ROUND(E26*H26,2) -> 0 | N26: =ROUND(E26*I26,2) -> 0 | O26: =ROUND(E26*J26,2) -> 0 | P26: =SUM(M26:O26) -> 0
A27: 10 | C27: Ieklāt hidroizolējošu slāni vai norobežojošu filtraudumu | D27: m2 | E27: 41.7 | H27: =ROUND(F27*G27,2) -> 0 | K27: =SUM(H27:J27) -> 0 | L27: =ROUND(E27*F27,2) -> 0 | M27: =ROUND(E27*H27,2) -> 0 | N27: =ROUND(E27*I27,2) -> 0 | O27: =ROUND(E27*J27,2) -> 0 | P27: =SUM(M27:O27) -> 0
A28: 11 | C28: Siltināt grīdu ar ekstrudētais putopolostirolu XPS l=0,037 W/m2 vai ekviv. 120mm biezumā | D28: m2 | E28: 41.7 | H28: =ROUND(F28*G28,2) -> 0 | K28: =SUM(H28:J28) -> 0 | L28: =ROUND(E28*F28,2) -> 0 | M28: =ROUND(E28*H28,2) -> 0 | N28: =ROUND(E28*I28,2) -> 0 | O28: =ROUND(E28*J28,2) -> 0 | P28: =SUM(M28:O28) -> 0
A29: 12 | C29: Ieklāt blietētu smilts kārtu 500mm biezumā Blietēta rupja smilts E > 45mPa | D29: m3 | E29: 20.85 | H29: =ROUND(F29*G29,2) -> 0 | K29: =SUM(H29:J29) -> 0 | L29: =ROUND(E29*F29,2) -> 0 | M29: =ROUND(E29*H29,2) -> 0 | N29: =ROUND(E29*I29,2) -> 0 | O29: =ROUND(E29*J29,2) -> 0 | P29: =SUM(M29:O29) -> 0
A30: 13 | C30: G-3 | H30: =ROUND(F30*G30,2) -> 0 | K30: =SUM(H30:J30) -> 0 | L30: =ROUND(E30*F30,2) -> 0 | M30: =ROUND(E30*H30,2) -> 0 | N30: =ROUND(E30*I30,2) -> 0 | O30: =ROUND(E30*J30,2) -> 0 | P30: =SUM(M30:O30) -> 0
A31: 14 | C31: Ieklāt stiegrotu grīdas izlīdzinošo slāni 80mm biezumā, ieskaitot visus stiprinājumus un palīgmateriālus | D31: m2 | E31: 89 | H31: =ROUND(F31*G31,2) -> 0 | K31: =SUM(H31:J31) -> 0 | L31: =ROUND(E31*F31,2) -> 0 | M31: =ROUND(E31*H31,2) -> 0 | N31: =ROUND(E31*I31,2) -> 0 | O31: =ROUND(E31*J31,2) -> 0 | P31: =SUM(M31:O31) -> 0
A32: 15 | C32: Ieklāt norobežojošu filtraudumu | D32: m2 | E32: 89 | H32: =ROUND(F32*G32,2) -> 0 | K32: =SUM(H32:J32) -> 0 | L32: =ROUND(E32*F32,2) -> 0 | M32: =ROUND(E32*H32,2) -> 0 | N32: =ROUND(E32*I32,2) -> 0 | O32: =ROUND(E32*J32,2) -> 0 | P32: =SUM(M32:O32) -> 0
A33: 16 | C33: Siltināt grīdu ar ekstrudētais putopolostirolu Paroc XES300 wj , b=150 mm vai ekvivalents | D33: m2 | E33: 89 | H33: =ROUND(F33*G33,2) -> 0 | K33: =SUM(H33:J33) -> 0 | L33: =ROUND(E33*F33,2) -> 0 | M33: =ROUND(E33*H33,2) -> 0 | N33: =ROUND(E33*I33,2) -> 0 | O33: =ROUND(E33*J33,2) -> 0 | P33: =SUM(M33:O33) -> 0
A34: 17 | C34: Ieklāt grīdas izlīdzinošo slāni ARDEX K60 60mm biezumā vai ekvivalents | D34: m2 | E34: 89 | H34: =ROUND(F34*G34,2) -> 0 | K34: =SUM(H34:J34) -> 0 | L34: =ROUND(E34*F34,2) -> 0 | M34: =ROUND(E34*H34,2) -> 0 | N34: =ROUND(E34*I34,2) -> 0 | O34: =ROUND(E34*J34,2) -> 0 | P34: =SUM(M34:O34) -> 0
A35: 18 | C35: G-4 | H35: =ROUND(F35*G35,2) -> 0 | K35: =SUM(H35:J35) -> 0 | L35: =ROUND(E35*F35,2) -> 0 | M35: =ROUND(E35*H35,2) -> 0 | N35: =ROUND(E35*I35,2) -> 0 | O35: =ROUND(E35*J35,2) -> 0 | P35: =SUM(M35:O35) -> 0
A36: 19 | C36: Ieklāt grīdas hidroizolāciju ekviv. Sakret OAD Elastic | D36: m2 | E36: 15.2 | H36: =ROUND(F36*G36,2) -> 0 | K36: =SUM(H36:J36) -> 0 | L36: =ROUND(E36*F36,2) -> 0 | M36: =ROUND(E36*H36,2) -> 0 | N36: =ROUND(E36*I36,2) -> 0 | O36: =ROUND(E36*J36,2) -> 0 | P36: =SUM(M36:O36) -> 0
A37: 20 | C37: Ieklāt stiegrotu grīdas izlīdzinošo slāni 80mm biezumā, ieskaitot visus stiprinājumus un palīgmateriālus | D37: m2 | E37: 15.2 | H37: =ROUND(F37*G37,2) -> 0 | K37: =SUM(H37:J37) -> 0 | L37: =ROUND(E37*F37,2) -> 0 | M37: =ROUND(E37*H37,2) -> 0 | N37: =ROUND(E37*I37,2) -> 0 | O37: =ROUND(E37*J37,2) -> 0 | P37: =SUM(M37:O37) -> 0
A38: 21 | C38: Ieklāt norobežojošu filtraudumu | D38: m2 | E38: 15.2 | H38: =ROUND(F38*G38,2) -> 0 | K38: =SUM(H38:J38) -> 0 | L38: =ROUND(E38*F38,2) -> 0 | M38: =ROUND(E38*H38,2) -> 0 | N38: =ROUND(E38*I38,2) -> 0 | O38: =ROUND(E38*J38,2) -> 0 | P38: =SUM(M38:O38) -> 0
A39: 22 | C39: Siltināt grīdu ar ekstrudētais putopolostirolu Paroc XES300 wj , b=150 mm vai ekvivalents | D39: m2 | E39: 15.2 | H39: =ROUND(F39*G39,2) -> 0 | K39: =SUM(H39:J39) -> 0 | L39: =ROUND(E39*F39,2) -> 0 | M39: =ROUND(E39*H39,2) -> 0 | N39: =ROUND(E39*I39,2) -> 0 | O39: =ROUND(E39*J39,2) -> 0 | P39: =SUM(M39:O39) -> 0
A40: 23 | C40: Ieklāt grīdas izlīdzinošo slāni ARDEX K60 60mm biezumā vai ekvivalents | D40: m2 | E40: 15.2 | H40: =ROUND(F40*G40,2) -> 0 | K40: =SUM(H40:J40) -> 0 | L40: =ROUND(E40*F40,2) -> 0 | M40: =ROUND(E40*H40,2) -> 0 | N40: =ROUND(E40*I40,2) -> 0 | O40: =ROUND(E40*J40,2) -> 0 | P40: =SUM(M40:O40) -> 0
A41: 24 | C41: G-5 | H41: =ROUND(F41*G41,2) -> 0 | K41: =SUM(H41:J41) -> 0 | L41: =ROUND(E41*F41,2) -> 0 | M41: =ROUND(E41*H41,2) -> 0 | N41: =ROUND(E41*I41,2) -> 0 | O41: =ROUND(E41*J41,2) -> 0 | P41: =SUM(M41:O41) -> 0
A42: 25 | C42: Ieklāt betona klona grīdu 80-100mm biezumā, ieskaitot visus stiprinājumus un palīgmateriālus | D42: m2 | E42: 18.5 | H42: =ROUND(F42*G42,2) -> 0 | K42: =SUM(H42:J42) -> 0 | L42: =ROUND(E42*F42,2) -> 0 | M42: =ROUND(E42*H42,2) -> 0 | N42: =ROUND(E42*I42,2) -> 0 | O42: =ROUND(E42*J42,2) -> 0 | P42: =SUM(M42:O42) -> 0
A43: 26 | C43: Ieklāt hidroizolējošu slāni vai norobežojošu filtraudumu | D43: m2 | E43: 18.5 | H43: =ROUND(F43*G43,2) -> 0 | K43: =SUM(H43:J43) -> 0 | L43: =ROUND(E43*F43,2) -> 0 | M43: =ROUND(E43*H43,2) -> 0 | N43: =ROUND(E43*I43,2) -> 0 | O43: =ROUND(E43*J43,2) -> 0 | P43: =SUM(M43:O43) -> 0
A44: 27 | C44: Siltināt grīdu ar ekstrudētais putopolostirolu XPS l=0,037 W/m2 vai ekviv. 120mm biezumā | D44: m2 | E44: 18.5 | H44: =ROUND(F44*G44,2) -> 0 | K44: =SUM(H44:J44) -> 0 | L44: =ROUND(E44*F44,2) -> 0 | M44: =ROUND(E44*H44,2) -> 0 | N44: =ROUND(E44*I44,2) -> 0 | O44: =ROUND(E44*J44,2) -> 0 | P44: =SUM(M44:O44) -> 0
A45: 28 | C45: Ieklāt blietētu smilts kārtu 500mm biezumā Blietēta rupja smilts E > 45mPa | D45: m3 | E45: 9.25 | H45: =ROUND(F45*G45,2) -> 0 | K45: =SUM(H45:J45) -> 0 | L45: =ROUND(E45*F45,2) -> 0 | M45: =ROUND(E45*H45,2) -> 0 | N45: =ROUND(E45*I45,2) -> 0 | O45: =ROUND(E45*J45,2) -> 0 | P45: =SUM(M45:O45) -> 0
A46: 29 | C46: G-6 | H46: =ROUND(F46*G46,2) -> 0 | K46: =SUM(H46:J46) -> 0 | L46: =ROUND(E46*F46,2) -> 0 | M46: =ROUND(E46*H46,2) -> 0 | N46: =ROUND(E46*I46,2) -> 0 | O46: =ROUND(E46*J46,2) -> 0 | P46: =SUM(M46:O46) -> 0
A47: 30 | C47: Ieklāt grīdas hidroizolāciju ekviv. Sakret OAD Elastic | D47: m2 | E47: 13.2 | H47: =ROUND(F47*G47,2) -> 0 | K47: =SUM(H47:J47) -> 0 | L47: =ROUND(E47*F47,2) -> 0 | M47: =ROUND(E47*H47,2) -> 0 | N47: =ROUND(E47*I47,2) -> 0 | O47: =ROUND(E47*J47,2) -> 0 | P47: =SUM(M47:O47) -> 0
A48: 31 | C48: Gruntēt grīdu ar , ekviv. OAD Elastic Primer | D48: m2 | E48: 13.2 | H48: =ROUND(F48*G48,2) -> 0 | K48: =SUM(H48:J48) -> 0 | L48: =ROUND(E48*F48,2) -> 0 | M48: =ROUND(E48*H48,2) -> 0 | N48: =ROUND(E48*I48,2) -> 0 | O48: =ROUND(E48*J48,2) -> 0 | P48: =SUM(M48:O48) -> 0
A49: 32 | C49: Ieklāt betona klona grīdu 100mm biezumā, ieskaitot visus stiprinājumus un palīgmateriālus | D49: m2 | E49: 13.2 | H49: =ROUND(F49*G49,2) -> 0 | K49: =SUM(H49:J49) -> 0 | L49: =ROUND(E49*F49,2) -> 0 | M49: =ROUND(E49*H49,2) -> 0 | N49: =ROUND(E49*I49,2) -> 0 | O49: =ROUND(E49*J49,2) -> 0 | P49: =SUM(M49:O49) -> 0
A50: 33 | C50: Ieklāt hidroizolējošu slāni vai norobežojošu filtraudumu | D50: m2 | E50: 13.2 | H50: =ROUND(F50*G50,2) -> 0 | K50: =SUM(H50:J50) -> 0 | L50: =ROUND(E50*F50,2) -> 0 | M50: =ROUND(E50*H50,2) -> 0 | N50: =ROUND(E50*I50,2) -> 0 | O50: =ROUND(E50*J50,2) -> 0 | P50: =SUM(M50:O50) -> 0
A51: 34 | C51: Siltināt grīdu ar ekstrudētais putopolostirolu XPS l=0,037 W/m2 vai ekviv. 120mm biezumā | D51: m2 | E51: 13.2 | H51: =ROUND(F51*G51,2) -> 0 | K51: =SUM(H51:J51) -> 0 | L51: =ROUND(E51*F51,2) -> 0 | M51: =ROUND(E51*H51,2) -> 0 | N51: =ROUND(E51*I51,2) -> 0 | O51: =ROUND(E51*J51,2) -> 0 | P51: =SUM(M51:O51) -> 0
A52: 35 | C52: Ieklāt blietētu smilts kārtu 500mm biezumā Blietēta rupja smilts E > 45mPa | D52: m3 | E52: 6.6 | H52: =ROUND(F52*G52,2) -> 0 | K52: =SUM(H52:J52) -> 0 | L52: =ROUND(E52*F52,2) -> 0 | M52: =ROUND(E52*H52,2) -> 0 | N52: =ROUND(E52*I52,2) -> 0 | O52: =ROUND(E52*J52,2) -> 0 | P52: =SUM(M52:O52) -> 0
A53: 36 | C53: G-7 | H53: =ROUND(F53*G53,2) -> 0 | K53: =SUM(H53:J53) -> 0 | L53: =ROUND(E53*F53,2) -> 0 | M53: =ROUND(E53*H53,2) -> 0 | N53: =ROUND(E53*I53,2) -> 0 | O53: =ROUND(E53*J53,2) -> 0 | P53: =SUM(M53:O53) -> 0
A54: 37 | C54: Krāsot grīdu ar poliuretāna krāsu divās kārtās - pelēka | D54: m2 | E54: 91.7 | H54: =ROUND(F54*G54,2) -> 0 | K54: =SUM(H54:J54) -> 0 | L54: =ROUND(E54*F54,2) -> 0 | M54: =ROUND(E54*H54,2) -> 0 | N54: =ROUND(E54*I54,2) -> 0 | O54: =ROUND(E54*J54,2) -> 0 | P54: =SUM(M54:O54) -> 0
A55: 38 | C55: Gruntēt grīdu ar divkomponenta poliuretānu TU-10 divās kārtās vai ekvivalents | D55: m2 | E55: 91.7 | H55: =ROUND(F55*G55,2) -> 0 | K55: =SUM(H55:J55) -> 0 | L55: =ROUND(E55*F55,2) -> 0 | M55: =ROUND(E55*H55,2) -> 0 | N55: =ROUND(E55*I55,2) -> 0 | O55: =ROUND(E55*J55,2) -> 0 | P55: =SUM(M55:O55) -> 0
A56: 39 | C56: Attīrīt esošo betona grīdu | D56: m2 | E56: 91.7 | H56: =ROUND(F56*G56,2) -> 0 | K56: =SUM(H56:J56) -> 0 | L56: =ROUND(E56*F56,2) -> 0 | M56: =ROUND(E56*H56,2) -> 0 | N56: =ROUND(E56*I56,2) -> 0 | O56: =ROUND(E56*J56,2) -> 0 | P56: =SUM(M56:O56) -> 0
A57: 40 | C57: G-8 | H57: =ROUND(F57*G57,2) -> 0 | K57: =SUM(H57:J57) -> 0 | L57: =ROUND(E57*F57,2) -> 0 | M57: =ROUND(E57*H57,2) -> 0 | N57: =ROUND(E57*I57,2) -> 0 | O57: =ROUND(E57*J57,2) -> 0 | P57: =SUM(M57:O57) -> 0
A58: 41 | C58: Ieklāt grīdas materiālu Brio 23 WF (KNAUF) vai ekvivalents, ieskaitot visus stiprinājumus un palīgmateriālus | D58: m2 | E58: 313.4 | H58: =ROUND(F58*G58,2) -> 0 | K58: =SUM(H58:J58) -> 0 | L58: =ROUND(E58*F58,2) -> 0 | M58: =ROUND(E58*H58,2) -> 0 | N58: =ROUND(E58*I58,2) -> 0 | O58: =ROUND(E58*J58,2) -> 0 | P58: =SUM(M58:O58) -> 0
A59: 42 | C59: Ieklāt Cement Board Floor MF ( AR RWR 58 dB) 10-50mm vai ekvivalents, ieskaitot visus stiprinājumus un palīgmateriālus | D59: m2 | E59: 313.4 | H59: =ROUND(F59*G59,2) -> 0 | K59: =SUM(H59:J59) -> 0 | L59: =ROUND(E59*F59,2) -> 0 | M59: =ROUND(E59*H59,2) -> 0 | N59: =ROUND(E59*I59,2) -> 0 | O59: =ROUND(E59*J59,2) -> 0 | P59: =SUM(M59:O59) -> 0
A60: 43 | C60: Labot esošo griestu apmetumu (30%) 25mm | D60: m2 | E60: 94.02 | H60: =ROUND(F60*G60,2) -> 0 | K60: =SUM(H60:J60) -> 0 | L60: =ROUND(E60*F60,2) -> 0 | M60: =ROUND(E60*H60,2) -> 0 | N60: =ROUND(E60*I60,2) -> 0 | O60: =ROUND(E60*J60,2) -> 0 | P60: =SUM(M60:O60) -> 0
A61: 44 | C61: G-9 | H61: =ROUND(F61*G61,2) -> 0 | K61: =SUM(H61:J61) -> 0 | L61: =ROUND(E61*F61,2) -> 0 | M61: =ROUND(E61*H61,2) -> 0 | N61: =ROUND(E61*I61,2) -> 0 | O61: =ROUND(E61*J61,2) -> 0 | P61: =SUM(M61:O61) -> 0
A62: 45 | C62: Ieklāt grīdas hidroizolāciju ekviv. Sakret OAD Elastic | D62: m2 | E62: 57.7 | H62: =ROUND(F62*G62,2) -> 0 | K62: =SUM(H62:J62) -> 0 | L62: =ROUND(E62*F62,2) -> 0 | M62: =ROUND(E62*H62,2) -> 0 | N62: =ROUND(E62*I62,2) -> 0 | O62: =ROUND(E62*J62,2) -> 0 | P62: =SUM(M62:O62) -> 0
A63: 46 | C63: Ieklāt grīdas materiālu Brio 23 WF (KNAUF) vai ekvivalents, ieskaitot visus stiprinājumus un palīgmateriālus | D63: m2 | E63: 57.7 | H63: =ROUND(F63*G63,2) -> 0 | K63: =SUM(H63:J63) -> 0 | L63: =ROUND(E63*F63,2) -> 0 | M63: =ROUND(E63*H63,2) -> 0 | N63: =ROUND(E63*I63,2) -> 0 | O63: =ROUND(E63*J63,2) -> 0 | P63: =SUM(M63:O63) -> 0
A64: 47 | C64: Ieklāt Cement Board Floor MF ( AR RWR 58 dB) 10-50mm vai ekvivalents, ieskaitot visus stiprinājumus un palīgmateriālus | D64: m2 | E64: 57.7 | H64: =ROUND(F64*G64,2) -> 0 | K64: =SUM(H64:J64) -> 0 | L64: =ROUND(E64*F64,2) -> 0 | M64: =ROUND(E64*H64,2) -> 0 | N64: =ROUND(E64*I64,2) -> 0 | O64: =ROUND(E64*J64,2) -> 0 | P64: =SUM(M64:O64) -> 0
A65: 48 | C65: Labot esošo griestu apmetumu (30%) 25mm | D65: m2 | E65: 17.31 | H65: =ROUND(F65*G65,2) -> 0 | K65: =SUM(H65:J65) -> 0 | L65: =ROUND(E65*F65,2) -> 0 | M65: =ROUND(E65*H65,2) -> 0 | N65: =ROUND(E65*I65,2) -> 0 | O65: =ROUND(E65*J65,2) -> 0 | P65: =SUM(M65:O65) -> 0
A66: 49 | C66: G-10 | H66: =ROUND(F66*G66,2) -> 0 | K66: =SUM(H66:J66) -> 0 | L66: =ROUND(E66*F66,2) -> 0 | M66: =ROUND(E66*H66,2) -> 0 | N66: =ROUND(E66*I66,2) -> 0 | O66: =ROUND(E66*J66,2) -> 0 | P66: =SUM(M66:O66) -> 0
A67: 50 | C67: Ieklāt betona klona grīdu 50mm biezumā, ieskaitot visus stiprinājumus un palīgmateriālus | D67: m2 | E67: 17.5 | H67: =ROUND(F67*G67,2) -> 0 | K67: =SUM(H67:J67) -> 0 | L67: =ROUND(E67*F67,2) -> 0 | M67: =ROUND(E67*H67,2) -> 0 | N67: =ROUND(E67*I67,2) -> 0 | O67: =ROUND(E67*J67,2) -> 0 | P67: =SUM(M67:O67) -> 0
A68: 51 | C68: Ieklāt grīdas skaņas izolāciju Paroc SSB-1 vai ekvivalents 20mm | D68: m2 | E68: 17.5 | H68: =ROUND(F68*G68,2) -> 0 | K68: =SUM(H68:J68) -> 0 | L68: =ROUND(E68*F68,2) -> 0 | M68: =ROUND(E68*H68,2) -> 0 | N68: =ROUND(E68*I68,2) -> 0 | O68: =ROUND(E68*J68,2) -> 0 | P68: =SUM(M68:O68) -> 0
A69: 52 | C69: G-11 | H69: =ROUND(F69*G69,2) -> 0 | K69: =SUM(H69:J69) -> 0 | L69: =ROUND(E69*F69,2) -> 0 | M69: =ROUND(E69*H69,2) -> 0 | N69: =ROUND(E69*I69,2) -> 0 | O69: =ROUND(E69*J69,2) -> 0 | P69: =SUM(M69:O69) -> 0
A70: 53 | C70: Ieklāt grīdas materiālu Brio 23 WF (KNAUF) vai ekvivalents, ieskaitot visus stiprinājumus un palīgmateriālus | D70: m2 | E70: 95 | H70: =ROUND(F70*G70,2) -> 0 | K70: =SUM(H70:J70) -> 0 | L70: =ROUND(E70*F70,2) -> 0 | M70: =ROUND(E70*H70,2) -> 0 | N70: =ROUND(E70*I70,2) -> 0 | O70: =ROUND(E70*J70,2) -> 0 | P70: =SUM(M70:O70) -> 0
A71: 54 | C71: Ieklāt grīdas plāksnes OSB plātne b=18 mm vai ekvivalents, ieskaitot visus stiprinājumus un palīgmateriālus | D71: m2 | E71: 95 | H71: =ROUND(F71*G71,2) -> 0 | K71: =SUM(H71:J71) -> 0 | L71: =ROUND(E71*F71,2) -> 0 | M71: =ROUND(E71*H71,2) -> 0 | N71: =ROUND(E71*I71,2) -> 0 | O71: =ROUND(E71*J71,2) -> 0 | P71: =SUM(M71:O71) -> 0
A72: 55 | C72: Montēt koka sijas 50x150mm, ieskaitot visus stiprinājumus un palīgmateriālus | D72: m2 | E72: 95 | H72: =ROUND(F72*G72,2) -> 0 | K72: =SUM(H72:J72) -> 0 | L72: =ROUND(E72*F72,2) -> 0 | M72: =ROUND(E72*H72,2) -> 0 | N72: =ROUND(E72*I72,2) -> 0 | O72: =ROUND(E72*J72,2) -> 0 | P72: =SUM(M72:O72) -> 0
A73: 56 | C73: Siltināt pārsegumu ar EKO vati 300mm vai ekvivalents | D73: m2 | E73: 95 | H73: =ROUND(F73*G73,2) -> 0 | K73: =SUM(H73:J73) -> 0 | L73: =ROUND(E73*F73,2) -> 0 | M73: =ROUND(E73*H73,2) -> 0 | N73: =ROUND(E73*I73,2) -> 0 | O73: =ROUND(E73*J73,2) -> 0 | P73: =SUM(M73:O73) -> 0
A74: 57 | C74: G-12 | H74: =ROUND(F74*G74,2) -> 0 | K74: =SUM(H74:J74) -> 0 | L74: =ROUND(E74*F74,2) -> 0 | M74: =ROUND(E74*H74,2) -> 0 | N74: =ROUND(E74*I74,2) -> 0 | O74: =ROUND(E74*J74,2) -> 0 | P74: =SUM(M74:O74) -> 0
A75: 58 | C75: Montēt koka dēļus 22mm biezumā, ieskaitot visus stiprinājumus un palīgmateriālus | D75: m2 | E75: 60 | H75: =ROUND(F75*G75,2) -> 0 | K75: =SUM(H75:J75) -> 0 | L75: =ROUND(E75*F75,2) -> 0 | M75: =ROUND(E75*H75,2) -> 0 | N75: =ROUND(E75*I75,2) -> 0 | O75: =ROUND(E75*J75,2) -> 0 | P75: =SUM(M75:O75) -> 0
A76: 59 | C76: Montēt koka sijas 50x150mm, ieskaitot visus stiprinājumus un palīgmateriālus | D76: m2 | E76: 60 | H76: =ROUND(F76*G76,2) -> 0 | K76: =SUM(H76:J76) -> 0 | L76: =ROUND(E76*F76,2) -> 0 | M76: =ROUND(E76*H76,2) -> 0 | N76: =ROUND(E76*I76,2) -> 0 | O76: =ROUND(E76*J76,2) -> 0 | P76: =SUM(M76:O76) -> 0
A77: 60 | C77: Siltināt pārsegumu ar EKO vati 300mm vai ekvivalents | D77: m2 | E77: 60 | H77: =ROUND(F77*G77,2) -> 0 | K77: =SUM(H77:J77) -> 0 | L77: =ROUND(E77*F77,2) -> 0 | M77: =ROUND(E77*H77,2) -> 0 | N77: =ROUND(E77*I77,2) -> 0 | O77: =ROUND(E77*J77,2) -> 0 | P77: =SUM(M77:O77) -> 0
A78: 61 | C78: Atjaunot griestu apmetuma apdari 50mm | D78: m2 | E78: 60 | H78: =ROUND(F78*G78,2) -> 0 | K78: =SUM(H78:J78) -> 0 | L78: =ROUND(E78*F78,2) -> 0 | M78: =ROUND(E78*H78,2) -> 0 | N78: =ROUND(E78*I78,2) -> 0 | O78: =ROUND(E78*J78,2) -> 0 | P78: =SUM(M78:O78) -> 0
A79: 62 | C79: Grīdas apdare | H79: =ROUND(F79*G79,2) -> 0 | K79: =SUM(H79:J79) -> 0 | L79: =ROUND(E79*F79,2) -> 0 | M79: =ROUND(E79*H79,2) -> 0 | N79: =ROUND(E79*I79,2) -> 0 | O79: =ROUND(E79*J79,2) -> 0 | P79: =SUM(M79:O79) -> 0
A80: 63 | C80: 1.stāvs | H80: =ROUND(F80*G80,2) -> 0 | K80: =SUM(H80:J80) -> 0 | L80: =ROUND(E80*F80,2) -> 0 | M80: =ROUND(E80*H80,2) -> 0 | N80: =ROUND(E80*I80,2) -> 0 | O80: =ROUND(E80*J80,2) -> 0 | P80: =SUM(M80:O80) -> 0
A81: 64 | C81: Ieklāt linoleja grīdas segumu uz līmjavas kārtas, ieskaitot visus stiprinājumus un palīgmateriālus Dabīgā linoleja grīdas segums akustiskais Forbo Marmoleum b=3.5mm vai ekviv. Skaņas izolācija £18 dB .Linoleja seguma nodilumizturības klase33/ 34, pretslīdes klase R9 ( DIN 51130), ugunsreakcija Cfl - s1( EN 13501-1). | D81: m2 | E81: 193 | H81: =ROUND(F81*G81,2) -> 0 | K81: =SUM(H81:J81) -> 0 | L81: =ROUND(E81*F81,2) -> 0 | M81: =ROUND(E81*H81,2) -> 0 | N81: =ROUND(E81*I81,2) -> 0 | O81: =ROUND(E81*J81,2) -> 0 | P81: =SUM(M81:O81) -> 0
A82: 65 | C82: Ieklāt linoleja grīdas segumu uz līmjavas kārtas, ieskaitot visus stiprinājumus un palīgmateriālus Dabīgā linoleja grīdas segums Forbo Marmoleum b=2.5mm vai ekviv. Linoleja seguma nodilumizturības klase 43, pretslīdes klase R9( DIN 51130), ugunsreakcija Cfl-s1 (13501-1). | D82: m2 | E82: 120.2 | H82: =ROUND(F82*G82,2) -> 0 | K82: =SUM(H82:J82) -> 0 | L82: =ROUND(E82*F82,2) -> 0 | M82: =ROUND(E82*H82,2) -> 0 | N82: =ROUND(E82*I82,2) -> 0 | O82: =ROUND(E82*J82,2) -> 0 | P82: =SUM(M82:O82) -> 0
A83: 66 | C83: Ieklāt flīžu segumu uz līmjavas kārtas un šuves aizpildīt ar šuvotāju, ieskaitot visus stiprinājumus un palīgmateriālus. Keramikas grīdas flīzes (neglazētas)jāatbilst A1 grupai ( LVS EN 14411:2013), nodilumizturības klase PEI 3 ( EN 102) un pretslīdes koeficients R10. | D83: m2 | E83: 52.1 | H83: =ROUND(F83*G83,2) -> 0 | K83: =SUM(H83:J83) -> 0 | L83: =ROUND(E83*F83,2) -> 0 | M83: =ROUND(E83*H83,2) -> 0 | N83: =ROUND(E83*I83,2) -> 0 | O83: =ROUND(E83*J83,2) -> 0 | P83: =SUM(M83:O83) -> 0
A84: 67 | C84: Ieklāt grīdlīstes, ieskaitot visus stiprinājumus un palīgmateriālus. Grīdlīste no koka h=60 mm lakota | D84: m | E84: 201 | H84: =ROUND(F84*G84,2) -> 0 | K84: =SUM(H84:J84) -> 0 | L84: =ROUND(E84*F84,2) -> 0 | M84: =ROUND(E84*H84,2) -> 0 | N84: =ROUND(E84*I84,2) -> 0 | O84: =ROUND(E84*J84,2) -> 0 | P84: =SUM(M84:O84) -> 0
A85: 68 | C85: 2.stāvs | H85: =ROUND(F85*G85,2) -> 0 | K85: =SUM(H85:J85) -> 0 | L85: =ROUND(E85*F85,2) -> 0 | M85: =ROUND(E85*H85,2) -> 0 | N85: =ROUND(E85*I85,2) -> 0 | O85: =ROUND(E85*J85,2) -> 0 | P85: =SUM(M85:O85) -> 0
A86: 69 | C86: Ieklāt linoleja grīdas segumu uz līmjavas kārtas, ieskaitot visus stiprinājumus un palīgmateriālus Dabīgā linoleja grīdas segums akustiskais Forbo Marmoleum b=3.5mm vai ekviv. Skaņas izolācija £18 dB .Linoleja seguma nodilumizturības klase33/ 34, pretslīdes klase R9 ( DIN 51130), ugunsreakcija Cfl - s1( EN 13501-1). | D86: m2 | E86: 193 | H86: =ROUND(F86*G86,2) -> 0 | K86: =SUM(H86:J86) -> 0 | L86: =ROUND(E86*F86,2) -> 0 | M86: =ROUND(E86*H86,2) -> 0 | N86: =ROUND(E86*I86,2) -> 0 | O86: =ROUND(E86*J86,2) -> 0 | P86: =SUM(M86:O86) -> 0
A87: 70 | C87: Ieklāt linoleja grīdas segumu uz līmjavas kārtas, ieskaitot visus stiprinājumus un palīgmateriālus Dabīgā linoleja grīdas segums Forbo Marmoleum b=2.5mm vai ekviv. Linoleja seguma nodilumizturības klase 43, pretslīdes klase R9( DIN 51130), ugunsreakcija Cfl-s1 (13501-1). | D87: m2 | E87: 137.9 | H87: =ROUND(F87*G87,2) -> 0 | K87: =SUM(H87:J87) -> 0 | L87: =ROUND(E87*F87,2) -> 0 | M87: =ROUND(E87*H87,2) -> 0 | N87: =ROUND(E87*I87,2) -> 0 | O87: =ROUND(E87*J87,2) -> 0 | P87: =SUM(M87:O87) -> 0
A88: 71 | C88: Ieklāt flīžu segumu uz līmjavas kārtas un šuves aizpildīt ar šuvotāju, ieskaitot visus stiprinājumus un palīgmateriālus. Keramikas grīdas flīzes (neglazētas)jāatbilst A1 grupai ( LVS EN 14411:2013), nodilumizturības klase PEI 3 ( EN 102) un pretslīdes koeficients R10. | D88: m2 | E88: 59.6 | H88: =ROUND(F88*G88,2) -> 0 | K88: =SUM(H88:J88) -> 0 | L88: =ROUND(E88*F88,2) -> 0 | M88: =ROUND(E88*H88,2) -> 0 | N88: =ROUND(E88*I88,2) -> 0 | O88: =ROUND(E88*J88,2) -> 0 | P88: =SUM(M88:O88) -> 0
A89: 72 | C89: Ieklāt grīdlīstes, ieskaitot visus stiprinājumus un palīgmateriālus. Grīdlīste no koka h=60 mm lakota | D89: m | E89: 244.1 | H89: =ROUND(F89*G89,2) -> 0 | K89: =SUM(H89:J89) -> 0 | L89: =ROUND(E89*F89,2) -> 0 | M89: =ROUND(E89*H89,2) -> 0 | N89: =ROUND(E89*I89,2) -> 0 | O89: =ROUND(E89*J89,2) -> 0 | P89: =SUM(M89:O89) -> 0
A90: 73 | C90: Cits | H90: =ROUND(F90*G90,2) -> 0 | K90: =SUM(H90:J90) -> 0 | L90: =ROUND(E90*F90,2) -> 0 | M90: =ROUND(E90*H90,2) -> 0 | N90: =ROUND(E90*I90,2) -> 0 | O90: =ROUND(E90*J90,2) -> 0 | P90: =SUM(M90:O90) -> 0
A91: 74 | C91: Bēniņos veidot no mitrumizturīgā OSB 18, kastes h=0.5m esošo atvērunu pa ēkas ārsienu saglabāšanai | D91: m2 | E91: 12 | H91: =ROUND(F91*G91,2) -> 0 | K91: =SUM(H91:J91) -> 0 | L91: =ROUND(E91*F91,2) -> 0 | M91: =ROUND(E91*H91,2) -> 0 | N91: =ROUND(E91*I91,2) -> 0 | O91: =ROUND(E91*J91,2) -> 0 | P91: =SUM(M91:O91) -> 0
A93: Tiešās izmaksas kopā, t.sk. Darba dēvēja sociālais nodoklis (23,59%) | L93: =SUM(L18:L92) -> 0 | M93: =SUM(M18:M92) -> 0 | N93: =SUM(N18:N92) -> 0 | O93: =SUM(O18:O92) -> 0 | P93: =SUM(P18:P92) -> 0
A95: =KT!A23 -> Sastādīja: | D95: =KT!D23 -> 2024.gada __._________
A96: (paraksts un tā atšifrējums, datums)
A97: =KT!A25 -> Sertifikāta Nr.:
A99: =KT!A27 -> Pārbaudīja: | D99: =KT!D23 -> 2024.gada __._________
A100: (paraksts un tā atšifrējums, datums)
A101: =KT!A29 -> Sertifikāta Nr.:

Sheet 1,7
A2: Lokālā tāme Nr.1,7
A3: ='KA1'!C22 -> Jumti, segumi
A4: (būvdarbu veids vai konstruktīvā elementa nosaukums)
A6: Objekta nosaukums: | C6: =KT!B9 -> ĒKU ATJAUNOŠANA, PĀRBŪVE, NOJAUKŠANA UN TERITORIJAS LABIEKĀRTOŠANA I un II kārta
A7: Būves nosaukums: | C7: =KT!B10 -> Pirmsskolas izglītības iestāde
A8: Objekta adrese: | C8: =KT!B11 -> Dārtas iela 1, Cēsis, Cēsu novads
A9: Pasūtītājs: | C9: =KT!B12 -> Cēsu novada pašvaldība Raunas ielā 4, Cēsīs, Cēsu novadā, LV-4101; Reģ.Nr. 90000031048
A10: Būvuzņēmējs: | C10: =KT!B13 -> SIA
A12: Tāme sastādīta 2024. gada tirgus cenās, pamatojoties uz būvprojekta rasējumiem | M12: Tāmes izmaksas: | O12: =P46 -> 0 | P12: EUR
N13: Tāme sastādītā | O13: =KT!D23 -> 2024.gada __._________
A15: Nr.p.k. | B15: Kods | C15: Būvdarbu nosaukums | D15: Mērvienība | E15: Daudzums | F15: Vienības izmaksas | L15: Kopā uz visu apjomu
F16: Laika norma (c/h) | G16: Darba samaksas likme (euro/h) | H16: Darba alga | I16: Būvizstrādājumi | J16: Mehānismi | K16: KOPĀ | L16: Darbietilpība (c/h) | M16: Darba alga | N16: Būvizstrādājumi | O16: Mehānismi | P16: Summa
A18: 1 | C18: Jumta segums | H18: =ROUND(F18*G18,2) -> 0 | K18: =SUM(H18:J18) -> 0 | L18: =ROUND(E18*F18,2) -> 0 | M18: =ROUND(E18*H18,2) -> 0 | N18: =ROUND(E18*I18,2) -> 0 | O18: =ROUND(E18*J18,2) -> 0 | P18: =SUM(M18:O18) -> 0
A19: 2 | C19: Ieklāt metāla jumta segumu, ieskaitot visus stiprinājumus un palīgmateriālus Metāla profilloksnes "Ruuki" Classic C 50 Plus Matt; t =0,6 mm vai ekvivalents | D19: m2 | E19: 660 | H19: =ROUND(F19*G19,2) -> 0 | K19: =SUM(H19:J19) -> 0 | L19: =ROUND(E19*F19,2) -> 0 | M19: =ROUND(E19*H19,2) -> 0 | N19: =ROUND(E19*I19,2) -> 0 | O19: =ROUND(E19*J19,2) -> 0 | P19: =SUM(M19:O19) -> 0
A20: 3 | C20: Stiprināt latojumu 32x100mm ar soli 250mm, ieskaitot visus stiprinājumus un palīgmateriālus | D20: m2 | E20: 660 | H20: =ROUND(F20*G20,2) -> 0 | K20: =SUM(H20:J20) -> 0 | L20: =ROUND(E20*F20,2) -> 0 | M20: =ROUND(E20*H20,2) -> 0 | N20: =ROUND(E20*I20,2) -> 0 | O20: =ROUND(E20*J20,2) -> 0 | P20: =SUM(M20:O20) -> 0
A21: 4 | C21: Stiprināt latojumu 32x100mm, ieskaitot visus stiprinājumus un palīgmateriālus | D21: m2 | E21: 660 | H21: =ROUND(F21*G21,2) -> 0 | K21: =SUM(H21:J21) -> 0 | L21: =ROUND(E21*F21,2) -> 0 | M21: =ROUND(E21*H21,2) -> 0 | N21: =ROUND(E21*I21,2) -> 0 | O21: =ROUND(E21*J21,2) -> 0 | P21: =SUM(M21:O21) -> 0
A22: 5 | C22: Ieklāt difūzijas membrānu 3 slāņu 100% polipropilēns, sd= 0.04m | D22: m2 | E22: 660 | H22: =ROUND(F22*G22,2) -> 0 | K22: =SUM(H22:J22) -> 0 | L22: =ROUND(E22*F22,2) -> 0 | M22: =ROUND(E22*H22,2) -> 0 | N22: =ROUND(E22*I22,2) -> 0 | O22: =ROUND(E22*J22,2) -> 0 | P22: =SUM(M22:O22) -> 0
A23: 6 | C23: Papilddarbi | H23: =ROUND(F23*G23,2) -> 0 | K23: =SUM(H23:J23) -> 0 | L23: =ROUND(E23*F23,2) -> 0 | M23: =ROUND(E23*H23,2) -> 0 | N23: =ROUND(E23*I23,2) -> 0 | O23: =ROUND(E23*J23,2) -> 0 | P23: =SUM(M23:O23) -> 0
A24: 7 | C24: Montēt skārda notekrenes d150mm, ieskaitot visus stiprinājumus un palīgmateriālus | D24: m | E24: 65 | H24: =ROUND(F24*G24,2) -> 0 | K24: =SUM(H24:J24) -> 0 | L24: =ROUND(E24*F24,2) -> 0 | M24: =ROUND(E24*H24,2) -> 0 | N24: =ROUND(E24*I24,2) -> 0 | O24: =ROUND(E24*J24,2) -> 0 | P24: =SUM(M24:O24) -> 0
A25: 8 | C25: Montēt skārda notekcaurules d125mm, ieskaitot visus stiprinājumus un palīgmateriālus | D25: m | E25: 79.5 | H25: =ROUND(F25*G25,2) -> 0 | K25: =SUM(H25:J25) -> 0 | L25: =ROUND(E25*F25,2) -> 0 | M25: =ROUND(E25*H25,2) -> 0 | N25: =ROUND(E25*I25,2) -> 0 | O25: =ROUND(E25*J25,2) -> 0 | P25: =SUM(M25:O25) -> 0
A26: 9 | C26: Montēt sniega barjera Classic jumta profīlam (l-3000mm), ieskaitot visus stiprinājumus un palīgmateriālus | D26: m | E26: 60 | H26: =ROUND(F26*G26,2) -> 0 | K26: =SUM(H26:J26) -> 0 | L26: =ROUND(E26*F26,2) -> 0 | M26: =ROUND(E26*H26,2) -> 0 | N26: =ROUND(E26*I26,2) -> 0 | O26: =ROUND(E26*J26,2) -> 0 | P26: =SUM(M26:O26) -> 0
A27: 10 | C27: Montēt jumta lūku 0,6x0,8mm neapkurināmām telpām, ieskaitot visus stiprinājumus un palīgmateriālus | D27: gb | E27: 1 | H27: =ROUND(F27*G27,2) -> 0 | K27: =SUM(H27:J27) -> 0 | L27: =ROUND(E27*F27,2) -> 0 | M27: =ROUND(E27*H27,2) -> 0 | N27: =ROUND(E27*I27,2) -> 0 | O27: =ROUND(E27*J27,2) -> 0 | P27: =SUM(M27:O27) -> 0
A28: 11 | C28: Montēt metāla kāpnes 0,6m uz jumta lūku( h=3,20*), ieskaitot visus stiprinājumus un palīgmateriālus | D28: gb | E28: 1 | H28: =ROUND(F28*G28,2) -> 0 | K28: =SUM(H28:J28) -> 0 | L28: =ROUND(E28*F28,2) -> 0 | M28: =ROUND(E28*H28,2) -> 0 | N28: =ROUND(E28*I28,2) -> 0 | O28: =ROUND(E28*J28,2) -> 0 | P28: =SUM(M28:O28) -> 0
A29: 12 | C29: Montēt jumta laipu 0.35x3.0m, ieskaitot visus stiprinājumus un palīgmateriālus | D29: m | E29: 24 | H29: =ROUND(F29*G29,2) -> 0 | K29: =SUM(H29:J29) -> 0 | L29: =ROUND(E29*F29,2) -> 0 | M29: =ROUND(E29*H29,2) -> 0 | N29: =ROUND(E29*I29,2) -> 0 | O29: =ROUND(E29*J29,2) -> 0 | P29: =SUM(M29:O29) -> 0
A30: 13 | C30: Montēt skārda cepuri, ieskaitot visus stiprinājumus un palīgmateriālus Skārda cepure (1950x800x200*(h)mm) | D30: gb | E30: 2 | H30: =ROUND(F30*G30,2) -> 0 | K30: =SUM(H30:J30) -> 0 | L30: =ROUND(E30*F30,2) -> 0 | M30: =ROUND(E30*H30,2) -> 0 | N30: =ROUND(E30*I30,2) -> 0 | O30: =ROUND(E30*J30,2) -> 0 | P30: =SUM(M30:O30) -> 0
A31: 14 | C31: Montēt skārda cepuri, ieskaitot visus stiprinājumus un palīgmateriālus Skārda cepure (600x600x200*(h)mm) | D31: gb | E31: 20 | H31: =ROUND(F31*G31,2) -> 0 | K31: =SUM(H31:J31) -> 0 | L31: =ROUND(E31*F31,2) -> 0 | M31: =ROUND(E31*H31,2) -> 0 | N31: =ROUND(E31*I31,2) -> 0 | O31: =ROUND(E31*J31,2) -> 0 | P31: =SUM(M31:O31) -> 0
A32: 15 | C32: Montēt skārda cepuri, ieskaitot visus stiprinājumus un palīgmateriālus Skārda cepure ( 700x700x200*(h)mm) | D32: gb | E32: 1 | H32: =ROUND(F32*G32,2) -> 0 | K32: =SUM(H32:J32) -> 0 | L32: =ROUND(E32*F32,2) -> 0 | M32: =ROUND(E32*H32,2) -> 0 | N32: =ROUND(E32*I32,2) -> 0 | O32: =ROUND(E32*J32,2) -> 0 | P32: =SUM(M32:O32) -> 0
A33: 16 | C33: Montēt skārda kori, ieskaitot visus stiprinājumus un palīgmateriālus | D33: m | E33: 77.24 | H33: =ROUND(F33*G33,2) -> 0 | K33: =SUM(H33:J33) -> 0 | L33: =ROUND(E33*F33,2) -> 0 | M33: =ROUND(E33*H33,2) -> 0 | N33: =ROUND(E33*I33,2) -> 0 | O33: =ROUND(E33*J33,2) -> 0 | P33: =SUM(M33:O33) -> 0
A34: 17 | C34: Montēt skārda satekni, ieskaitot visus stiprinājumus un palīgmateriālus | D34: m | E34: 43.35 | H34: =ROUND(F34*G34,2) -> 0 | K34: =SUM(H34:J34) -> 0 | L34: =ROUND(E34*F34,2) -> 0 | M34: =ROUND(E34*H34,2) -> 0 | N34: =ROUND(E34*I34,2) -> 0 | O34: =ROUND(E34*J34,2) -> 0 | P34: =SUM(M34:O34) -> 0
A35: 18 | C35: Mezgls M-4 | H35: =ROUND(F35*G35,2) -> 0 | K35: =SUM(H35:J35) -> 0 | L35: =ROUND(E35*F35,2) -> 0 | M35: =ROUND(E35*H35,2) -> 0 | N35: =ROUND(E35*I35,2) -> 0 | O35: =ROUND(E35*J35,2) -> 0 | P35: =SUM(M35:O35) -> 0
A36: 19 | C36: Montēt skārda lāseni t=0.5 mm, l=150 mm, ieskaitot visus stiprinājumus un palīgmateriālus | D36: m | E36: 102.74 | H36: =ROUND(F36*G36,2) -> 0 | K36: =SUM(H36:J36) -> 0 | L36: =ROUND(E36*F36,2) -> 0 | M36: =ROUND(E36*H36,2) -> 0 | N36: =ROUND(E36*I36,2) -> 0 | O36: =ROUND(E36*J36,2) -> 0 | P36: =SUM(M36:O36) -> 0
A37: 20 | C37: Mezgls M-5 | H37: =ROUND(F37*G37,2) -> 0 | K37: =SUM(H37:J37) -> 0 | L37: =ROUND(E37*F37,2) -> 0 | M37: =ROUND(E37*H37,2) -> 0 | N37: =ROUND(E37*I37,2) -> 0 | O37: =ROUND(E37*J37,2) -> 0 | P37: =SUM(M37:O37) -> 0
A38: 21 | C38: Montēt skārda lāseni t=0.5 mm, l=150 mm, ieskaitot visus stiprinājumus un palīgmateriālus | D38: m | E38: 16.26 | H38: =ROUND(F38*G38,2) -> 0 | K38: =SUM(H38:J38) -> 0 | L38: =ROUND(E38*F38,2) -> 0 | M38: =ROUND(E38*H38,2) -> 0 | N38: =ROUND(E38*I38,2) -> 0 | O38: =ROUND(E38*J38,2) -> 0 | P38: =SUM(M38:O38) -> 0
A39: 22 | C39: Ieklāt hidroizolāciju | D39: m | E39: 16.26 | H39: =ROUND(F39*G39,2) -> 0 | K39: =SUM(H39:J39) -> 0 | L39: =ROUND(E39*F39,2) -> 0 | M39: =ROUND(E39*H39,2) -> 0 | N39: =ROUND(E39*I39,2) -> 0 | O39: =ROUND(E39*J39,2) -> 0 | P39: =SUM(M39:O39) -> 0
A40: 23 | C40: Stiprināt pretinsektu sietu | D40: m | E40: 16.26 | H40: =ROUND(F40*G40,2) -> 0 | K40: =SUM(H40:J40) -> 0 | L40: =ROUND(E40*F40,2) -> 0 | M40: =ROUND(E40*H40,2) -> 0 | N40: =ROUND(E40*I40,2) -> 0 | O40: =ROUND(E40*J40,2) -> 0 | P40: =SUM(M40:O40) -> 0
A41: 24 | C41: Stiprināt vējdēli 25x150mm, ieskaitot visus stiprinājumus un palīgmateriālus | D41: m | E41: 16.26 | H41: =ROUND(F41*G41,2) -> 0 | K41: =SUM(H41:J41) -> 0 | L41: =ROUND(E41*F41,2) -> 0 | M41: =ROUND(E41*H41,2) -> 0 | N41: =ROUND(E41*I41,2) -> 0 | O41: =ROUND(E41*J41,2) -> 0 | P41: =SUM(M41:O41) -> 0
A42: 25 | C42: Stiprināt krāsotus apdares dēļus 22x120mm, ieskaitot visus stiprinājumus un palīgmateriālus | D42: m2 | E42: 8.13 | H42: =ROUND(F42*G42,2) -> 0 | K42: =SUM(H42:J42) -> 0 | L42: =ROUND(E42*F42,2) -> 0 | M42: =ROUND(E42*H42,2) -> 0 | N42: =ROUND(E42*I42,2) -> 0 | O42: =ROUND(E42*J42,2) -> 0 | P42: =SUM(M42:O42) -> 0
A43: 26 | C43: Cits | H43: =ROUND(F43*G43,2) -> 0 | K43: =SUM(H43:J43) -> 0 | L43: =ROUND(E43*F43,2) -> 0 | M43: =ROUND(E43*H43,2) -> 0 | N43: =ROUND(E43*I43,2) -> 0 | O43: =ROUND(E43*J43,2) -> 0 | P43: =SUM(M43:O43) -> 0
A44: 27 | C44: Esošo dūmeņu ar vēdkanāliem bojāto galu pārmūrēšana un atjaunošana | D44: m3 | E44: 4.2 | H44: =ROUND(F44*G44,2) -> 0 | K44: =SUM(H44:J44) -> 0 | L44: =ROUND(E44*F44,2) -> 0 | M44: =ROUND(E44*H44,2) -> 0 | N44: =ROUND(E44*I44,2) -> 0 | O44: =ROUND(E44*J44,2) -> 0 | P44: =SUM(M44:O44) -> 0
A46: Tiešās izmaksas kopā, t.sk. Darba dēvēja sociālais nodoklis (23,59%) | L46: =SUM(L18:L45) -> 0 | M46: =SUM(M18:M45) -> 0 | N46: =SUM(N18:N45) -> 0 | O46: =SUM(O18:O45) -> 0 | P46: =SUM(P18:P45) -> 0
A48: =KT!A23 -> Sastādīja: | D48: =KT!D23 -> 2024.gada __._________
A49: (paraksts un tā atšifrējums, datums)
A50: =KT!A25 -> Sertifikāta Nr.:
A52: =KT!A27 -> Pārbaudīja: | D52: =KT!D23 -> 2024.gada __._________
A53: (paraksts un tā atšifrējums, datums)
A54: =KT!A29 -> Sertifikāta Nr.:

Sheet 1,8
A2: Lokālā tāme Nr.1,8
A3: ='KA1'!C23 -> Aiļu aizpildījumu elementi, speciālo konstrukciju fasādes
A4: (būvdarbu veids vai konstruktīvā elementa nosaukums)
A6: Objekta nosaukums: | C6: =KT!B9 -> ĒKU ATJAUNOŠANA, PĀRBŪVE, NOJAUKŠANA UN TERITORIJAS LABIEKĀRTOŠANA I un II kārta
A7: Būves nosaukums: | C7: =KT!B10 -> Pirmsskolas izglītības iestāde
A8: Objekta adrese: | C8: =KT!B11 -> Dārtas iela 1, Cēsis, Cēsu novads
A9: Pasūtītājs: | C9: =KT!B12 -> Cēsu novada pašvaldība Raunas ielā 4, Cēsīs, Cēsu novadā, LV-4101; Reģ.Nr. 90000031048
A10: Būvuzņēmējs: | C10: =KT!B13 -> SIA
A12: Tāme sastādīta 2024. gada tirgus cenās, pamatojoties uz būvprojekta rasējumiem | M12: Tāmes izmaksas: | O12: =P52 -> 0 | P12: EUR
N13: Tāme sastādītā | O13: =KT!D23 -> 2024.gada __._________
A15: Nr.p.k. | B15: Kods | C15: Būvdarbu nosaukums | D15: Mērvienība | E15: Daudzums | F15: Vienības izmaksas | L15: Kopā uz visu apjomu
F16: Laika norma (c/h) | G16: Darba samaksas likme (euro/h) | H16: Darba alga | I16: Būvizstrādājumi | J16: Mehānismi | K16: KOPĀ | L16: Darbietilpība (c/h) | M16: Darba alga | N16: Būvizstrādājumi | O16: Mehānismi | P16: Summa
A18: 1 | C18: Logi | H18: =ROUND(F18*G18,2) -> 0 | K18: =SUM(H18:J18) -> 0 | L18: =ROUND(E18*F18,2) -> 0 | M18: =ROUND(E18*H18,2) -> 0 | N18: =ROUND(E18*I18,2) -> 0 | O18: =ROUND(E18*J18,2) -> 0 | P18: =SUM(M18:O18) -> 0
A19: 2 | C19: Montēt logu L-1 1200x1800mm, ieskaitot visus palīgmateriālus un stiprinājumus. PVC logi, ar trīs stiklu paketi; Logu siltumcaurlaidība U≤1.0 W/(m²K) 4 vēršanās veidi (horizontāli, vertikāli un "ziemas vēdināšana"); Loga rāmja tonis - " Ozols" | D19: gb | E19: 45 | H19: =ROUND(F19*G19,2) -> 0 | K19: =SUM(H19:J19) -> 0 | L19: =ROUND(E19*F19,2) -> 0 | M19: =ROUND(E19*H19,2) -> 0 | N19: =ROUND(E19*I19,2) -> 0 | O19: =ROUND(E19*J19,2) -> 0 | P19: =SUM(M19:O19) -> 0
A20: 3 | C20: Montēt logu L-2 520x1820mm, ieskaitot visus palīgmateriālus un stiprinājumus. PVC logi, ar trīs stiklu paketi; Logu siltumcaurlaidība U≤1.0 W/(m²xK) 4 vēršanās veidi (horizontāli, vertikāli un "ziemas vēdināšana"); Loga rāmja tonis - " Ozols" | D20: gb | E20: 2 | H20: =ROUND(F20*G20,2) -> 0 | K20: =SUM(H20:J20) -> 0 | L20: =ROUND(E20*F20,2) -> 0 | M20: =ROUND(E20*H20,2) -> 0 | N20: =ROUND(E20*I20,2) -> 0 | O20: =ROUND(E20*J20,2) -> 0 | P20: =SUM(M20:O20) -> 0
A21: 4 | C21: Montēt logu L-3 520x1500mm, ieskaitot visus palīgmateriālus un stiprinājumus. PVC logi, ar trīs stiklu paketi; Logu siltumcaurlaidība U≤1.0 W/(m²xK) 4 vēršanās veidi Loga rāmja tonis - " Ozols" | D21: gb | E21: 2 | H21: =ROUND(F21*G21,2) -> 0 | K21: =SUM(H21:J21) -> 0 | L21: =ROUND(E21*F21,2) -> 0 | M21: =ROUND(E21*H21,2) -> 0 | N21: =ROUND(E21*I21,2) -> 0 | O21: =ROUND(E21*J21,2) -> 0 | P21: =SUM(M21:O21) -> 0
A22: 5 | C22: Montēt logu L-4v 1100x900mm, ieskaitot visus palīgmateriālus un stiprinājumus. PVC logi, ar trīs stiklu pakete, neverams; siltumcaurlaidība U≤1.0 W/(m²xK) v - loga rāmī gaisa pieplūdes vārsts Aereco E-EMM 5-35 vai ekvivalents | D22: gb | E22: 1 | H22: =ROUND(F22*G22,2) -> 0 | K22: =SUM(H22:J22) -> 0 | L22: =ROUND(E22*F22,2) -> 0 | M22: =ROUND(E22*H22,2) -> 0 | N22: =ROUND(E22*I22,2) -> 0 | O22: =ROUND(E22*J22,2) -> 0 | P22: =SUM(M22:O22) -> 0
A23: 6 | C23: Montēt logu L-5 1000x900mm, ieskaitot visus palīgmateriālus un stiprinājumus. PVC logi, ar trīs stiklu pakete; verams; siltumcaurlaidība U≤1.0 W/(m²xK) Loga rāmja tonis - analogs esošam | D23: gb | E23: 1 | H23: =ROUND(F23*G23,2) -> 0 | K23: =SUM(H23:J23) -> 0 | L23: =ROUND(E23*F23,2) -> 0 | M23: =ROUND(E23*H23,2) -> 0 | N23: =ROUND(E23*I23,2) -> 0 | O23: =ROUND(E23*J23,2) -> 0 | P23: =SUM(M23:O23) -> 0
A24: 7 | C24: Montēt logu L-6 1100x1000mm, ieskaitot visus palīgmateriālus un stiprinājumus. PVC logi, ar trīs stiklu pakete; verams; siltumcaurlaidība U≤1.0 W/(m²xK) Loga rāmja tonis - " Ozols" | D24: gb | E24: 1 | H24: =ROUND(F24*G24,2) -> 0 | K24: =SUM(H24:J24) -> 0 | L24: =ROUND(E24*F24,2) -> 0 | M24: =ROUND(E24*H24,2) -> 0 | N24: =ROUND(E24*I24,2) -> 0 | O24: =ROUND(E24*J24,2) -> 0 | P24: =SUM(M24:O24) -> 0
A25: 8 | C25: Montēt logu L-6v 1100x1000mm, ieskaitot visus palīgmateriālus un stiprinājumus. v - loga rāmī gaisa pieplūdes vārsts Aereco E-EMM 5-35 vai ekvivalents | D25: gb | E25: 2 | H25: =ROUND(F25*G25,2) -> 0 | K25: =SUM(H25:J25) -> 0 | L25: =ROUND(E25*F25,2) -> 0 | M25: =ROUND(E25*H25,2) -> 0 | N25: =ROUND(E25*I25,2) -> 0 | O25: =ROUND(E25*J25,2) -> 0 | P25: =SUM(M25:O25) -> 0
A26: 9 | C26: Montēt logu L-7 1100x1600mm, ieskaitot visus palīgmateriālus un stiprinājumus. PVC logs - neverams, vitrīna, ar trīs stiklu paketi; siltumcaurlaidība U:S1 .1 W/m2 K Loga rāmja tonis - " Ozols" | D26: gb | E26: 6 | H26: =ROUND(F26*G26,2) -> 0 | K26: =SUM(H26:J26) -> 0 | L26: =ROUND(E26*F26,2) -> 0 | M26: =ROUND(E26*H26,2) -> 0 | N26: =ROUND(E26*I26,2) -> 0 | O26: =ROUND(E26*J26,2) -> 0 | P26: =SUM(M26:O26) -> 0
A27: 10 | C27: Montēt logu L-8 1100x1600mm, ieskaitot visus palīgmateriālus un stiprinājumus. PVC logs - verams, vitrīna, ar trrs stiklu paketi; Logu siltumcaurlaidīb a U:S 1.0 W/m2 K; Loga rāmja tonis - " Ozols" | D27: gb | E27: 3 | H27: =ROUND(F27*G27,2) -> 0 | K27: =SUM(H27:J27) -> 0 | L27: =ROUND(E27*F27,2) -> 0 | M27: =ROUND(E27*H27,2) -> 0 | N27: =ROUND(E27*I27,2) -> 0 | O27: =ROUND(E27*J27,2) -> 0 | P27: =SUM(M27:O27) -> 0
A28: 11 | C28: Montēt logu L-9 400x1200mm, ieskaitot visus palīgmateriālus un stiprinājumus. PVC logi, never ami Loga rāmja tonis - " Ozols" | D28: gb | E28: 9 | H28: =ROUND(F28*G28,2) -> 0 | K28: =SUM(H28:J28) -> 0 | L28: =ROUND(E28*F28,2) -> 0 | M28: =ROUND(E28*H28,2) -> 0 | N28: =ROUND(E28*I28,2) -> 0 | O28: =ROUND(E28*J28,2) -> 0 | P28: =SUM(M28:O28) -> 0
A29: 12 | C29: Montēt logu L-10 400x1200mm, ieskaitot visus palīgmateriālus un stiprinājumus. Rāmja tonis - Ozola ar koka tekstūru | D29: gb | E29: 2 | H29: =ROUND(F29*G29,2) -> 0 | K29: =SUM(H29:J29) -> 0 | L29: =ROUND(E29*F29,2) -> 0 | M29: =ROUND(E29*H29,2) -> 0 | N29: =ROUND(E29*I29,2) -> 0 | O29: =ROUND(E29*J29,2) -> 0 | P29: =SUM(M29:O29) -> 0
A30: 13 | C30: Montēt logu BL 600x600mm, ieskaitot visus palīgmateriālus un stiprinājumus. Siltināta lūka uz beniņiem siltumcaurlaidība U::o 1.8 W/(m2 x KI aprīkota ar ar izvelkamām kāpnem ("Rota" vai ekviv .) | D30: gb | E30: 1 | H30: =ROUND(F30*G30,2) -> 0 | K30: =SUM(H30:J30) -> 0 | L30: =ROUND(E30*F30,2) -> 0 | M30: =ROUND(E30*H30,2) -> 0 | N30: =ROUND(E30*I30,2) -> 0 | O30: =ROUND(E30*J30,2) -> 0 | P30: =SUM(M30:O30) -> 0
... A35: 18 | C35: Uzstādīt ārējo skārda palodzi, ieskaitot visus stiprinājumus un palīgmateriālus. | D35: m | E35: 78.18 | H35: =ROUND(F35*G35,2) -> 0 | K35: =SUM(H35:J35) -> 0 | L35: =ROUND(E35*F35,2) -> 0 | M35: =ROUND(E35*H35,2) -> 0 | N35: =ROUND(E35*I35,2) -> 0 | O35: =ROUND(E35*J35,2) -> 0 | P35: =SUM(M35:O35) -> 0
A36: 19 | C36: Ārdurvis | H36: =ROUND(F36*G36,2) -> 0 | K36: =SUM(H36:J36) -> 0 | L36: =ROUND(E36*F36,2) -> 0 | M36: =ROUND(E36*H36,2) -> 0 | N36: =ROUND(E36*I36,2) -> 0 | O36: =ROUND(E36*J36,2) -> 0 | P36: =SUM(M36:O36) -> 0
A37: 20 | C37: Montēt durvis ĀD-1 1200x2100mm, ieskaitot visus palīgmateriālus un stiprinājumus. Koka ,ar stikla vitrīnu virs durvīm, ar trīs stiklu paketi siltumcaurlaidība U£1.8 W/m²K Labā vērtne Aprīkotas ar slēdzeni, slieksni - 20 mm Krāsas tonis " Ozols " Ārdurvu faktūra analoga esošām | D37: gb | E37: 1 | H37: =ROUND(F37*G37,2) -> 0 | K37: =SUM(H37:J37) -> 0 | L37: =ROUND(E37*F37,2) -> 0 | M37: =ROUND(E37*H37,2) -> 0 | N37: =ROUND(E37*I37,2) -> 0 | O37: =ROUND(E37*J37,2) -> 0 | P37: =SUM(M37:O37) -> 0
A38: 21 | C38: Montēt durvis ĀD-2 1500x2400mm, ieskaitot visus palīgmateriālus un stiprinājumus. Evakuācijas durvis Koka ar stiklojumu Virs durvīm koka bloks ar stikla vitrīnu Siltumcaurlaidība U£1.8 W/m²K Ar evakuācijas aprīkojumu DIN EN 179 ar rokturi val202-19, slēdzeni, slieksni ar durvju aizvērēju VALT72VAB, ar panikas slēdzeni ar mainīgo funkciju;ar slēdzi ārpusē; ar pašaizvēršanās mehānismu Krāsas tonis - ozolkoka tonī Ārdurvu faktūra analoga esošām | D38: gb | E38: 1 | H38: =ROUND(F38*G38,2) -> 0 | K38: =SUM(H38:J38) -> 0 | L38: =ROUND(E38*F38,2) -> 0 | M38: =ROUND(E38*H38,2) -> 0 | N38: =ROUND(E38*I38,2) -> 0 | O38: =ROUND(E38*J38,2) -> 0 | P38: =SUM(M38:O38) -> 0
A39: 22 | C39: Montēt durvis ĀD-3 1100x2100mm, ieskaitot visus palīgmateriālus un stiprinājumus. Koka, stiklotas un ar stikla vitrīnu virs durvīm, ar trīs stiklu paketi siltumcaurlaidība U£1.8 W/ m²K Kreisā vērtne Aprīkotas ar slēdzeni, slieksni Krāsas tonis ozolkoka Ārdurvu faktūra analoga esošām | D39: gb | E39: 1 | H39: =ROUND(F39*G39,2) -> 0 | K39: =SUM(H39:J39) -> 0 | L39: =ROUND(E39*F39,2) -> 0 | M39: =ROUND(E39*H39,2) -> 0 | N39: =ROUND(E39*I39,2) -> 0 | O39: =ROUND(E39*J39,2) -> 0 | P39: =SUM(M39:O39) -> 0
A40: 23 | C40: Montēt durvis ĀD-4 1000x2100mm, ieskaitot visus palīgmateriālus un stiprinājumus. Koka,stiklotas un ar stikla vitrīnu virs durvīm,ar trīs stiklu paketi siltumcaurlaidība U£1.8 W/ m²K Labā vērtne Aprīkotas ar slēdzeni, slieksni Krāsas tonis " Ozols " Ārdurvu faktūra analoga esošām | D40: gb | E40: 1 | H40: =ROUND(F40*G40,2) -> 0 | K40: =SUM(H40:J40) -> 0 | L40: =ROUND(E40*F40,2) -> 0 | M40: =ROUND(E40*H40,2) -> 0 | N40: =ROUND(E40*I40,2) -> 0 | O40: =ROUND(E40*J40,2) -> 0 | P40: =SUM(M40:O40) -> 0
A41: 24 | C41: Montēt durvis ĀD-5v 1100x2000mm, ieskaitot visus palīgmateriālus un stiprinājumus. Cinkotas, krāsotas metāla ārdurvis ar siltinātu profilu; Labā vērtne Siltumcaurlaidība U£2.2W/ m²K v-ar gaisa pieplūdes vārstu Aereco E-EMM 5-35 vai ekvivalents | D41: gb | E41: 1 | H41: =ROUND(F41*G41,2) -> 0 | K41: =SUM(H41:J41) -> 0 | L41: =ROUND(E41*F41,2) -> 0 | M41: =ROUND(E41*H41,2) -> 0 | N41: =ROUND(E41*I41,2) -> 0 | O41: =ROUND(E41*J41,2) -> 0 | P41: =SUM(M41:O41) -> 0
A42: 25 | C42: Uzstādīt tvaika izolācijas lenti, ieskaitot visus stiprinājumus un palīgmateriālus. | D42: m | E42: 33.2 | H42: =ROUND(F42*G42,2) -> 0 | K42: =SUM(H42:J42) -> 0 | L42: =ROUND(E42*F42,2) -> 0 | M42: =ROUND(E42*H42,2) -> 0 | N42: =ROUND(E42*I42,2) -> 0 | O42: =ROUND(E42*J42,2) -> 0 | P42: =SUM(M42:O42) -> 0
A43: 26 | C43: Uzstādīt difuzijas lenti, ieskaitot visus stiprinājumus un palīgmateriālus. | D43: m | E43: 33.2 | H43: =ROUND(F43*G43,2) -> 0 | K43: =SUM(H43:J43) -> 0 | L43: =ROUND(E43*F43,2) -> 0 | M43: =ROUND(E43*H43,2) -> 0 | N43: =ROUND(E43*I43,2) -> 0 | O43: =ROUND(E43*J43,2) -> 0 | P43: =SUM(M43:O43) -> 0
A44: 27 | C44: Iekšdurvis | H44: =ROUND(F44*G44,2) -> 0 | K44: =SUM(H44:J44) -> 0 | L44: =ROUND(E44*F44,2) -> 0 | M44: =ROUND(E44*H44,2) -> 0 | N44: =ROUND(E44*I44,2) -> 0 | O44: =ROUND(E44*J44,2) -> 0 | P44: =SUM(M44:O44) -> 0
A45: 28 | C45: Montēt durvis D-1 1070x2100mm, ieskaitot visus palīgmateriālus un stiprinājumus. Koka karkasa finierētas, gludas ( ozola nažfinieris ar biezumu 0,8 mm) Ugunsdrošas El30 Skaņas izolācijas klase C,vai augstāka. Aprīkojums: rokturis, vērtnes atdure, ar sledzeni, atslega, ar pašaizverošo mahānismu Paredzēt ar durvju aplodu visā sienas biezumā ar durvju kleidām no abām pusēm Krāsotas ar koksnes tekstūras redzamu krāsojumu. Tonis - . Durvju aprīkojumam jāatbilst LVS DIN EN179 standartam | D45: gb | E45: 2 | H45: =ROUND(F45*G45,2) -> 0 | K45: =SUM(H45:J45) -> 0 | L45: =ROUND(E45*F45,2) -> 0 | M45: =ROUND(E45*H45,2) -> 0 | N45: =ROUND(E45*I45,2) -> 0 | O45: =ROUND(E45*J45,2) -> 0 | P45: =SUM(M45:O45) -> 0
A46: 29 | C46: Montēt durvis D-2u 1070x2100mm, ieskaitot visus palīgmateriālus un stiprinājumus. Koka karkasa finierētas,gludas ( ozola nažfinieris ar biezumu 0,8 mm) Ugunsdrošas - El30 Skaņas izolācijas klase C,vai augstāka. Aprīkojums: rokturis, vērtnes atdure, ar slēdzeni , atslēga Paredzei ar durvju aplodu visā sienas biezumā ar durvju kleidām no abām pusēm Krāsotas ar koksnes tekstūras redzamu krāsojumu. Tonis - balts | D46: gb | E46: 5 | H46: =ROUND(F46*G46,2) -> 0 | K46: =SUM(H46:J46) -> 0 | L46: =ROUND(E46*F46,2) -> 0 | M46: =ROUND(E46*H46,2) -> 0 | N46: =ROUND(E46*I46,2) -> 0 | O46: =ROUND(E46*J46,2) -> 0 | P46: =SUM(M46:O46) -> 0
A47: 30 | C47: Montēt durvis D-3 1070x2100mm, ieskaitot visus palīgmateriālus un stiprinājumus. Koka karkasa finieretas,gludas ( ozola nažfinieris ar biezumu 0,8 mm) Skaņas izolācijas klase C,vai augstāka. Aprīkojums: rokturis, vertnes atdure, ar slēdzeni, atslēga Paredzei ar durvju aplodu visā sienas biezumā ar durvju kleidām no abām pusem Krāsotas ar koksnes tekstūras redzamu krāsojumu. Tonis - balts | D47: gb | E47: 17 | H47: =ROUND(F47*G47,2) -> 0 | K47: =SUM(H47:J47) -> 0 | L47: =ROUND(E47*F47,2) -> 0 | M47: =ROUND(E47*H47,2) -> 0 | N47: =ROUND(E47*I47,2) -> 0 | O47: =ROUND(E47*J47,2) -> 0 | P47: =SUM(M47:O47) -> 0
A48: 31 | C48: Montēt durvis D-4u 1100x1950mm, ieskaitot visus palīgmateriālus un stiprinājumus. Metāla, bez stiklojuma, ugunsdrošas El30 Aprīkojums: rokturis, atslega Apdares tonis pēc DIN EN 1125 | D48: gb | E48: 1 | H48: =ROUND(F48*G48,2) -> 0 | K48: =SUM(H48:J48) -> 0 | L48: =ROUND(E48*F48,2) -> 0 | M48: =ROUND(E48*H48,2) -> 0 | N48: =ROUND(E48*I48,2) -> 0 | O48: =ROUND(E48*J48,2) -> 0 | P48: =SUM(M48:O48) -> 0
A49: 32 | C49: Montēt durvis D-4 1100x1950mm, ieskaitot visus palīgmateriālus un stiprinājumus. Durvis Aprīkojums: rokturis, atslēga Apdares tonis pēc DIN EN 1125 | D49: gb | E49: 2 | H49: =ROUND(F49*G49,2) -> 0 | K49: =SUM(H49:J49) -> 0 | L49: =ROUND(E49*F49,2) -> 0 | M49: =ROUND(E49*H49,2) -> 0 | N49: =ROUND(E49*I49,2) -> 0 | O49: =ROUND(E49*J49,2) -> 0 | P49: =SUM(M49:O49) -> 0
A50: 33 | C50: Montēt durvis D-5u 1070x1950mm, ieskaitot visus palīgmateriālus un stiprinājumus. Ugunsdrošas durvis EI 30 Aprīkojums: rokturis, atslega Apdares tonis pec DIN EN 1125 | D50: gb | E50: 2 | H50: =ROUND(F50*G50,2) -> 0 | K50: =SUM(H50:J50) -> 0 | L50: =ROUND(E50*F50,2) -> 0 | M50: =ROUND(E50*H50,2) -> 0 | N50: =ROUND(E50*I50,2) -> 0 | O50: =ROUND(E50*J50,2) -> 0 | P50: =SUM(M50:O50) -> 0
A52: Tiešās izmaksas kopā, t.sk. Darba dēvēja sociālais nodoklis (23,59%) | L52: =SUM(L18:L51) -> 0 | M52: =SUM(M18:M51) -> 0 | N52: =SUM(N18:N51) -> 0 | O52: =SUM(O18:O51) -> 0 | P52: =SUM(P18:P51) -> 0
A54: =KT!A23 -> Sastādīja: | D54: =KT!D23 -> 2024.gada __._________
A55: (paraksts un tā atšifrējums, datums)
A56: =KT!A25 -> Sertifikāta Nr.:
A58: =KT!A27 -> Pārbaudīja: | D58: =KT!D23 -> 2024.gada __._________
A59: (paraksts un tā atšifrējums, datums)
A60: =KT!A29 -> Sertifikāta Nr.:

Sheet 1,9
A2: Lokālā tāme Nr.1,9
A3: ='KA1'!C24 -> Iekšējie apdares darbi
A4: (būvdarbu veids vai konstruktīvā elementa nosaukums)
A6: Objekta nosaukums: | C6: =KT!B9 -> ĒKU ATJAUNOŠANA, PĀRBŪVE, NOJAUKŠANA UN TERITORIJAS LABIEKĀRTOŠANA I un II kārta
A7: Būves nosaukums: | C7: =KT!B10 -> Pirmsskolas izglītības iestāde
A8: Objekta adrese: | C8: =KT!B11 -> Dārtas iela 1, Cēsis, Cēsu novads
A9: Pasūtītājs: | C9: =KT!B12 -> Cēsu novada pašvaldība Raunas ielā 4, Cēsīs, Cēsu novadā, LV-4101; Reģ.Nr. 90000031048
A10: Būvuzņēmējs: | C10: =KT!B13 -> SIA
A12: Tāme sastādīta 2024. gada tirgus cenās, pamatojoties uz būvprojekta rasējumiem | M12: Tāmes izmaksas: | O12: =P57 -> 0 | P12: EUR
N13: Tāme sastādītā | O13: =KT!D23 -> 2024.gada __._________
A15: Nr.p.k. | B15: Kods | C15: Būvdarbu nosaukums | D15: Mērvienība | E15: Daudzums | F15: Vienības izmaksas | L15: Kopā uz visu apjomu
F16: Laika norma (c/h) | G16: Darba samaksas likme (euro/h) | H16: Darba alga | I16: Būvizstrādājumi | J16: Mehānismi | K16: KOPĀ | L16: Darbietilpība (c/h) | M16: Darba alga | N16: Būvizstrādājumi | O16: Mehānismi | P16: Summa
A18: 1 | C18: Griesti | H18: =ROUND(F18*G18,2) -> 0 | K18: =SUM(H18:J18) -> 0 | L18: =ROUND(E18*F18,2) -> 0 | M18: =ROUND(E18*H18,2) -> 0 | N18: =ROUND(E18*I18,2) -> 0 | O18: =ROUND(E18*J18,2) -> 0 | P18: =SUM(M18:O18) -> 0
A19: 2 | C19: Pagraba stāvs | H19: =ROUND(F19*G19,2) -> 0 | K19: =SUM(H19:J19) -> 0 | L19: =ROUND(E19*F19,2) -> 0 | M19: =ROUND(E19*H19,2) -> 0 | N19: =ROUND(E19*I19,2) -> 0 | O19: =ROUND(E19*J19,2) -> 0 | P19: =SUM(M19:O19) -> 0
A20: 3 | C20: Esošā apmetuma attīrīšana | D20: m2 | E20: 101.1 | H20: =ROUND(F20*G20,2) -> 0 | K20: =SUM(H20:J20) -> 0 | L20: =ROUND(E20*F20,2) -> 0 | M20: =ROUND(E20*H20,2) -> 0 | N20: =ROUND(E20*I20,2) -> 0 | O20: =ROUND(E20*J20,2) -> 0 | P20: =SUM(M20:O20) -> 0
A21: 4 | C21: Gruntēt, špaktelēt un slīpēt griestus | D21: m2 | E21: 101.1 | H21: =ROUND(F21*G21,2) -> 0 | K21: =SUM(H21:J21) -> 0 | L21: =ROUND(E21*F21,2) -> 0 | M21: =ROUND(E21*H21,2) -> 0 | N21: =ROUND(E21*I21,2) -> 0 | O21: =ROUND(E21*J21,2) -> 0 | P21: =SUM(M21:O21) -> 0
A22: 5 | C22: Gruntēt un krāsot griestus divās kārtās Krāsojums ar mitrumizturīgo krāsu "Tikurila"Luja 20 vai ekvivalents | D22: m2 | E22: 101.1 | H22: =ROUND(F22*G22,2) -> 0 | K22: =SUM(H22:J22) -> 0 | L22: =ROUND(E22*F22,2) -> 0 | M22: =ROUND(E22*H22,2) -> 0 | N22: =ROUND(E22*I22,2) -> 0 | O22: =ROUND(E22*J22,2) -> 0 | P22: =SUM(M22:O22) -> 0
A23: 6 | C23: 1.stāvs | H23: =ROUND(F23*G23,2) -> 0 | K23: =SUM(H23:J23) -> 0 | L23: =ROUND(E23*F23,2) -> 0 | M23: =ROUND(E23*H23,2) -> 0 | N23: =ROUND(E23*I23,2) -> 0 | O23: =ROUND(E23*J23,2) -> 0 | P23: =SUM(M23:O23) -> 0
A24: 7 | C24: Piekārtie griesti "Armstrong" tips "Feria Tegular" vai ekvivalents | D24: m2 | E24: 124.6 | H24: =ROUND(F24*G24,2) -> 0 | K24: =SUM(H24:J24) -> 0 | L24: =ROUND(E24*F24,2) -> 0 | M24: =ROUND(E24*H24,2) -> 0 | N24: =ROUND(E24*I24,2) -> 0 | O24: =ROUND(E24*J24,2) -> 0 | P24: =SUM(M24:O24) -> 0
A25: 8 | C25: Piekārtie griesti "Armstrong" tips "Pan Cell" vai ekvivalents | D25: m2 | E25: 124.6 | H25: =ROUND(F25*G25,2) -> 0 | K25: =SUM(H25:J25) -> 0 | L25: =ROUND(E25*F25,2) -> 0 | M25: =ROUND(E25*H25,2) -> 0 | N25: =ROUND(E25*I25,2) -> 0 | O25: =ROUND(E25*J25,2) -> 0 | P25: =SUM(M25:O25) -> 0
A26: 9 | C26: Griestu attīrīšana no vecās krāsas | D26: m2 | E26: 383.3 | H26: =ROUND(F26*G26,2) -> 0 | K26: =SUM(H26:J26) -> 0 | L26: =ROUND(E26*F26,2) -> 0 | M26: =ROUND(E26*H26,2) -> 0 | N26: =ROUND(E26*I26,2) -> 0 | O26: =ROUND(E26*J26,2) -> 0 | P26: =SUM(M26:O26) -> 0
A27: 10 | C27: Gruntēt, špaktelēt un slīpēt griestus | D27: m2 | E27: 196.2 | H27: =ROUND(F27*G27,2) -> 0 | K27: =SUM(H27:J27) -> 0 | L27: =ROUND(E27*F27,2) -> 0 | M27: =ROUND(E27*H27,2) -> 0 | N27: =ROUND(E27*I27,2) -> 0 | O27: =ROUND(E27*J27,2) -> 0 | P27: =SUM(M27:O27) -> 0
A28: 11 | C28: Gruntēt un krāsot griestus divās kārtās Krāsojums ar ūdens emulsijas krāsu | D28: m2 | E28: 196.2 | H28: =ROUND(F28*G28,2) -> 0 | K28: =SUM(H28:J28) -> 0 | L28: =ROUND(E28*F28,2) -> 0 | M28: =ROUND(E28*H28,2) -> 0 | N28: =ROUND(E28*I28,2) -> 0 | O28: =ROUND(E28*J28,2) -> 0 | P28: =SUM(M28:O28) -> 0
A29: 12 | C29: 2.stāvs | H29: =ROUND(F29*G29,2) -> 0 | K29: =SUM(H29:J29) -> 0 | L29: =ROUND(E29*F29,2) -> 0 | M29: =ROUND(E29*H29,2) -> 0 | N29: =ROUND(E29*I29,2) -> 0 | O29: =ROUND(E29*J29,2) -> 0 | P29: =SUM(M29:O29) -> 0
A30: 13 | C30: Piekārtie griesti "Armstrong" tips "Feria Tegular" vai ekvivalents | D30: m2 | E30: 145.5 | H30: =ROUND(F30*G30,2) -> 0 | K30: =SUM(H30:J30) -> 0 | L30: =ROUND(E30*F30,2) -> 0 | M30: =ROUND(E30*H30,2) -> 0 | N30: =ROUND(E30*I30,2) -> 0 | O30: =ROUND(E30*J30,2) -> 0 | P30: =SUM(M30:O30) -> 0
A31: 14 | C31: Piekārtie griesti "Armstrong" tips "Pan Cell" vai ekvivalents | D31: m2 | E31: 33.2 | H31: =ROUND(F31*G31,2) -> 0 | K31: =SUM(H31:J31) -> 0 | L31: =ROUND(E31*F31,2) -> 0 | M31: =ROUND(E31*H31,2) -> 0 | N31: =ROUND(E31*I31,2) -> 0 | O31: =ROUND(E31*J31,2) -> 0 | P31: =SUM(M31:O31) -> 0
A32: 15 | C32: Griestu attīrīšana no vecās krāsas | D32: m2 | E32: 388.6 | H32: =ROUND(F32*G32,2) -> 0 | K32: =SUM(H32:J32) -> 0 | L32: =ROUND(E32*F32,2) -> 0 | M32: =ROUND(E32*H32,2) -> 0 | N32: =ROUND(E32*I32,2) -> 0 | O32: =ROUND(E32*J32,2) -> 0 | P32: =SUM(M32:O32) -> 0
A33: 16 | C33: Gruntēt, špaktelēt un slīpēt griestus | D33: m2 | E33: 209.9 | H33: =ROUND(F33*G33,2) -> 0 | K33: =SUM(H33:J33) -> 0 | L33: =ROUND(E33*F33,2) -> 0 | M33: =ROUND(E33*H33,2) -> 0 | N33: =ROUND(E33*I33,2) -> 0 | O33: =ROUND(E33*J33,2) -> 0 | P33: =SUM(M33:O33) -> 0
A34: 17 | C34: Gruntēt un krāsot griestus divās kārtās Krāsojums ar ūdens emulsijas krāsu | D34: m2 | E34: 209.9 | H34: =ROUND(F34*G34,2) -> 0 | K34: =SUM(H34:J34) -> 0 | L34: =ROUND(E34*F34,2) -> 0 | M34: =ROUND(E34*H34,2) -> 0 | N34: =ROUND(E34*I34,2) -> 0 | O34: =ROUND(E34*J34,2) -> 0 | P34: =SUM(M34:O34) -> 0
A35: 18 | C35: Sienas | H35: =ROUND(F35*G35,2) -> 0 | K35: =SUM(H35:J35) -> 0 | L35: =ROUND(E35*F35,2) -> 0 | M35: =ROUND(E35*H35,2) -> 0 | N35: =ROUND(E35*I35,2) -> 0 | O35: =ROUND(E35*J35,2) -> 0 | P35: =SUM(M35:O35) -> 0
A36: 19 | C36: Pagrabs | H36: =ROUND(F36*G36,2) -> 0 | K36: =SUM(H36:J36) -> 0 | L36: =ROUND(E36*F36,2) -> 0 | M36: =ROUND(E36*H36,2) -> 0 | N36: =ROUND(E36*I36,2) -> 0 | O36: =ROUND(E36*J36,2) -> 0 | P36: =SUM(M36:O36) -> 0
A37: 20 | C37: Esošā apmetuma attīrīšana,atjaunošana | D37: m2 | E37: 171 | H37: =ROUND(F37*G37,2) -> 0 | K37: =SUM(H37:J37) -> 0 | L37: =ROUND(E37*F37,2) -> 0 | M37: =ROUND(E37*H37,2) -> 0 | N37: =ROUND(E37*I37,2) -> 0 | O37: =ROUND(E37*J37,2) -> 0 | P37: =SUM(M37:O37) -> 0
A38: 21 | C38: Hidroizolācija "Petreon" vai ekviv. uzklāšana 2. kārtās | D38: m2 | E38: 171 | H38: =ROUND(F38*G38,2) -> 0 | K38: =SUM(H38:J38) -> 0 | L38: =ROUND(E38*F38,2) -> 0 | M38: =ROUND(E38*H38,2) -> 0 | N38: =ROUND(E38*I38,2) -> 0 | O38: =ROUND(E38*J38,2) -> 0 | P38: =SUM(M38:O38) -> 0
A39: 22 | C39: Mitrumizturīgs krāsojums"Tikurilla" Luja 20 vai ekviv | D39: m2 | E39: 171 | H39: =ROUND(F39*G39,2) -> 0 | K39: =SUM(H39:J39) -> 0 | L39: =ROUND(E39*F39,2) -> 0 | M39: =ROUND(E39*H39,2) -> 0 | N39: =ROUND(E39*I39,2) -> 0 | O39: =ROUND(E39*J39,2) -> 0 | P39: =SUM(M39:O39) -> 0
A40: 23 | C40: 1.stāvs | H40: =ROUND(F40*G40,2) -> 0 | K40: =SUM(H40:J40) -> 0 | L40: =ROUND(E40*F40,2) -> 0 | M40: =ROUND(E40*H40,2) -> 0 | N40: =ROUND(E40*I40,2) -> 0 | O40: =ROUND(E40*J40,2) -> 0 | P40: =SUM(M40:O40) -> 0
A41: 24 | C41: Esošo sienu attīrīšana, špaktelēšana | D41: m2 | E41: 414.5 | H41: =ROUND(F41*G41,2) -> 0 | K41: =SUM(H41:J41) -> 0 | L41: =ROUND(E41*F41,2) -> 0 | M41: =ROUND(E41*H41,2) -> 0 | N41: =ROUND(E41*I41,2) -> 0 | O41: =ROUND(E41*J41,2) -> 0 | P41: =SUM(M41:O41) -> 0
A42: 25 | C42: Jaunizbūvējamo mūra sienu špaktelēšana | D42: m2 | E42: 62.2 | H42: =ROUND(F42*G42,2) -> 0 | K42: =SUM(H42:J42) -> 0 | L42: =ROUND(E42*F42,2) -> 0 | M42: =ROUND(E42*H42,2) -> 0 | N42: =ROUND(E42*I42,2) -> 0 | O42: =ROUND(E42*J42,2) -> 0 | P42: =SUM(M42:O42) -> 0
A43: 26 | C43: Ģipškartona plākšņu špaktelēšana | D43: m2 | E43: 321.4 | H43: =ROUND(F43*G43,2) -> 0 | K43: =SUM(H43:J43) -> 0 | L43: =ROUND(E43*F43,2) -> 0 | M43: =ROUND(E43*H43,2) -> 0 | N43: =ROUND(E43*I43,2) -> 0 | O43: =ROUND(E43*J43,2) -> 0 | P43: =SUM(M43:O43) -> 0
A44: 27 | C44: Krāsojums ar ūdens emulsijas krāsu | D44: m2 | E44: 698.3 | H44: =ROUND(F44*G44,2) -> 0 | K44: =SUM(H44:J44) -> 0 | L44: =ROUND(E44*F44,2) -> 0 | M44: =ROUND(E44*H44,2) -> 0 | N44: =ROUND(E44*I44,2) -> 0 | O44: =ROUND(E44*J44,2) -> 0 | P44: =SUM(M44:O44) -> 0
A45: 28 | C45: Flīzējums-keramikas flīzēs 300x600mm "Aragorn" h=2,2 m vai ekviv | D45: m2 | E45: 97 | H45: =ROUND(F45*G45,2) -> 0 | K45: =SUM(H45:J45) -> 0 | L45: =ROUND(E45*F45,2) -> 0 | M45: =ROUND(E45*H45,2) -> 0 | N45: =ROUND(E45*I45,2) -> 0 | O45: =ROUND(E45*J45,2) -> 0 | P45: =SUM(M45:O45) -> 0
A46: 29 | C46: Flīzējums ar grīdas flīzēm h=0,1 m | D46: m2 | E46: 1 | H46: =ROUND(F46*G46,2) -> 0 | K46: =SUM(H46:J46) -> 0 | L46: =ROUND(E46*F46,2) -> 0 | M46: =ROUND(E46*H46,2) -> 0 | N46: =ROUND(E46*I46,2) -> 0 | O46: =ROUND(E46*J46,2) -> 0 | P46: =SUM(M46:O46) -> 0
A47: 30 | C47: Flīzējums ar keramikas flīzēm ap izlietni | D47: m2 | E47: 2 | H47: =ROUND(F47*G47,2) -> 0 | K47: =SUM(H47:J47) -> 0 | L47: =ROUND(E47*F47,2) -> 0 | M47: =ROUND(E47*H47,2) -> 0 | N47: =ROUND(E47*I47,2) -> 0 | O47: =ROUND(E47*J47,2) -> 0 | P47: =SUM(M47:O47) -> 0
A48: 31 | C48: 2.stāvs | H48: =ROUND(F48*G48,2) -> 0 | K48: =SUM(H48:J48) -> 0 | L48: =ROUND(E48*F48,2) -> 0 | M48: =ROUND(E48*H48,2) -> 0 | N48: =ROUND(E48*I48,2) -> 0 | O48: =ROUND(E48*J48,2) -> 0 | P48: =SUM(M48:O48) -> 0
A49: 32 | C49: Esošo sienu attīrīšana, špaktelēšana | D49: m2 | E49: 343.8 | H49: =ROUND(F49*G49,2) -> 0 | K49: =SUM(H49:J49) -> 0 | L49: =ROUND(E49*F49,2) -> 0 | M49: =ROUND(E49*H49,2) -> 0 | N49: =ROUND(E49*I49,2) -> 0 | O49: =ROUND(E49*J49,2) -> 0 | P49: =SUM(M49:O49) -> 0
A50: 33 | C50: Jaunizbūvējamo mūra sienu špaktelēšana | D50: m2 | E50: 49.3 | H50: =ROUND(F50*G50,2) -> 0 | K50: =SUM(H50:J50) -> 0 | L50: =ROUND(E50*F50,2) -> 0 | M50: =ROUND(E50*H50,2) -> 0 | N50: =ROUND(E50*I50,2) -> 0 | O50: =ROUND(E50*J50,2) -> 0 | P50: =SUM(M50:O50) -> 0
A51: 34 | C51: Ģipškartona plākšņu špaktelēšana | D51: m2 | E51: 348 | H51: =ROUND(F51*G51,2) -> 0 | K51: =SUM(H51:J51) -> 0 | L51: =ROUND(E51*F51,2) -> 0 | M51: =ROUND(E51*H51,2) -> 0 | N51: =ROUND(E51*I51,2) -> 0 | O51: =ROUND(E51*J51,2) -> 0 | P51: =SUM(M51:O51) -> 0
A52: 35 | C52: Krāsojums ar ūdens emulsijas krāsu | D52: m2 | E52: 663 | H52: =ROUND(F52*G52,2) -> 0 | K52: =SUM(H52:J52) -> 0 | L52: =ROUND(E52*F52,2) -> 0 | M52: =ROUND(E52*H52,2) -> 0 | N52: =ROUND(E52*I52,2) -> 0 | O52: =ROUND(E52*J52,2) -> 0 | P52: =SUM(M52:O52) -> 0
A53: 36 | C53: Flīzējums ar keramikas flīzēm h=2,2 m | D53: m2 | E53: 75 | H53: =ROUND(F53*G53,2) -> 0 | K53: =SUM(H53:J53) -> 0 | L53: =ROUND(E53*F53,2) -> 0 | M53: =ROUND(E53*H53,2) -> 0 | N53: =ROUND(E53*I53,2) -> 0 | O53: =ROUND(E53*J53,2) -> 0 | P53: =SUM(M53:O53) -> 0
A54: 37 | C54: Flīzējums ar grīdas flīzēm h=0,1 m | D54: m2 | E54: 7.7 | H54: =ROUND(F54*G54,2) -> 0 | K54: =SUM(H54:J54) -> 0 | L54: =ROUND(E54*F54,2) -> 0 | M54: =ROUND(E54*H54,2) -> 0 | N54: =ROUND(E54*I54,2) -> 0 | O54: =ROUND(E54*J54,2) -> 0 | P54: =SUM(M54:O54) -> 0
A55: 38 | C55: Flīzējums ar keramikas flīzēm ap izlietni | D55: m2 | E55: 4 | H55: =ROUND(F55*G55,2) -> 0 | K55: =SUM(H55:J55) -> 0 | L55: =ROUND(E55*F55,2) -> 0 | M55: =ROUND(E55*H55,2) -> 0 | N55: =ROUND(E55*I55,2) -> 0 | O55: =ROUND(E55*J55,2) -> 0 | P55: =SUM(M55:O55) -> 0
A57: Tiešās izmaksas kopā, t.sk. Darba dēvēja sociālais nodoklis (23,59%) | L57: =SUM(L18:L56) -> 0 | M57: =SUM(M18:M56) -> 0 | N57: =SUM(N18:N56) -> 0 | O57: =SUM(O18:O56) -> 0 | P57: =SUM(P18:P56) -> 0
A59: =KT!A23 -> Sastādīja: | D59: =KT!D23 -> 2024.gada __._________
A60: (paraksts un tā atšifrējums, datums)
A61: =KT!A25 -> Sertifikāta Nr.:
A63: =KT!A27 -> Pārbaudīja: | D63: =KT!D23 -> 2024.gada __._________
A64: (paraksts un tā atšifrējums, datums)
A65: =KT!A29 -> Sertifikāta Nr.:

Sheet 1,10
A2: Lokālā tāme Nr.1,10
A3: ='KA1'!C25 -> Ārējie apdares darbi
A4: (būvdarbu veids vai konstruktīvā elementa nosaukums)
A6: Objekta nosaukums: | C6: =KT!B9 -> ĒKU ATJAUNOŠANA, PĀRBŪVE, NOJAUKŠANA UN TERITORIJAS LABIEKĀRTOŠANA I un II kārta
A7: Būves nosaukums: | C7: =KT!B10 -> Pirmsskolas izglītības iestāde
A8: Objekta adrese: | C8: =KT!B11 -> Dārtas iela 1, Cēsis, Cēsu novads
A9: Pasūtītājs: | C9: =KT!B12 -> Cēsu novada pašvaldība Raunas ielā 4, Cēsīs, Cēsu novadā, LV-4101; Reģ.Nr. 90000031048
A10: Būvuzņēmējs: | C10: =KT!B13 -> SIA
A12: Tāme sastādīta 2024. gada tirgus cenās, pamatojoties uz būvprojekta rasējumiem | M12: Tāmes izmaksas: | O12: =P38 -> 0 | P12: EUR
N13: Tāme sastādītā | O13: =KT!D23 -> 2024.gada __._________
A15: Nr.p.k. | B15: Kods | C15: Būvdarbu nosaukums | D15: Mērvienība | E15: Daudzums | F15: Vienības izmaksas | L15: Kopā uz visu apjomu
F16: Laika norma (c/h) | G16: Darba samaksas likme (euro/h) | H16: Darba alga | I16: Būvizstrādājumi | J16: Mehānismi | K16: KOPĀ | L16: Darbietilpība (c/h) | M16: Darba alga | N16: Būvizstrādājumi | O16: Mehānismi | P16: Summa
A18: 1 | C18: Verandas ārsiena | H18: =ROUND(F18*G18,2) -> 0 | K18: =SUM(H18:J18) -> 0 | L18: =ROUND(E18*F18,2) -> 0 | M18: =ROUND(E18*H18,2) -> 0 | N18: =ROUND(E18*I18,2) -> 0 | O18: =ROUND(E18*J18,2) -> 0 | P18: =SUM(M18:O18) -> 0
A19: 2 | C19: Apšūt fasādi ar apdares dēļiem un koka dekoratīvajiem elementiem, ieskaitot visus palīgmateriālus un stiprinājumus. Dekoratīvās koka brusas 45x145mm Dekoratīvās koka uzlikas 21x100mm Fasādes apdares dēļi ( ēvelēti, krāsoti) 12mm | D19: m2 | E19: 76 | H19: =ROUND(F19*G19,2) -> 0 | K19: =SUM(H19:J19) -> 0 | L19: =ROUND(E19*F19,2) -> 0 | M19: =ROUND(E19*H19,2) -> 0 | N19: =ROUND(E19*I19,2) -> 0 | O19: =ROUND(E19*J19,2) -> 0 | P19: =SUM(M19:O19) -> 0
A20: 3 | C20: Verandas ārsienas krāsošana ar eļļas krāsu kokam | D20: m2 | E20: 76 | H20: =ROUND(F20*G20,2) -> 0 | K20: =SUM(H20:J20) -> 0 | L20: =ROUND(E20*F20,2) -> 0 | M20: =ROUND(E20*H20,2) -> 0 | N20: =ROUND(E20*I20,2) -> 0 | O20: =ROUND(E20*J20,2) -> 0 | P20: =SUM(M20:O20) -> 0
A21: 4 | C21: Montēt skārda lāseni verandas dekoratīvajam elementam, ieskaitot visus palīgmateriālus un stiprinājumus. | D21: m | E21: 16.26 | H21: =ROUND(F21*G21,2) -> 0 | K21: =SUM(H21:J21) -> 0 | L21: =ROUND(E21*F21,2) -> 0 | M21: =ROUND(E21*H21,2) -> 0 | N21: =ROUND(E21*I21,2) -> 0 | O21: =ROUND(E21*J21,2) -> 0 | P21: =SUM(M21:O21) -> 0
A22: 5 | C22: Ēkas fasāde | H22: =ROUND(F22*G22,2) -> 0 | K22: =SUM(H22:J22) -> 0 | L22: =ROUND(E22*F22,2) -> 0 | M22: =ROUND(E22*H22,2) -> 0 | N22: =ROUND(E22*I22,2) -> 0 | O22: =ROUND(E22*J22,2) -> 0 | P22: =SUM(M22:O22) -> 0
A23: 6 | C23: Esošo fasāžu virsmu tīrīšana ar ekostrūklu | D23: m2 | E23: 830 | H23: =ROUND(F23*G23,2) -> 0 | K23: =SUM(H23:J23) -> 0 | L23: =ROUND(E23*F23,2) -> 0 | M23: =ROUND(E23*H23,2) -> 0 | N23: =ROUND(E23*I23,2) -> 0 | O23: =ROUND(E23*J23,2) -> 0 | P23: =SUM(M23:O23) -> 0
A24: 7 | C24: Cokola akmens mūra ārsienu attīrīšana un šuvju aizdare ar javu ( ekviv. Sakret CR 44) | D24: m2 | E24: 125 | H24: =ROUND(F24*G24,2) -> 0 | K24: =SUM(H24:J24) -> 0 | L24: =ROUND(E24*F24,2) -> 0 | M24: =ROUND(E24*H24,2) -> 0 | N24: =ROUND(E24*I24,2) -> 0 | O24: =ROUND(E24*J24,2) -> 0 | P24: =SUM(M24:O24) -> 0
A25: 8 | C25: Mūra izvirzījuma cokola līmenī atjaunošana ar javu ( Skat. 7. fotofiksāciju FF-1) (ekviv. Sakret PM Super) | D25: m | E25: 92 | H25: =ROUND(F25*G25,2) -> 0 | K25: =SUM(H25:J25) -> 0 | L25: =ROUND(E25*F25,2) -> 0 | M25: =ROUND(E25*H25,2) -> 0 | N25: =ROUND(E25*I25,2) -> 0 | O25: =ROUND(E25*J25,2) -> 0 | P25: =SUM(M25:O25) -> 0
A26: 9 | C26: Skārda ieseguma atjaunošana otrā stāva līmenī ( Skat. 2. fotofiskāciju) | D26: m | E26: 95 | H26: =ROUND(F26*G26,2) -> 0 | K26: =SUM(H26:J26) -> 0 | L26: =ROUND(E26*F26,2) -> 0 | M26: =ROUND(E26*H26,2) -> 0 | N26: =ROUND(E26*I26,2) -> 0 | O26: =ROUND(E26*J26,2) -> 0 | P26: =SUM(M26:O26) -> 0
A27: 10 | C27: Ārsienu izdrupumu ( skat. 5. fotofiksāciju FF-1) ( dekoratīvo izvirzījumu) atjaunošana ar analogiem ķieģeļiem 270x130x71 ( ekviv, FeldHaus Klinker) | D27: m2 | E27: 4 | H27: =ROUND(F27*G27,2) -> 0 | K27: =SUM(H27:J27) -> 0 | L27: =ROUND(E27*F27,2) -> 0 | M27: =ROUND(E27*H27,2) -> 0 | N27: =ROUND(E27*I27,2) -> 0 | O27: =ROUND(E27*J27,2) -> 0 | P27: =SUM(M27:O27) -> 0
A28: 11 | C28: Mūra bojājumu un šuvju atjaunošana ar ( Ceresit CR-42 vai ekviv.) ( pieņemt 30%) | D28: m2 | E28: 249 | H28: =ROUND(F28*G28,2) -> 0 | K28: =SUM(H28:J28) -> 0 | L28: =ROUND(E28*F28,2) -> 0 | M28: =ROUND(E28*H28,2) -> 0 | N28: =ROUND(E28*I28,2) -> 0 | O28: =ROUND(E28*J28,2) -> 0 | P28: =SUM(M28:O28) -> 0
A29: 12 | C29: Mūra ārsienas apstrāde ar hidrofobizatoru CT-9 - Ceresit vai ekviv. | D29: m2 | E29: 830 | H29: =ROUND(F29*G29,2) -> 0 | K29: =SUM(H29:J29) -> 0 | L29: =ROUND(E29*F29,2) -> 0 | M29: =ROUND(E29*H29,2) -> 0 | N29: =ROUND(E29*I29,2) -> 0 | O29: =ROUND(E29*J29,2) -> 0 | P29: =SUM(M29:O29) -> 0
A30: 13 | C30: Mezgls M-1 | H30: =ROUND(F30*G30,2) -> 0 | K30: =SUM(H30:J30) -> 0 | L30: =ROUND(E30*F30,2) -> 0 | M30: =ROUND(E30*H30,2) -> 0 | N30: =ROUND(E30*I30,2) -> 0 | O30: =ROUND(E30*J30,2) -> 0 | P30: =SUM(M30:O30) -> 0
A31: 14 | C31: Montēt skārda lāseni, ieskaitot visus palīgmateriālus un stiprinājumus | D31: m | E31: 11.88 | H31: =ROUND(F31*G31,2) -> 0 | K31: =SUM(H31:J31) -> 0 | L31: =ROUND(E31*F31,2) -> 0 | M31: =ROUND(E31*H31,2) -> 0 | N31: =ROUND(E31*I31,2) -> 0 | O31: =ROUND(E31*J31,2) -> 0 | P31: =SUM(M31:O31) -> 0
A32: 15 | C32: Ieklāt pamatu vertikālo hidroizolāciju | D32: m2 | E32: 28 | H32: =ROUND(F32*G32,2) -> 0 | K32: =SUM(H32:J32) -> 0 | L32: =ROUND(E32*F32,2) -> 0 | M32: =ROUND(E32*H32,2) -> 0 | N32: =ROUND(E32*I32,2) -> 0 | O32: =ROUND(E32*J32,2) -> 0 | P32: =SUM(M32:O32) -> 0
A33: 16 | C33: Apmest pamatu ar "Sakret" CLP+CSII vai ekvivalents | D33: m2 | E33: 7.13 | H33: =ROUND(F33*G33,2) -> 0 | K33: =SUM(H33:J33) -> 0 | L33: =ROUND(E33*F33,2) -> 0 | M33: =ROUND(E33*H33,2) -> 0 | N33: =ROUND(E33*I33,2) -> 0 | O33: =ROUND(E33*J33,2) -> 0 | P33: =SUM(M33:O33) -> 0
A34: 17 | C34: Krāsot pamatu divas kārtās | D34: m2 | E34: 7.13 | H34: =ROUND(F34*G34,2) -> 0 | K34: =SUM(H34:J34) -> 0 | L34: =ROUND(E34*F34,2) -> 0 | M34: =ROUND(E34*H34,2) -> 0 | N34: =ROUND(E34*I34,2) -> 0 | O34: =ROUND(E34*J34,2) -> 0 | P34: =SUM(M34:O34) -> 0
A35: 18 | C35: Citi | H35: =ROUND(F35*G35,2) -> 0 | K35: =SUM(H35:J35) -> 0 | L35: =ROUND(E35*F35,2) -> 0 | M35: =ROUND(E35*H35,2) -> 0 | N35: =ROUND(E35*I35,2) -> 0 | O35: =ROUND(E35*J35,2) -> 0 | P35: =SUM(M35:O35) -> 0
A36: 19 | C36: Montēt un demontēt fasādes sastatnes pa ēkas perimetru, norobežojot ar aizsargsietu. Ieskaitot visus stiprinājumus un palīgmateriālus. Iekļaut nomas izmaksas. | D36: m2 | E36: 1200 | H36: =ROUND(F36*G36,2) -> 0 | K36: =SUM(H36:J36) -> 0 | L36: =ROUND(E36*F36,2) -> 0 | M36: =ROUND(E36*H36,2) -> 0 | N36: =ROUND(E36*I36,2) -> 0 | O36: =ROUND(E36*J36,2) -> 0 | P36: =SUM(M36:O36) -> 0
A38: Tiešās izmaksas kopā, t.sk. Darba dēvēja sociālais nodoklis (23,59%) | L38: =SUM(L18:L37) -> 0 | M38: =SUM(M18:M37) -> 0 | N38: =SUM(N18:N37) -> 0 | O38: =SUM(O18:O37) -> 0 | P38: =SUM(P18:P37) -> 0
A40: =KT!A23 -> Sastādīja: | D40: =KT!D23 -> 2024.gada __._________
A41: (paraksts un tā atšifrējums, datums)
A42: =KT!A25 -> Sertifikāta Nr.:
A44: =KT!A27 -> Pārbaudīja: | D44: =KT!D23 -> 2024.gada __._________
A45: (paraksts un tā atšifrējums, datums)
A46: =KT!A29 -> Sertifikāta Nr.:

Sheet 1,11
A2: Lokālā tāme Nr.1,11
A3: ='KA1'!C26 -> Ēka ar kad.apz. 002 un 003
A4: (būvdarbu veids vai konstruktīvā elementa nosaukums)
A6: Objekta nosaukums: | C6: =KT!B9 -> ĒKU ATJAUNOŠANA, PĀRBŪVE, NOJAUKŠANA UN TERITORIJAS LABIEKĀRTOŠANA I un II kārta
A7: Būves nosaukums: | C7: =KT!B10 -> Pirmsskolas izglītības iestāde
A8: Objekta adrese: | C8: =KT!B11 -> Dārtas iela 1, Cēsis, Cēsu novads
A9: Pasūtītājs: | C9: =KT!B12 -> Cēsu novada pašvaldība Raunas ielā 4, Cēsīs, Cēsu novadā, LV-4101; Reģ.Nr. 90000031048
A10: Būvuzņēmējs: | C10: =KT!B13 -> SIA
A12: Tāme sastādīta 2024. gada tirgus cenās, pamatojoties uz būvprojekta rasējumiem | M12: Tāmes izmaksas: | O12: =P67 -> 0 | P12: EUR
N13: Tāme sastādītā | O13: =KT!D23 -> 2024.gada __._________
A15: Nr.p.k. | B15: Kods | C15: Būvdarbu nosaukums | D15: Mērvienība | E15: Daudzums | F15: Vienības izmaksas | L15: Kopā uz visu apjomu
F16: Laika norma (c/h) | G16: Darba samaksas likme (euro/h) | H16: Darba alga | I16: Būvizstrādājumi | J16: Mehānismi | K16: KOPĀ | L16: Darbietilpība (c/h) | M16: Darba alga | N16: Būvizstrādājumi | O16: Mehānismi | P16: Summa
A18: 1 | C18: Zemes darbi | H18: =ROUND(F18*G18,2) -> 0 | K18: =SUM(H18:J18) -> 0 | L18: =ROUND(E18*F18,2) -> 0 | M18: =ROUND(E18*H18,2) -> 0 | N18: =ROUND(E18*I18,2) -> 0 | O18: =ROUND(E18*J18,2) -> 0 | P18: =SUM(M18:O18) -> 0
A19: 2 | C19: Rakt būvbedri līdz projektā paredzētajam dziļumam | D19: m3 | E19: 34.64 | H19: =ROUND(F19*G19,2) -> 0 | K19: =SUM(H19:J19) -> 0 | L19: =ROUND(E19*F19,2) -> 0 | M19: =ROUND(E19*H19,2) -> 0 | N19: =ROUND(E19*I19,2) -> 0 | O19: =ROUND(E19*J19,2) -> 0 | P19: =SUM(M19:O19) -> 0
A20: 3 | C20: Lieko grunti izvest utilizācijai | D20: m3 | E20: 34.64 | H20: =ROUND(F20*G20,2) -> 0 | K20: =SUM(H20:J20) -> 0 | L20: =ROUND(E20*F20,2) -> 0 | M20: =ROUND(E20*H20,2) -> 0 | N20: =ROUND(E20*I20,2) -> 0 | O20: =ROUND(E20*J20,2) -> 0 | P20: =SUM(M20:O20) -> 0
A21: 4 | C21: Aizbērt pamatus izmantot rupjas vai vidēji rupjas smiltis. Aizberumu jāveido pa 20 cm biezām kārtām Blietēta vidēji rupja smilts fr. 0,2-0,6mm | D21: m3 | E21: 30.14 | H21: =ROUND(F21*G21,2) -> 0 | K21: =SUM(H21:J21) -> 0 | L21: =ROUND(E21*F21,2) -> 0 | M21: =ROUND(E21*H21,2) -> 0 | N21: =ROUND(E21*I21,2) -> 0 | O21: =ROUND(E21*J21,2) -> 0 | P21: =SUM(M21:O21) -> 0
A22: 5 | C22: Pamati un pamatnes | H22: =ROUND(F22*G22,2) -> 0 | K22: =SUM(H22:J22) -> 0 | L22: =ROUND(E22*F22,2) -> 0 | M22: =ROUND(E22*H22,2) -> 0 | N22: =ROUND(E22*I22,2) -> 0 | O22: =ROUND(E22*J22,2) -> 0 | P22: =SUM(M22:O22) -> 0
A23: 6 | C23: Pamatojums | H23: =ROUND(F23*G23,2) -> 0 | K23: =SUM(H23:J23) -> 0 | L23: =ROUND(E23*F23,2) -> 0 | M23: =ROUND(E23*H23,2) -> 0 | N23: =ROUND(E23*I23,2) -> 0 | O23: =ROUND(E23*J23,2) -> 0 | P23: =SUM(M23:O23) -> 0
A24: 7 | C24: Ierīkot blietētu šķembu kārtu zem pamatiem. Blietētas šķembas, frakcija 0-16mm | D24: m3 | E24: 1.9 | H24: =ROUND(F24*G24,2) -> 0 | K24: =SUM(H24:J24) -> 0 | L24: =ROUND(E24*F24,2) -> 0 | M24: =ROUND(E24*H24,2) -> 0 | N24: =ROUND(E24*I24,2) -> 0 | O24: =ROUND(E24*J24,2) -> 0 | P24: =SUM(M24:O24) -> 0
A25: 8 | C25: Pamati | H25: =ROUND(F25*G25,2) -> 0 | K25: =SUM(H25:J25) -> 0 | L25: =ROUND(E25*F25,2) -> 0 | M25: =ROUND(E25*H25,2) -> 0 | N25: =ROUND(E25*I25,2) -> 0 | O25: =ROUND(E25*J25,2) -> 0 | P25: =SUM(M25:O25) -> 0
A26: 9 | C26: Betonēt veidņos pamatus ar C25/30 XC2 klases betonu un stiegrojot ar B500B terauda stiegrojumu. Ieskaitot visus stiprinājumus un palīgmateriālus. | D26: m3 | E26: 4.5 | H26: =ROUND(F26*G26,2) -> 0 | K26: =SUM(H26:J26) -> 0 | L26: =ROUND(E26*F26,2) -> 0 | M26: =ROUND(E26*H26,2) -> 0 | N26: =ROUND(E26*I26,2) -> 0 | O26: =ROUND(E26*J26,2) -> 0 | P26: =SUM(M26:O26) -> 0
A27: 10 | C27: Ieklāt hidroizolāciju ( ruberoīds 2. kārtas uz bitumena mastikas) | D27: m2 | E27: 4.1 | H27: =ROUND(F27*G27,2) -> 0 | K27: =SUM(H27:J27) -> 0 | L27: =ROUND(E27*F27,2) -> 0 | M27: =ROUND(E27*H27,2) -> 0 | N27: =ROUND(E27*I27,2) -> 0 | O27: =ROUND(E27*J27,2) -> 0 | P27: =SUM(M27:O27) -> 0
A28: 11 | C28: Montēt pamatos enkuru (vītņstieņi kl.4,6 DIN976 cinkots) Ø16, L=330 | D28: gb | E28: 20 | H28: =ROUND(F28*G28,2) -> 0 | K28: =SUM(H28:J28) -> 0 | L28: =ROUND(E28*F28,2) -> 0 | M28: =ROUND(E28*H28,2) -> 0 | N28: =ROUND(E28*I28,2) -> 0 | O28: =ROUND(E28*J28,2) -> 0 | P28: =SUM(M28:O28) -> 0
A29: 12 | C29: Sienas, ēku un būvju karkasu konstrukcijas | H29: =ROUND(F29*G29,2) -> 0 | K29: =SUM(H29:J29) -> 0 | L29: =ROUND(E29*F29,2) -> 0 | M29: =ROUND(E29*H29,2) -> 0 | N29: =ROUND(E29*I29,2) -> 0 | O29: =ROUND(E29*J29,2) -> 0 | P29: =SUM(M29:O29) -> 0
A30: 13 | C30: Montēt koka karkasa konstrukciju, ieskaitot visus stiprinājumus un palīgmateriālus. 1. Koka konstrukcijas apdraudējuma klase I (LVS EN 335-1) 2. Koka konstrukciju lietojamības klase II (LVS EN 1995-1-1) 3. Koka nesošām konstrukcijām lietot ne zemākus par (B) šķiru skujkokus ar relatīvo mitrumu mazāku par 15-20%, stiprības klase C24 (pēc EN 338). 4. Kokmateriāli impregnēti, saskaņā ar LVS EN 351-1 2.klase. | D30: m3 | E30: 2.2 | H30: =ROUND(F30*G30,2) -> 0 | K30: =SUM(H30:J30) -> 0 | L30: =ROUND(E30*F30,2) -> 0 | M30: =ROUND(E30*H30,2) -> 0 | N30: =ROUND(E30*I30,2) -> 0 | O30: =ROUND(E30*J30,2) -> 0 | P30: =SUM(M30:O30) -> 0
A31: 14 | C31: Montēt koka jumta konstrukciju, ieskaitot visus stiprinājumus un palīgmateriālus. 1. Koka konstrukcijas apdraudējuma klase I (LVS EN 335-1) 2. Koka konstrukciju lietojamības klase II (LVS EN 1995-1-1) 3. Koka nesošām konstrukcijām lietot ne zemākus par (B) šķiru skujkokus ar relatīvo mitrumu mazāku par 15-20%, stiprības klase C24 (pēc EN 338). 4. Kokmateriāli impregnēti, saskaņā ar LVS EN 351-1 2.klase. | D31: m3 | E31: 3.7 | H31: =ROUND(F31*G31,2) -> 0 | K31: =SUM(H31:J31) -> 0 | L31: =ROUND(E31*F31,2) -> 0 | M31: =ROUND(E31*H31,2) -> 0 | N31: =ROUND(E31*I31,2) -> 0 | O31: =ROUND(E31*J31,2) -> 0 | P31: =SUM(M31:O31) -> 0
A32: 15 | C32: Grīdu pamatnes, segumi | H32: =ROUND(F32*G32,2) -> 0 | K32: =SUM(H32:J32) -> 0 | L32: =ROUND(E32*F32,2) -> 0 | M32: =ROUND(E32*H32,2) -> 0 | N32: =ROUND(E32*I32,2) -> 0 | O32: =ROUND(E32*J32,2) -> 0 | P32: =SUM(M32:O32) -> 0
A33: 16 | C33: Ieklāt blietētu minerālvielu maisījuma kārtu 0/45 | D33: m3 | E33: 6.6 | H33: =ROUND(F33*G33,2) -> 0 | K33: =SUM(H33:J33) -> 0 | L33: =ROUND(E33*F33,2) -> 0 | M33: =ROUND(E33*H33,2) -> 0 | N33: =ROUND(E33*I33,2) -> 0 | O33: =ROUND(E33*J33,2) -> 0 | P33: =SUM(M33:O33) -> 0
A34: 17 | C34: Ieklāt izsiju izlīdzinošo slāni 50mm biezumā | D34: m2 | E34: 44 | H34: =ROUND(F34*G34,2) -> 0 | K34: =SUM(H34:J34) -> 0 | L34: =ROUND(E34*F34,2) -> 0 | M34: =ROUND(E34*H34,2) -> 0 | N34: =ROUND(E34*I34,2) -> 0 | O34: =ROUND(E34*J34,2) -> 0 | P34: =SUM(M34:O34) -> 0
A35: 18 | C35: Ieklāt betona bruģakmens segumu 60mm biezumā | D35: m2 | E35: 44 | H35: =ROUND(F35*G35,2) -> 0 | K35: =SUM(H35:J35) -> 0 | L35: =ROUND(E35*F35,2) -> 0 | M35: =ROUND(E35*H35,2) -> 0 | N35: =ROUND(E35*I35,2) -> 0 | O35: =ROUND(E35*J35,2) -> 0 | P35: =SUM(M35:O35) -> 0
A36: 19 | C36: Atjaunot grīdu darbnīcas ēkā | D36: m2 | E36: 14 | H36: =ROUND(F36*G36,2) -> 0 | K36: =SUM(H36:J36) -> 0 | L36: =ROUND(E36*F36,2) -> 0 | M36: =ROUND(E36*H36,2) -> 0 | N36: =ROUND(E36*I36,2) -> 0 | O36: =ROUND(E36*J36,2) -> 0 | P36: =SUM(M36:O36) -> 0
A37: 20 | C37: Jumti, segumi | H37: =ROUND(F37*G37,2) -> 0 | K37: =SUM(H37:J37) -> 0 | L37: =ROUND(E37*F37,2) -> 0 | M37: =ROUND(E37*H37,2) -> 0 | N37: =ROUND(E37*I37,2) -> 0 | O37: =ROUND(E37*J37,2) -> 0 | P37: =SUM(M37:O37) -> 0
A38: 21 | C38: Ieklāt metāla jumta segumu, ieskaitot visus stiprinājumus un palīgmateriālus Metāla profilloksnes "Ruuki" Classic C 50 Plus Matt; t =0,6 mm vai ekvivalents | D38: m2 | E38: 110 | H38: =ROUND(F38*G38,2) -> 0 | K38: =SUM(H38:J38) -> 0 | L38: =ROUND(E38*F38,2) -> 0 | M38: =ROUND(E38*H38,2) -> 0 | N38: =ROUND(E38*I38,2) -> 0 | O38: =ROUND(E38*J38,2) -> 0 | P38: =SUM(M38:O38) -> 0
A39: 22 | C39: Ieklāt difūzijas membrānu 3 slāņu 100% polipropilēns, sd= 0.04m | D39: m2 | E39: 110 | H39: =ROUND(F39*G39,2) -> 0 | K39: =SUM(H39:J39) -> 0 | L39: =ROUND(E39*F39,2) -> 0 | M39: =ROUND(E39*H39,2) -> 0 | N39: =ROUND(E39*I39,2) -> 0 | O39: =ROUND(E39*J39,2) -> 0 | P39: =SUM(M39:O39) -> 0
A40: 23 | C40: Montēt skārda notekrenes d150mm, ieskaitot visus stiprinājumus un palīgmateriālus | D40: m | E40: 32 | H40: =ROUND(F40*G40,2) -> 0 | K40: =SUM(H40:J40) -> 0 | L40: =ROUND(E40*F40,2) -> 0 | M40: =ROUND(E40*H40,2) -> 0 | N40: =ROUND(E40*I40,2) -> 0 | O40: =ROUND(E40*J40,2) -> 0 | P40: =SUM(M40:O40) -> 0
A41: 24 | C41: Montēt skārda notekcaurules d125mm, ieskaitot visus stiprinājumus un palīgmateriālus | D41: m | E41: 9.6 | H41: =ROUND(F41*G41,2) -> 0 | K41: =SUM(H41:J41) -> 0 | L41: =ROUND(E41*F41,2) -> 0 | M41: =ROUND(E41*H41,2) -> 0 | N41: =ROUND(E41*I41,2) -> 0 | O41: =ROUND(E41*J41,2) -> 0 | P41: =SUM(M41:O41) -> 0
A42: 25 | C42: Montēt sniega barjeru, ieskaitot visus stiprinājumus un palīgmateriālus | D42: m | E42: 32 | H42: =ROUND(F42*G42,2) -> 0 | K42: =SUM(H42:J42) -> 0 | L42: =ROUND(E42*F42,2) -> 0 | M42: =ROUND(E42*H42,2) -> 0 | N42: =ROUND(E42*I42,2) -> 0 | O42: =ROUND(E42*J42,2) -> 0 | P42: =SUM(M42:O42) -> 0
A43: 26 | C43: Montēt jumta lūku 530x830mm neapkurināmām telpām, ieskaitot visus stiprinājumus un palīgmateriālus | D43: gb | E43: 1 | H43: =ROUND(F43*G43,2) -> 0 | K43: =SUM(H43:J43) -> 0 | L43: =ROUND(E43*F43,2) -> 0 | M43: =ROUND(E43*H43,2) -> 0 | N43: =ROUND(E43*I43,2) -> 0 | O43: =ROUND(E43*J43,2) -> 0 | P43: =SUM(M43:O43) -> 0
A44: 27 | C44: Esošais skurstenis saglabājams, remontējams | D44: kpl | E44: 1 | H44: =ROUND(F44*G44,2) -> 0 | K44: =SUM(H44:J44) -> 0 | L44: =ROUND(E44*F44,2) -> 0 | M44: =ROUND(E44*H44,2) -> 0 | N44: =ROUND(E44*I44,2) -> 0 | O44: =ROUND(E44*J44,2) -> 0 | P44: =SUM(M44:O44) -> 0
A45: 28 | C45: Montēt skārda kori, ieskaitot visus stiprinājumus un palīgmateriālus | D45: m | E45: 15.96 | H45: =ROUND(F45*G45,2) -> 0 | K45: =SUM(H45:J45) -> 0 | L45: =ROUND(E45*F45,2) -> 0 | M45: =ROUND(E45*H45,2) -> 0 | N45: =ROUND(E45*I45,2) -> 0 | O45: =ROUND(E45*J45,2) -> 0 | P45: =SUM(M45:O45) -> 0
A46: 29 | C46: Montēt skārda lāseni, ieskaitot visus stiprinājumus un palīgmateriālus | D46: m | E46: 45.48 | H46: =ROUND(F46*G46,2) -> 0 | K46: =SUM(H46:J46) -> 0 | L46: =ROUND(E46*F46,2) -> 0 | M46: =ROUND(E46*H46,2) -> 0 | N46: =ROUND(E46*I46,2) -> 0 | O46: =ROUND(E46*J46,2) -> 0 | P46: =SUM(M46:O46) -> 0
A47: 30 | C47: Stiprināt vējdēli 25x150mm, ieskaitot visus stiprinājumus un palīgmateriālus | D47: m | E47: 32 | H47: =ROUND(F47*G47,2) -> 0 | K47: =SUM(H47:J47) -> 0 | L47: =ROUND(E47*F47,2) -> 0 | M47: =ROUND(E47*H47,2) -> 0 | N47: =ROUND(E47*I47,2) -> 0 | O47: =ROUND(E47*J47,2) -> 0 | P47: =SUM(M47:O47) -> 0
A48: 31 | C48: Aiļu aizpildījumu elementi, speciālo konstrukciju fasādes | H48: =ROUND(F48*G48,2) -> 0 | K48: =SUM(H48:J48) -> 0 | L48: =ROUND(E48*F48,2) -> 0 | M48: =ROUND(E48*H48,2) -> 0 | N48: =ROUND(E48*I48,2) -> 0 | O48: =ROUND(E48*J48,2) -> 0 | P48: =SUM(M48:O48) -> 0
A49: 32 | C49: Montēt logu L-1 650x1500mm, ieskaitot visus palīgmateriālus un stiprinājumus. PVC logs, Verams Krāsas tonis - "Ozols" | D49: gb | E49: 2 | H49: =ROUND(F49*G49,2) -> 0 | K49: =SUM(H49:J49) -> 0 | L49: =ROUND(E49*F49,2) -> 0 | M49: =ROUND(E49*H49,2) -> 0 | N49: =ROUND(E49*I49,2) -> 0 | O49: =ROUND(E49*J49,2) -> 0 | P49: =SUM(M49:O49) -> 0
A50: 33 | C50: Montēt durvis D-1 1100x2100mm, ieskaitot visus palīgmateriālus un stiprinājumus. Metāla ārdurvis, ar aprīkojumu: Ar slieksni, slēdzene ar gumijas blīvējumu durvju vertnē. Tonis - RAL -7037( pelēks) | D50: gb | E50: 1 | H50: =ROUND(F50*G50,2) -> 0 | K50: =SUM(H50:J50) -> 0 | L50: =ROUND(E50*F50,2) -> 0 | M50: =ROUND(E50*H50,2) -> 0 | N50: =ROUND(E50*I50,2) -> 0 | O50: =ROUND(E50*J50,2) -> 0 | P50: =SUM(M50:O50) -> 0
A51: 34 | C51: Montēt durvis D-2 1000x2100mm, ieskaitot visus palīgmateriālus un stiprinājumus. Vienviru koka durvis, ar slēdzeni Tonis - "Pinotex "- Ozols | D51: gb | E51: 1 | H51: =ROUND(F51*G51,2) -> 0 | K51: =SUM(H51:J51) -> 0 | L51: =ROUND(E51*F51,2) -> 0 | M51: =ROUND(E51*H51,2) -> 0 | N51: =ROUND(E51*I51,2) -> 0 | O51: =ROUND(E51*J51,2) -> 0 | P51: =SUM(M51:O51) -> 0
A52: 35 | C52: Montēt durvis D-3 2000x2100mm, ieskaitot visus palīgmateriālus un stiprinājumus. Divviru koka vārti , ar slēdzeni Tonis - "Pinotex "- Ozols | D52: gb | E52: 1 | H52: =ROUND(F52*G52,2) -> 0 | K52: =SUM(H52:J52) -> 0 | L52: =ROUND(E52*F52,2) -> 0 | M52: =ROUND(E52*H52,2) -> 0 | N52: =ROUND(E52*I52,2) -> 0 | O52: =ROUND(E52*J52,2) -> 0 | P52: =SUM(M52:O52) -> 0
A53: 36 | C53: Uzstādīt tvaika izolācijas lenti, ieskaitot visus stiprinājumus un palīgmateriālus. | D53: m | E53: 15 | H53: =ROUND(F53*G53,2) -> 0 | K53: =SUM(H53:J53) -> 0 | L53: =ROUND(E53*F53,2) -> 0 | M53: =ROUND(E53*H53,2) -> 0 | N53: =ROUND(E53*I53,2) -> 0 | O53: =ROUND(E53*J53,2) -> 0 | P53: =SUM(M53:O53) -> 0
A54: 37 | C54: Uzstādīt difuzijas lenti, ieskaitot visus stiprinājumus un palīgmateriālus. | D54: m | E54: 15 | H54: =ROUND(F54*G54,2) -> 0 | K54: =SUM(H54:J54) -> 0 | L54: =ROUND(E54*F54,2) -> 0 | M54: =ROUND(E54*H54,2) -> 0 | N54: =ROUND(E54*I54,2) -> 0 | O54: =ROUND(E54*J54,2) -> 0 | P54: =SUM(M54:O54) -> 0
A55: 38 | C55: Uzstādīt iekšējo palodzi, ieskaitot visus stiprinājumus un palīgmateriālus. | D55: m | E55: 1.3 | H55: =ROUND(F55*G55,2) -> 0 | K55: =SUM(H55:J55) -> 0 | L55: =ROUND(E55*F55,2) -> 0 | M55: =ROUND(E55*H55,2) -> 0 | N55: =ROUND(E55*I55,2) -> 0 | O55: =ROUND(E55*J55,2) -> 0 | P55: =SUM(M55:O55) -> 0
A56: 39 | C56: Uzstādīt ārējo skārda palodzi, ieskaitot visus stiprinājumus un palīgmateriālus. | D56: m | E56: 1.3 | H56: =ROUND(F56*G56,2) -> 0 | K56: =SUM(H56:J56) -> 0 | L56: =ROUND(E56*F56,2) -> 0 | M56: =ROUND(E56*H56,2) -> 0 | N56: =ROUND(E56*I56,2) -> 0 | O56: =ROUND(E56*J56,2) -> 0 | P56: =SUM(M56:O56) -> 0
A57: 40 | C57: Iekšējie apdares darbi | H57: =ROUND(F57*G57,2) -> 0 | K57: =SUM(H57:J57) -> 0 | L57: =ROUND(E57*F57,2) -> 0 | M57: =ROUND(E57*H57,2) -> 0 | N57: =ROUND(E57*I57,2) -> 0 | O57: =ROUND(E57*J57,2) -> 0 | P57: =SUM(M57:O57) -> 0
A58: 41 | C58: Esošo velvju griestu apsekošana, atjaunošana un krāsošana ar ūdens emulsijas krāsu | D58: m2 | E58: 18.2 | H58: =ROUND(F58*G58,2) -> 0 | K58: =SUM(H58:J58) -> 0 | L58: =ROUND(E58*F58,2) -> 0 | M58: =ROUND(E58*H58,2) -> 0 | N58: =ROUND(E58*I58,2) -> 0 | O58: =ROUND(E58*J58,2) -> 0 | P58: =SUM(M58:O58) -> 0
A59: 42 | C59: Iekšsienu attīrīšana, sagatavošana un pārkrāsošana | D59: m2 | E59: 45 | H59: =ROUND(F59*G59,2) -> 0 | K59: =SUM(H59:J59) -> 0 | L59: =ROUND(E59*F59,2) -> 0 | M59: =ROUND(E59*H59,2) -> 0 | N59: =ROUND(E59*I59,2) -> 0 | O59: =ROUND(E59*J59,2) -> 0 | P59: =SUM(M59:O59) -> 0
A60: 43 | C60: Sienu dēļu apšuvuma izbūve un koka ārsienas krāsošana ar eļļas krāsu kokam | D60: m2 | E60: 26.6 | H60: =ROUND(F60*G60,2) -> 0 | K60: =SUM(H60:J60) -> 0 | L60: =ROUND(E60*F60,2) -> 0 | M60: =ROUND(E60*H60,2) -> 0 | N60: =ROUND(E60*I60,2) -> 0 | O60: =ROUND(E60*J60,2) -> 0 | P60: =SUM(M60:O60) -> 0
A61: 44 | C61: Ārējie apdares darbi | H61: =ROUND(F61*G61,2) -> 0 | K61: =SUM(H61:J61) -> 0 | L61: =ROUND(E61*F61,2) -> 0 | M61: =ROUND(E61*H61,2) -> 0 | N61: =ROUND(E61*I61,2) -> 0 | O61: =ROUND(E61*J61,2) -> 0 | P61: =SUM(M61:O61) -> 0
A62: 45 | C62: Apšūt fasādi ar krāsotiem apdares dēļiem un koka dekoratīvajiem elementiem, ieskaitot visus palīgmateriālus un stiprinājumus. Dekoratīvās uzlikas- 22x95mm Ēvelēti, krāsoti dēļi- 45 X145mm Dēļu apšuvums, puspunde - 22 X120mm | D62: m2 | E62: 67.95 | H62: =ROUND(F62*G62,2) -> 0 | K62: =SUM(H62:J62) -> 0 | L62: =ROUND(E62*F62,2) -> 0 | M62: =ROUND(E62*H62,2) -> 0 | N62: =ROUND(E62*I62,2) -> 0 | O62: =ROUND(E62*J62,2) -> 0 | P62: =SUM(M62:O62) -> 0
A63: 46 | C63: Montēt skārda lāseni, ieskaitot visus palīgmateriālus un stiprinājumus | D63: m | E63: 25.42 | H63: =ROUND(F63*G63,2) -> 0 | K63: =SUM(H63:J63) -> 0 | L63: =ROUND(E63*F63,2) -> 0 | M63: =ROUND(E63*H63,2) -> 0 | N63: =ROUND(E63*I63,2) -> 0 | O63: =ROUND(E63*J63,2) -> 0 | P63: =SUM(M63:O63) -> 0
A64: 47 | C64: Esošā akmens mūra ārsienu bojājumu un šuvju atjaunošana | D64: m2 | E64: 56 | H64: =ROUND(F64*G64,2) -> 0 | K64: =SUM(H64:J64) -> 0 | L64: =ROUND(E64*F64,2) -> 0 | M64: =ROUND(E64*H64,2) -> 0 | N64: =ROUND(E64*I64,2) -> 0 | O64: =ROUND(E64*J64,2) -> 0 | P64: =SUM(M64:O64) -> 0
A65: 48 | C65: Ārsienas ķieģeļu dekoratīvo apmūrējuma atjaunošana | D65: m2 | E65: 7.5 | H65: =ROUND(F65*G65,2) -> 0 | K65: =SUM(H65:J65) -> 0 | L65: =ROUND(E65*F65,2) -> 0 | M65: =ROUND(E65*H65,2) -> 0 | N65: =ROUND(E65*I65,2) -> 0 | O65: =ROUND(E65*J65,2) -> 0 | P65: =SUM(M65:O65) -> 0
A67: Tiešās izmaksas kopā, t.sk. Darba dēvēja sociālais nodoklis (23,59%) | L67: =SUM(L18:L66) -> 0 | M67: =SUM(M18:M66) -> 0 | N67: =SUM(N18:N66) -> 0 | O67: =SUM(O18:O66) -> 0 | P67: =SUM(P18:P66) -> 0
A69: =KT!A23 -> Sastādīja: | D69: =KT!D23 -> 2024.gada __._________
A70: (paraksts un tā atšifrējums, datums)
A71: =KT!A25 -> Sertifikāta Nr.:
A73: =KT!A27 -> Pārbaudīja: | D73: =KT!D23 -> 2024.gada __._________
A74: (paraksts un tā atšifrējums, datums)
A75: =KT!A29 -> Sertifikāta Nr.:

Sheet 1,12
A2: Lokālā tāme Nr.1,12
A3: ='KA1'!C27 -> Slēgtas nojumes Nr.4;5;6
A4: (būvdarbu veids vai konstruktīvā elementa nosaukums)
A6: Objekta nosaukums: | C6: =KT!B9 -> ĒKU ATJAUNOŠANA, PĀRBŪVE, NOJAUKŠANA UN TERITORIJAS LABIEKĀRTOŠANA I un II kārta
A7: Būves nosaukums: | C7: =KT!B10 -> Pirmsskolas izglītības iestāde
A8: Objekta adrese: | C8: =KT!B11 -> Dārtas iela 1, Cēsis, Cēsu novads
A9: Pasūtītājs: | C9: =KT!B12 -> Cēsu novada pašvaldība Raunas ielā 4, Cēsīs, Cēsu novadā, LV-4101; Reģ.Nr. 90000031048
A10: Būvuzņēmējs: | C10: =KT!B13 -> SIA
A12: Tāme sastādīta 2024. gada tirgus cenās, pamatojoties uz būvprojekta rasējumiem | M12: Tāmes izmaksas: | O12: =P61 -> 0 | P12: EUR
N13: Tāme sastādītā | O13: =KT!D23 -> 2024.gada __._________
A15: Nr.p.k. | B15: Kods | C15: Būvdarbu nosaukums | D15: Mērvienība | E15: Daudzums | F15: Vienības izmaksas | L15: Kopā uz visu apjomu
F16: Laika norma (c/h) | G16: Darba samaksas likme (euro/h) | H16: Darba alga | I16: Būvizstrādājumi | J16: Mehānismi | K16: KOPĀ | L16: Darbietilpība (c/h) | M16: Darba alga | N16: Būvizstrādājumi | O16: Mehānismi | P16: Summa
A18: 1 | C18: Zemes darbi | H18: =ROUND(F18*G18,2) -> 0 | K18: =SUM(H18:J18) -> 0 | L18: =ROUND(E18*F18,2) -> 0 | M18: =ROUND(E18*H18,2) -> 0 | N18: =ROUND(E18*I18,2) -> 0 | O18: =ROUND(E18*J18,2) -> 0 | P18: =SUM(M18:O18) -> 0
A19: 2 | C19: Rakt būvbedri līdz projektā paredzētajam dziļumam | D19: m3 | E19: 72.09 | H19: =ROUND(F19*G19,2) -> 0 | K19: =SUM(H19:J19) -> 0 | L19: =ROUND(E19*F19,2) -> 0 | M19: =ROUND(E19*H19,2) -> 0 | N19: =ROUND(E19*I19,2) -> 0 | O19: =ROUND(E19*J19,2) -> 0 | P19: =SUM(M19:O19) -> 0
A20: 3 | C20: Lieko grunti izvest utilizācijai | D20: m3 | E20: 72.09 | H20: =ROUND(F20*G20,2) -> 0 | K20: =SUM(H20:J20) -> 0 | L20: =ROUND(E20*F20,2) -> 0 | M20: =ROUND(E20*H20,2) -> 0 | N20: =ROUND(E20*I20,2) -> 0 | O20: =ROUND(E20*J20,2) -> 0 | P20: =SUM(M20:O20) -> 0
A21: 4 | C21: Aizbērt pamatus izmantot rupjas vai vidēji rupjas smiltis. Aizberumu jāveido pa 20 cm biezām kārtām Blietēta vidēji rupja smilts fr. 0,2-0,6mm | D21: m3 | E21: 32.46 | H21: =ROUND(F21*G21,2) -> 0 | K21: =SUM(H21:J21) -> 0 | L21: =ROUND(E21*F21,2) -> 0 | M21: =ROUND(E21*H21,2) -> 0 | N21: =ROUND(E21*I21,2) -> 0 | O21: =ROUND(E21*J21,2) -> 0 | P21: =SUM(M21:O21) -> 0
A22: 5 | C22: Pamati un pamatnes | H22: =ROUND(F22*G22,2) -> 0 | K22: =SUM(H22:J22) -> 0 | L22: =ROUND(E22*F22,2) -> 0 | M22: =ROUND(E22*H22,2) -> 0 | N22: =ROUND(E22*I22,2) -> 0 | O22: =ROUND(E22*J22,2) -> 0 | P22: =SUM(M22:O22) -> 0
A23: 6 | C23: Pamatojums | H23: =ROUND(F23*G23,2) -> 0 | K23: =SUM(H23:J23) -> 0 | L23: =ROUND(E23*F23,2) -> 0 | M23: =ROUND(E23*H23,2) -> 0 | N23: =ROUND(E23*I23,2) -> 0 | O23: =ROUND(E23*J23,2) -> 0 | P23: =SUM(M23:O23) -> 0
A24: 7 | C24: Ierīkot blietētu šķembu kārtu zem pamatiem. Blietētas šķembas, frakcija 0-16mm | D24: m3 | E24: 11.7 | H24: =ROUND(F24*G24,2) -> 0 | K24: =SUM(H24:J24) -> 0 | L24: =ROUND(E24*F24,2) -> 0 | M24: =ROUND(E24*H24,2) -> 0 | N24: =ROUND(E24*I24,2) -> 0 | O24: =ROUND(E24*J24,2) -> 0 | P24: =SUM(M24:O24) -> 0
A25: 8 | C25: Pamati | H25: =ROUND(F25*G25,2) -> 0 | K25: =SUM(H25:J25) -> 0 | L25: =ROUND(E25*F25,2) -> 0 | M25: =ROUND(E25*H25,2) -> 0 | N25: =ROUND(E25*I25,2) -> 0 | O25: =ROUND(E25*J25,2) -> 0 | P25: =SUM(M25:O25) -> 0
A26: 9 | C26: Betonēt veidņos pamatus ar C25/30 XC2 klases betonu un stiegrojot ar B500B terauda stiegrojumu. Ieskaitot visus stiprinājumus un palīgmateriālus. | D26: m3 | E26: 11.07 | H26: =ROUND(F26*G26,2) -> 0 | K26: =SUM(H26:J26) -> 0 | L26: =ROUND(E26*F26,2) -> 0 | M26: =ROUND(E26*H26,2) -> 0 | N26: =ROUND(E26*I26,2) -> 0 | O26: =ROUND(E26*J26,2) -> 0 | P26: =SUM(M26:O26) -> 0
A27: 10 | C27: Ieklāt hidroizolāciju ( ruberoīds 2. kārtas uz bitumena mastikas) | D27: m2 | E27: 15.6 | H27: =ROUND(F27*G27,2) -> 0 | K27: =SUM(H27:J27) -> 0 | L27: =ROUND(E27*F27,2) -> 0 | M27: =ROUND(E27*H27,2) -> 0 | N27: =ROUND(E27*I27,2) -> 0 | O27: =ROUND(E27*J27,2) -> 0 | P27: =SUM(M27:O27) -> 0
A28: 11 | C28: Sienas, ēku un būvju karkasu konstrukcijas | H28: =ROUND(F28*G28,2) -> 0 | K28: =SUM(H28:J28) -> 0 | L28: =ROUND(E28*F28,2) -> 0 | M28: =ROUND(E28*H28,2) -> 0 | N28: =ROUND(E28*I28,2) -> 0 | O28: =ROUND(E28*J28,2) -> 0 | P28: =SUM(M28:O28) -> 0
A29: 12 | C29: Montēt koka karkasa konstrukciju, ieskaitot visus stiprinājumus un palīgmateriālus. 1. Koka konstrukcijas apdraudējuma klase(LVS EN 335-1) I 2. Koka konstrukciju lietojamības klase(LVS EN 1995-1-1) II 3. Koka nesošām konstrukcijām lietot ne zemākus par (B) šķiru skujkokus ar relatīvo mitrumu mazāku par 15-20%, stiprības klase C24 (pēc EN 338). 4. Ieliekamās detaļas no firmas Vormann kataloga vai analogs. | D29: m3 | E29: 3.86 | H29: =ROUND(F29*G29,2) -> 0 | K29: =SUM(H29:J29) -> 0 | L29: =ROUND(E29*F29,2) -> 0 | M29: =ROUND(E29*H29,2) -> 0 | N29: =ROUND(E29*I29,2) -> 0 | O29: =ROUND(E29*J29,2) -> 0 | P29: =SUM(M29:O29) -> 0
A30: 13 | C30: Montēt jumta karkasa konstrukciju, ieskaitot visus stiprinājumus un palīgmateriālus. 1. Koka konstrukcijas apdraudējuma klase(LVS EN 335-1) I 2. Koka konstrukciju lietojamības klase(LVS EN 1995-1-1) II 3. Koka nesošām konstrukcijām lietot ne zemākus par (B) šķiru skujkokus ar relatīvo mitrumu mazāku par 15-20%, stiprības klase C24 (pēc EN 338). 4. Ieliekamās detaļas no firmas Vormann kataloga vai analogs. | D30: m3 | E30: 5.09 | H30: =ROUND(F30*G30,2) -> 0 | K30: =SUM(H30:J30) -> 0 | L30: =ROUND(E30*F30,2) -> 0 | M30: =ROUND(E30*H30,2) -> 0 | N30: =ROUND(E30*I30,2) -> 0 | O30: =ROUND(E30*J30,2) -> 0 | P30: =SUM(M30:O30) -> 0
A31: 14 | C31: Grīdu pamatnes, segumi | H31: =ROUND(F31*G31,2) -> 0 | K31: =SUM(H31:J31) -> 0 | L31: =ROUND(E31*F31,2) -> 0 | M31: =ROUND(E31*H31,2) -> 0 | N31: =ROUND(E31*I31,2) -> 0 | O31: =ROUND(E31*J31,2) -> 0 | P31: =SUM(M31:O31) -> 0
A32: 15 | C32: Ieklāt hidroizolāciju divslāņu polietilēns PE LD vai ekviv. | D32: m2 | E32: 75 | H32: =ROUND(F32*G32,2) -> 0 | K32: =SUM(H32:J32) -> 0 | L32: =ROUND(E32*F32,2) -> 0 | M32: =ROUND(E32*H32,2) -> 0 | N32: =ROUND(E32*I32,2) -> 0 | O32: =ROUND(E32*J32,2) -> 0 | P32: =SUM(M32:O32) -> 0
A33: 16 | C33: Stiprināt impregnētu koka gulsni (3.klases) s=500mm - 50 mm, ieskaitot visus stiprinājumus un palīgmateriālus. | D33: m2 | E33: 75 | H33: =ROUND(F33*G33,2) -> 0 | K33: =SUM(H33:J33) -> 0 | L33: =ROUND(E33*F33,2) -> 0 | M33: =ROUND(E33*H33,2) -> 0 | N33: =ROUND(E33*I33,2) -> 0 | O33: =ROUND(E33*J33,2) -> 0 | P33: =SUM(M33:O33) -> 0
A34: 17 | C34: Ieklāt dēļu grīdu 38x100mm, ieskaitot visus stiprinājumus un palīgmateriālus. | D34: m2 | E34: 52.2 | H34: =ROUND(F34*G34,2) -> 0 | K34: =SUM(H34:J34) -> 0 | L34: =ROUND(E34*F34,2) -> 0 | M34: =ROUND(E34*H34,2) -> 0 | N34: =ROUND(E34*I34,2) -> 0 | O34: =ROUND(E34*J34,2) -> 0 | P34: =SUM(M34:O34) -> 0
A35: 18 | C35: Ieklāt terases grīdu 35x120mm, ieskaitot visus stiprinājumus un palīgmateriālus. | D35: m2 | E35: 22.8 | H35: =ROUND(F35*G35,2) -> 0 | K35: =SUM(H35:J35) -> 0 | L35: =ROUND(E35*F35,2) -> 0 | M35: =ROUND(E35*H35,2) -> 0 | N35: =ROUND(E35*I35,2) -> 0 | O35: =ROUND(E35*J35,2) -> 0 | P35: =SUM(M35:O35) -> 0
A36: 19 | C36: Jumti, segumi | E36: 0 | H36: =ROUND(F36*G36,2) -> 0 | K36: =SUM(H36:J36) -> 0 | L36: =ROUND(E36*F36,2) -> 0 | M36: =ROUND(E36*H36,2) -> 0 | N36: =ROUND(E36*I36,2) -> 0 | O36: =ROUND(E36*J36,2) -> 0 | P36: =SUM(M36:O36) -> 0
A37: 20 | C37: Ieklāt metāla jumta segumu, ieskaitot visus stiprinājumus un palīgmateriālus Metāla profilloksnes "Ruuki" Classic C 50 Plus Matt; t =0,6 mm vai ekvivalents | D37: m2 | E37: 120.9 | H37: =ROUND(F37*G37,2) -> 0 | K37: =SUM(H37:J37) -> 0 | L37: =ROUND(E37*F37,2) -> 0 | M37: =ROUND(E37*H37,2) -> 0 | N37: =ROUND(E37*I37,2) -> 0 | O37: =ROUND(E37*J37,2) -> 0 | P37: =SUM(M37:O37) -> 0
A38: 21 | C38: Ieklāt difūzijas membrānu 3 slāņu 100% polipropilēns, sd= 0.04m | D38: m2 | E38: 120.9 | H38: =ROUND(F38*G38,2) -> 0 | K38: =SUM(H38:J38) -> 0 | L38: =ROUND(E38*F38,2) -> 0 | M38: =ROUND(E38*H38,2) -> 0 | N38: =ROUND(E38*I38,2) -> 0 | O38: =ROUND(E38*J38,2) -> 0 | P38: =SUM(M38:O38) -> 0
A39: 22 | C39: Montēt skārda notekrenes d150mm, ieskaitot visus stiprinājumus un palīgmateriālus | D39: m | E39: 36.6 | H39: =ROUND(F39*G39,2) -> 0 | K39: =SUM(H39:J39) -> 0 | L39: =ROUND(E39*F39,2) -> 0 | M39: =ROUND(E39*H39,2) -> 0 | N39: =ROUND(E39*I39,2) -> 0 | O39: =ROUND(E39*J39,2) -> 0 | P39: =SUM(M39:O39) -> 0
A40: 23 | C40: Montēt skārda notekcaurules d125mm, ieskaitot visus stiprinājumus un palīgmateriālus | D40: m | E40: 13.8 | H40: =ROUND(F40*G40,2) -> 0 | K40: =SUM(H40:J40) -> 0 | L40: =ROUND(E40*F40,2) -> 0 | M40: =ROUND(E40*H40,2) -> 0 | N40: =ROUND(E40*I40,2) -> 0 | O40: =ROUND(E40*J40,2) -> 0 | P40: =SUM(M40:O40) -> 0
A41: 24 | C41: Montēt skārda kori, ieskaitot visus stiprinājumus un palīgmateriālus | D41: m | E41: 18.3 | H41: =ROUND(F41*G41,2) -> 0 | K41: =SUM(H41:J41) -> 0 | L41: =ROUND(E41*F41,2) -> 0 | M41: =ROUND(E41*H41,2) -> 0 | N41: =ROUND(E41*I41,2) -> 0 | O41: =ROUND(E41*J41,2) -> 0 | P41: =SUM(M41:O41) -> 0
A42: 25 | C42: Montēt skārda lāseni, ieskaitot visus stiprinājumus un palīgmateriālus | D42: m | E42: 75.84 | H42: =ROUND(F42*G42,2) -> 0 | K42: =SUM(H42:J42) -> 0 | L42: =ROUND(E42*F42,2) -> 0 | M42: =ROUND(E42*H42,2) -> 0 | N42: =ROUND(E42*I42,2) -> 0 | O42: =ROUND(E42*J42,2) -> 0 | P42: =SUM(M42:O42) -> 0
A43: 26 | C43: Stiprināt vējdēli 25x150mm, ieskaitot visus stiprinājumus un palīgmateriālus | D43: m | E43: 36.6 | H43: =ROUND(F43*G43,2) -> 0 | K43: =SUM(H43:J43) -> 0 | L43: =ROUND(E43*F43,2) -> 0 | M43: =ROUND(E43*H43,2) -> 0 | N43: =ROUND(E43*I43,2) -> 0 | O43: =ROUND(E43*J43,2) -> 0 | P43: =SUM(M43:O43) -> 0
A44: 27 | C44: Aiļu aizpildījumu elementi, speciālo konstrukciju fasādes | E44: 0 | H44: =ROUND(F44*G44,2) -> 0 | K44: =SUM(H44:J44) -> 0 | L44: =ROUND(E44*F44,2) -> 0 | M44: =ROUND(E44*H44,2) -> 0 | N44: =ROUND(E44*I44,2) -> 0 | O44: =ROUND(E44*J44,2) -> 0 | P44: =SUM(M44:O44) -> 0
A45: 28 | C45: Montēt logu L-1 900x1300mm, ieskaitot visus palīgmateriālus un stiprinājumus. Koka logs, neverams, Laminēts stikls Krāsas tonis - "Ozols" | D45: gb | E45: 18 | H45: =ROUND(F45*G45,2) -> 0 | K45: =SUM(H45:J45) -> 0 | L45: =ROUND(E45*F45,2) -> 0 | M45: =ROUND(E45*H45,2) -> 0 | N45: =ROUND(E45*I45,2) -> 0 | O45: =ROUND(E45*J45,2) -> 0 | P45: =SUM(M45:O45) -> 0
A46: 29 | C46: Montēt logu L-2 900x1300mm, ieskaitot visus palīgmateriālus un stiprinājumus. Koka logs, verams, Laminēts stikls Krāsas tonis - "Ozols" | D46: gb | E46: 6 | H46: =ROUND(F46*G46,2) -> 0 | K46: =SUM(H46:J46) -> 0 | L46: =ROUND(E46*F46,2) -> 0 | M46: =ROUND(E46*H46,2) -> 0 | N46: =ROUND(E46*I46,2) -> 0 | O46: =ROUND(E46*J46,2) -> 0 | P46: =SUM(M46:O46) -> 0
A47: 30 | C47: Montēt logu L-3 900x1300mm, ieskaitot visus palīgmateriālus un stiprinājumus. Koka logs, vitrīna, Laminēts stikls | D47: gb | E47: 6 | H47: =ROUND(F47*G47,2) -> 0 | K47: =SUM(H47:J47) -> 0 | L47: =ROUND(E47*F47,2) -> 0 | M47: =ROUND(E47*H47,2) -> 0 | N47: =ROUND(E47*I47,2) -> 0 | O47: =ROUND(E47*J47,2) -> 0 | P47: =SUM(M47:O47) -> 0
A48: 31 | C48: Montēt logu L-4 900x750mm, ieskaitot visus palīgmateriālus un stiprinājumus. Koka logs, vitrīna, Laminēts stikls | D48: gb | E48: 6 | H48: =ROUND(F48*G48,2) -> 0 | K48: =SUM(H48:J48) -> 0 | L48: =ROUND(E48*F48,2) -> 0 | M48: =ROUND(E48*H48,2) -> 0 | N48: =ROUND(E48*I48,2) -> 0 | O48: =ROUND(E48*J48,2) -> 0 | P48: =SUM(M48:O48) -> 0
A49: 32 | C49: Montēt durvis AD-1 1500x2000mm, ieskaitot visus palīgmateriālus un stiprinājumus. Divviru koka durvis atveramas 1808 Aprīkotas ar slēdzeni, Krāsas tonis - "Ozols" | D49: gb | E49: 3 | H49: =ROUND(F49*G49,2) -> 0 | K49: =SUM(H49:J49) -> 0 | L49: =ROUND(E49*F49,2) -> 0 | M49: =ROUND(E49*H49,2) -> 0 | N49: =ROUND(E49*I49,2) -> 0 | O49: =ROUND(E49*J49,2) -> 0 | P49: =SUM(M49:O49) -> 0
A50: 33 | C50: Uzstādīt tvaika izolācijas lenti, ieskaitot visus stiprinājumus un palīgmateriālus. | D50: m | E50: 172.8 | H50: =ROUND(F50*G50,2) -> 0 | K50: =SUM(H50:J50) -> 0 | L50: =ROUND(E50*F50,2) -> 0 | M50: =ROUND(E50*H50,2) -> 0 | N50: =ROUND(E50*I50,2) -> 0 | O50: =ROUND(E50*J50,2) -> 0 | P50: =SUM(M50:O50) -> 0
A51: 34 | C51: Uzstādīt difuzijas lenti, ieskaitot visus stiprinājumus un palīgmateriālus. | D51: m | E51: 172.8 | H51: =ROUND(F51*G51,2) -> 0 | K51: =SUM(H51:J51) -> 0 | L51: =ROUND(E51*F51,2) -> 0 | M51: =ROUND(E51*H51,2) -> 0 | N51: =ROUND(E51*I51,2) -> 0 | O51: =ROUND(E51*J51,2) -> 0 | P51: =SUM(M51:O51) -> 0
A52: 35 | C52: Uzstādīt iekšējo palodzi, ieskaitot visus stiprinājumus un palīgmateriālus. | D52: m | E52: 32.4 | H52: =ROUND(F52*G52,2) -> 0 | K52: =SUM(H52:J52) -> 0 | L52: =ROUND(E52*F52,2) -> 0 | M52: =ROUND(E52*H52,2) -> 0 | N52: =ROUND(E52*I52,2) -> 0 | O52: =ROUND(E52*J52,2) -> 0 | P52: =SUM(M52:O52) -> 0
A53: 36 | C53: Uzstādīt ārējo skārda palodzi, ieskaitot visus stiprinājumus un palīgmateriālus. | D53: m | E53: 32.4 | H53: =ROUND(F53*G53,2) -> 0 | K53: =SUM(H53:J53) -> 0 | L53: =ROUND(E53*F53,2) -> 0 | M53: =ROUND(E53*H53,2) -> 0 | N53: =ROUND(E53*I53,2) -> 0 | O53: =ROUND(E53*J53,2) -> 0 | P53: =SUM(M53:O53) -> 0
A54: 37 | C54: Ārējie apdares darbi | E54: 0 | H54: =ROUND(F54*G54,2) -> 0 | K54: =SUM(H54:J54) -> 0 | L54: =ROUND(E54*F54,2) -> 0 | M54: =ROUND(E54*H54,2) -> 0 | N54: =ROUND(E54*I54,2) -> 0 | O54: =ROUND(E54*J54,2) -> 0 | P54: =SUM(M54:O54) -> 0
A55: 38 | C55: Apšūt fasādi ar krāsotiem apdares dēļiem un koka dekoratīvajiem elementiem, ieskaitot visus palīgmateriālus un stiprinājumus. Dekoratīvās uzlikas- 22x75mm Dēļu apšuvums, puspunde(22 X100mm) -22mm | D55: m2 | E55: 141.63 | H55: =ROUND(F55*G55,2) -> 0 | K55: =SUM(H55:J55) -> 0 | L55: =ROUND(E55*F55,2) -> 0 | M55: =ROUND(E55*H55,2) -> 0 | N55: =ROUND(E55*I55,2) -> 0 | O55: =ROUND(E55*J55,2) -> 0 | P55: =SUM(M55:O55) -> 0
A56: 39 | C56: Montēt skārda lāseni, ieskaitot visus palīgmateriālus un stiprinājumus | D56: m | E56: 37.74 | H56: =ROUND(F56*G56,2) -> 0 | K56: =SUM(H56:J56) -> 0 | L56: =ROUND(E56*F56,2) -> 0 | M56: =ROUND(E56*H56,2) -> 0 | N56: =ROUND(E56*I56,2) -> 0 | O56: =ROUND(E56*J56,2) -> 0 | P56: =SUM(M56:O56) -> 0
A57: 40 | C57: Montēt koka margas, ieskaitot visus palīgmateriālus un stiprinājumus | D57: m3 | E57: 0.12 | H57: =ROUND(F57*G57,2) -> 0 | K57: =SUM(H57:J57) -> 0 | L57: =ROUND(E57*F57,2) -> 0 | M57: =ROUND(E57*H57,2) -> 0 | N57: =ROUND(E57*I57,2) -> 0 | O57: =ROUND(E57*J57,2) -> 0 | P57: =SUM(M57:O57) -> 0
A58: 41 | C58: Montēt koka solus, ieskaitot visus palīgmateriālus un stiprinājumus Koka sols ar paceļamu vāku ( 350x2200x400(h)mm) | D58: gb | E58: 9 | H58: =ROUND(F58*G58,2) -> 0 | K58: =SUM(H58:J58) -> 0 | L58: =ROUND(E58*F58,2) -> 0 | M58: =ROUND(E58*H58,2) -> 0 | N58: =ROUND(E58*I58,2) -> 0 | O58: =ROUND(E58*J58,2) -> 0 | P58: =SUM(M58:O58) -> 0
A59: 42 | C59: Montēt koka solus, ieskaitot visus palīgmateriālus un stiprinājumus Koka sols (350x1200x400(h)mm), | D59: gb | E59: 6 | H59: =ROUND(F59*G59,2) -> 0 | K59: =SUM(H59:J59) -> 0 | L59: =ROUND(E59*F59,2) -> 0 | M59: =ROUND(E59*H59,2) -> 0 | N59: =ROUND(E59*I59,2) -> 0 | O59: =ROUND(E59*J59,2) -> 0 | P59: =SUM(M59:O59) -> 0
A61: Tiešās izmaksas kopā, t.sk. Darba dēvēja sociālais nodoklis (23,59%) | L61: =SUM(L18:L60) -> 0 | M61: =SUM(M18:M60) -> 0 | N61: =SUM(N18:N60) -> 0 | O61: =SUM(O18:O60) -> 0 | P61: =SUM(P18:P60) -> 0
A63: =KT!A23 -> Sastādīja: | D63: =KT!D23 -> 2024.gada __._________
A64: (paraksts un tā atšifrējums, datums)
A65: =KT!A25 -> Sertifikāta Nr.:
A67: =KT!A27 -> Pārbaudīja: | D67: =KT!D23 -> 2024.gada __._________
A68: (paraksts un tā atšifrējums, datums)
A69: =KT!A29 -> Sertifikāta Nr.:

Sheet 1,13
A2: Lokālā tāme Nr.1,13
A3: ='KA1'!C28 -> Ceļi un laukumi
A4: (būvdarbu veids vai konstruktīvā elementa nosaukums)
A6: Objekta nosaukums: | C6: =KT!B9 -> ĒKU ATJAUNOŠANA, PĀRBŪVE, NOJAUKŠANA UN TERITORIJAS LABIEKĀRTOŠANA I un II kārta
A7: Būves nosaukums: | C7: =KT!B10 -> Pirmsskolas izglītības iestāde
A8: Objekta adrese: | C8: =KT!B11 -> Dārtas iela 1, Cēsis, Cēsu novads
A9: Pasūtītājs: | C9: =KT!B12 -> Cēsu novada pašvaldība Raunas ielā 4, Cēsīs, Cēsu novadā, LV-4101; Reģ.Nr. 90000031048
A10: Būvuzņēmējs: | C10: =KT!B13 -> SIA
A12: Tāme sastādīta 2024. gada tirgus cenās, pamatojoties uz būvprojekta rasējumiem | M12: Tāmes izmaksas: | O12: =P139 -> 0 | P12: EUR
N13: Tāme sastādītā | O13: =KT!D23 -> 2024.gada __._________
A15: Nr.p.k. | B15: Kods | C15: Būvdarbu nosaukums | D15: Mērvienība | E15: Daudzums | F15: Vienības izmaksas | L15: Kopā uz visu apjomu
F16: Laika norma (c/h) | G16: Darba samaksas likme (euro/h) | H16: Darba alga | I16: Būvizstrādājumi | J16: Mehānismi | K16: KOPĀ | L16: Darbietilpība (c/h) | M16: Darba alga | N16: Būvizstrādājumi | O16: Mehānismi | P16: Summa
A18: 1 | C18: Dažādi darbi | H18: =ROUND(F18*G18,2) -> 0 | K18: =SUM(H18:J18) -> 0 | L18: =ROUND(E18*F18,2) -> 0 | M18: =ROUND(E18*H18,2) -> 0 | N18: =ROUND(E18*I18,2) -> 0 | O18: =ROUND(E18*J18,2) -> 0 | P18: =SUM(M18:O18) -> 0
A19: 2 | C19: Uzmērīšana un nospraušana, izpilduzmērījums pēc būvdarbu pabeigšanas | D19: kpl | E19: 1 | H19: =ROUND(F19*G19,2) -> 0 | K19: =SUM(H19:J19) -> 0 | L19: =ROUND(E19*F19,2) -> 0 | M19: =ROUND(E19*H19,2) -> 0 | N19: =ROUND(E19*I19,2) -> 0 | O19: =ROUND(E19*J19,2) -> 0 | P19: =SUM(M19:O19) -> 0
A20: 3 | C20: Elektropagādes kabeļa ievietošana dalītajā aizsargcaurulē DN110, 750N | D20: m | E20: 29 | H20: =ROUND(F20*G20,2) -> 0 | K20: =SUM(H20:J20) -> 0 | L20: =ROUND(E20*F20,2) -> 0 | M20: =ROUND(E20*H20,2) -> 0 | N20: =ROUND(E20*I20,2) -> 0 | O20: =ROUND(E20*J20,2) -> 0 | P20: =SUM(M20:O20) -> 0
A21: 4 | C21: EST kabeļa ievietošana dalītajā aizsargcaurulē DN110, 750N | D21: m | E21: 6 | H21: =ROUND(F21*G21,2) -> 0 | K21: =SUM(H21:J21) -> 0 | L21: =ROUND(E21*F21,2) -> 0 | M21: =ROUND(E21*H21,2) -> 0 | N21: =ROUND(E21*I21,2) -> 0 | O21: =ROUND(E21*J21,2) -> 0 | P21: =SUM(M21:O21) -> 0
A22: 5 | C22: Asfalta seguma nojaukšana, hvid = 5 cm | D22: m2 | E22: 915 | H22: =ROUND(F22*G22,2) -> 0 | K22: =SUM(H22:J22) -> 0 | L22: =ROUND(E22*F22,2) -> 0 | M22: =ROUND(E22*H22,2) -> 0 | N22: =ROUND(E22*I22,2) -> 0 | O22: =ROUND(E22*J22,2) -> 0 | P22: =SUM(M22:O22) -> 0
A23: 6 | C23: Betona plātņu seguma nojaukšana | D23: m2 | E23: 29 | H23: =ROUND(F23*G23,2) -> 0 | K23: =SUM(H23:J23) -> 0 | L23: =ROUND(E23*F23,2) -> 0 | M23: =ROUND(E23*H23,2) -> 0 | N23: =ROUND(E23*I23,2) -> 0 | O23: =ROUND(E23*J23,2) -> 0 | P23: =SUM(M23:O23) -> 0
A24: 7 | C24: Ceļa zīmes ar stabu demontāža | D24: gb | E24: 2 | H24: =ROUND(F24*G24,2) -> 0 | K24: =SUM(H24:J24) -> 0 | L24: =ROUND(E24*F24,2) -> 0 | M24: =ROUND(E24*H24,2) -> 0 | N24: =ROUND(E24*I24,2) -> 0 | O24: =ROUND(E24*J24,2) -> 0 | P24: =SUM(M24:O24) -> 0
A25: 8 | C25: Atsevišķi augoša koka ciršana ar celma laušanu | D25: gb | E25: 6 | H25: =ROUND(F25*G25,2) -> 0 | K25: =SUM(H25:J25) -> 0 | L25: =ROUND(E25*F25,2) -> 0 | M25: =ROUND(E25*H25,2) -> 0 | N25: =ROUND(E25*I25,2) -> 0 | O25: =ROUND(E25*J25,2) -> 0 | P25: =SUM(M25:O25) -> 0
A26: 9 | C26: Krūmu ciršana ar celmu novākšanu | D26: m2 | E26: 30 | H26: =ROUND(F26*G26,2) -> 0 | K26: =SUM(H26:J26) -> 0 | L26: =ROUND(E26*F26,2) -> 0 | M26: =ROUND(E26*H26,2) -> 0 | N26: =ROUND(E26*I26,2) -> 0 | O26: =ROUND(E26*J26,2) -> 0 | P26: =SUM(M26:O26) -> 0
A27: 10 | C27: Celma laušana | D27: gb | E27: 3 | H27: =ROUND(F27*G27,2) -> 0 | K27: =SUM(H27:J27) -> 0 | L27: =ROUND(E27*F27,2) -> 0 | M27: =ROUND(E27*H27,2) -> 0 | N27: =ROUND(E27*I27,2) -> 0 | O27: =ROUND(E27*J27,2) -> 0 | P27: =SUM(M27:O27) -> 0
A28: 11 | C28: Asfalta savienojuma frēzēšana | D28: m2 | E28: 23 | H28: =ROUND(F28*G28,2) -> 0 | K28: =SUM(H28:J28) -> 0 | L28: =ROUND(E28*F28,2) -> 0 | M28: =ROUND(E28*H28,2) -> 0 | N28: =ROUND(E28*I28,2) -> 0 | O28: =ROUND(E28*J28,2) -> 0 | P28: =SUM(M28:O28) -> 0
A29: 12 | C29: Zemes klātne | H29: =ROUND(F29*G29,2) -> 0 | K29: =SUM(H29:J29) -> 0 | L29: =ROUND(E29*F29,2) -> 0 | M29: =ROUND(E29*H29,2) -> 0 | N29: =ROUND(E29*I29,2) -> 0 | O29: =ROUND(E29*J29,2) -> 0 | P29: =SUM(M29:O29) -> 0
A30: 13 | C30: Liekās grunts (augu zemes, vid 0.3m) noņemšana | D30: m3 | E30: 756 | H30: =ROUND(F30*G30,2) -> 0 | K30: =SUM(H30:J30) -> 0 | L30: =ROUND(E30*F30,2) -> 0 | M30: =ROUND(E30*H30,2) -> 0 | N30: =ROUND(E30*I30,2) -> 0 | O30: =ROUND(E30*J30,2) -> 0 | P30: =SUM(M30:O30) -> 0
A31: 14 | C31: Ierakuma izstrāde | D31: m3 | E31: 889 | H31: =ROUND(F31*G31,2) -> 0 | K31: =SUM(H31:J31) -> 0 | L31: =ROUND(E31*F31,2) -> 0 | M31: =ROUND(E31*H31,2) -> 0 | N31: =ROUND(E31*I31,2) -> 0 | O31: =ROUND(E31*J31,2) -> 0 | P31: =SUM(M31:O31) -> 0
A32: 15 | C32: Uzbēruma izbūve | D32: m3 | E32: 253 | H32: =ROUND(F32*G32,2) -> 0 | K32: =SUM(H32:J32) -> 0 | L32: =ROUND(E32*F32,2) -> 0 | M32: =ROUND(E32*H32,2) -> 0 | N32: =ROUND(E32*I32,2) -> 0 | O32: =ROUND(E32*J32,2) -> 0 | P32: =SUM(M32:O32) -> 0
A33: 16 | C33: Teritorijas nostiprināšana ar augu zemi, apsēta ar zāli, h=10 cm | D33: m2 | E33: 875 | H33: =ROUND(F33*G33,2) -> 0 | K33: =SUM(H33:J33) -> 0 | L33: =ROUND(E33*F33,2) -> 0 | M33: =ROUND(E33*H33,2) -> 0 | N33: =ROUND(E33*I33,2) -> 0 | O33: =ROUND(E33*J33,2) -> 0 | P33: =SUM(M33:O33) -> 0
A34: 17 | C34: Teritorijas nostiprināšana ar paklājzālienu uz sijātas melnzemes 15 cm pamata | D34: m2 | E34: 492 | H34: =ROUND(F34*G34,2) -> 0 | K34: =SUM(H34:J34) -> 0 | L34: =ROUND(E34*F34,2) -> 0 | M34: =ROUND(E34*H34,2) -> 0 | N34: =ROUND(E34*I34,2) -> 0 | O34: =ROUND(E34*J34,2) -> 0 | P34: =SUM(M34:O34) -> 0
A35: 18 | C35: Nogāzes caurtekas galā nostiprināšana laukakmeņu mūrejumu cementa javā | D35: m2 | E35: 8 | H35: =ROUND(F35*G35,2) -> 0 | K35: =SUM(H35:J35) -> 0 | L35: =ROUND(E35*F35,2) -> 0 | M35: =ROUND(E35*H35,2) -> 0 | N35: =ROUND(E35*I35,2) -> 0 | O35: =ROUND(E35*J35,2) -> 0 | P35: =SUM(M35:O35) -> 0
A36: 19 | C36: Teritorijas nostiprināšana ar laukakmeņu mūrejumu cementa javā | D36: m2 | E36: 4 | H36: =ROUND(F36*G36,2) -> 0 | K36: =SUM(H36:J36) -> 0 | L36: =ROUND(E36*F36,2) -> 0 | M36: =ROUND(E36*H36,2) -> 0 | N36: =ROUND(E36*I36,2) -> 0 | O36: =ROUND(E36*J36,2) -> 0 | P36: =SUM(M36:O36) -> 0
A37: 20 | C37: Ar saistvielām nesaistītas konstruktīvās kārtas | H37: =ROUND(F37*G37,2) -> 0 | K37: =SUM(H37:J37) -> 0 | L37: =ROUND(E37*F37,2) -> 0 | M37: =ROUND(E37*H37,2) -> 0 | N37: =ROUND(E37*I37,2) -> 0 | O37: =ROUND(E37*J37,2) -> 0 | P37: =SUM(M37:O37) -> 0
A38: 21 | C38: Salizturīgās kārtas būvniecība | D38: m3 | E38: 338 | H38: =ROUND(F38*G38,2) -> 0 | K38: =SUM(H38:J38) -> 0 | L38: =ROUND(E38*F38,2) -> 0 | M38: =ROUND(E38*H38,2) -> 0 | N38: =ROUND(E38*I38,2) -> 0 | O38: =ROUND(E38*J38,2) -> 0 | P38: =SUM(M38:O38) -> 0
A39: 22 | C39: Salizturīgās kārtas būvniecība (ietve, bērnu laukums) | D39: m3 | E39: 247 | H39: =ROUND(F39*G39,2) -> 0 | K39: =SUM(H39:J39) -> 0 | L39: =ROUND(E39*F39,2) -> 0 | M39: =ROUND(E39*H39,2) -> 0 | N39: =ROUND(E39*I39,2) -> 0 | O39: =ROUND(E39*J39,2) -> 0 | P39: =SUM(M39:O39) -> 0
A40: 23 | C40: Nesaistītu minerālmateriālu maisījuma 0/56 vai 0/63 NIV pamatu izbūve, h=20 cm | D40: m2 | E40: 492 | H40: =ROUND(F40*G40,2) -> 0 | K40: =SUM(H40:J40) -> 0 | L40: =ROUND(E40*F40,2) -> 0 | M40: =ROUND(E40*H40,2) -> 0 | N40: =ROUND(E40*I40,2) -> 0 | O40: =ROUND(E40*J40,2) -> 0 | P40: =SUM(M40:O40) -> 0
A41: 24 | C41: Nesaistītu minerālmateriālu maisījuma 0/45 NIII pamatu izbūve, h=10 cm | D41: m2 | E41: 485 | H41: =ROUND(F41*G41,2) -> 0 | K41: =SUM(H41:J41) -> 0 | L41: =ROUND(E41*F41,2) -> 0 | M41: =ROUND(E41*H41,2) -> 0 | N41: =ROUND(E41*I41,2) -> 0 | O41: =ROUND(E41*J41,2) -> 0 | P41: =SUM(M41:O41) -> 0
A42: 25 | C42: Nesaistītu minerālmateriālu maisījuma 0/45 NIII pamatu izbūve, h=25 cm | D42: m2 | E42: 349 | H42: =ROUND(F42*G42,2) -> 0 | K42: =SUM(H42:J42) -> 0 | L42: =ROUND(E42*F42,2) -> 0 | M42: =ROUND(E42*H42,2) -> 0 | N42: =ROUND(E42*I42,2) -> 0 | O42: =ROUND(E42*J42,2) -> 0 | P42: =SUM(M42:O42) -> 0
A43: 26 | C43: Nesaistītu minerālmateriālu maisījuma 0/16 izbūve, h=5 cm | D43: m2 | E43: 339 | H43: =ROUND(F43*G43,2) -> 0 | K43: =SUM(H43:J43) -> 0 | L43: =ROUND(E43*F43,2) -> 0 | M43: =ROUND(E43*H43,2) -> 0 | N43: =ROUND(E43*I43,2) -> 0 | O43: =ROUND(E43*J43,2) -> 0 | P43: =SUM(M43:O43) -> 0
A44: 27 | C44: Nesaistītu minerālmateriālu maisījuma 0/32 izbūve, h=15 cm | D44: m2 | E44: 339 | H44: =ROUND(F44*G44,2) -> 0 | K44: =SUM(H44:J44) -> 0 | L44: =ROUND(E44*F44,2) -> 0 | M44: =ROUND(E44*H44,2) -> 0 | N44: =ROUND(E44*I44,2) -> 0 | O44: =ROUND(E44*J44,2) -> 0 | P44: =SUM(M44:O44) -> 0
A45: 28 | C45: Nesaistītu minerālmateriālu maisījuma 0/45 NIII pamatu izbūve, h=15 cm (ietve) | D45: m2 | E45: 459 | H45: =ROUND(F45*G45,2) -> 0 | K45: =SUM(H45:J45) -> 0 | L45: =ROUND(E45*F45,2) -> 0 | M45: =ROUND(E45*H45,2) -> 0 | N45: =ROUND(E45*I45,2) -> 0 | O45: =ROUND(E45*J45,2) -> 0 | P45: =SUM(M45:O45) -> 0
A46: 29 | C46: Izsiju izlīdzinošā slāņa izbūve | D46: m3 | E46: 81 | H46: =ROUND(F46*G46,2) -> 0 | K46: =SUM(H46:J46) -> 0 | L46: =ROUND(E46*F46,2) -> 0 | M46: =ROUND(E46*H46,2) -> 0 | N46: =ROUND(E46*I46,2) -> 0 | O46: =ROUND(E46*J46,2) -> 0 | P46: =SUM(M46:O46) -> 0
A47: 30 | C47: Betona bruģakmens seguma izbūve, h=6 cm, pelēks | D47: m2 | E47: 456 | H47: =ROUND(F47*G47,2) -> 0 | K47: =SUM(H47:J47) -> 0 | L47: =ROUND(E47*F47,2) -> 0 | M47: =ROUND(E47*H47,2) -> 0 | N47: =ROUND(E47*I47,2) -> 0 | O47: =ROUND(E47*J47,2) -> 0 | P47: =SUM(M47:O47) -> 0
A48: 31 | C48: Betona bruģakmens seguma izbūve, h=8 cm, pelēks | D48: m2 | E48: 322 | H48: =ROUND(F48*G48,2) -> 0 | K48: =SUM(H48:J48) -> 0 | L48: =ROUND(E48*F48,2) -> 0 | M48: =ROUND(E48*H48,2) -> 0 | N48: =ROUND(E48*I48,2) -> 0 | O48: =ROUND(E48*J48,2) -> 0 | P48: =SUM(M48:O48) -> 0
A49: 32 | C49: Betona bruģakmens seguma izbūve, stāvvietu marķējuma līnija, h=8 cm, melns | D49: m2 | E49: 5 | H49: =ROUND(F49*G49,2) -> 0 | K49: =SUM(H49:J49) -> 0 | L49: =ROUND(E49*F49,2) -> 0 | M49: =ROUND(E49*H49,2) -> 0 | N49: =ROUND(E49*I49,2) -> 0 | O49: =ROUND(E49*J49,2) -> 0 | P49: =SUM(M49:O49) -> 0
... A55: 38 | C55: Taktilā bruģa brīdinājuma joslas izbūve pie ratiņu nobrauktuvēm un ieejām ēkā | D55: m2 | E55: 12 | H55: =ROUND(F55*G55,2) -> 0 | K55: =SUM(H55:J55) -> 0 | L55: =ROUND(E55*F55,2) -> 0 | M55: =ROUND(E55*H55,2) -> 0 | N55: =ROUND(E55*I55,2) -> 0 | O55: =ROUND(E55*J55,2) -> 0 | P55: =SUM(M55:O55) -> 0
A56: 39 | C56: Arsaistvielām saistītas konstruktīvās kārtas | H56: =ROUND(F56*G56,2) -> 0 | K56: =SUM(H56:J56) -> 0 | L56: =ROUND(E56*F56,2) -> 0 | M56: =ROUND(E56*H56,2) -> 0 | N56: =ROUND(E56*I56,2) -> 0 | O56: =ROUND(E56*J56,2) -> 0 | P56: =SUM(M56:O56) -> 0
