Workbook
Name datums: [1]KA!$K$45
Name likme: KT!$E$22
Name parb: [1]KA!$K$43
Name procenti: #REF!
Name sast: [1]KA!$K$42
Name sertif: [1]KA!$K$44

Sheet KT
C2: APSTIPRINU_________________________________
C3: (pasūtītāja paraksts un tā atšifrējums)
C4: Z.V.
C5: ___.gada ___.______________
A7: Būvniecības koptāme
A9: Objekta nosaukums: | B9: ĒKU ATJAUNOŠANA, PĀRBŪVE, NOJAUKŠANA UN TERITORIJAS LABIEKĀRTOŠANA I un II kārta
A10: Būves nosaukums: | B10: Pirmsskolas izglītības iestāde
A11: Objekta adrese: | B11: Dārtas iela 1, Cēsis, Cēsu novads
A12: Pasūtītājs: | B12: Cēsu novada pašvaldība Raunas ielā 4, Cēsīs, Cēsu novadā, LV-4101; Reģ.Nr. 90000031048
A13: Būvuzņēmējs: | B13: SIA
A15: Nr.p.k. | B15: Objekta nosaukums | C15: Objekta izmaksas (euro)
A16: 1 | B16: Būves I kārta - būves ar kad. apz. 42010062008001 pārbūve, ēkā izveidojot pirmskolas izglītības iestādi 3 (trīs) audzināmo grupu izvietošanai, viena grupas ēkas 1. stāvā un divas grupas ēkas 2. stāvā; - būvju ar kad apz.42010062008002, 42010062008003 atjaunošana un 42010062008006 nojaukšana; | C16: ='KA1'!E48 -> 0
A17: 2 | B17: Būves II kārta – automašīnu stāvlaukuma pārbūve atbilstoši Cēsu pilsētas apbūves noteikumiem | C17: ='KA2'!E24 -> 0
B18: Kopā | C18: =SUM(C16:C17) -> 0
D19: Virsizdevumi | E19: 0.1
A20: PVN (21%) | C20: =ROUND(C18*21%,2) -> 0 | D20: DA | E20: 0.05
D21: Peļņa | E21: 0.1
D22: Likme | E22: 15
A23: Sastādīja: | D23: 2024.gada __._________
A24: (paraksts un tā atšifrējums, datums)
A25: Sertifikāta Nr.:
A27: Pārbaudīja:
A28: (paraksts un tā atšifrējums, datums)
A29: Sertifikāta Nr.:

Sheet KA1
A2: Kopsavilkuma aprēķins nr.1
A3: =KT!B16 -> Būves I kārta - būves ar kad. apz. 42010062008001 pārbūve, ēkā izveidojot pirmskolas izglītības iestādi 3 (trīs) audzināmo grupu izvietošanai, viena grupas ēkas 1. stāvā un divas grupas ēkas 2. stāvā; - būvju ar kad apz.42010062008002, 42010062008003 atjaunošana un 42010062008006 nojaukšana;
A4: (būvdarbu veids vai konstruktīvā elementa nosaukums)
A6: Objekta nosaukums: | C6: =KT!B9 -> ĒKU ATJAUNOŠANA, PĀRBŪVE, NOJAUKŠANA UN TERITORIJAS LABIEKĀRTOŠANA I un II kārta
A7: Būves nosaukums: | C7: =KT!B10 -> Pirmsskolas izglītības iestāde
A8: Objekta adrese: | C8: =KT!B11 -> Dārtas iela 1, Cēsis, Cēsu novads
A9: Pasūtītājs: | C9: =KT!B12 -> Cēsu novada pašvaldība Raunas ielā 4, Cēsīs, Cēsu novadā, LV-4101; Reģ.Nr. 90000031048
A10: Būvuzņēmējs: | C10: =KT!B13 -> SIA
C11: Par kopējo summu (eiro) | E11: =E48 -> 0
C12: Kopējā darbietilpība (c/h) | E12: =SUM(I15:I43) -> 0
A13: Nr.p.k. | B13: kods, tāmes nr. | C13: Būvdarbu veids vai konstruktīvā elementa nosaukums | E13: Tāmes izmaksas | F13: Tai skaitā | I13: Darbietilpība (c/h)
F14: Darba alga | G14: Būvizstrādājumi | H14: Mehānismi
A15: 1 | C15: 1. Vispārējie būvdarbi | E15: =SUM(F15:H15) -> 0 | I15: =ROUND(F15/likme,2) -> 0
A16: 2 | B16: 1.1 | C16: Demontāžas darbi | E16: =SUM(F16:H16) -> 0 | F16: ='1,1'!M74 -> 0 | G16: ='1,1'!N74 -> 0 | H16: ='1,1'!O74 -> 0 | I16: =ROUND(F16/likme,2) -> 0
A17: 3 | B17: 1.2 | C17: Zemes darbi | E17: =SUM(F17:H17) -> 0 | F17: ='1,2'!M43 -> 0 | G17: ='1,2'!N43 -> 0 | H17: ='1,2'!O43 -> 0 | I17: =ROUND(F17/likme,2) -> 0
A18: 4 | B18: 1.3 | C18: Pamati un pamatnes | E18: =SUM(F18:H18) -> 0 | F18: ='1,3'!M62 -> 0 | G18: ='1,3'!N62 -> 0 | H18: ='1,3'!O62 -> 0 | I18: =ROUND(F18/likme,2) -> 0
A19: 5 | B19: 1.4 | C19: Sienas, ēku un būvju karkasu konstrukcijas | E19: =SUM(F19:H19) -> 0 | F19: ='1,4'!M86 -> 0 | G19: ='1,4'!N86 -> 0 | H19: ='1,4'!O86 -> 0 | I19: =ROUND(F19/likme,2) -> 0
A20: 6 | B20: 1.5 | C20: Starpsienas | E20: =SUM(F20:H20) -> 0 | F20: ='1,5'!M67 -> 0 | G20: ='1,5'!N67 -> 0 | H20: ='1,5'!O67 -> 0 | I20: =ROUND(F20/likme,2) -> 0
A21: 7 | B21: 1.6 | C21: Grīdu pamatnes, segumi | E21: =SUM(F21:H21) -> 0 | F21: ='1,6'!M93 -> 0 | G21: ='1,6'!N93 -> 0 | H21: ='1,6'!O93 -> 0 | I21: =ROUND(F21/likme,2) -> 0
A22: 8 | B22: 1.7 | C22: Jumti, segumi | E22: =SUM(F22:H22) -> 0 | F22: ='1,7'!M46 -> 0 | G22: ='1,7'!N46 -> 0 | H22: ='1,7'!O46 -> 0 | I22: =ROUND(F22/likme,2) -> 0
A23: 9 | B23: 1.8 | C23: Aiļu aizpildījumu elementi, speciālo konstrukciju fasādes | E23: =SUM(F23:H23) -> 0 | F23: ='1,8'!M52 -> 0 | G23: ='1,8'!N52 -> 0 | H23: ='1,8'!O52 -> 0 | I23: =ROUND(F23/likme,2) -> 0
A24: 10 | B24: 1.9 | C24: Iekšējie apdares darbi | E24: =SUM(F24:H24) -> 0 | F24: ='1,9'!M57 -> 0 | G24: ='1,9'!N57 -> 0 | H24: ='1,9'!O57 -> 0 | I24: =ROUND(F24/likme,2) -> 0
A25: 11 | B25: 1.1 | C25: Ārējie apdares darbi | E25: =SUM(F25:H25) -> 0 | F25: ='1,10'!M38 -> 0 | G25: ='1,10'!N38 -> 0 | H25: ='1,10'!O38 -> 0 | I25: =ROUND(F25/likme,2) -> 0
A26: 12 | B26: 1.11 | C26: Ēka ar kad.apz. 002 un 003 | E26: =SUM(F26:H26) -> 0 | F26: ='1,11'!M67 -> 0 | G26: ='1,11'!N67 -> 0 | H26: ='1,11'!O67 -> 0 | I26: =ROUND(F26/likme,2) -> 0
A27: 13 | B27: 1.12 | C27: Slēgtas nojumes Nr.4;5;6 | E27: =SUM(F27:H27) -> 0 | F27: ='1,12'!M61 -> 0 | G27: ='1,12'!N61 -> 0 | H27: ='1,12'!O61 -> 0 | I27: =ROUND(F27/likme,2) -> 0
A28: 14 | B28: 1.13 | C28: Ceļi un laukumi | E28: =SUM(F28:H28) -> 0 | F28: ='1,13'!M139 -> 0 | G28: ='1,13'!N139 -> 0 | H28: ='1,13'!O139 -> 0 | I28: =ROUND(F28/likme,2) -> 0
A29: 15 | B29: 1.14 | C29: Dažādi darbi | E29: =SUM(F29:H29) -> 0 | F29: ='1,14'!M22 -> 0 | G29: ='1,14'!N22 -> 0 | H29: ='1,14'!O22 -> 0 | I29: =ROUND(F29/likme,2) -> 0
A30: 16 | C30: 2. Specializētie darbi – iekšējie tīkli, sistēmas | E30: =SUM(F30:H30) -> 0 | I30: =ROUND(F30/likme,2) -> 0
A31: 17 | B31: 1.15 | C31: Iekšējie elektrotīkli, apgaismojums, spēka pievadi | E31: =SUM(F31:H31) -> 0 | F31: ='1,15'!M111 -> 0 | G31: ='1,15'!N111 -> 0 | H31: ='1,15'!O111 -> 0 | I31: =ROUND(F31/likme,2) -> 0
A32: 18 | B32: 1.16 | C32: Iekšējās apkures sistēmas | E32: =SUM(F32:H32) -> 0 | F32: ='1,16'!M318 -> 0 | G32: ='1,16'!N318 -> 0 | H32: ='1,16'!O318 -> 0 | I32: =ROUND(F32/likme,2) -> 0
A33: 19 | B33: 1.17 | C33: Vēdināšana, gaisa kondicionēšana | E33: =SUM(F33:H33) -> 0 | F33: ='1,17'!M283 -> 0 | G33: ='1,17'!N283 -> 0 | H33: ='1,17'!O283 -> 0 | I33: =ROUND(F33/likme,2) -> 0
A34: 20 | B34: 1.18 | C34: Iekšējie ūdensvada tīkli, aprīkojums | E34: =SUM(F34:H34) -> 0 | F34: ='1,18'!M149 -> 0 | G34: ='1,18'!N149 -> 0 | H34: ='1,18'!O149 -> 0 | I34: =ROUND(F34/likme,2) -> 0
A35: 21 | B35: 1.19 | C35: Iekšējie kanalizācijas tīkli, aprīkojums | E35: =SUM(F35:H35) -> 0 | F35: ='1,19'!M77 -> 0 | G35: ='1,19'!N77 -> 0 | H35: ='1,19'!O77 -> 0 | I35: =ROUND(F35/likme,2) -> 0
A36: 22 | B36: 1.2 | C36: Vājstrāvas tīkli - TK | E36: =SUM(F36:H36) -> 0 | F36: ='1,20'!M26 -> 0 | G36: ='1,20'!N26 -> 0 | H36: ='1,20'!O26 -> 0 | I36: =ROUND(F36/likme,2) -> 0
A37: 23 | B37: 1.21 | C37: Vājstrāvas tīkli - UATS | E37: =SUM(F37:H37) -> 0 | F37: ='1,21'!M41 -> 0 | G37: ='1,21'!N41 -> 0 | H37: ='1,21'!O41 -> 0 | I37: =ROUND(F37/likme,2) -> 0
A38: 24 | C38: 3. Specializētie darbi – ārējie tīkli, sistēmas | E38: =SUM(F38:H38) -> 0 | I38: =ROUND(F38/likme,2) -> 0
A39: 25 | B39: 1.22 | C39: Ārējie elektrotīkli, apgaismojums. Maģistrālās elektrolīnijas | E39: =SUM(F39:H39) -> 0 | F39: ='1,22'!M67 -> 0 | G39: ='1,22'!N67 -> 0 | H39: ='1,22'!O67 -> 0 | I39: =ROUND(F39/likme,2) -> 0
A40: 26 | B40: 1.23 | C40: Ārējie ūdensvada tīkli | E40: =SUM(F40:H40) -> 0 | F40: ='1,23'!M47 -> 0 | G40: ='1,23'!N47 -> 0 | H40: ='1,23'!O47 -> 0 | I40: =ROUND(F40/likme,2) -> 0
A41: 27 | B41: 1.24 | C41: Ārējie kanalizācijas tīkli. Attīrīšanas ietaises | E41: =SUM(F41:H41) -> 0 | F41: ='1,24'!M43 -> 0 | G41: ='1,24'!N43 -> 0 | H41: ='1,24'!O43 -> 0 | I41: =ROUND(F41/likme,2) -> 0
A42: 28 | B42: 1.25 | C42: Lietusūdens kanalizācijas tīkli | E42: =SUM(F42:H42) -> 0 | F42: ='1,25'!M52 -> 0 | G42: ='1,25'!N52 -> 0 | H42: ='1,25'!O52 -> 0 | I42: =ROUND(F42/likme,2) -> 0
...

Sheet 1,1
A2: Lokālā tāme Nr.1,1
A3: ='KA1'!C16 -> Demontāžas darbi
A4: (būvdarbu veids vai konstruktīvā elementa nosaukums)
A6: Objekta nosaukums: | C6: =KT!B9 -> ĒKU ATJAUNOŠANA, PĀRBŪVE, NOJAUKŠANA UN TERITORIJAS LABIEKĀRTOŠANA I un II kārta
A7: Būves nosaukums: | C7: =KT!B10 -> Pirmsskolas izglītības iestāde
A8: Objekta adrese: | C8: =KT!B11 -> Dārtas iela 1, Cēsis, Cēsu novads
A9: Pasūtītājs: | C9: =KT!B12 -> Cēsu novada pašvaldība Raunas ielā 4, Cēsīs, Cēsu novadā, LV-4101; Reģ.Nr. 90000031048
A10: Būvuzņēmējs: | C10: =KT!B13 -> SIA
A12: Tāme sastādīta 2024. gada tirgus cenās, pamatojoties uz būvprojekta rasējumiem | M12: Tāmes izmaksas: | O12: =P74 -> 0 | P12: EUR
N13: Tāme sastādītā | O13: =KT!D23 -> 2024.gada __._________
A15: Nr.p.k. | B15: Kods | C15: Būvdarbu nosaukums | D15: Mērvienība | E15: Daudzums | F15: Vienības izmaksas | L15: Kopā uz visu apjomu
F16: Laika norma (c/h) | G16: Darba samaksas likme (euro/h) | H16: Darba alga | I16: Būvizstrādājumi | J16: Mehānismi | K16: KOPĀ | L16: Darbietilpība (c/h) | M16: Darba alga | N16: Būvizstrādājumi | O16: Mehānismi | P16: Summa
A18: 1 | C18: Ēku demontāža | H18: =ROUND(F18*G18,2) -> 0 | K18: =SUM(H18:J18) -> 0 | L18: =ROUND(E18*F18,2) -> 0 | M18: =ROUND(E18*H18,2) -> 0 | N18: =ROUND(E18*I18,2) -> 0 | O18: =ROUND(E18*J18,2) -> 0 | P18: =SUM(M18:O18) -> 0
A19: 2 | C19: Esošā azbestcementa jumta seguma demontāža savācot konteinerī | D19: m² | E19: 300 | H19: =ROUND(F19*G19,2) -> 0 | K19: =SUM(H19:J19) -> 0 | L19: =ROUND(E19*F19,2) -> 0 | M19: =ROUND(E19*H19,2) -> 0 | N19: =ROUND(E19*I19,2) -> 0 | O19: =ROUND(E19*J19,2) -> 0 | P19: =SUM(M19:O19) -> 0
A20: 3 | C20: Esošo koka vārtu demontāža | D20: m² | E20: 15 | H20: =ROUND(F20*G20,2) -> 0 | K20: =SUM(H20:J20) -> 0 | L20: =ROUND(E20*F20,2) -> 0 | M20: =ROUND(E20*H20,2) -> 0 | N20: =ROUND(E20*I20,2) -> 0 | O20: =ROUND(E20*J20,2) -> 0 | P20: =SUM(M20:O20) -> 0
A21: 4 | C21: Dēļu apšuvuma demontāža | D21: m² | E21: 215 | H21: =ROUND(F21*G21,2) -> 0 | K21: =SUM(H21:J21) -> 0 | L21: =ROUND(E21*F21,2) -> 0 | M21: =ROUND(E21*H21,2) -> 0 | N21: =ROUND(E21*I21,2) -> 0 | O21: =ROUND(E21*J21,2) -> 0 | P21: =SUM(M21:O21) -> 0
A22: 5 | C22: Šķūņa koka karkasa un jumta nesošo konstrukciju demontāža | D22: m³ | E22: 9.1 | H22: =ROUND(F22*G22,2) -> 0 | K22: =SUM(H22:J22) -> 0 | L22: =ROUND(E22*F22,2) -> 0 | M22: =ROUND(E22*H22,2) -> 0 | N22: =ROUND(E22*I22,2) -> 0 | O22: =ROUND(E22*J22,2) -> 0 | P22: =SUM(M22:O22) -> 0
A23: 6 | C23: Mūra sienu demontāža | D23: m³ | E23: 11.5 | H23: =ROUND(F23*G23,2) -> 0 | K23: =SUM(H23:J23) -> 0 | L23: =ROUND(E23*F23,2) -> 0 | M23: =ROUND(E23*H23,2) -> 0 | N23: =ROUND(E23*I23,2) -> 0 | O23: =ROUND(E23*J23,2) -> 0 | P23: =SUM(M23:O23) -> 0
A24: 7 | C24: Pamatu un grīdas demontāža | D24: m³ | E24: 8.6 | H24: =ROUND(F24*G24,2) -> 0 | K24: =SUM(H24:J24) -> 0 | L24: =ROUND(E24*F24,2) -> 0 | M24: =ROUND(E24*H24,2) -> 0 | N24: =ROUND(E24*I24,2) -> 0 | O24: =ROUND(E24*J24,2) -> 0 | P24: =SUM(M24:O24) -> 0
A25: 8 | C25: Būvgružu savākšana un aizvešana | D25: m³ | E25: 35 | H25: =ROUND(F25*G25,2) -> 0 | K25: =SUM(H25:J25) -> 0 | L25: =ROUND(E25*F25,2) -> 0 | M25: =ROUND(E25*H25,2) -> 0 | N25: =ROUND(E25*I25,2) -> 0 | O25: =ROUND(E25*J25,2) -> 0 | P25: =SUM(M25:O25) -> 0
A26: 9 | C26: Bīstamo būvgružu (azbestcementa loksnes) savākšana un aizvešana | D26: m³ | E26: 2.4 | H26: =ROUND(F26*G26,2) -> 0 | K26: =SUM(H26:J26) -> 0 | L26: =ROUND(E26*F26,2) -> 0 | M26: =ROUND(E26*H26,2) -> 0 | N26: =ROUND(E26*I26,2) -> 0 | O26: =ROUND(E26*J26,2) -> 0 | P26: =SUM(M26:O26) -> 0
A27: 10 | C27: Pēc pamatu demontāžas aizbērt būvbedri ar vidēju rupju blietētu smilti līdz projektēto laukumu salisturīgai kārtai skat. TS-CD | D27: m³ | E27: 5 | H27: =ROUND(F27*G27,2) -> 0 | K27: =SUM(H27:J27) -> 0 | L27: =ROUND(E27*F27,2) -> 0 | M27: =ROUND(E27*H27,2) -> 0 | N27: =ROUND(E27*I27,2) -> 0 | O27: =ROUND(E27*J27,2) -> 0 | P27: =SUM(M27:O27) -> 0
A28: 11 | C28: Demontāžas darbi ( ēkai ar kad.apz. 001 - pagrabstāvs) | H28: =ROUND(F28*G28,2) -> 0 | K28: =SUM(H28:J28) -> 0 | L28: =ROUND(E28*F28,2) -> 0 | M28: =ROUND(E28*H28,2) -> 0 | N28: =ROUND(E28*I28,2) -> 0 | O28: =ROUND(E28*J28,2) -> 0 | P28: =SUM(M28:O28) -> 0
A29: 12 | C29: esošo pagrabtelpu attīrīšana no būvgružiem (izvest būvgružus utilizācijai) | D29: m² | E29: 106.7 | H29: =ROUND(F29*G29,2) -> 0 | K29: =SUM(H29:J29) -> 0 | L29: =ROUND(E29*F29,2) -> 0 | M29: =ROUND(E29*H29,2) -> 0 | N29: =ROUND(E29*I29,2) -> 0 | O29: =ROUND(E29*J29,2) -> 0 | P29: =SUM(M29:O29) -> 0
A30: 13 | C30: Esošo logu un durvju demontāža (izvest būvgružus utilizācijai) | D30: m2 | E30: 14 | H30: =ROUND(F30*G30,2) -> 0 | K30: =SUM(H30:J30) -> 0 | L30: =ROUND(E30*F30,2) -> 0 | M30: =ROUND(E30*H30,2) -> 0 | N30: =ROUND(E30*I30,2) -> 0 | O30: =ROUND(E30*J30,2) -> 0 | P30: =SUM(M30:O30) -> 0
A31: 14 | C31: Aizdarinātas ailes atvēršana (izvest būvgružus utilizācijai) | D31: m² | E31: 3 | H31: =ROUND(F31*G31,2) -> 0 | K31: =SUM(H31:J31) -> 0 | L31: =ROUND(E31*F31,2) -> 0 | M31: =ROUND(E31*H31,2) -> 0 | N31: =ROUND(E31*I31,2) -> 0 | O31: =ROUND(E31*J31,2) -> 0 | P31: =SUM(M31:O31) -> 0
A32: 15 | C32: Āra betona kāpņu ar sieniņu demontāža (izvest būvgružus utilizācijai) | D32: m³ | E32: 2.2 | H32: =ROUND(F32*G32,2) -> 0 | K32: =SUM(H32:J32) -> 0 | L32: =ROUND(E32*F32,2) -> 0 | M32: =ROUND(E32*H32,2) -> 0 | N32: =ROUND(E32*I32,2) -> 0 | O32: =ROUND(E32*J32,2) -> 0 | P32: =SUM(M32:O32) -> 0
A33: 16 | C33: Esošas bedres ( pagraba līmenī) demontāža un aizbēršana (izvest būvgružus utilizācijai) | D33: m³ | E33: 4.5 | H33: =ROUND(F33*G33,2) -> 0 | K33: =SUM(H33:J33) -> 0 | L33: =ROUND(E33*F33,2) -> 0 | M33: =ROUND(E33*H33,2) -> 0 | N33: =ROUND(E33*I33,2) -> 0 | O33: =ROUND(E33*J33,2) -> 0 | P33: =SUM(M33:O33) -> 0
A34: 17 | C34: Vēdināšanas atvērumu cokoldaļā aizdare (betons+akmeņi) | D34: m³ | E34: 1.9 | H34: =ROUND(F34*G34,2) -> 0 | K34: =SUM(H34:J34) -> 0 | L34: =ROUND(E34*F34,2) -> 0 | M34: =ROUND(E34*H34,2) -> 0 | N34: =ROUND(E34*I34,2) -> 0 | O34: =ROUND(E34*J34,2) -> 0 | P34: =SUM(M34:O34) -> 0
A35: 18 | C35: Aiļu aizdare un padziļināšana pa assi 1, (skat. 1.piezīmi) (izvest būvgružus utilizācijai) | D35: m3 | E35: 1.94 | H35: =ROUND(F35*G35,2) -> 0 | K35: =SUM(H35:J35) -> 0 | L35: =ROUND(E35*F35,2) -> 0 | M35: =ROUND(E35*H35,2) -> 0 | N35: =ROUND(E35*I35,2) -> 0 | O35: =ROUND(E35*J35,2) -> 0 | P35: =SUM(M35:O35) -> 0
A36: 19 | C36: Ailes aizbetonēšana vai aizmūrēšana ar betona blokiem | D36: m³ | E36: 1.8 | H36: =ROUND(F36*G36,2) -> 0 | K36: =SUM(H36:J36) -> 0 | L36: =ROUND(E36*F36,2) -> 0 | M36: =ROUND(E36*H36,2) -> 0 | N36: =ROUND(E36*I36,2) -> 0 | O36: =ROUND(E36*J36,2) -> 0 | P36: =SUM(M36:O36) -> 0
A37: 20 | C37: Pagraba aizbirušā koridora atremontēšana ( skat. 2.piezīmi) | D37: m² | E37: 61 | H37: =ROUND(F37*G37,2) -> 0 | K37: =SUM(H37:J37) -> 0 | L37: =ROUND(E37*F37,2) -> 0 | M37: =ROUND(E37*H37,2) -> 0 | N37: =ROUND(E37*I37,2) -> 0 | O37: =ROUND(E37*J37,2) -> 0 | P37: =SUM(M37:O37) -> 0
A38: 21 | C38: Demontāžas darbi ( ēkas ar kad.apz. 001 - 1. stāvs) | H38: =ROUND(F38*G38,2) -> 0 | K38: =SUM(H38:J38) -> 0 | L38: =ROUND(E38*F38,2) -> 0 | M38: =ROUND(E38*H38,2) -> 0 | N38: =ROUND(E38*I38,2) -> 0 | O38: =ROUND(E38*J38,2) -> 0 | P38: =SUM(M38:O38) -> 0
A39: 22 | C39: Logu restu demontāža (izvest būvgružus utilizācijai) | D39: m² | E39: 49.5 | H39: =ROUND(F39*G39,2) -> 0 | K39: =SUM(H39:J39) -> 0 | L39: =ROUND(E39*F39,2) -> 0 | M39: =ROUND(E39*H39,2) -> 0 | N39: =ROUND(E39*I39,2) -> 0 | O39: =ROUND(E39*J39,2) -> 0 | P39: =SUM(M39:O39) -> 0
A40: 23 | C40: Esošo logu demontāža (izvest būvgružus utilizācijai) | D40: m2 | E40: 49.5 | H40: =ROUND(F40*G40,2) -> 0 | K40: =SUM(H40:J40) -> 0 | L40: =ROUND(E40*F40,2) -> 0 | M40: =ROUND(E40*H40,2) -> 0 | N40: =ROUND(E40*I40,2) -> 0 | O40: =ROUND(E40*J40,2) -> 0 | P40: =SUM(M40:O40) -> 0
A41: 24 | C41: Esošo ārdurvju demontāža, kopējot rakstus jauno durvju izgatavošanai (izvest būvgružus utilizācijai) | D41: m2 | E41: 8.5 | H41: =ROUND(F41*G41,2) -> 0 | K41: =SUM(H41:J41) -> 0 | L41: =ROUND(E41*F41,2) -> 0 | M41: =ROUND(E41*H41,2) -> 0 | N41: =ROUND(E41*I41,2) -> 0 | O41: =ROUND(E41*J41,2) -> 0 | P41: =SUM(M41:O41) -> 0
A42: 25 | C42: Iekšdurvju demontāža (izvest būvgružus utilizācijai) | D42: m2 | E42: 44 | H42: =ROUND(F42*G42,2) -> 0 | K42: =SUM(H42:J42) -> 0 | L42: =ROUND(E42*F42,2) -> 0 | M42: =ROUND(E42*H42,2) -> 0 | N42: =ROUND(E42*I42,2) -> 0 | O42: =ROUND(E42*J42,2) -> 0 | P42: =SUM(M42:O42) -> 0
A43: 26 | C43: Iekšējo šķērsienu demontāža (izvest būvgružus utilizācijai) | D43: m³ | E43: 29.7 | H43: =ROUND(F43*G43,2) -> 0 | K43: =SUM(H43:J43) -> 0 | L43: =ROUND(E43*F43,2) -> 0 | M43: =ROUND(E43*H43,2) -> 0 | N43: =ROUND(E43*I43,2) -> 0 | O43: =ROUND(E43*J43,2) -> 0 | P43: =SUM(M43:O43) -> 0
A44: 27 | C44: Esošo betona ieejas kāpņu demontāža (izvest būvgružus utilizācijai) | D44: m³ | E44: 4 | H44: =ROUND(F44*G44,2) -> 0 | K44: =SUM(H44:J44) -> 0 | L44: =ROUND(E44*F44,2) -> 0 | M44: =ROUND(E44*H44,2) -> 0 | N44: =ROUND(E44*I44,2) -> 0 | O44: =ROUND(E44*J44,2) -> 0 | P44: =SUM(M44:O44) -> 0
A45: 28 | C45: Esošo koka kāpņu demontāža kāpņu telpā (izvest būvgružus utilizācijai) | D45: m² | E45: 16.9 | H45: =ROUND(F45*G45,2) -> 0 | K45: =SUM(H45:J45) -> 0 | L45: =ROUND(E45*F45,2) -> 0 | M45: =ROUND(E45*H45,2) -> 0 | N45: =ROUND(E45*I45,2) -> 0 | O45: =ROUND(E45*J45,2) -> 0 | P45: =SUM(M45:O45) -> 0
...

Sheet 1,2
A2: Lokālā tāme Nr.1,2
A3: ='KA1'!C17 -> Zemes darbi
A4: (būvdarbu veids vai konstruktīvā elementa nosaukums)
A6: Objekta nosaukums: | C6: =KT!B9 -> ĒKU ATJAUNOŠANA, PĀRBŪVE, NOJAUKŠANA UN TERITORIJAS LABIEKĀRTOŠANA I un II kārta
A7: Būves nosaukums: | C7: =KT!B10 -> Pirmsskolas izglītības iestāde
A8: Objekta adrese: | C8: =KT!B11 -> Dārtas iela 1, Cēsis, Cēsu novads
A9: Pasūtītājs: | C9: =KT!B12 -> Cēsu novada pašvaldība Raunas ielā 4, Cēsīs, Cēsu novadā, LV-4101; Reģ.Nr. 90000031048
A10: Būvuzņēmējs: | C10: =KT!B13 -> SIA
A12: Tāme sastādīta 2024. gada tirgus cenās, pamatojoties uz būvprojekta rasējumiem | M12: Tāmes izmaksas: | O12: =P43 -> 0 | P12: EUR
N13: Tāme sastādītā | O13: =KT!D23 -> 2024.gada __._________
A15: Nr.p.k. | B15: Kods | C15: Būvdarbu nosaukums | D15: Mērvienība | E15: Daudzums | F15: Vienības izmaksas | L15: Kopā uz visu apjomu
F16: Laika norma (c/h) | G16: Darba samaksas likme (euro/h) | H16: Darba alga | I16: Būvizstrādājumi | J16: Mehānismi | K16: KOPĀ | L16: Darbietilpība (c/h) | M16: Darba alga | N16: Būvizstrādājumi | O16: Mehānismi | P16: Summa
A18: 1 | C18: Pamati asīs 6-7 | H18: =ROUND(F18*G18,2) -> 0 | K18: =SUM(H18:J18) -> 0 | L18: =ROUND(E18*F18,2) -> 0 | M18: =ROUND(E18*H18,2) -> 0 | N18: =ROUND(E18*I18,2) -> 0 | O18: =ROUND(E18*J18,2) -> 0 | P18: =SUM(M18:O18) -> 0
A19: 2 | C19: Rakt būvbedri līdz projektā paredzētajam dziļumam | D19: m3 | E19: 56.1 | H19: =ROUND(F19*G19,2) -> 0 | K19: =SUM(H19:J19) -> 0 | L19: =ROUND(E19*F19,2) -> 0 | M19: =ROUND(E19*H19,2) -> 0 | N19: =ROUND(E19*I19,2) -> 0 | O19: =ROUND(E19*J19,2) -> 0 | P19: =SUM(M19:O19) -> 0
A20: 3 | C20: Lieko grunti izvest utilizācijai | D20: m3 | E20: 56.1 | H20: =ROUND(F20*G20,2) -> 0 | K20: =SUM(H20:J20) -> 0 | L20: =ROUND(E20*F20,2) -> 0 | M20: =ROUND(E20*H20,2) -> 0 | N20: =ROUND(E20*I20,2) -> 0 | O20: =ROUND(E20*J20,2) -> 0 | P20: =SUM(M20:O20) -> 0
A21: 4 | C21: Aizbērt pamatus izmantot rupjas vai vidēji rupjas smiltis. Aizberumu jāveido pa 20 cm biezām kārtām Blietēta vidēji rupja smilts fr. 0,2-0,6mm | D21: m3 | E21: 21 | H21: =ROUND(F21*G21,2) -> 0 | K21: =SUM(H21:J21) -> 0 | L21: =ROUND(E21*F21,2) -> 0 | M21: =ROUND(E21*H21,2) -> 0 | N21: =ROUND(E21*I21,2) -> 0 | O21: =ROUND(E21*J21,2) -> 0 | P21: =SUM(M21:O21) -> 0
A22: 5 | C22: Kāpnes asīs 6-7 | H22: =ROUND(F22*G22,2) -> 0 | K22: =SUM(H22:J22) -> 0 | L22: =ROUND(E22*F22,2) -> 0 | M22: =ROUND(E22*H22,2) -> 0 | N22: =ROUND(E22*I22,2) -> 0 | O22: =ROUND(E22*J22,2) -> 0 | P22: =SUM(M22:O22) -> 0
A23: 6 | C23: Rakt būvbedri līdz projektā paredzētajam dziļumam | D23: m3 | E23: 5.36 | H23: =ROUND(F23*G23,2) -> 0 | K23: =SUM(H23:J23) -> 0 | L23: =ROUND(E23*F23,2) -> 0 | M23: =ROUND(E23*H23,2) -> 0 | N23: =ROUND(E23*I23,2) -> 0 | O23: =ROUND(E23*J23,2) -> 0 | P23: =SUM(M23:O23) -> 0
A24: 7 | C24: Lieko grunti izvest utilizācijai | D24: m3 | E24: 5.36 | H24: =ROUND(F24*G24,2) -> 0 | K24: =SUM(H24:J24) -> 0 | L24: =ROUND(E24*F24,2) -> 0 | M24: =ROUND(E24*H24,2) -> 0 | N24: =ROUND(E24*I24,2) -> 0 | O24: =ROUND(E24*J24,2) -> 0 | P24: =SUM(M24:O24) -> 0
A25: 8 | C25: Aizbērt pamatus izmantot rupjas vai vidēji rupjas smiltis. Aizberumu jāveido pa 20 cm biezām kārtām Blietēta vidēji rupja smilts fr. 0,2-0,6mm | D25: m3 | E25: 7 | H25: =ROUND(F25*G25,2) -> 0 | K25: =SUM(H25:J25) -> 0 | L25: =ROUND(E25*F25,2) -> 0 | M25: =ROUND(E25*H25,2) -> 0 | N25: =ROUND(E25*I25,2) -> 0 | O25: =ROUND(E25*J25,2) -> 0 | P25: =SUM(M25:O25) -> 0
A26: 9 | C26: Kāpnes asīs 3-4 | H26: =ROUND(F26*G26,2) -> 0 | K26: =SUM(H26:J26) -> 0 | L26: =ROUND(E26*F26,2) -> 0 | M26: =ROUND(E26*H26,2) -> 0 | N26: =ROUND(E26*I26,2) -> 0 | O26: =ROUND(E26*J26,2) -> 0 | P26: =SUM(M26:O26) -> 0
A27: 10 | C27: Rakt būvbedri līdz projektā paredzētajam dziļumam | D27: m3 | E27: 15.36 | H27: =ROUND(F27*G27,2) -> 0 | K27: =SUM(H27:J27) -> 0 | L27: =ROUND(E27*F27,2) -> 0 | M27: =ROUND(E27*H27,2) -> 0 | N27: =ROUND(E27*I27,2) -> 0 | O27: =ROUND(E27*J27,2) -> 0 | P27: =SUM(M27:O27) -> 0
A28: 11 | C28: Lieko grunti izvest utilizācijai | D28: m3 | E28: 15.36 | H28: =ROUND(F28*G28,2) -> 0 | K28: =SUM(H28:J28) -> 0 | L28: =ROUND(E28*F28,2) -> 0 | M28: =ROUND(E28*H28,2) -> 0 | N28: =ROUND(E28*I28,2) -> 0 | O28: =ROUND(E28*J28,2) -> 0 | P28: =SUM(M28:O28) -> 0
A29: 12 | C29: Aizbērt pamatus izmantot rupjas vai vidēji rupjas smiltis. Aizberumu jāveido pa 20 cm biezām kārtām Blietēta vidēji rupja smilts fr. 0,2-0,6mm | D29: m3 | E29: 17 | H29: =ROUND(F29*G29,2) -> 0 | K29: =SUM(H29:J29) -> 0 | L29: =ROUND(E29*F29,2) -> 0 | M29: =ROUND(E29*H29,2) -> 0 | N29: =ROUND(E29*I29,2) -> 0 | O29: =ROUND(E29*J29,2) -> 0 | P29: =SUM(M29:O29) -> 0
A30: 13 | C30: Kāpnes asīs B-C | H30: =ROUND(F30*G30,2) -> 0 | K30: =SUM(H30:J30) -> 0 | L30: =ROUND(E30*F30,2) -> 0 | M30: =ROUND(E30*H30,2) -> 0 | N30: =ROUND(E30*I30,2) -> 0 | O30: =ROUND(E30*J30,2) -> 0 | P30: =SUM(M30:O30) -> 0
A31: 14 | C31: Rakt būvbedri līdz projektā paredzētajam dziļumam | D31: m3 | E31: 11.44 | H31: =ROUND(F31*G31,2) -> 0 | K31: =SUM(H31:J31) -> 0 | L31: =ROUND(E31*F31,2) -> 0 | M31: =ROUND(E31*H31,2) -> 0 | N31: =ROUND(E31*I31,2) -> 0 | O31: =ROUND(E31*J31,2) -> 0 | P31: =SUM(M31:O31) -> 0
A32: 15 | C32: Lieko grunti izvest utilizācijai | D32: m3 | E32: 11.44 | H32: =ROUND(F32*G32,2) -> 0 | K32: =SUM(H32:J32) -> 0 | L32: =ROUND(E32*F32,2) -> 0 | M32: =ROUND(E32*H32,2) -> 0 | N32: =ROUND(E32*I32,2) -> 0 | O32: =ROUND(E32*J32,2) -> 0 | P32: =SUM(M32:O32) -> 0
A33: 16 | C33: Aizbērt pamatus izmantot rupjas vai vidēji rupjas smiltis. Aizberumu jāveido pa 20 cm biezām kārtām Blietēta vidēji rupja smilts fr. 0,2-0,6mm | D33: m3 | E33: 4 | H33: =ROUND(F33*G33,2) -> 0 | K33: =SUM(H33:J33) -> 0 | L33: =ROUND(E33*F33,2) -> 0 | M33: =ROUND(E33*H33,2) -> 0 | N33: =ROUND(E33*I33,2) -> 0 | O33: =ROUND(E33*J33,2) -> 0 | P33: =SUM(M33:O33) -> 0
A34: 17 | C34: Kāpnes asīs E | H34: =ROUND(F34*G34,2) -> 0 | K34: =SUM(H34:J34) -> 0 | L34: =ROUND(E34*F34,2) -> 0 | M34: =ROUND(E34*H34,2) -> 0 | N34: =ROUND(E34*I34,2) -> 0 | O34: =ROUND(E34*J34,2) -> 0 | P34: =SUM(M34:O34) -> 0
A35: 18 | C35: Rakt būvbedri līdz projektā paredzētajam dziļumam | D35: m3 | E35: 5.04 | H35: =ROUND(F35*G35,2) -> 0 | K35: =SUM(H35:J35) -> 0 | L35: =ROUND(E35*F35,2) -> 0 | M35: =ROUND(E35*H35,2) -> 0 | N35: =ROUND(E35*I35,2) -> 0 | O35: =ROUND(E35*J35,2) -> 0 | P35: =SUM(M35:O35) -> 0
A36: 19 | C36: Lieko grunti izvest utilizācijai | D36: m3 | E36: 5.04 | H36: =ROUND(F36*G36,2) -> 0 | K36: =SUM(H36:J36) -> 0 | L36: =ROUND(E36*F36,2) -> 0 | M36: =ROUND(E36*H36,2) -> 0 | N36: =ROUND(E36*I36,2) -> 0 | O36: =ROUND(E36*J36,2) -> 0 | P36: =SUM(M36:O36) -> 0
A37: 20 | C37: Aizbērt pamatus izmantot rupjas vai vidēji rupjas smiltis. Aizberumu jāveido pa 20 cm biezām kārtām Blietēta vidēji rupja smilts fr. 0,2-0,6mm | D37: m3 | E37: 5.5 | H37: =ROUND(F37*G37,2) -> 0 | K37: =SUM(H37:J37) -> 0 | L37: =ROUND(E37*F37,2) -> 0 | M37: =ROUND(E37*H37,2) -> 0 | N37: =ROUND(E37*I37,2) -> 0 | O37: =ROUND(E37*J37,2) -> 0 | P37: =SUM(M37:O37) -> 0
A38: 21 | C38: Loga šahta | H38: =ROUND(F38*G38,2) -> 0 | K38: =SUM(H38:J38) -> 0 | L38: =ROUND(E38*F38,2) -> 0 | M38: =ROUND(E38*H38,2) -> 0 | N38: =ROUND(E38*I38,2) -> 0 | O38: =ROUND(E38*J38,2) -> 0 | P38: =SUM(M38:O38) -> 0
A39: 22 | C39: Rakt būvbedri līdz projektā paredzētajam dziļumam | D39: m3 | E39: 3.98 | H39: =ROUND(F39*G39,2) -> 0 | K39: =SUM(H39:J39) -> 0 | L39: =ROUND(E39*F39,2) -> 0 | M39: =ROUND(E39*H39,2) -> 0 | N39: =ROUND(E39*I39,2) -> 0 | O39: =ROUND(E39*J39,2) -> 0 | P39: =SUM(M39:O39) -> 0
A40: 23 | C40: Lieko grunti izvest utilizācijai | D40: m3 | E40: 3.98 | H40: =ROUND(F40*G40,2) -> 0 | K40: =SUM(H40:J40) -> 0 | L40: =ROUND(E40*F40,2) -> 0 | M40: =ROUND(E40*H40,2) -> 0 | N40: =ROUND(E40*I40,2) -> 0 | O40: =ROUND(E40*J40,2) -> 0 | P40: =SUM(M40:O40) -> 0
A41: 24 | C41: Aizbērt pamatus izmantot rupjas vai vidēji rupjas smiltis. Aizberumu jāveido pa 20 cm biezām kārtām Blietēta vidēji rupja smilts fr. 0,2-0,6mm | D41: m3 | E41: 2.98 | H41: =ROUND(F41*G41,2) -> 0 | K41: =SUM(H41:J41) -> 0 | L41: =ROUND(E41*F41,2) -> 0 | M41: =ROUND(E41*H41,2) -> 0 | N41: =ROUND(E41*I41,2) -> 0 | O41: =ROUND(E41*J41,2) -> 0 | P41: =SUM(M41:O41) -> 0
A43: Tiešās izmaksas kopā, t.sk. Darba dēvēja sociālais nodoklis (23,59%) | L43: =SUM(L18:L42) -> 0 | M43: =SUM(M18:M42) -> 0 | N43: =SUM(N18:N42) -> 0 | O43: =SUM(O18:O42) -> 0 | P43: =SUM(P18:P42) -> 0
A45: =KT!A23 -> Sastādīja: | D45: =KT!D23 -> 2024.gada __._________
A46: (paraksts un tā atšifrējums, datums)
A47: =KT!A25 -> Sertifikāta Nr.:
...

Sheet 1,3
A2: Lokālā tāme Nr.1,3
A3: ='KA1'!C18 -> Pamati un pamatnes
A4: (būvdarbu veids vai konstruktīvā elementa nosaukums)
A6: Objekta nosaukums: | C6: =KT!B9 -> ĒKU ATJAUNOŠANA, PĀRBŪVE, NOJAUKŠANA UN TERITORIJAS LABIEKĀRTOŠANA I un II kārta
A7: Būves nosaukums: | C7: =KT!B10 -> Pirmsskolas izglītības iestāde
A8: Objekta adrese: | C8: =KT!B11 -> Dārtas iela 1, Cēsis, Cēsu novads
A9: Pasūtītājs: | C9: =KT!B12 -> Cēsu novada pašvaldība Raunas ielā 4, Cēsīs, Cēsu novadā, LV-4101; Reģ.Nr. 90000031048
A10: Būvuzņēmējs: | C10: =KT!B13 -> SIA
A12: Tāme sastādīta 2024. gada tirgus cenās, pamatojoties uz būvprojekta rasējumiem | M12: Tāmes izmaksas: | O12: =P62 -> 0 | P12: EUR
N13: Tāme sastādītā | O13: =KT!D23 -> 2024.gada __._________
A15: Nr.p.k. | B15: Kods | C15: Būvdarbu nosaukums | D15: Mērvienība | E15: Daudzums | F15: Vienības izmaksas | L15: Kopā uz visu apjomu
F16: Laika norma (c/h) | G16: Darba samaksas likme (euro/h) | H16: Darba alga | I16: Būvizstrādājumi | J16: Mehānismi | K16: KOPĀ | L16: Darbietilpība (c/h) | M16: Darba alga | N16: Būvizstrādājumi | O16: Mehānismi | P16: Summa
A18: 1 | C18: Pamati asīs 6-7 | H18: =ROUND(F18*G18,2) -> 0 | K18: =SUM(H18:J18) -> 0 | L18: =ROUND(E18*F18,2) -> 0 | M18: =ROUND(E18*H18,2) -> 0 | N18: =ROUND(E18*I18,2) -> 0 | O18: =ROUND(E18*J18,2) -> 0 | P18: =SUM(M18:O18) -> 0
A19: 2 | C19: Pamatojums | H19: =ROUND(F19*G19,2) -> 0 | K19: =SUM(H19:J19) -> 0 | L19: =ROUND(E19*F19,2) -> 0 | M19: =ROUND(E19*H19,2) -> 0 | N19: =ROUND(E19*I19,2) -> 0 | O19: =ROUND(E19*J19,2) -> 0 | P19: =SUM(M19:O19) -> 0
A20: 3 | C20: Ierīkot blietētu šķembu kārtu zem pamatiem. Blietētas šķembas, frakcija 0-16mm | D20: m3 | E20: 1.2 | H20: =ROUND(F20*G20,2) -> 0 | K20: =SUM(H20:J20) -> 0 | L20: =ROUND(E20*F20,2) -> 0 | M20: =ROUND(E20*H20,2) -> 0 | N20: =ROUND(E20*I20,2) -> 0 | O20: =ROUND(E20*J20,2) -> 0 | P20: =SUM(M20:O20) -> 0
A21: 4 | C21: Pamati | H21: =ROUND(F21*G21,2) -> 0 | K21: =SUM(H21:J21) -> 0 | L21: =ROUND(E21*F21,2) -> 0 | M21: =ROUND(E21*H21,2) -> 0 | N21: =ROUND(E21*I21,2) -> 0 | O21: =ROUND(E21*J21,2) -> 0 | P21: =SUM(M21:O21) -> 0
A22: 5 | C22: Betonēt veidņos pamatus ar C25/30 XC2 klases betonu un stiegrojot ar B500B terauda stiegrojumu. Ieskaitot visus stiprinājumus un palīgmateriālus. | D22: m3 | E22: 9.74 | H22: =ROUND(F22*G22,2) -> 0 | K22: =SUM(H22:J22) -> 0 | L22: =ROUND(E22*F22,2) -> 0 | M22: =ROUND(E22*H22,2) -> 0 | N22: =ROUND(E22*I22,2) -> 0 | O22: =ROUND(E22*J22,2) -> 0 | P22: =SUM(M22:O22) -> 0
A23: 6 | C23: Ierīkot deformācijas šuvi starp pamatiem un mūri Ekstrudētais putuplasts 20mm | D23: m | E23: 3.9 | H23: =ROUND(F23*G23,2) -> 0 | K23: =SUM(H23:J23) -> 0 | L23: =ROUND(E23*F23,2) -> 0 | M23: =ROUND(E23*H23,2) -> 0 | N23: =ROUND(E23*I23,2) -> 0 | O23: =ROUND(E23*J23,2) -> 0 | P23: =SUM(M23:O23) -> 0
A24: 7 | C24: Ierīkot deformācijas šuvi starp pamatiem un mūri elastīgs blīvējums (ekvil. ISO-ZELL PE-CORD lenta) | D24: m | E24: 7.8 | H24: =ROUND(F24*G24,2) -> 0 | K24: =SUM(H24:J24) -> 0 | L24: =ROUND(E24*F24,2) -> 0 | M24: =ROUND(E24*H24,2) -> 0 | N24: =ROUND(E24*I24,2) -> 0 | O24: =ROUND(E24*J24,2) -> 0 | P24: =SUM(M24:O24) -> 0
A25: 8 | C25: Ieklāt horizontālo hidroizolāciju pa pamatu virsmu, ieklājot divās kārtās ruberoīdu uz bituma līmes kārtas | D25: m2 | E25: 4.56 | H25: =ROUND(F25*G25,2) -> 0 | K25: =SUM(H25:J25) -> 0 | L25: =ROUND(E25*F25,2) -> 0 | M25: =ROUND(E25*H25,2) -> 0 | N25: =ROUND(E25*I25,2) -> 0 | O25: =ROUND(E25*J25,2) -> 0 | P25: =SUM(M25:O25) -> 0
A26: 9 | C26: Kāpnes asīs 6-7 | H26: =ROUND(F26*G26,2) -> 0 | K26: =SUM(H26:J26) -> 0 | L26: =ROUND(E26*F26,2) -> 0 | M26: =ROUND(E26*H26,2) -> 0 | N26: =ROUND(E26*I26,2) -> 0 | O26: =ROUND(E26*J26,2) -> 0 | P26: =SUM(M26:O26) -> 0
A27: 10 | C27: Pamatojums | H27: =ROUND(F27*G27,2) -> 0 | K27: =SUM(H27:J27) -> 0 | L27: =ROUND(E27*F27,2) -> 0 | M27: =ROUND(E27*H27,2) -> 0 | N27: =ROUND(E27*I27,2) -> 0 | O27: =ROUND(E27*J27,2) -> 0 | P27: =SUM(M27:O27) -> 0
A28: 11 | C28: Ierīkot blietētu šķembu kārtu zem pamatiem. Blietētas šķembas, frakcija 0-16mm | D28: m3 | E28: 0.4 | H28: =ROUND(F28*G28,2) -> 0 | K28: =SUM(H28:J28) -> 0 | L28: =ROUND(E28*F28,2) -> 0 | M28: =ROUND(E28*H28,2) -> 0 | N28: =ROUND(E28*I28,2) -> 0 | O28: =ROUND(E28*J28,2) -> 0 | P28: =SUM(M28:O28) -> 0
A29: 12 | C29: Pamati | H29: =ROUND(F29*G29,2) -> 0 | K29: =SUM(H29:J29) -> 0 | L29: =ROUND(E29*F29,2) -> 0 | M29: =ROUND(E29*H29,2) -> 0 | N29: =ROUND(E29*I29,2) -> 0 | O29: =ROUND(E29*J29,2) -> 0 | P29: =SUM(M29:O29) -> 0
A30: 13 | C30: Betonēt veidņos pamatus ar C25/30 klases betonu un stiegrojot ar B500B terauda stiegrojumu. Ieskaitot visus stiprinājumus un palīgmateriālus. | D30: m3 | E30: 2.8 | H30: =ROUND(F30*G30,2) -> 0 | K30: =SUM(H30:J30) -> 0 | L30: =ROUND(E30*F30,2) -> 0 | M30: =ROUND(E30*H30,2) -> 0 | N30: =ROUND(E30*I30,2) -> 0 | O30: =ROUND(E30*J30,2) -> 0 | P30: =SUM(M30:O30) -> 0
A31: 14 | C31: Ierīkot deformācijas šuvi starp pamatiem un mūri Ekstrudētais putuplasts 20mm | D31: m2 | E31: 2.31 | H31: =ROUND(F31*G31,2) -> 0 | K31: =SUM(H31:J31) -> 0 | L31: =ROUND(E31*F31,2) -> 0 | M31: =ROUND(E31*H31,2) -> 0 | N31: =ROUND(E31*I31,2) -> 0 | O31: =ROUND(E31*J31,2) -> 0 | P31: =SUM(M31:O31) -> 0
A32: 15 | C32: Ierīkot deformācijas šuvi starp pamatiem un mūri elastīgs blīvējums (ekvil. ISO-ZELL PE-CORD lenta) | D32: m | E32: 4.58 | H32: =ROUND(F32*G32,2) -> 0 | K32: =SUM(H32:J32) -> 0 | L32: =ROUND(E32*F32,2) -> 0 | M32: =ROUND(E32*H32,2) -> 0 | N32: =ROUND(E32*I32,2) -> 0 | O32: =ROUND(E32*J32,2) -> 0 | P32: =SUM(M32:O32) -> 0
A33: 16 | C33: Kāpnes asīs 3-4 | H33: =ROUND(F33*G33,2) -> 0 | K33: =SUM(H33:J33) -> 0 | L33: =ROUND(E33*F33,2) -> 0 | M33: =ROUND(E33*H33,2) -> 0 | N33: =ROUND(E33*I33,2) -> 0 | O33: =ROUND(E33*J33,2) -> 0 | P33: =SUM(M33:O33) -> 0
A34: 17 | C34: Pamatojums | H34: =ROUND(F34*G34,2) -> 0 | K34: =SUM(H34:J34) -> 0 | L34: =ROUND(E34*F34,2) -> 0 | M34: =ROUND(E34*H34,2) -> 0 | N34: =ROUND(E34*I34,2) -> 0 | O34: =ROUND(E34*J34,2) -> 0 | P34: =SUM(M34:O34) -> 0
A35: 18 | C35: Ierīkot blietētu šķembu kārtu zem pamatiem. Blietētas šķembas, frakcija 0-16mm | D35: m3 | E35: 1.8 | H35: =ROUND(F35*G35,2) -> 0 | K35: =SUM(H35:J35) -> 0 | L35: =ROUND(E35*F35,2) -> 0 | M35: =ROUND(E35*H35,2) -> 0 | N35: =ROUND(E35*I35,2) -> 0 | O35: =ROUND(E35*J35,2) -> 0 | P35: =SUM(M35:O35) -> 0
A36: 19 | C36: Pamati | H36: =ROUND(F36*G36,2) -> 0 | K36: =SUM(H36:J36) -> 0 | L36: =ROUND(E36*F36,2) -> 0 | M36: =ROUND(E36*H36,2) -> 0 | N36: =ROUND(E36*I36,2) -> 0 | O36: =ROUND(E36*J36,2) -> 0 | P36: =SUM(M36:O36) -> 0
A37: 20 | C37: Betonēt veidņos pamatus ar C25/30 klases betonu un stiegrojot ar B500B terauda stiegrojumu. Ieskaitot visus stiprinājumus un palīgmateriālus. | D37: m3 | E37: 6.2 | H37: =ROUND(F37*G37,2) -> 0 | K37: =SUM(H37:J37) -> 0 | L37: =ROUND(E37*F37,2) -> 0 | M37: =ROUND(E37*H37,2) -> 0 | N37: =ROUND(E37*I37,2) -> 0 | O37: =ROUND(E37*J37,2) -> 0 | P37: =SUM(M37:O37) -> 0
A38: 21 | C38: Ierīkot deformācijas šuvi starp pamatiem un mūri Ekstrudētais putuplasts 20mm | D38: m2 | E38: 4.47 | H38: =ROUND(F38*G38,2) -> 0 | K38: =SUM(H38:J38) -> 0 | L38: =ROUND(E38*F38,2) -> 0 | M38: =ROUND(E38*H38,2) -> 0 | N38: =ROUND(E38*I38,2) -> 0 | O38: =ROUND(E38*J38,2) -> 0 | P38: =SUM(M38:O38) -> 0
A39: 22 | C39: Ierīkot deformācijas šuvi starp pamatiem un mūri elastīgs blīvējums (ekvil. ISO-ZELL PE-CORD lenta) | D39: m | E39: 21.18 | H39: =ROUND(F39*G39,2) -> 0 | K39: =SUM(H39:J39) -> 0 | L39: =ROUND(E39*F39,2) -> 0 | M39: =ROUND(E39*H39,2) -> 0 | N39: =ROUND(E39*I39,2) -> 0 | O39: =ROUND(E39*J39,2) -> 0 | P39: =SUM(M39:O39) -> 0
A40: 23 | C40: Kāpnes asīs B-C | H40: =ROUND(F40*G40,2) -> 0 | K40: =SUM(H40:J40) -> 0 | L40: =ROUND(E40*F40,2) -> 0 | M40: =ROUND(E40*H40,2) -> 0 | N40: =ROUND(E40*I40,2) -> 0 | O40: =ROUND(E40*J40,2) -> 0 | P40: =SUM(M40:O40) -> 0
A41: 24 | C41: Pamatojums | H41: =ROUND(F41*G41,2) -> 0 | K41: =SUM(H41:J41) -> 0 | L41: =ROUND(E41*F41,2) -> 0 | M41: =ROUND(E41*H41,2) -> 0 | N41: =ROUND(E41*I41,2) -> 0 | O41: =ROUND(E41*J41,2) -> 0 | P41: =SUM(M41:O41) -> 0
A42: 25 | C42: Ierīkot blietētu šķembu kārtu zem pamatiem. Blietētas šķembas, frakcija 0-16mm | D42: m3 | E42: 0.6 | H42: =ROUND(F42*G42,2) -> 0 | K42: =SUM(H42:J42) -> 0 | L42: =ROUND(E42*F42,2) -> 0 | M42: =ROUND(E42*H42,2) -> 0 | N42: =ROUND(E42*I42,2) -> 0 | O42: =ROUND(E42*J42,2) -> 0 | P42: =SUM(M42:O42) -> 0
A43: 26 | C43: Pamati | H43: =ROUND(F43*G43,2) -> 0 | K43: =SUM(H43:J43) -> 0 | L43: =ROUND(E43*F43,2) -> 0 | M43: =ROUND(E43*H43,2) -> 0 | N43: =ROUND(E43*I43,2) -> 0 | O43: =ROUND(E43*J43,2) -> 0 | P43: =SUM(M43:O43) -> 0
A44: 27 | C44: Betonēt veidņos pamatus ar C25/30 klases betonu un stiegrojot ar B500B terauda stiegrojumu. Ieskaitot visus stiprinājumus un palīgmateriālus. | D44: m3 | E44: 2 | H44: =ROUND(F44*G44,2) -> 0 | K44: =SUM(H44:J44) -> 0 | L44: =ROUND(E44*F44,2) -> 0 | M44: =ROUND(E44*H44,2) -> 0 | N44: =ROUND(E44*I44,2) -> 0 | O44: =ROUND(E44*J44,2) -> 0 | P44: =SUM(M44:O44) -> 0
A45: 28 | C45: Ierīkot deformācijas šuvi starp pamatiem un mūri Ekstrudētais putuplasts 20mm | D45: m2 | E45: 1.17 | H45: =ROUND(F45*G45,2) -> 0 | K45: =SUM(H45:J45) -> 0 | L45: =ROUND(E45*F45,2) -> 0 | M45: =ROUND(E45*H45,2) -> 0 | N45: =ROUND(E45*I45,2) -> 0 | O45: =ROUND(E45*J45,2) -> 0 | P45: =SUM(M45:O45) -> 0
...

Sheet 1,4
A2: Lokālā tāme Nr.1,4
A3: ='KA1'!C19 -> Sienas, ēku un būvju karkasu konstrukcijas
A4: (būvdarbu veids vai konstruktīvā elementa nosaukums)
A6: Objekta nosaukums: | C6: =KT!B9 -> ĒKU ATJAUNOŠANA, PĀRBŪVE, NOJAUKŠANA UN TERITORIJAS LABIEKĀRTOŠANA I un II kārta
A7: Būves nosaukums: | C7: =KT!B10 -> Pirmsskolas izglītības iestāde
A8: Objekta adrese: | C8: =KT!B11 -> Dārtas iela 1, Cēsis, Cēsu novads
A9: Pasūtītājs: | C9: =KT!B12 -> Cēsu novada pašvaldība Raunas ielā 4, Cēsīs, Cēsu novadā, LV-4101; Reģ.Nr. 90000031048
A10: Būvuzņēmējs: | C10: =KT!B13 -> SIA
A12: Tāme sastādīta 2024. gada tirgus cenās, pamatojoties uz būvprojekta rasējumiem | M12: Tāmes izmaksas: | O12: =P86 -> 0 | P12: EUR
N13: Tāme sastādītā | O13: =KT!D23 -> 2024.gada __._________
A15: Nr.p.k. | B15: Kods | C15: Būvdarbu nosaukums | D15: Mērvienība | E15: Daudzums | F15: Vienības izmaksas | L15: Kopā uz visu apjomu
F16: Laika norma (c/h) | G16: Darba samaksas likme (euro/h) | H16: Darba alga | I16: Būvizstrādājumi | J16: Mehānismi | K16: KOPĀ | L16: Darbietilpība (c/h) | M16: Darba alga | N16: Būvizstrādājumi | O16: Mehānismi | P16: Summa
A18: 1 | C18: 1.stāva pārsedzes | H18: =ROUND(F18*G18,2) -> 0 | K18: =SUM(H18:J18) -> 0 | L18: =ROUND(E18*F18,2) -> 0 | M18: =ROUND(E18*H18,2) -> 0 | N18: =ROUND(E18*I18,2) -> 0 | O18: =ROUND(E18*J18,2) -> 0 | P18: =SUM(M18:O18) -> 0
A19: 2 | C19: Izkalt sienās caurumus pārsedžu ievietošanai no abām pusēm un izvest būvgružus utilizācijai | D19: m | E19: 31.22 | H19: =ROUND(F19*G19,2) -> 0 | K19: =SUM(H19:J19) -> 0 | L19: =ROUND(E19*F19,2) -> 0 | M19: =ROUND(E19*H19,2) -> 0 | N19: =ROUND(E19*I19,2) -> 0 | O19: =ROUND(E19*J19,2) -> 0 | P19: =SUM(M19:O19) -> 0
A20: 3 | C20: Montēt UPN 80/120/180 pārsedzes, ieskaitot visus stiprinājumus un palīgmateriālus Visiem metāla elementiem saskaņā ar ISO/DIS 12944-2 ir C2 korozijas kategorija. Tērauda konstrukcijas pārklāt ar firmas "RILAK" 2 kārtām grunti "EPOPRIM" 120mkm un 1 kārtu krāsu "URETOP" 40mkm. vai ekvivalents | D20: kg | E20: 328.8 | H20: =ROUND(F20*G20,2) -> 0 | K20: =SUM(H20:J20) -> 0 | L20: =ROUND(E20*F20,2) -> 0 | M20: =ROUND(E20*H20,2) -> 0 | N20: =ROUND(E20*I20,2) -> 0 | O20: =ROUND(E20*J20,2) -> 0 | P20: =SUM(M20:O20) -> 0
A21: 4 | C21: Urbt sienā caurumus vītņstieņu ievietošanai | D21: gb | E21: 40 | H21: =ROUND(F21*G21,2) -> 0 | K21: =SUM(H21:J21) -> 0 | L21: =ROUND(E21*F21,2) -> 0 | M21: =ROUND(E21*H21,2) -> 0 | N21: =ROUND(E21*I21,2) -> 0 | O21: =ROUND(E21*J21,2) -> 0 | P21: =SUM(M21:O21) -> 0
A22: 5 | C22: Savienot pārsedzes ar M12 vītņstieņiem, ieskaitot visus stiprinājumus un palīgmateriālus | D22: gb | E22: 40 | H22: =ROUND(F22*G22,2) -> 0 | K22: =SUM(H22:J22) -> 0 | L22: =ROUND(E22*F22,2) -> 0 | M22: =ROUND(E22*H22,2) -> 0 | N22: =ROUND(E22*I22,2) -> 0 | O22: =ROUND(E22*J22,2) -> 0 | P22: =SUM(M22:O22) -> 0
A23: 6 | C23: Aptīt pārsedzes ar sietu 3x3x100x100mm un apmest ar smalkgraudainu bezrukuma javu | D23: m2 | E23: 13.8 | H23: =ROUND(F23*G23,2) -> 0 | K23: =SUM(H23:J23) -> 0 | L23: =ROUND(E23*F23,2) -> 0 | M23: =ROUND(E23*H23,2) -> 0 | N23: =ROUND(E23*I23,2) -> 0 | O23: =ROUND(E23*J23,2) -> 0 | P23: =SUM(M23:O23) -> 0
A24: 7 | C24: Montēt FIBO keramzītbetona pārsedzes uz mūrjavas kārtas vai ekvivalents 1800x250x200mm | D24: gb | E24: 1 | H24: =ROUND(F24*G24,2) -> 0 | K24: =SUM(H24:J24) -> 0 | L24: =ROUND(E24*F24,2) -> 0 | M24: =ROUND(E24*H24,2) -> 0 | N24: =ROUND(E24*I24,2) -> 0 | O24: =ROUND(E24*J24,2) -> 0 | P24: =SUM(M24:O24) -> 0
A25: 8 | C25: Izurbt sienā caurumu 300mm diametrā un izvest būvgružus utilizācijai | D25: gb | E25: 4 | H25: =ROUND(F25*G25,2) -> 0 | K25: =SUM(H25:J25) -> 0 | L25: =ROUND(E25*F25,2) -> 0 | M25: =ROUND(E25*H25,2) -> 0 | N25: =ROUND(E25*I25,2) -> 0 | O25: =ROUND(E25*J25,2) -> 0 | P25: =SUM(M25:O25) -> 0
A26: 9 | C26: 2.stāva pārsedzes | H26: =ROUND(F26*G26,2) -> 0 | K26: =SUM(H26:J26) -> 0 | L26: =ROUND(E26*F26,2) -> 0 | M26: =ROUND(E26*H26,2) -> 0 | N26: =ROUND(E26*I26,2) -> 0 | O26: =ROUND(E26*J26,2) -> 0 | P26: =SUM(M26:O26) -> 0
A27: 10 | C27: Izkalt sienās caurumus pārsedžu ievietošanai no abām pusēm un izvest būvgružus utilizācijai | D27: m | E27: 7.93 | H27: =ROUND(F27*G27,2) -> 0 | K27: =SUM(H27:J27) -> 0 | L27: =ROUND(E27*F27,2) -> 0 | M27: =ROUND(E27*H27,2) -> 0 | N27: =ROUND(E27*I27,2) -> 0 | O27: =ROUND(E27*J27,2) -> 0 | P27: =SUM(M27:O27) -> 0
A28: 11 | C28: Montēt UPN 80/120/180 pārsedzes, ieskaitot visus stiprinājumus un palīgmateriālus Visiem metāla elementiem saskaņā ar ISO/DIS 12944-2 ir C2 korozijas kategorija. Tērauda konstrukcijas pārklāt ar firmas "RILAK" 2 kārtām grunti "EPOPRIM" 120mkm un 1 kārtu krāsu "URETOP" 40mkm. vai ekvivalents | D28: kg | E28: 202.7 | H28: =ROUND(F28*G28,2) -> 0 | K28: =SUM(H28:J28) -> 0 | L28: =ROUND(E28*F28,2) -> 0 | M28: =ROUND(E28*H28,2) -> 0 | N28: =ROUND(E28*I28,2) -> 0 | O28: =ROUND(E28*J28,2) -> 0 | P28: =SUM(M28:O28) -> 0
A29: 12 | C29: Urbt sienā caurumus vītņstieņu ievietošanai | D29: gb | E29: 20 | H29: =ROUND(F29*G29,2) -> 0 | K29: =SUM(H29:J29) -> 0 | L29: =ROUND(E29*F29,2) -> 0 | M29: =ROUND(E29*H29,2) -> 0 | N29: =ROUND(E29*I29,2) -> 0 | O29: =ROUND(E29*J29,2) -> 0 | P29: =SUM(M29:O29) -> 0
A30: 13 | C30: Savienot pārsedzes ar M12 vītņstieņiem, ieskaitot visus stiprinājumus un palīgmateriālus | D30: gb | E30: 20 | H30: =ROUND(F30*G30,2) -> 0 | K30: =SUM(H30:J30) -> 0 | L30: =ROUND(E30*F30,2) -> 0 | M30: =ROUND(E30*H30,2) -> 0 | N30: =ROUND(E30*I30,2) -> 0 | O30: =ROUND(E30*J30,2) -> 0 | P30: =SUM(M30:O30) -> 0
A31: 14 | C31: Aptīt pārsedzes ar sietu 3x3x100x100mm un apmest ar smalkgraudainu bezrukuma javu | D31: m2 | E31: 7 | H31: =ROUND(F31*G31,2) -> 0 | K31: =SUM(H31:J31) -> 0 | L31: =ROUND(E31*F31,2) -> 0 | M31: =ROUND(E31*H31,2) -> 0 | N31: =ROUND(E31*I31,2) -> 0 | O31: =ROUND(E31*J31,2) -> 0 | P31: =SUM(M31:O31) -> 0
A32: 15 | C32: Montēt FIBO keramzītbetona pārsedzes uz mūrjavas kārtas vai ekvivalents 1500x250x200mm | D32: gb | E32: 1 | H32: =ROUND(F32*G32,2) -> 0 | K32: =SUM(H32:J32) -> 0 | L32: =ROUND(E32*F32,2) -> 0 | M32: =ROUND(E32*H32,2) -> 0 | N32: =ROUND(E32*I32,2) -> 0 | O32: =ROUND(E32*J32,2) -> 0 | P32: =SUM(M32:O32) -> 0
A33: 16 | C33: Izurbt sienā caurumu 300mm diametrā un izvest būvgružus utilizācijai | D33: gb | E33: 4 | H33: =ROUND(F33*G33,2) -> 0 | K33: =SUM(H33:J33) -> 0 | L33: =ROUND(E33*F33,2) -> 0 | M33: =ROUND(E33*H33,2) -> 0 | N33: =ROUND(E33*I33,2) -> 0 | O33: =ROUND(E33*J33,2) -> 0 | P33: =SUM(M33:O33) -> 0
A34: 17 | C34: Kāpnes asīs 3-4/E | H34: =ROUND(F34*G34,2) -> 0 | K34: =SUM(H34:J34) -> 0 | L34: =ROUND(E34*F34,2) -> 0 | M34: =ROUND(E34*H34,2) -> 0 | N34: =ROUND(E34*I34,2) -> 0 | O34: =ROUND(E34*J34,2) -> 0 | P34: =SUM(M34:O34) -> 0
A35: 18 | C35: Izkalt sienās caurumus siju ievietošanai un izvest būvgružus utilizācijai | D35: gb | E35: 4 | H35: =ROUND(F35*G35,2) -> 0 | K35: =SUM(H35:J35) -> 0 | L35: =ROUND(E35*F35,2) -> 0 | M35: =ROUND(E35*H35,2) -> 0 | N35: =ROUND(E35*I35,2) -> 0 | O35: =ROUND(E35*J35,2) -> 0 | P35: =SUM(M35:O35) -> 0
A36: 19 | C36: Betonēt veidņos siju balstus ar C25/30 klases betonu un stiegrojot ar B500B terauda stiegrojumu. Ieskaitot visus stiprinājumus un palīgmateriālus. | D36: m3 | E36: 0.08 | H36: =ROUND(F36*G36,2) -> 0 | K36: =SUM(H36:J36) -> 0 | L36: =ROUND(E36*F36,2) -> 0 | M36: =ROUND(E36*H36,2) -> 0 | N36: =ROUND(E36*I36,2) -> 0 | O36: =ROUND(E36*J36,2) -> 0 | P36: =SUM(M36:O36) -> 0
A37: 20 | C37: Montēt tērauda kāpņu konstrukciju, ieskaitot visus stiprinājumus un palīgmateriālus | D37: t | E37: 0.45 | H37: =ROUND(F37*G37,2) -> 0 | K37: =SUM(H37:J37) -> 0 | L37: =ROUND(E37*F37,2) -> 0 | M37: =ROUND(E37*H37,2) -> 0 | N37: =ROUND(E37*I37,2) -> 0 | O37: =ROUND(E37*J37,2) -> 0 | P37: =SUM(M37:O37) -> 0
A38: 21 | C38: Frēzēt gropi mūrī 100mm dziļumā un izvest būvgružus utilizācijai | D38: m | E38: 10.8 | H38: =ROUND(F38*G38,2) -> 0 | K38: =SUM(H38:J38) -> 0 | L38: =ROUND(E38*F38,2) -> 0 | M38: =ROUND(E38*H38,2) -> 0 | N38: =ROUND(E38*I38,2) -> 0 | O38: =ROUND(E38*J38,2) -> 0 | P38: =SUM(M38:O38) -> 0
A39: 22 | C39: Betonēt veidņos siju galus ar C25/30 klases betonu un stiegrojot ar B500B terauda stiegrojumu. Ieskaitot visus stiprinājumus un palīgmateriālus. | D39: m3 | E39: 0.16 | H39: =ROUND(F39*G39,2) -> 0 | K39: =SUM(H39:J39) -> 0 | L39: =ROUND(E39*F39,2) -> 0 | M39: =ROUND(E39*H39,2) -> 0 | N39: =ROUND(E39*I39,2) -> 0 | O39: =ROUND(E39*J39,2) -> 0 | P39: =SUM(M39:O39) -> 0
A40: 23 | C40: Betonēt veidņos kāpņu konstrukciju ar C25/30 klases betonu un stiegrojot ar B500B terauda stiegrojumu. Ieskaitot visus stiprinājumus un palīgmateriālus. | D40: m3 | E40: 5.1 | H40: =ROUND(F40*G40,2) -> 0 | K40: =SUM(H40:J40) -> 0 | L40: =ROUND(E40*F40,2) -> 0 | M40: =ROUND(E40*H40,2) -> 0 | N40: =ROUND(E40*I40,2) -> 0 | O40: =ROUND(E40*J40,2) -> 0 | P40: =SUM(M40:O40) -> 0
A41: 24 | C41: Montēt smalkgraudainus betona pakāpienus, ieskaitot visus stiprinājumus un palīgmateriālus Pa-1 Smalkgraudaina betona pakāpieni ar noapaļotu kanti tips Nr.-6 (330x144,4);L=1300 | D41: gb | E41: 8 | H41: =ROUND(F41*G41,2) -> 0 | K41: =SUM(H41:J41) -> 0 | L41: =ROUND(E41*F41,2) -> 0 | M41: =ROUND(E41*H41,2) -> 0 | N41: =ROUND(E41*I41,2) -> 0 | O41: =ROUND(E41*J41,2) -> 0 | P41: =SUM(M41:O41) -> 0
A42: 25 | C42: Montēt smalkgraudainus betona pakāpienus, ieskaitot visus stiprinājumus un palīgmateriālus Pa-2 (330x144,4);L=1300 | D42: gb | E42: 1 | H42: =ROUND(F42*G42,2) -> 0 | K42: =SUM(H42:J42) -> 0 | L42: =ROUND(E42*F42,2) -> 0 | M42: =ROUND(E42*H42,2) -> 0 | N42: =ROUND(E42*I42,2) -> 0 | O42: =ROUND(E42*J42,2) -> 0 | P42: =SUM(M42:O42) -> 0
A43: 26 | C43: Montēt smalkgraudainus betona pakāpienus, ieskaitot visus stiprinājumus un palīgmateriālus Pa-3 (300x146.2);L=1300 | D43: gb | E43: 24 | H43: =ROUND(F43*G43,2) -> 0 | K43: =SUM(H43:J43) -> 0 | L43: =ROUND(E43*F43,2) -> 0 | M43: =ROUND(E43*H43,2) -> 0 | N43: =ROUND(E43*I43,2) -> 0 | O43: =ROUND(E43*J43,2) -> 0 | P43: =SUM(M43:O43) -> 0
A44: 27 | C44: Montēt smalkgraudainus betona pakāpienus, ieskaitot visus stiprinājumus un palīgmateriālus Pa-4 (300x146.2);L=1300 | D44: gb | E44: 1 | H44: =ROUND(F44*G44,2) -> 0 | K44: =SUM(H44:J44) -> 0 | L44: =ROUND(E44*F44,2) -> 0 | M44: =ROUND(E44*H44,2) -> 0 | N44: =ROUND(E44*I44,2) -> 0 | O44: =ROUND(E44*J44,2) -> 0 | P44: =SUM(M44:O44) -> 0
A45: 28 | C45: Montēt smalkgraudainus betona pakāpienus, ieskaitot visus stiprinājumus un palīgmateriālus Pa-5 (300/150x146.2);L=1300 | D45: gb | E45: 2 | H45: =ROUND(F45*G45,2) -> 0 | K45: =SUM(H45:J45) -> 0 | L45: =ROUND(E45*F45,2) -> 0 | M45: =ROUND(E45*H45,2) -> 0 | N45: =ROUND(E45*I45,2) -> 0 | O45: =ROUND(E45*J45,2) -> 0 | P45: =SUM(M45:O45) -> 0
...

Sheet 1,5
A2: Lokālā tāme Nr.1,5
A3: ='KA1'!C20 -> Starpsienas
A4: (būvdarbu veids vai konstruktīvā elementa nosaukums)
A6: Objekta nosaukums: | C6: =KT!B9 -> ĒKU ATJAUNOŠANA, PĀRBŪVE, NOJAUKŠANA UN TERITORIJAS LABIEKĀRTOŠANA I un II kārta
A7: Būves nosaukums: | C7: =KT!B10 -> Pirmsskolas izglītības iestāde
A8: Objekta adrese: | C8: =KT!B11 -> Dārtas iela 1, Cēsis, Cēsu novads
A9: Pasūtītājs: | C9: =KT!B12 -> Cēsu novada pašvaldība Raunas ielā 4, Cēsīs, Cēsu novadā, LV-4101; Reģ.Nr. 90000031048
A10: Būvuzņēmējs: | C10: =KT!B13 -> SIA
A12: Tāme sastādīta 2024. gada tirgus cenās, pamatojoties uz būvprojekta rasējumiem | M12: Tāmes izmaksas: | O12: =P67 -> 0 | P12: EUR
N13: Tāme sastādītā | O13: =KT!D23 -> 2024.gada __._________
A15: Nr.p.k. | B15: Kods | C15: Būvdarbu nosaukums | D15: Mērvienība | E15: Daudzums | F15: Vienības izmaksas | L15: Kopā uz visu apjomu
F16: Laika norma (c/h) | G16: Darba samaksas likme (euro/h) | H16: Darba alga | I16: Būvizstrādājumi | J16: Mehānismi | K16: KOPĀ | L16: Darbietilpība (c/h) | M16: Darba alga | N16: Būvizstrādājumi | O16: Mehānismi | P16: Summa
A18: 1 | C18: AS-1 | H18: =ROUND(F18*G18,2) -> 0 | K18: =SUM(H18:J18) -> 0 | L18: =ROUND(E18*F18,2) -> 0 | M18: =ROUND(E18*H18,2) -> 0 | N18: =ROUND(E18*I18,2) -> 0 | O18: =ROUND(E18*J18,2) -> 0 | P18: =SUM(M18:O18) -> 0
A19: 2 | C19: Montēt metala profilu karkasu 100mm, ieskaitot visus stiprinājumus un palīgmateriālus | D19: m2 | E19: 485 | H19: =ROUND(F19*G19,2) -> 0 | K19: =SUM(H19:J19) -> 0 | L19: =ROUND(E19*F19,2) -> 0 | M19: =ROUND(E19*H19,2) -> 0 | N19: =ROUND(E19*I19,2) -> 0 | O19: =ROUND(E19*J19,2) -> 0 | P19: =SUM(M19:O19) -> 0
A20: 3 | C20: Ieklāt akmens vates plāksnes Paroc Extra, d=100mm vai ekvivalents | D20: m2 | E20: 485 | H20: =ROUND(F20*G20,2) -> 0 | K20: =SUM(H20:J20) -> 0 | L20: =ROUND(E20*F20,2) -> 0 | M20: =ROUND(E20*H20,2) -> 0 | N20: =ROUND(E20*I20,2) -> 0 | O20: =ROUND(E20*J20,2) -> 0 | P20: =SUM(M20:O20) -> 0
A21: 4 | C21: Ieklāt tvaika barjeru Paroc XMV 020 bas Tvaika caurlaidība Sd /80 m( vai ekviv.) | D21: m2 | E21: 485 | H21: =ROUND(F21*G21,2) -> 0 | K21: =SUM(H21:J21) -> 0 | L21: =ROUND(E21*F21,2) -> 0 | M21: =ROUND(E21*H21,2) -> 0 | N21: =ROUND(E21*I21,2) -> 0 | O21: =ROUND(E21*J21,2) -> 0 | P21: =SUM(M21:O21) -> 0
A22: 5 | C22: Apšūt karkasu ar 12,5mm ģipškartona loksnēm divās kārtās, ieskaitot visus stiprinājumus un palīgmateriālus. Veikt šuvju špaktelēšanu | D22: m2 | E22: 970 | H22: =ROUND(F22*G22,2) -> 0 | K22: =SUM(H22:J22) -> 0 | L22: =ROUND(E22*F22,2) -> 0 | M22: =ROUND(E22*H22,2) -> 0 | N22: =ROUND(E22*I22,2) -> 0 | O22: =ROUND(E22*J22,2) -> 0 | P22: =SUM(M22:O22) -> 0
A23: 6 | C23: AS-2 | H23: =ROUND(F23*G23,2) -> 0 | K23: =SUM(H23:J23) -> 0 | L23: =ROUND(E23*F23,2) -> 0 | M23: =ROUND(E23*H23,2) -> 0 | N23: =ROUND(E23*I23,2) -> 0 | O23: =ROUND(E23*J23,2) -> 0 | P23: =SUM(M23:O23) -> 0
A24: 7 | C24: Montēt metala profilu karkasu 100mm, ieskaitot visus stiprinājumus un palīgmateriālus | D24: m2 | E24: 32 | H24: =ROUND(F24*G24,2) -> 0 | K24: =SUM(H24:J24) -> 0 | L24: =ROUND(E24*F24,2) -> 0 | M24: =ROUND(E24*H24,2) -> 0 | N24: =ROUND(E24*I24,2) -> 0 | O24: =ROUND(E24*J24,2) -> 0 | P24: =SUM(M24:O24) -> 0
A25: 8 | C25: Ieklāt akmens vates plāksnes Paroc Extra, d=100mm vai ekvivalents | D25: m2 | E25: 32 | H25: =ROUND(F25*G25,2) -> 0 | K25: =SUM(H25:J25) -> 0 | L25: =ROUND(E25*F25,2) -> 0 | M25: =ROUND(E25*H25,2) -> 0 | N25: =ROUND(E25*I25,2) -> 0 | O25: =ROUND(E25*J25,2) -> 0 | P25: =SUM(M25:O25) -> 0
A26: 9 | C26: Ieklāt tvaika barjeru Paroc XMV 020 bas Tvaika caurlaidība Sd /80 m( vai ekviv.) | D26: m2 | E26: 32 | H26: =ROUND(F26*G26,2) -> 0 | K26: =SUM(H26:J26) -> 0 | L26: =ROUND(E26*F26,2) -> 0 | M26: =ROUND(E26*H26,2) -> 0 | N26: =ROUND(E26*I26,2) -> 0 | O26: =ROUND(E26*J26,2) -> 0 | P26: =SUM(M26:O26) -> 0
A27: 10 | C27: Apšūt karkasu ar 12,5mm ģipškartona loksnēm divās kārtās, ieskaitot visus stiprinājumus un palīgmateriālus. Veikt šuvju špaktelēšanu | D27: m2 | E27: 64 | H27: =ROUND(F27*G27,2) -> 0 | K27: =SUM(H27:J27) -> 0 | L27: =ROUND(E27*F27,2) -> 0 | M27: =ROUND(E27*H27,2) -> 0 | N27: =ROUND(E27*I27,2) -> 0 | O27: =ROUND(E27*J27,2) -> 0 | P27: =SUM(M27:O27) -> 0
A28: 11 | C28: AS-3 | H28: =ROUND(F28*G28,2) -> 0 | K28: =SUM(H28:J28) -> 0 | L28: =ROUND(E28*F28,2) -> 0 | M28: =ROUND(E28*H28,2) -> 0 | N28: =ROUND(E28*I28,2) -> 0 | O28: =ROUND(E28*J28,2) -> 0 | P28: =SUM(M28:O28) -> 0
A29: 12 | C29: Mūrēt keramzītbetona bloku sienu 250mm biezumā uz mūrjavas kārtas. Stiegrot atbilstoši tehnoloģijai. Ieskaitot visus stiprinājumus un palīgmateriālus. | D29: m3 | E29: 19 | H29: =ROUND(F29*G29,2) -> 0 | K29: =SUM(H29:J29) -> 0 | L29: =ROUND(E29*F29,2) -> 0 | M29: =ROUND(E29*H29,2) -> 0 | N29: =ROUND(E29*I29,2) -> 0 | O29: =ROUND(E29*J29,2) -> 0 | P29: =SUM(M29:O29) -> 0
A30: 13 | C30: Apmest mūra sienu ar kaļķa-cementa apmetumu 25mm biezumā | D30: m2 | E30: 59 | H30: =ROUND(F30*G30,2) -> 0 | K30: =SUM(H30:J30) -> 0 | L30: =ROUND(E30*F30,2) -> 0 | M30: =ROUND(E30*H30,2) -> 0 | N30: =ROUND(E30*I30,2) -> 0 | O30: =ROUND(E30*J30,2) -> 0 | P30: =SUM(M30:O30) -> 0
A31: 14 | C31: IS-1 | H31: =ROUND(F31*G31,2) -> 0 | K31: =SUM(H31:J31) -> 0 | L31: =ROUND(E31*F31,2) -> 0 | M31: =ROUND(E31*H31,2) -> 0 | N31: =ROUND(E31*I31,2) -> 0 | O31: =ROUND(E31*J31,2) -> 0 | P31: =SUM(M31:O31) -> 0
A32: 15 | C32: Apmest mūra sienu ar kaļķa-cementa apmetumu 20mm biezumā | D32: m2 | E32: 30 | H32: =ROUND(F32*G32,2) -> 0 | K32: =SUM(H32:J32) -> 0 | L32: =ROUND(E32*F32,2) -> 0 | M32: =ROUND(E32*H32,2) -> 0 | N32: =ROUND(E32*I32,2) -> 0 | O32: =ROUND(E32*J32,2) -> 0 | P32: =SUM(M32:O32) -> 0
A33: 16 | C33: Mūrēt keramzītbetona bloku sienu 250mm biezumā uz mūrjavas kārtas. Stiegrot atbilstoši tehnoloģijai. Ieskaitot visus stiprinājumus un palīgmateriālus. | D33: m3 | E33: 7.5 | H33: =ROUND(F33*G33,2) -> 0 | K33: =SUM(H33:J33) -> 0 | L33: =ROUND(E33*F33,2) -> 0 | M33: =ROUND(E33*H33,2) -> 0 | N33: =ROUND(E33*I33,2) -> 0 | O33: =ROUND(E33*J33,2) -> 0 | P33: =SUM(M33:O33) -> 0
A34: 17 | C34: Apmest mūra sienu ar kaļķa-cementa apmetumu 20mm biezumā | D34: m2 | E34: 30 | H34: =ROUND(F34*G34,2) -> 0 | K34: =SUM(H34:J34) -> 0 | L34: =ROUND(E34*F34,2) -> 0 | M34: =ROUND(E34*H34,2) -> 0 | N34: =ROUND(E34*I34,2) -> 0 | O34: =ROUND(E34*J34,2) -> 0 | P34: =SUM(M34:O34) -> 0
A35: 18 | C35: IS-2 | H35: =ROUND(F35*G35,2) -> 0 | K35: =SUM(H35:J35) -> 0 | L35: =ROUND(E35*F35,2) -> 0 | M35: =ROUND(E35*H35,2) -> 0 | N35: =ROUND(E35*I35,2) -> 0 | O35: =ROUND(E35*J35,2) -> 0 | P35: =SUM(M35:O35) -> 0
A36: 19 | C36: Apšūt karkasu ar 12,5mm ģipškartona loksnēm divās kārtās, ieskaitot visus stiprinājumus un palīgmateriālus. Veikt šuvju špaktelēšanu | D36: m2 | E36: 90 | H36: =ROUND(F36*G36,2) -> 0 | K36: =SUM(H36:J36) -> 0 | L36: =ROUND(E36*F36,2) -> 0 | M36: =ROUND(E36*H36,2) -> 0 | N36: =ROUND(E36*I36,2) -> 0 | O36: =ROUND(E36*J36,2) -> 0 | P36: =SUM(M36:O36) -> 0
A37: 20 | C37: Montēt metala profilu karkasu 100mm, ieskaitot visus stiprinājumus un palīgmateriālus | D37: m2 | E37: 45 | H37: =ROUND(F37*G37,2) -> 0 | K37: =SUM(H37:J37) -> 0 | L37: =ROUND(E37*F37,2) -> 0 | M37: =ROUND(E37*H37,2) -> 0 | N37: =ROUND(E37*I37,2) -> 0 | O37: =ROUND(E37*J37,2) -> 0 | P37: =SUM(M37:O37) -> 0
A38: 21 | C38: Ieklāt skaņas izolāciju ( A klase) ekviv. Knauf TI 140 Decibel 100mm biezumā | D38: m2 | E38: 45 | H38: =ROUND(F38*G38,2) -> 0 | K38: =SUM(H38:J38) -> 0 | L38: =ROUND(E38*F38,2) -> 0 | M38: =ROUND(E38*H38,2) -> 0 | N38: =ROUND(E38*I38,2) -> 0 | O38: =ROUND(E38*J38,2) -> 0 | P38: =SUM(M38:O38) -> 0
A39: 22 | C39: Apšūt karkasu ar 12,5mm ģipškartona loksnēm divās kārtās, ieskaitot visus stiprinājumus un palīgmateriālus. Veikt šuvju špaktelēšanu | D39: m2 | E39: 90 | H39: =ROUND(F39*G39,2) -> 0 | K39: =SUM(H39:J39) -> 0 | L39: =ROUND(E39*F39,2) -> 0 | M39: =ROUND(E39*H39,2) -> 0 | N39: =ROUND(E39*I39,2) -> 0 | O39: =ROUND(E39*J39,2) -> 0 | P39: =SUM(M39:O39) -> 0
A40: 23 | C40: IS-3 | H40: =ROUND(F40*G40,2) -> 0 | K40: =SUM(H40:J40) -> 0 | L40: =ROUND(E40*F40,2) -> 0 | M40: =ROUND(E40*H40,2) -> 0 | N40: =ROUND(E40*I40,2) -> 0 | O40: =ROUND(E40*J40,2) -> 0 | P40: =SUM(M40:O40) -> 0
A41: 24 | C41: Apšūt karkasu ar GKBI 12,5mm ģipškartona loksnēm divās kārtās, ieskaitot visus stiprinājumus un palīgmateriālus. Veikt šuvju špaktelēšanu | D41: m2 | E41: 68 | H41: =ROUND(F41*G41,2) -> 0 | K41: =SUM(H41:J41) -> 0 | L41: =ROUND(E41*F41,2) -> 0 | M41: =ROUND(E41*H41,2) -> 0 | N41: =ROUND(E41*I41,2) -> 0 | O41: =ROUND(E41*J41,2) -> 0 | P41: =SUM(M41:O41) -> 0
A42: 25 | C42: Montēt metala profilu karkasu 100mm, ieskaitot visus stiprinājumus un palīgmateriālus | D42: m2 | E42: 34 | H42: =ROUND(F42*G42,2) -> 0 | K42: =SUM(H42:J42) -> 0 | L42: =ROUND(E42*F42,2) -> 0 | M42: =ROUND(E42*H42,2) -> 0 | N42: =ROUND(E42*I42,2) -> 0 | O42: =ROUND(E42*J42,2) -> 0 | P42: =SUM(M42:O42) -> 0
A43: 26 | C43: Ieklāt skaņas izolāciju ( A klase) ekviv. Knauf TI 140 Decibel 100mm biezumā | D43: m2 | E43: 34 | H43: =ROUND(F43*G43,2) -> 0 | K43: =SUM(H43:J43) -> 0 | L43: =ROUND(E43*F43,2) -> 0 | M43: =ROUND(E43*H43,2) -> 0 | N43: =ROUND(E43*I43,2) -> 0 | O43: =ROUND(E43*J43,2) -> 0 | P43: =SUM(M43:O43) -> 0
A44: 27 | C44: Apšūt karkasu ar GKB 12,5mm ģipškartona loksnēm divās kārtās, ieskaitot visus stiprinājumus un palīgmateriālus. Veikt šuvju špaktelēšanu | D44: m2 | E44: 68 | H44: =ROUND(F44*G44,2) -> 0 | K44: =SUM(H44:J44) -> 0 | L44: =ROUND(E44*F44,2) -> 0 | M44: =ROUND(E44*H44,2) -> 0 | N44: =ROUND(E44*I44,2) -> 0 | O44: =ROUND(E44*J44,2) -> 0 | P44: =SUM(M44:O44) -> 0
A45: 28 | C45: IS-4 | H45: =ROUND(F45*G45,2) -> 0 | K45: =SUM(H45:J45) -> 0 | L45: =ROUND(E45*F45,2) -> 0 | M45: =ROUND(E45*H45,2) -> 0 | N45: =ROUND(E45*I45,2) -> 0 | O45: =ROUND(E45*J45,2) -> 0 | P45: =SUM(M45:O45) -> 0
...

Sheet 1,6
A2: Lokālā tāme Nr.1,6
A3: ='KA1'!C21 -> Grīdu pamatnes, segumi
A4: (būvdarbu veids vai konstruktīvā elementa nosaukums)
A6: Objekta nosaukums: | C6: =KT!B9 -> ĒKU ATJAUNOŠANA, PĀRBŪVE, NOJAUKŠANA UN TERITORIJAS LABIEKĀRTOŠANA I un II kārta
A7: Būves nosaukums: | C7: =KT!B10 -> Pirmsskolas izglītības iestāde
A8: Objekta adrese: | C8: =KT!B11 -> Dārtas iela 1, Cēsis, Cēsu novads
A9: Pasūtītājs: | C9: =KT!B12 -> Cēsu novada pašvaldība Raunas ielā 4, Cēsīs, Cēsu novadā, LV-4101; Reģ.Nr. 90000031048
A10: Būvuzņēmējs: | C10: =KT!B13 -> SIA
A12: Tāme sastādīta 2024. gada tirgus cenās, pamatojoties uz būvprojekta rasējumiem | M12: Tāmes izmaksas: | O12: =P93 -> 0 | P12: EUR
N13: Tāme sastādītā | O13: =KT!D23 -> 2024.gada __._________
A15: Nr.p.k. | B15: Kods | C15: Būvdarbu nosaukums | D15: Mērvienība | E15: Daudzums | F15: Vienības izmaksas | L15: Kopā uz visu apjomu
F16: Laika norma (c/h) | G16: Darba samaksas likme (euro/h) | H16: Darba alga | I16: Būvizstrādājumi | J16: Mehānismi | K16: KOPĀ | L16: Darbietilpība (c/h) | M16: Darba alga | N16: Būvizstrādājumi | O16: Mehānismi | P16: Summa
A18: 1 | C18: G-1 | H18: =ROUND(F18*G18,2) -> 0 | K18: =SUM(H18:J18) -> 0 | L18: =ROUND(E18*F18,2) -> 0 | M18: =ROUND(E18*H18,2) -> 0 | N18: =ROUND(E18*I18,2) -> 0 | O18: =ROUND(E18*J18,2) -> 0 | P18: =SUM(M18:O18) -> 0
A19: 2 | C19: Ieklāt betona klona grīdu 100mm biezumā, ieskaitot visus stiprinājumus un palīgmateriālus | D19: m2 | E19: 205.8 | H19: =ROUND(F19*G19,2) -> 0 | K19: =SUM(H19:J19) -> 0 | L19: =ROUND(E19*F19,2) -> 0 | M19: =ROUND(E19*H19,2) -> 0 | N19: =ROUND(E19*I19,2) -> 0 | O19: =ROUND(E19*J19,2) -> 0 | P19: =SUM(M19:O19) -> 0
A20: 3 | C20: Ieklāt hidroizolējošu slāni vai norobežojošu filtraudumu | D20: m2 | E20: 205.8 | H20: =ROUND(F20*G20,2) -> 0 | K20: =SUM(H20:J20) -> 0 | L20: =ROUND(E20*F20,2) -> 0 | M20: =ROUND(E20*H20,2) -> 0 | N20: =ROUND(E20*I20,2) -> 0 | O20: =ROUND(E20*J20,2) -> 0 | P20: =SUM(M20:O20) -> 0
A21: 4 | C21: Siltināt grīdu ar ekstrudētais putopolostirolu XPS l=0,037 W/m2 vai ekviv. 120mm biezumā | D21: m2 | E21: 205.8 | H21: =ROUND(F21*G21,2) -> 0 | K21: =SUM(H21:J21) -> 0 | L21: =ROUND(E21*F21,2) -> 0 | M21: =ROUND(E21*H21,2) -> 0 | N21: =ROUND(E21*I21,2) -> 0 | O21: =ROUND(E21*J21,2) -> 0 | P21: =SUM(M21:O21) -> 0
A22: 5 | C22: Ieklāt blietētu smilts kārtu 500mm biezumā Blietēta rupja smilts E > 45mPa | D22: m3 | E22: 102.9 | H22: =ROUND(F22*G22,2) -> 0 | K22: =SUM(H22:J22) -> 0 | L22: =ROUND(E22*F22,2) -> 0 | M22: =ROUND(E22*H22,2) -> 0 | N22: =ROUND(E22*I22,2) -> 0 | O22: =ROUND(E22*J22,2) -> 0 | P22: =SUM(M22:O22) -> 0
A23: 6 | C23: G-2 | H23: =ROUND(F23*G23,2) -> 0 | K23: =SUM(H23:J23) -> 0 | L23: =ROUND(E23*F23,2) -> 0 | M23: =ROUND(E23*H23,2) -> 0 | N23: =ROUND(E23*I23,2) -> 0 | O23: =ROUND(E23*J23,2) -> 0 | P23: =SUM(M23:O23) -> 0
A24: 7 | C24: Ieklāt grīdas hidroizolāciju ekviv. Sakret OAD Elastic | D24: m2 | E24: 41.7 | H24: =ROUND(F24*G24,2) -> 0 | K24: =SUM(H24:J24) -> 0 | L24: =ROUND(E24*F24,2) -> 0 | M24: =ROUND(E24*H24,2) -> 0 | N24: =ROUND(E24*I24,2) -> 0 | O24: =ROUND(E24*J24,2) -> 0 | P24: =SUM(M24:O24) -> 0
A25: 8 | C25: Gruntēt grīdu ar , ekviv. OAD Elastic Primer | D25: m2 | E25: 41.7 | H25: =ROUND(F25*G25,2) -> 0 | K25: =SUM(H25:J25) -> 0 | L25: =ROUND(E25*F25,2) -> 0 | M25: =ROUND(E25*H25,2) -> 0 | N25: =ROUND(E25*I25,2) -> 0 | O25: =ROUND(E25*J25,2) -> 0 | P25: =SUM(M25:O25) -> 0
A26: 9 | C26: Ieklāt betona klona grīdu 100mm biezumā, ieskaitot visus stiprinājumus un palīgmateriālus | D26: m2 | E26: 41.7 | H26: =ROUND(F26*G26,2) -> 0 | K26: =SUM(H26:J26) -> 0 | L26: =ROUND(E26*F26,2) -> 0 | M26: =ROUND(E26*H26,2) -> 0 | N26: =ROUND(E26*I26,2) -> 0 | O26: =ROUND(E26*J26,2) -> 0 | P26: =SUM(M26:O26) -> 0
A27: 10 | C27: Ieklāt hidroizolējošu slāni vai norobežojošu filtraudumu | D27: m2 | E27: 41.7 | H27: =ROUND(F27*G27,2) -> 0 | K27: =SUM(H27:J27) -> 0 | L27: =ROUND(E27*F27,2) -> 0 | M27: =ROUND(E27*H27,2) -> 0 | N27: =ROUND(E27*I27,2) -> 0 | O27: =ROUND(E27*J27,2) -> 0 | P27: =SUM(M27:O27) -> 0
A28: 11 | C28: Siltināt grīdu ar ekstrudētais putopolostirolu XPS l=0,037 W/m2 vai ekviv. 120mm biezumā | D28: m2 | E28: 41.7 | H28: =ROUND(F28*G28,2) -> 0 | K28: =SUM(H28:J28) -> 0 | L28: =ROUND(E28*F28,2) -> 0 | M28: =ROUND(E28*H28,2) -> 0 | N28: =ROUND(E28*I28,2) -> 0 | O28: =ROUND(E28*J28,2) -> 0 | P28: =SUM(M28:O28) -> 0
A29: 12 | C29: Ieklāt blietētu smilts kārtu 500mm biezumā Blietēta rupja smilts E > 45mPa | D29: m3 | E29: 20.85 | H29: =ROUND(F29*G29,2) -> 0 | K29: =SUM(H29:J29) -> 0 | L29: =ROUND(E29*F29,2) -> 0 | M29: =ROUND(E29*H29,2) -> 0 | N29: =ROUND(E29*I29,2) -> 0 | O29: =ROUND(E29*J29,2) -> 0 | P29: =SUM(M29:O29) -> 0
A30: 13 | C30: G-3 | H30: =ROUND(F30*G30,2) -> 0 | K30: =SUM(H30:J30) -> 0 | L30: =ROUND(E30*F30,2) -> 0 | M30: =ROUND(E30*H30,2) -> 0 | N30: =ROUND(E30*I30,2) -> 0 | O30: =ROUND(E30*J30,2) -> 0 | P30: =SUM(M30:O30) -> 0
