Workbook

Sheet KOPT
A1: BŪVNIECĪBAS KOPTĀME
A3: Būves nosaukums: | C3: =KOPS!D2 -> LIETUS ŪDENS KANALIZĀCIJAS- DRENĀŽAS IZBŪVE SILA IELĀ, SALASPILĪ
A4: Būves adrese: | C4: =KOPS!D3 -> SILA IELA, SALASPILĪ
A5: Pasūtījuma Nr.
A6: Tāme sastādīta: 20___.gada ___________
A8: Nr.p.k. | B8: Objekta Nr. | C8: Objekta nosaukums | D8: Objekta izmaksas (euro)
A11: 1 | B11: 1 | C11: =KOPS!D1 -> LIETUS ŪDENS KANALIZĀCIJAS- DRENĀŽAS IZBŪVE SILA IELĀ, SALASPILĪ
C13: KOPĀ
C14: PVN 21%
B17: Sastādīja
B19: Sertifikāta Nr.
B21: Tāme sastādīta 20____.gada ___________

Sheet KOPS
A1: Būves nosaukums: | D1: =D2 -> LIETUS ŪDENS KANALIZĀCIJAS- DRENĀŽAS IZBŪVE SILA IELĀ, SALASPILĪ
A2: Objekta nosaukums: | D2: LIETUS ŪDENS KANALIZĀCIJAS- DRENĀŽAS IZBŪVE SILA IELĀ, SALASPILĪ
A3: Objekta adrese: | D3: SILA IELA, SALASPILĪ
A4: Pasūtījuma Nr.
A5: Par kopējo summu, euro:
A6: Kopējā darbietilpība, c/st:
A7: =KOPT!A6 -> Tāme sastādīta: 20___.gada ___________
A9: Nr.p.k. | B9: Kods, tāmes Nr. | C9: Būvdarbu veids vai konstruktīvā elementa nosaukums | D9: Tāmes izmaksas (euro) | E9: Tai skaitā | H9: Darbietilpība (c/h)
E10: Darba alga (euro) | F10: Būvizstrādājumi (euro) | G10: Mehānismi (euro)
A12: 1 | B12: 1-1 | C12: LIETUS ŪDENS KANALIZĀCIJAS- DRENĀŽAS IZBŪVE
C14: Kopā
C15: Virsizdevumi ….%
C16: t.sk. darba aizsardzībai
C17: Peļņa ….%
C18: PAVISAM KOPĀ
A20: Piezīme. Būvlaukuma izveidošanas un uzturēšanas izmaksas iekļautas virsizdevumos.
C22: Sastādīja
C24: Tāme sastādīta 20___.gada __________
C26: Pārbaudīja

Sheet LKT
A1: Būves nosaukums: | C1: =KOPS!D1 -> LIETUS ŪDENS KANALIZĀCIJAS- DRENĀŽAS IZBŪVE SILA IELĀ, SALASPILĪ
A2: Objekta nosaukums: | C2: =KOPS!D2 -> LIETUS ŪDENS KANALIZĀCIJAS- DRENĀŽAS IZBŪVE SILA IELĀ, SALASPILĪ
A3: Objekta adrese: | C3: =KOPS!D3 -> SILA IELA, SALASPILĪ
A4: Pasūtījuma Nr.
A5: Tāme sastādīta 20_____.gada tirgus cenās, pamatojoties uz LKT daļas rasējumiem. | N5: Tāmes tiešās izmaksas euro bez PVN
A6: =KOPT!A6 -> Tāme sastādīta: 20___.gada ___________
A7: Nr.p.k. | B7: Būvdarbu nosaukums | C7: Mērvienība | D7: Daudzums | E7: Vienības izmaksas | K7: Kopā uz visu apjomu
E8: Laika norma (c/h) | F8: Darba samaksas likme (euro/h) | G8: Darba alga (euro) | H8: Būvizstrādājumi (euro) | I8: Mehānismi (euro) | J8: Kopā (euro) | K8: Darbietilpība (c/h) | L8: Darba alga (euro) | M8: Būvizstrādājumi (euro) | N8: Mehānismi (euro) | O8: Summa (euro)
A10: 1 | B10: Lietus kanalizācija LK1
A11: 1.1 | B11: PP dubultsienu perforēta lietus kanalizācijas caurules ar uzmavām un blīvi OD400; H=1,0 - 1,5m, ieguldes klase SN8; montāža un ar to saistītie darbi | C11: m | D11: 98.7
A12: 1.2 | B12: PP dubultsienu perforēta lietus kanalizācijas caurules ar uzmavām un blīvi OD400; H=1,5 - 2,0m, ieguldes klase SN8; montāža un ar to saistītie darbi | C12: m | D12: 134.2
A13: 1.3 | B13: PP dubultsienu perforēta lietus kanalizācijas caurules ar uzmavām un blīvi OD400; H=2,0 - 2,5m, ieguldes klase SN8; montāža un ar to saistītie darbi | C13: m | D13: 54.5
A14: 1.4 | B14: PP dubultsienu perforēta lietus kanalizācijas caurules ar uzmavām un blīvi OD315; H=1,0 - 1,5m, ieguldes klase SN8; montāža un ar to saistītie darbi | C14: m | D14: 120.2
A15: 1.5 | B15: PP dubultsienu perforēta lietus kanalizācijas caurules ar uzmavām un blīvi OD315; H=1,5 - 2,0m, ieguldes klase SN8; montāža un ar to saistītie darbi | C15: m | D15: 156.5
A16: 1.6 | B16: PP dubultsienu perforēta lietus kanalizācijas caurules ar uzmavām un blīvi OD250; H=1,0 -1,5m, ieguldes klase SN8; montāža un ar to saistītie darbi | C16: m | D16: 43.8
A17: 1.7 | B17: PP dubultsienu perforēta lietus kanalizācijas caurules ar uzmavām un blīvi OD250; H=1,5 -2,0m, ieguldes klase SN8; montāža un ar to saistītie darbi | C17: m | D17: 89.8
A18: 1.8 | B18: PP dubultsienu perforēta lietus kanalizācijas caurules ar uzmavām un blīvi OD250; H=2,0 -2,5m, ieguldes klase SN8; montāža un ar to saistītie darbi | C18: m | D18: 60.6
A19: 1.9 | B19: PP dubultsienu lietus kanalizācijas caurules ar uzmavām un blīvi OD200; H=1,5 -2,0m, ieguldes klase SN8; montāža un ar to saistītie darbi | C19: m | D19: 12.4
A20: 1.10 | B20: PP dubultsienu lietus kanalizācijas caurules ar uzmavām un blīvi OD160; H=0,5 -1,0m, ieguldes klase SN8; montāža un ar to saistītie darbi | C20: m | D20: 46.2
A21: 1.11 | B21: PP dubultsienu lietus kanalizācijas caurules ar uzmavām un blīvi OD160; H=1,0 -1,5m, ieguldes klase SN8; montāža un ar to saistītie darbi | C21: m | D21: 115.5
A22: 1.12 | B22: PP dubultsienu lietus kanalizācijas caurules ar uzmavām un blīvi OD160; H=1,5 -2,0m, ieguldes klase SN8; montāža un ar to saistītie darbi | C22: m | D22: 125.9
... A42: 1.32 | B42: Šķērsojumi ar esošajām inženierkomunikācijām, atšurfēšana, nepārsniedzot 3m dziļumu, minimālā platība 1m², maksimālais garums 5m | C42: gb. | D42: 127
A43: 1.33 | B43: Lietus ūdens kanalizācijas tīklu trases nospraušana | C43: m | D43: =SUM(D11:D22) -> 1058.3
A44: 1.34 | B44: Lietus ūdens kanalizācijas tīklu CCTV inspekcija | C44: m | D44: =D43 -> 1058.3
A45: 1.35 | B45: Drenāžas trases nospraušana | C45: m | D45: 38.4
A46: 1.36 | B46: Lietus ūdens ievalku trases nospraušana | C46: m | D46: 339.8
A47: 2 | B47: Zemes darbi projektēto lietus kanalizācijas tīklu LK1 darbu zonā
A48: 2.1 | B48: Tranšejas rakšana un aizbēršana cauruļvada OD400; montāžai (ieskaitot grunts nomaiņu virs oļu slāņiem, aizvešanu, atvešanu utt), H=1,0 - 1,5m, Bvid=1,5 m | C48: m | D48: 98.7
A49: 2.2 | B49: Tranšejas rakšana un aizbēršana cauruļvada OD400; montāžai (ieskaitot grunts nomaiņu virs oļu slāņiem, aizvešanu, atvešanu utt), H=1,5 - 2,0m, Bvid=1,6 m | C49: m | D49: 134.2
A50: 2.3 | B50: Tranšejas rakšana un aizbēršana cauruļvada OD400; montāžai (ieskaitot grunts nomaiņu virs oļu slāņiem, aizvešanu, atvešanu utt), H=2,0 - 2,5m, Bvid=1,6 m | C50: m | D50: 54.5
A51: 2.4 | B51: Tranšejas rakšana un aizbēršana cauruļvada OD315; montāžai (ieskaitot grunts nomaiņu virs oļu slāņiem, aizvešanu, atvešanu utt), H=1,0 - 1,5m, Bvid=1,5 m | C51: m | D51: 120.2
A52: 2.5 | B52: Tranšejas rakšana un aizbēršana cauruļvada OD315; montāžai (ieskaitot grunts nomaiņu virs oļu slāņiem, aizvešanu, atvešanu utt), H=1,5 - 2,0m, Bvid=1,5 m | C52: m | D52: 156.5
A53: 2.6 | B53: Tranšejas rakšana un aizbēršana cauruļvada OD250; montāžai (ieskaitot grunts nomaiņu virs oļu slāņiem, aizvešanu, atvešanu utt), H=1,0 - 1,5m, Bvid=1,3 m | C53: m | D53: 43.8
A54: 2.7 | B54: Tranšejas rakšana un aizbēršana cauruļvada OD250; montāžai (ieskaitot grunts nomaiņu virs oļu slāņiem, aizvešanu, atvešanu utt), H=1,5 - 2,0m, Bvid=1,3 m | C54: m | D54: 89.8
A55: 2.8 | B55: Tranšejas rakšana un aizbēršana cauruļvada OD250; montāžai (ieskaitot grunts nomaiņu virs oļu slāņiem, aizvešanu, atvešanu utt), H=2,0 - 2,5m, Bvid=1,3 m | C55: m | D55: 60.6
A56: 2.9 | B56: Tranšejas rakšana un aizbēršana cauruļvada OD200; montāžai (ieskaitot grunts nomaiņu, aizvešanu, atvešanu utt), H=1,5 - 2,0m, Bvid=1,2 m | C56: m | D56: 12.4
A57: 2.10 | B57: Tranšejas rakšana un aizbēršana cauruļvada OD160; montāžai (ieskaitot grunts nomaiņu, aizvešanu, atvešanu utt), H=0,5 - 1,0m, Bvid=1,2 m | C57: m | D57: 46.2
A58: 2.11 | B58: Tranšejas rakšana un aizbēršana cauruļvada OD160; montāžai (ieskaitot grunts nomaiņu, aizvešanu, atvešanu utt), H=1,0 - 1,5m, Bvid=1,2 m | C58: m | D58: 115.5
A59: 2.12 | B59: Tranšejas rakšana un aizbēršana cauruļvada OD160; montāžai (ieskaitot grunts nomaiņu, aizvešanu, atvešanu utt), H=1,5 - 2,0m, Bvid=1,2 m | C59: m | D59: 125.9
A60: 2.13 | B60: Tranšejas rakšana un aizbēršana cauruļvada OD75; montāžai (ieskaitot grunts nomaiņu, aizvešanu, atvešanu utt), H=0,5 - 1,5m, Bvid=1,0 m | C60: m | D60: 38.4
A61: 2.14 | B61: Tranšejas sienu nostiprināšana ar metāla vairogiem (divpusēji) pie dziļuma, kas lielāks par 1,5 m. *norādīts tekošais tranšejas garums, pieņemot, ka sienas nostiprinātas abās būvgrāvja pusēs | C61: m | D61: =SUM(D12,D13,D14,D15,D17,D18,D19,D22) -> 754.1
A62: 2.15 | B62: Minerālmateriālu maisījuma (grants/šķembu) seguma noņemšana, utilizācija un atjaunošana (saskaņā ar rasējumu LKT-9), maģistrālam cauruļvadam, B=2,0m | C62: m2 | D62: 300
A63: 2.16 | B63: Zāliena seguma noņemšana, utilizācija un atjaunošana, tai skaitā melnzeme un izlīdzināšana (hvid=10cm) slānī (saskaņā ar rasējumu LKT-9), maģistrālam cauruļvadam, B=2,0m | C63: m2 | D63: 329.6
A64: 2.17 | B64: Minerālmateriālu maisījuma (grants/šķembu) seguma noņemšana, utilizācija un atjaunošana (saskaņā ar rasējumu LKT-9), pievadu cauruļvadiem, B=1,5m | C64: m2 | D64: 135.5
A65: 2.18 | B65: Zāliena seguma noņemšana, utilizācija un atjaunošana, tai skaitā melnzeme un izlīdzināšana (hvid=10cm) slānī (saskaņā ar rasējumu LKT-9), pievadu cauruļvadiem, B=1,5m | C65: m2 | D65: 287.7
A66: 2.19 | B66: Esošā ceļa seguma profilēšana/ planēšana visā ielas platumā | C66: m | D66: 650.9
A67: 2.19.1 | B67: Nesaistītu minerālmateriālu seguma virskārtas atjaunošana (0/32s) brauktuvei h=10cm (N-III klase) paredzot tās iestrādi ar asfaltbetona ieklājēju un veltņošanu | C67: m2 | D67: 3000
A68: 2.19.2 | B68: Divkārtu virsmas apstrāde Dzērveņu ielas šķērsojumā VAG216/22&8/11. | C68: m2 | D68: 20
A69: 2.20 | B69: Betona plātnes noņemšana un atjaunošana | C69: m2 | D69: 20
A70: 2.21 | B70: Esošā betona bruģa noņemšana | C70: m2 | D70: 24.5
A71: 2.22 | B71: Betona bruģa atjaunošana: | C71: m2 | D71: =D70 -> 24.5
B72: Betona bruģa | C72: m2 | D72: =D71 -> 24.5
B73: Smilts (kf>3m/dnn; h =4 cm) | C73: m3 | D73: =D71*0.04 -> 0.98
B74: Šķembas (h = 20 cm) | C74: m3 | D74: =D70*0.2 -> 4.9
B75: Vidēji rupja smilts (kf>3m/dnn; h =30 cm) | C75: m3 | D75: =D70*0.3 -> 7.35
A76: 2.23 | B76: Frakcionēti oļi (fr. 8-16) apbēruma h=30 cm izveidei ap perforēto lietus-drenāžas caurulēm (skat rasējumu LKT-6) | C76: m3 | D76: =((0.7*1.5*102.2)+(0.7*1.6*188.7)+(0.615*1.5*276.7)+(0.55*1.3*187.2)) -> 707.75775
A77: 2.24 | B77: Neaustais ģeotekstils (min. stiepes stiprība 9 kN/m) ap oļu apbērumu (ietīšanai perforēto lietus-drenāžas cauruli), (skat rasējumu LKT-6) | C77: m2 | D77: =(((1.5+1.5+0.7+0.7+1)*102.2)+((1.6+1.6+0.7+0.7+1)*188.7)+((1.5+1.5+0.615+0.615+1)*276.7)+((1.3+1.3+0.55+0.55+1)*187.2)) -> 3935.581
A78: 2.25 | B78: Smilts pamatnes ierīkošana zem cauruļvadiem, h=15 cm | C78: m3 | D78: =((1.5*102.2*0.15)+(1.6*0.15*188.7)+(1.5*276.7*0.15)+(1.3*187.2*0.15)+(1.2*0.15*12.4)+(1.2*286.6*0.15)) -> 220.8645
A79: 2.26 | B79: Lietus ūdens kanalizācijas cauruļvadu smilšu apbērums, h=30cm | C79: m3 | D79: =((1.2*0.5*12.4)+(0.46*1.2*286.6)) -> 165.6432
A80: 2.27 | B80: Apbērums ar filtrējošu materiālu smilts vai grants ar ne lielākiem kā Ø32 mm oļiem h=30 cm, drenāžas caurulei | C80: m3 | D80: =0.375*1*38.4 -> 14.4
A81: 2.28 | B81: Tranšejas pamatnes pildījums (smilts) h=15 cm zem drenāžas caurules | C81: m3 | D81: =1*0.15*38.4 -> 5.76
A82: 2.29 | B82: Esošā grāvja aizbēršana ar pievestu grunti un visi ar to saistītie darbi | C82: m3 | D82: 909.1
A83: 2.30 | B83: Izrokamā grunts maģistrālā kolektora izbūvei, utilizācija, t.sk. visi ar to saistītie darbi | C83: m3 | D83: =1138.2+257.4 -> 1395.6
A84: 2.31 | B84: Pievedamā smilts maģistrālā kolektora izbūvei | C84: m3 | D84: =678.8+120.7 -> 799.5
A85: 2.32 | B85: Izrokamā grunts pievadu izbūvei, utilizācija, t.sk. visi ar to saistītie darbi | C85: m3 | D85: 637.5
A86: 2.33 | B86: Pievedamā smilts pievadu izbūvei | C86: m3 | D86: 436.38
A87: 2.34 | B87: Smilts apbēruma, pabēruma izveide ap elektrokabeli (pārbūve) | C87: m3 | D87: 1.33
A88: 2.35 | B88: Izrokamā grunts elektrokabeļa izbūvei, utilizācija, t.sk. visi ar to saistītie darbi (pārbūve) | C88: m3 | D88: 4.88
A89: 2.36 | B89: Pievedamā smilts elektrokabeļa izbūvei (pārbūve) | C89: m3 | D89: 2.46
A90: 2.37 | B90: Minerālmateriālu maisījuma (grants/šķembu) seguma noņemšana, utilizācija un atjaunošana (saskaņā ar rasējumu LKT-9), elektro kabeļa pārbūve B=0,30m | C90: m2 | D90: 2.16
A91: 2.38 | B91: Zāliena seguma noņemšana, utilizācija un atjaunošana, tai skaitā melnzeme un izlīdzināšana (hvid=10cm) slānī (saskaņā ar rasējumu LKT-9), elektro kabeļa pārbūve B=0,3m | C91: m2 | D91: 1.5
A92: 2.39 | B92: Zāliena izveidošana esošā grāvja aizbēršanai, tai skaitā melnzeme un izlīdzināšana (hvid=10cm) slānī (saskaņā ar rasējumu LKT-10) | C92: m2 | D92: 726.6
A93: 2.40 | B93: Gruntsūdens līmeņa pazemināšana | C93: m | D93: =SUM(D11:D23) -> 1096.7
A94: 2.41 | B94: Lietus ūdens uztvērējakas laukakmeņu (Ø100-150mm) apbetonējums ~ 2,0 m2, C25/30 klases betons ~ 0,2 m3 | C94: kpl | D94: 20
A95: 2.42 | B95: Lietus ūdens ievalku izbūve Tips 1, h=0,4m, B=1,20m, ietverot izraktās grunts izvešanu uz atbērtni un visus ar to saistītos darbus | C95: m | D95: 37.4
A96: 2.43 | B96: Lietus ūdens ievalku izbūve Tips 2, h=0,4m, B=2,0m, ietverot izraktās grunts izvešanu uz atbērtni un visus ar to saistītos darbus | C96: m | D96: 302.4
A97: 2.44 | B97: Zāliena un melnzemes izbūve ievalkā, tai skaitā izlīdzināšana hvid=10cm, Tips 1 | C97: m2 | D97: 44.9
A98: 2.45 | B98: Zāliena un melnzemes izbūve ievalkā, tai skaitā izlīdzināšana hvid=10cm, Tips 2 | C98: m2 | D98: 604.8
A99: 2.46 | B99: Koku nozāģēšana, celmu un sakņu izraušana, utilizācija, t.sk. visi ar to saistītie darbi | C99: gb. | D99: 27
A100: 2.47 | B100: Krūmu nozāģēšana, celmu un sakņu izraušana, utilizācija, t.sk. visi ar to saistītie darbi | C100: m2 | D100: 30
A101: 2.48 | B101: Esošo košumkrūmu pārstādīšana, t.sk. visi ar to saistītie darbi | C101: gb. | D101: 8
A102: 3 | B102: Lietus ūdens izlaides izbūve grāvī
A103: 3.1 | B103: PP dubultsienu caurule ar gofrētu ārējo un gludu iekšu, caurteku caurule ar UV aizsardzību OD400 izlaidei; H=1,50 -2,0m, ieguldes klase SN8; montāža un ar to saistītie darbi | C103: m | D103: 6
A104: 3.2 | B104: Iztekas caurules enkurojums | C104: gb. | D104: 4
A105: 3.3 | B105: Lietus ūdens uztvērējakas laukakmeņu (Ø100-150mm) apbetonējums ~ 3,0 m2, C25/30 klases betons | C105: kpl | D105: 1
A106: 3.4 | B106: Rūpnieciski izgatavota iztekas aizsargreste caurulei De400 (izlaidē) | C106: kpl | D106: 1
A107: 4 | B107: Esošo caurteku demontāža
A108: 4.1 | B108: Esošās PE caurtekas demontāža d300, utilizēšana un ar to saistītie darbi | C108: m | D108: 6.2
A109: 4.2 | B109: Esošās dzelzsbetona caurtekas demontāža d400, utilizēšana un ar to saistītie darbi | C109: m | D109: 15.9
A110: 4.3 | B110: Esošās dzelzsbetona caurtekas demontāža d500, utilizēšana un ar to saistītie darbi | C110: m | D110: 78.4
A111: 4.4 | B111: Esošās dzelzsbetona caurtekas demontāža d600, utilizēšana un ar to saistītie darbi | C111: m | D111: 15.2
A112: 4.5 | B112: Esošās PE caurtekas demontāža d600, utilizēšana un ar to saistītie darbi | C112: m | D112: 2
A113: 4.6 | B113: Esošās dzelzsbetona caurtekas demontāža d700, utilizēšana un ar to saistītie darbi | C113: m | D113: 37.9
A114: 4.7 | B114: Esošās dzelzsbetona caurtekas demontāža d750, utilizēšana un ar to saistītie darbi | C114: m | D114: 19
A115: 4.8 | B115: Esošās dzelzsbetona caurtekas demontāža d1000, utilizēšana un ar to saistītie darbi | C115: m | D115: 16.5
A116: 4.9 | B116: Esošās dzelzsbetona caurtekas demontāža d1200/400, utilizēšana un ar to saistītie darbi | C116: m | D116: 23.7
A117: 4.10 | B117: Izrokamā grunts esošās caurtekas demontāžai | C117: m3 | D117: 454.3
A118: 4.11 | B118: Pievedamā smilts esošās caurtekas demontāžai | C118: m3 | D118: 539.7
A119: 4.12 | B119: Betonētās akmens nogāzes demontāža, utilizēšana un ar to saistītie darbi | C119: m3 | D119: 6.5
... A124: 4.17 | B124: Esošā cauruļvada d600 galu tamponāža un ar to saistītie darbi | C124: vietas | D124: 2
...
