Workbook

Sheet KOPT
A1: BŪVNIECĪBAS KOPTĀME
A3: Būves nosaukums: | C3: =KOPS!D2 -> LIETUS ŪDENS KANALIZĀCIJAS- DRENĀŽAS IZBŪVE SILA IELĀ, SALASPILĪ
A4: Būves adrese: | C4: =KOPS!D3 -> SILA IELA, SALASPILĪ
A5: Pasūtījuma Nr.
A6: Tāme sastādīta: 20___.gada ___________
A8: Nr.p.k. | B8: Objekta Nr. | C8: Objekta nosaukums | D8: Objekta izmaksas (euro)
A11: 1 | B11: 1 | C11: =KOPS!D1 -> LIETUS ŪDENS KANALIZĀCIJAS- DRENĀŽAS IZBŪVE SILA IELĀ, SALASPILĪ
C13: KOPĀ
C14: PVN 21%
B17: Sastādīja
B19: Sertifikāta Nr.
B21: Tāme sastādīta 20____.gada ___________

Sheet KOPS
A1: Būves nosaukums: | D1: =D2 -> LIETUS ŪDENS KANALIZĀCIJAS- DRENĀŽAS IZBŪVE SILA IELĀ, SALASPILĪ
A2: Objekta nosaukums: | D2: LIETUS ŪDENS KANALIZĀCIJAS- DRENĀŽAS IZBŪVE SILA IELĀ, SALASPILĪ
A3: Objekta adrese: | D3: SILA IELA, SALASPILĪ
A4: Pasūtījuma Nr.
A5: Par kopējo summu, euro:
A6: Kopējā darbietilpība, c/st:
A7: =KOPT!A6 -> Tāme sastādīta: 20___.gada ___________
A9: Nr.p.k. | B9: Kods, tāmes Nr. | C9: Būvdarbu veids vai konstruktīvā elementa nosaukums | D9: Tāmes izmaksas (euro) | E9: Tai skaitā | H9: Darbietilpība (c/h)
E10: Darba alga (euro) | F10: Būvizstrādājumi (euro) | G10: Mehānismi (euro)
A12: 1 | B12: 1-1 | C12: LIETUS ŪDENS KANALIZĀCIJAS- DRENĀŽAS IZBŪVE
C14: Kopā
C15: Virsizdevumi ….%
C16: t.sk. darba aizsardzībai
C17: Peļņa ….%
C18: PAVISAM KOPĀ
A20: Piezīme. Būvlaukuma izveidošanas un uzturēšanas izmaksas iekļautas virsizdevumos.
C22: Sastādīja
C24: Tāme sastādīta 20___.gada __________
C26: Pārbaudīja

Sheet LKT
A1: Būves nosaukums: | C1: =KOPS!D1 -> LIETUS ŪDENS KANALIZĀCIJAS- DRENĀŽAS IZBŪVE SILA IELĀ, SALASPILĪ
A2: Objekta nosaukums: | C2: =KOPS!D2 -> LIETUS ŪDENS KANALIZĀCIJAS- DRENĀŽAS IZBŪVE SILA IELĀ, SALASPILĪ
A3: Objekta adrese: | C3: =KOPS!D3 -> SILA IELA, SALASPILĪ
A4: Pasūtījuma Nr.
A5: Tāme sastādīta 20_____.gada tirgus cenās, pamatojoties uz LKT daļas rasējumiem. | N5: Tāmes tiešās izmaksas euro bez PVN
A6: =KOPT!A6 -> Tāme sastādīta: 20___.gada ___________
A7: Nr.p.k. | B7: Būvdarbu nosaukums | C7: Mērvienība | D7: Daudzums | E7: Vienības izmaksas | K7: Kopā uz visu apjomu
E8: Laika norma (c/h) | F8: Darba samaksas likme (euro/h) | G8: Darba alga (euro) | H8: Būvizstrādājumi (euro) | I8: Mehānismi (euro) | J8: Kopā (euro) | K8: Darbietilpība (c/h) | L8: Darba alga (euro) | M8: Būvizstrādājumi (euro) | N8: Mehānismi (euro) | O8: Summa (euro)
A10: 1 | B10: Lietus kanalizācija LK1
A11: 1.1 | B11: PP dubultsienu perforēta lietus kanalizācijas caurules ar uzmavām un blīvi OD400; H=1,0 - 1,5m, ieguldes klase SN8; montāža un ar to saistītie darbi | C11: m | D11: 98.7
A12: 1.2 | B12: PP dubultsienu perforēta lietus kanalizācijas caurules ar uzmavām un blīvi OD400; H=1,5 - 2,0m, ieguldes klase SN8; montāža un ar to saistītie darbi | C12: m | D12: 134.2
A13: 1.3 | B13: PP dubultsienu perforēta lietus kanalizācijas caurules ar uzmavām un blīvi OD400; H=2,0 - 2,5m, ieguldes klase SN8; montāža un ar to saistītie darbi | C13: m | D13: 54.5
A14: 1.4 | B14: PP dubultsienu perforēta lietus kanalizācijas caurules ar uzmavām un blīvi OD315; H=1,0 - 1,5m, ieguldes klase SN8; montāža un ar to saistītie darbi | C14: m | D14: 120.2
A15: 1.5 | B15: PP dubultsienu perforēta lietus kanalizācijas caurules ar uzmavām un blīvi OD315; H=1,5 - 2,0m, ieguldes klase SN8; montāža un ar to saistītie darbi | C15: m | D15: 156.5
A16: 1.6 | B16: PP dubultsienu perforēta lietus kanalizācijas caurules ar uzmavām un blīvi OD250; H=1,0 -1,5m, ieguldes klase SN8; montāža un ar to saistītie darbi | C16: m | D16: 43.8
A17: 1.7 | B17: PP dubultsienu perforēta lietus kanalizācijas caurules ar uzmavām un blīvi OD250; H=1,5 -2,0m, ieguldes klase SN8; montāža un ar to saistītie darbi | C17: m | D17: 89.8
A18: 1.8 | B18: PP dubultsienu perforēta lietus kanalizācijas caurules ar uzmavām un blīvi OD250; H=2,0 -2,5m, ieguldes klase SN8; montāža un ar to saistītie darbi | C18: m | D18: 60.6
A19: 1.9 | B19: PP dubultsienu lietus kanalizācijas caurules ar uzmavām un blīvi OD200; H=1,5 -2,0m, ieguldes klase SN8; montāža un ar to saistītie darbi | C19: m | D19: 12.4
A20: 1.10 | B20: PP dubultsienu lietus kanalizācijas caurules ar uzmavām un blīvi OD160; H=0,5 -1,0m, ieguldes klase SN8; montāža un ar to saistītie darbi | C20: m | D20: 46.2
A21: 1.11 | B21: PP dubultsienu lietus kanalizācijas caurules ar uzmavām un blīvi OD160; H=1,0 -1,5m, ieguldes klase SN8; montāža un ar to saistītie darbi | C21: m | D21: 115.5
A22: 1.12 | B22: PP dubultsienu lietus kanalizācijas caurules ar uzmavām un blīvi OD160; H=1,5 -2,0m, ieguldes klase SN8; montāža un ar to saistītie darbi | C22: m | D22: 125.9
... A42: 1.32 | B42: Šķērsojumi ar esošajām inženierkomunikācijām, atšurfēšana, nepārsniedzot 3m dziļumu, minimālā platība 1m², maksimālais garums 5m | C42: gb. | D42: 127
A43: 1.33 | B43: Lietus ūdens kanalizācijas tīklu trases nospraušana | C43: m | D43: =SUM(D11:D22) -> 1058.3
A44: 1.34 | B44: Lietus ūdens kanalizācijas tīklu CCTV inspekcija | C44: m | D44: =D43 -> 1058.3
A45: 1.35 | B45: Drenāžas trases nospraušana | C45: m | D45: 38.4
A46: 1.36 | B46: Lietus ūdens ievalku trases nospraušana | C46: m | D46: 339.8
A47: 2 | B47: Zemes darbi projektēto lietus kanalizācijas tīklu LK1 darbu zonā
A48: 2.1 | B48: Tranšejas rakšana un aizbēršana cauruļvada OD400; montāžai (ieskaitot grunts nomaiņu virs oļu slāņiem, aizvešanu, atvešanu utt), H=1,0 - 1,5m, Bvid=1,5 m | C48: m | D48: 98.7
A49: 2.2 | B49: Tranšejas rakšana un aizbēršana cauruļvada OD400; montāžai (ieskaitot grunts nomaiņu virs oļu slāņiem, aizvešanu, atvešanu utt), H=1,5 - 2,0m, Bvid=1,6 m | C49: m | D49: 134.2
A50: 2.3 | B50: Tranšejas rakšana un aizbēršana cauruļvada OD400; montāžai (ieskaitot grunts nomaiņu virs oļu slāņiem, aizvešanu, atvešanu utt), H=2,0 - 2,5m, Bvid=1,6 m | C50: m | D50: 54.5
A51: 2.4 | B51: Tranšejas rakšana un aizbēršana cauruļvada OD315; montāžai (ieskaitot grunts nomaiņu virs oļu slāņiem, aizvešanu, atvešanu utt), H=1,0 - 1,5m, Bvid=1,5 m | C51: m | D51: 120.2
A52: 2.5 | B52: Tranšejas rakšana un aizbēršana cauruļvada OD315; montāžai (ieskaitot grunts nomaiņu virs oļu slāņiem, aizvešanu, atvešanu utt), H=1,5 - 2,0m, Bvid=1,5 m | C52: m | D52: 156.5
A53: 2.6 | B53: Tranšejas rakšana un aizbēršana cauruļvada OD250; montāžai (ieskaitot grunts nomaiņu virs oļu slāņiem, aizvešanu, atvešanu utt), H=1,0 - 1,5m, Bvid=1,3 m | C53: m | D53: 43.8
A54: 2.7 | B54: Tranšejas rakšana un aizbēršana cauruļvada OD250; montāžai (ieskaitot grunts nomaiņu virs oļu slāņiem, aizvešanu, atvešanu utt), H=1,5 - 2,0m, Bvid=1,3 m | C54: m | D54: 89.8
A55: 2.8 | B55: Tranšejas rakšana un aizbēršana cauruļvada OD250; montāžai (ieskaitot grunts nomaiņu virs oļu slāņiem, aizvešanu, atvešanu utt), H=2,0 - 2,5m, Bvid=1,3 m | C55: m | D55: 60.6
A56: 2.9 | B56: Tranšejas rakšana un aizbēršana cauruļvada OD200; montāžai (ieskaitot grunts nomaiņu, aizvešanu, atvešanu utt), H=1,5 - 2,0m, Bvid=1,2 m | C56: m | D56: 12.4
A57: 2.10 | B57: Tranšejas rakšana un aizbēršana cauruļvada OD160; montāžai (ieskaitot grunts nomaiņu, aizvešanu, atvešanu utt), H=0,5 - 1,0m, Bvid=1,2 m | C57: m | D57: 46.2
A58: 2.11 | B58: Tranšejas rakšana un aizbēršana cauruļvada OD160; montāžai (ieskaitot grunts nomaiņu, aizvešanu, atvešanu utt), H=1,0 - 1,5m, Bvid=1,2 m | C58: m | D58: 115.5
A59: 2.12 | B59: Tranšejas rakšana un aizbēršana cauruļvada OD160; montāžai (ieskaitot grunts nomaiņu, aizvešanu, atvešanu utt), H=1,5 - 2,0m, Bvid=1,2 m | C59: m | D59: 125.9
A60: 2.13 | B60: Tranšejas rakšana un aizbēršana cauruļvada OD75; montāžai (ieskaitot grunts nomaiņu, aizvešanu, atvešanu utt), H=0,5 - 1,5m, Bvid=1,0 m | C60: m | D60: 38.4
...
