Workbook
Name _brm2: "['file:///G:/Kesko%20Agro,%20Riga/target%20price%20blanco.xls'#$Taul4.$E$3]"
Name AKZ_Angebot: !#REF!
Name AKZ_Auftrag: !#REF!
Name Ang._Datum: !#REF!
Name Auftr._Datum: !#REF!
Name Bearbeiter: !#REF!
Name bruttonelio: "['file:///G:/Kesko%20Agro,%20Riga/target%20price%20blanco.xls'#$Taul4.$E$3]"
Name Cent_Stacija: !#REF!
Name code: !#REF!
Name d: !#REF!
Name da: "'[2]tāme nr.11'!#ref!"
Name ddd: !#REF!
Name dddd: !#REF!
Name eur: !#REF!
Name Excel_BuiltIn__FilterDatabase_10: !#REF!
Name Excel_BuiltIn__FilterDatabase_11: !#REF!
Name Excel_BuiltIn__FilterDatabase_12: !#REF!
Name Excel_BuiltIn__FilterDatabase_13: !#REF!
Name Excel_BuiltIn__FilterDatabase_14: !#REF!
Name Excel_BuiltIn__FilterDatabase_15: !#REF!
Name Excel_BuiltIn__FilterDatabase_16: !#REF!
Name Excel_BuiltIn__FilterDatabase_17: !#REF!
Name Excel_BuiltIn__FilterDatabase_18: !#REF!
Name Excel_BuiltIn__FilterDatabase_19: !#REF!
Name Excel_BuiltIn__FilterDatabase_2: !#REF!
Name Excel_BuiltIn__FilterDatabase_20: !#REF!
Name Excel_BuiltIn__FilterDatabase_21: !#REF!
Name Excel_BuiltIn__FilterDatabase_22: !#REF!
Name Excel_BuiltIn__FilterDatabase_23: !#REF!
Name Excel_BuiltIn__FilterDatabase_24: !#REF!
Name Excel_BuiltIn__FilterDatabase_25: !#REF!
Name Excel_BuiltIn__FilterDatabase_26: !#REF!
Name Excel_BuiltIn__FilterDatabase_27: !#REF!
Name Excel_BuiltIn__FilterDatabase_28: !#REF!
Name Excel_BuiltIn__FilterDatabase_29: !#REF!
Name Excel_BuiltIn__FilterDatabase_3: !#REF!
Name Excel_BuiltIn__FilterDatabase_4: !#REF!
Name Excel_BuiltIn__FilterDatabase_5: !#REF!
Name Excel_BuiltIn__FilterDatabase_6: !#REF!
Name Excel_BuiltIn__FilterDatabase_7: !#REF!
Name Excel_BuiltIn__FilterDatabase_8: !#REF!
Name Excel_BuiltIn__FilterDatabase_9: !#REF!
Name Faktorgruppe1: !#REF!
Name Faktorgruppe2: !#REF!
Name Faktorgruppe3: !#REF!
Name Faktorgruppe4: !#REF!
Name Faktorgruppe5: !#REF!
Name Faktorgruppe6: !#REF!
Name Faktorgruppe7: !#REF!
Name Faktorgruppe8: !#REF!
Name Faktorgruppe9: !#REF!
Name Faktorwerte: !#REF!
Name Faktorwerte_der_Faktorgruppen: !#REF!
Name Gruppenname1: !#REF!
Name Gruppenname2: !#REF!
Name Gruppenname3: !#REF!
Name Gruppenname4: !#REF!
Name Gruppenname5: !#REF!
Name Gruppenname6: !#REF!
Name Gruppenname7: !#REF!

Sheet 9.pielikums Finanšu piedāvājums
A1: 9.pielikums iepirkuma “Ēku iekšējās un ārējās lietus kanalizācijas sistēmu nomaiņa”, ID Nr.SIAON 2024/12-MI, Nolikumam
A3: FINANŠU PIEDĀVĀJUMS
A5: ____________________(pretendenta nosaukums, reģistrācijas numurs) piedāvājam veikt iepirkumā “Ēku iekšējās un ārējās lietus kanalizācijas sistēmu nomaiņa”, iepirkuma identifikācijas Nr.SIAON 2024/12-MI (turpmāk - Iepirkums) minētos darbus, saskaņā ar Iepirkuma Nolikumu un tā pielikumiem, tajā noteiktajā laikā un veidā par šādu līgumcenu:
A6: Nr. p. k. | B6: Dzīvojamās mājas adrese Ogrē | C6: Darbu nosaukums | D6: Pasūtītāja paredzamā budžeta summa, EUR bez PVN | E6: Pretendenta piedāvātā darbu summa, EUR bez PVN
A7: 1 | B7: "DĀRZIŅI" | C7: Notekreņu un notekcauruļu maiņa | D7: 2465.91
A8: 2 | B8: AKMEŅU IELA 50B | C8: Lietus kanalizācijas sistēmas stāvvadu maiņa,no jumta pārseguma līdz pagraba izvadiem no ēkas. | D8: 3009.71
A9: 3 | B9: AKMEŅU IELA 50B | C9: Kanalizācijas un lietus ūdens kanalizācijas tīklu maiņa no pirmās akas līdz ievadam pagrabā | D9: 9898.98
A10: 4 | B10: AUSEKĻA PROSPEKTS 10 | C10: Lietus kanalizācijas sistēmas stāvvadu maiņa,no jumta pārseguma līdz pagrabu izvadiem no ēkas uz pirmajām tehniskajām akām,daļēji demontējot betona grīdu.Betonu grīdas atjaunošana pēc būvdarbu pabeigšanas. | D10: 5185.39
A11: 5 | B11: AUSEKĻA PROSPEKTS 15 | C11: Lietus kanalizācijas sistēmas guļvadu un stāvadu maiņa, no jumta pārseguma līdz izvadiem pagrabā no ēkas. | D11: 5251.65
A12: 6 | B12: GRĪVAS PROSPEKTS 6A | C12: Notekcauruļu un notekreņu nomaiņa | D12: 3397.57
A13: 7 | B13: GRĪVAS PROSPEKTS 29 | C13: Lietus kanalizācijas sistēmas stāvvadu maiņa,no jumta pārseguma līdz pagrabu izvadiem no ēkas uz pirmajām tehniskajām akām,daļēji demontējot betona grīdu. Betonu grīdas atjaunošana pēc būvdarbu pabeigšanas. | D13: 5535.33
A14: 8 | B14: JAUNATNES IELA 4 | C14: Lietus kanalizācijas sistēmas stāvvadu maiņa,no jumta pārseguma līdz pagrabu izvadiem no ēkas. | D14: 3508.86
A15: 9 | B15: LAPU IELA 4 | C15: Lietus kanalizācijas sistēmas stāvvadu maiņa,no jumta pārseguma līdz pagrabu izvadiem no ēkas uz pirmajām tehniskajām akām,daļēji demontējot betona grīdu.Betonu grīdas atjaunošana pēc būvdarbu pabeigšanas. | D15: 2793.42
A16: 10 | B16: MĀLKALNES PROSPEKTS 30 | C16: Lietus kanalizācijas sistēmas guļvadu un stāvvadu maiņa, no jumta pārseguma līdz izvadiem pagrabā no ēkas. | D16: 4711.3
A17: 11 | B17: MĀLKALNES PROSPEKTS 33 | C17: Lietus kanalizācijas sistēmas stāvvadu maiņa,no jumta pārseguma līdz pagrabu izvadiem no ēkas uz pirmajām tehniskajām akām,daļēji demontējot betona grīdu.Betonu grīdas atjaunošana pēc būvdarbu pabeigšanas. | D17: 4526.24
A18: 12 | B18: MĀLKALNES PROSPEKTS 34 | C18: Lietus kanalizācijas sistēmas guļvadu un stāvvadu maiņa, no jumta pārseguma līdz izvadiem pagrabā no ēkas. | D18: 4711.3
... A26: 20 | B26: ZAĶU IELA 2 | C26: Notekreņu un notekcauruļu nomaiņa | D26: 2950.76
C27: KOPĀ: | D27: =SUM(D7:D26) -> 90420.85

Sheet 1.Dārziņi
A1: 8.pielikums iepirkuma “Ēku iekšējās un ārējās lietus kanalizācijas sistēmu nomaiņa”, ID Nr.SIAON 2024/12-MI, Nolikumam
A3: Tehniskā specifikācija un tehniskais piedāvājums
H5: Notekreņu un notekcauruļu nomaiņa
A6: (Darba veids vai konstruktīvā elementa nosaukums)
C8: Būves nosaukums: | D8: Daudzdzīvokļu nams
C9: Objekta adrese: | D9: Dārziņi, Ogre
C10: Pasūtītājs: | D10: Sabiedrība ar ierobežotu atbildību ''Ogres Namsaimnieks''
C11: Izpildītājs:
O13: Paredzamā budžeta summa, EUR bez PVN: | P13: 2465.91
O15: Pretendenta piedāvātā darbu summa, Eur bez PVN: | P15: =P42 -> 0
A17: Nr.p.k | B17: Kods | C17: Būvdarbu apraksts | D17: Mērvienība | E17: Daudzums | F17: Vienības izmaksas | L17: Kopā uz visu apjomu
F18: Laika norma (c/h) | G18: Darba samaksas likme (euro/h) | H18: Darba alga (euro) | I18: Būvizstrādājumi (euro) | J18: Mehā-nismi (euro) | K18: Kopā (euro) | L18: Darb-ietilpība (c/h) | M18: Darba alga (euro) | N18: Būvizstrādājumi (euro) | O18: Mehā-nismi (euro) | P18: Summa (euro)
A19: 1 | B19: =A19+1 -> 2 | C19: =B19+1 -> 3 | D19: =C19+1 -> 4 | E19: =D19+1 -> 5 | F19: =E19+1 -> 6 | G19: =F19+1 -> 7 | H19: =G19+1 -> 8 | I19: =H19+1 -> 9 | ... P19: =O19+1 -> 16
A21: 1 | C21: Esošo tekņu un notekcauruļu demontāža | D21: m | E21: 54
A22: 2 | C22: Tekņu montāža | D22: m | E22: 30
C23: Tekne 110mm | D23: m | E23: 30
C24: Teknes āķis īsais Zn 110mm | D24: gb | E24: 34
C25: Teknes galu vāki | D25: gb | E25: 12
C26: Montāžas materiāli | D26: m | E26: 30
A27: 3 | C27: Notekcauruļu montāža | D27: m | E27: 24
C28: Piltuve figurālā 100mm | D28: gb | E28: 4
C29: Notekcaurule 100mm | D29: m | E29: 24
C30: Notekcaurules līkums( valcēts) | D30: gb | E30: 8
C31: Notekcaurules līkums apakšējais | D31: gb | E31: 4
C32: Notekcaurules kronšteins ar tapskrūvi | D32: gb | E32: 24
C33: Montāžas materiāli | D33: m | E33: 24
A34: 4 | C34: Objekta sakārtošana, gružu savākšana utilizācija | D34: obj | E34: 1
A35: 34 | D35: gab
A36: Kopā:
C37: Transporta izmaksas: | D37: obj | E37: 1
C38: Pacēlāja izmaksas | D38: kompl | E38: 1
C39: Tiešās izmaksas kopā, t.sk. darba devēja sociālais nodoklis 23,59%
C40: Virsizdevumi:
C41: Darbuzņēmēja peļņa:
C42: Kopā bez PVN:
C43: PVN | F43: 21 | G43: %
C44: Pavisam kopā:

Sheet 2.Akmeņu_50b
A1: 8.pielikums iepirkuma “Ēku iekšējās un ārējās lietus kanalizācijas sistēmu nomaiņa”, ID Nr.SIAON 2024/12-MI, Nolikumam
A3: Tehniskā specifikācija un tehniskais piedāvājums
A5: Lietus kanalizācijas sistēmas stāvadu maiņa,no jumta pārseguma līdz pagraba izvadiem no ēkas.
A6: (Darba veids vai konstruktīvā elementa nosaukums)
C8: Būves nosaukums: | D8: Daudzdzīvokļu nams
C9: Objekta adrese: | D9: Akmeņu iela 50b, Ogre
C10: Pasūtītājs: | D10: Sabiedrība ar ierobežotu atbildību ''Ogres Namsaimnieks''
C11: Izpildītājs:
O12: Paredzamā budžeta summa, EUR bez PVN: | P12: ='9.pielikums Finanšu piedāvājums'!D8 -> 3009.71
O14: Pretendenta piedāvātā darbu summa, Eur bez PVN:
A16: Nr.p.k | B16: Kods | C16: Būvdarbu apraksts | D16: Mērvienība | E16: Daudzums | F16: Vienības izmaksas | L16: Kopā uz visu apjomu
F17: Laika norma (c/h) | G17: Darba samaksas likme (euro/h) | H17: Darba alga (euro) | I17: Būvizstrādājumi (euro) | J17: Mehā-nismi (euro) | K17: Kopā (euro) | L17: Darb-ietilpība (c/h) | M17: Darba alga (euro) | N17: Būvizstrādājumi (euro) | O17: Mehā-nismi (euro) | P17: Summa (euro)
A18: 1 | B18: =A18+1 -> 2 | C18: =B18+1 -> 3 | D18: =C18+1 -> 4 | E18: =D18+1 -> 5 | F18: =E18+1 -> 6 | G18: =F18+1 -> 7 | H18: =G18+1 -> 8 | I18: =H18+1 -> 9 | ... P18: =O18+1 -> 16
A20: 2 | C20: Montēt PPHT iekšdarbu kanalizācijas cauruli ''WAVIN'' DN110 / 2m Līdz izvadiem no mājas | D20: gb | E20: 25
A21: 3 | C21: Montēt PPHT iekšdarbu kanalizācijas cauruli ''WAVIN'' DN110 / 1m | D21: gb | E21: 8
A22: 4 | C22: Montēt PPHT iekšdarbu kanalizācijas cauruli ''WAVIN'' DN110 / 0,5m | D22: gb | E22: 6
A23: 5 | C23: Montēt PPHT iekšdarbu kanalizācijas trejgabalu ''WAVIN'' DN110 x DN110 / 45gr | D23: gb | E23: 3
A24: 6 | C24: Montēt PPHT iekšdarbu kanalizācijas līkumu ''WAVIN'' DN110 / 45gr | D24: gb | E24: 10
A25: 7 | C25: Montēt PPHT iekšdarbu kanalizācijas revīzīju ''WAVIN'' DN110 | D25: gb | E25: 3
A26: 8 | C26: Montēt PPHT iekšdarbu kanalizācijas kompensējošo uzmavu ''WAVIN'' DN110 | D26: gb | E26: 3
A27: 10 | C27: Montēt PPHT iekšdarbu kanalizācijas pāreju ar redukciju uz ķetu ''WAVIN'' DN110 | D27: gb | E27: 3
A28: 11 | C28: Ierīkot cauruļvadu kronšteinu ar gumiju 100 - 114mm komplektā ar dībeli, redukcijas skrūvi un uzgriezni M8 | D28: kpl | E28: 70
A29: 12 | C29: Lietus kanalizācijas šahtu atvēršana, betona pārseguma atkalšana,pēc cauruļu nomaiņas aizbetonēšana un šahtas aizvēršana.Darba procesā radušos būvgružus utilizēt. | D29: gb | E29: 15
A30: 13 | C30: Demontēt kanalizācijas cauruļvadus DN110 ar utilizāciju | D30: m | E30: 65
A31: 14 | C31: Mufe pagarināta M8 cinkota | D31: gb | E31: 40
... A36: 19 | C36: Griezējdiski ''RASTA'' 125mm x 1mm | D36: gb | E36: 10
A37: 20 | D37: gab
A38: Kopā: | L38: =ROUND(SUM(L20:L36),2) -> 0 | M38: =ROUND(SUM(M20:M36),2) -> 0 | N38: =ROUND(SUM(N20:N36),2) -> 0 | O38: =ROUND(SUM(O20:O36),2) -> 0 | P38: =ROUND(SUM(P20:P36),2) -> 0
C39: Transporta izmaksas:
C40: Tiešās izmaksas kopā, t.sk. darba devēja sociālais nodoklis 23,59% | P40: =ROUND(SUM(P38:P39),2) -> 0
C41: Virsizdevumi: | P41: =ROUND(P40*F41%,2) -> 0
C42: Darbuzņēmēja peļņa: | P42: =ROUND(P40*F42%,2) -> 0
C43: Kopā bez PVN: | P43: =SUM(P40:P41)+SUM(P42:P42) -> 0
C44: PVN | F44: 21 | G44: % | P44: =ROUND(P43*F44%,2) -> 0
C45: Pavisam kopā: | P45: =ROUND(SUM(P43:P44),2) -> 0

Sheet 3.Akmeņu 50b
A1: 8.pielikums iepirkuma “Ēku iekšējās un ārējās lietus kanalizācijas sistēmu nomaiņa”, ID Nr.SIAON 2024/12-MI, Nolikumam
A5: Tehniskā specifikācija un tehniskais piedāvājums
A7: Kanalizācijas un lietus ūdens kanalizācijas tīklu maiņa no pirmās akas līdz ievadam pagrabā
A8: (Darba veids vai konstruktīvā elementa nosaukums)
C10: Būves nosaukums: | D10: Daudzdzīvokļu nams
C11: Objekta adrese: | D11: Akmeņu iela 50b, Ogre
C12: Pasūtītājs: | D12: Sabiedrība ar ierobežotu atbildību ''Ogres Namsaimnieks''
C13: Izpildītājs:
O14: Paredzamā budžeta summa, EUR bez PVN: | P14: ='9.pielikums Finanšu piedāvājums'!D9 -> 9898.98
O16: Pretendenta piedāvātā darbu summa, Eur bez PVN:
A18: Nr.p.k | B18: Kods | C18: Būvdarbu apraksts | D18: Mērvienība | E18: Daudzums | F18: Vienības izmaksas | L18: Kopā uz visu apjomu
F19: Laika norma (c/h) | G19: Darba samaksas likme (euro/h) | H19: Darba alga (euro) | I19: Būvizstrādājumi (euro) | J19: Mehā-nismi (euro) | K19: Kopā (euro) | L19: Darb-ietilpība (c/h) | M19: Darba alga (euro) | N19: Būvizstrādājumi (euro) | O19: Mehā-nismi (euro) | P19: Summa (euro)
A20: 1 | B20: =A20+1 -> 2 | C20: =B20+1 -> 3 | D20: =C20+1 -> 4 | E20: =D20+1 -> 5 | F20: =E20+1 -> 6 | G20: =F20+1 -> 7 | H20: =G20+1 -> 8 | I20: =H20+1 -> 9 | ... P20: =O20+1 -> 16
A22: 1 | C22: Asfalta seguma demontāža / utilizācija / asflata seguma atjaunošana | D22: m2 | E22: 7.5
A23: 2 | C23: Braucamās daļas apmaļu atjaunnošana | D23: m | E23: 6
A24: 3 | C24: Tranšejas izrakšana, grunts aizešana | D24: m3 | E24: 45
A25: 4 | C25: Cauruļu ieklāšana, tranšejas aizbēršana ar smilti līdz seguma pamatnei blietējot pa kārtām | D25: m3 | E25: 45
A26: 5 | C26: Marķējuma lente virs caurulēm | D26: m | E26: 36
A27: 6 | C27: PP kanalizācijas caurule SN8,DN160mm,6m ar uzmavu | D27: m | E27: 18
A28: 7 | C28: PP kanalizācijas caurule SN8,DN110mm,6m ar uzmavu | D28: m | E28: 18
A29: 8 | C29: PP līkums 45° DN160 | D29: gab. | E29: 6
A30: 9 | C30: PVC līkums 45° DN110 | D30: gab. | E30: 6
A31: 10 | C31: Pievienojuma glāze ar blīvgredzenu DN160 | D31: kompl. | E31: 3
A32: 11 | C32: Pievienojuma glāze ar blīvgredzenu DN110 | D32: kompl. | E32: 3
A33: 12 | C33: Atvērumu veidošana ēkas pamatos un to hermetizācija pēc caurules izbūves | D33: gab. | E33: 6
... A44: 23 | C44: Izpilddokumentācijas sagatavošana | D44: kompl. | E44: 1
G47: %
A50: 34 | D50: gab
A51: Kopā: | L51: =ROUND(SUM(L22:L49),2) -> 0 | M51: =ROUND(SUM(M22:M49),2) -> 0 | N51: =ROUND(SUM(N22:N49),2) -> 0 | O51: =ROUND(SUM(O22:O49),2) -> 0 | P51: =ROUND(SUM(P22:P49),2) -> 0
C52: Transporta izmaksas:
C53: Tiešās izmaksas kopā, t.sk. darba devēja sociālais nodoklis 23,59% | P53: =ROUND(SUM(P51:P52),2) -> 0
C54: Virsizdevumi (t.sk. darba aizsardzība): | P54: =ROUND(P53*F54%,2) -> 0
C55: Darbuzņēmēja peļņa: | P55: =ROUND(P53*F55%,2) -> 0
C56: Kopā bez PVN: | P56: =SUM(P53:P54)+SUM(P55:P55) -> 0
C57: PVN | F57: 21 | G57: % | P57: =ROUND(P56*F57%,2) -> 0
C58: Pavisam kopā: | P58: =ROUND(SUM(P56:P57),2) -> 0

Sheet 4.Ausekļa 10
A1: 8.pielikums iepirkuma “Ēku iekšējās un ārējās lietus kanalizācijas sistēmu nomaiņa”, ID Nr.SIAON 2024/12-MI, Nolikumam
A3: Tehniskā specifikācija un tehniskais piedāvājums
A5: Lietus kanalizācijas sistēmas stāvadu maiņa,no jumta pārseguma līdz pagraba izvadiem no ēkas.
A6: (Darba veids vai konstruktīvā elementa nosaukums)
C8: Būves nosaukums: | D8: Daudzdzīvokļu nams
C9: Objekta adrese: | D9: Ausekļa prospekts 10, Ogre
C10: Pasūtītājs: | D10: Sabiedrība ar ierobežotu atbildību ''Ogres Namsaimnieks''
C11: Izpildītājs:
O12: Paredzamā budžeta summa, EUR bez PVN: | P12: ='9.pielikums Finanšu piedāvājums'!D10 -> 5185.39
O14: Pretendenta piedāvātā darbu summa, Eur bez PVN:
A16: Nr.p.k | B16: Kods | C16: Būvdarbu apraksts | D16: Mērvienība | E16: Daudzums | F16: Vienības izmaksas | L16: Kopā uz visu apjomu
F17: Laika norma (c/h) | G17: Darba samaksas likme (euro/h) | H17: Darba alga (euro) | I17: Būvizstrādājumi (euro) | J17: Mehā-nismi (euro) | K17: Kopā (euro) | L17: Darb-ietilpība (c/h) | M17: Darba alga (euro) | N17: Būvizstrādājumi (euro) | O17: Mehā-nismi (euro) | P17: Summa (euro)
A18: 1 | B18: =A18+1 -> 2 | C18: =B18+1 -> 3 | D18: =C18+1 -> 4 | E18: =D18+1 -> 5 | F18: =E18+1 -> 6 | G18: =F18+1 -> 7 | H18: =G18+1 -> 8 | I18: =H18+1 -> 9 | ... P18: =O18+1 -> 16
A19: 1
A20: 2 | C20: Montēt PPHT iekšdarbu kanalizācijas cauruli ''WAVIN'' DN110 / 2m Līdz izvadiem no mājas | D20: gb | E20: 30
A21: 3 | C21: Montēt PPHT iekšdarbu kanalizācijas cauruli ''WAVIN'' DN110 / 1m | D21: gb | E21: 6
A22: 4 | C22: Montēt PPHT iekšdarbu kanalizācijas cauruli ''WAVIN'' DN110 / 0,5m | D22: gb | E22: 4
A23: 5 | C23: Montēt PPHT iekšdarbu kanalizācijas trejgabalu ''WAVIN'' DN110 x DN110 / 45gr | D23: gb | E23: 6
A24: 7 | C24: Montēt PPHT iekšdarbu kanalizācijas līkumu ''WAVIN'' DN110 / 45gr | D24: gb | E24: 10
A25: 8 | C25: Montēt PPHT iekšdarbu kanalizācijas revīzīju ''WAVIN'' DN110 | D25: gb | E25: 6
A26: 9 | C26: Montēt PPHT iekšdarbu kanalizācijas kompensējošo uzmavu ''WAVIN'' DN110 | D26: gb | E26: 5
A27: 10 | C27: Montēt PPHT iekšdarbu kanalizācijas pāreju ar redukciju uz ķetu ''WAVIN'' DN110 | D27: gb | E27: 10
A28: 11 | C28: Ierīkot cauruļvadu kronšteinu ar gumiju 100 - 114mm komplektā ar dībeli, redukcijas skrūvi un uzgriezni M8 | D28: kpl | E28: 70
A29: 12 | C29: Lietus kanalizācijas šahtu atvēršana, betona pārseguma atkalšana,pēc cauruļu nomaiņas aizbetonēšana un šahtas aizvēršana.Darba procesā radušos būvgružus utilizēt. | D29: gb | E29: 18
A30: 13 | C30: Demontēt kanalizācijas cauruļvadus DN110 līdz izvadam no mājas un novietot objekta pagraba telpās | D30: m | E30: 70
A31: 14 | C31: Montēt konsoli 80mm ar spēka plecu caurules nostiprināšanai ( ja nepieciešams) | D31: gb | E31: 10
... A38: 21 | C38: Griezējdiski ''RASTA'' 125mm x 1mm | D38: gb | E38: 40
A39: 1 | D39: gab
A40: 1
A41: Kopā: | L41: =ROUND(SUM(L20:L38),2) -> 0 | M41: =ROUND(SUM(M20:M38),2) -> 0 | N41: =ROUND(SUM(N20:N38),2) -> 0 | O41: =ROUND(SUM(O20:O38),2) -> 0 | P41: =ROUND(SUM(P20:P38),2) -> 0
C42: Transporta izmaksas:
C43: Tiešās izmaksas kopā, t.sk. darba devēja sociālais nodoklis 23,59% | P43: =ROUND(SUM(P41:P42),2) -> 0
C44: Virsizdevumi: | P44: =ROUND(P43*F44%,2) -> 0
C45: Darbuzņēmēja peļņa: | P45: =ROUND(P43*F45%,2) -> 0
C46: Kopā bez PVN: | P46: =SUM(P43:P44)+SUM(P45:P45) -> 0
C47: PVN | F47: 21 | G47: % | P47: =ROUND(P46*F47%,2) -> 0
C48: Pavisam kopā: | P48: =ROUND(SUM(P46:P47),2) -> 0

Sheet 5.Ausekļa 15
A1: 8.pielikums iepirkuma “Ēku iekšējās un ārējās lietus kanalizācijas sistēmu nomaiņa”, ID Nr.SIAON 2024/12-MI, Nolikumam
A4: Tehniskā specifikācija un tehniskais piedāvājums
A7: (Darba veids vai konstruktīvā elementa nosaukums)
C9: Būves nosaukums: | D9: Daudzdzīvokļu nams
C10: Objekta adrese: | D10: Ausekļa prospekts 15, Ogre
C11: Pasūtītājs: | D11: Sabiedrība ar ierobežotu atbildību ''Ogres Namsaimnieks''
C12: Izpildītājs:
O13: Paredzamā budžeta summa, EUR bez PVN: | P13: ='9.pielikums Finanšu piedāvājums'!D11 -> 5251.65
O15: Pretendenta piedāvātā darbu summa, Eur bez PVN:
A17: Nr.p.k | B17: Kods | C17: Būvdarbu apraksts | D17: Mērvienība | E17: Daudzums | F17: Vienības izmaksas | L17: Kopā uz visu apjomu
F18: Laika norma (c/h) | G18: Darba samaksas likme (euro/h) | H18: Darba alga (euro) | I18: Būvizstrādājumi (euro) | J18: Mehā-nismi (euro) | K18: Kopā (euro) | L18: Darb-ietilpība (c/h) | M18: Darba alga (euro) | N18: Būvizstrādājumi (euro) | O18: Mehā-nismi (euro) | P18: Summa (euro)
A19: 1 | B19: =A19+1 -> 2 | C19: =B19+1 -> 3 | D19: =C19+1 -> 4 | E19: =D19+1 -> 5 | F19: =E19+1 -> 6 | G19: =F19+1 -> 7 | H19: =G19+1 -> 8 | I19: =H19+1 -> 9 | ... P19: =O19+1 -> 16
A20: 1
A21: 2 | C21: Montēt PPHT iekšdarbu kanalizācijas cauruli ''WAVIN'' DN110 / 2m Līdz izvadiem no mājas | D21: gb | E21: 30
A22: 3 | C22: Montēt PPHT iekšdarbu kanalizācijas cauruli ''WAVIN'' DN110 / 1m | D22: gb | E22: 6
A23: 4 | C23: Montēt PPHT iekšdarbu kanalizācijas cauruli ''WAVIN'' DN110 / 0,5m | D23: gb | E23: 10
A24: 5 | C24: Montēt PPHT iekšdarbu kanalizācijas trejgabalu ''WAVIN'' DN110 x DN110 / 45gr | D24: gb | E24: 4
A25: 6 | C25: Montēt PPHT iekšdarbu kanalizācijas līkumu ''WAVIN'' DN110 / 45gr | D25: gb | E25: 7
A26: 7 | C26: Montēt PPHT iekšdarbu kanalizācijas revīzīju ''WAVIN'' DN110 | D26: gb | E26: 4
A27: 8 | C27: Montēt PPHT iekšdarbu kanalizācijas kompensējošo uzmavu ''WAVIN'' DN110 | D27: gb | E27: 5
A28: 9 | C28: Montēt PPHT iekšdarbu kanalizācijas pāreju ar redukciju uz ķetu ''WAVIN'' DN110 | D28: gb | E28: 2
A29: 10 | C29: Ierīkot cauruļvadu kronšteinu ar gumiju 100 - 114mm komplektā ar dībeli, redukcijas skrūvi un uzgriezni M8 | D29: kpl | E29: 70
A30: 11 | C30: Lietus kanalizācijas šahtu atvēršana, betona pārseguma atkalšana,pēc cauruļu nomaiņas aizbetonēšana un šahtas aizvēršana.Darba procesā radušos būvgružus utilizēt. | D30: gb | E30: 18
A31: 12 | C31: Demontēt ķeta kanalizācijas cauruļvadus DN110 līdz izvadam no mājas un novietot objekta pagraba telpās | D31: m | E31: 70
A32: 13 | C32: Montēt konsoli 80mm ar spēka plecu caurules nostiprināšanai | D32: gb | E32: 10
... A39: 20 | C39: Griezējdiski ''RASTA'' 125mm x 1mm | D39: gb | E39: 40
A40: 31 | D40: gab
A41: 33
A42: Kopā: | L42: =ROUND(SUM(L21:L39),2) -> 0 | M42: =ROUND(SUM(M21:M39),2) -> 0 | N42: =ROUND(SUM(N21:N39),2) -> 0 | O42: =ROUND(SUM(O21:O39),2) -> 0 | P42: =ROUND(SUM(P21:P39),2) -> 0
C43: Transporta izmaksas:
C44: Tiešās izmaksas kopā, t.sk. darba devēja sociālais nodoklis 23,59% | P44: =ROUND(SUM(P42:P43),2) -> 0
C45: Virsizdevumi: | P45: =ROUND(P44*F45%,2) -> 0
C46: Darbuzņēmēja peļņa: | P46: =ROUND(P44*F46%,2) -> 0
C47: Kopā bez PVN: | P47: =SUM(P44:P45)+SUM(P46:P46) -> 0
C48: PVN | F48: 21 | G48: % | P48: =ROUND(P47*F48%,2) -> 0
C49: Pavisam kopā: | P49: =ROUND(SUM(P47:P48),2) -> 0

Sheet 6.Grīvas pr. 6a
A1: 8.pielikums iepirkuma “Ēku iekšējās un ārējās lietus kanalizācijas sistēmu nomaiņa”, ID Nr.SIAON 2024/12-MI, Nolikumam
A4: Tehniskā specifikācija un tehniskais piedāvājums
C6: Notekreņu nomaiņa ( ēkas priekšpusē ), papildus notekcaurules montāža
A7: (Darba veids vai konstruktīvā elementa nosaukums)
C9: Būves nosaukums: | D9: Daudzdzīvokļu nams
C10: Objekta adrese: | D10: Grīvas pr. 6a, Ogre
C11: Pasūtītājs: | D11: Sabiedrība ar ierobežotu atbildību ''Ogres Namsaimnieks''
C12: Izpildītājs:
O13: Paredzamā budžeta summa, EUR bez PVN: | P13: 3397.57
O15: Pretendenta piedāvātā darbu summa, Eur bez PVN: | P15: =P44 -> 0
A17: Nr.p.k | B17: Kods | C17: Būvdarbu apraksts | D17: Mērvienība | E17: Daudzums | F17: Vienības izmaksas | L17: Kopā uz visu apjomu
F18: Laika norma (c/h) | G18: Darba samaksas likme (euro/h) | H18: Darba alga (euro) | I18: Būvizstrādājumi (euro) | J18: Mehā-nismi (euro) | K18: Kopā (euro) | L18: Darb-ietilpība (c/h) | M18: Darba alga (euro) | N18: Būvizstrādājumi (euro) | O18: Mehā-nismi (euro) | P18: Summa (euro)
A19: 1 | B19: =A19+1 -> 2 | C19: =B19+1 -> 3 | D19: =C19+1 -> 4 | E19: =D19+1 -> 5 | F19: =E19+1 -> 6 | G19: =F19+1 -> 7 | H19: =G19+1 -> 8 | I19: =H19+1 -> 9 | ... P19: =O19+1 -> 16
A21: 1 | C21: Esošo tekņu demontāža | D21: m | E21: 48
A22: 2 | C22: Tekņu stiprinājumu pamatnes izbūve | D22: m | E22: 48
C23: Imprignēti Zāģmateriāli 25x100x3000mm | D23: m3 | E23: 0.12
C24: Montāžas materiāli | D24: m | E24: 48
A25: 3 | C25: Jauno Tekņu montāža( ēkas priekšpusē ) | D25: m | E25: 48
C26: ZN Tekne 150mm | D26: m | E26: 53
C27: Teknes āķis īsais Zn 150mm | D27: gb | E27: 55
C28: Teknes galu vāki | D28: gb | E28: 2
C29: Piltuve | D29: gb | E29: 5
C30: Montāžas materiāli | D30: m | E30: 48
A31: 4 | C31: Papildus notekcaurules montāža (ēkas priekšpusē) | D31: m | E31: 18
C32: ZN Notekcaurule 125mm | D32: m | E32: 18
C33: Notekcaurules līkums apakšējais | D33: gb | E33: 1
C34: Notekcaurules kronšteins ar tapskrūvi | D34: gb | E34: 20
C35: Montāžas materiāli | D35: m | E35: 18
A36: 5 | C36: Objekta sakārtošana, gružu savākšana utilizācija | D36: obj | E36: 1
A37: 75 | D37: gab
A38: Kopā:
C39: Transporta izmaksas: | D39: obj | E39: 1
C40: Pacēlāja izmaksas | D40: kompl | E40: 1
C41: Tiešās izmaksas kopā, t.sk. darba devēja sociālais nodoklis 23,59%
C42: Virsizdevumi:
C43: Darbuzņēmēja peļņa:
C44: Kopā bez PVN:
C45: PVN | F45: 21 | G45: %
C46: Pavisam kopā:

Sheet 7.Grīvas 29
A1: 8.pielikums iepirkuma “Ēku iekšējās un ārējās lietus kanalizācijas sistēmu nomaiņa”, ID Nr.SIAON 2024/12-MI, Nolikumam
A4: Tehniskā specifikācija un tehniskais piedāvājums
A6: Lietus kanalizācijas sistēmas stāvadu maiņa,no jumta pārseguma līdz pagraba izvadiem no ēkas.
A7: (Darba veids vai konstruktīvā elementa nosaukums)
C9: Būves nosaukums: | D9: Daudzdzīvokļu nams
C10: Objekta adrese: | D10: Grīvas prospekts 29 , Ogre
C11: Pasūtītājs: | D11: Sabiedrība ar ierobežotu atbildību ''Ogres Namsaimnieks''
C12: Izpildītājs:
O13: Paredzamā budžeta summa, EUR bez PVN: | P13: ='9.pielikums Finanšu piedāvājums'!D13 -> 5535.33
O15: Pretendenta piedāvātā darbu summa, Eur bez PVN:
A17: Nr.p.k | B17: Kods | C17: Būvdarbu apraksts | D17: Mērvienība | E17: Daudzums | F17: Vienības izmaksas | L17: Kopā uz visu apjomu
F18: Laika norma (c/h) | G18: Darba samaksas likme (euro/h) | H18: Darba alga (euro) | I18: Būvizstrādājumi (euro) | J18: Mehā-nismi (euro) | K18: Kopā (euro) | L18: Darb-ietilpība (c/h) | M18: Darba alga (euro) | N18: Būvizstrādājumi (euro) | O18: Mehā-nismi (euro) | P18: Summa (euro)
A19: 1 | B19: =A19+1 -> 2 | C19: =B19+1 -> 3 | D19: =C19+1 -> 4 | E19: =D19+1 -> 5 | F19: =E19+1 -> 6 | G19: =F19+1 -> 7 | H19: =G19+1 -> 8 | I19: =H19+1 -> 9 | ... P19: =O19+1 -> 16
A20: 1
A21: 2 | C21: Montēt PPHT iekšdarbu kanalizācijas cauruli ''WAVIN'' DN110 / 2m Līdz izvadiem no mājas | D21: gb | E21: 90
A22: 3 | C22: Montēt PPHT iekšdarbu kanalizācijas cauruli ''WAVIN'' DN110 / 1m | D22: gb | E22: 12
A23: 4 | C23: Montēt PPHT iekšdarbu kanalizācijas cauruli ''WAVIN'' DN110 / 0,5m | D23: gb | E23: 8
A24: 5 | C24: Montēt PPHT iekšdarbu kanalizācijas trejgabalu ''WAVIN'' DN110 x DN110 / 45gr | D24: gb | E24: 8
A25: 6 | C25: Montēt PPHT iekšdarbu kanalizācijas līkumu ''WAVIN'' DN110 / 45gr | D25: gb | E25: 32
A26: 7 | C26: Montēt PPHT iekšdarbu kanalizācijas revīzīju ''WAVIN'' DN110 | D26: gb | E26: 16
A27: 8 | C27: Montēt PPHT iekšdarbu kanalizācijas kompensējošo uzmavu ''WAVIN'' DN110 | D27: gb | E27: 16
A28: 9 | C28: Montēt PPHT iekšdarbu kanalizācijas pāreju ar redukciju uz ķetu ''WAVIN'' DN110 | D28: gb | E28: 16
A29: 10 | C29: Ierīkot cauruļvadu kronšteinu ar gumiju 100 - 114mm komplektā ar dībeli, redukcijas skrūvi un uzgriezni M8 | D29: kpl | E29: 200
A30: 11 | C30: Lietus kanalizācijas šahtu atvēršana, betona pārseguma atkalšana,pēc cauruļu nomaiņas aizbetonēšana un šahtas aizmūrēšana.Darba procesā radušos būvgružus utilizēt. | D30: gb | E30: 40
A31: 12 | C31: Izkalt betona grīdas posmus pagrabstāvā no kanalizācijas stāvadiem līdz izvadiem no ēkas un pēc kanalizācijas cauruļvadu nomaiņa aizcementēt izskaltos posmus.Darba procesā radušos būvgružus utilizēt. | D31: m | E31: 45
A32: 13 | C32: Demontēt ķeta kanalizācijas cauruļvadus DN110 līdz izvadam no mājas un novietot objekta pagraba telpās | D32: m | E32: 240
... A40: 21 | C40: Griezējdiski ''RASTA'' 125mm x 1mm | D40: gb | E40: 50
A41: 1 | D41: gab
A42: 1
A43: Kopā: | L43: =ROUND(SUM(L21:L40),2) -> 0 | M43: =ROUND(SUM(M21:M40),2) -> 0 | N43: =ROUND(SUM(N21:N40),2) -> 0 | O43: =ROUND(SUM(O21:O40),2) -> 0 | P43: =ROUND(SUM(P21:P40),2) -> 0
C44: Transporta izmaksas:
C45: Tiešās izmaksas kopā, t.sk. darba devēja sociālais nodoklis 23,59% | P45: =ROUND(SUM(P43:P44),2) -> 0
C46: Virsizdevumi: | P46: =ROUND(P45*F46%,2) -> 0
C47: Darbuzņēmēja peļņa: | P47: =ROUND(P45*F47%,2) -> 0
C48: Kopā bez PVN: | P48: =SUM(P45:P46)+SUM(P47:P47) -> 0
C49: PVN | F49: 21 | G49: % | P49: =ROUND(P48*F49%,2) -> 0
C50: Pavisam kopā: | P50: =ROUND(SUM(P48:P49),2) -> 0

Sheet 8.Jaunatnes 4
A1: 8.pielikums iepirkuma “Ēku iekšējās un ārējās lietus kanalizācijas sistēmu nomaiņa”, ID Nr.SIAON 2024/12-MI, Nolikumam
A4: Tehniskā specifikācija un tehniskais piedāvājums
A6: Lietus kanalizācijas sistēmas stāvadu maiņa,no jumta pārseguma līdz pagraba izvadiem no ēkas.
A7: (Darba veids vai konstruktīvā elementa nosaukums)
C9: Būves nosaukums: | D9: Daudzdzīvokļu nams
C10: Objekta adrese: | D10: Jaunatnes iela 4, Ogre
C11: Pasūtītājs: | D11: Sabiedrība ar ierobežotu atbildību ''Ogres Namsaimnieks''
C12: Izpildītājs:
O13: Paredzamā budžeta summa, EUR bez PVN: | P13: ='9.pielikums Finanšu piedāvājums'!D14 -> 3508.86
O15: Pretendenta piedāvātā darbu summa, Eur bez PVN:
A17: Nr.p.k | B17: Kods | C17: Būvdarbu apraksts | D17: Mērvienība | E17: Daudzums | F17: Vienības izmaksas | L17: Kopā uz visu apjomu
F18: Laika norma (c/h) | G18: Darba samaksas likme (euro/h) | H18: Darba alga (euro) | I18: Būvizstrādājumi (euro) | J18: Mehā-nismi (euro) | K18: Kopā (euro) | L18: Darb-ietilpība (c/h) | M18: Darba alga (euro) | N18: Būvizstrādājumi (euro) | O18: Mehā-nismi (euro) | P18: Summa (euro)
A19: 1 | B19: =A19+1 -> 2 | C19: =B19+1 -> 3 | D19: =C19+1 -> 4 | E19: =D19+1 -> 5 | F19: =E19+1 -> 6 | G19: =F19+1 -> 7 | H19: =G19+1 -> 8 | I19: =H19+1 -> 9 | ... P19: =O19+1 -> 16
A20: 1
A21: 2 | C21: Montēt PPHT iekšdarbu kanalizācijas cauruli ''WAVIN'' DN110 / 2m Līdz izvadiem no mājas | D21: gb | E21: 15
A22: 3 | C22: Montēt PPHT iekšdarbu kanalizācijas cauruli ''WAVIN'' DN110 / 1m | D22: gb | E22: 3
A23: 4 | C23: Montēt PPHT iekšdarbu kanalizācijas cauruli ''WAVIN'' DN110 / 0,5m | D23: gb | E23: 5
A24: 5 | C24: Montēt PPHT iekšdarbu kanalizācijas trejgabalu ''WAVIN'' DN110 x DN110 / 45gr | D24: gb | E24: 3
A25: 6 | C25: Montēt PPHT iekšdarbu kanalizācijas līkumu ''WAVIN'' DN110 / 45gr | D25: gb | E25: 8
A26: 7 | C26: Montēt PPHT iekšdarbu kanalizācijas revīzīju ''WAVIN'' DN110 | D26: gb | E26: 4
A27: 8 | C27: Montēt PPHT iekšdarbu kanalizācijas kompensējošo uzmavu ''WAVIN'' DN110 | D27: gb | E27: 4
A28: 9 | C28: Montēt PPHT iekšdarbu kanalizācijas pāreju ar redukciju uz ķetu ''WAVIN'' DN110 | D28: gb | E28: 2
A29: 10 | C29: Ierīkot cauruļvadu kronšteinu ar gumiju 100 - 114mm komplektā ar dībeli, redukcijas skrūvi un uzgriezni M8 | D29: kpl | E29: 35
A30: 11 | C30: Lietus kanalizācijas šahtu atvēršana,betona pārseguma atkalšana,pēc cauruļu nomaiņas aizbetonēšana un šahtas aizvēršana.Darba procesā radušos būvgružus utilizēt. | D30: gb | E30: 9
A31: 12 | C31: Demontēt ķeta kanalizācijas cauruļvadus DN110 līdz izvadam no mājas un novietot objekta pagraba telpās | D31: m | E31: 35
A32: 13 | C32: Montēt konsoli 80mm ar spēka plecu caurules nostiprināšanai | D32: gb | E32: 5
... A39: 20 | C39: Griezējdiski ''RASTA'' 125mm x 1mm | D39: gb | E39: 40
A40: 1 | D40: gab
A41: 1
A42: Kopā: | L42: =ROUND(SUM(L21:L39),2) -> 0 | M42: =ROUND(SUM(M21:M39),2) -> 0 | N42: =ROUND(SUM(N21:N39),2) -> 0 | O42: =ROUND(SUM(O21:O39),2) -> 0 | P42: =ROUND(SUM(P21:P39),2) -> 0
C43: Transporta izmaksas:
C44: Tiešās izmaksas kopā, t.sk. darba devēja sociālais nodoklis 23,59% | P44: =ROUND(SUM(P42:P43),2) -> 0
C45: Virsizdevumi: | P45: =ROUND(P44*F45%,2) -> 0
C46: Darbuzņēmēja peļņa: | P46: =ROUND(P44*F46%,2) -> 0
C47: Kopā bez PVN: | P47: =SUM(P44:P45)+SUM(P46:P46) -> 0
C48: PVN | F48: 21 | G48: % | P48: =ROUND(P47*F48%,2) -> 0
C49: Pavisam kopā: | P49: =ROUND(SUM(P47:P48),2) -> 0

Sheet 9.Lapu 4
A1: 8.pielikums iepirkuma “Ēku iekšējās un ārējās lietus kanalizācijas sistēmu nomaiņa”, ID Nr.SIAON 2024/12-MI, Nolikumam
A4: Tehniskā specifikācija un tehniskais piedāvājums
A6: Lietus kanalizācijas sistēmas stāvadu maiņa,no jumta pārseguma līdz pagraba izvadiem no ēkas.
A7: (Darba veids vai konstruktīvā elementa nosaukums)
C9: Būves nosaukums: | D9: Daudzdzīvokļu nams
C10: Objekta adrese: | D10: Lapu iela 4 , Ogre
C11: Pasūtītājs: | D11: Sabiedrība ar ierobežotu atbildību ''Ogres Namsaimnieks''
C12: Izpildītājs:
O13: Paredzamā budžeta summa, EUR bez PVN: | P13: ='9.pielikums Finanšu piedāvājums'!D15 -> 2793.42
O15: Pretendenta piedāvātā darbu summa, Eur bez PVN:
A17: Nr.p.k | B17: Kods | C17: Būvdarbu apraksts | D17: Mērvienība | E17: Daudzums | F17: Vienības izmaksas | L17: Kopā uz visu apjomu
F18: Laika norma (c/h) | G18: Darba samaksas likme (euro/h) | H18: Darba alga (euro) | I18: Būvizstrādājumi (euro) | J18: Mehā-nismi (euro) | K18: Kopā (euro) | L18: Darb-ietilpība (c/h) | M18: Darba alga (euro) | N18: Būvizstrādājumi (euro) | O18: Mehā-nismi (euro) | P18: Summa (euro)
A19: 1 | B19: =A19+1 -> 2 | C19: =B19+1 -> 3 | D19: =C19+1 -> 4 | E19: =D19+1 -> 5 | F19: =E19+1 -> 6 | G19: =F19+1 -> 7 | H19: =G19+1 -> 8 | I19: =H19+1 -> 9 | ... P19: =O19+1 -> 16
A20: 1 | G20: 12
A21: 2 | C21: Montēt PPHT iekšdarbu kanalizācijas cauruli ''WAVIN'' DN110 / 2m Līdz izvadiem no mājas | D21: gb | E21: 50
A22: 3 | C22: Montēt PPHT iekšdarbu kanalizācijas cauruli ''WAVIN'' DN110 / 1m | D22: gb | E22: 10
A23: 4 | C23: Montēt PPHT iekšdarbu kanalizācijas cauruli ''WAVIN'' DN110 / 0,5m | D23: gb | E23: 8
A24: 5 | C24: Montēt PPHT iekšdarbu kanalizācijas trejgabalu ''WAVIN'' DN110 x DN110 / 45gr | D24: gb | E24: 4
A25: 6 | C25: Montēt PPHT iekšdarbu kanalizācijas līkumu ''WAVIN'' DN110 / 45gr | D25: gb | E25: 12
A26: 7 | C26: Montēt PPHT iekšdarbu kanalizācijas revīzīju ''WAVIN'' DN110 | D26: gb | E26: 8
A27: 8 | C27: Montēt PPHT iekšdarbu kanalizācijas kompensējošo uzmavu ''WAVIN'' DN110 | D27: gb | E27: 4
A28: 9 | C28: Montēt PPHT iekšdarbu kanalizācijas pāreju ar redukciju uz ķetu ''WAVIN'' DN110 | D28: gb | E28: 4
A29: 10 | C29: Ierīkot cauruļvadu kronšteinu ar gumiju 100 - 114mm komplektā ar dībeli, redukcijas skrūvi un uzgriezni M8 | D29: kpl | E29: 115
A30: 11 | C30: Montēt konsoli 80mm ar spēka plecu caurules nostiprināšanai | D30: gb | E30: 20
A31: 12 | C31: Izkalt betona grīdas posmus pagrabstāvā no kanalizācijas stāvadiem līdz izvadiem no ēkas un pēc kanalizācijas cauruļvadu nomaiņa aizcementēt izskaltos posmus.Darba procesā radušos būvgružus utilizēt. | D31: m | E31: 30
A32: 13 | C32: Demontēt ķeta kanalizācijas cauruļvadus DN110 līdz izvadam no mājas un novietot objekta pagraba telpās | D32: m | E32: 142
... A40: 21 | C40: Griezējdiski ''RASTA'' 125mm x 1mm | D40: gb | E40: 40
A41: 1 | D41: gab
A42: 1
A43: Kopā: | L43: =ROUND(SUM(L21:L40),2) -> 0 | M43: =ROUND(SUM(M21:M40),2) -> 0 | N43: =ROUND(SUM(N21:N40),2) -> 0 | O43: =ROUND(SUM(O21:O40),2) -> 0 | P43: =ROUND(SUM(P21:P40),2) -> 0
C44: Transporta izmaksas:
C45: Tiešās izmaksas kopā, t.sk. darba devēja sociālais nodoklis 23,59% | P45: =ROUND(SUM(P43:P44),2) -> 0
C46: Virsizdevumi: | P46: =ROUND(P45*F46%,2) -> 0
C47: Darbuzņēmēja peļņa: | P47: =ROUND(P45*F47%,2) -> 0
C48: Kopā bez PVN: | P48: =SUM(P45:P46)+SUM(P47:P47) -> 0
C49: PVN | F49: 21 | G49: % | P49: =ROUND(P48*F49%,2) -> 0
C50: Pavisam kopā: | P50: =ROUND(SUM(P48:P49),2) -> 0

Sheet 10.Mālkalnes 30
A1: 8.pielikums iepirkuma “Ēku iekšējās un ārējās lietus kanalizācijas sistēmu nomaiņa”, ID Nr.SIAON 2024/12-MI, Nolikumam
A4: Tehniskā specifikācija un tehniskais piedāvājums
A6: Lietus kanalizācijas sistēmas stāvadu maiņa,no jumta pārseguma līdz pagraba izvadiem no ēkas.
A7: (Darba veids vai konstruktīvā elementa nosaukums)
C9: Būves nosaukums: | D9: Daudzdzīvokļu nams
C10: Objekta adrese: | D10: Mālkalnes 30 , Ogre
C11: Pasūtītājs: | D11: Sabiedrība ar ierobežotu atbildību ''Ogres Namsaimnieks''
C12: Izpildītājs:
O13: Paredzamā budžeta summa, EUR bez PVN: | P13: ='9.pielikums Finanšu piedāvājums'!D16 -> 4711.3
O15: Pretendenta piedāvātā darbu summa, Eur bez PVN:
A17: Nr.p.k | B17: Kods | C17: Būvdarbu apraksts | D17: Mērvienība | E17: Daudzums | F17: Vienības izmaksas | L17: Kopā uz visu apjomu
F18: Laika norma (c/h) | G18: Darba samaksas likme (euro/h) | H18: Darba alga (euro) | I18: Būvizstrādājumi (euro) | J18: Mehā-nismi (euro) | K18: Kopā (euro) | L18: Darb-ietilpība (c/h) | M18: Darba alga (euro) | N18: Būvizstrādājumi (euro) | O18: Mehā-nismi (euro) | P18: Summa (euro)
A19: 1 | B19: =A19+1 -> 2 | C19: =B19+1 -> 3 | D19: =C19+1 -> 4 | E19: =D19+1 -> 5 | F19: =E19+1 -> 6 | G19: =F19+1 -> 7 | H19: =G19+1 -> 8 | I19: =H19+1 -> 9 | ... P19: =O19+1 -> 16
A20: 1
A21: 2 | C21: Montēt PPHT iekšdarbu kanalizācijas cauruli ''WAVIN'' DN110 / 2m Līdz izvadiem no mājas | D21: gb | E21: 38
A22: 3 | C22: Montēt PPHT iekšdarbu kanalizācijas cauruli ''WAVIN'' DN110 / 1m | D22: gb | E22: 10
A23: 4 | C23: Montēt PPHT iekšdarbu kanalizācijas cauruli ''WAVIN'' DN110 / 0,5m | D23: gb | E23: 8
A24: 5 | C24: Montēt PPHT iekšdarbu kanalizācijas trejgabalu ''WAVIN'' DN110 x DN110 / 45gr | D24: gb | E24: 4
A25: 6 | C25: Montēt PPHT iekšdarbu kanalizācijas līkumu ''WAVIN'' DN110 / 45gr | D25: gb | E25: 16
A26: 7 | C26: Montēt PPHT iekšdarbu kanalizācijas revīzīju ''WAVIN'' DN110 | D26: gb | E26: 8
A27: 8 | C27: Montēt PPHT iekšdarbu kanalizācijas kompensējošo uzmavu ''WAVIN'' DN110 | D27: gb | E27: 8
A28: 9 | C28: Montēt PPHT iekšdarbu kanalizācijas pāreju ar redukciju uz ķetu ''WAVIN'' DN110 | D28: gb | E28: 8
A29: 10 | C29: Ierīkot cauruļvadu kronšteinu ar gumiju 100 - 114mm komplektā ar dībeli, redukcijas skrūvi un uzgriezni M8 | D29: kpl | E29: 90
A30: 11 | C30: Lietus kanalizācijas šahtu atvēršana, betona pārseguma atkalšana,pēc cauruļu nomaiņas aizbetonēšana un šahtas aizmūrēšana.Darba procesā radušos būvgružus utilizēt. | D30: gb | E30: 20
A31: 12 | C31: Izkalt betona grīdas posmus pagrabstāvā no kanalizācijas stāvadiem līdz izvadiem no ēkas un pēc kanalizācijas cauruļvadu nomaiņa aizcementēt izskaltos posmus.Darba procesā radušos būvgružus utilizēt. | D31: m | E31: 25
A32: 13 | C32: Demontēt ķeta kanalizācijas cauruļvadus DN110 līdz izvadam no mājas un novietot objekta pagraba telpās | D32: m | E32: 115
... A40: 21 | C40: Griezējdiski ''RASTA'' 125mm x 1mm | D40: gb | E40: 60
A41: 1 | D41: gab
A42: 1
A43: Kopā: | L43: =ROUND(SUM(L21:L40),2) -> 0 | M43: =ROUND(SUM(M21:M40),2) -> 0 | N43: =ROUND(SUM(N21:N40),2) -> 0 | O43: =ROUND(SUM(O21:O40),2) -> 0 | P43: =ROUND(SUM(P21:P40),2) -> 0
C44: Transporta izmaksas:
C45: Tiešās izmaksas kopā, t.sk. darba devēja sociālais nodoklis 23,59% | P45: =ROUND(SUM(P43:P44),2) -> 0
C46: Virsizdevumi: | P46: =ROUND(P45*F46%,2) -> 0
C47: Darbuzņēmēja peļņa: | P47: =ROUND(P45*F47%,2) -> 0
C48: Kopā bez PVN: | P48: =SUM(P45:P46)+SUM(P47:P47) -> 0
C49: PVN | F49: 21 | G49: % | P49: =ROUND(P48*F49%,2) -> 0
C50: Pavisam kopā: | P50: =ROUND(SUM(P48:P49),2) -> 0

Sheet 11.Mālkalnes 33
A1: 8.pielikums iepirkuma “Ēku iekšējās un ārējās lietus kanalizācijas sistēmu nomaiņa”, ID Nr.SIAON 2024/12-MI, Nolikumam
A4: Tehniskā specifikācija un tehniskais piedāvājums
A6: Lietus kanalizācijas sistēmas stāvadu maiņa,no jumta pārseguma līdz pagraba izvadiem no ēkas.
A7: (Darba veids vai konstruktīvā elementa nosaukums)
C9: Būves nosaukums: | D9: Daudzdzīvokļu nams
C10: Objekta adrese: | D10: Mālkalnes prospekts 33 , Ogre
C11: Pasūtītājs: | D11: Sabiedrība ar ierobežotu atbildību ''Ogres Namsaimnieks''
C12: Izpildītājs:
O13: Paredzamā budžeta summa, EUR bez PVN: | P13: ='9.pielikums Finanšu piedāvājums'!D17 -> 4526.24
O15: Pretendenta piedāvātā darbu summa, Eur bez PVN:
A17: Nr.p.k | B17: Kods | C17: Būvdarbu apraksts | D17: Mērvienība | E17: Daudzums | F17: Vienības izmaksas | L17: Kopā uz visu apjomu
F18: Laika norma (c/h) | G18: Darba samaksas likme (euro/h) | H18: Darba alga (euro) | I18: Būvizstrādājumi (euro) | J18: Mehā-nismi (euro) | K18: Kopā (euro) | L18: Darb-ietilpība (c/h) | M18: Darba alga (euro) | N18: Būvizstrādājumi (euro) | O18: Mehā-nismi (euro) | P18: Summa (euro)
A19: 1 | B19: =A19+1 -> 2 | C19: =B19+1 -> 3 | D19: =C19+1 -> 4 | E19: =D19+1 -> 5 | F19: =E19+1 -> 6 | G19: =F19+1 -> 7 | H19: =G19+1 -> 8 | I19: =H19+1 -> 9 | ... P19: =O19+1 -> 16
A20: 1
A21: 2 | C21: Montēt PPHT iekšdarbu kanalizācijas cauruli ''WAVIN'' DN110 / 2m Līdz izvadiem no mājas | D21: gb | E21: 40
A22: 3 | C22: Montēt PPHT iekšdarbu kanalizācijas cauruli ''WAVIN'' DN110 / 1m | D22: gb | E22: 10
A23: 4 | C23: Montēt PPHT iekšdarbu kanalizācijas cauruli ''WAVIN'' DN110 / 0,5m | D23: gb | E23: 6
A24: 5 | C24: Montēt PPHT iekšdarbu kanalizācijas trejgabalu ''WAVIN'' DN110 x DN110 / 45gr | D24: gb | E24: 4
A25: 6 | C25: Montēt PPHT iekšdarbu kanalizācijas līkumu ''WAVIN'' DN110 / 45gr | D25: gb | E25: 20
A26: 7 | C26: Montēt PPHT iekšdarbu kanalizācijas revīzīju ''WAVIN'' DN110 | D26: gb | E26: 8
A27: 8 | C27: Montēt PPHT iekšdarbu kanalizācijas kompensējošo uzmavu ''WAVIN'' DN110 | D27: gb | E27: 10
A28: 9 | C28: Montēt PPHT iekšdarbu kanalizācijas pāreju ar redukciju uz ķetu ''WAVIN'' DN110 | D28: gb | E28: 8
A29: 10 | C29: Ierīkot cauruļvadu kronšteinu ar gumiju 100 - 114mm komplektā ar dībeli, redukcijas skrūvi un uzgriezni M8 | D29: kpl | E29: 93
A30: 11 | C30: Lietus kanalizācijas šahtu atvēršana, betona pārseguma atkalšana,pēc cauruļu nomaiņas aizbetonēšana un šahtas aizvēršana.Darba procesā radušos būvgružus utilizēt. | D30: gb | E30: 20
A31: 12 | C31: Izkalt betona grīdas posmus pagrabstāvā no kanalizācijas stāvadiem līdz izvadiem no ēkas un pēc kanalizācijas cauruļvadu nomaiņa aizcementēt izskaltos posmus.Darba procesā radušos būvgružus utilizēt. | D31: m | E31: 30
A32: 13 | C32: Demontēt ķeta kanalizācijas cauruļvadus DN110 līdz izvadam no mājas un novietot objekta pagraba telpās | D32: m | E32: 123
... A40: 21 | C40: Griezējdiski ''RASTA'' 125mm x 1mm | D40: gb | E40: 40
A41: 1 | D41: gab
A42: 1
A43: Kopā: | L43: =ROUND(SUM(L21:L40),2) -> 0 | M43: =ROUND(SUM(M21:M40),2) -> 0 | N43: =ROUND(SUM(N21:N40),2) -> 0 | O43: =ROUND(SUM(O21:O40),2) -> 0 | P43: =ROUND(SUM(P21:P40),2) -> 0
C44: Transporta izmaksas:
C45: Tiešās izmaksas kopā, t.sk. darba devēja sociālais nodoklis 23,59% | P45: =ROUND(SUM(P43:P44),2) -> 0
C46: Virsizdevumi: | P46: =ROUND(P45*F46%,2) -> 0
C47: Darbuzņēmēja peļņa: | P47: =ROUND(P45*F47%,2) -> 0
C48: Kopā bez PVN: | P48: =SUM(P45:P46)+SUM(P47:P47) -> 0
C49: PVN | F49: 21 | G49: % | P49: =ROUND(P48*F49%,2) -> 0
C50: Pavisam kopā: | P50: =ROUND(SUM(P48:P49),2) -> 0

Sheet 12.Mālkalnes 34
A1: 8.pielikums iepirkuma “Ēku iekšējās un ārējās lietus kanalizācijas sistēmu nomaiņa”, ID Nr.SIAON 2024/12-MI, Nolikumam
A4: Tehniskā specifikācija un tehniskais piedāvājums
A6: Lietus kanalizācijas sistēmas stāvadu maiņa,no jumta pārseguma līdz pagraba izvadiem no ēkas.
A7: (Darba veids vai konstruktīvā elementa nosaukums)
C9: Būves nosaukums: | D9: Daudzdzīvokļu nams
C10: Objekta adrese: | D10: Mālkalnes 34 , Ogre
C11: Pasūtītājs: | D11: Sabiedrība ar ierobežotu atbildību ''Ogres Namsaimnieks''
C12: Izpildītājs:
O13: Paredzamā budžeta summa, EUR bez PVN: | P13: ='9.pielikums Finanšu piedāvājums'!D18 -> 4711.3
O15: Pretendenta piedāvātā darbu summa, Eur bez PVN:
A17: Nr.p.k | B17: Kods | C17: Būvdarbu apraksts | D17: Mērvienība | E17: Daudzums | F17: Vienības izmaksas | L17: Kopā uz visu apjomu
F18: Laika norma (c/h) | G18: Darba samaksas likme (euro/h) | H18: Darba alga (euro) | I18: Būvizstrādājumi (euro) | J18: Mehā-nismi (euro) | K18: Kopā (euro) | L18: Darb-ietilpība (c/h) | M18: Darba alga (euro) | N18: Būvizstrādājumi (euro) | O18: Mehā-nismi (euro) | P18: Summa (euro)
A19: 1 | B19: =A19+1 -> 2 | C19: =B19+1 -> 3 | D19: =C19+1 -> 4 | E19: =D19+1 -> 5 | F19: =E19+1 -> 6 | G19: =F19+1 -> 7 | H19: =G19+1 -> 8 | I19: =H19+1 -> 9 | ... P19: =O19+1 -> 16
A20: 1
A21: 2 | C21: Montēt PPHT iekšdarbu kanalizācijas cauruli ''WAVIN'' DN110 / 2m Līdz izvadiem no mājas | D21: gb | E21: 38
A22: 3 | C22: Montēt PPHT iekšdarbu kanalizācijas cauruli ''WAVIN'' DN110 / 1m | D22: gb | E22: 10
A23: 4 | C23: Montēt PPHT iekšdarbu kanalizācijas cauruli ''WAVIN'' DN110 / 0,5m | D23: gb | E23: 8
A24: 5 | C24: Montēt PPHT iekšdarbu kanalizācijas trejgabalu ''WAVIN'' DN110 x DN110 / 45gr | D24: gb | E24: 4
A25: 6 | C25: Montēt PPHT iekšdarbu kanalizācijas līkumu ''WAVIN'' DN110 / 45gr | D25: gb | E25: 16
A26: 7 | C26: Montēt PPHT iekšdarbu kanalizācijas revīzīju ''WAVIN'' DN110 | D26: gb | E26: 6
A27: 8 | C27: Montēt PPHT iekšdarbu kanalizācijas kompensējošo uzmavu ''WAVIN'' DN110 | D27: gb | E27: 8
A28: 9 | C28: Montēt PPHT iekšdarbu kanalizācijas pāreju ar redukciju uz ķetu ''WAVIN'' DN110 | D28: gb | E28: 8
A29: 10 | C29: Ierīkot cauruļvadu kronšteinu ar gumiju 100 - 114mm komplektā ar dībeli, redukcijas skrūvi un uzgriezni M8 | D29: kpl | E29: 90
A30: 11 | C30: Lietus kanalizācijas šahtu atvēršana, betona pārseguma atkalšana,pēc cauruļu nomaiņas aizbetonēšana un šahtas aizmūrēšana.Darba procesā radušos būvgružus utilizēt. | D30: gb | E30: 20
A31: 12 | C31: Izkalt betona grīdas posmus pagrabstāvā no kanalizācijas stāvadiem līdz izvadiem no ēkas un pēc kanalizācijas cauruļvadu nomaiņa aizcementēt izskaltos posmus.Darba procesā radušos būvgružus utilizēt. | D31: m | E31: 25
A32: 13 | C32: Demontēt ķeta kanalizācijas cauruļvadus DN110 līdz izvadam no mājas un novietot objekta pagraba telpās | D32: m | E32: 115
... A40: 21 | C40: Griezējdiski ''RASTA'' 125mm x 1mm | D40: gb | E40: 60
A41: 1 | D41: gab
A42: 1
A43: Kopā: | L43: =ROUND(SUM(L21:L40),2) -> 0 | M43: =ROUND(SUM(M21:M40),2) -> 0 | N43: =ROUND(SUM(N21:N40),2) -> 0 | O43: =ROUND(SUM(O21:O40),2) -> 0 | P43: =ROUND(SUM(P21:P40),2) -> 0
C44: Transporta izmaksas:
C45: Tiešās izmaksas kopā, t.sk. darba devēja sociālais nodoklis 23,59% | P45: =ROUND(SUM(P43:P44),2) -> 0
C46: Virsizdevumi: | P46: =ROUND(P45*F46%,2) -> 0
C47: Darbuzņēmēja peļņa: | P47: =ROUND(P45*F47%,2) -> 0
C48: Kopā bez PVN: | P48: =SUM(P45:P46)+SUM(P47:P47) -> 0
C49: PVN | F49: 21 | G49: % | P49: =ROUND(P48*F49%,2) -> 0
C50: Pavisam kopā: | P50: =ROUND(SUM(P48:P49),2) -> 0

Sheet 13.Mālkalnes 38
A1: 8.pielikums iepirkuma “Ēku iekšējās un ārējās lietus kanalizācijas sistēmu nomaiņa”, ID Nr.SIAON 2024/12-MI, Nolikumam
A4: Tehniskā specifikācija un tehniskais piedāvājums
A6: Lietus kanalizācijas sistēmas stāvadu maiņa,no jumta pārseguma līdz pagraba izvadiem no ēkas.
A7: (Darba veids vai konstruktīvā elementa nosaukums)
C9: Būves nosaukums: | D9: Daudzdzīvokļu nams
C10: Objekta adrese: | D10: Mālkalnes 38 , Ogre
C11: Pasūtītājs: | D11: Sabiedrība ar ierobežotu atbildību ''Ogres Namsaimnieks''
C12: Izpildītājs:
O13: Paredzamā budžeta summa, EUR bez PVN: | P13: ='9.pielikums Finanšu piedāvājums'!D19 -> 4711.3
O15: Pretendenta piedāvātā darbu summa, Eur bez PVN:
A17: Nr.p.k | B17: Kods | C17: Būvdarbu apraksts | D17: Mērvienība | E17: Daudzums | F17: Vienības izmaksas | L17: Kopā uz visu apjomu
F18: Laika norma (c/h) | G18: Darba samaksas likme (euro/h) | H18: Darba alga (euro) | I18: Būvizstrādājumi (euro) | J18: Mehā-nismi (euro) | K18: Kopā (euro) | L18: Darb-ietilpība (c/h) | M18: Darba alga (euro) | N18: Būvizstrādājumi (euro) | O18: Mehā-nismi (euro) | P18: Summa (euro)
A19: 1 | B19: =A19+1 -> 2 | C19: =B19+1 -> 3 | D19: =C19+1 -> 4 | E19: =D19+1 -> 5 | F19: =E19+1 -> 6 | G19: =F19+1 -> 7 | H19: =G19+1 -> 8 | I19: =H19+1 -> 9 | ... P19: =O19+1 -> 16
A20: 1
A21: 2 | C21: Montēt PPHT iekšdarbu kanalizācijas cauruli ''WAVIN'' DN110 / 2m Līdz izvadiem no mājas | D21: gb | E21: 38
A22: 3 | C22: Montēt PPHT iekšdarbu kanalizācijas cauruli ''WAVIN'' DN110 / 1m | D22: gb | E22: 10
A23: 4 | C23: Montēt PPHT iekšdarbu kanalizācijas cauruli ''WAVIN'' DN110 / 0,5m | D23: gb | E23: 8
A24: 5 | C24: Montēt PPHT iekšdarbu kanalizācijas trejgabalu ''WAVIN'' DN110 x DN110 / 45gr | D24: gb | E24: 4
A25: 6 | C25: Montēt PPHT iekšdarbu kanalizācijas līkumu ''WAVIN'' DN110 / 45gr | D25: gb | E25: 16
A26: 7 | C26: Montēt PPHT iekšdarbu kanalizācijas revīzīju ''WAVIN'' DN110 | D26: gb | E26: 6
A27: 8 | C27: Montēt PPHT iekšdarbu kanalizācijas kompensējošo uzmavu ''WAVIN'' DN110 | D27: gb | E27: 8
A28: 9 | C28: Montēt PPHT iekšdarbu kanalizācijas pāreju ar redukciju uz ķetu ''WAVIN'' DN110 | D28: gb | E28: 8
A29: 10 | C29: Ierīkot cauruļvadu kronšteinu ar gumiju 100 - 114mm komplektā ar dībeli, redukcijas skrūvi un uzgriezni M8 | D29: kpl | E29: 90
A30: 11 | C30: Lietus kanalizācijas šahtu atvēršana, betona pārseguma atkalšana,pēc cauruļu nomaiņas aizbetonēšana un šahtas aizmūrēšana.Darba procesā radušos būvgružus utilizēt. | D30: gb | E30: 20
A31: 12 | C31: Izkalt betona grīdas posmus pagrabstāvā no kanalizācijas stāvadiem līdz izvadiem no ēkas un pēc kanalizācijas cauruļvadu nomaiņa aizcementēt izskaltos posmus.Darba procesā radušos būvgružus utilizēt. | D31: m | E31: 25
A32: 13 | C32: Demontēt ķeta kanalizācijas cauruļvadus DN110 līdz izvadam no mājas un novietot objekta pagraba telpās | D32: m | E32: 115
... A40: 21 | C40: Griezējdiski ''RASTA'' 125mm x 1mm | D40: gb | E40: 60
A41: 1 | D41: gab
A42: 1
A43: Kopā: | L43: =ROUND(SUM(L21:L40),2) -> 0 | M43: =ROUND(SUM(M21:M40),2) -> 0 | N43: =ROUND(SUM(N21:N40),2) -> 0 | O43: =ROUND(SUM(O21:O40),2) -> 0 | P43: =ROUND(SUM(P21:P40),2) -> 0
C44: Transporta izmaksas:
C45: Tiešās izmaksas kopā, t.sk. darba devēja sociālais nodoklis 23,59% | P45: =ROUND(SUM(P43:P44),2) -> 0
C46: Virsizdevumi: | P46: =ROUND(P45*F46%,2) -> 0
C47: Darbuzņēmēja peļņa: | P47: =ROUND(P45*F47%,2) -> 0
C48: Kopā bez PVN: | P48: =SUM(P45:P46)+SUM(P47:P47) -> 0
C49: PVN | F49: 21 | G49: % | P49: =ROUND(P48*F49%,2) -> 0
C50: Pavisam kopā: | P50: =ROUND(SUM(P48:P49),2) -> 0

Sheet 14.Meža 4
A1: 8.pielikums iepirkuma “Ēku iekšējās un ārējās lietus kanalizācijas sistēmu nomaiņa”, ID Nr.SIAON 2024/12-MI, Nolikumam
A4: Tehniskā specifikācija un tehniskais piedāvājums
A6: Lietus kanalizācijas sistēmas stāvadu maiņa,no jumta pārseguma līdz pagraba izvadiem no ēkas.
A7: (Darba veids vai konstruktīvā elementa nosaukums)
C9: Būves nosaukums: | D9: Daudzdzīvokļu nams
C10: Objekta adrese: | D10: Meža prospekts 4 , Ogre
C11: Pasūtītājs: | D11: Sabiedrība ar ierobežotu atbildību ''Ogres Namsaimnieks''
C12: Izpildītājs:
O13: Paredzamā budžeta summa, EUR bez PVN: | P13: ='9.pielikums Finanšu piedāvājums'!D20 -> 7267.26
O15: Pretendenta piedāvātā darbu summa, Eur bez PVN:
A17: Nr.p.k | B17: Kods | C17: Būvdarbu apraksts | D17: Mērvienība | E17: Daudzums | F17: Vienības izmaksas | L17: Kopā uz visu apjomu
F18: Laika norma (c/h) | G18: Darba samaksas likme (euro/h) | H18: Darba alga (euro) | I18: Būvizstrādājumi (euro) | J18: Mehā-nismi (euro) | K18: Kopā (euro) | L18: Darb-ietilpība (c/h) | M18: Darba alga (euro) | N18: Būvizstrādājumi (euro) | O18: Mehā-nismi (euro) | P18: Summa (euro)
A19: 1 | B19: =A19+1 -> 2 | C19: =B19+1 -> 3 | D19: =C19+1 -> 4 | E19: =D19+1 -> 5 | F19: =E19+1 -> 6 | G19: =F19+1 -> 7 | H19: =G19+1 -> 8 | I19: =H19+1 -> 9 | ... P19: =O19+1 -> 16
A20: 1
A21: 2 | C21: Montēt PPHT iekšdarbu kanalizācijas cauruli ''WAVIN'' DN110 / 2m Līdz izvadiem no mājas | D21: gb | E21: 26
A22: 3 | C22: Montēt PPHT iekšdarbu kanalizācijas cauruli ''WAVIN'' DN110 / 1m | D22: gb | E22: 8
A23: 4 | C23: Montēt PPHT iekšdarbu kanalizācijas cauruli ''WAVIN'' DN110 / 0,5m | D23: gb | E23: 6
A24: 5 | C24: Montēt PPHT iekšdarbu kanalizācijas trejgabalu ''WAVIN'' DN110 x DN110 / 45gr | D24: gb | E24: 3
A25: 6 | C25: Montēt PPHT iekšdarbu kanalizācijas līkumu ''WAVIN'' DN110 / 45gr | D25: gb | E25: 12
A26: 7 | C26: Montēt PPHT iekšdarbu kanalizācijas revīzīju ''WAVIN'' DN110 | D26: gb | E26: 6
A27: 8 | C27: Montēt PPHT iekšdarbu kanalizācijas kompensējošo uzmavu ''WAVIN'' DN110 | D27: gb | E27: 3
A28: 9 | C28: Montēt PPHT iekšdarbu kanalizācijas pāreju ar redukciju uz ķetu ''WAVIN'' DN110 | D28: gb | E28: 3
A29: 10 | C29: Ierīkot cauruļvadu kronšteinu ar gumiju 100 - 114mm komplektā ar dībeli, redukcijas skrūvi un uzgriezni M8 | D29: kpl | E29: 65
A30: 11 | C30: Lietus kanalizācijas šahtu atvēršana un aizvēršana kāpņu telpās. | D30: gb | E30: 15
A31: 12 | C31: Izkalt betona grīdas posmus pagrabstāvā no kanalizācijas stāvadiem līdz izvadiem no ēkas un pēc kanalizācijas cauruļvadu nomaiņa aizcementēt izskaltos posmus.Darba procesā radušos būvgružus utilizēt. | D31: m | E31: 18
A32: 13 | C32: Demontēt ķeta kanalizācijas cauruļvadus DN110 līdz izvadam no mājas un novietot objekta pagraba telpās | D32: m | E32: 80
... A40: 21 | C40: Griezējdiski ''RASTA'' 125mm x 1mm | D40: gb | E40: 30
A41: 1 | D41: gab
A42: 1
A43: Kopā: | L43: =ROUND(SUM(L21:L40),2) -> 0 | M43: =ROUND(SUM(M21:M40),2) -> 0 | N43: =ROUND(SUM(N21:N40),2) -> 0 | O43: =ROUND(SUM(O21:O40),2) -> 0 | P43: =ROUND(SUM(P21:P40),2) -> 0
C44: Transporta izmaksas:
C45: Tiešās izmaksas kopā, t.sk. darba devēja sociālais nodoklis 23,59% | P45: =ROUND(SUM(P43:P44),2) -> 0
C46: Virsizdevumi: | P46: =ROUND(P45*F46%,2) -> 0
C47: Darbuzņēmēja peļņa: | P47: =ROUND(P45*F47%,2) -> 0
C48: Kopā bez PVN: | P48: =SUM(P45:P46)+SUM(P47:P47) -> 0
C49: PVN | F49: 21 | G49: % | P49: =ROUND(P48*F49%,2) -> 0
C50: Pavisam kopā: | P50: =ROUND(SUM(P48:P49),2) -> 0

Sheet 15.Meža 4a
A1: 8.pielikums iepirkuma “Ēku iekšējās un ārējās lietus kanalizācijas sistēmu nomaiņa”, ID Nr.SIAON 2024/12-MI, Nolikumam
A4: Tehniskā specifikācija un tehniskais piedāvājums
A6: Lietus kanalizācijas sistēmas stāvadu maiņa,no jumta pārseguma līdz pagraba izvadiem no ēkas.
A7: (Darba veids vai konstruktīvā elementa nosaukums)
C9: Būves nosaukums: | D9: Daudzdzīvokļu nams
C10: Objekta adrese: | D10: Meža prospekts 4a , Ogre
C11: Pasūtītājs: | D11: Sabiedrība ar ierobežotu atbildību ''Ogres Namsaimnieks''
C12: Izpildītājs:
O13: Paredzamā budžeta summa, EUR bez PVN: | P13: ='9.pielikums Finanšu piedāvājums'!D21 -> 3377.28
O15: Pretendenta piedāvātā darbu summa, Eur bez PVN:
A17: Nr.p.k | B17: Kods | C17: Būvdarbu apraksts | D17: Mērvienība | E17: Daudzums | F17: Vienības izmaksas | L17: Kopā uz visu apjomu
F18: Laika norma (c/h) | G18: Darba samaksas likme (euro/h) | H18: Darba alga (euro) | I18: Būvizstrādājumi (euro) | J18: Mehā-nismi (euro) | K18: Kopā (euro) | L18: Darb-ietilpība (c/h) | M18: Darba alga (euro) | N18: Būvizstrādājumi (euro) | O18: Mehā-nismi (euro) | P18: Summa (euro)
A19: 1 | B19: =A19+1 -> 2 | C19: =B19+1 -> 3 | D19: =C19+1 -> 4 | E19: =D19+1 -> 5 | F19: =E19+1 -> 6 | G19: =F19+1 -> 7 | H19: =G19+1 -> 8 | I19: =H19+1 -> 9 | ... P19: =O19+1 -> 16
A20: 1
A21: 2 | C21: Montēt PPHT iekšdarbu kanalizācijas cauruli ''WAVIN'' DN110 / 2m Līdz izvadiem no mājas | D21: gb | E21: 32
A22: 3 | C22: Montēt PPHT iekšdarbu kanalizācijas cauruli ''WAVIN'' DN110 / 1m | D22: gb | E22: 8
A23: 4 | C23: Montēt PPHT iekšdarbu kanalizācijas cauruli ''WAVIN'' DN110 / 0,5m | D23: gb | E23: 8
A24: 5 | C24: Montēt PPHT iekšdarbu kanalizācijas trejgabalu ''WAVIN'' DN110 x DN110 / 45gr | D24: gb | E24: 6
A25: 6 | C25: Montēt PPHT iekšdarbu kanalizācijas līkumu ''WAVIN'' DN110 / 45gr | D25: gb | E25: 18
A26: 7 | C26: Montēt PPHT iekšdarbu kanalizācijas revīzīju ''WAVIN'' DN110 | D26: gb | E26: 6
A27: 8 | C27: Montēt PPHT iekšdarbu kanalizācijas kompensējošo uzmavu ''WAVIN'' DN110 | D27: gb | E27: 6
A28: 9 | C28: Montēt PPHT iekšdarbu kanalizācijas pāreju ar redukciju uz ķetu ''WAVIN'' DN110 | D28: gb | E28: 6
A29: 10 | C29: Ierīkot cauruļvadu kronšteinu ar gumiju 100 - 114mm komplektā ar dībeli, redukcijas skrūvi un uzgriezni M8 | D29: kpl | E29: 76
A30: 11 | C30: Lietus kanalizācijas šahtu atvēršana un aizvēršana kāpņu telpās,būvgružu utelizēšana | D30: gb | E30: 15
A31: 12 | C31: Izkalt betona grīdas posmus pagrabstāvā no kanalizācijas stāvadiem līdz izvadiem no ēkas un pēc kanalizācijas cauruļvadu nomaiņa aizcementēt izskaltos posmus.Darba procesā radušos būvgružus utilizēt. | D31: m | E31: 18
A32: 13 | C32: Demontēt ķeta kanalizācijas cauruļvadus DN110 līdz izvadam no mājas un novietot objekta pagraba telpās | D32: m | E32: 95
... A40: 21 | C40: Griezējdiski ''RASTA'' 125mm x 1mm | D40: gb | E40: 30
A41: 1 | D41: gab
A42: 1
A43: Kopā: | L43: =ROUND(SUM(L21:L40),2) -> 0 | M43: =ROUND(SUM(M21:M40),2) -> 0 | N43: =ROUND(SUM(N21:N40),2) -> 0 | O43: =ROUND(SUM(O21:O40),2) -> 0 | P43: =ROUND(SUM(P21:P40),2) -> 0
C44: Transporta izmaksas:
C45: Tiešās izmaksas kopā, t.sk. darba devēja sociālais nodoklis 23,59% | P45: =ROUND(SUM(P43:P44),2) -> 0
C46: Virsizdevumi: | P46: =ROUND(P45*F46%,2) -> 0
C47: Darbuzņēmēja peļņa: | P47: =ROUND(P45*F47%,2) -> 0
C48: Kopā bez PVN: | P48: =SUM(P45:P46)+SUM(P47:P47) -> 0
C49: PVN | F49: 21 | G49: % | P49: =ROUND(P48*F49%,2) -> 0
C50: Pavisam kopā: | P50: =ROUND(SUM(P48:P49),2) -> 0

Sheet 16.Parka 10
A1: 8.pielikums iepirkuma “Ēku iekšējās un ārējās lietus kanalizācijas sistēmu nomaiņa”, ID Nr.SIAON 2024/12-MI, Nolikumam
A4: Tehniskā specifikācija un tehniskais piedāvājums
A6: Lietus kanalizācijas sistēmas stāvadu maiņa,no jumta pārseguma līdz pagraba izvadiem no ēkas.
A7: (Darba veids vai konstruktīvā elementa nosaukums)
C9: Būves nosaukums: | D9: Daudzdzīvokļu nams
C10: Objekta adrese: | D10: Parka iela 10 , Ogre
C11: Pasūtītājs: | D11: Sabiedrība ar ierobežotu atbildību ''Ogres Namsaimnieks''
C12: Izpildītājs:
O13: Paredzamā budžeta summa, EUR bez PVN: | P13: ='9.pielikums Finanšu piedāvājums'!D22 -> 3377.28
O15: Pretendenta piedāvātā darbu summa, Eur bez PVN:
A17: Nr.p.k | B17: Kods | C17: Būvdarbu apraksts | D17: Mērvienība | E17: Daudzums | F17: Vienības izmaksas | L17: Kopā uz visu apjomu
F18: Laika norma (c/h) | G18: Darba samaksas likme (euro/h) | H18: Darba alga (euro) | I18: Būvizstrādājumi (euro) | J18: Mehā-nismi (euro) | K18: Kopā (euro) | L18: Darb-ietilpība (c/h) | M18: Darba alga (euro) | N18: Būvizstrādājumi (euro) | O18: Mehā-nismi (euro) | P18: Summa (euro)
A19: 1 | B19: =A19+1 -> 2 | C19: =B19+1 -> 3 | D19: =C19+1 -> 4 | E19: =D19+1 -> 5 | F19: =E19+1 -> 6 | G19: =F19+1 -> 7 | H19: =G19+1 -> 8 | I19: =H19+1 -> 9 | ... P19: =O19+1 -> 16
A20: 1
A21: 2 | C21: Montēt PPHT iekšdarbu kanalizācijas cauruli ''WAVIN'' DN110 / 2m Līdz izvadiem no mājas | D21: gb | E21: 36
A22: 3 | C22: Montēt PPHT iekšdarbu kanalizācijas cauruli ''WAVIN'' DN110 / 1m | D22: gb | E22: 10
A23: 4 | C23: Montēt PPHT iekšdarbu kanalizācijas cauruli ''WAVIN'' DN110 / 0,5m | D23: gb | E23: 8
A24: 5 | C24: Montēt PPHT iekšdarbu kanalizācijas trejgabalu ''WAVIN'' DN110 x DN110 / 45gr | D24: gb | E24: 4
A25: 6 | C25: Montēt PPHT iekšdarbu kanalizācijas līkumu ''WAVIN'' DN110 / 45gr | D25: gb | E25: 12
A26: 7 | C26: Montēt PPHT iekšdarbu kanalizācijas revīzīju ''WAVIN'' DN110 | D26: gb | E26: 8
A27: 8 | C27: Montēt PPHT iekšdarbu kanalizācijas kompensējošo uzmavu ''WAVIN'' DN110 | D27: gb | E27: 4
A28: 9 | C28: Montēt PPHT iekšdarbu kanalizācijas pāreju ar redukciju uz ķetu ''WAVIN'' DN110 | D28: gb | E28: 4
A29: 10 | C29: Ierīkot cauruļvadu kronšteinu ar gumiju 100 - 114mm komplektā ar dībeli, redukcijas skrūvi un uzgriezni M8 | D29: kpl | E29: 85
A30: 11 | C30: Lietus kanalizācijas šahtu atvēršana un aizvēršana kāpņu telpās,būvgružu utelizēšana | D30: gb | E30: 20
A31: 12 | C31: Demontēt ķeta kanalizācijas cauruļvadus DN110 līdz izvadam no mājas un novietot objekta pagraba telpās | D31: m | E31: 118
A32: 13 | C32: Montēt konsoli 80mm ar spēka plecu caurules nostiprināšanai | D32: gb | E32: 10
... A39: 20 | C39: Griezējdiski ''RASTA'' 125mm x 1mm | D39: gb | E39: 40
A40: 21 | D40: gab
A41: 22
A42: Kopā: | L42: =ROUND(SUM(L21:L39),2) -> 0 | M42: =ROUND(SUM(M21:M39),2) -> 0 | N42: =ROUND(SUM(N21:N39),2) -> 0 | O42: =ROUND(SUM(O21:O39),2) -> 0 | P42: =ROUND(SUM(P21:P39),2) -> 0
C43: Transporta izmaksas:
C44: Tiešās izmaksas kopā, t.sk. darba devēja sociālais nodoklis 23,59% | P44: =ROUND(SUM(P42:P43),2) -> 0
C45: Virsizdevumi: | P45: =ROUND(P44*F45%,2) -> 0
C46: Darbuzņēmēja peļņa: | P46: =ROUND(P44*F46%,2) -> 0
C47: Kopā bez PVN: | P47: =SUM(P44:P45)+SUM(P46:P46) -> 0
C48: PVN | F48: 21 | G48: % | P48: =ROUND(P47*F48%,2) -> 0
C49: Pavisam kopā: | P49: =ROUND(SUM(P47:P48),2) -> 0

Sheet 17.Turkalnes 13
A1: 8.pielikums iepirkuma “Ēku iekšējās un ārējās lietus kanalizācijas sistēmu nomaiņa”, ID Nr.SIAON 2024/12-MI, Nolikumam
A4: Tehniskā specifikācija un tehniskais piedāvājums
A6: Lietus kanalizācijas sistēmas stāvadu maiņa,no jumta pārseguma līdz pagraba izvadiem no ēkas.
A7: (Darba veids vai konstruktīvā elementa nosaukums)
C9: Būves nosaukums: | D9: Daudzdzīvokļu nams
C10: Objekta adrese: | D10: Turkalnes iela 13 ,Ogre
C11: Pasūtītājs: | D11: Sabiedrība ar ierobežotu atbildību ''Ogres Namsaimnieks''
C12: Izpildītājs:
O13: Paredzamā budžeta summa, EUR bez PVN: | P13: ='9.pielikums Finanšu piedāvājums'!D23 -> 5754.82
O15: Pretendenta piedāvātā darbu summa, Eur bez PVN:
A17: Nr.p.k | B17: Kods | C17: Būvdarbu apraksts | D17: Mērvienība | E17: Daudzums | F17: Vienības izmaksas | L17: Kopā uz visu apjomu
F18: Laika norma (c/h) | G18: Darba samaksas likme (euro/h) | H18: Darba alga (euro) | I18: Būvizstrādājumi (euro) | J18: Mehā-nismi (euro) | K18: Kopā (euro) | L18: Darb-ietilpība (c/h) | M18: Darba alga (euro) | N18: Būvizstrādājumi (euro) | O18: Mehā-nismi (euro) | P18: Summa (euro)
A19: 1 | B19: =A19+1 -> 2 | C19: =B19+1 -> 3 | D19: =C19+1 -> 4 | E19: =D19+1 -> 5 | F19: =E19+1 -> 6 | G19: =F19+1 -> 7 | H19: =G19+1 -> 8 | I19: =H19+1 -> 9 | ... P19: =O19+1 -> 16
A20: 1
A21: 2 | C21: Montēt PPHT iekšdarbu kanalizācijas cauruli ''WAVIN'' DN110 / 2m Līdz izvadiem no mājas | D21: gb | E21: 18
A22: 3 | C22: Montēt PPHT iekšdarbu kanalizācijas cauruli ''WAVIN'' DN110 / 1m | D22: gb | E22: 6
A23: 4 | C23: Montēt PPHT iekšdarbu kanalizācijas cauruli ''WAVIN'' DN110 / 0,5m | D23: gb | E23: 5
A24: 5 | C24: Montēt PPHT iekšdarbu kanalizācijas trejgabalu ''WAVIN'' DN110 x DN110 / 45gr | D24: gb | E24: 4
A25: 6 | C25: Montēt PPHT iekšdarbu kanalizācijas līkumu ''WAVIN'' DN110 / 45gr | D25: gb | E25: 8
A26: 7 | C26: Montēt PPHT iekšdarbu kanalizācijas revīzīju ''WAVIN'' DN110 | D26: gb | E26: 4
A27: 8 | C27: Montēt PPHT iekšdarbu kanalizācijas kompensējošo uzmavu ''WAVIN'' DN110 | D27: gb | E27: 4
A28: 9 | C28: Montēt PPHT iekšdarbu kanalizācijas pāreju ar redukciju uz ķetu ''WAVIN'' DN110 | D28: gb | E28: 4
A29: 10 | C29: Ierīkot cauruļvadu kronšteinu ar gumiju 100 - 114mm komplektā ar dībeli, redukcijas skrūvi un uzgriezni M8 | D29: kpl | E29: 45
A30: 11 | C30: Lietus kanalizācijas šahtu atvēršana, betona pārseguma atkalšana,pēc cauruļu nomaiņas aizbetonēšana un šahtas aizmūrēšana.Darba procesā radušos būvgružus utilizēt. | D30: gb | E30: 10
A31: 12 | C31: Izkalt betona grīdas posmus pagrabstāvā no kanalizācijas stāvadiem līdz izvadiem no ēkas un pēc kanalizācijas cauruļvadu nomaiņa aizcementēt izskaltos posmus.Darba procesā radušos būvgružus utilizēt. | D31: m | E31: 14
A32: 13 | C32: Demontēt ķeta kanalizācijas cauruļvadus DN110 līdz izvadam no mājas un novietot objekta pagraba telpās | D32: m | E32: 60
... A40: 21 | C40: Griezējdiski ''RASTA'' 125mm x 1mm | D40: gb | E40: 20
A41: 22 | D41: gab
A42: 23
A43: Kopā: | L43: =ROUND(SUM(L21:L40),2) -> 0 | M43: =ROUND(SUM(M21:M40),2) -> 0 | N43: =ROUND(SUM(N21:N40),2) -> 0 | O43: =ROUND(SUM(O21:O40),2) -> 0 | P43: =ROUND(SUM(P21:P40),2) -> 0
C44: Transporta izmaksas:
C45: Tiešās izmaksas kopā, t.sk. darba devēja sociālais nodoklis 23,59% | P45: =ROUND(SUM(P43:P44),2) -> 0
C46: Virsizdevumi: | P46: =ROUND(P45*F46%,2) -> 0
C47: Darbuzņēmēja peļņa: | P47: =ROUND(P45*F47%,2) -> 0
C48: Kopā bez PVN: | P48: =SUM(P45:P46)+SUM(P47:P47) -> 0
C49: PVN | F49: 21 | G49: % | P49: =ROUND(P48*F49%,2) -> 0
C50: Pavisam kopā: | P50: =ROUND(SUM(P48:P49),2) -> 0

Sheet 18.Uzvaras 4
A1: 8.pielikums iepirkuma “Ēku iekšējās un ārējās lietus kanalizācijas sistēmu nomaiņa”, ID Nr.SIAON 2024/12-MI, Nolikumam
A4: Tehniskā specifikācija un tehniskais piedāvājums
H6: Noteku un notekcauruļu nomaiņas darbi ( ēkas pagalma pusē )
A7: (Darba veids vai konstruktīvā elementa nosaukums)
C9: Būves nosaukums: | D9: Daudzdzīvokļu nams
C10: Objekta adrese: | D10: Uzvaras iela 4, Ogre
C11: Pasūtītājs: | D11: Sabiedrība ar ierobežotu atbildību ''Ogres Namsaimnieks''
C12: Izpildītājs:
O13: Paredzamā budžeta summa, EUR bez PVN: | P13: 2570.46
O15: Pretendenta piedāvātā darbu summa, Eur bez PVN: | P15: =P45 -> 0
A17: Nr.p.k | B17: Kods | C17: Būvdarbu apraksts | D17: Mērvienība | E17: Daudzums | F17: Vienības izmaksas | L17: Kopā uz visu apjomu
F18: Laika norma (c/h) | G18: Darba samaksas likme (euro/h) | H18: Darba alga (euro) | I18: Būvizstrādājumi (euro) | J18: Mehā-nismi (euro) | K18: Kopā (euro) | L18: Darb-ietilpība (c/h) | M18: Darba alga (euro) | N18: Būvizstrādājumi (euro) | O18: Mehā-nismi (euro) | P18: Summa (euro)
A19: 1 | B19: =A19+1 -> 2 | C19: =B19+1 -> 3 | D19: =C19+1 -> 4 | E19: =D19+1 -> 5 | F19: =E19+1 -> 6 | G19: =F19+1 -> 7 | H19: =G19+1 -> 8 | I19: =H19+1 -> 9 | ... P19: =O19+1 -> 16
A21: 1 | C21: Esošo tekņu un notekcauruļu demontāža ( ēkas pagalma pusē ) | D21: m | E21: 60
A22: 2 | C22: Tekņu stiprinājumu pamatnes izbūve | D22: m | E22: 33
C23: Zāģmateriāli 25x150x3000mm | D23: m3 | E23: 0.15
C24: Montāžas materiāli | D24: m | E24: 33
A25: 3 | C25: Tekņu montāža | D25: m | E25: 33
C26: Tekne 125mm | D26: m | E26: 35
C27: Teknes āķis īsais Zn 125mm | D27: gb | E27: 35
C28: Teknes galu vāki | D28: gb | E28: 2
C29: Montāžas materiāli | D29: m | E29: 33
A30: 4 | C30: Notekcauruļu montāža | D30: m | E30: 27
C31: Piltuve figurālā 125/100mm | D31: gb | E31: 3
C32: Notekcaurule 100mm | D32: m | E32: 29
C33: Notekcaurules līkums( valcēts) | D33: gb | E33: 6
C34: Notekcaurules līkums apakšējais | D34: gb | E34: 3
C35: Notekcaurules kronšteins ar tapskrūvi | D35: gb | E35: 19
C36: Montāžas materiāli | D36: m | E36: 27
A37: 5 | C37: Objekta sakārtošana, gružu savākšana, utilizācija | D37: obj. | E37: 1
A38: 66 | D38: gab
A39: Kopā:
C40: Transporta izmaksas: | D40: obj | E40: 1
C41: Pacēlāja izmaksas | D41: kompl | E41: 1
C42: Tiešās izmaksas kopā, t.sk. darba devēja sociālais nodoklis 23.59%
C43: Virsizdevumi:
C44: Darbuzņēmēja peļņa:
C45: Kopā bez PVN:
C46: PVN | F46: 21 | G46: %
C47: Pavisam kopā:

Sheet 19.Vidus 20
A1: 8.pielikums iepirkuma “Ēku iekšējās un ārējās lietus kanalizācijas sistēmu nomaiņa”, ID Nr.SIAON 2024/12-MI, Nolikumam
A3: Tehniskā specifikācija un tehniskais piedāvājums
A5: Lietus kanalizācijas sistēmas stāvadu maiņa,no jumta pārseguma līdz pagraba izvadiem no ēkas.
A6: (Darba veids vai konstruktīvā elementa nosaukums)
C8: Būves nosaukums: | D8: Daudzdzīvokļu nams
C9: Objekta adrese: | D9: Vidus prospekts 20 , Ogre
C10: Pasūtītājs: | D10: Sabiedrība ar ierobežotu atbildību ''Ogres Namsaimnieks''
C11: Izpildītājs:
O12: Paredzamā budžeta summa, EUR bez PVN: | P12: ='9.pielikums Finanšu piedāvājums'!D25 -> 5416.03
O14: Pretendenta piedāvātā darbu summa, Eur bez PVN:
A16: Nr.p.k | B16: Kods | C16: Būvdarbu apraksts | D16: Mērvienība | E16: Daudzums | F16: Vienības izmaksas | L16: Kopā uz visu apjomu
F17: Laika norma (c/h) | G17: Darba samaksas likme (euro/h) | H17: Darba alga (euro) | I17: Būvizstrādājumi (euro) | J17: Mehā-nismi (euro) | K17: Kopā (euro) | L17: Darb-ietilpība (c/h) | M17: Darba alga (euro) | N17: Būvizstrādājumi (euro) | O17: Mehā-nismi (euro) | P17: Summa (euro)
A18: 1 | B18: =A18+1 -> 2 | C18: =B18+1 -> 3 | D18: =C18+1 -> 4 | E18: =D18+1 -> 5 | F18: =E18+1 -> 6 | G18: =F18+1 -> 7 | H18: =G18+1 -> 8 | I18: =H18+1 -> 9 | ... P18: =O18+1 -> 16
A19: 1
A20: 2 | C20: Montēt PPHT iekšdarbu kanalizācijas cauruli ''WAVIN'' DN110 / 2m Līdz izvadiem no mājas | D20: gb | E20: 30
A21: 3 | C21: Montēt PPHT iekšdarbu kanalizācijas cauruli ''WAVIN'' DN110 / 1m | D21: gb | E21: 6
A22: 4 | C22: Montēt PPHT iekšdarbu kanalizācijas cauruli ''WAVIN'' DN110 / 0,5m | D22: gb | E22: 6
A23: 5 | C23: Montēt PPHT iekšdarbu kanalizācijas trejgabalu ''WAVIN'' DN110 x DN110 / 45gr | D23: gb | E23: 4
A24: 6 | C24: Montēt PPHT iekšdarbu kanalizācijas līkumu ''WAVIN'' DN110 / 45gr | D24: gb | E24: 5
A25: 7 | C25: Montēt PPHT iekšdarbu kanalizācijas revīzīju ''WAVIN'' DN110 | D25: gb | E25: 4
A26: 8 | C26: Montēt PPHT iekšdarbu kanalizācijas kompensējošo uzmavu ''WAVIN'' DN110 | D26: gb | E26: 5
A27: 9 | C27: Montēt PPHT iekšdarbu kanalizācijas pāreju ar redukciju uz ķetu ''WAVIN'' DN110 | D27: gb | E27: 2
A28: 10 | C28: Ierīkot cauruļvadu kronšteinu ar gumiju 100 - 114mm komplektā ar dībeli, redukcijas skrūvi un uzgriezni M8 | D28: kpl | E28: 70
A29: 11 | C29: Lietus kanalizācijas šahtu atvēršana,betona pārseguma atkalšana,pēc cauruļu nomaiņas aizbetonēšana un šahtas aizvēršana.Darba procesā radušos būvgružus utilizēt. | D29: gb | E29: 18
A30: 12 | C30: Demontēt ķeta kanalizācijas cauruļvadus DN110 līdz izvadam no mājas un novietot objekta pagraba telpās | D30: m | E30: 70
A31: 13 | C31: Montēt konsoli 80mm ar spēka plecu caurules nostiprināšanai | D31: gb | E31: 12
... A38: 20 | C38: Griezējdiski ''RASTA'' 125mm x 1mm | D38: gb | E38: 40
A39: 21 | D39: gab
A40: 22
A41: Kopā: | L41: =ROUND(SUM(L20:L38),2) -> 0 | M41: =ROUND(SUM(M20:M38),2) -> 0 | N41: =ROUND(SUM(N20:N38),2) -> 0 | O41: =ROUND(SUM(O20:O38),2) -> 0 | P41: =ROUND(SUM(P20:P38),2) -> 0
C42: Transporta izmaksas:
C43: Tiešās izmaksas kopā, t.sk. darba devēja sociālais nodoklis 23,59% | P43: =ROUND(SUM(P41:P42),2) -> 0
C44: Virsizdevumi: | P44: =ROUND(P43*F44%,2) -> 0
C45: Darbuzņēmēja peļņa: | P45: =ROUND(P43*F45%,2) -> 0
C46: Kopā bez PVN: | P46: =SUM(P43:P44)+SUM(P45:P45) -> 0
C47: PVN | F47: 21 | G47: % | P47: =ROUND(P46*F47%,2) -> 0
C48: Pavisam kopā: | P48: =ROUND(SUM(P46:P47),2) -> 0

Sheet 20.Zaķu iela 2
A1: 8.pielikums iepirkuma “Ēku iekšējās un ārējās lietus kanalizācijas sistēmu nomaiņa”, ID Nr.SIAON 2024/12-MI, Nolikumam
A4: Tehniskā specifikācija un tehniskais piedāvājums
C6: Notekcauruļu nomaiņa
A7: (Darba veids vai konstruktīvā elementa nosaukums)
C9: Būves nosaukums: | D9: Daudzdzīvokļu nams
C10: Objekta adrese: | D10: Zaķu iela 2, Ogre
C11: Pasūtītājs: | D11: Sabiedrība ar ierobežotu atbildību ''Ogres Namsaimnieks''
C12: Izpildītājs:
O13: Paredzamā budžeta summa, EUR bez PVN: | P13: 2950.76
O15: Pretendenta piedāvātā darbu summa, Eur bez PVN: | P15: =P35 -> 0
A17: Nr.p.k | B17: Kods | C17: Būvdarbu apraksts | D17: Mērvienība | E17: Daudzums | F17: Vienības izmaksas | L17: Kopā uz visu apjomu
F18: Laika norma (c/h) | G18: Darba samaksas likme (euro/h) | H18: Darba alga (euro) | I18: Būvizstrādājumi (euro) | J18: Mehā-nismi (euro) | K18: Kopā (euro) | L18: Darb-ietilpība (c/h) | M18: Darba alga (euro) | N18: Būvizstrādājumi (euro) | O18: Mehā-nismi (euro) | P18: Summa (euro)
A19: 1 | B19: =A19+1 -> 2 | C19: =B19+1 -> 3 | D19: =C19+1 -> 4 | E19: =D19+1 -> 5 | F19: =E19+1 -> 6 | G19: =F19+1 -> 7 | H19: =G19+1 -> 8 | I19: =H19+1 -> 9 | ... P19: =O19+1 -> 16
A21: 1 | C21: Notekcauruļu montāža | D21: m | E21: 68
C22: Notekcaurule 100mm RR-32 | D22: m | E22: 68
C23: Notekcaurules līkums( valcēts) | D23: gb | E23: 7
C24: Notekcaurules līkums apakšējais | D24: gb | E24: 8
C25: Notekcaurules kronšteins ar tapskrūvi | D25: gb | E25: 37
C26: Montāžas materiāli | D26: m | E26: 68
A27: 2 | C27: Objekta sakārtošana, gružu savākšana utilizācija | D27: obj | E27: 1
A28: 57 | D28: gab
A29: Kopā:
C30: Transporta izmaksas: | D30: obj | E30: 1
C31: Pacēlāja izmaksas | D31: kompl | E31: 1
C32: Tiešās izmaksas kopā, t.sk. darba devēja sociālais nodoklis 23.59%
C33: Virsizdevumi:
C34: Darbuzņēmēja peļņa:
C35: Kopā bez PVN:
C36: PVN | F36: 21 | G36: %
C37: Pavisam kopā:
