Workbook

Sheet 9.pielikums Finanšu piedāvājums
A1: 9.pielikums iepirkuma “Ēku logu un durvju nomaiņa pret PVC logiem un durvīm”, iepirkuma identifikācijas Nr.SIAON 2024/11-MI, Nolikumam
A3: FINANŠU PIEDĀVĀJUMS
A4: ____________________(pretendenta nosaukums, reģistrācijas nr.) piedāvājam veikt iepirkumā “Ēku logu un durvju nomaiņa pret PVC logiem un durvīm”, iepirkuma identifikācijas Nr.SIAON 2024/11-MI minētos darbus, saskaņā ar iepirkuma nolikumu un tā pielikumiem, tajā noteiktajā laikā un veidā par šādu līgumcenu:
A5: Nr. p. k. | B5: Dzīvojamās mājas adrese Ogrē | C5: Darbu nosaukums | D5: Pretendenta piedāvātā darbu summa, EUR bez PVN
A6: 1 | B6: GRĪVAS PROSPEKTS 23 | C6: Pagraba un vējtvera durvju nomaiņa pret PVC durvīm | D6: ='1.Grīvas pr. 23'!P14 -> 0
A7: 2 | B7: MĀLKALNES PROSPEKTS 4 | C7: Vējtveru durvju noma pret PVC durvīm | D7: ='2.Mālkalnes pr. 4'!P16 -> 0
A8: 3 | B8: MĀLKALNES PROSPEKTS 19 | C8: Vējtveru durvju nomaiņa pret PVC durvīm | D8: ='3.Mālkalnes pr. 19'!P14 -> 0
A9: 4 | B9: MĀLKALNES PROSPEKTS 35 | C9: Vējtveru durvju nomaiņa pret PVC durvīm | D9: ='4.Mālkalnes pr. 35'!P15 -> 0
A10: 5 | B10: SKOLAS IELA 5 | C10: Vējtveru durvju nomaiņa pret PVC durvīm | D10: ='5.Skolas iela 5'!P15 -> 0
A11: 6 | B11: SKOLAS IELA 5 | C11: Pagraba durvju nomaiņa pret PVC durvīm | D11: ='6.Skolas iela 5'!P15 -> 0
A12: 7 | B12: SKOLAS IELA 11 | C12: Pagraba durvju nomaiņa pret PVC durvīm | D12: ='7.Skolas iela 11'!P16 -> 0
A13: 8 | B13: TURKALNES IELA 3 | C13: Vējtvera durvju nomaiņa pret PVC durvīm | D13: ='8.Turkalnes iela 3'!P15 -> 0
A14: 9 | B14: TURKALNES IELA 13 | C14: Vējtvera durvju nomaiņa pret PVC durvīm | D14: ='9.Turkalnes iela 13'!P15 -> 0
A15: 10 | B15: "DOLES" | C15: Vējtvera durvju nomaiņa pret PVC durvīm | D15: ='10.Doles'!P15 -> 0
A16: 11 | B16: AUSEKĻA PROSPEKTS 2A | C16: Vējtveru durvju nomaiņa pret PVC durvīm | D16: ='11.Ausekļa 2A'!P15 -> 0
A17: 12 | B17: MĀLKALNES PROSPEKTS 14 | C17: Vējtveru un pagrabu durvju nomaiņa pret PVC durvīm | D17: ='12.Mālkalnes pr. 14'!P15 -> 0
A18: 13 | B18: MĀLKALNES PROSPEKTS 15 | C18: Vējtveru koka durvju nomaiņa pret PVC durvīm | D18: ='13.Mālkalnes pr. 15'!P15 -> 0
A19: 14 | B19: BRĪVĪBAS IELA 117 | C19: Pagraba logu nomaiņa pret PVC logiem | D19: ='14.Brīvības 117'!P15 -> 0
A20: 15 | B20: DRAUDZĪBAS IELA 12 | C20: Pagraba logu nomaiņa pret PVC logiem | D20: ='15.Draudzības 12'!P15 -> 0
A21: 16 | B21: TĪNŪŽU IELA 20 | C21: Pagraba logu nomaiņa pret PVC logiem | D21: ='16.Tīnūžu 20'!P14 -> 0
C22: Līguma summa kopā, EUR bez PVN: | D22: =SUM(D6:D21) -> 0
A23: PVN__%
A24: Summa kopā, Eur ar PVN
B26: Paraksts: __________________________________
B27: Vārds, uzvārds: ____________________________
B28: Amats: ___________________________________

Sheet 1.Grīvas pr. 23
A1: 8.pielikums iepirkuma “Ēku logu un durvju nomaiņa pret PVC logiem un durvīm”, iepirkuma identifikācijas Nr.SIAON 2024/11-MI, Nolikumam
B3: TEHNISKĀ SPECIFIKĀCIJA (LOKĀLĀ TĀME) UN TEHNISKAIS PIEDĀVĀJUMS
B4: Lokālā tāme Nr.1
B5: Piedāvājumā visas izmaksas ir jāuzrāda ar ne vairāk kā 2 (divām) decimālzīmēm aiz komata un aprēķinos pielietojot skaitļu noapaļošanas funkciju “Round”.
B6: Pagraba un vējtvera durvju nomaiņa pret PVC durvīm
A7: (Darba veids vai konstruktīvā elementa nosaukums)
C9: Būves nosaukums: | D9: Daudzdzīvokļu nams
C10: Objekta adrese: | D10: Grīvas pr. 23, Ogre
C11: Pasūtītājs: | D11: Sabiedrība ar ierobežotu atbildību ''Ogres Namsaimnieks''
C12: Izpildītājs:
O14: Pretendenta piedāvātā darbu summa, Eur bez PVN: | P14: =P37 -> 0
A16: Nr.p.k | B16: Kods | C16: Būvdarbu apraksts | D16: Mērvienība | E16: Daudzums | F16: Vienības izmaksas | L16: Kopā uz visu apjomu
F17: Laika norma (c/h) | G17: Darba samaksas likme (euro/h) | H17: Darba alga (euro) | I17: Būvizstrādājumi (euro) | J17: Mehā-nismi (euro) | K17: Kopā (euro) | L17: Darb-ietilpība (c/h) | M17: Darba alga (euro) | N17: Būvizstrādājumi (euro) | O17: Mehā-nismi (euro) | P17: Summa (euro)
A18: 1 | B18: =A18+1 -> 2 | C18: =B18+1 -> 3 | D18: =C18+1 -> 4 | E18: =D18+1 -> 5 | F18: =E18+1 -> 6 | G18: =F18+1 -> 7 | H18: =G18+1 -> 8 | I18: =H18+1 -> 9 | ... P18: =O18+1 -> 16
A20: 1 | C20: Esošo pagraba durvju demontāža, jauno durvju montāža, durvju aiļu apdare. | D20: gb | E20: 2
C21: Pagraba durvis ( ailes izmērs 940x2000mm), ar stikla pakešu logu ( 200x800mm )( RAL 7016 ),PVC 5 kameru profilu biezums ne mazāk kā 72mm, bez sliekšņa, ar birsti, 2 atdurgumiju blīvejumu, Stikla pakete ar selektīvo pārklājumu, stikla biezums - 24mm. vērtnei 3 eņģes, kustīgais rokturis( Jāprecizē durvju izmēri pirms pasūtīšanas | D21: gb | E21: 2
C22: Slēdzene Iseo pagraba durvīm | D22: kompl | E22: 2
C23: Durvju Rokturi | D23: kompl | E23: 2
C24: Palīgmateriāli | D24: kompl | E24: 2
A25: 2 | C25: Esošo vējtveru durvju demontāža, jauno durvju montāža, durvju aiļu apdare. | D25: gb | E25: 2
C26: Kāpņu telpas vējtvera durvis ( ailes izmērs 1050x2000 mm), ar stikla pakešu logu ( 200x800mm ), ( RAL 7016 ),PVC 5 kameru profilu biezums ne mazāk kā 72mm, bez sliekšņa, ar birsti, 2 atdurgumiju blīvejumu, Stikla pakete ar selektīvo pārklājumu, stikla biezums - 24mm, vērtnei 3 eņģes, kustīgais rokturis, aizvērēju ( Jāprecizē durvju izmēri pirms pasūtīšanas | D26: gb | E26: 2
C27: Durvju aizvērējs | D27: gb | E27: 2
C28: Durvju Rokturi | D28: kompl | E28: 2
C29: Palīgmateriāli | D29: kompl | E29: 2
A30: 3 | C30: Objekta sakārtošana, gružu savākšana, utilizācija | D30: obj. | E30: 1
A31: 75 | D31: gab
A32: Kopā:
C33: Transporta izmaksas:
C34: Tiešās izmaksas kopā, t.sk. darba devēja sociālais nodoklis 23,59%
C35: Virsizdevumi:
C36: Darbuzņēmēja peļņa:
C37: Kopā bez PVN:
C38: PVN
C39: Pavisam kopā:

Sheet 2.Mālkalnes pr. 4
P1: Pielikums Nr. 2
A2: Darbu apkopojums 2024. gadā veicamiem plānotiem logu un durvju nomaiņas darbiem
A3: 8.pielikums iepirkuma “Ēku logu un durvju nomaiņa pret PVC logiem un durvīm”, iepirkuma identifikācijas Nr.SIAON 2024/11-MI, Nolikumam
B5: TEHNISKĀ SPECIFIKĀCIJA (LOKĀLĀ TĀME) UN TEHNISKAIS PIEDĀVĀJUMS
B6: Lokālā tāme Nr.2
B7: Piedāvājumā visas izmaksas ir jāuzrāda ar ne vairāk kā 2 (divām) decimālzīmēm aiz komata un aprēķinos pielietojot skaitļu noapaļošanas funkciju “Round”.
C8: Vējtvera durvju nomaiņa pret PVC durvīm - 1 gb
A9: (Darba veids vai konstruktīvā elementa nosaukums)
C11: Būves nosaukums: | D11: Daudzdzīvokļu nams
C12: Objekta adrese: | D12: Mālkalnes pr. 4, Ogre
C13: Pasūtītājs: | D13: Sabiedrība ar ierobežotu atbildību ''Ogres Namsaimnieks''
C14: Izpildītājs:
O16: Pretendenta piedāvātā darbu summa, Eur bez PVN: | P16: =P34 -> 0
A18: Nr.p.k | B18: Kods | C18: Būvdarbu apraksts | D18: Mērvienība | E18: Daudzums | F18: Vienības izmaksas | L18: Kopā uz visu apjomu
F19: Laika norma (c/h) | G19: Darba samaksas likme (euro/h) | H19: Darba alga (euro) | I19: Būvizstrādājumi (euro) | J19: Mehā-nismi (euro) | K19: Kopā (euro) | L19: Darb-ietilpība (c/h) | M19: Darba alga (euro) | N19: Būvizstrādājumi (euro) | O19: Mehā-nismi (euro) | P19: Summa (euro)
A20: 1 | B20: =A20+1 -> 2 | C20: =B20+1 -> 3 | D20: =C20+1 -> 4 | E20: =D20+1 -> 5 | F20: =E20+1 -> 6 | G20: =F20+1 -> 7 | H20: =G20+1 -> 8 | I20: =H20+1 -> 9 | ... P20: =O20+1 -> 16
A22: 1 | C22: Esošo vējtveru durvju demontāža, jauno durvju montāža, durvju aiļu apdare. | D22: gb | E22: 1
C23: Kāpņu telpas vējtvera durvis ( ailes izmērs 1260x2100mm), ar stikla pakešu logu ( 200x800mm ), ( RAL 8017 ),PVC 5 kameru profilu biezums ne mazāk kā 72mm, bez sliekšņa, ar birsti, 2 atdurgumiju blīvejumu, Stikla pakete ar selektīvo pārklājumu, stikla biezums - 24mm. vērtnei 3 eņģes, kustīgais rokturis, aizvērēju ( Jāprecizē durvju izmēri pirms pasūtīšanas | D23: gb | E23: 1
C24: Durvju aizvērējs | D24: gb | E24: 1
C25: Durvju rokturi | D25: kompl | E25: 1
C26: Palīgmateriāli | D26: kompl | E26: 1
A27: 3 | C27: Objekta sakārtošana, gružu savākšana,utilizācija | D27: obj. | E27: 1
A28: 57 | D28: gab
A29: Kopā:
C30: Transporta izmaksas:
C31: Tiešās izmaksas kopā, t.sk. darba devēja sociālais nodoklis 23.59%
C32: Virsizdevumi:
C33: Darbuzņēmēja peļņa:
C34: Kopā bez PVN:
C35: PVN
C36: Pavisam kopā:

Sheet 3.Mālkalnes pr. 19
A1: 8.pielikums iepirkuma “Ēku logu un durvju nomaiņa pret PVC logiem un durvīm”, iepirkuma identifikācijas Nr.SIAON 2024/11-MI, Nolikumam
B3: TEHNISKĀ SPECIFIKĀCIJA (LOKĀLĀ TĀME) UN TEHNISKAIS PIEDĀVĀJUMS
B4: Lokālā tāme Nr.3
B5: Piedāvājumā visas izmaksas ir jāuzrāda ar ne vairāk kā 2 (divām) decimālzīmēm aiz komata un aprēķinos pielietojot skaitļu noapaļošanas funkciju “Round”.
H6: Vējtveru durvju nomaiņa pret PVC durvīm
A7: (Darba veids vai konstruktīvā elementa nosaukums)
C9: Būves nosaukums: | D9: Daudzdzīvokļu nams
C10: Objekta adrese: | D10: Mālkalnes pr. 19, Ogre
C11: Pasūtītājs: | D11: Sabiedrība ar ierobežotu atbildību ''Ogres Namsaimnieks''
C12: Izpildītājs:
O14: Pretendenta piedāvātā darbu summa, Eur bez PVN: | P14: =P30 -> 0
A16: Nr.p.k | B16: Kods | C16: Būvdarbu apraksts | D16: Mērvienība | E16: Daudzums | F16: Vienības izmaksas | L16: Kopā uz visu apjomu
F17: Laika norma (c/h) | G17: Darba samaksas likme (euro/h) | H17: Darba alga (euro) | I17: Būvizstrādājumi (euro) | J17: Mehā-nismi (euro) | K17: Kopā (euro) | L17: Darb-ietilpība (c/h) | M17: Darba alga (euro) | N17: Būvizstrādājumi (euro) | O17: Mehā-nismi (euro) | P17: Summa (euro)
A18: 1 | B18: =A18+1 -> 2 | C18: =B18+1 -> 3 | D18: =C18+1 -> 4 | E18: =D18+1 -> 5 | F18: =E18+1 -> 6 | G18: =F18+1 -> 7 | H18: =G18+1 -> 8 | I18: =H18+1 -> 9 | ... P18: =O18+1 -> 16
A19: 1 | C19: Esošo vējtveru durvju demontāža, jauno durvju montāža, durvju aiļu apdare. | D19: gb | E19: 6
C20: Kāpņu telpas vējtvera durvis ( ailes izmērs 1150 x 2250 mm), ar stikla pakešu logu ( 200x800mm ), ( RAL 8017 ),PVC 5 kameru profilu biezums ne mazāk kā 72mm, bez sliekšņa, ar birsti, 2 atdurgumiju blīvejumu,, Stikla pakete ar selektīvo pārklājumu, stikla biezums - 24mm. vērtnei 3 eņģes, kustīgais rokturis, aizvērēju ( Jāprecizē durvju izmēri pirms pasūtīšanas | D20: gb | E20: 6
C21: Durvju aizvērējs | D21: gb | E21: 6
C22: Durvju rokturi | D22: kompl | E22: 6
C23: Palīgmateriāli | D23: kompl | E23: 6
A24: 3 | C24: Objekta sakārtošana, gružu savākšana,utilizācija | D24: obj. | E24: 1
A25: Kopā:
C26: Transporta izmaksas:
C27: Tiešās izmaksas kopā, t.sk. darba devēja sociālais nodoklis 23,59%
C28: Virsizdevumi:
C29: Darbuzņēmēja peļņa:
C30: Kopā bez PVN:
C31: PVN
C32: Pavisam kopā:

Sheet 4.Mālkalnes pr. 35
A1: 8.pielikums iepirkuma “Ēku logu un durvju nomaiņa pret PVC logiem un durvīm”, iepirkuma identifikācijas Nr.SIAON 2024/11-MI, Nolikumam
B3: TEHNISKĀ SPECIFIKĀCIJA (LOKĀLĀ TĀME) UN TEHNISKAIS PIEDĀVĀJUMS
B4: Lokālā tāme Nr.4
B5: Piedāvājumā visas izmaksas ir jāuzrāda ar ne vairāk kā 2 (divām) decimālzīmēm aiz komata un aprēķinos pielietojot skaitļu noapaļošanas funkciju “Round”.
H7: Vējtvera durvju nomaiņa pret PVC durvīm - 4 gb
A8: (Darba veids vai konstruktīvā elementa nosaukums)
C10: Būves nosaukums: | D10: Daudzdzīvokļu nams
C11: Objekta adrese: | D11: Mālkalnes pr. 35, Ogre
C12: Pasūtītājs: | D12: Sabiedrība ar ierobežotu atbildību ''Ogres Namsaimnieks''
C13: Izpildītājs:
O15: Pretendenta piedāvātā darbu summa, Eur bez PVN: | P15: =P33 -> 0
A17: Nr.p.k | B17: Kods | C17: Būvdarbu apraksts | D17: Mērvienība | E17: Daudzums | F17: Vienības izmaksas | L17: Kopā uz visu apjomu
F18: Laika norma (c/h) | G18: Darba samaksas likme (euro/h) | H18: Darba alga (euro) | I18: Būvizstrādājumi (euro) | J18: Mehā-nismi (euro) | K18: Kopā (euro) | L18: Darb-ietilpība (c/h) | M18: Darba alga (euro) | N18: Būvizstrādājumi (euro) | O18: Mehā-nismi (euro) | P18: Summa (euro)
A19: 1 | B19: =A19+1 -> 2 | C19: =B19+1 -> 3 | D19: =C19+1 -> 4 | E19: =D19+1 -> 5 | F19: =E19+1 -> 6 | G19: =F19+1 -> 7 | H19: =G19+1 -> 8 | I19: =H19+1 -> 9 | ... P19: =O19+1 -> 16
A21: 1 | C21: Esošo vējtveru durvju demontāža, jauno durvju montāža, durvju aiļu apdare. | D21: gb | E21: 4
C22: Kāpņu telpas vējtvera durvis ( ailes izmērs 1760 x 2050 mm), ar stikla pakešu logu ( 800x200mm ),Veramā daļa - 1000x2050mm ( RAL7016 ),PVC 5 kameru profilu biezums ne mazāk kā 72mm, bez sliekšņa, ar birsti, 2 atdurgumiju blīvejumu, Stikla pakete ar selektīvo pārklājumu, stikla biezums - 24mm. vērtnei 3 eņģes, kustīgais rokturis, aizvērēju ( Jāprecizē durvju izmēri pirms pasūtīšanas | D22: gb | E22: 4
C23: Durvju aizvērējs | D23: gb | E23: 4
C24: Durvju rokturi | D24: kompl | E24: 4
C25: Palīgmateriāli | D25: kompl | E25: 4
A26: 3 | C26: Objekta sakārtošana, gružu savākšana,utilizācija | D26: obj. | E26: 1
A27: 34 | D27: gab
A28: Kopā:
C29: Transporta izmaksas:
C30: Tiešās izmaksas kopā, t.sk. darba devēja sociālais nodoklis 23,59%
C31: Virsizdevumi:
C32: Darbuzņēmēja peļņa:
C33: Kopā bez PVN:
C34: PVN
C35: Pavisam kopā:

Sheet 5.Skolas iela 5
A1: 8.pielikums iepirkuma “Ēku logu un durvju nomaiņa pret PVC logiem un durvīm”, iepirkuma identifikācijas Nr.SIAON 2024/11-MI, Nolikumam
B3: TEHNISKĀ SPECIFIKĀCIJA (LOKĀLĀ TĀME) UN TEHNISKAIS PIEDĀVĀJUMS
B4: Lokālā tāme Nr.5
B5: Piedāvājumā visas izmaksas ir jāuzrāda ar ne vairāk kā 2 (divām) decimālzīmēm aiz komata un aprēķinos pielietojot skaitļu noapaļošanas funkciju “Round”.
H7: Vējtvera durvju nomaiņa pret PVC durvīm - 3 gb
A8: (Darba veids vai konstruktīvā elementa nosaukums)
C10: Būves nosaukums: | D10: Daudzdzīvokļu nams
C11: Objekta adrese: | D11: Skolas iela 5, Ogre
C12: Pasūtītājs: | D12: Sabiedrība ar ierobežotu atbildību ''Ogres Namsaimnieks''
C13: Izpildītājs:
O15: Pretendenta piedāvātā darbu summa, Eur bez PVN: | P15: =P31 -> 0
A17: Nr.p.k | B17: Kods | C17: Būvdarbu apraksts | D17: Mērvienība | E17: Daudzums | F17: Vienības izmaksas | L17: Kopā uz visu apjomu
F18: Laika norma (c/h) | G18: Darba samaksas likme (euro/h) | H18: Darba alga (euro) | I18: Būvizstrādājumi (euro) | J18: Mehā-nismi (euro) | K18: Kopā (euro) | L18: Darb-ietilpība (c/h) | M18: Darba alga (euro) | N18: Būvizstrādājumi (euro) | O18: Mehā-nismi (euro) | P18: Summa (euro)
A19: 1 | B19: =A19+1 -> 2 | C19: =B19+1 -> 3 | D19: =C19+1 -> 4 | E19: =D19+1 -> 5 | F19: =E19+1 -> 6 | G19: =F19+1 -> 7 | H19: =G19+1 -> 8 | I19: =H19+1 -> 9 | ... P19: =O19+1 -> 16
A20: 1 | C20: Esošo vējtveru durvju demontāža, jauno durvju montāža, durvju aiļu apdare. | D20: gb | E20: 3
C21: Kāpņu telpas vējtvera durvis ( ailes izmērs 1080x2120 mm), ar stikla pakešu logu ( 200x800mm ), ( RAL 8017 ),PVC 5 kameru profilu biezums ne mazāk kā 72mm, bez sliekšņa, ar birsti, 2 atdurgumiju blīvejumu,, Stikla pakete ar selektīvo pārklājumu, stikla biezums - 24mm. vērtnei 3 eņģes, kustīgais rokturis, aizvērēju ( Jāprecizē durvju izmēri pirms pasūtīšanas | D21: gb | E21: 3
C22: Durvju aizvērējs | D22: gb | E22: 3
C23: Durvju rokturis | D23: kompl | E23: 3
C24: Palīgmateriāli | D24: kompl | E24: 3
A25: 3 | C25: Objekta sakārtošana, gružu savākšana,utilizācija | D25: obj. | E25: 1
A26: Kopā:
C27: Transporta izmaksas:
C28: Tiešās izmaksas kopā, t.sk. darba devēja sociālais nodoklis 23,59%
C29: Virsizdevumi:
C30: Darbuzņēmēja peļņa:
C31: Kopā bez PVN:
C32: PVN
C33: Pavisam kopā:

Sheet 6.Skolas iela 5
A1: 8.pielikums iepirkuma “Ēku logu un durvju nomaiņa pret PVC logiem un durvīm”, iepirkuma identifikācijas Nr.SIAON 2024/11-MI, Nolikumam
B3: TEHNISKĀ SPECIFIKĀCIJA (LOKĀLĀ TĀME) UN TEHNISKAIS PIEDĀVĀJUMS
B4: Lokālā tāme Nr.6
B5: Piedāvājumā visas izmaksas ir jāuzrāda ar ne vairāk kā 2 (divām) decimālzīmēm aiz komata un aprēķinos pielietojot skaitļu noapaļošanas funkciju “Round”.
H7: Pagraba durvju nomaiņa pret PVC durvīm - 3 gb.
A8: (Darba veids vai konstruktīvā elementa nosaukums)
C10: Būves nosaukums: | D10: Daudzdzīvokļu nams
C11: Objekta adrese: | D11: Skolas iela 5, Ogre
C12: Pasūtītājs: | D12: Sabiedrība ar ierobežotu atbildību ''Ogres Namsaimnieks''
C13: Izpildītājs:
O15: Pretendenta piedāvātā darbu summa, Eur bez PVN: | P15: =P31 -> 0
A17: Nr.p.k | B17: Kods | C17: Būvdarbu apraksts | D17: Mērvienība | E17: Daudzums | F17: Vienības izmaksas | L17: Kopā uz visu apjomu
F18: Laika norma (c/h) | G18: Darba samaksas likme (euro/h) | H18: Darba alga (euro) | I18: Būvizstrādājumi (euro) | J18: Mehā-nismi (euro) | K18: Kopā (euro) | L18: Darb-ietilpība (c/h) | M18: Darba alga (euro) | N18: Būvizstrādājumi (euro) | O18: Mehā-nismi (euro) | P18: Summa (euro)
A19: 1 | B19: =A19+1 -> 2 | C19: =B19+1 -> 3 | D19: =C19+1 -> 4 | E19: =D19+1 -> 5 | F19: =E19+1 -> 6 | G19: =F19+1 -> 7 | H19: =G19+1 -> 8 | I19: =H19+1 -> 9 | ... P19: =O19+1 -> 16
A20: 1 | C20: Esošo pagraba durvju demontāža, jauno durvju montāža, durvju aiļu apdare. | D20: gb | E20: 3
C21: Pagraba durvis ( ailes izmērs 870x2100mm), ar stikla pakešu logu ( 200x800mm )( RAL 8017 ),PVC 5 kameru profilu biezums ne mazāk kā 72mm, bez sliekšņa, ar birsti, 2 atdurgumiju blīvejumu, Stikla pakete ar selektīvo pārklājumu, stikla biezums - 24mm. vērtnei 3 eņģes, kustīgais rokturis( Jāprecizē durvju izmēri pirms pasūtīšanas | D21: gb | E21: 3
C22: Slēdzene Iseo pagraba durvīm | D22: kompl | E22: 3
C23: Durvju rokturi | D23: kompl | E23: 3
C24: Palīgmateriāli | D24: kompl | E24: 3
A25: 2 | C25: Objekta sakārtošana, gružu savākšana,utilizācija | D25: obj. | E25: 1
A26: Kopā:
C27: Transporta izmaksas:
C28: Tiešās izmaksas kopā, t.sk. darba devēja sociālais nodoklis 23,59%
C29: Virsizdevumi:
C30: Darbuzņēmēja peļņa:
C31: Kopā bez PVN:
C32: PVN
C33: Pavisam kopā:

Sheet 7.Skolas iela 11
P1: Pielikums Nr. 2
A2: 8.pielikums iepirkuma “Ēku logu un durvju nomaiņa pret PVC logiem un durvīm”, iepirkuma identifikācijas Nr.SIAON 2024/11-MI, Nolikumam
B4: TEHNISKĀ SPECIFIKĀCIJA (LOKĀLĀ TĀME) UN TEHNISKAIS PIEDĀVĀJUMS
B5: Lokālā tāme Nr.7
B6: Piedāvājumā visas izmaksas ir jāuzrāda ar ne vairāk kā 2 (divām) decimālzīmēm aiz komata un aprēķinos pielietojot skaitļu noapaļošanas funkciju “Round”.
H8: Pagraba durvju nomaiņa pret PVC durvīm - 3 gb.
A9: (Darba veids vai konstruktīvā elementa nosaukums)
C11: Būves nosaukums: | D11: Daudzdzīvokļu nams
C12: Objekta adrese: | D12: Skolas iela 11, Ogre
C13: Pasūtītājs: | D13: Sabiedrība ar ierobežotu atbildību ''Ogres Namsaimnieks''
C14: Izpildītājs:
O16: Pretendenta piedāvātā darbu summa, Eur bez PVN: | P16: =P32 -> 0
A18: Nr.p.k | B18: Kods | C18: Būvdarbu apraksts | D18: Mērvienība | E18: Daudzums | F18: Vienības izmaksas | L18: Kopā uz visu apjomu
F19: Laika norma (c/h) | G19: Darba samaksas likme (euro/h) | H19: Darba alga (euro) | I19: Būvizstrādājumi (euro) | J19: Mehā-nismi (euro) | K19: Kopā (euro) | L19: Darb-ietilpība (c/h) | M19: Darba alga (euro) | N19: Būvizstrādājumi (euro) | O19: Mehā-nismi (euro) | P19: Summa (euro)
A20: 1 | B20: =A20+1 -> 2 | C20: =B20+1 -> 3 | D20: =C20+1 -> 4 | E20: =D20+1 -> 5 | F20: =E20+1 -> 6 | G20: =F20+1 -> 7 | H20: =G20+1 -> 8 | I20: =H20+1 -> 9 | ... P20: =O20+1 -> 16
A21: 1 | C21: Esošo pagraba durvju demontāža, jauno durvju montāža, durvju aiļu apdare. | D21: gb | E21: 3
C22: Pagraba durvis ( ailes izmērs 870 x 2100mm), ar stikla pakešu logu ( 200x800mm )( RAL 7016 ),PVC 5 kameru profilu biezums ne mazāk kā 72mm, bez sliekšņa, ar birsti, 2 atdurgumiju blīvejumu, Stikla pakete ar selektīvo pārklājumu, stikla biezums - 24mm. vērtnei 3 eņģes, kustīgais rokturis( Jāprecizē durvju izmēri pirms pasūtīšanas | D22: gb | E22: 3
C23: Slēdzene Iseo pagraba durvīm | D23: kompl | E23: 3
C24: Durvju rokturi | D24: kompl | E24: 3
C25: Palīgmateriāli | D25: kompl | E25: 3
A26: 2 | C26: Objekta sakārtošana, gružu savākšana,utilizācija | D26: obj. | E26: 1
A27: Kopā:
C28: Transporta izmaksas:
C29: Tiešās izmaksas kopā, t.sk. darba devēja sociālais nodoklis 23,59%
C30: Virsizdevumi:
C31: Darbuzņēmēja peļņa:
C32: Kopā bez PVN:
C33: PVN
C34: Pavisam kopā:

Sheet 8.Turkalnes iela 3
A1: 8.pielikums iepirkuma “Ēku logu un durvju nomaiņa pret PVC logiem un durvīm”, iepirkuma identifikācijas Nr.SIAON 2024/11-MI, Nolikumam
B3: TEHNISKĀ SPECIFIKĀCIJA (LOKĀLĀ TĀME) UN TEHNISKAIS PIEDĀVĀJUMS
B4: Lokālā tāme Nr.8
B5: Piedāvājumā visas izmaksas ir jāuzrāda ar ne vairāk kā 2 (divām) decimālzīmēm aiz komata un aprēķinos pielietojot skaitļu noapaļošanas funkciju “Round”.
H7: Vējtvera durvju nomaiņa pret PVC durvīm - 3 gb.
A8: (Darba veids vai konstruktīvā elementa nosaukums)
C10: Būves nosaukums: | D10: Daudzdzīvokļu nams
C11: Objekta adrese: | D11: Turkalnes iela 3, Ogre
C12: Pasūtītājs: | D12: Sabiedrība ar ierobežotu atbildību ''Ogres Namsaimnieks''
C13: Izpildītājs:
O15: Pretendenta piedāvātā darbu summa, Eur bez PVN: | P15: =P31 -> 0
A17: Nr.p.k | B17: Kods | C17: Būvdarbu apraksts | D17: Mērvienība | E17: Daudzums | F17: Vienības izmaksas | L17: Kopā uz visu apjomu
F18: Laika norma (c/h) | G18: Darba samaksas likme (euro/h) | H18: Darba alga (euro) | I18: Būvizstrādājumi (euro) | J18: Mehā-nismi (euro) | K18: Kopā (euro) | L18: Darb-ietilpība (c/h) | M18: Darba alga (euro) | N18: Būvizstrādājumi (euro) | O18: Mehā-nismi (euro) | P18: Summa (euro)
A19: 1 | B19: =A19+1 -> 2 | C19: =B19+1 -> 3 | D19: =C19+1 -> 4 | E19: =D19+1 -> 5 | F19: =E19+1 -> 6 | G19: =F19+1 -> 7 | H19: =G19+1 -> 8 | I19: =H19+1 -> 9 | ... P19: =O19+1 -> 16
A20: 1 | C20: Esošo vējtveru durvju demontāža, jauno durvju montāža, durvju aiļu apdare. | D20: gb | E20: 2
C21: Vējtvera durvis ( ailes izmērs 1160x2050mm), ar stikla pakešu logu ( 200x800mm )( RAL 7016 ),PVC 5 kameru profilu biezums ne mazāk kā 72mm, bez sliekšņa, ar birsti, 2 atdurgumiju blīvejumu, Stikla pakete ar selektīvo pārklājumu, stikla biezums - 24mm. vērtnei 3 eņģes, kustīgais rokturis( Jāprecizē durvju izmēri pirms pasūtīšanas | D21: gb | E21: 2
C22: Durvju aizvērējs | D22: gb | E22: 2
C23: Durvju rokturis | D23: kompl | E23: 2
C24: Palīgmateriāli | D24: kompl | E24: 2
A25: 2 | C25: Objekta sakārtošana, gružu savākšana,utilizācija | D25: obj. | E25: 1
A26: Kopā:
C27: Transporta izmaksas:
C28: Tiešās izmaksas kopā, t.sk. darba devēja sociālais nodoklis 23,59%
C29: Virsizdevumi:
C30: Darbuzņēmēja peļņa:
C31: Kopā bez PVN:
C32: PVN
C33: Pavisam kopā:

Sheet 9.Turkalnes iela 13
A1: 8.pielikums iepirkuma “Ēku logu un durvju nomaiņa pret PVC logiem un durvīm”, iepirkuma identifikācijas Nr.SIAON 2024/11-MI, Nolikumam
B3: TEHNISKĀ SPECIFIKĀCIJA (LOKĀLĀ TĀME) UN TEHNISKAIS PIEDĀVĀJUMS
B4: Lokālā tāme Nr.9
B5: Piedāvājumā visas izmaksas ir jāuzrāda ar ne vairāk kā 2 (divām) decimālzīmēm aiz komata un aprēķinos pielietojot skaitļu noapaļošanas funkciju “Round”.
H7: Vējtvera durvju nomaiņa pret PVC durvīm - 2 gb
A8: (Darba veids vai konstruktīvā elementa nosaukums)
C10: Būves nosaukums: | D10: Daudzdzīvokļu nams
C11: Objekta adrese: | D11: Turkalnes iela 13, Ogre
C12: Pasūtītājs: | D12: Sabiedrība ar ierobežotu atbildību ''Ogres Namsaimnieks''
C13: Izpildītājs:
O15: Pretendenta piedāvātā darbu summa, Eur bez PVN: | P15: =P31 -> 0
A17: Nr.p.k | B17: Kods | C17: Būvdarbu apraksts | D17: Mērvienība | E17: Daudzums | F17: Vienības izmaksas | L17: Kopā uz visu apjomu
F18: Laika norma (c/h) | G18: Darba samaksas likme (euro/h) | H18: Darba alga (euro) | I18: Būvizstrādājumi (euro) | J18: Mehā-nismi (euro) | K18: Kopā (euro) | L18: Darb-ietilpība (c/h) | M18: Darba alga (euro) | N18: Būvizstrādājumi (euro) | O18: Mehā-nismi (euro) | P18: Summa (euro)
A19: 1 | B19: =A19+1 -> 2 | C19: =B19+1 -> 3 | D19: =C19+1 -> 4 | E19: =D19+1 -> 5 | F19: =E19+1 -> 6 | G19: =F19+1 -> 7 | H19: =G19+1 -> 8 | I19: =H19+1 -> 9 | ... P19: =O19+1 -> 16
A20: 1 | C20: Esošo vējtveru durvju demontāža, jauno durvju montāža, durvju aiļu apdare. | D20: gb | E20: 2
C21: Kāpņu telpas vējtvera durvis ( ailes izmērs 970x2000mm), ar stikla pakešu logu ( 200x800mm ), ( RAL 8017 ),PVC 5 kameru profilu biezums ne mazāk kā 72mm, bez sliekšņa, ar birsti, 2 atdurgumiju blīvejumu, Stikla pakete ar selektīvo pārklājumu, stikla biezums - 24mm. vērtnei 3 eņģes, kustīgais rokturis, aizvērēju ( Jāprecizē durvju izmēri pirms pasūtīšanas | D21: gb | E21: 2
C22: Durvju aizvērējs | D22: gb | E22: 2
C23: Durvju rokturis | D23: kompl | E23: 2
C24: Palīgmateriāli | D24: kompl | E24: 2
A25: 2 | C25: Objekta sakārtošana, gružu savākšana,utilizācija | D25: obj. | E25: 1
A26: Kopā:
C27: Transporta izmaksas:
C28: Tiešās izmaksas kopā, t.sk. darba devēja sociālais nodoklis 23,59%
C29: Virsizdevumi:
C30: Darbuzņēmēja peļņa:
C31: Kopā bez PVN:
C32: PVN
C33: Pavisam kopā:

Sheet 10.Doles
A1: 8.pielikums iepirkuma “Ēku logu un durvju nomaiņa pret PVC logiem un durvīm”, iepirkuma identifikācijas Nr.SIAON 2024/11-MI, Nolikumam
B3: TEHNISKĀ SPECIFIKĀCIJA (LOKĀLĀ TĀME) UN TEHNISKAIS PIEDĀVĀJUMS
B4: Lokālā tāme Nr.10
B5: Piedāvājumā visas izmaksas ir jāuzrāda ar ne vairāk kā 2 (divām) decimālzīmēm aiz komata un aprēķinos pielietojot skaitļu noapaļošanas funkciju “Round”.
H7: Vējtvera durvju nomaiņa pret PVC durvīm - 3 gb
A8: (Darba veids vai konstruktīvā elementa nosaukums)
C10: Būves nosaukums: | D10: Daudzdzīvokļu nams
C11: Objekta adrese: | D11: Doles, Ogre
C12: Pasūtītājs: | D12: Sabiedrība ar ierobežotu atbildību ''Ogres Namsaimnieks''
C13: Izpildītājs:
O15: Pretendenta piedāvātā darbu summa, Eur bez PVN: | P15: =P31 -> 0
A17: Nr.p.k | B17: Kods | C17: Būvdarbu apraksts | D17: Mērvienība | E17: Daudzums | F17: Vienības izmaksas | L17: Kopā uz visu apjomu
F18: Laika norma (c/h) | G18: Darba samaksas likme (euro/h) | H18: Darba alga (euro) | I18: Būvizstrādājumi (euro) | J18: Mehā-nismi (euro) | K18: Kopā (euro) | L18: Darb-ietilpība (c/h) | M18: Darba alga (euro) | N18: Būvizstrādājumi (euro) | O18: Mehā-nismi (euro) | P18: Summa (euro)
A19: 1 | B19: =A19+1 -> 2 | C19: =B19+1 -> 3 | D19: =C19+1 -> 4 | E19: =D19+1 -> 5 | F19: =E19+1 -> 6 | G19: =F19+1 -> 7 | H19: =G19+1 -> 8 | I19: =H19+1 -> 9 | ... P19: =O19+1 -> 16
A20: 1 | C20: Esošo vējtveru durvju demontāža, jauno durvju montāža, durvju aiļu apdare. | D20: gb | E20: 3
C21: Kāpņu telpas vējtvera durvis ( ailes izmērs 1260x2050mm), ar stikla pakešu logu ( 200x800mm ), ( RAL 7016 ),PVC 5 kameru profilu biezums ne mazāk kā 72mm, bez sliekšņa, ar birsti, 2 atdurgumiju blīvejumu, Stikla pakete ar selektīvo pārklājumu, stikla biezums - 24mm. vērtnei 3 eņģes, kustīgais rokturis, aizvērēju ( Jāprecizē durvju izmēri pirms pasūtīšanas | D21: gb | E21: 3
C22: Durvju aizvērējs | D22: gb | E22: 3
C23: Durvju rokturi | D23: kompl | E23: 3
C24: Palīgmateriāli | D24: kompl | E24: 3
A25: 2 | C25: Objekta sakārtošana, gružu savākšana,utilizācija | D25: obj. | E25: 1
A26: Kopā:
C27: Transporta izmaksas:
C28: Tiešās izmaksas kopā, t.sk. darba devēja sociālais nodoklis 23,59%
C29: Virsizdevumi:
C30: Darbuzņēmēja peļņa:
C31: Kopā bez PVN:
C32: PVN
C33: Pavisam kopā:

Sheet 11.Ausekļa 2A
A1: 8.pielikums iepirkuma “Ēku logu un durvju nomaiņa pret PVC logiem un durvīm”, iepirkuma identifikācijas Nr.SIAON 2024/11-MI, Nolikumam
B3: TEHNISKĀ SPECIFIKĀCIJA (LOKĀLĀ TĀME) UN TEHNISKAIS PIEDĀVĀJUMS
B4: Lokālā tāme Nr.11
B5: Piedāvājumā visas izmaksas ir jāuzrāda ar ne vairāk kā 2 (divām) decimālzīmēm aiz komata un aprēķinos pielietojot skaitļu noapaļošanas funkciju “Round”.
H7: Vējtvera durvju nomaiņa pret PVC durvīm - 1gb
A8: (Darba veids vai konstruktīvā elementa nosaukums)
C10: Būves nosaukums: | D10: Daudzdzīvokļu nams
C11: Objekta adrese: | D11: Ausekļa pr.2a, Ogre
C12: Pasūtītājs: | D12: Sabiedrība ar ierobežotu atbildību ''Ogres Namsaimnieks''
C13: Izpildītājs:
O15: Pretendenta piedāvātā darbu summa, Eur bez PVN: | P15: =P31 -> 0
A17: Nr.p.k | B17: Kods | C17: Būvdarbu apraksts | D17: Mērvienība | E17: Daudzums | F17: Vienības izmaksas | L17: Kopā uz visu apjomu
F18: Laika norma (c/h) | G18: Darba samaksas likme (euro/h) | H18: Darba alga (euro) | I18: Būvizstrādājumi (euro) | J18: Mehā-nismi (euro) | K18: Kopā (euro) | L18: Darb-ietilpība (c/h) | M18: Darba alga (euro) | N18: Būvizstrādājumi (euro) | O18: Mehā-nismi (euro) | P18: Summa (euro)
A19: 1 | B19: =A19+1 -> 2 | C19: =B19+1 -> 3 | D19: =C19+1 -> 4 | E19: =D19+1 -> 5 | F19: =E19+1 -> 6 | G19: =F19+1 -> 7 | H19: =G19+1 -> 8 | I19: =H19+1 -> 9 | ... P19: =O19+1 -> 16
A20: 1 | C20: Esošo durvju demontāža, jauno durvju montāža, durvju aiļu apdare. | D20: gb | E20: 1
C21: Vējtvera durvis - 1260x2050mm ar stikla pakešu logu ( 200x800mm ),( veramā daļa 1000mm, neveramā daļa 260mm ) ( RAL 8017 ),PVC 5 kameru profilu biezums ne mazāk kā 72mm, bez sliekšņa, ar birsti, 2 atdurgumiju blīvejumu, Stikla pakete ar selektīvo pārklājumu, stikla biezums - 24mm. katrai vērtnei 3 eņģes, kustīgais rokturis ( Jāprecizē durvju izmēri pirms pasūtīšanas) | D21: gb | E21: 1
C22: Durvju aizvērējs | D22: gb | E22: 1
C23: Durvju rokturis | D23: kompl | E23: 1
C24: Palīgmateriāli | D24: kompl | E24: 1
A25: 2 | C25: Objekta sakārtošana, gružu savākšana,utilizācija | D25: obj. | E25: 1
A26: Kopā:
C27: Transporta izmaksas:
C28: Tiešās izmaksas kopā, t.sk. darba devēja sociālais nodoklis 23,59%
C29: Virsizdevumi:
C30: Darbuzņēmēja peļņa:
C31: Kopā bez PVN:
C32: PVN
C33: Pavisam kopā:

Sheet 12.Mālkalnes pr. 14
A1: 8.pielikums iepirkuma “Ēku logu un durvju nomaiņa pret PVC logiem un durvīm”, iepirkuma identifikācijas Nr.SIAON 2024/11-MI, Nolikumam
B3: TEHNISKĀ SPECIFIKĀCIJA (LOKĀLĀ TĀME) UN TEHNISKAIS PIEDĀVĀJUMS
B4: Lokālā tāme Nr.12
B5: Piedāvājumā visas izmaksas ir jāuzrāda ar ne vairāk kā 2 (divām) decimālzīmēm aiz komata un aprēķinos pielietojot skaitļu noapaļošanas funkciju “Round”.
H7: Vējtveru un pagrabu durvju nomaiņa pret PVC durvīm
A8: (Darba veids vai konstruktīvā elementa nosaukums)
C10: Būves nosaukums: | D10: Daudzdzīvokļu nams
C11: Objekta adrese: | D11: Mālkalnes pr. 14, Ogre
C12: Pasūtītājs: | D12: Sabiedrība ar ierobežotu atbildību ''Ogres Namsaimnieks''
C13: Izpildītājs:
O15: Pretendenta piedāvātā darbu summa, Eur bez PVN: | P15: =P36 -> 0
A17: Nr.p.k | B17: Kods | C17: Būvdarbu apraksts | D17: Mērvienība | E17: Daudzums | F17: Vienības izmaksas | L17: Kopā uz visu apjomu
F18: Laika norma (c/h) | G18: Darba samaksas likme (euro/h) | H18: Darba alga (euro) | I18: Būvizstrādājumi (euro) | J18: Mehā-nismi (euro) | K18: Kopā (euro) | L18: Darb-ietilpība (c/h) | M18: Darba alga (euro) | N18: Būvizstrādājumi (euro) | O18: Mehā-nismi (euro) | P18: Summa (euro)
A19: 1 | B19: =A19+1 -> 2 | C19: =B19+1 -> 3 | D19: =C19+1 -> 4 | E19: =D19+1 -> 5 | F19: =E19+1 -> 6 | G19: =F19+1 -> 7 | H19: =G19+1 -> 8 | I19: =H19+1 -> 9 | ... P19: =O19+1 -> 16
A20: 1 | C20: Esošo vējtveru durvju demontāža, jauno durvju montāža, durvju aiļu apdare. | D20: gb | E20: 6
C21: Kāpņu telpas vējtvera durvis ( ailes izmērs 1760 x 2130 mm),Divdaļīgas durvis - neveramā daļa 760mm veramā 1000mm, ar stikla pakešu logu ( 200x800mm ), ( RAL 8017 ), PVC 5 kameru profilu biezums ne mazāk kā 72mm, bez sliekšņa, ar birsti, 2 atdurgumiju blīvejumu, Stikla pakete ar selektīvo pārklājumu, stikla biezums - 24mm. vērtnei 3 eņģes, kustīgais rokturis, durvis ar aizvērēju ( Jāprecizē durvju izmēri pirms pasūtīšanas | D21: gb | E21: 6
C22: Durvju aizvērējs | D22: gb | E22: 6
C23: Durvju rokturis | D23: kompl | E23: 6
C24: Palīgmateriāli | D24: kompl | E24: 6
A25: 2 | C25: Esošo pagraba durvju demontāža, jauno durvju montāža, durvju aiļu apdare | D25: gb | E25: 6
C26: Pagraba ieejas durvis ( ailes izmērs 900 x 2130 mm), ( RAL 8017 ) PVC 5 kameru profilu biezums ne mazāk kā 72mm, bez sliekšņa, ar birsti, 2 atdurgumiju blīvejumu, Stikla pakete ar selektīvo pārklājumu, stikla biezums - 24mm. vērtnei 3 eņģes, kustīgais rokturis( Jāprecizē durvju izmēri pirms pasūtīšanas) | D26: gb | E26: 6
C27: Slēdzene Iseo pagraba durvīm | D27: kompl | E27: 6
C28: Durvju rokturi | D28: kompl | E28: 6
C29: Palīgmateriāli | D29: kompl | E29: 6
A30: 3 | C30: Objekta sakārtošana, gružu savākšana,utilizācija | D30: obj. | E30: 1
A31: Kopā:
C32: Transporta izmaksas:
C33: Tiešās izmaksas kopā, t.sk. darba devēja sociālais nodoklis 23,59%
C34: Virsizdevumi:
C35: Darbuzņēmēja peļņa:
C36: Kopā bez PVN:
C37: PVN
C38: Pavisam kopā:

Sheet 13.Mālkalnes pr. 15
A1: 8.pielikums iepirkuma “Ēku logu un durvju nomaiņa pret PVC logiem un durvīm”, iepirkuma identifikācijas Nr.SIAON 2024/11-MI, Nolikumam
B3: TEHNISKĀ SPECIFIKĀCIJA (LOKĀLĀ TĀME) UN TEHNISKAIS PIEDĀVĀJUMS
B4: Lokālā tāme Nr.13
B5: Piedāvājumā visas izmaksas ir jāuzrāda ar ne vairāk kā 2 (divām) decimālzīmēm aiz komata un aprēķinos pielietojot skaitļu noapaļošanas funkciju “Round”.
H7: Vējtvera durvju nomaiņa pret PVC durvīm - 3 gb
A8: (Darba veids vai konstruktīvā elementa nosaukums)
C10: Būves nosaukums: | D10: Daudzdzīvokļu nams
C11: Objekta adrese: | D11: Mālkalnes pr. 15, Ogre
C12: Pasūtītājs: | D12: Sabiedrība ar ierobežotu atbildību ''Ogres Namsaimnieks''
C13: Izpildītājs:
O15: Pretendenta piedāvātā darbu summa, Eur bez PVN: | P15: =P31 -> 0
A17: Nr.p.k | B17: Kods | C17: Būvdarbu apraksts | D17: Mērvienība | E17: Daudzums | F17: Vienības izmaksas | L17: Kopā uz visu apjomu
F18: Laika norma (c/h) | G18: Darba samaksas likme (euro/h) | H18: Darba alga (euro) | I18: Būvizstrādājumi (euro) | J18: Mehā-nismi (euro) | K18: Kopā (euro) | L18: Darb-ietilpība (c/h) | M18: Darba alga (euro) | N18: Būvizstrādājumi (euro) | O18: Mehā-nismi (euro) | P18: Summa (euro)
A19: 1 | B19: =A19+1 -> 2 | C19: =B19+1 -> 3 | D19: =C19+1 -> 4 | E19: =D19+1 -> 5 | F19: =E19+1 -> 6 | G19: =F19+1 -> 7 | H19: =G19+1 -> 8 | I19: =H19+1 -> 9 | ... P19: =O19+1 -> 16
A20: 1 | C20: Esošo vējtveru durvju demontāža, jauno durvju montāža, durvju aiļu apdare. | D20: gb | E20: 4
C21: Kāpņu telpas vējtvera durvis ( ailes izmērs 1050x2050 mm), ar stikla pakešu logu ( 800x200mm ), ( RAL 8017 ),PVC 5 kameru profilu biezums ne mazāk kā 72mm, bez sliekšņa, ar birsti, 2 atdurgumiju blīvejumu, Stikla pakete ar selektīvo pārklājumu, stikla biezums - 24mm, vērtnei 3 eņģes, kustīgais rokturis, aizvērēju ( Jāprecizē durvju izmēri pirms pasūtīšanas | D21: gb | E21: 4
C22: Durvju aizvērējs | D22: gb | E22: 4
C23: Durvju rokturis | D23: kompl | E23: 4
C24: Palīgmateriāli | D24: kompl | E24: 4
A25: 3 | C25: Objekta sakārtošana, gružu savākšana, utilizācija | D25: obj. | E25: 1
A26: Kopā:
C27: Transporta izmaksas:
C28: Tiešās izmaksas kopā, t.sk. darba devēja sociālais nodoklis 23,59%
C29: Virsizdevumi:
C30: Darbuzņēmēja peļņa:
C31: Kopā bez PVN:
C32: PVN
C33: Pavisam kopā:

Sheet 14.Brīvības 117
A1: 8.pielikums iepirkuma “Ēku logu un durvju nomaiņa pret PVC logiem un durvīm”, iepirkuma identifikācijas Nr.SIAON 2024/11-MI, Nolikumam
B3: TEHNISKĀ SPECIFIKĀCIJA (LOKĀLĀ TĀME) UN TEHNISKAIS PIEDĀVĀJUMS
B4: Lokālā tāme Nr.14
B5: Piedāvājumā visas izmaksas ir jāuzrāda ar ne vairāk kā 2 (divām) decimālzīmēm aiz komata un aprēķinos pielietojot skaitļu noapaļošanas funkciju “Round”.
H7: Pagrabu logu nomaiņa - 14 gb.
A8: (Darba veids vai konstruktīvā elementa nosaukums)
C10: Būves nosaukums: | D10: Daudzdzīvokļu nams
C11: Objekta adrese: | D11: Brīvības iela 117, Ogre
C12: Pasūtītājs: | D12: Sabiedrība ar ierobežotu atbildību ''Ogres Namsaimnieks''
C13: Izpildītājs:
O15: Pretendenta piedāvātā darbu summa, Eur bez PVN: | P15: =P32 -> 0
A17: Nr.p.k | B17: Kods | C17: Būvdarbu apraksts | D17: Mērvienība | E17: Daudzums | F17: Vienības izmaksas | L17: Kopā uz visu apjomu
F18: Laika norma (c/h) | G18: Darba samaksas likme (euro/h) | H18: Darba alga (euro) | I18: Būvizstrādājumi (euro) | J18: Mehā-nismi (euro) | K18: Kopā (euro) | L18: Darb-ietilpība (c/h) | M18: Darba alga (euro) | N18: Būvizstrādājumi (euro) | O18: Mehā-nismi (euro) | P18: Summa (euro)
A19: 1 | B19: =A19+1 -> 2 | C19: =B19+1 -> 3 | D19: =C19+1 -> 4 | E19: =D19+1 -> 5 | F19: =E19+1 -> 6 | G19: =F19+1 -> 7 | H19: =G19+1 -> 8 | I19: =H19+1 -> 9 | ... P19: =O19+1 -> 16
A20: 1 | C20: Esošo logu 900x1150mm demontāža, jaunā PVC 5 kameru profilu logu montāža | D20: gb | E20: 14
C21: PVC 5 kameru prof.logs ( 900x1150mm), logu profils - balts, veramais un atgāžamais, sertificēti ar CE sertifikātu | D21: gb | E21: 14
C22: Ārējā cinkotā palodze 900 x 90 mm b=0,45mm | D22: gb | E22: 14
A23: 2 | C23: Iekšējās ailes apdares darbi | D23: aile | E23: 14
A24: 3 | C24: Ārējās ailes apdares darbi | D24: aile | E24: 14
C25: Palīgmateriāli | D25: kompl. | E25: 14
A26: 4 | C26: Objekta sakārtošana,gružu savākšana, utilizācija | D26: obj. | E26: 1
A27: Kopā:
C28: Transporta izmaksas:
C29: Tiešās izmaksas kopā, t.sk. darba devēja sociālais nodoklis 23,59%
C30: Virsizdevumi:
C31: Darbuzņēmēja peļņa:
C32: Kopā bez PVN:
C33: PVN
C34: Pavisam kopā:

Sheet 15.Draudzības 12
A1: 8.pielikums iepirkuma “Ēku logu un durvju nomaiņa pret PVC logiem un durvīm”, iepirkuma identifikācijas Nr.SIAON 2024/11-MI, Nolikumam
B3: TEHNISKĀ SPECIFIKĀCIJA (LOKĀLĀ TĀME) UN TEHNISKAIS PIEDĀVĀJUMS
B4: Lokālā tāme Nr.15
B5: Piedāvājumā visas izmaksas ir jāuzrāda ar ne vairāk kā 2 (divām) decimālzīmēm aiz komata un aprēķinos pielietojot skaitļu noapaļošanas funkciju “Round”.
H7: Pagrabu logu nomaiņa - 2 gb.
A8: (Darba veids vai konstruktīvā elementa nosaukums)
C10: Būves nosaukums: | D10: Daudzdzīvokļu nams
C11: Objekta adrese: | D11: Draudzības iela 12, Ogre
C12: Pasūtītājs: | D12: Sabiedrība ar ierobežotu atbildību ''Ogres Namsaimnieks''
C13: Izpildītājs:
O15: Pretendenta piedāvātā darbu summa, Eur bez PVN: | P15: =P33 -> 0
A17: Nr.p.k | B17: Kods | C17: Būvdarbu apraksts | D17: Mērvienība | E17: Daudzums | F17: Vienības izmaksas | L17: Kopā uz visu apjomu
F18: Laika norma (c/h) | G18: Darba samaksas likme (euro/h) | H18: Darba alga (euro) | I18: Būvizstrādājumi (euro) | J18: Mehā-nismi (euro) | K18: Kopā (euro) | L18: Darb-ietilpība (c/h) | M18: Darba alga (euro) | N18: Būvizstrādājumi (euro) | O18: Mehā-nismi (euro) | P18: Summa (euro)
A19: 1 | B19: =A19+1 -> 2 | C19: =B19+1 -> 3 | D19: =C19+1 -> 4 | E19: =D19+1 -> 5 | F19: =E19+1 -> 6 | G19: =F19+1 -> 7 | H19: =G19+1 -> 8 | I19: =H19+1 -> 9 | ... P19: =O19+1 -> 16
A20: 1 | C20: Esošo stikla bloku demontāža | D20: gb | E20: 2
A21: 2 | C21: Jauno PVC 5 kameru profilu logu montāža | D21: gb | E21: 2
C22: PVC 5 kameru prof.logs ( 790x700mm), balts, veramais un atgāžamais, sertificēti ar CE sertifikātu | D22: gb | E22: 2
C23: Ārējā cinkotā palodze 790 x 90 mm b=0,45mm | D23: gb | E23: 2
A24: 3 | C24: Iekšējās ailes apdares darbi | D24: aile | E24: 2
A25: 4 | C25: Ārējās ailes apdares darbi | D25: aile | E25: 2
C26: Palīgmateriāli | D26: kompl. | E26: 1
A27: 5 | C27: Objekta sakārtošana,gružu savākšana, utilizācija | D27: obj. | E27: 1
A28: Kopā:
C29: Transporta izmaksas:
C30: Tiešās izmaksas kopā, t.sk. darba devēja sociālais nodoklis 23,59%
C31: Virsizdevumi:
C32: Darbuzņēmēja peļņa:
C33: Kopā bez PVN:
C34: PVN
C35: Pavisam kopā:

Sheet 16.Tīnūžu 20
A1: 8.pielikums iepirkuma “Ēku logu un durvju nomaiņa pret PVC logiem un durvīm”, iepirkuma identifikācijas Nr.SIAON 2024/11-MI, Nolikumam
B3: TEHNISKĀ SPECIFIKĀCIJA (LOKĀLĀ TĀME) UN TEHNISKAIS PIEDĀVĀJUMS
B4: Lokālā tāme Nr.16
B5: Piedāvājumā visas izmaksas ir jāuzrāda ar ne vairāk kā 2 (divām) decimālzīmēm aiz komata un aprēķinos pielietojot skaitļu noapaļošanas funkciju “Round”.
H6: Pagrabu logu nomaiņa - 2 gb.
A7: (Darba veids vai konstruktīvā elementa nosaukums)
C9: Būves nosaukums: | D9: Daudzdzīvokļu nams
C10: Objekta adrese: | D10: Tīnūžu iela 20, Ogre
C11: Pasūtītājs: | D11: Sabiedrība ar ierobežotu atbildību ''Ogres Namsaimnieks''
C12: Izpildītājs:
O14: Pretendenta piedāvātā darbu summa, Eur bez PVN: | P14: =P31 -> 0
A16: Nr.p.k | B16: Kods | C16: Būvdarbu apraksts | D16: Mērvienība | E16: Daudzums | F16: Vienības izmaksas | L16: Kopā uz visu apjomu
F17: Laika norma (c/h) | G17: Darba samaksas likme (euro/h) | H17: Darba alga (euro) | I17: Būvizstrādājumi (euro) | J17: Mehā-nismi (euro) | K17: Kopā (euro) | L17: Darb-ietilpība (c/h) | M17: Darba alga (euro) | N17: Būvizstrādājumi (euro) | O17: Mehā-nismi (euro) | P17: Summa (euro)
A18: 1 | B18: =A18+1 -> 2 | C18: =B18+1 -> 3 | D18: =C18+1 -> 4 | E18: =D18+1 -> 5 | F18: =E18+1 -> 6 | G18: =F18+1 -> 7 | H18: =G18+1 -> 8 | I18: =H18+1 -> 9 | ... P18: =O18+1 -> 16
A19: 1 | C19: Esošo logu 800x1110mm demontāža, jaunā PVC 5 kameru profilu logu montāža | D19: gb | E19: 1
C20: PVC 5 kameru prof.logs ( 800x1110mm), logu profils - balts, veramais un atgāžamais, sertificēti ar CE sertifikātu | D20: gb | E20: 1
C21: Ārējā cinkotā palodze 800 x 90 mm b=0,45mm | D21: gb | E21: 1
A22: 2 | C22: Iekšējās ailes apdares darbi | D22: aile | E22: 1
A23: 3 | C23: Ārējās ailes apdares darbi | D23: aile | E23: 1
C24: Palīgmateriāli | D24: kompl. | E24: 1
A25: 4 | C25: Objekta sakārtošana,gružu savākšana, utilizācija | D25: obj. | E25: 1
A26: Kopā:
C27: Transporta izmaksas:
C28: Tiešās izmaksas kopā, t.sk. darba devēja sociālais nodoklis 23,59%
C29: Virsizdevumi:
C30: Darbuzņēmēja peļņa:
C31: Kopā bez PVN:
C32: PVN
C33: Pavisam kopā:
