Workbook

Sheet Būvn. Koptāme
C2: APSTIPRINU
A4: _____________________________________________________________
A5: (pasūtītāja paraksts un tā atšifrējums)
C6: Z.v.
A8: __________.gada ______.________________
A10: Būvniecības koptāme
A13: Objekta nosaukums: Ēkas pārbūve vides pieejamības nodrošināšanai Rēzeknes ielā 1A, Viļānos, Rēzeknes novadā
A14: Būves nosaukums : Viļānu vidusskola
A15: Objekta adrese : Rēzeknes iela 1A, Viļāni, Rēzeknes novads
A16: Pasūtījuma Nr. :
A19: Nr.p.k. | B19: Objekta nosaukums | C19: Objekta izmaksas (euro)
A20: 1 | B20: Viļānu vidusskolas ēkas vienkāršota pārbūve | C20: =Kopsavilkums!D22 -> 0
B21: kopā | C21: =SUM(C20) -> 0
A23: PVN (21%) | C23: =C21*21% -> 0
A26: Sastādīja _________________________________________________________
A27: (paraksts un tā atšifrējums,datums)
A29: Sertifikāta Nr._______________________
B32: Tāme sastādīta

Sheet Kopsavilkums
C1: Kopsavilkuma aprēķins
A3: Vispārējie būvdarbi. Specializētie darbi.
A4: (darba veids vai konstruktīvā elementa nosaukums)
A6: Objekta nosaukums: Ēkas pārbūve vides pieejamības nodrošināšanai Rēzeknes ielā 1A, Viļānos, Rēzeknes novadā
A7: Būves nosaukums : Viļānu vidusskola
A8: Objekta adrese : Rēzeknes iela 1A, Viļāni, Rēzeknes novads
A9: Pasūtījuma Nr. :
C10: Par kopējo summu, euro | D10: =D22 -> 0
C11: Kopējā darbietilpība, c/h | D11: =H18 -> 0
A13: Nr.p.k. | B13: Kods, tāmes Nr. | C13: Būvdarbu veids vai konstruktīvā elementa nosaukums | D13: Tāmes izmaksas (euro) | E13: Tai skaitā | H13: Darbietilpība (c/h)
E14: darba alga (euro) | F14: būvizstrādājumi (euro) | G14: mehānismi (euro)
A15: 1 | B15: LT-1 | C15: Vispārējie būvdarbi. | D15: =E15+F15+G15 -> 0 | E15: ='LT-1 dop, ar'!M172 -> 0 | F15: ='LT-1 dop, ar'!N172 -> 0 | G15: ='LT-1 dop, ar'!O172 -> 0 | H15: ='LT-1 dop, ar'!L172 -> 0
A16: 2 | B16: LT-2 | C16: Elektroapgāde (iekšējā) | D16: =E16+F16+G16 -> 0 | E16: ='LT-2 el'!M51 -> 0 | F16: ='LT-2 el'!N51 -> 0 | G16: ='LT-2 el'!O51 -> 0 | H16: ='LT-2 el'!L51 -> 0
A17: 3 | B17: LT-3 | C17: Ūdensapgāde un kanalizācija (iekšējā) | D17: =E17+F17+G17 -> 0 | E17: ='LT-3 uk'!M39 -> 0 | F17: ='LT-3 uk'!N39 -> 0 | G17: ='LT-3 uk'!O39 -> 0 | H17: ='LT-3 uk'!L39 -> 0
C18: Kopā : | D18: =SUM(D15:D17) -> 0 | E18: =SUM(E15:E17) -> 0 | F18: =SUM(F15:F17) -> 0 | G18: =SUM(G15:G17) -> 0 | H18: =SUM(H15:H17) -> 0
C19: Virsizdevumi (__%) | D19: =D18*10% -> 0
C20: t.sk.darba aizsardzība
C21: Peļņa (__%) | D21: =D18*5% -> 0
C22: Pavisam kopā: | D22: =D18+D19+D21 -> 0
C24: Sastādīja _________________________________________________
C25: (paraksts un tā atšifrējums,datums)
C29: Pārbaudīja _________________________________________________
C30: (paraksts un tā atšifrējums,datums)
C32: ='Būvn. Koptāme'!B29 -> 0

Sheet LT-1 dop, ar
A2: Lokālā tāme Nr.1
A4: Vispārējie būvdarbi
A5: (būvdarbu veids vai konstruktīvā elementa nosaukums)
C7: Objekta nosaukums:Ēkas pārbūve vides pieejamības nodrošināšanai Rēzeknes ielā 1A, Viļānos, Rēzeknes novadā
C8: Būves nosaukums: Viļānu vidusskola
C9: Objekta adrese: Rēzeknes iela 1A, Viļāni, Rēzeknes novads
C10: Pasūtījuma Nr.:
C11: Tāme sastādīta 2024.gada tirgus cenās,pamatojoties uz AR, DOP daļas rasējumiem. | K11: Tāmes izmaksas: | M11: Eur | N11: =P172 -> 0
A15: Nr.p.k. | B15: Kods | C15: Būvdarbu nosaukums | D15: Mērvienība | E15: Daudzums | F15: Vienības izmaksas | L15: Kopā uz visu apjomu
F16: Laika norma (c/h) | G16: darba samaksas likme* (euro/h) | H16: darba alga | I16: būvizstrādājumi | J16: mehānismi | K16: kopā | L16: darbietilpība (c/h) | M16: darba alga | N16: būvizstrādājumi | O16: mehānismi | P16: summa
A17: 1 | B17: 2 | C17: 3 | D17: 4 | E17: 5 | F17: 6 | G17: 7 | H17: 8 | I17: 9 | J17: 10 | K17: 11 | L17: 12 | M17: 13 | N17: 14 | O17: 15 | P17: 16
A18: 1-1 | C18: BŪVLAUKUMA SAGATAVOŠANAS DARBI | H18: =ROUND(G18*F18,2) -> 0 | K18: =ROUND(J18+I18+H18,2) -> 0 | L18: =ROUND(F18*E18,2) -> 0 | M18: =ROUND(H18*E18,2) -> 0 | N18: =ROUND(I18*E18,2) -> 0 | O18: =ROUND(J18*E18,2) -> 0 | P18: =ROUND(O18+N18+M18,2) -> 0
A19: 1-1-1 | C19: Būvlaukuma ierīkošana
A20: 1-1-2 | B20: Līgumc. | C20: Būvtāfeles izgatavošana un montāža | D20: gb. | E20: 1
A21: 1-1-3 | B21: Līgumc. | C21: Mobīlā žoga h=2m montāža, demontāža | D21: m | E21: 78
A22: 1-1-4 | B22: Līgumc. | C22: Pagaidu norāžu – ceļa zīmju izvietošana saskaņojot ar pasūtītāju | D22: kpl. | E22: 1
A23: 1-1-5 | B23: Līgumc. | C23: Pagaidu ugunsdrošības stendu montāža | D23: gb. | E23: 1
A24: 1-1-6 | B24: Līgumc. | C24: Pagaidu prožektori būvlaukumā | D24: gb | E24: 3
A25: 1-1-7 | B25: Līgumc. | C25: Pagaidu elektropieslēgums un skaitītājs | D25: gb | E25: 1
A26: 1-1-8 | B26: Līgumc. | C26: Ūdens skaitītāja uzstādīšana | D26: gb | E26: 1
A27: 1-1-9 | B27: Līgumc. | C27: Sadzīves telpas moduļa uzstādīšana, demontāža, ieskaitot transporta un celšanas mehānismu izmaksas | D27: gb | E27: 1
A28: 1-1-10 | B28: Līgumc. | C28: Instrumentu noliktavas moduļa uzstādīšana, demontāža, ieskaitot transporta un celšanas mehānismu izmaksas | D28: gb | E28: 1
A29: 1-1-11 | B29: Līgumc. | C29: BIO tualetes moduļa uzstādīšana, demontāža, ieskaitot transporta un celšanas mehānismu izmaksas | D29: gb | E29: 1
A30: 1-1-12 | B30: Līgumc. | C30: Ugunsdzēsības aparāta uzstādīšana sadzīves modulī, stendā un objektā (ugunsdzēsības aparāts 43A 233B) | D30: gb. | E30: 3
A31: 1-1-13 | C31: Būvlaukuma uzturēšana
A32: 1-1-14 | B32: Līgumc. | C32: Mobīlā žoga h=2m noma 78m | D32: kpl. | E32: 1
A33: 1-1-15 | B33: Līgumc. | C33: Sadzīves telpas moduļa noma, 1gab. | D33: kpl. | E33: 1
A34: 1-1-16 | B34: Līgumc. | C34: Instrumentu noliktavas moduļa noma 1gb. | D34: kpl. | E34: 1
A35: 1-1-17 | B35: Līgumc. | C35: BIO tualetes moduļa apkalpošana, noma 1gb | D35: kpl. | E35: 1
A36: 1-1-18 | B36: Līgumc. | C36: Sadzīves atkritumu konteinera izvešana, noma 1gb. | D36: kpl. | E36: 1
A37: 1-1-19 | B37: Līgumc. | C37: Būvgružu konteineru izvešana, noma 1gb. | D37: kpl. | E37: 1
A38: 1-1-20 | B38: Līgumc. | C38: Maksa par elektroenerģiju | D38: kpl. | E38: 1
A39: 1-1-21 | B39: Līgumc. | C39: Maksa par ūdeni | D39: kpl. | E39: 1
A40: 1-2 | C40: DEMONTĀŽAS DARBI
A41: 1-2-22 | B41: Līgumc. | C41: Betona bruģakmens seguma demontāža saglabājot materiālu | D41: m2 | E41: 60.25
A42: 1-2-23 | B42: Līgumc. | C42: Cementbetona apmaļu 8x20x100 demontāža nododot apmales Pasūtītājam | D42: m | E42: 27.11
A43: 1-2-24 | B43: Līgumc. | C43: PVC ārdurvju un ailu apdares demontāža nododot durvis Pasūtītājam | D43: m² | E43: 2.32
A44: 1-2-25 | B44: Līgumc. | C44: PVC loga ar palodzēm, tai skaitā ailu iekšējās un ārējās apdares demontāža nododot logus un palodzes Pasūtītājam | D44: m² | E44: 1.33
A45: 1-2-26 | B45: Līgumc. | C45: Koka iekšdurvju demontāža nododot durvis Pasūtītājam | D45: m² | E45: 4.92
A46: 1-2-27 | B46: Līgumc. | C46: Riģipša konstrukcijas starpsienu nojaukšana | D46: m² | E46: 25.52
...

Sheet LT-2 el
A2: Lokālā tāme Nr.2
A4: Elektroapgāde (iekšējā)
A5: (būvdarbu veids vai konstruktīvā elementa nosaukums)
C7: Objekta nosaukums:Ēkas pārbūve vides pieejamības nodrošināšanai Rēzeknes ielā 1A, Viļānos, Rēzeknes novadā
C8: Būves nosaukums:
C9: Objekta adrese: Rēzeknes iela 1A, Viļāni, Rēzeknes novads
C10: Pasūtījuma Nr.:
C11: Tāme sastādīta 2024.gada tirgus cenās,pamatojoties uz EL daļas rasējumiem. | K11: Tāmes izmaksas: | M11: Eur | N11: =P51 -> 0
F13: =Kopsavilkums!C26 -> 0
A15: Nr.p.k. | B15: Kods | C15: Būvdarbu nosaukums | D15: Mērvienība | E15: Daudzums | F15: Vienības izmaksas | L15: Kopā uz visu apjomu
F16: Laika norma (c/h) | G16: darba samaksas likme* (euro/h) | H16: darba alga | I16: būvizstrādājumi | J16: mehānismi | K16: kopā | L16: darbietilpība (c/h) | M16: darba alga | N16: būvizstrādājumi | O16: mehānismi | P16: summa
A17: 1 | B17: 2 | C17: 3 | D17: 4 | E17: 5 | F17: 6 | G17: 7 | H17: 8 | I17: 9 | J17: 10 | K17: 11 | L17: 12 | M17: 13 | N17: 14 | O17: 15 | P17: 16
A18: 2-1 | C18: Iekšējie elektrotehniskie darbi | H18: =ROUND(G18*F18,2) -> 0 | K18: =ROUND(J18+I18+H18,2) -> 0 | L18: =ROUND(F18*E18,2) -> 0 | M18: =ROUND(H18*E18,2) -> 0 | N18: =ROUND(I18*E18,2) -> 0 | O18: =ROUND(J18*E18,2) -> 0 | P18: =ROUND(O18+N18+M18,2) -> 0
A19: 2-1-1 | C19: Sadalnes un komponentes | H19: =ROUND(F19*G19,2) -> 0 | K19: =ROUND(J19+I19+H19,2) -> 0 | L19: =ROUND(F19*E19,2) -> 0 | M19: =ROUND(H19*E19,2) -> 0 | N19: =ROUND(I19*E19,2) -> 0 | O19: =ROUND(J19*E19,2) -> 0 | P19: =ROUND(O19+N19+M19,2) -> 0
A20: 2-1-2 | B20: Līgumc. | C20: Mobilizācija un sagatavošanās būvdarbu veikšanai | D20: kompl. | E20: 1
A21: 2-1-3 | B21: Līgumc. | C21: Esošās elektroinstalācijas demontāža pārbūvējamās telpās | D21: kompl. | E21: 1
A22: 2-1-4 | B22: Līgumc. | C22: Esošo sadaļņu esošo iekārtu sagrupēšana, sakārtošana | D22: kompl. | E22: 2
A23: 2-1-5 | B23: Līgumc. | C23: Grupu automāta 1B6 montāža sadalnē | D23: gab. | E23: 1
A24: 2-1-6 | B24: Līgumc. | C24: Grupu automāta 1C16 montāža sadalnē | D24: gab. | E24: 2
A25: 2-1-7 | B25: Līgumc. | C25: Kombinētā noplūdes strāvas aizsardzības aparāta 1N/16/0,03 uzstādīšana sadalnē | D25: gab. | E25: 3
A26: 2-1-8 | B26: Līgumc. | C26: Zemapmetuma nozarkārbu montāža | D26: gab. | E26: 20
A27: 2-1-9 | B27: Līgumc. | C27: Virsapmetumu nozarkārbu montāža | D27: gab. | E27: 10
A28: 2-1-10 | B28: Līgumc. | C28: Kabeļ dzīslu savienotāju TORIX T6 montāža | D28: gab. | E28: 70
A29: 2-2 | C29: Invalīdu WC trauksmes sistēma
A30: 2-2-11 | B30: Līgumc. | C30: Sistēmas kontrolieris | D30: kompl. | E30: 1
A31: 2-2-12 | B31: Līgumc. | C31: Indikācijas lampa ar skaņas sirēnu | D31: gb | E31: 1
A32: 2-2-13 | B32: Līgumc. | C32: Izsaukuma poga | D32: gb | E32: 2
A33: 2-2-14 | B33: Līgumc. | C33: Izsaukuma atcelšanas poga | D33: gb | E33: 1
A34: 2-2-15 | B34: Līgumc. | C34: Signalizācijas kabelis 4x0,22 | D34: m | E34: 20
A35: 2-3 | C35: Kontaktligzdas
A36: 2-3-16 | B36: Līgumc. | C36: El. vienvietīgās rozetes z/a IP44, montāža, t.sk. rozetes mehānismi, montāžas kārbas, rāmīši, stiprinājuma elementi | D36: kompl. | E36: 3
A37: 2-3-17 | B37: Līgumc. | C37: El. divvietīgās rozetes z/a IP20, montāža, t.sk. rozetes mehānismi, montāžas kārbas, rāmīši, stiprinājuma elementi | D37: kompl. | E37: 2
A38: 2-3-18 | B38: Līgumc. | C38: El. piecvietīgās rozetes z/a IP20, montāža, t.sk. rozetes mehānismi, montāžas kārbas, rāmīši, stiprinājuma elementi | D38: kompl. | E38: 2
A39: 2-4 | C39: Slēdži
A40: 2-4-19 | B40: Līgumc. | C40: El. vientaustiņa slēdža z/a, IP20 montāža, t.sk. montāžas kārba, rāmīši, stiprinājuma elementi | D40: kompl. | E40: 3
A41: 2-4-20 | B41: Līgumc. | C41: El. divtaustiņa slēdža z/a IP20 montāža, t.sk. montāžas kārba, rāmīši, stiprinājuma elementi | D41: kompl. | E41: 1
A42: 2-5 | C42: Gaismekļi
A43: 2-5-21 | B43: Līgumc. | C43: Piekārtos griestos iebūvējams LED gaismeklis BERYL NEW LED O-3 3600 MICRO-PRM E 33 IP20/65 840, 25.5W, 3050lm, 4000K, CRI>80, UGR<19, mikro-prizmatisks difuzors, efektivitāte 119.6 lm/W, izmēri: Ø195x110mm, ekspluatācijas laiks >100 000h pie L80B10, atbilst ZPI, ražotājs Luxiona, artikuls: 19.4036.8221.33, vai ekvivalents | D43: kompl. | E43: 6
A44: 2-5-22 | B44: Līgumc. | C44: Piekārtos griestos iebūvējams LED gaismeklis BACKPANEL LED 3800 MICRO-PRM E 34 IP20/44 840, 25.9W, 3514lm, 4000K, CRI>80, UGR<19, mikro-prizmatisks difuzors, efektivitāte 135.7 lm/W, izmēri: 596x596x34mm, ekspluatācijas laiks >100 000h pie L80B10, atbilst ZPI, ražotājs Luxiona, artikuls: 19.3213.0006.34, vai ekvivalents | D44: kompl. | E44: 8
A45: 2-5-23 | B45: Līgumc. | C45: LED prožektors komplektā ar kustības sensoru, 30W, IP66, 4000K | D45: kompl. | E45: 1
...

Sheet LT-3 uk
A2: Lokālā tāme Nr.3
A4: Ūdensapgāde un kanalizācija (iekšējā)
A5: (būvdarbu veids vai konstruktīvā elementa nosaukums)
C7: Objekta nosaukums: Ēkas pārbūve vides pieejamības nodrošināšanai Rēzeknes ielā 1A, Viļānos, Rēzeknes novadā
C8: Būves nosaukums: Viļānu vidusskola
C9: Objekta adrese: Rēzeknes iela 1A, Viļāni, Rēzeknes novads
C10: Pasūtījuma Nr.:
C11: Tāme sastādīta 2024.gada tirgus cenās,pamatojoties uz UK daļas rasējumiem. | K11: Tāmes izmaksas: | M11: Eur | N11: =P39 -> 0
F13: =Kopsavilkums!C26 -> 0
A15: Nr.p.k. | B15: Kods | C15: Būvdarbu nosaukums | D15: Mērvienība | E15: Daudzums | F15: Vienības izmaksas | L15: Kopā uz visu apjomu
F16: Laika norma (c/h) | G16: darba samaksas likme* (euro/h) | H16: darba alga | I16: būvizstrādājumi | J16: mehānismi | K16: kopā | L16: darbietilpība (c/h) | M16: darba alga | N16: būvizstrādājumi | O16: mehānismi | P16: summa
A17: 1 | B17: 2 | C17: 3 | D17: 4 | E17: 5 | F17: 6 | G17: 7 | H17: 8 | I17: 9 | J17: 10 | K17: 11 | L17: 12 | M17: 13 | N17: 14 | O17: 15 | P17: 16
A18: 3-1 | C18: Ūdensvada tīkli, aprīkojums | H18: =ROUND(G18*F18,2) -> 0 | K18: =ROUND(J18+I18+H18,2) -> 0 | L18: =ROUND(F18*E18,2) -> 0 | M18: =ROUND(H18*E18,2) -> 0 | N18: =ROUND(I18*E18,2) -> 0 | O18: =ROUND(J18*E18,2) -> 0 | P18: =ROUND(O18+N18+M18,2) -> 0
A19: 3-1-1 | B19: Līgumc. | C19: Esošo pārsegumu šķērsošana ar caurulēm Ø≤50mm, kaļot caurumus, šķērsojuma vietā caurules aptīt ar ugunsdrošo lentu un caurumu aizpildīt ar ugunsdrošo javu | D19: vieta | E19: 3
A20: 3-1-2 | B20: Līgumc. | C20: PPR caurule OD16x2.2 PN16, ieskaitot fasondaļas (kausējamie veidgabali) un stiprinājumus uzstādīšana pie sienas/sienās, pie griestiem ar pretkondensāta izolāciju čaulā 9mm | D20: m | E20: 3.5
A21: 3-1-3 | B21: Līgumc. | C21: PPR caurule OD20x2.8 PN16, ieskaitot fasondaļas (kausējamie veidgabali) un stiprinājumus uzstādīšana pie sienas/sienās, pie griestiem ar pretkondensāta izolāciju čaulā 9mm | D21: m | E21: 9.5
A22: 3-1-4 | B22: Līgumc. | C22: PPR caurule OD16x2.2 PN16, ieskaitot fasondaļas (kausējamie veidgabali) un stiprinājumus uzstādīšana pie sienas/sienās, pie griestiem ar pretkondensāta izolāciju čaulā 19mm | D22: m | E22: 8.2
A23: 3-1-5 | B23: Līgumc. | C23: Esošā ūdens sildītāja pievienošana | D23: gb | E23: 1
A24: 3-1-6 | B24: Līgumc. | C24: Ūdens ņemšanas krāna uzstādīšana | D24: gb | E24: 2
A25: 3-1-7 | B25: Līgumc. | C25: Lodveida ventīļa Dn15 uzstādīšana | D25: gb | E25: 8
A26: 3-1-8 | B26: Līgumc. | C26: Roku mazgātnes invalīdiem uzstādīšana, ieskaitot jaucējkrānu, sifonu uc. un pievienošana pie ūdensvadiem un pie kanalizācijas | D26: kpl | E26: 1
A27: 3-1-9 | B27: Līgumc. | C27: Nerūsējošā tērauda izlietne ar virtuvei ieskaitot jaucējkrānu, sifonu uc. pievienošana pie ūdensvadiem un pie kanalizācijas | D27: kpl | E27: 1
A28: 3-1-10 | B28: Līgumc. | C28: Balta, stiprināma pie grīdas ar horizontālu izvadu, mīksto WC vāku un sēdriņķi, ūdens pievadu no sāna invalīdu poda ar sēdekļa augstumu 460mm un skalošanas tvertni, ieskaitot pievienojuma fasondaļu komplektu, uzstādīšana un pievienošana pie ūdensvadiem un pie kanalizācijas tīkliem. Stacionātra un paceļama invalīdu rokturu 800x100x300mm un 880x70x80mm (krāsa:satīns) piestiprināšana pie sienas | D28: kompl. | E28: 1
A29: 3-1-11 | B29: Līgumc. | C29: Pieslēgums pie esošā ūdensvada | D29: vieta | E29: 1
A30: 3-1-12 | B30: Līgumc. | C30: Sistēmas skalošana, dezinfekcija un hidrauliskā pārbaude | D30: obj. | E30: 1
A31: 3-2 | C31: Iekšējie kanalizācijas tīkli, aprīkojums
A32: 3-2-13 | B32: Līgumc. | C32: Esošo pārsegumu šķērsošana ar caurulēm Ø≤110mm, kaļot caurumus, šķērsojuma vietā caurules aptīt ar ugunsdrošo lentu vai uzstādīt ugunsdrošo manžeti un caurumu aizpildīt ar ugunsdrošo javu | D32: vieta | E32: 3
A33: 3-2-14 | C33: Ugunsdrošās manžetes CFS-C-P Hilti uzstādīšana DN50 | D33: gb | E33: 2
A34: 3-2-15 | B34: Līgumc. | C34: Ugunsdrošās manžetes CFS-C-P Hilti uzstādīšana DN110 | D34: gb | E34: 1
A35: 3-2-16 | B35: Līgumc. | C35: Plastmasas kanalizācijas cauruļu PP OD32, ieskaitot veidgabalus un stiprinājumus, uzstādīšana pie griestiem/sienām | D35: m | E35: 1.2
A36: 3-2-17 | B36: Līgumc. | C36: Plastmasas kanalizācijas cauruļu PP OD50, ieskaitot veidgabalus un stiprinājumus, uzstādīšana pie griestiem/sienām | D36: m | E36: 4.8
A37: 3-2-18 | B37: Līgumc. | C37: Plastmasas kanalizācijas cauruļu PP OD110, ieskaitot veidgabalus un stiprinājumus, uzstādīšana pie griestiem/sienām | D37: m | E37: 4.3
A38: 3-2-19 | B38: Līgumc. | C38: Pieslēgums pie esošās saimnieciskās kanalizācijas | D38: vieta | E38: 1
C39: Tiešās izmaksas kopā, t.sk. darba devēja sociālais nodoklis (23,59%) | L39: =SUM(L18:L38) -> 0 | M39: =SUM(M18:M38) -> 0 | N39: =SUM(N18:N38) -> 0 | O39: =SUM(O18:O38) -> 0 | P39: =ROUND(O39+N39+M39,2) -> 0
C43: (paraksts un tā atšifrējums,datums)
C44: Tāme sastādīta ___
C48: (paraksts un tā atšifrējums,datums)
