Workbook

Sheet Saturs
A1: Saturs | D1: Saimnieciski izdevīgākā piedāvājuma punktu piešķiršanas sistēma
A2: Nr. | B2: Nosaukums | C2: Skaits*** | D2: Cena (A), maksimālais punktu skaits | E2: Jānorāda Preces ražotāja noteiktais preces paredzamais lietošanas ilgums (gados) (B), maksimālais punktu skaits | F2: Preces elektroenerģijas patēriņš vai Preces energoefektivitātē (C), maksimālais punktu skaits | G2: Kopā, maksimālais punktu skaits
A3: 1 | B3: Medikamentu ledusskapis ar saldētavu | C3: 10 | D3: 80 | E3: 10 | F3: 10 | G3: =D3+E3+F3 -> 100
A4: 2 | B4: Mazs medikamentu ledusskapis | C4: 10 | D4: 80 | E4: 10 | F4: 10 | G4: =D4+E4+F4 -> 100
A5: 3 | B5: Medikamentu ledusskapis | C5: 10 | D5: 80 | E5: 10 | F5: 10 | G5: =D5+E5+F5 -> 100
A6: 4 | B6: Laboratorijas ledusskapis | C6: 10 | D6: 80 | E6: 10 | F6: 10 | G6: =D6+E6+F6 -> 100
A7: 5 | B7: Laboratorijas ledusskapis ar saldētavu | C7: 10 | D7: 80 | E7: 10 | F7: 10 | G7: =D7+E7+F7 -> 100
A8: 6 | B8: Laboratorijas saldētava | C8: 5 | D8: 80 | E8: 10 | F8: 10 | G8: =D8+E8+F8 -> 100

Sheet Obligātās prasības
A1: nr. | B1: Obligātās prsības iekārtām un iesniegtajam piedāvājumam
C2: 1. pozīcija - Medikamentu ledusskapis ar saldētavu | D2: 2. pozīcija -Mazs medikamentu ledusskapis | E2: 3. pozīcija - Medikamentu ledusskapis | F2: 4. pozīcija - Laboratorijas ledusskapis | G2: 5. pozīcija - Laboratorijas ledusskapis ar saldētavu | H2: 6. pozīcija - Laboratorijas saldētava
A3: Piemērs | B3: Piemērs | C3: "-"(gadījumos, ja nepiesakās uz pozīciju) | D3: "-"(gadījumos, ja nepiesakās uz pozīciju) | E3: "-"(gadījumos, ja nepiesakās uz pozīciju) | F3: "-"(gadījumos, ja nepiesakās uz pozīciju) | G3: "-"(gadījumos, ja nepiesakās uz pozīciju) | H3: "-"(gadījumos, ja nepiesakās uz pozīciju)
A4: Piedāvājumam jāpievieno:
A5: 1 | B5: Preces ražotāja izsniegta autorizācijas vēstule, kas apliecina, ka pretendents ir tiesīgs izplatīt un nodrošināt tehnisko apkalpošanu* piedāvātai Precei Latvijas Republikā. Vai arī ražotāja apliecinājums, ka autorizācija nav nepieciešama.
A6: 2 | B6: Piedāvātas Preces atbilstības deklarācijas kopija.
A7: 3 | B7: Piedāvātas Preces CE sertifikāta kopija, ja attiecināms.
A8: 4 | B8: Ja ražotājs ir paredzējis, ka periodiski veicamos darbus** un/vai remontu var veikt tikai sertificēts inženieris, piesakoties uz atbilstošo pozīciju, jāiesniedz atbilstošs inženiera sertifikāts par apmācībām, kurās norādīta atbilstība veikt konkrētā modeļa ierīču periodiskos darbus un/vai remontu vai iesniegt ražotāja apliecinājumu par Preces garantijas remonta un tehniskās apkalpošanas pasākumu, ja tādi ir nepieciešami, nodrošināšanas iespējām.
A9: 5 | B9: Ražotāja apstiprinātu periodiski veicamo darbu sarakstu, kā arī šo darbu periodiskumu (servisa rokasgrāmatas attiecīgās sadaļas ar ietvertu informāciju par veicamajām darbībām, to periodiskumu, mērāmajiem parametriem, to robežvērtībām, regulāri maināmajām rezerves daļām), ja ražotājs tādus ir paredzējis. Ja ražotājs nav paredzējis periodiski veicamos darbus, par to jāiesniedz ražotāja apliecinājums. Servisa rokasgrāmatas sadaļas var aizstāt ar ražotāja apstiprinātu dokumentu, kas ietver šajā punktā aprakstīto informāciju.
A10: 6 | B10: Piedāvājumā iesniegt iespējamās remontstundas un periodiski veicamo darbu izmaksas pēc garantijas periodā, ja ražotājs tādas ir paredzējis | C10: Izmaksas norādīt sadaļā "Iekārtu tehniskā apkalpošana" | D10: Izmaksas norādīt sadaļā "Iekārtu tehniskā apkalpošana" | E10: Izmaksas norādīt sadaļā "Iekārtu tehniskā apkalpošana" | F10: Izmaksas norādīt sadaļā "Iekārtu tehniskā apkalpošana" | G10: Izmaksas norādīt sadaļā "Iekārtu tehniskā apkalpošana" | H10: Izmaksas norādīt sadaļā "Iekārtu tehniskā apkalpošana"
A11: Prasības precei:
A12: 7 | B12: Piedāvātā Prece ir jauna, iepriekš nelietota un nav izmantota prezentācijās; tā nesatur iepriekš lietotas vai atjaunotas sastāvdaļas vai komponentes. Tā ir ražota ne agrāk kā 12 mēnešus pirms piegādes. | C12: Piedāvājot savu preci, pretendents apstiprina preces nosacījumu izpildi.
A13: 8 | B13: Piedāvātajām Precēm garantijas termiņš ir vismaz 24 mēneši no pieņemšanas – nodošanas akta abpusējas parakstīšanas brīža.
A14: 9 | B14: Garantijas laikā Piegādātājs bez papildus samaksas nodrošina ierīces remontu un periodiskos darbus atbilstoši ražotāja noteiktajām prasībām, ja ražotājs tādu ir paredzējis.
A15: 10 | B15: Garantijas laikā Piegādātājs bez papildus samaksas nodrošina konsultācijas un atkārtotas apmācības par Preci, ja tādas ir nepieciešamas lietotājam.
A16: 11 | B16: Prece tiek piegādāta 30 dienu laikā, bet ne ilgāk kā 90 dienu laikā lūdzam norādīt iekārtas piegādes laiku | C16: Norādīt piegādes laiku: | D16: Norādīt piegādes laiku: | E16: Norādīt piegādes laiku: | F16: Norādīt piegādes laiku: | G16: Norādīt piegādes laiku: | H16: Norādīt piegādes laiku:
A17: Preces piegādes nosacījumi:
A18: 12 | B18: Piegādājot Preci, Piegādātājs nodod sekojošu dokumentāciju: medicīniskās ierīces lietošanas instrukcijas un citas dokumentācijas oriģinālvalodā un valsts valodā nodošanu (gan papīra, gan digitālā formātā) un vigilances sistēmas darbības izskaidrošanu lietotājam attiecībā uz konkrēto medicīnisko ierīci | C18: Piedāvājot savu preci, pretendents apstiprina preces piegādes nosacījumu izpildi.
A19: 13 | B19: Nododot Preci ekspluatācijā, piegādātājs nodrošina Preces uzstādīšanu, ierīces funkcionālo un elektrodrošības pārbaudi, kā arī funkciju testēšanu un ierīces kalibrēšanu(ja, uzsākot tās ekspluatāciju, tādas prasības paredzētas ierīces tehniskajā dokumentācijā), iesniedz domenentāciju par šo darbu izpildi.
A20: 14 | B20: Piegādājot preci piegādātās veic medicīniskās ierīces lietotāja apmācību un izsniedzot apliecinošu dokumentu, kurā norāda apmācīto personu, personu, kura veikusi apmācību, un apmācības veikšanas datumu; Piegādājot preci piegādātās veic medicīniskās ierīces tehniskajā dokumentācijā pieprasīto ierīces lietošanas vides raksturlielumu un garantētā elektroapgādes režīma pārbaudi un šo pierakstu nodošanu medicīniskās ierīces īpašniekam vai turētājam.
A21: 15 | B21: Piegādājot Preci, Piegādātājs nodrošina medicīniskās ierīces tehniskajā dokumentācijā pieprasīto ierīces lietošanas vides raksturlielumu un garantētā elektroapgādes režīma pārbaudi un šo pierakstu nodošanu pasūtītājam (Attiecināms uz Aktīvām IIa, aktīvām IIb un aktīvām III klases medicīnas ierīcēm ierīcēm, kurām ražotājs šādu pārbaudi ir noteicis)
A22: Tehniskās apkalpošanas nodrošināšanas nosacījumi
A23: 16 | B23: Visu veidu tehniskā apkalpošana tiek veikta tikai pēc Pasūtītāja pieprasījuma. | C23: Piedāvājot savu preci, pretendents apstiprina tehniskās apkalpošanas nodrošināšanas nosacījumu izpildi.
A24: 17 | B24: Visu veidu tehniskā apkalpošana tikai izņēmuma gadījumos notiek ārpus Slimnīcas teritorijas, iepriekš to saskaņojot ar Pasūtītāju. Ja autorizētais pārstāvis iekārtas tehnisko apkalpošanu nenodrošina uz vietas, bet ierīce tiek sūtīta ražotājam, tad to norādīt piedāvājumā.
A25: 18 | B25: Tehniskā uzraudzība jādokumentē atbilstoši ražotāja un 2023.gada 15.augusta Ministru kabineta noteikumu nr. 461 "Medicīnisko ierīču noteikumi" punktiem 45., 56., 59., norādot visas izmantotās mēriekārtas un mērīto lielumu robežvērtības, ja attiecināms.
A26: 19 | B26: Visu veidu tehniskā apkalpošana jādokumentē un jānoslēdz ar abpusēji parakstītu pieņemšanas/nodošanas vai servisa aktu.
A27: 20 | B27: Ierīces defektācija tiek veikta trīs darba dienu laikā no pieprasījuma saņemšanas, iesniedzot rakstisku atzinumu par ierīces tehnisko stāvokli. Darbības traucējumi tiek novērsti 5 darba dienu laikā no pieprasījuma saņemšanas vai defektācijas akta apstiprināšanas brīža. Par ilgāku bojājuma novēršanas izpildes laiku jāvienojas atsevišķi.
A28: 21 | B28: Ja iekārtas darbības atjaunošanai nepieciešama rezerves daļu nomaiņa, tad tiek sastādīts defektācijas akts un rezerves daļu nomaiņa tiek veikta tikai pēc defekta akta saskaņošanas ar Pasūtītāju.
A29: 22 | B29: Garantēt veikto darbu atbilstību ierīces ražotāja noteiktajiem standartiem un Latvijas Republikā spēkā esošajiem normatīvajiem aktiem, paredzot ne mazāk kā trīs mēnešu garantiju nomainītajām rezerves daļām, materiāliem un ar to nomaiņu saistītiem remontdarbiem.
A30: 23 | B30: Garantēt, ka tehnisko apkalpošanu veic ražotājs vai ražotāja atbilstoši apmācīts un sertificēts speciālists, ja ražotājs tā paredzējis.
A31: 24 | B31: Informēt Pasūtītāju gadījumos, ja ražotājs plāno pārtraukt tehnisko pavadību un tiklīdz ražotājs ir pārtraucis iekārtas tehnisko pavadību.
A32: 25 | B32: Servisa stundas likme ietver visas izmaksas (administratīvās, transporta, inženiera stundas likmi, servisam nepieciešamo instrumentu un materiālu (salvetes, skrūvju līme u.tml.) u.c.), izņemot rezerves daļu izmaksas, kas nepieciešamas, lai nodrošinātu vienu ierīces remonta/tehniskās apkalpošanas stundu. Laika uzskaites vienības - pusstunda vai stunda.
A33: 26 | B33: Periodiski veicamo darbu cenā ir ietvertas visas elektrodrošības un funkcionālās pārbaudes izmaksas, ja ražotājs tādas pārbaudes ir paredzējis.
A34: 27 | B34: Periodisko veicamo darbu veikšanai nepieciešamo piederumu (vienreizlietojamās sistēmas, kontūri u.tml.) izmaksas jāiekļauj pakalpojuma cenā.
A35: 28 | B35: Jānorāda paredzamais periodiski veicamo darbu ilgums, kas ir nepieciešams, lai varētu plānot ierīces pieejamību. Apmaksa par darba ilgumu tiks veikta pēc pieņemšanas/nodošanas vai servisa aktā minētā laika
A36: 29 | B36: Ja ražotājs ir paredzējis, ka periodiski veicamos darbus vai remontu var veikt nesertificēts inženieris, tad tiek pieņemts, ka tos var veikt Slimnīcas tehniskais personāls
A37: Papildus informācija par iepirkumu un piedāvājuma aizpildīšanas prasībām:
A38: 30 | B38: Pretendents tehniskajā piedāvājumā norāda Preces ražotāju, modeli un atbilstošos parametrus.
A39: 31 | B39: Parametru atbilstību pamatot ar norādi uz tehniskajām datu lapām vai informatīviem materiāliem, norādot atsauci tehniskajā piedāvājumā uz konkrēto lapaspusi un punktu. Informatīvajā materiālā norādīt tehniskās specifikācijas punktu, uz kuru attiecināms.
A40: 32 | B40: Iepirkums ir sadalīts 6 pozīcijās. Līguma slēgšanas tiesības tiks piešķirtas par katru pozīciju atsevišķi, parakstot vispārīgo vienošanos.
...

Sheet 1
A1: 1.pozīcija - Medikamentu ledusskapis ar saldētavu | D1: Pretendenta piedāvājums, atsauce uz informatīvo materiālu (Informatīvā materiāla nosaukums, lpp.)
A2: Nr. | B2: Preces nosaukums, veicamās funkcijas, tehniskās prasības un komplektācija | C2: Skaits, gab.***
A3: Piemērs | B3: Piemērs | C3: Piemērs | D3: Informatīvais materiāls 2, 4.lpp
A4: 1. | B4: Nosaukums: Medikamentu ledusskapis ar saldētavu | C4: 10 | D4: (Norādīt iekārtu, modeli, ražotāju, atsauci uz info materiālu)
A5: 1.1. | B5: Veicamās funkcijas:
A6: 1.1.1. | B6: Medikamentu konstantas uzglabāšanas temperatūras uzturēšana slimnīcas vajadzībām
A7: 1.2. | B7: Tehniskās prasības:
A8: 1.2.1 | B8: Ledusskapja kameras tilpums: 200 ± 20 L
A9: 1.2.2 | B9: Saldētavas kameras tilpums: 100 ± 20 L
A10: 1.2.3 | B10: Iekārtas augstums nepārsniedz 215 cm
A11: 1.2.4 | B11: Uzstādāmās temperatūras diapazons ledusskapim vismaz +3 līdz +8 ºC
A12: 1.2.5 | B12: Uzstādāmās temperatūras diapazons saldētavai vismaz -30 līdz -15 ºC
A13: 1.2.6 | B13: Atvilktņu skaits saldētavā: vismaz 2
A14: 1.2.7 | B14: Plauktu skaits ledusskapī: vismaz 4
A15: 1.2.8 | B15: Divas (viena saldētavai un viena ledusskapim) ar atslēgu aizslēdzamas durvis (aizslēdzamas katra atsevišķi)
A16: 1.2.9 | B16: Divpusējas durvju eņģes (iespēja mainīt durvju atvēršanas virzienu)
... A31: 1.2.24 | B31: Iekārta tiek piegādāta pilnā komplektācijā pirmreizējai lietošanai
A34: Saimnieciski visizdevīgākā piedāvājuma vērtēšanai norādāmā papildus informācija | C34: Saimnieciski visizdevīgākā piedāvājuma vērtēšanai norādāmā papildus informācija Pretendenta piedāvājums, atsauce uz informatīvo materiālu vai ražotāja apliecinājumu
A35: B | B35: Jānorāda Preces ražotāja noteiktais preces paredzamais lietošanas ilgums (gados)
A36: C | B36: Jānorāda Preces ražotāja noteiktais elektroenerģijas patēriņš darba režīmā (voltampēros (VA) vai vatos (W))
A39: Daļa | B39: VĒRTĒŠANAS KRITĒRIJI | C39: ĪPATSVARS
A40: A | B40: Preču kopējās (iegāde, piederumi un tehniskā apkope) izmaksas | C40: 80
A41: B | B41: Preces paredzamais lietošanas ilgums | C41: 10
A42: C | B42: Elektroenerģijas patēriņš darba režīmā | C42: 10
A43: ∑ | B43: Maksimālais īpatsvars (kopējais punktu skaits) ∑=A+B+C | C43: 100
A46: Komisija katrā daļā piešķir īpatsvaru (punktu skaitu), šādā kārtībā: 1) A (Preču kopējās izmaksas) un C (Elektroenerģijas patēriņš) daļai - viszemākajai vērtība tiek piešķirts maksimālais punktu skaits. Ja piedāvājumā nav norādīta informācija par elektroenerģijas patēriņu tiek piešķirti 0 punkti. 2) Nākamās vērtības A (Preču kopējās izmaksas) un C (Elektroenerģijas patēriņš) daļai tiek aprēķinātas proporcionāli A vai C = (A vai C zemākā iesniegtā vērtība no visiem pretendentiem )/(faktiskā iesniegtā vērtība konkrētajam pretendentam) x Piešķiramais punktu skaits 3) B (Preces ražotāja noteiktais preces maksimālais lietošanas ilgums) daļai - vislielākajai vērtības tiek piešķirts maksimālais punktu skaits 4) Nākamās vērtības B (Preces ražotāja noteiktais preces maksimālais lietošanas ilgums) daļai tiek aprēķinātas proporcionāli. Ja piedāvājumā nav norādīta informācija par preces lietošanas ilgumu tiek pieņemts, ka lietošanas ilgums ir noteiktais garantijas laiks B = (faktiskā iesniegtā vērtība konkrētajam pretendentam)/(B augstākā iesniegtā vērtība no visiem pretendentiem ) x Piešķiramais punktu skaits

Sheet 2
A1: 2. pozīcija - Mazs medikamentu ledusskapis | D1: Pretendenta piedāvājums, atsauce uz informatīvo materiālu (Informatīvā materiāla nosaukums, lpp.)
A2: Nr. | B2: Preces nosaukums, veicamās funkcijas, tehniskās prasības un komplektācija | C2: Skaits, gab.***
A3: Piemērs | B3: Piemērs | C3: Piemērs | D3: Informatīvais materiāls 2, 4.lpp
A4: 2. | B4: Nosaukums: Mazs medikamentu ledusskapis | C4: 10 | D4: (Norādīt iekārtu, modeli, ražotāju, atsauci uz info materiālu)
A5: 2.1. | B5: Veicamās funkcijas:
A6: 2.1.1. | B6: Medikamentu konstantas uzglabāšanas temperatūras uzturēšana slimnīcas vajadzībām
A7: 2.2. | B7: Tehniskās prasības:
A8: 2.2.1 | B8: Ledusskapja kameras tilpums: 115 ± 20 L
A9: 2.2.2 | B9: Iekārtas izmēri nepārsniedz 85 x 65 x 65 cm
A10: 2.2.3 | B10: Atbilst standartam DIN13277
A11: 2.2.4 | B11: Uzstādāmās temperatūras diapazons ledusskapim vismaz +3 līdz +8 ºC
A12: 2.2.5 | B12: Plauktu skaits ledusskapī: vismaz 3
A13: 2.2.6 | B13: Caurspīdīgas, ar atslēgu aizslēdzamas durvis
A14: 2.2.7 | B14: Divpusējas durvju eņģes (iespēja mainīt durvju atvēršanas virzienu)
A15: 2.2.8 | B15: Temperatūras izmaiņas solis ledusskapim vismaz 0,1 ºC
A16: 2.2.9 | B16: Digitāls vadības displejs
... A23: 2.2.16 | B23: Iekārta tiek piegādāta pilnā komplektācijā pirmreizējai lietošanai
A26: Saimnieciski visizdevīgākā piedāvājuma vērtēšanai norādāmā papildus informācija | C26: Saimnieciski visizdevīgākā piedāvājuma vērtēšanai norādāmā papildus informācija Pretendenta piedāvājums, atsauce uz informatīvo materiālu vai ražotāja apliecinājumu
A27: B | B27: Jānorāda Preces ražotāja noteiktais preces paredzamais lietošanas ilgums (gados)
A28: C | B28: Jānorāda Preces ražotāja noteiktais elektroenerģijas patēriņš darba režīmā (voltampēros (VA) vai vatos (W))
A31: Daļa | B31: VĒRTĒŠANAS KRITĒRIJI | C31: ĪPATSVARS
A32: A | B32: Preču kopējās (iegāde, piederumi un tehniskā apkope) izmaksas | C32: 80
A33: B | B33: Preces paredzamais lietošanas ilgums | C33: 10
A34: C | B34: Elektroenerģijas patēriņš darba režīmā | C34: 10
A35: ∑ | B35: Maksimālais īpatsvars (kopējais punktu skaits) ∑=A+B+C | C35: 100
A38: Komisija katrā daļā piešķir īpatsvaru (punktu skaitu), šādā kārtībā: 1) A (Preču kopējās izmaksas) un C (Elektroenerģijas patēriņš) daļai - viszemākajai vērtība tiek piešķirts maksimālais punktu skaits. Ja piedāvājumā nav norādīta informācija par elektroenerģijas patēriņu tiek piešķirti 0 punkti. 2) Nākamās vērtības A (Preču kopējās izmaksas) un C (Elektroenerģijas patēriņš) daļai tiek aprēķinātas proporcionāli A vai C = (A vai C zemākā iesniegtā vērtība no visiem pretendentiem )/(faktiskā iesniegtā vērtība konkrētajam pretendentam) x Piešķiramais punktu skaits 3) B (Preces ražotāja noteiktais preces maksimālais lietošanas ilgums) daļai - vislielākajai vērtības tiek piešķirts maksimālais punktu skaits 4) Nākamās vērtības B (Preces ražotāja noteiktais preces maksimālais lietošanas ilgums) daļai tiek aprēķinātas proporcionāli. Ja piedāvājumā nav norādīta informācija par preces lietošanas ilgumu tiek pieņemts, ka lietošanas ilgums ir noteiktais garantijas laiks B = (faktiskā iesniegtā vērtība konkrētajam pretendentam)/(B augstākā iesniegtā vērtība no visiem pretendentiem ) x Piešķiramais punktu skaits

Sheet 3
A1: 3. pozīcija - Medikamentu ledusskapis | D1: Pretendenta piedāvājums, atsauce uz informatīvo materiālu (Informatīvā materiāla nosaukums, lpp.)
A2: Nr. | B2: Preces nosaukums, veicamās funkcijas, tehniskās prasības un komplektācija | C2: Skaits, gab.***
A3: Piemērs | B3: Piemērs | C3: Piemērs | D3: Informatīvais materiāls 2, 4.lpp
A4: 3. | B4: Nosaukums: Medikamentu ledusskapis | C4: 10 | D4: (Norādīt piedāvātās iekārtas ražotāju un modeli)
A5: 3.1. | B5: Veicamās funkcijas:
A6: 3.1.1. | B6: Medikamentu konstantas uzglabāšanas temperatūras uzturēšana slimnīcas vajadzībām
A7: 3.2. | B7: Tehniskās prasības:
A8: 3.2.1 | B8: Ledusskapja kameras tilpums: 380 ± 35 L
A9: 3.2.2 | B9: Iekārtas maksimālais augstums ir 215 cm
A10: 3.2.3 | B10: Atbilst standartam DIN13277
A11: 3.2.4 | B11: Uzstādāmās temperatūras diapazons ledusskapim vismaz ir +3 līdz +8 ºC
A12: 3.2.5 | B12: Regulējamo plauktu skaits vismaz 5
A13: 3.2.6 | B13: Caurspīdīgas, ar atslēgu aizslēdzamas durvis
A14: 3.2.7 | B14: Divpusējās durvju eņģes (iespēja mainīt durvju atvēršanas virzienu)
A15: 3.2.8 | B15: Temperatūras izmaiņas solis vismaz 0,1 ºC
A16: 3.2.9 | B16: Digitāls vadības displejs
... A23: 3.2.16 | B23: Iekārta tiek piegādāta pilnā komplektācijā pirmreizējai lietošanai
A27: Saimnieciski visizdevīgākā piedāvājuma vērtēšanai norādāmā papildus informācija | C27: Saimnieciski visizdevīgākā piedāvājuma vērtēšanai norādāmā papildus informācija Pretendenta piedāvājums, atsauce uz informatīvo materiālu vai ražotāja apliecinājumu
A28: B | B28: Jānorāda Preces ražotāja noteiktais preces paredzamais lietošanas ilgums (gados)
A29: C | B29: Jānorāda Preces ražotāja noteiktais elektroenerģijas patēriņš darba režīmā (voltampēros (VA) vai vatos (W))
A32: Daļa | B32: VĒRTĒŠANAS KRITĒRIJI | C32: ĪPATSVARS
A33: A | B33: Preču kopējās (iegāde, piederumi un tehniskā apkope) izmaksas | C33: 80
A34: B | B34: Preces paredzamais lietošanas ilgums | C34: 10
A35: C | B35: Elektroenerģijas patēriņš darba režīmā | C35: 10
A36: ∑ | B36: Maksimālais īpatsvars (kopējais punktu skaits) ∑=A+B+C | C36: 100
A39: Komisija katrā daļā piešķir īpatsvaru (punktu skaitu), šādā kārtībā: 1) A (Preču kopējās izmaksas) un C (Elektroenerģijas patēriņš) daļai - viszemākajai vērtība tiek piešķirts maksimālais punktu skaits. Ja piedāvājumā nav norādīta informācija par elektroenerģijas patēriņu tiek piešķirti 0 punkti. 2) Nākamās vērtības A (Preču kopējās izmaksas) un C (Elektroenerģijas patēriņš) daļai tiek aprēķinātas proporcionāli A vai C = (A vai C zemākā iesniegtā vērtība no visiem pretendentiem )/(faktiskā iesniegtā vērtība konkrētajam pretendentam) x Piešķiramais punktu skaits 3) B (Preces ražotāja noteiktais preces maksimālais lietošanas ilgums) daļai - vislielākajai vērtības tiek piešķirts maksimālais punktu skaits 4) Nākamās vērtības B (Preces ražotāja noteiktais preces maksimālais lietošanas ilgums) daļai tiek aprēķinātas proporcionāli. Ja piedāvājumā nav norādīta informācija par preces lietošanas ilgumu tiek pieņemts, ka lietošanas ilgums ir noteiktais garantijas laiks B = (faktiskā iesniegtā vērtība konkrētajam pretendentam)/(B augstākā iesniegtā vērtība no visiem pretendentiem ) x Piešķiramais punktu skaits

Sheet 4
A1: 4. pozīcija - Laboratorijas ledusskapis | D1: Pretendenta piedāvājums, atsauce uz informatīvo materiālu (Informatīvā materiāla nosaukums, lpp.)
A2: Nr. | B2: Preces nosaukums, veicamās funkcijas, tehniskās prasības un komplektācija | C2: Skaits, gab.***
A3: Piemērs | B3: Piemērs | C3: Piemērs | D3: Informatīvais materiāls 2, 4.lpp
A4: 4. | B4: Nosaukums: Laboratorijas ledusskapis | C4: 10 | D4: (Norādīt iekārtu, modeli, ražotāju, atsauci uz info materiālu)
A5: 2.1. | B5: Veicamās funkcijas:
A6: 4.1.1. | B6: Reaģentu konstantas uzglabāšanas temperatūras uzturēšana slimnīcas laboratorijas vajadzībām
A7: 4.2. | B7: Tehniskās prasības:
A8: 4.2.1 | B8: Ledusskapja kameras tilpums: 380 ± 35 L
A9: 4.2.2 | B9: Iekārtas maksimālais augstums ir 215 cm
A10: 4.2.3 | B10: Uzstādāmās temperatūras diapazons ledusskapim vismaz ir +3 līdz +8 ºC
A11: 4.2.4 | B11: Regulējamo plauktu skaits vismaz 5
A12: 4.2.5 | B12: Necaurspīdīgas, ar atslēgu aizslēdzamas durvis
A13: 4.2.6 | B13: Divpusējās durvju eņģes (iespēja mainīt durvju atvēršanas virzienu)
A14: 4.2.7 | B14: Temperatūras izmaiņas solis vismaz 0,1 ºC
A15: 4.2.8 | B15: Digitāls vadības displejs
A16: 4.2.9 | B16: Aukstuma aģents: R600a (vai cits, kura GWP (Global Warming Potential) ir mazāks par 150)
... A22: 4.2.15 | B22: Iekārta tiek piegādāta pilnā komplektācijā pirmreizējai lietošanai
A26: Saimnieciski visizdevīgākā piedāvājuma vērtēšanai norādāmā papildus informācija | C26: Saimnieciski visizdevīgākā piedāvājuma vērtēšanai norādāmā papildus informācija Pretendenta piedāvājums, atsauce uz informatīvo materiālu vai ražotāja apliecinājumu
A27: B | B27: Jānorāda Preces ražotāja noteiktais preces paredzamais lietošanas ilgums (gados)
A28: C | B28: Jānorāda Preces ražotāja noteiktais elektroenerģijas patēriņš darba režīmā (voltampēros (VA) vai vatos (W))
A31: Daļa | B31: VĒRTĒŠANAS KRITĒRIJI | C31: ĪPATSVARS
A32: A | B32: Preču kopējās (iegāde, piederumi un tehniskā apkope) izmaksas | C32: 80
A33: B | B33: Preces paredzamais lietošanas ilgums | C33: 10
A34: C | B34: Elektroenerģijas patēriņš darba režīmā | C34: 10
A35: ∑ | B35: Maksimālais īpatsvars (kopējais punktu skaits) ∑=A+B+C | C35: 100
A38: Komisija katrā daļā piešķir īpatsvaru (punktu skaitu), šādā kārtībā: 1) A (Preču kopējās izmaksas) un C (Elektroenerģijas patēriņš) daļai - viszemākajai vērtība tiek piešķirts maksimālais punktu skaits. Ja piedāvājumā nav norādīta informācija par elektroenerģijas patēriņu tiek piešķirti 0 punkti. 2) Nākamās vērtības A (Preču kopējās izmaksas) un C (Elektroenerģijas patēriņš) daļai tiek aprēķinātas proporcionāli A vai C = (A vai C zemākā iesniegtā vērtība no visiem pretendentiem )/(faktiskā iesniegtā vērtība konkrētajam pretendentam) x Piešķiramais punktu skaits 3) B (Preces ražotāja noteiktais preces maksimālais lietošanas ilgums) daļai - vislielākajai vērtības tiek piešķirts maksimālais punktu skaits 4) Nākamās vērtības B (Preces ražotāja noteiktais preces maksimālais lietošanas ilgums) daļai tiek aprēķinātas proporcionāli. Ja piedāvājumā nav norādīta informācija par preces lietošanas ilgumu tiek pieņemts, ka lietošanas ilgums ir noteiktais garantijas laiks B = (faktiskā iesniegtā vērtība konkrētajam pretendentam)/(B augstākā iesniegtā vērtība no visiem pretendentiem ) x Piešķiramais punktu skaits

Sheet 5
A1: 5. pozīcija - Laboratorijas ledusskapis ar saldētavu | D1: Pretendenta piedāvājums, atsauce uz informatīvo materiālu (Informatīvā materiāla nosaukums, lpp.)
A2: Nr. | B2: Preces nosaukums, veicamās funkcijas, tehniskās prasības un komplektācija | C2: Skaits, gab.***
A3: Piemērs | B3: Piemērs | C3: Piemērs | D3: Informatīvais materiāls 2, 4.lpp
A4: 5. | B4: Nosaukums: Laboratorijas ledusskapis ar saldētavu | C4: 10 | D4: (Norādīt iekārtu, modeli, ražotāju, atsauci uz info materiālu)
A5: 5.1. | B5: Veicamās funkcijas:
A6: 5.1.1. | B6: Reaģentu konstantas uzglabāšanas temperatūras uzturēšana slimnīcas laboratorijas vajadzībām
A7: 5.2. | B7: Tehniskās prasības:
A8: 5.2.1 | B8: Ledusskapja kameras tilpums: 200 ± 20 L
A9: 5.2.2 | B9: Saldētavas kameras tilpums: 100 ± 20 L
A10: 5.2.3 | B10: Iekārtas augstums nepārsniedz 215 cm
A11: 5.2.4 | B11: Uzstādāmās temperatūras diapazons ledusskapim vismaz +3 līdz +8 ºC
A12: 5.2.5 | B12: Uzstādāmās temperatūras diapazons saldētavai vismaz -30 līdz -15 ºC
A13: 5.2.6 | B13: Atvilktņu skaits saldētavā: vismaz 2
A14: 5.2.7 | B14: Plauktu skaits ledusskapī: vismaz 4
A15: 5.2.8 | B15: Divas (viena saldētavai un viena ledusskapim) ar atslēgu aizslēdzamas durvis (aizslēdzamas katra atsevišķi)
A16: 5.2.9 | B16: Divpusējas durvju eņģes (iespēja mainīt durvju atvēršanas virzienu)
... A30: 5.2.23 | B30: Iekārta tiek piegādāta pilnā komplektācijā pirmreizējai lietošanai
A33: Saimnieciski visizdevīgākā piedāvājuma vērtēšanai norādāmā papildus informācija | C33: Saimnieciski visizdevīgākā piedāvājuma vērtēšanai norādāmā papildus informācija Pretendenta piedāvājums, atsauce uz informatīvo materiālu vai ražotāja apliecinājumu
A34: B | B34: Jānorāda Preces ražotāja noteiktais preces paredzamais lietošanas ilgums (gados)
A35: C | B35: Jānorāda Preces ražotāja noteiktais elektroenerģijas patēriņš darba režīmā (voltampēros (VA) vai vatos (W))
A38: Daļa | B38: VĒRTĒŠANAS KRITĒRIJI | C38: ĪPATSVARS
A39: A | B39: Preču kopējās (iegāde, piederumi un tehniskā apkope) izmaksas | C39: 80
A40: B | B40: Preces paredzamais lietošanas ilgums | C40: 10
A41: C | B41: Elektroenerģijas patēriņš darba režīmā | C41: 10
A42: ∑ | B42: Maksimālais īpatsvars (kopējais punktu skaits) ∑=A+B+C | C42: 100
A45: Komisija katrā daļā piešķir īpatsvaru (punktu skaitu), šādā kārtībā: 1) A (Preču kopējās izmaksas) un C (Elektroenerģijas patēriņš) daļai - viszemākajai vērtība tiek piešķirts maksimālais punktu skaits. Ja piedāvājumā nav norādīta informācija par elektroenerģijas patēriņu tiek piešķirti 0 punkti. 2) Nākamās vērtības A (Preču kopējās izmaksas) un C (Elektroenerģijas patēriņš) daļai tiek aprēķinātas proporcionāli A vai C = (A vai C zemākā iesniegtā vērtība no visiem pretendentiem )/(faktiskā iesniegtā vērtība konkrētajam pretendentam) x Piešķiramais punktu skaits 3) B (Preces ražotāja noteiktais preces maksimālais lietošanas ilgums) daļai - vislielākajai vērtības tiek piešķirts maksimālais punktu skaits 4) Nākamās vērtības B (Preces ražotāja noteiktais preces maksimālais lietošanas ilgums) daļai tiek aprēķinātas proporcionāli. Ja piedāvājumā nav norādīta informācija par preces lietošanas ilgumu tiek pieņemts, ka lietošanas ilgums ir noteiktais garantijas laiks B = (faktiskā iesniegtā vērtība konkrētajam pretendentam)/(B augstākā iesniegtā vērtība no visiem pretendentiem ) x Piešķiramais punktu skaits

Sheet 6
A1: 6. pozīcija - Laboratorijas saldētava | D1: Pretendenta piedāvājums, atsauce uz informatīvo materiālu (Informatīvā materiāla nosaukums, lpp.)
A2: Nr. | B2: Preces nosaukums, veicamās funkcijas, tehniskās prasības un komplektācija | C2: Skaits, gab.***
A3: Piemērs | B3: Piemērs | C3: Piemērs | D3: Informatīvais materiāls 2, 4.lpp
A4: 6 | B4: Nosaukums: Laboratorijas saldētava | C4: 5 | D4: (Norādīt piedāvātās iekārtas ražotāju un modeli)
A5: 6.1. | B5: Veicamās funkcijas:
A6: 6.1.1. | B6: Reaģentu un paraugu konstantas uzglabāšanas temperatūras uzturēšana laboratorijas vajadzībām
A7: 6.2. | B7: Tehniskās prasības:
A8: 6.2.1 | B8: Saldētavas kameras tilpums: 380 ± 35 L
A9: 6.2.2 | B9: Iekārtas maksimālais augstums ir 215 cm
A10: 6.2.3 | B10: Uzstādāmās temperatūras diapazons saldētavai vismaz ir - 30 līdz -15 ºC
A11: 6.2.4 | B11: Regulējamo plauktu/atvilktņu skaits vismaz 5
A12: 6.2.5 | B12: Necaurspīdīgas, ar atslēgu aizslēdzamas durvis
A13: 6.2.6 | B13: Divpusējās durvju eņģes (iespēja mainīt durvju atvēršanas virzienu)
A14: 6.2.7 | B14: Temperatūras izmaiņas solis saldētavai: 0,1 - 1 ºC
A15: 6.2.8 | B15: Digitāls vadības displejs
A16: 6.2.9 | B16: Aukstuma aģents: R600a (vai cits, kura GWP (Global Warming Potential) ir mazāks par 150)
... A22: 6.2.15 | B22: Iekārta tiek piegādāta pilnā komplektācijā pirmreizējai lietošanai
A26: Saimnieciski visizdevīgākā piedāvājuma vērtēšanai norādāmā papildus informācija | C26: Saimnieciski visizdevīgākā piedāvājuma vērtēšanai norādāmā papildus informācija Pretendenta piedāvājums, atsauce uz informatīvo materiālu vai ražotāja apliecinājumu
A27: B | B27: Jānorāda Preces ražotāja noteiktais preces paredzamais lietošanas ilgums (gados)
A28: C | B28: Jānorāda Preces ražotāja noteiktais elektroenerģijas patēriņš darba režīmā (voltampēros (VA) vai vatos (W))
A31: Daļa | B31: VĒRTĒŠANAS KRITĒRIJI | C31: ĪPATSVARS
A32: A | B32: Preču kopējās (iegāde, piederumi un tehniskā apkope) izmaksas | C32: 80
A33: B | B33: Preces paredzamais lietošanas ilgums | C33: 10
A34: C | B34: Elektroenerģijas patēriņš darba režīmā | C34: 10
A35: ∑ | B35: Maksimālais īpatsvars (kopējais punktu skaits) ∑=A+B+C | C35: 100
A38: Komisija katrā daļā piešķir īpatsvaru (punktu skaitu), šādā kārtībā: 1) A (Preču kopējās izmaksas) un C (Elektroenerģijas patēriņš) daļai - viszemākajai vērtība tiek piešķirts maksimālais punktu skaits. Ja piedāvājumā nav norādīta informācija par elektroenerģijas patēriņu tiek piešķirti 0 punkti. 2) Nākamās vērtības A (Preču kopējās izmaksas) un C (Elektroenerģijas patēriņš) daļai tiek aprēķinātas proporcionāli A vai C = (A vai C zemākā iesniegtā vērtība no visiem pretendentiem )/(faktiskā iesniegtā vērtība konkrētajam pretendentam) x Piešķiramais punktu skaits 3) B (Preces ražotāja noteiktais preces maksimālais lietošanas ilgums) daļai - vislielākajai vērtības tiek piešķirts maksimālais punktu skaits 4) Nākamās vērtības B (Preces ražotāja noteiktais preces maksimālais lietošanas ilgums) daļai tiek aprēķinātas proporcionāli. Ja piedāvājumā nav norādīta informācija par preces lietošanas ilgumu tiek pieņemts, ka lietošanas ilgums ir noteiktais garantijas laiks B = (faktiskā iesniegtā vērtība konkrētajam pretendentam)/(B augstākā iesniegtā vērtība no visiem pretendentiem ) x Piešķiramais punktu skaits

Sheet Iekārtu tehniskā apkalpošana
A2: Ierīcēm, kurām pēcgarantijas periodā periodiski veicamo darbu saturs mainās, Pretendents aizpilda "Iekārtu tehniskā apkalpošana" tabulu, izveidojot papildus rindu/as zem ierīces, katrā jaunā rindā norādot periodiski veicamā darba veidu, pārliecinoties, ka kopumā ir uzskaitīti visi uz ierīci attiecināmie periodiski veicamie darbi pēcgarantijas periodā
A3: Kopējās izmaksas viena periodiski veicamā darba veida veikšanai pēcgarantijas periodā tiek aprēķinātas sekojoši: 13=3*(6*(7+(8*9)) kur norādītie skaitļi ir kolonnas kārtas numurs. 14. kolonnā jānorāda summa par visiem periodiski veicamajiem darbiem visām iekārtām
A4: Iekārtu tehniskā apkalpošana
A5: Iepirkuma daļas numurs | B5: Iekārtas nosaukums | C5: Iekārtu skaits *** | D5: Pēcgarantijas periods, ņemot vērā, ka garantijas periods un pēcgarantijas periods veido piecus gadus | E5: Periodiski veicamā darba veids pēcgarantijas periodā | F5: Periodiski veicamā darba skaits vienai ierīcei pēcgarantijas periodā | G5: Viena periodiski veicamā darba maināmo rezerves daļu izmaksas, ja attiecināms, EUR bez PVN | H5: Viena periodiski veicamā darba paredzamais ilgums, stundas | I5: Periodiski veicamo darbu servisa stundas likme, EUR bez PVN | J5: Remonta servisa stundas likme, EUR bez PVN | K5: Vai ražotājs ir paredzējis elektrodrošības pārbaudes periodiski veicamo darbu ietvaros? (Jā/Nē) | L5: Vai ražotājs ir paredzējis funkcionālās pārbaudes periodiski veicamo darbu ietvaros? (Jā/Nē) | M5: Summa par viena periodiski veicamā darba veidu pēcgarantijas periodā visām iekārtām, EUR bez PVN | N5: Summa par visiem periodiski veicamajiem darbiem pēcgarantijas periodā visām iekārtām, EUR bez PVN | O5: Piezīmes
A6: 1 | B6: 2 | C6: 3 | D6: 4 | E6: 5 | F6: 6 | G6: 7 | H6: 8 | I6: 9 | J6: 10 | K6: 11 | L6: 12 | M6: 13 | N6: 14 | O6: 15
A7: 1. pozīcija | B7: Medikamentu ledusskapis ar saldētavu | C7: 10 | M7: =C7*(F7*(G7+(H7*I7))) -> 0 | N7: =M7 -> 0
A8: 2. pozīcija | B8: Mazs medikamentu ledusskapis | C8: 10 | M8: =C8*(F8*(G8+(H8*I8))) -> 0 | N8: =M8 -> 0
A9: 3.pozicija | B9: Medikamentu ledusskapis | C9: 10 | M9: =C9*(F9*(G9+(H9*I9))) -> 0 | N9: =M9 -> 0
A10: 4.pozicija | B10: Laboratorijas ledusskapis | C10: 10 | M10: =C10*(F10*(G10+(H10*I10))) -> 0 | N10: =M10 -> 0
A11: 5.pozicija | B11: Laboratorijas ledusskapis ar saldētavu | C11: 10 | M11: =C11*(F11*(G11+(H11*I11))) -> 0 | N11: =M11 -> 0
A12: 6.pozicija | B12: Laboratorijas saldētava | C12: 5 | M12: =C12*(F12*(G12+(H12*I12))) -> 0 | N12: =M12 -> 0
A13: Piemērs
A14: Iekārtu tehniskā apkalpošana
A15: Iepirkuma daļas numurs | B15: Iekārtas nosaukums | C15: Iekārtu skaits * | D15: Pēcgarantijas periods, ņemot vērā, ka garantijas periods un pēcgarantijas periods veido piecus gadus | E15: Periodiski veicamā darba veids pēcgarantijas periodā | F15: Periodiski veicamā darba skaits vienai ierīcei pēcgarantijas periodā | G15: Viena periodiski veicamā darba maināmo rezerves daļu izmaksas, ja attiecināms, EUR bez PVN | H15: Viena periodiski veicamā darba paredzamais ilgums, stundas | I15: Periodiski veicamo darbu servisa stundas likme, EUR bez PVN | J15: Remonta servisa stundas likme, EUR bez PVN | K15: Vai ražotājs ir paredzējis elektrodrošības pārbaudes periodiski veicamo darbu ietvaros? (Jā/Nē) | L15: Vai ražotājs ir paredzējis funkcionālās pārbaudes periodiski veicamo darbu ietvaros? (Jā/Nē) | M15: Summa par viena periodiski veicamā darba veidu pēcgarantijas periodā visām iekārtām, EUR bez PVN | N15: Summa par visiem periodiski veicamajiem darbiem pēcgarantijas periodā visām iekārtām, EUR bez PVN | O15: Piezīmes
A16: 1 | B16: 2 | C16: 3 | D16: 4 | E16: 5 | F16: 6 | G16: 7 | H16: 8 | I16: 9 | J16: 10 | K16: 11 | L16: 12 | M16: 13 | N16: 14 | O16: 15
A17: 1. daļa | B17: Mākslīgā plaušu ventilācijas ierīce | C17: 5 | D17: 3 | E17: 1000h apkope | F17: 2 | G17: 500 | H17: 3 | I17: 35 | J17: 35 | K17: JĀ | L17: JĀ | M17: =C17*(F17*(G17+(H17*I17))) -> 6050 | N17: =M17+M18 -> 6312.5
C18: 5 | D18: 3 | E18: 2 gadu pārbaude | F18: 1 | G18: 0 | H18: 1.5 | I18: 35 | J18: 35 | K18: JĀ | L18: JĀ | M18: =C18*(F18*(G18+(H18*I18))) -> 262.5

Sheet Finanšu piedāvājums
A1: Finanšu piedāvājums
A2: Iekārtu iegādes izmaksas
A3: Iepirkuma pozīcijas numurs | B3: Iekārtas nosaukums | C3: Iekārtu skaits *** | D3: Vienas vienības cena, EUR bez PVN | E3: Summa, EUR bez PVN | F3: PVN likme, % | G3: Summa par iekārtu tehnisko apkalpošanu (ja ražotājs tādu ir paredzējis) | H3: Vērtējamā summa | I3: Komentārs
A4: 1. pozīcija | B4: Medikamentu ledusskapis ar saldētavu | C4: 10 | E4: =D4*C4 -> 0 | G4: ='Iekārtu tehniskā apkalpošana'!N7 -> 0 | H4: =E4+G4 -> 0
A5: 2. pozīcija | B5: Medikamentu ledusskapis | C5: 10 | E5: =D5*C5 -> 0 | G5: ='Iekārtu tehniskā apkalpošana'!N8 -> 0 | H5: =E5+G5 -> 0
A6: 3. pozīcija | B6: Ledusskapis farmaceitiskais ar stikla durvīm | C6: 10 | E6: =D6*C6 -> 0 | G6: ='Iekārtu tehniskā apkalpošana'!N9 -> 0 | H6: =E6+G6 -> 0
A7: 4. pozīcija | B7: Ledusskapis farmaceitiskais | C7: 10 | E7: =D7*C7 -> 0 | G7: ='Iekārtu tehniskā apkalpošana'!N10 -> 0 | H7: =E7+G7 -> 0
A8: 5. pozīcija | B8: Ledusskapis farmaceitiskais ar stikla durvīm | C8: 10 | E8: =D8*C8 -> 0 | G8: ='Iekārtu tehniskā apkalpošana'!N11 -> 0 | H8: =E8+G8 -> 0
A9: 6. pozīcija | B9: Ledusskapis farmaceitiskais | C9: 5 | E9: =D9*C9 -> 0 | G9: ='Iekārtu tehniskā apkalpošana'!N12 -> 0 | H9: =E9+G9 -> 0
