Workbook

Sheet KOPT
B1: APSTIPRINU
C3: __________________________
C4: (pasūtītāja paraksts un tā atšifrējums)
C7: Z.v.
C9: _____ .gada _____. ________________
A12: Būvniecības koptāme
B13: Mājas
A16: Objekta nosaukums | B16: =KOPS1!C9 -> Teritorijas labiekārtošana (pagalma daļa) daudzdzīvokļu dzīvojamām mājām Lubānas ielā 7, Rēzeknē
A17: Būves nosaukums | B17: =KOPS1!C8 -> Teritorijas labiekārtošana (pagalma daļa) daudzdzīvokļu dzīvojamām mājām Lubānas ielā 7, Rēzeknē
A18: Objekta adrese | B18: =KOPS1!C10 -> Lubānas iela 7, Rēzekne
A19: Pasūtījuma Nr. | B19: =KOPS1!C11 -> RN 2021/26
A24: Nr. p.k. | B24: Objekta nosaukums | C24: Objekta izmaksas (euro)
A26: =1 -> 1 | B26: =KOPS1!C9 -> Teritorijas labiekārtošana (pagalma daļa) daudzdzīvokļu dzīvojamām mājām Lubānas ielā 7, Rēzeknē | C26: =KOPS1!E41 -> 0
A28: Kopā | C28: =SUM(C26:C27) -> 0
A30: PVN (21%) | C30: =ROUND(C28*21%,2) -> 0
A32: Pavisam būvniecības izmaksas | C32: =C30+C28 -> 0
A34: Sastādīja | B34: =KOPS1!$B$57 -> _________________________ ____________________ /__________/
B35: (paraksts un tā atšifrējums, datums)
A37: Sertifikāta Nr. | B37: =KOPS1!$B$59 -> 0
A39: =KOPS1!F16 -> Tāme sastādīta 202_.gada __.________

Sheet KOPS1
A2: Kopsavilkuma aprēķini pa darbu vai konstruktīvo elementu veidiem
A4: Vispārējie būvdarbi
A5: (Darba veids vai konstruktīvā elementa nosaukums)
A8: Objekta nosaukums | C8: Teritorijas labiekārtošana (pagalma daļa) daudzdzīvokļu dzīvojamām mājām Lubānas ielā 7, Rēzeknē
A9: Būves nosaukums | C9: Teritorijas labiekārtošana (pagalma daļa) daudzdzīvokļu dzīvojamām mājām Lubānas ielā 7, Rēzeknē
A10: Objekta adrese | C10: Lubānas iela 7, Rēzekne
A11: Pasūtījuma Nr. | C11: RN 2021/26
F16: Tāme sastādīta 202_.gada __.________
A18: Nr. p.k. | B18: Kods, tāmes Nr. | C18: Būvdarbu veids vai konstruktīvā elementa nosaukums | E18: Tāmes izmaksas | F18: Tai skaitā | I18: Darbietilpība (c/h)
F19: darba alga | G19: būvizstrādājumi | H19: mehānismi
C21: 1. TS-teritorijas sadaļa
A22: =A21+1 -> 1 | B22: 1-1 | C22: Vispaŗējie darbi | D22: VD | E22: =F22+G22+H22 -> 0 | F22: =Teritorijas_sadala!M25 -> 0 | G22: =Teritorijas_sadala!N25 -> 0 | H22: =Teritorijas_sadala!O25 -> 0 | I22: =Teritorijas_sadala!L25 -> 0
A23: =A22+1 -> 2 | B23: 1-1 | C23: Sagatavošanas darbi un konstrukciju nojaukšana vai demontāža | D23: DEM | E23: =F23+G23+H23 -> 0 | F23: =Teritorijas_sadala!M27 -> 0 | G23: =Teritorijas_sadala!N27 -> 0 | H23: =Teritorijas_sadala!O27 -> 0 | I23: =Teritorijas_sadala!L27 -> 0
A24: =A23+1 -> 3 | B24: 1-1 | C24: Zemes klātnes izbūve | D24: ZK | E24: =F24+G24+H24 -> 0 | F24: =Teritorijas_sadala!M31 -> 0 | G24: =Teritorijas_sadala!N31 -> 0 | H24: =Teritorijas_sadala!O31 -> 0 | I24: =Teritorijas_sadala!L31 -> 0
A25: =A24+1 -> 4 | B25: 1-1 | C25: Ar saistvielām nesaistītās konstruktīvās kārtas | D25: ASN | E25: =F25+G25+H25 -> 0 | F25: =Teritorijas_sadala!M33 -> 0 | G25: =Teritorijas_sadala!N33 -> 0 | H25: =Teritorijas_sadala!O33 -> 0 | I25: =Teritorijas_sadala!L33 -> 0
A26: =A25+1 -> 5 | B26: 1-1 | C26: Ar saistvielām saistītās konstruktīvās kārtas | D26: AS | E26: =F26+G26+H26 -> 0 | F26: =Teritorijas_sadala!M39 -> 0 | G26: =Teritorijas_sadala!N39 -> 0 | H26: =Teritorijas_sadala!O39 -> 0 | I26: =Teritorijas_sadala!L39 -> 0
A27: =A26+1 -> 6 | B27: 1-1 | C27: Konstrukcijas un mākslīgās būves | D27: KMB | E27: =F27+G27+H27 -> 0 | F27: =Teritorijas_sadala!M41 -> 0 | G27: =Teritorijas_sadala!N41 -> 0 | H27: =Teritorijas_sadala!O41 -> 0 | I27: =Teritorijas_sadala!L41 -> 0
A28: =A27+1 -> 7 | B28: 1-1 | C28: Aprīkojums, satiksmes organizēšana un labiekārtošanas darbi | D28: ASOL | E28: =F28+G28+H28 -> 0 | F28: =Teritorijas_sadala!M56 -> 0 | G28: =Teritorijas_sadala!N56 -> 0 | H28: =Teritorijas_sadala!O56 -> 0 | I28: =Teritorijas_sadala!L56 -> 0
A29: =A28+1 -> 8 | B29: 1-1 | C29: Esošo ieejas pakāpienu atjaunošana | D29: BK | E29: =F29+G29+H29 -> 0 | F29: =Teritorijas_sadala!M61 -> 0 | G29: =Teritorijas_sadala!N61 -> 0 | H29: =Teritorijas_sadala!O61 -> 0 | I29: =Teritorijas_sadala!L61 -> 0
A30: =A29+1 -> 9 | B30: 1-1 | C30: Lietus kanalizācijas tīkli K2 | D30: LKT | E30: =F30+G30+H30 -> 0 | F30: =Teritorijas_sadala!M63 -> 0 | G30: =Teritorijas_sadala!N63 -> 0 | H30: =Teritorijas_sadala!O63 -> 0 | I30: =Teritorijas_sadala!L63 -> 0
A31: =A30+1 -> 10 | B31: 1-1 | C31: Sadzīves kanalizācijas tīkli K1 | D31: UKT | E31: =F31+G31+H31 -> 0 | F31: =Teritorijas_sadala!M74 -> 0 | G31: =Teritorijas_sadala!N74 -> 0 | H31: =Teritorijas_sadala!O74 -> 0 | I31: =Teritorijas_sadala!L74 -> 0
A32: =A31+1 -> 11 | B32: 1-1 | C32: Pārējie darbi | D32: UKT | E32: =F32+G32+H32 -> 0 | F32: =Teritorijas_sadala!M81 -> 0 | G32: =Teritorijas_sadala!N81 -> 0 | H32: =Teritorijas_sadala!O81 -> 0 | I32: =Teritorijas_sadala!L81 -> 0
A33: =A32+1 -> 12 | B33: 1-1 | C33: K2 izbūves darbi (zemes darbi) | D33: UKT | E33: =F33+G33+H33 -> 0 | F33: =Teritorijas_sadala!M90 -> 0 | G33: =Teritorijas_sadala!N90 -> 0 | H33: =Teritorijas_sadala!O90 -> 0 | I33: =Teritorijas_sadala!L90 -> 0
A34: =A33+1 -> 13 | B34: 1-1 | C34: Esošo 0,4 kV kabeļu aizsardzība, rezerves cauruļu ieguldīšana | D34: ELT | E34: =F34+G34+H34 -> 0 | F34: =Teritorijas_sadala!M95 -> 0 | G34: =Teritorijas_sadala!N95 -> 0 | H34: =Teritorijas_sadala!O95 -> 0 | I34: =Teritorijas_sadala!L95 -> 0
A36: Kopā | E36: =SUM(E21:E35) -> 0 | F36: =SUM(F21:F35) -> 0 | G36: =SUM(G21:G35) -> 0 | H36: =SUM(H21:H35) -> 0 | I36: =SUM(I21:I35) -> 0
A37: ="Virsizdevumi ("&D37*100&"%)" -> Virsizdevumi (5%) | D37: 0.05 | E37: =ROUND(E36*D37,2) -> 0
A38: t.sk. darba aizsardzība | D38: 0.07 | E38: =ROUND(E37*D38,2) -> 0
C39: Neparedzētie izdevumi | D39: 0.07
A40: ="Peļņa ("&D40*100&"%)" -> Peļņa (3%) | D40: 0.03 | E40: =ROUND(E36*D40,2) -> 0
A41: Pavisam kopā | E41: =E36+E37+E40 -> 0
A43: Piezīmes.
A44: 1. Būvuzņēmējam jādod pilna apjoma tendera (iepirkuma) cenu piedāvājums, ieskaitot palīgdarbus un materiālus, kas nav uzrādīti tāmē,
A45: apjomu sarakstā un projektā, bet ir nepieciešami projektētā būvobjekta izbūvei un nodošanai ekspluatācijā.
A46: 2. Darbu apjomu sarakstu skatīt kopā ar rasējumiem un specifikācijām.
A47: 3. Tāmēs ietvertos konkrēto ražotāju materiālus un izstrādājumus var aizvietot ar analogiem citu ražotāju materiāliem un izstrādājumiem.
A48: 4. Materiāli doti bez atgriezumiem un nesablīvētā veidā
A49: 5. Pēc pasūtītāja pieprasījuma , projektētājs veic būvdarbu apjomu pārrēķinu, ja projekts netiks realizēts pilnā apjomā
A51: Sastādīja: | B51: _________________________ /__________/
B52: (paraksts un tā atšifrējums, datums)
A55: =F16 -> Tāme sastādīta 202_.gada __.________
A57: Pārbaudīja: | B57: _________________________ ____________________ /__________/
B58: (paraksts un tā atšifrējums, datums)
A59: Sertifikāta Nr.

Sheet Teritorijas_sadala
A1: Lokālā tāme Nr. 1-1
A3: TS-teritorijas sadaļa
A4: (Darba veids vai konstruktīvā elementa nosaukums)
A8: Objekta nosaukums | C8: =KOPS1!C8 -> Teritorijas labiekārtošana (pagalma daļa) daudzdzīvokļu dzīvojamām mājām Lubānas ielā 7, Rēzeknē
A9: Būves nosaukums | C9: =KOPS1!C9 -> Teritorijas labiekārtošana (pagalma daļa) daudzdzīvokļu dzīvojamām mājām Lubānas ielā 7, Rēzeknē
A10: Objekta adrese | C10: =KOPS1!C10 -> Lubānas iela 7, Rēzekne
A11: Pasūtījuma Nr. | C11: =KOPS1!C11 -> RN 2021/26
A15: Tāme sastādīta 2023. gada tirgus cenās, pamatojoties uz GP,TS, UKT daļas rasējumiem. | M15: =P102 -> 0
M18: =KOPS1!F16 -> Tāme sastādīta 202_.gada __.________
A21: Nr. p.k. | B21: Kods | C21: Būvdarbu nosaukums | D21: Mērvienība | E21: Daudzums | F21: Vienības izmaksas | L21: Kopā uz visu apjomu
F22: laika norma (c/h) | G22: darba samaksas likme (euro /h) | H22: darba alga | I22: būvizstrādājumi | J22: mehānismi | K22: Kopā | L22: darbietilpība (c/h) | M22: darba alga | N22: būvizstrādājumi | O22: mehānismi | P22: summa
A23: 1 | B23: 2 | C23: 3 | D23: 4 | E23: 5 | F23: 6 | G23: 7 | H23: 8 | I23: 9 | J23: 10 | K23: 11 | L23: 12 | M23: 13 | N23: 14 | O23: 15 | P23: 16
A25: 1 | B25: līg.cena | C25: Vispārējie darbi | D25: N/A | L25: =L26 -> 0 | M25: =M26 -> 0 | N25: =N26 -> 0 | O25: =O26 -> 0 | P25: =P26 -> 0
A26: 1.1. | C26: Mobilizācija, demobilizācija, būvlaukuma ierīkošana un nojaukšana, apvadceļu uzturēšana būvdarbu laikā, izpildmērījumu veikšana un dokumentācijas veikšana, kas saistīta ar Būvprojektu | D26: kpl. | E26: 0
A27: 2 | C27: Sagatavošanas darbi un konstrukciju nojaukšana vai demontāža | D27: N/A
A28: 2.1. | C28: Betona apmaļu demontāža | D28: m | E28: 506
A29: 2.2. | C29: Asfaltbetona demontāža, hvid=6cm | D29: m2 | E29: 598
A30: 2.3. | C30: Betona seguma demontāža, hvid=6cm | D30: m2 | E30: 252
A31: 3 | C31: Zemes klātnes izbūve | D31: N/A
A32: 3.1. | C32: Zemes klātnes ierakuma būvniecība | D32: m3 | E32: 951
A33: 4 | C33: Ar saistvielām nesaistītas konstruktīvās kārtas | D33: N/A
A34: 4.1. | C34: Salizturīgās (drenējošās) kārtas izbūve, h=30cm (gājēju ietves izbūves zonā) | D34: m3 | E34: 205
A35: 4.2. | C35: Salizturīgās (drenējošās) kārtas izbūve, h=30cm (brauktuves un stāvvietas izbūves zonā) | D35: m3 | E35: 506
A36: 4.3. | C36: Šķembas izsijas 3..5cm biezumā (gājēju ietvei) | D36: m2 | E36: 680
A37: 4.4. | C37: Nesaistītu minerālmateriālu (0/32) pamata nesošā virskārta, h=12cm biezumā (gājēju ietves izbūves zonā, N-IV stiprības klase) | D37: m2 | E37: 680
A38: 4.5. | C38: Nesaistītu minerālmateriālu (0/45) pamata nesošās virskārtas izbūve h=15cm biezumā (brauktuves un stāvvietas izbūves zon,N-III stiprības klase) | D38: m2 | E38: 1692
A39: 5 | C39: Ar saistvielām saistītas konstruktīvās kārtas | D39: N/A
A40: 5.1. | C40: Asfaltbetona seguma virskārtas izbūve AC16 surf , h=6cm (S-III stiprības klase) | D40: m2 | E40: 1692
A41: 6 | C41: Konstrukcijas un mākslīgās būves | D41: N/A
A42: 6.1. | C42: Betona apmaļu BR100.30.15 izbūve | D42: m | E42: 101
A43: 6.2. | C43: Liekto Betona apmaļu izbūve BR100.30.15 izbūve
A44: 6.3. | C44: R-0.50 | D44: m | E44: 6
A45: 6.4. | C45: R-1.00 | D45: m | E45: 0
A46: 6.5. | C46: R-1.50 | D46: m | E46: 4
A47: 6.6. | C47: R-2.00 | D47: m | E47: 0
A48: 6.7. | C48: R-2.50 | D48: m | E48: 4
A49: 6.8. | C49: R-5.00 | D49: m | E49: 8
A50: 6.9. | C50: Betona apmaļu BR100.20.8 izbūve | D50: m | E50: 590
A51: 6.10. | C51: Liekto Betona apmaļu izbūve BR100.20.08 izbūve
A52: 6.11. | C52: R-0.50 | D52: m | E52: 10
A53: 6.12. | C53: R-1.00 | D53: m | E53: 50
A54: 6.13. | C54: Slīpo betona apmaļu BR100.30.15 izbūve | D54: m | E54: 17
A55: 6.14. | C55: Betona-bruģakmens seguma būvniecība h=6cm (gājēju ietvei) | D55: m2 | E55: 700
A56: 7 | C56: Aprīkojums, satiksmes organizēšana un labiekārtošanas darbi | D56: N/A
A57: 7.1. | C57: Apzaļumošana ar augu zemi h=10cm biezumā | D57: m2 | E57: 1400
A58: 7.2. | C58: Horizontālā apzīmējuma Nr.920 uzklāšana ar roku darbu, izmantojot krāsu baltā tonī ar iestrādātiem atstarojošiem elementiem | D58: m2 | E58: 35
A59: 7.3. | C59: Gāzes vada kapes augstuma regulēšana | D59: kpl. | E59: 1
A60: 7.4. | C60: Apgaismojuma stabu demontāža | D60: kpl. | E60: 0
A61: 8 | C61: Esošo ieejas pakāpienu atjaunošana | D61: N/A
A62: 8.1. | B62: 8.1. | C62: Esošo ieejas pakāpienu uz treptelpām atjaunošana ar betonu | D62: kpl. | E62: 11
A63: 9 | C63: Lietus kanalizācijas tīkli K2 | D63: N/A
A64: 9.1. | C64: PP kanalizācijas caurule OD250mm, uzmavu tipa, iebūves klase SN8, ar baltu vai gaiši pelēku iekšpusi, atbilstošas LVS EN13476, ar iebūvi atklātā tranšejā | D64: m | E64: 29.8
A65: 9.2. | C65: Plastmasas gūlija DN630mm, sekciju tipa, h=1,20-1,50m, PP, OD250mm cauruļvadu pievienojumi rūpnieciski iemetināmi vai iefrēzējami un pievienojami ar pieslēguma pārejām, peldošā tipa ķeta rāmis un D400 klases kvadrātveida reste ar teleskopu, nosēddaļa h=0,5m | D65: kpl. | E65: 5
A66: 9.3. | C66: Plastmasas skataka DN425mm, sekciju tipa, h=1,53m, PP, 45° pamatne OD250mm cauruļvadu pievienojumam, peldošā tipa ķeta rāmis un D400 klases lūka | D66: kpl | E66: 1
A67: 9.4. | C67: PP līkums, 45°, OD250mm | D67: kpl | E67: 1
A68: 9.5. | C68: Betona elementos iebetonējama aizsargčaula D250mm | D68: gb | E68: 5
A69: 9.6. | C69: Esošo dzelzsbetona elementu D1000mm skataku pārbūve, līmaņošana - dzelzbetona pārsegums, izlīdzinošie gredzeni, peldošā tipa ķeta lūka brauktuvēm, ar eņģi, blīvgumiju, slodzes klase D400 | D69: kpl | E69: 6
A70: 9.7. | C70: Esošo dzelzsbetona elementu D1000mm skataku pārbūve, līmaņošana - dzelzbetona pārsegums, izlīdzinošie gredzeni, ķeta lūka ietvēm, ar eņģi, blīvgumiju, slodzes klase B125 | D70: kpl | E70: 6
A71: 9.8. | C71: Betons B25 (C20/25), W8 skataku apbetonējumam, armatūra Ø5mm | D71: m3 | E71: 10
A72: 9.9. | C72: Palīgmateriāli K2 sistēmas montāžai | D72: kpl | E72: 1
A73: 9.10. | C73: Sistēmas skalošana un CCTV inspekcija | D73: kpl | E73: 1
A74: 10 | C74: Sadzīves kanalizācijas tīkli K1 | D74: N/A
A75: 10.1. | C75: PP kanalizācijas caurule OD315mm, uzmavas tipa, iebūves klase SN8, ar baltu vai gaiši pelēku iekšpusi, atbilstoši LVS EN13476, ar iebūvi atklātā tranšejā | D75: m | E75: 13.5
A76: 10.2. | C76: Betona elementa iebetonējama aizsargčaula D315mm caurulei | D76: gb | E76: 2
A77: 10.3. | C77: Esošo dzelzsbetona elementu D1000mm skataku pārbūve, līmeņošana - dzelzbetona pārsegums, izlīdzinošie gredzeni, peldošā tipa ķeta lūka brauktuvēm, ar eņģi, blīvgumiju, slodzes klase D400 | D77: kpl. | E77: 4
A78: 10.4. | C78: Esošo dzelzbetona elementu D1000mm skataku pārbūve, līmeņošana - dzelzbetona pārsegums, izlīdzinošie gredzeni, ķeta lūka ietvēm, ar eņģi, blīvgumiju, slodzes klase B125 | D78: kpl. | E78: 7
A79: 10.5. | C79: Palīgmateriāli K1 sistēmas montāžai | D79: kpl. | E79: 1
A80: 10.6. | C80: Sistēmas skalošana un CCTV inspekcija | D80: kpl. | E80: 1
A81: 11 | C81: Pārējie darbi
A82: 11.1. | C82: Sagatavošanās darbi pirms būvdarbu sākšanas - nepieciešamo atļauju un saskaņojumu saņemšana | D82: kpl | E82: 1
A83: 11.2. | C83: Esošo komunikāciju atšurfēšana un šķērsošana | D83: kpl | E83: 5
A84: 11.3. | C84: Šķeltā aizsargčaula esošo kabeļu aizsardzībai, iebūve | D84: m | E84: 4
A85: 11.4. | C85: Esošo gūliju demontāža un pieslēguma cauruļvadu aizbetonēšana | D85: kpl | E85: 3
A86: 11.5. | C86: Esošo dzelzsbetona skataku elementu vai to daļu demontāža | D86: kpl | E86: 15
A87: 11.6. | C87: Esošā pašteces kanalizācijas cauruļvada d300 demontāža | D87: m | E87: 13.5
A88: 11.7. | C88: Pasākuma komplekss pagaidu sadzīves kanalizācijas notekūdeņu pārsūknēšanas nodrošināšanai pārbūvējamā posmā būvdarbu laikā | D88: kpl. | E88: 1
A89: 11.8. | C89: K2 sistēmas posma izpildshēmas izstrāde | D89: kpl | E89: 1
A90: 12 | C90: K2 un K1 izbūves darbi (zemes darbi)
A91: 12.1. | C91: Tranšejas rakšana, (hvid=1.60m) projektēto cauruļvadu montāžai, nederīgās grunts transports uz atbērtni 10km attālumā | D91: m3 | E91: 142
A92: 12.2. | C92: Smilts pamatnes ierīkošana zem cauruļvadiem h=0.15m un apbēruma h=0.30m ierīkošanai | D92: m3 | E92: 38
A93: 12.3. | C93: Tranšejas aizbēršana ar pievestu smilšu grunti kf>1m/dnn (esošās māla grunts nomaiņa) no ierīkotā apbēruma ap cauruļvadu līdz atjaunojamā seguma apakšējai kārtai | D93: m3 | E93: 112
A94: 12.4. | C94: Tranšejas sieniņu nostiprināšana ar rievsienām vai metāla vairogiem (h>1.5m) | D94: m | E94: 30.5
A95: 13 | C95: Esošo 0,4 kV; Sakaru kanalizācijas kabeļu aizsardzība, rezerves cauruļu ieguldīšana
A96: 13.1. | C96: Esošā 0,4 kV kabeļa atrakšana/atšurfēšana, padziļināšana līdz 1m un aizbēršana | D96: m | E96: 282
A97: 13.2. | C97: Šķeltās plastmasas aizsargcaurules EVOCAB SPLIT D110 montāža | D97: m | E97: 282
A98: 13.3. | C98: Signāllentas MBN 125mm ieklāšana esošiem kabeļiem | D98: m | E98: 282
A99: 13.4. | C99: Plastmasas aizsargcaurules EVOCAB HARD D110 guldīšana tranšejā | D99: m | E99: 282
A102: Tiešās izmaksas kopā, t. sk. darba devēja sociālais nodoklis (23,59%) | L102: =L95+L90+L81+L63+L61+L56+L41+L39+L33+L31+L27+L25 -> 0 | M102: =M95+M90+M81+M63+M61+M56+M41+M39+M33+M31+M27+M25 -> 0 | N102: =N95+N90+N81+N63+N61+N56+N41+N39+N33+N31+N27+N25 -> 0 | O102: =O95+O90+O81+O63+O61+O56+O41+O39+O33+O31+O27+O25 -> 0 | P102: =P95+P90+P81+P63+P61+P56+P41+P39+P33+P31+P27+P25 -> 0
A104: ="Sastādīja "&KOPS1!$B$51 -> Sastādīja _________________________ /__________/
A105: =KOPS1!$F$16 -> Tāme sastādīta 202_.gada __.________
A107: ="Pārbaudīja "&KOPS1!$B$57 -> Pārbaudīja _________________________ ____________________ /__________/
B108: (paraksts un tā atšifrējums, datums)
A109: ="Sertifikāta Nr. "&KOPS1!$B$59 -> Sertifikāta Nr.

Sheet BŪVL
A1: ="Lokālā tāme Nr. "&KOPS1!#REF! -> #REF!
A3: =KOPS1!#REF! -> #REF!
A4: (Darba veids vai konstruktīvā elementa nosaukums)
A6: Objekta nosaukums | C6: =KOPS1!C8 -> Teritorijas labiekārtošana (pagalma daļa) daudzdzīvokļu dzīvojamām mājām Lubānas ielā 7, Rēzeknē
A7: Būves nosaukums | C7: =KOPS1!C9 -> Teritorijas labiekārtošana (pagalma daļa) daudzdzīvokļu dzīvojamām mājām Lubānas ielā 7, Rēzeknē
A8: Objekta adrese | C8: =KOPS1!C10 -> Lubānas iela 7, Rēzekne
A9: Pasūtījuma Nr. | C9: =KOPS1!C11 -> RN 2021/26
A11: Tāme sastādīta 2017. gada tirgus cenās, pamatojoties uz AR, BK, GP daļas rasējumiem. | M11: =P43 -> 0
M13: =KOPS1!F16 -> Tāme sastādīta 202_.gada __.________
A15: Nr. p.k. | B15: Kods | C15: Būvdarbu nosaukums | D15: Mērvienība | E15: Daudzums | F15: Vienības izmaksas | L15: Kopā uz visu apjomu
F16: laika norma (c/h) | G16: darba samaksas likme (euro /h) | H16: darba alga | I16: būvizstrādājumi | J16: mehānismi | K16: Kopā | L16: darbietilpība (c/h) | M16: darba alga | N16: būvizstrādājumi | O16: mehānismi | P16: summa
A17: 1 | B17: 2 | C17: 3 | D17: 4 | E17: 5 | F17: 6 | G17: 7 | H17: 8 | I17: 9 | J17: 10 | K17: 11 | L17: 12 | M17: 13 | N17: 14 | O17: 15 | P17: 16
A43: Tiešās izmaksas kopā, t. sk. darba devēja sociālais nodoklis (23,59%) | L43: =SUM(L19:L42) -> 0 | M43: =SUM(M19:M42) -> 0 | N43: =SUM(N19:N42) -> 0 | O43: =SUM(O19:O42) -> 0 | P43: =SUM(P19:P42) -> 0
A46: ="Sastādīja "&KOPS1!$B$51 -> Sastādīja _________________________ /__________/
B47: (paraksts un tā atšifrējums, datums)
A48: =KOPS1!$F$16 -> Tāme sastādīta 202_.gada __.________
A51: ="Pārbaudīja "&KOPS1!$B$57 -> Pārbaudīja _________________________ ____________________ /__________/
B52: (paraksts un tā atšifrējums, datums)
A53: ="Sertifikāta Nr. "&KOPS1!$B$59 -> Sertifikāta Nr.
