Workbook

Sheet Saturs
A1: Nr. | B1: Nosaukums | C1: Skaits*** | D1: Vērtējamā summa (A), maksimālais punktu skaits | E1: Jānorāda Preces ražotāja noteiktais preces maksimālais lietošanas ilgums (gados) (B), maksimālais punktu skaits | F1: Preces/ iekārtas elektroenerģijas patēriņš vai Preces/Iekārtas energoefektivitāte (C), maksimālais punktu skaits | G1: Jānorāda iekārtas darbības laiks no akumulatora (h) (D), maksimālais punktu skaits | H1: Displeja izmērs ne mazāk kā 10” pa diagonāli (E), maksimālais punktu skaits | I1: Mērījumu kļūda ne lielāka kā ± 3 mm Hg st. (F), maksimālais punktu skaits | J1: Kopā
A2: 1. | B2: Pacientu monitori | C2: 2 | D2: 80 | E2: 10 | F2: 10 | G2: 0 | J2: =SUM(D2:F2) -> 100
A3: 2. | B3: Inhalators | C3: 10 | D3: 80 | E3: 10 | F3: 10 | J3: =SUM(D3:F3) -> 100
A4: 3. | B4: Infūzijas sūknis | C4: 20 | D4: 80 | E4: 10 | F4: 10 | J4: =SUM(D4:F4) -> 100
A5: 4. | B5: Portatīvais vakuumsūknis | C5: 10 | D5: 80 | E5: 10 | F5: 10 | J5: =SUM(D5:F5) -> 100
A6: 5. | B6: Sūknis enterālās barošanas | C6: 10 | D6: 80 | E6: 10 | F6: 10 | J6: =SUM(D6:F6) -> 100
A7: 6. | B7: Pulsa oksimetrs I | C7: 15 | D7: 80 | E7: 10 | F7: 10 | J7: =SUM(D7:F7) -> 100
A8: 7. | B8: Pulsa oksimetrs II | C8: 15 | D8: 80 | E8: 10 | F8: 10 | J8: =SUM(D8:F8) -> 100
A9: 8. | B9: Bezvadu ierīces EKG monitorēšanai | C9: 10 | D9: 80 | E9: 10 | F9: 10 | J9: =SUM(D9:F9) -> 100
A10: 9. | B10: Pacienta vitālo funkciju monitors | C10: 6 | D10: 65 | E10: 10 | F10: 10 | G10: 5 | H10: 5 | I10: 5 | J10: =SUM(D10:I10) -> 100
A11: 10. | B11: Elektroniskais asinsspiediena mērītājs | C11: 20 | D11: 75 | E11: 10 | F11: 10 | G11: 0 | I11: 5 | J11: =SUM(D11:I11) -> 100
A12: 11. | B12: Pacientu elektroniskie grīdas svari | C12: 5 | D12: 80 | E12: 10 | F12: 10 | G12: 0 | J12: =SUM(D12:I12) -> 100
A13: 12. | B13: Elektroniskie zīdaiņu svari I | C13: 5 | D13: 80 | E13: 10 | F13: 10 | J13: =SUM(D13:F13) -> 100
A14: 13. | B14: Elektroniskie zīdaiņu svari II | C14: 3 | D14: 80 | E14: 10 | F14: 10 | J14: =SUM(D14:F14) -> 100
A15: 14. | B15: Atsūcējs krūts piena, divpakāpju | C15: 3 | D15: 80 | E15: 10 | F15: 10 | J15: =SUM(D15:F15) -> 100
A16: 15. | B16: Mehāniskais asinsspiediena mērītājs | C16: 5 | D16: 100 | E16: 0 | J16: =SUM(D16:F16) -> 100
A17: 16. | B17: Otoskops | C17: 5 | D17: 100 | J17: =SUM(D17:F17) -> 100
A18: 17. | B18: Oftalmoskops | C18: 5 | D18: 100 | J18: =SUM(D18:F18) -> 100
A19: 18. | B19: Izbraukumu/medikamentu soma (mazā) | C19: 1 | D19: 100 | J19: =SUM(D19:F19) -> 100
A20: 19. | B20: Izbraukumu/medikamentu soma (mugursoma) | C20: 1 | D20: 100 | J20: =SUM(D20:F20) -> 100
A21: 20. | B21: Infrasarkanais bezkontakta termometrs | C21: 20 | D21: 100 | J21: =SUM(D21:F21) -> 100
A22: 21. | B22: Augummērs | C22: 10 | D22: 100 | J22: =SUM(D22:F22) -> 100
A23: 22. | B23: Fonendoskopi | C23: 30 | D23: 100 | J23: =SUM(D23:F23) -> 100

Sheet Obl.pras.
A1: nr. | B1: Obligātās prsības iekārtām un iesniegtajam piedāvājumam | C1: Pretendenta piedāvājums, atsauce uz informatīvo materiālu (Informatīvā materiāla nosaukums, lpp.)
C3: 1. pozīcija - Pacientu monitors | D3: 2. pozīcija - Inhalators | E3: 3. pozīcija - Infūziju sūknis | F3: 4. pozīcija - Portatīvais vakuumsūknis | G3: 5. pozīcija - Sūknis enterālās barošanas | H3: 6. pozīcija - Pulsa oksimetrs I | I3: 7. pozīcija - Pulsa oksimetrs II | J3: 8. pozīcija - Bezvadu ierīces EKG monitorēšanai | K3: 9. pozīcija- Pacienta vitālo funkciju monitors | L3: 10. pozīcija - Elektroniskais asinsspiediena mērītājs | M3: 11. pozīcija - Pacientu elektroniskie grīdas svari | N3: 12. pozīcija - Elektroniskie zīdaiņu svari I | O3: 13. pozīcija - Elektroniskie zīdaiņu svari II | P3: 14. daļa - Atsūcējs krūts piena, divpakāpju | Q3: 15. pozīcija - Mehāniskais asinsspiediena mērītājs | R3: 16. pozīcija - Otoskops | S3: 17. pozīcija - Oftalmoskops | T3: 18. pozīcija - Izbraukumu/medikamentu soma (mazā) | U3: 19. pozīcija - Izbraukumu/medikamentu soma (mugursoma) | V3: 20. pozīcija - Infrasarkanais bezkontakta termometrs | W3: 21. pozīcija - Augummērs | X3: 22. pozīcija - Fonendoskopi
A4: Piemērs | B4: Piemērs | C4: Ražotāja apliecinājums 1, 1.lpp | D4: Ražotāja apliecinājums 1, 1.lpp | E4: Ražotāja apliecinājums 1, 1.lpp | F4: Ražotāja apliecinājums 1, 1.lpp | G4: Ražotāja apliecinājums 1, 1.lpp | H4: Ražotāja apliecinājums 1, 1.lpp | I4: Ražotāja apliecinājums 1, 1.lpp | J4: Ražotāja apliecinājums 1, 1.lpp | X4: Informatīvais materiāls 2, 4.lpp
A5: Piedāvājumam jāpievieno:
A6: 1 | B6: Preces ražotāja izsniegta autorizācijas vēstule, kas apliecina, ka pretendents ir tiesīgs izplatīt un nodrošināt tehnisko apkalpošanu* (ja attiecināms) piedāvātai Precei Latvijas Republikā. Vai arī ražotāja apliecinājums, ka autorizācija nav nepieciešama.
A7: 2 | B7: Piedāvātas Preces atbilstības deklarācijas kopija. (Ja piedāvātās sistēmas komplektācija sastāv no vairākām iekārtām nepieciešams iesniegt atbilstības deklarācijas kopiju par katru iekārtu)
A8: 3 | B8: Piedāvātas Preces CE sertifikāta kopija, ja attiecināms. (Ja piedāvātās sistēmas komplektācija sastāv no vairākām iekārtām nepieciešams iesniegt CE sertifikāta kopiju par katru iekārtu, ja attiecināms)
A9: 4 | B9: Ja ražotājs ir paredzējis, ka periodiski veicamos darbus** un/vai remontu var veikt tikai sertificēts inženieris, piesakoties uz atbilstošo pozīciju, jāiesniedz atbilstošs inženiera sertifikāts par apmācībām, kurās norādīta atbilstība veikt konkrētā modeļa ierīču periodiskos darbus un/vai remontu vai iesniegt ražotāja apliecinājumu par Preces garantijas remonta un tehniskās apkalpošanas pasākumu, ja tādi ir nepieciešami, nodrošināšanas iespējām. (Ja piedāvātās sistēmas komplektācija sastāv no vairākām iekārtām nepieciešams iesniegt inženiera sertifikātu par katru iekārtu, ja attiecināms) | Q9: Nav attiecināms
A10: 5 | B10: Ražotāja apstiprinātu periodiski veicamo darbu sarakstu, kā arī šo darbu periodiskumu (servisa rokasgrāmatas attiecīgās sadaļas ar ietvertu informāciju par veicamajām darbībām, to periodiskumu, mērāmajiem parametriem, to robežvērtībām, regulāri maināmajām rezerves daļām), ja ražotājs tādus ir paredzējis. Ja ražotājs nav paredzējis periodiski veicamos darbus, par to jāiesniedz ražotāja apliecinājums. Servisa rokasgrāmatas sadaļas var aizstāt ar ražotāja apstiprinātu dokumentu, kas ietver šajā punktā aprakstīto informāciju. (Ja piedāvātās sistēmas komplektācija sastāv no vairākām iekārtām nepieciešams iesniegt periodiski veicamo darbu sarakstu par katru iekārtu, ja attiecināms)
A11: 6 | B11: Piedāvājumā iesniegt iespējamās remontstundas un periodiski veicamo darbu izmaksas pēc garantijas periodā, ja ražotājs tādas ir paredzējis. (Ja piedāvātās sistēmas komplektācija sastāv no vairākām iekārtām nepieciešams iesniegt remontstundas un periodiski veicamo darbu izmaksas par katru iekārtu, ja attiecināms)
A12: Prasības precei:
A13: 7 | B13: Piedāvātā Prece ir jauna, iepriekš nelietota un nav izmantota prezentācijās; tā nesatur iepriekš lietotas vai atjaunotas sastāvdaļas vai komponentes. Tā ir ražota ne agrāk kā 12 mēnešus pirms piegādes. | C13: Piedāvājot savu preci, pretendents apstiprina preces nosacījumu izpildi.
A14: 8 | B14: Piedāvātajām Precēm garantijas termiņš ir vismaz 24 mēneši no pieņemšanas – nodošanas akta abpusējas parakstīšanas brīža.
A15: 9 | B15: Garantijas laikā Piegādātājs bez papildus samaksas nodrošina ierīces remontu un periodiskos darbus atbilstoši ražotāja noteiktajām prasībām, ja ražotājs tādu ir paredzējis.
A16: 10 | B16: Garantijas laikā Piegādātājs bez papildus samaksas nodrošina konsultācijas un atkārtotas apmācības par Preci, kuras vada apmācīts speciālists, ja tādas ir nepieciešamas lietotājam.
A17: 11 | B17: Prece tiek piegādāta ne ilgāk kā 60 dienu laikā, lūdzam norādīt iekārtas piegādes laiku. | C17: Norādīt piegādes laiku: | D17: Norādīt piegādes laiku: | E17: Norādīt piegādes laiku: | F17: Norādīt piegādes laiku: | G17: Norādīt piegādes laiku: | H17: Norādīt piegādes laiku: | I17: Norādīt piegādes laiku: | J17: Norādīt piegādes laiku: | K17: Norādīt piegādes laiku: | L17: Norādīt piegādes laiku: | M17: Norādīt piegādes laiku: | N17: Norādīt piegādes laiku: | O17: Norādīt piegādes laiku: | P17: Norādīt piegādes laiku: | Q17: Norādīt piegādes laiku: | R17: Norādīt piegādes laiku: | S17: Norādīt piegādes laiku: | T17: Norādīt piegādes laiku: | U17: Norādīt piegādes laiku: | V17: Norādīt piegādes laiku: | W17: Norādīt piegādes laiku: | X17: Norādīt piegādes laiku:
A18: Preces piegādes nosacījumi:
A19: 12 | B19: Piegādājot Preci, Piegādātājs nodod sekojošu dokumentāciju: medicīniskās ierīces lietošanas instrukcijas un citas dokumentācijas oriģinālvalodā un valsts valodā nodošanu (gan papīra, gan digitālā formātā) un vigilances sistēmas darbības izskaidrošanu lietotājam attiecībā uz konkrēto medicīnisko ierīci | C19: Piedāvājot savu preci, pretendents apstiprina preces piegādes nosacījumu izpildi.
A20: 13 | B20: Nododot Preci ekspluatācijā, piegādātājs nodrošina Preces uzstādīšanu, ierīces funkcionālo un elektrodrošības pārbaudi, kā arī funkciju testēšanu un ierīces kalibrēšanu(ja, uzsākot tās ekspluatāciju, tādas prasības paredzētas ierīces tehniskajā dokumentācijā), iesniedz domenentāciju par šo darbu izpildi.
A21: 14 | B21: Piegādājot preci piegādātās veic medicīniskās ierīces lietotāja apmācību un izsniedzot apliecinošu dokumentu, kurā norāda apmācīto personu, personu, kura veikusi apmācību, un apmācības veikšanas datumu; Piegādājot preci piegādātās veic medicīniskās ierīces tehniskajā dokumentācijā pieprasīto ierīces lietošanas vides raksturlielumu un garantētā elektroapgādes režīma pārbaudi un šo pierakstu nodošanu medicīniskās ierīces īpašniekam vai turētājam.
A22: 15 | B22: Piegādājot Preci, Piegādātājs nodrošina medicīniskās ierīces tehniskajā dokumentācijā pieprasīto ierīces lietošanas vides raksturlielumu un garantētā elektroapgādes režīma pārbaudi un šo pierakstu nodošanu pasūtītājam (Attiecināms uz Aktīvām IIa, aktīvām IIb un aktīvām III klases medicīnas ierīcēm ierīcēm, kurām ražotājs šādu pārbaudi ir noteicis)
A23: Tehniskās apkalpošanas nodrošināšanas nosacījumi
A24: 16 | B24: Visu veidu tehniskā apkalpošana tiek veikta tikai pēc Pasūtītāja pieprasījuma. | C24: Piedāvājot savu preci, pretendents apstiprina tehniskās apkalpošanas nodrošināšanas nosacījumu izpildi. | R24: Nav attiecināms
A25: 17 | B25: Visu veidu tehniskā apkalpošana tikai izņēmuma gadījumos notiek ārpus Slimnīcas teritorijas, iepriekš to saskaņojot ar Pasūtītāju. Ja autorizētais pārstāvis iekārtas tehnisko apkalpošanu nenodrošina uz vietas, bet ierīce tiek sūtīta ražotājam, tad to norādīt piedāvājumā.
A26: 18 | B26: Tehniskā uzraudzība jādokumentē atbilstoši ražotāja un 2023.gada 15.augusta Ministru kabineta noteikumu nr. 461 "Medicīnisko ierīču noteikumi" punktiem 45., 56., 59., norādot visas izmantotās mēriekārtas un mērīto lielumu robežvērtības, ja attiecināms.
A27: 19 | B27: Visu veidu tehniskā apkalpošana jādokumentē un jānoslēdz ar abpusēji parakstītu pieņemšanas/nodošanas vai servisa aktu.
A28: 20 | B28: Ierīces defektācija tiek veikta trīs darba dienu laikā no pieprasījuma saņemšanas, iesniedzot rakstisku atzinumu par ierīces tehnisko stāvokli. Darbības traucējumi tiek novērsti 5 darba dienu laikā no pieprasījuma saņemšanas vai defektācijas akta apstiprināšanas brīža. Par ilgāku bojājuma novēršanas izpildes laiku jāvienojas atsevišķi.
A29: 21 | B29: Ja iekārtas darbības atjaunošanai nepieciešama rezerves daļu nomaiņa, tad tiek sastādīts defektācijas akts un rezerves daļu nomaiņa tiek veikta tikai pēc defekta akta saskaņošanas ar Pasūtītāju.
A30: 22 | B30: Garantēt veikto darbu atbilstību ierīces ražotāja noteiktajiem standartiem un Latvijas Republikā spēkā esošajiem normatīvajiem aktiem, paredzot ne mazāk kā trīs mēnešu garantiju nomainītajām rezerves daļām, materiāliem un ar to nomaiņu saistītiem remontdarbiem.
A31: 23 | B31: Garantēt, ka tehnisko apkalpošanu veic ražotājs vai ražotāja atbilstoši apmācīts un sertificēts speciālists, ja ražotājs tā paredzējis.
A32: 24 | B32: Informēt Pasūtītāju gadījumos, ja ražotājs plāno pārtraukt tehnisko pavadību un tiklīdz ražotājs ir pārtraucis iekārtas tehnisko pavadību.
A33: 25 | B33: Servisa stundas likme ietver visas izmaksas (administratīvās, transporta, inženiera stundas likmi, servisam nepieciešamo instrumentu un materiālu (salvetes, skrūvju līme u.tml.) u.c.), izņemot rezerves daļu izmaksas, kas nepieciešamas, lai nodrošinātu vienu ierīces remonta/tehniskās apkalpošanas stundu. Laika uzskaites vienības - pusstunda vai stunda.
A34: 26 | B34: Periodiski veicamo darbu cenā ir ietvertas visas elektrodrošības un funkcionālās pārbaudes izmaksas, ja ražotājs tādas pārbaudes ir paredzējis.
A35: 27 | B35: Periodisko veicamo darbu veikšanai nepieciešamo piederumu (vienreizlietojamās sistēmas, kontūri u.tml.) izmaksas jāiekļauj pakalpojuma cenā.
A36: 28 | B36: Jānorāda paredzamais periodiski veicamo darbu ilgums, kas ir nepieciešams, lai varētu plānot ierīces pieejamību. Apmaksa par darba ilgumu tiks veikta pēc pieņemšanas/nodošanas vai servisa aktā minētā laika
... A38: 30 | B38: Ja iekārtai periodiski veicamo darbu saturs mainās, tad iekārtu tehniskās apkalpošanas piedāvājumā katru periodiski veicamā darba veidu norādīt atsevišķi, veidojot papildus rindas pēc nepieciešamības
A39: Papildus informācija par iepirkumu un piedāvājuma aizpildīšanas prasībām:
A40: 31 | B40: Pretendents tehniskajā piedāvājumā norāda Preces ražotāju, modeli un atbilstošos parametrus.
A41: 32 | B41: Parametru atbilstību pamatot ar norādi uz tehniskajām datu lapām vai informatīviem materiāliem, norādot atsauci tehniskajā piedāvājumā uz konkrēto lapaspusi un punktu. Informatīvajā materiālā norādīt tehniskās specifikācijas punktu, uz kuru attiecināms.
A42: 33 | B42: Iepirkums sadalīts 22 pozīcijās, līgums tiks slēgts par katru pozīciju atsevišķi, parakstot vispārīgo vienošanos.
A43: 34 | B43: Pozīcijās 1. - 10., 15. - 17. tiks vērtēta iekārtas, piederumu un uzturēšanas cenu summa, 11. - 14. tiks vērtēta iekārtas iegādes un uzturēšanas cenu summa, 18. - 22. pozīcijā tiks vērtēta iekārtas iegādes cena. Līguma slēgšanas tiesības saimnieciski izdevīgākajam piedāvājumam.
B45: Izmantotās definīcijas:
B46: *Tehniskā apkalpošana - ražotāja noteiktie periodiski veicamie darbi un remonts
B47: **Periodiskie veicamie darbi - ražotāja noteiktā apkope (ražotāja noteikts pasākumu kopums attiecībā uz konkrētajai medicīniskajai ierīcei tās ekspluatācijas laikā veicamo apkopes procedūru, ievērojot visas ražotāja noteiktās prasības, iekļaujot regulāri maināmo rezerves daļu klāstu, iestatīšanas vai kalibrēšanas procesus, atbilstoši ražotāja noteiktajiem termiņiem) un tehniskā uzraudzība
B48: ***Vienību skaits ir aptuvens un paredzēts konkursa uzvarētāja noteikšanai; līgumu paredzēts noslēgt par vienības cenu, norādot maksimālo summu, kuru var izmantot līguma darbības laikā.

Sheet 1
A1: 1. pozīcija - Pacientu monitors | D1: Pretendenta piedāvājums, atsauce uz informatīvo materiālu (Informatīvā materiāla nosaukums, lpp.)
A2: Nr. | B2: Preces nosaukums, veicamās funkcijas, tehniskās prasības un komplektācija | C2: Skaits, gab.***
A3: Piemērs | B3: Piemērs | C3: Piemērs | D3: Informatīvais materiāls 2, 4.lpp
A4: 1. | B4: Nosaukums: Pacientu monitors | C4: 2 | D4: (Norādīt piedāvātās iekārtas ražotāju un modeli)
A5: 1.1. | B5: Veicamās funkcijas:
A6: 1.1.1. | B6: Pacientu vitālo funkciju monitorēšana (EKG, SpO2, neinvazīvais asinsspiediens, temperatūra) monitorēšana
A7: 1.2. | B7: Tehniskās prasības:
A8: 1.2.1. | B8: Displeja izmērs ne mazāk kā 10” pa diagonāli
A9: 1.2.2. | B9: Ir iespēja vienlaicīgi novērot vismaz 6 kanālus
A10: 1.2.3. | B10: Trauksmes režīmi visiem parametriem ar vizualizāciju uz ekrāna un skaņas indikāciju
A11: 1.2.4. | B11: Pacientu režīmi: jaundzimušais, pediatriskais, pieaugušais
A12: 1.2.5. | B12: Darbināms no akumulatora un no tīkla
A13: 1.2.6. | B13: Ir iespēja eksportēt datus no pacienta monitora uz slimnīcā esošo centrālo darba staciju Edan MFM- CMS
A14: 1.2.7. | B14: Iekārta aprīkota ar ratiņiem
A15: 1.2.8. | B15: Iekārtas ratiņi ar aprīkoti ar groziņu piederumu glabāšanai
A16: 1.2.9. | B16: Riteņu protektors: termoplastiska gumija vai analogs
... A36: 1.3 | B36: Komplektācija (iekļauta iekārtas cenā, tiek piegādāta kopā ar katru iekārtu):
A37: 1.3.1 | B37: Monitors | C37: 1
A38: 1.3.2 | B38: Barošanas bloks | C38: 1
A39: 1.3.3 | B39: Statīvs uz riteņiem ar piederumu groziņu | C39: 1
A40: 1.3.4 | B40: Sensors SpO2:
A41: 1.3.4.1 | B41: Jaundzimušo, daudzreizlietojams (1gab) vai vienreizlietojams (20 gab) | C41: 1
A42: 1.3.4.2 | B42: Pediatriskais, daudzreizlietojamais, pirksta | C42: 1
A43: 1.3.4.3 | B43: Pieaugušo, daudzreizlietojamais, pirksta | C43: 1
A44: 1.3.4.4 | B44: Kabelis savienojošais SpO2, daudzreizlietojams, garums vismaz 2m, ja nepieciešams | C44: 1
A45: 1.3.5 | B45: Manšetes, daudzreizlietojamās:
A46: 1.3.5.1 | B46: Jaundzimušo, 10-15 cm +/- 4 cm | C46: 1
A47: 1.3.5.2 | B47: Pediatriskā, 14 - 20 cm +/- 4 cm | C47: 1
A48: 1.3.5.3 | B48: Pieaugušo S, 18 - 26 cm +/- 4 cm | C48: 1
A49: 1.3.5.4 | B49: Pieaugušo, 22 - 36 cm +/- 4 cm | C49: 1
A50: 1.3.5.5 | B50: Kabelis savienojošais neinvazīvā asinsspiediena | C50: 1
A51: 1.3.6 | B51: EKG mērīšana:
A52: 1.3.6.1 | B52: Daudzreizlietojamais EKG kabelis 3 novadījumu (jaundzimušo) | C52: 1
A53: 1.3.6.2 | B53: Daudzreizlietojamais EKG kabelis 3 novadījumu (pediatriskais/pieaugušo) | C53: 1
A54: 1.3.6.3 | B54: Savienojošais kabelis EKG mērījumu nodrošināšanai | C54: 1
A55: 1.4. | B55: Piederumi, saderīgi ar piedāvāto iekārtu (tiek norādīta cena par katru piederumu atsevišķi, tiks pasūtīti pēc nepieciešamības, papildus norādīto piederumu cena netiek iekļauta vērtējamajā cenā):
A56: 1.4.1. | B56: Sensors SpO2:
A57: 1.4.1.1. | B57: Jaundzimušo, daudzreizlietojams (1gab) vai vienreizlietojams (20 gab) | C57: 1
A58: 1.4.1.2. | B58: Pediatriskais, daudzreizlietojamais, pirksta | C58: 1
A59: 1.4.1.3. | B59: Pieaugušo, daudzreizlietojamais, pirksta | C59: 1
A60: 1.4.1.4. | B60: Kabelis savienojošais SpO2, daudzreizlietojams, garums vismaz 2m, ja nepieciešams | C60: 1
A61: 1.4.2. | B61: Manšetes, daudzreizlietojamās:
A62: 1.4.2.1. | B62: Jaundzimušo, 10-15 cm +/- 4 cm | C62: 1
A63: 1.4.2.2. | B63: Pediatriskā, 14 - 20 cm +/- 4 cm | C63: 1
A64: 1.4.2.3. | B64: Pieaugušo S, 18 - 26 cm +/- 4 cm | C64: 1
A65: 1.4.2.4. | B65: Pieaugušo, 22 - 36 cm +/- 4 cm | C65: 1
A66: 1.4.2.5. | B66: Kabelis savienojošais neinvazīvā asinspiediena | C66: 1
A67: 1.4.3. | B67: EKG mērīšana:
A68: 1.4.3.1. | B68: Daudzreizlietojamais EKG kabelis 3 novadījumu (jaundzimušo) | C68: 1
A69: 1.4.3.2. | B69: Daudzreizlietojamais EKG kabelis 3 novadījumu (pediatriskais/pieaugušo) | C69: 1
A70: 1.4.3.3. | B70: Savienojošais kabelis EKG mērījumu nodrošināšanai | C70: 1
A71: 1.4.4. | B71: Citi piederumi, kas nepieciešamas piedāvātajai iekārtai, lai nodrošinātu tehniskajā aprakstā norādīto funkcionalitāti un/vai pieejamie papildinājumi. (rindiņas atļauts papildināt zemāk pēc nepieciešamības, vienā rindiņā ierakstīt ne vairāk kā vienu piederumu) | C71: 1
A73: Saimnieciski visizdevīgākā piedāvājuma vērtēšanai norādāmā papildus informācija | D73: Saimnieciski visizdevīgākā piedāvājuma vērtēšanai norādāmā papildus informācija Pretendenta piedāvājums, atsauce uz informatīvo materiālu vai ražotāja apliecinājumu
A74: B | B74: Jānorāda Preces ražotāja noteiktais preces maksimālais lietošanas ilgums (paredzamais lietošanas ilgums) (gados)
A75: C | B75: Jānorāda Preces ražotāja noteiktais elektroenerģijas patēriņš (voltampēros (VA) vai vatos (W))
A78: Daļa | B78: VĒRTĒŠANAS KRITĒRIJI | C78: ĪPATSVARS
A79: A | B79: Vērtējamā summa | C79: 80
A80: B | B80: Preces maksimālais lietošanas ilgums | C80: 10
A81: C | B81: Elektroenerģijas patēriņš darba režīmā. Ja netiek norādīta informācija, vai tā ir nepilnīga aplama, tad tiek piešķirti 0 punkti | C81: 10
A82: ∑ | B82: Maksimālais īpatsvars (kopējais punktu skaits) ∑=A+B+C | C82: 100
A83: Komisija katrā daļā piešķir īpatsvaru (punktu skaitu), šādā kārtībā: 1) A (Vērtējamā summa) un C (Elektroenerģijas patēriņš) daļai - viszemākajai vērtība tiek piešķirts maksimālais punktu skaits. Ja piedāvājumā nav norādīta informācija par elektroenerģijas patēriņu tiek piešķirti 0 punkti. Ja tiek norādīts elektroenerģijas patēriņa diapazons, punktu piešķiršanai tiek izmantota augstākā vērtība. 2) Nākamās vērtības A (Vērtējamā summa) un C (Elektroenerģijas patēriņš) daļai tiek aprēķinātas proporcionāli A vai C = (A vai C zemākā iesniegtā vērtība no visiem pretendentiem )/(faktiskā iesniegtā vērtība konkrētajam pretendentam) x Piešķiramais punktu skaits. 3) B (Preces ražotāja noteiktais preces maksimālais lietošanas ilgums) daļai - vislielākajai vērtības tiek piešķirts maksimālais punktu skaits. Ja piedāvājumā nav norādīta informācija par preces lietošanas ilgumu tiek pieņemts, ka lietošanas ilgums ir noteiktais garantijas laiks. Ja tiek norādīts paredzamā lietošanas ilguma diapazons, punktu piešķiršanai tiek izmantota zemākā vērtība. 4) Nākamās vērtības B (Preces ražotāja noteiktais preces maksimālais lietošanas ilgums) daļai tiek aprēķinātas proporcionāli B = (faktiskā iesniegtā vērtība konkrētajam pretendentam)/(B augstākā iesniegtā vērtība no visiem pretendentiem ) x Piešķiramais punktu skaits.

Sheet 2
A1: 2. pozīcija - Inhalators | D1: Pretendenta piedāvājums, atsauce uz informatīvo materiālu (Informatīvā materiāla nosaukums, lpp.)
A2: Nr. | B2: Preces nosaukums, veicamās funkcijas, tehniskās prasības un komplektācija | C2: Skaits, gab.***
A3: Piemērs | B3: Piemērs | C3: Piemērs | D3: Informatīvais materiāls 2, 4.lpp
A4: 2. | B4: Nosaukums: Inhalators (Norādīt piedāvātās iekārtas ražotāju un modeli) | C4: 10 | D4: (Norādīt piedāvātās iekārtas ražotāju un modeli)
A5: 2.1. | B5: Veicamās funkcijas:
A6: 2.1.1. | B6: Zāļu ievadīšana caur elpceļiem intensīvas noslodzes apstākļos
A7: 2.2. | B7: Tehniskās prasības:
A8: 2.2.1. | B8: Darbības princips: Kompresora
A9: 2.2.2. | B9: Kompresora daļas svars nepārsniedz 2 kg
A10: 2.2.3. | B10: Barošanas avots (maiņstrāvas): 220-240 V, 50/60 Hz
A11: 2.2.4. | B11: Kompresora plūsma vismaz 5 l/min
A12: 2.2.5. | B12: Ir iespējams nodrošināt dažādus ieelpojamo daļiņu izmērus
A13: 2.2.6. | B13: Maksimālā miglotāja ietilpība ne lielāka kā 10 ml
A14: 2.2.7. | B14: Daļiņas ar izmēru < 5 µm attiecība pret visām ieelpojamām daļiņām ir diapazonā 60 - 80% pie dažādiem piederumu komplektiem
A15: 2.2.8. | B15: Skaņa miglojot ne vairāk kā 60 dBA (1 m attālumā)
A16: 2.2.9. | B16: Izmantojams antibiotiķu, bronhodilatatoru, steroīdu un pulmozyme miglošanai
... A20: 2.3. | B20: Komplektācija (iekļauta iekārtas cenā, tiek piegādāta kopā ar katru iekārtu):
A21: 2.3.1. | B21: Piederumu komplekts, kas nodrošina ieelpojamo daļiņu vidējo aerodinamisko diametru (MMAD) ne lielāku par 4 µm | C21: 1
A22: 4.4. | B22: Piederumi, saderīgi ar piedāvāto iekārtu (tiek norādīta cena par katru piederumu atsevišķi, tiks pasūtīti pēc nepieciešamības, papildu norādīto piederumu cena netiek iekļauta vērtējamajā cenā):
A23: 4.4.1. | B23: Piederumu komplekts, kas nodrošina ieelpojamo daļiņu vidējo aerodinamisko diametru (MMAD) ne lielāku par 4 µm | C23: 1
A24: 4.4.2. | B24: Iekārtas transporta soma | C24: 1
A25: 4.4.3. | B25: Citi piederumi, kas nepieciešamas piedāvātajai iekārtai, lai nodrošinātu tehniskajā aprakstā norādīto funkcionalitāti un/vai pieejamie papildinājumi. (rindiņas atļauts papildināt zemāk pēc nepieciešamības, vienā rindiņā ierakstīt ne vairāk kā vienu piederumu)
A28: Saimnieciski visizdevīgākā piedāvājuma vērtēšanai norādāmā papildus informācija | D28: Saimnieciski visizdevīgākā piedāvājuma vērtēšanai norādāmā papildus informācija Pretendenta piedāvājums, atsauce uz informatīvo materiālu vai ražotāja apliecinājumu
A29: B | B29: Jānorāda Preces ražotāja noteiktais preces maksimālais lietošanas ilgums (paredzamais lietošanas ilgums) (gados)
A30: C | B30: Jānorāda Preces ražotāja noteiktais elektroenerģijas patēriņš (voltampēros (VA) vai vatos (W))
A33: Daļa | B33: VĒRTĒŠANAS KRITĒRIJI | C33: ĪPATSVARS
A34: A | B34: Vērtējamā summa | C34: 80
A35: B | B35: Preces maksimālais lietošanas ilgums | C35: 10
A36: C | B36: Elektroenerģijas patēriņš darba režīmā. Ja netiek norādīta informācija, vai tā ir nepilnīga aplama, tad tiek piešķirti 0 punkti | C36: 10
A37: ∑ | B37: Maksimālais īpatsvars (kopējais punktu skaits) ∑=A+B+C | C37: 100
A38: Komisija katrā daļā piešķir īpatsvaru (punktu skaitu), šādā kārtībā: 1) A (Vērtējamā summa) un C (Elektroenerģijas patēriņš) daļai - viszemākajai vērtība tiek piešķirts maksimālais punktu skaits. Ja piedāvājumā nav norādīta informācija par elektroenerģijas patēriņu tiek piešķirti 0 punkti. Ja tiek norādīts elektroenerģijas patēriņa diapazons, punktu piešķiršanai tiek izmantota augstākā vērtība. 2) Nākamās vērtības A (Vērtējamā summa) un C (Elektroenerģijas patēriņš) daļai tiek aprēķinātas proporcionāli A vai C = (A vai C zemākā iesniegtā vērtība no visiem pretendentiem )/(faktiskā iesniegtā vērtība konkrētajam pretendentam) x Piešķiramais punktu skaits. 3) B (Preces ražotāja noteiktais preces maksimālais lietošanas ilgums) daļai - vislielākajai vērtības tiek piešķirts maksimālais punktu skaits. Ja piedāvājumā nav norādīta informācija par preces lietošanas ilgumu tiek pieņemts, ka lietošanas ilgums ir noteiktais garantijas laiks. Ja tiek norādīts paredzamā lietošanas ilguma diapazons, punktu piešķiršanai tiek izmantota zemākā vērtība. 4) Nākamās vērtības B (Preces ražotāja noteiktais preces maksimālais lietošanas ilgums) daļai tiek aprēķinātas proporcionāli B = (faktiskā iesniegtā vērtība konkrētajam pretendentam)/(B augstākā iesniegtā vērtība no visiem pretendentiem ) x Piešķiramais punktu skaits.

Sheet 3
A1: 3. pozīcija - Infūziju sūknis | D1: Pretendenta piedāvājums, atsauce uz informatīvo materiālu (Informatīvā materiāla nosaukums, lpp.)
A2: Nr. | B2: Preces nosaukums, veicamās funkcijas, tehniskās prasības un komplektācija | C2: Skaits, gab.***
A3: Piemērs | B3: Piemērs | C3: Piemērs | D3: Informatīvais materiāls 2, 4.lpp
A4: 3. | B4: Nosaukums: Infūzijas sūknis | C4: 20 | D4: (Norādīt piedāvātās iekārtas ražotāju un modeli)
A5: 3.1. | B5: Veicamās funkcijas:
A6: 3.1.1. | B6: Precīza medikamentu dozēta vienlaicīga ievade un uzraudzība noteiktā laika posmā
A7: 3.2. | B7: Tehniskās prasības:
A8: 3.2.1. | B8: Ātruma titrēšana infūzijas laikā
A9: 3.2.2. | B9: Bolus funkcija
A10: 3.2.3. | B10: Infūzijas ātrums intervālā 1 - 99,9 ml/h iestatāms ar soli ne lielāku kā 0,01 ml/h; intervālā 100,0 - 999 ml/h iestatāms ar soli ne lielāku kā 0,1 ml/h
A11: 3.2.4. | B11: Maināms oklūzijas spiediena līmenis ar spiediena trauksmes līmeņa uzstādīšanas iespēju līdz vismaz 1 bar
A12: 3.2.5. | B12: Plūsmas ātruma uzstādīšana vismaz no 1 - 999 ml/h
A13: 3.2.6. | B13: Darbība no individuālās modulārās stacijas vai no 220-240 V, 50 Hz strāvas avota un automātiski uzlādējamas baterijas
A14: 3.2.7. | B14: Ir iespējams aprīkot ar pilienu sensoru
A15: 3.2.8. | B15: KVO ātrums vismaz no 0,1 - 3 ml/h
A16: 3.2.9. | B16: Ievades precizitāte vismaz ± 2%
... A30: 3.5. | B30: Papildus komplektācija (tiek norādīta cena par katru piederumu atsevišķi, tiks pasūtīti pēc nepieciešamības, norādīto piederumu cena tiek iekļauta vērtējamajā cenā):
A31: 3.5.1. | B31: Ārējais barošanas bloks (ja attiecināms) | C31: 1
A32: 3.5.2. | B32: Stiprinājums pie infūzijas statīva (gadījumā, ja iekārta nav aprīkota ar iebūvētu risinājumu) | C32: 1
A33: 3.5.3. | B33: Modulārās stacijas ar vismaz 4 uzlādes vietām, saderīgas ar piedāvātajiem sūkņiem | C33: 1
A34: 3.5.4. | B34: Pilienu sensors | C34: 1
A35: 3.6. | B35: Piederumi, saderīgi ar piedāvāto iekārtu (tiek norādīta cena par katru piederumu atsevišķi, tiks pasūtīti pēc nepieciešamības, papildus norādīto piederumu cena netiek iekļauta vērtējamajā cenā):
A36: 3.6.1. | B36: Citi piederumi, kas nepieciešamas piedāvātajai iekārtai, lai nodrošinātu tehniskajā aprakstā norādīto funkcionalitāti un/vai pieejamie papildinājumi. (rindiņas atļauts papildināt zemāk pēc nepieciešamības, vienā rindiņā ierakstīt ne vairāk kā vienu piederumu) | C36: 1
A39: Saimnieciski visizdevīgākā piedāvājuma vērtēšanai norādāmā papildus informācija | D39: Saimnieciski visizdevīgākā piedāvājuma vērtēšanai norādāmā papildus informācija Pretendenta piedāvājums, atsauce uz informatīvo materiālu vai ražotāja apliecinājumu
A40: B | B40: Jānorāda Preces ražotāja noteiktais preces maksimālais lietošanas ilgums (paredzamais lietošanas ilgums) (gados)
A41: C | B41: Jānorāda Preces ražotāja noteiktais elektroenerģijas patēriņš (voltampēros (VA) vai vatos (W))
A44: Daļa | B44: VĒRTĒŠANAS KRITĒRIJI | C44: ĪPATSVARS
A45: A | B45: Vērtējamā summa | C45: 80
A46: B | B46: Preces maksimālais lietošanas ilgums | C46: 10
A47: C | B47: Elektroenerģijas patēriņš darba režīmā. Ja netiek norādīta informācija, vai tā ir nepilnīga aplama, tad tiek piešķirti 0 punkti | C47: 10
A48: ∑ | B48: Maksimālais īpatsvars (kopējais punktu skaits) ∑=A+B+C | C48: 100
A49: Komisija katrā daļā piešķir īpatsvaru (punktu skaitu), šādā kārtībā: 1) A (Vērtējamā summa) un C (Elektroenerģijas patēriņš) daļai - viszemākajai vērtība tiek piešķirts maksimālais punktu skaits. Ja piedāvājumā nav norādīta informācija par elektroenerģijas patēriņu tiek piešķirti 0 punkti. Ja tiek norādīts elektroenerģijas patēriņa diapazons, punktu piešķiršanai tiek izmantota augstākā vērtība. 2) Nākamās vērtības A (Vērtējamā summa) un C (Elektroenerģijas patēriņš) daļai tiek aprēķinātas proporcionāli A vai C = (A vai C zemākā iesniegtā vērtība no visiem pretendentiem )/(faktiskā iesniegtā vērtība konkrētajam pretendentam) x Piešķiramais punktu skaits. 3) B (Preces ražotāja noteiktais preces maksimālais lietošanas ilgums) daļai - vislielākajai vērtības tiek piešķirts maksimālais punktu skaits. Ja piedāvājumā nav norādīta informācija par preces lietošanas ilgumu tiek pieņemts, ka lietošanas ilgums ir noteiktais garantijas laiks. Ja tiek norādīts paredzamā lietošanas ilguma diapazons, punktu piešķiršanai tiek izmantota zemākā vērtība. 4) Nākamās vērtības B (Preces ražotāja noteiktais preces maksimālais lietošanas ilgums) daļai tiek aprēķinātas proporcionāli B = (faktiskā iesniegtā vērtība konkrētajam pretendentam)/(B augstākā iesniegtā vērtība no visiem pretendentiem ) x Piešķiramais punktu skaits.

Sheet 4
A1: 4. pozīcija - Portatīvais vakuumsūknis | D1: Pretendenta piedāvājums, atsauce uz informatīvo materiālu (Informatīvā materiāla nosaukums, lpp.)
A2: Nr. | B2: Preces nosaukums, veicamās funkcijas, tehniskās prasības un komplektācija | C2: Skaits, gab.***
A3: Piemērs | B3: Piemērs | C3: Piemērs | D3: Informatīvais materiāls 2, 4.lpp
A4: 4. | B4: Nosaukums: Portatīvais vakuumsūknis | C4: 10 | D4: (Norādīt piedāvātās iekārtas ražotāju un modeli)
A5: 4.1. | B5: Veicamās funkcijas:
A6: 4.1.1. | B6: Šķidrumu atsūkšana - elpceļu sanācija
A7: 4.2. | B7: Tehniskās prasības:
A8: 4.2.1. | B8: Aprīkots ar rokturi ērtai pārvietošanai
A9: 4.2.2. | B9: Pielietojams visu vecumu pacientiem
A10: 4.2.3. | B10: Maksimālais skaņas līmenis < 65 dBA pie maksimālā uzstādītā vakuuma līmeņa
A11: 4.2.4. | B11: Aprīkots ar vakuuma līmeņa regulētāju
A12: 4.2.5. | B12: Precīzi un viegli regulējams vakuuma līmenis, maksimālais vakuuma līmenis ne mazāks kā -80 kPa (-0.8 bar/-600 mmHg)
A13: 4.2.6. | B13: Maksimālā atsūkšanas plūsma vismaz 30 l/min
A14: 4.2.7. | B14: Labi pārredzams spiediena manometrs ar kPa, bar vai mmHg iedaļām
A15: 4.2.8. | B15: Spiediena manometra precizitāte ± 5 % visā spiediena diapazonā
A16: 4.2.9. | B16: Ar maināmiem mitruma/bakteriālajiem filtriem pirms atsūkšanas caurulītes ieejas vakuumsūknī
... A22: 4.3. | B22: Komplektācija (iekļauta iekārtas cenā, tiek piegādāta kopā ar katru iekārtu):
A23: 4.3.1. | B23: Visas vakuumsūkņa pirmreizējai darbībai nepieciešamās savienojošās caurules, adapteri un filtri | C23: 1
A24: 4.3.2. | B24: Daudzreizlietojams autoklāvējams savācējtrauks ar tilpumu vismaz 1 L un ne lielāku kā 2 L, savācējtrauks aprīkots ar pārplūdes aizsardzības vārstu | C24: 1
A25: 4.3.3. | B25: Rezerves daudzreizlietojams autoklāvējams savācējtrauks ar tilpumu vismaz 1 L un ne lielāku kā 2 L, savācējtrauks aprīkots ar pārplūdes aizsardzības vārstu | C25: 1
A26: 4.3.4. | B26: Barošanas kabelis | C26: 1
A27: 4.4. | B27: Piederumi, saderīgi ar piedāvāto iekārtu (tiek norādīta cena par katru piederumu atsevišķi, tiks pasūtīti pēc nepieciešamības, papildus norādīto piederumu cena netiek iekļauta vērtējamajā cenā):
A28: 4.4.1. | B28: Savācējtrauka komplekts - Daudzreizlietojams, autoklāvējams, ar tilpumu vismaz 1 L un ne lielāku kā 2 L, aprīkots ar pārplūdes aizsardzības vārstu | C28: 3 komplekti
A29: 4.4.2. | B29: Savācējtrauks - Daudzreizlietojams, autoklāvējams, ar tilpumu vismaz 1 L un ne lielāku kā 2 L, aprīkots ar pārplūdes aizsardzības vārstu | C29: 3
A30: 4.4.3. | B30: Savācējtrauka vāks (saderīgi ar piedāvātajiem traukiem) | C30: 3
A31: 4.4.4. | B31: Citi piederumi, kas nepieciešamas piedāvātajai iekārtai, lai nodrošinātu tehniskajā aprakstā norādīto funkcionalitāti un/vai pieejamie papildinājumi. (rindiņas atļauts papildināt zemāk pēc nepieciešamības, vienā rindiņā ierakstīt ne vairāk kā vienu piederumu) | C31: 1
A33: Saimnieciski visizdevīgākā piedāvājuma vērtēšanai norādāmā papildus informācija | D33: Saimnieciski visizdevīgākā piedāvājuma vērtēšanai norādāmā papildus informācija Pretendenta piedāvājums, atsauce uz informatīvo materiālu vai ražotāja apliecinājumu
A34: B | B34: Jānorāda Preces ražotāja noteiktais preces maksimālais lietošanas ilgums (paredzamais lietošanas ilgums) (gados)
A35: C | B35: Jānorāda Preces ražotāja noteiktais elektroenerģijas patēriņš (voltampēros (VA) vai vatos (W))
A38: Daļa | B38: VĒRTĒŠANAS KRITĒRIJI | C38: ĪPATSVARS
A39: A | B39: Vērtējamā summa | C39: 80
A40: B | B40: Preces maksimālais lietošanas ilgums | C40: 10
A41: C | B41: Elektroenerģijas patēriņš darba režīmā. Ja netiek norādīta informācija, vai tā ir nepilnīga aplama, tad tiek piešķirti 0 punkti | C41: 10
A42: ∑ | B42: Maksimālais īpatsvars (kopējais punktu skaits) ∑=A+B+C | C42: 100
A43: Komisija katrā daļā piešķir īpatsvaru (punktu skaitu), šādā kārtībā: 1) A (Vērtējamā summa) un C (Elektroenerģijas patēriņš) daļai - viszemākajai vērtība tiek piešķirts maksimālais punktu skaits. Ja piedāvājumā nav norādīta informācija par elektroenerģijas patēriņu tiek piešķirti 0 punkti. Ja tiek norādīts elektroenerģijas patēriņa diapazons, punktu piešķiršanai tiek izmantota augstākā vērtība. 2) Nākamās vērtības A (Vērtējamā summa) un C (Elektroenerģijas patēriņš) daļai tiek aprēķinātas proporcionāli A vai C = (A vai C zemākā iesniegtā vērtība no visiem pretendentiem )/(faktiskā iesniegtā vērtība konkrētajam pretendentam) x Piešķiramais punktu skaits. 3) B (Preces ražotāja noteiktais preces maksimālais lietošanas ilgums) daļai - vislielākajai vērtības tiek piešķirts maksimālais punktu skaits. Ja piedāvājumā nav norādīta informācija par preces lietošanas ilgumu tiek pieņemts, ka lietošanas ilgums ir noteiktais garantijas laiks. Ja tiek norādīts paredzamā lietošanas ilguma diapazons, punktu piešķiršanai tiek izmantota zemākā vērtība. 4) Nākamās vērtības B (Preces ražotāja noteiktais preces maksimālais lietošanas ilgums) daļai tiek aprēķinātas proporcionāli B = (faktiskā iesniegtā vērtība konkrētajam pretendentam)/(B augstākā iesniegtā vērtība no visiem pretendentiem ) x Piešķiramais punktu skaits.

Sheet 5
A1: 5. pozīcija - Sūknis enterālās barošanas | D1: Pretendenta piedāvājums, atsauce uz informatīvo materiālu (Informatīvā materiāla nosaukums, lpp.)
A2: Nr. | B2: Preces nosaukums, veicamās funkcijas, tehniskās prasības un komplektācija | C2: Skaits, gab.****
A3: Piemērs | B3: Piemērs | C3: Piemērs | D3: Informatīvais materiāls 2, 4.lpp
A4: 5. | B4: Nosaukums: Sūknis enterālās barošanas (Norādīt piedāvātās iekārtas ražotāju un modeli) | C4: 10
A5: 5.1. | B5: Veicamās funkcijas:
A6: 5.1.1. | B6: Precīza un dozēta enterālā maisījuma ievade un uzraudzība noteiktā laika posmā no maisa ar enterālo maisījumu
A7: 5.2. | B7: Tehniskās prasības:
A8: 5.2.1. | B8: Ātruma titrēšanas iespēja enterālā maisījuma ievades laikā
A9: 5.2.2. | B9: Infūzijas parametri:
A10: 5.2.2.1. | B10: Ievadīšanas plūsmas ātruma diapazons (RATE) no vismaz 1 ml/h līdz vismaz 400 ml/h
A11: 5.2.2.2. | B11: Ievadāmā šķidruma daudzuma diapazons (VTBI) vismaz no 1 ml līdz vismaz 4000 ml
A12: 5.2.2.3. | B12: Ievadītā daudzuma reģistrēšanas diapazons (VI) no 0 ml līdz vismaz 4000 ml
A13: 5.2.2.4. | B13: Ievadīšanas plūsmas ātruma un tilpuma precizitāte ± 5 %
A14: 5.2.2.5. | B14: Sistēmā esošo gaisa burbuļu detektēšana - gaisa burbuļu izmērs ne mazāks kā 500 µl
A15: 5.2.2.6. | B15: Oklūzijas spiediena detektēšana ieplūdē - vismaz -250 mmHg
A16: 5.2.2.7. | B16: Oklūzijas spiediena detektēšana izplūdē - vismaz 620 mmHg
... A35: 5.2.7. | B35: Komplektācija (iekļauta iekārtas cenā, tiek piegādāta kopā ar katru iekārtu):
A36: 5.2.7.1. | B36: Barošanas sūknis | C36: 1
A37: 5.2.7.2. | B37: Barošanas kabelis | C37: 1
A38: 5.2.7.3. | B38: Stiprinājums iekārtas stiprināšanai pie statīva | C38: 1
A39: 5.2.8. | B39: Piederumi, saderīgi ar piedāvāto iekārtu (tiek norādīta cena par katru piederumu atsevišķi, tiks pasūtīti pēc nepieciešamības, papildus norādīto piederumu cena netiek iekļauta vērtējamajā cenā):
A40: 5.2.8.1. | B40: Stiprinājums iekārtas stiprināšanai pie statīva
A41: 5.2.8.2. | B41: Citi piederumi, kas nepieciešamas piedāvātajai iekārtai, lai nodrošinātu tehniskajā aprakstā norādīto funkcionalitāti un/vai pieejamie papildinājumi. (rindiņas atļauts papildināt zemāk pēc nepieciešamības, vienā rindiņā ierakstīt ne vairāk kā vienu piederumu)
A44: Saimnieciski visizdevīgākā piedāvājuma vērtēšanai norādāmā papildus informācija | D44: Saimnieciski visizdevīgākā piedāvājuma vērtēšanai norādāmā papildus informācija Pretendenta piedāvājums, atsauce uz informatīvo materiālu vai ražotāja apliecinājumu
A45: B | B45: Jānorāda Preces ražotāja noteiktais preces maksimālais lietošanas ilgums (paredzamais lietošanas ilgums) (gados)
A46: C | B46: Jānorāda Preces ražotāja noteiktais elektroenerģijas patēriņš (voltampēros (VA) vai vatos (W))
A49: Daļa | B49: VĒRTĒŠANAS KRITĒRIJI | C49: ĪPATSVARS
A50: A | B50: Vērtējamā summa | C50: 80
A51: B | B51: Preces maksimālais lietošanas ilgums | C51: 10
A52: C | B52: Elektroenerģijas patēriņš darba režīmā. Ja netiek norādīta informācija, vai tā ir nepilnīga aplama, tad tiek piešķirti 0 punkti | C52: 10
A53: ∑ | B53: Maksimālais īpatsvars (kopējais punktu skaits) ∑=A+B+C | C53: 100
A54: Komisija katrā daļā piešķir īpatsvaru (punktu skaitu), šādā kārtībā: 1) A (Vērtējamā summa) un C (Elektroenerģijas patēriņš) daļai - viszemākajai vērtība tiek piešķirts maksimālais punktu skaits. Ja piedāvājumā nav norādīta informācija par elektroenerģijas patēriņu tiek piešķirti 0 punkti. Ja tiek norādīts elektroenerģijas patēriņa diapazons, punktu piešķiršanai tiek izmantota augstākā vērtība. 2) Nākamās vērtības A (Vērtējamā summa) un C (Elektroenerģijas patēriņš) daļai tiek aprēķinātas proporcionāli A vai C = (A vai C zemākā iesniegtā vērtība no visiem pretendentiem )/(faktiskā iesniegtā vērtība konkrētajam pretendentam) x Piešķiramais punktu skaits. 3) B (Preces ražotāja noteiktais preces maksimālais lietošanas ilgums) daļai - vislielākajai vērtības tiek piešķirts maksimālais punktu skaits. Ja piedāvājumā nav norādīta informācija par preces lietošanas ilgumu tiek pieņemts, ka lietošanas ilgums ir noteiktais garantijas laiks. Ja tiek norādīts paredzamā lietošanas ilguma diapazons, punktu piešķiršanai tiek izmantota zemākā vērtība. 4) Nākamās vērtības B (Preces ražotāja noteiktais preces maksimālais lietošanas ilgums) daļai tiek aprēķinātas proporcionāli B = (faktiskā iesniegtā vērtība konkrētajam pretendentam)/(B augstākā iesniegtā vērtība no visiem pretendentiem ) x Piešķiramais punktu skaits.

Sheet 6
A1: 6. pozīcija - Pulsa oksimetrs I | D1: Pretendenta piedāvājums, atsauce uz informatīvo materiālu (Informatīvā materiāla nosaukums, lpp.)
A2: Nr. | B2: Preces nosaukums, veicamās funkcijas, tehniskās prasības un komplektācija | C2: Skaits, gab.***
A3: Piemērs | B3: Piemērs | C3: Piemērs | D3: Informatīvais materiāls 2, 4.lpp
A4: 6. | B4: Nosaukums: Pulsa oksimetrs | C4: 15
A5: 6.1. | B5: Veicamās funkcijas:
A6: 6.1.1. | B6: Nepārtrauktu SpO2 mērījumu veikšana
A7: 6.1.2. | B7: Pulsa noteikšana
A8: 6.2. | B8: Tehniskās prasības:
A9: 6.2.1. | B9: SpO2 Mērījumu diapazons: vismaz 70% līdz 100%
A10: 6.2.2. | B10: SpO2 Mērījumu precizitāte: pie saturācijas 70 – 100% vismaz ± 3 %
A11: 6.2.3. | B11: Pulsa mērījumu diapazons: robežās vismaz 30 – 240 sitieni/min
A12: 6.2.4. | B12: Pulsa mērījumu precizitāte: vismaz ± 5 sitieni/min, ja pacients kustas
A13: 6.2.5. | B13: Iebūvēta atmiņa ar mērījumu pierakstu vismaz 8 h
A14: 6.2.6. | B14: Barošanas avots: 220-240V, 50Hz strāvas avots un atkārtoti uzlādējams akumulators
A15: 6.2.7. | B15: Akumulatora darbības laiks ne mazāk kā 7 h
A16: 6.2.8. | B16: Iekārtas lielākais ārējais izmērs ne lielāks kā 250 mm
... A23: 6.3. | B23: Komplektācija (iekļauta iekārtas cenā, tiek piegādāta kopā ar katru iekārtu):
A24: 6.3.1. | B24: Kabelis savienojošais SpO2, daudzreizlietojams, garums vismaz 2,5m, ja nepieciešams | C24: 1
A25: 6.3.2. | B25: Barošanas bloks | C25: 1
A26: 6.3.3. | B26: Jaundzimušo sensors, daudzreizlietojams | C26: 1
A27: 6.3.4. | B27: Bērnu sensors, daudzreizlietojams | C27: 1
A28: 6.3.5. | B28: Pieaugušo sensors, daudzreizlietojams | C28: 1
A29: 6.4. | B29: Piederumi, saderīgi ar piedāvāto iekārtu (tiek norādīta cena par katru piederumu atsevišķi, tiks pasūtīti pēc nepieciešamības, papildus norādīto piederumu cena netiek iekļauta vērtējamajā cenā):
A30: 6.4.1. | B30: Kabelis savienojošais SpO2, daudzreizlietojams, garums vismaz 2,5m, ja nepieciešams | C30: 1
A31: 6.4.2. | B31: Barošanas bloks | C31: 1
A32: 6.4.3. | B32: Jaundzimušo sensors, daudzreizlietojams | C32: 1
A33: 6.4.4. | B33: Jaundzimušo sensors, vienreizreizlietojams | C33: 20
A34: 6.4.5. | B34: Bērnu sensors, daudzreizlietojams | C34: 1
A35: 6.4.6. | B35: Pieaugušo sensors, daudzreizlietojams | C35: 1
A36: 6.4.7. | B36: Citi piederumi, kas nepieciešamas piedāvātajai iekārtai, lai nodrošinātu tehniskajā aprakstā norādīto funkcionalitāti un/vai pieejamie papildinājumi. (rindiņas atļauts papildināt zemāk pēc nepieciešamības, vienā rindiņā ierakstīt ne vairāk kā vienu piederumu) | C36: 1
A39: Saimnieciski visizdevīgākā piedāvājuma vērtēšanai norādāmā papildus informācija | D39: Saimnieciski visizdevīgākā piedāvājuma vērtēšanai norādāmā papildus informācija Pretendenta piedāvājums, atsauce uz informatīvo materiālu vai ražotāja apliecinājumu
A40: B | B40: Jānorāda Preces ražotāja noteiktais preces maksimālais lietošanas ilgums (paredzamais lietošanas ilgums) (gados)
A41: C | B41: Jānorāda Preces ražotāja noteiktais elektroenerģijas patēriņš (voltampēros (VA) vai vatos (W))
A44: Daļa | B44: VĒRTĒŠANAS KRITĒRIJI | C44: ĪPATSVARS
A45: A | B45: Vērtējamā summa | C45: 80
A46: B | B46: Preces maksimālais lietošanas ilgums | C46: 10
A47: C | B47: Elektroenerģijas patēriņš darba režīmā. Ja netiek norādīta informācija, vai tā ir nepilnīga aplama, tad tiek piešķirti 0 punkti | C47: 10
A48: ∑ | B48: Maksimālais īpatsvars (kopējais punktu skaits) ∑=A+B+C | C48: 100
A49: Komisija katrā daļā piešķir īpatsvaru (punktu skaitu), šādā kārtībā: 1) A (Vērtējamā summa) un C (Elektroenerģijas patēriņš) daļai - viszemākajai vērtība tiek piešķirts maksimālais punktu skaits. Ja piedāvājumā nav norādīta informācija par elektroenerģijas patēriņu tiek piešķirti 0 punkti. Ja tiek norādīts elektroenerģijas patēriņa diapazons, punktu piešķiršanai tiek izmantota augstākā vērtība. 2) Nākamās vērtības A (Vērtējamā summa) un C (Elektroenerģijas patēriņš) daļai tiek aprēķinātas proporcionāli A vai C = (A vai C zemākā iesniegtā vērtība no visiem pretendentiem )/(faktiskā iesniegtā vērtība konkrētajam pretendentam) x Piešķiramais punktu skaits. 3) B (Preces ražotāja noteiktais preces maksimālais lietošanas ilgums) daļai - vislielākajai vērtības tiek piešķirts maksimālais punktu skaits. Ja piedāvājumā nav norādīta informācija par preces lietošanas ilgumu tiek pieņemts, ka lietošanas ilgums ir noteiktais garantijas laiks. Ja tiek norādīts paredzamā lietošanas ilguma diapazons, punktu piešķiršanai tiek izmantota zemākā vērtība. 4) Nākamās vērtības B (Preces ražotāja noteiktais preces maksimālais lietošanas ilgums) daļai tiek aprēķinātas proporcionāli B = (faktiskā iesniegtā vērtība konkrētajam pretendentam)/(B augstākā iesniegtā vērtība no visiem pretendentiem ) x Piešķiramais punktu skaits.

Sheet 7
A1: 7. pozīcija - Pulsa oksimetrs II | D1: Pretendenta piedāvājums, atsauce uz informatīvo materiālu (Informatīvā materiāla nosaukums, lpp.)
A2: Nr. | B2: Preces nosaukums, veicamās funkcijas, tehniskās prasības un komplektācija | C2: Skaits, gab.***
A3: Piemērs | B3: Piemērs | C3: Piemērs | D3: Informatīvais materiāls 2, 4.lpp
A4: 7. | B4: Nosaukums: Pulsa oksimetrs | C4: 15
A5: 7.1. | B5: Veicamās funkcijas:
A6: 7.1.1. | B6: Nepārtrauktu SpO2 mērījumu veikšana
A7: 7.1.2. | B7: Pulsa noteikšana
A8: 7.2. | B8: Tehniskās prasības:
A9: 7.2.1. | B9: Skābekla saturācijas un pulsa mērīšanas funkcija - Masimo SET tehnoloģija
A10: 7.2.2. | B10: Perfūzijas indeksa kalkulāciju un SpO2 mērījumu attēlošanu skaitliskās izteiksmes veidā procentos
A11: 7.2.3. | B11: SpO2 mērīšanas diapazons no 70 līdz 100%
A12: 7.2.4. | B12: Mērījumu kļūda ne lielāka par ± 2% robežās no 70 līdz 100%
A13: 7.2.5. | B13: Pulsa frekvences mērīšana diapazonā ne mazāk kā no 30 līdz 240 reiz./ min
A14: 7.2.6. | B14: Pulsa mērījumu precizitāte: vismaz ± 5 sitieni/min, ja pacients kustas
A15: 7.2.7. | B15: Iebūvēta atmiņa ar mērījumu pierakstu vismaz 8 h
A16: 7.2.8. | B16: Barošanas avots: 220-240V, 50Hz strāvas avots un atkārtoti uzlādējams akumulators
... A26: 7.3.1. | B26: Sensors SpO2:
A27: 7.3.1.1. | B27: Masimo RD SET konektori | C27: 1
A28: 7.3.1.2. | B28: Pediatriskais, daudzreizlietojamais, pirksta | C28: 1
A29: 7.3.1.3. | B29: Pieaugušo, daudzreizlietojamais, pirksta | C29: 1
A30: 7.3.2. | B30: Kabelis savienojošais SpO2, daudzreizlietojams, garums vismaz 2,5m, ja nepieciešams | C30: 1
A31: 7.3.3. | B31: Barošanas bloks vai barošanas kabelis | C31: 1
A32: 7.4. | B32: Piederumi, saderīgi ar piedāvāto iekārtu (tiek norādīta cena par katru piederumu atsevišķi, tiks pasūtīti pēc nepieciešamības, papildus norādīto piederumu cena netiek iekļauta vērtējamajā cenā):
A33: 7.4.1 | B33: Sensors SpO2:
A34: 7.4.1.1 | B34: Jaundzimušo, daudzreizlietojams (Ja attiecināms. Pretendenta jāpiedāvā viens no punktiem (7.4.1.1 vai 7.4.1.2)) | C34: 1
A35: 7.4.1.2 | B35: Jaundzimušo, vienreizlietojams (Ja attiecināms. Pretendenta jāpiedāvā viens no punktiem (7.4.1.1 vai 7.4.1.2)) | C35: 20
A36: 7.4.1.3 | B36: Pediatriskais, daudzreizlietojamais, pirksta | C36: 1
A37: 7.4.1.4 | B37: Pieaugušo, daudzreizlietojamais, pirksta | C37: 1
A38: 7.4.1.5 | B38: Kabelis savienojošais SpO2, daudzreizlietojams, garums vismaz 3m, ja nepieciešams | C38: 1
A39: 7.4.1.6. | B39: Citi piederumi, kas nepieciešamas piedāvātajai iekārtai, lai nodrošinātu tehniskajā aprakstā norādīto funkcionalitāti un/vai pieejamie papildinājumi. (rindiņas atļauts papildināt zemāk pēc nepieciešamības, vienā rindiņā ierakstīt ne vairāk kā vienu piederumu) | C39: 1
A44: Saimnieciski visizdevīgākā piedāvājuma vērtēšanai norādāmā papildus informācija | D44: Saimnieciski visizdevīgākā piedāvājuma vērtēšanai norādāmā papildus informācija Pretendenta piedāvājums, atsauce uz informatīvo materiālu vai ražotāja apliecinājumu
A45: B | B45: Jānorāda Preces ražotāja noteiktais preces maksimālais lietošanas ilgums (paredzamais lietošanas ilgums) (gados)
A46: C | B46: Jānorāda Preces ražotāja noteiktais elektroenerģijas patēriņš (voltampēros (VA) vai vatos (W))
A49: Daļa | B49: VĒRTĒŠANAS KRITĒRIJI | C49: ĪPATSVARS
A50: A | B50: Vērtējamā summa | C50: 80
A51: B | B51: Preces maksimālais lietošanas ilgums | C51: 10
A52: C | B52: Elektroenerģijas patēriņš darba režīmā. Ja netiek norādīta informācija, vai tā ir nepilnīga aplama, tad tiek piešķirti 0 punkti | C52: 10
A53: ∑ | B53: Maksimālais īpatsvars (kopējais punktu skaits) ∑=A+B+C | C53: 100
A54: Komisija katrā daļā piešķir īpatsvaru (punktu skaitu), šādā kārtībā: 1) A (Vērtējamā summa) un C (Elektroenerģijas patēriņš) daļai - viszemākajai vērtība tiek piešķirts maksimālais punktu skaits. Ja piedāvājumā nav norādīta informācija par elektroenerģijas patēriņu tiek piešķirti 0 punkti. Ja tiek norādīts elektroenerģijas patēriņa diapazons, punktu piešķiršanai tiek izmantota augstākā vērtība. 2) Nākamās vērtības A (Vērtējamā summa) un C (Elektroenerģijas patēriņš) daļai tiek aprēķinātas proporcionāli A vai C = (A vai C zemākā iesniegtā vērtība no visiem pretendentiem )/(faktiskā iesniegtā vērtība konkrētajam pretendentam) x Piešķiramais punktu skaits. 3) B (Preces ražotāja noteiktais preces maksimālais lietošanas ilgums) daļai - vislielākajai vērtības tiek piešķirts maksimālais punktu skaits. Ja piedāvājumā nav norādīta informācija par preces lietošanas ilgumu tiek pieņemts, ka lietošanas ilgums ir noteiktais garantijas laiks. Ja tiek norādīts paredzamā lietošanas ilguma diapazons, punktu piešķiršanai tiek izmantota zemākā vērtība. 4) Nākamās vērtības B (Preces ražotāja noteiktais preces maksimālais lietošanas ilgums) daļai tiek aprēķinātas proporcionāli B = (faktiskā iesniegtā vērtība konkrētajam pretendentam)/(B augstākā iesniegtā vērtība no visiem pretendentiem ) x Piešķiramais punktu skaits.

Sheet 8
A1: 8. pozīcija - Bezvadu ierīces EKG monitorēšanai | D1: Pretendenta piedāvājums, atsauce uz informatīvo materiālu (Informatīvā materiāla nosaukums, lpp.)
A2: Nr. | B2: Preces nosaukums, veicamās funkcijas, tehniskās prasības un komplektācija | C2: Skaits, gab.***
A3: Piemērs | B3: Piemērs | C3: Piemērs | D3: Informatīvais materiāls 2, 4.lpp
A4: 8.1. | B4: Nosaukums: Bezvadu ierīces EKG monitorēšanai | C4: 10
A5: 8.1.1. | B5: Veicamās funkcijas:
A6: 8.1.1.1. | B6: Ilgtermiņa pacienta EKG signāla ierakstīšana
A7: 8.1.2. | B7: Tehniskās prasības:
A8: 8.1.2.1. | B8: EKG signāla reģistrācija un saglabāšana nesaspiestā formā monitoringam vismaz līdz 48 stundām
A9: 8.1.2.2. | B9: Piemēroti pediatriskajiem pacientiem, tostarp ar ķermeņa svaru zem 10 kg
A10: 8.1.2.3. | B10: 3 kanālu EKG ierakstīšana
A11: 8.1.2.4. | B11: Vizuāli indikatori iekārtas statusam
A12: 8.1.2.5. | B12: Notikumu reģistrēšana
A13: 8.1.2.6. | B13: Analogā-ciparu signāla pārveidošanas izšķirtspēja ne mazāk kā 16 biti
A14: 8.1.2.7. | B14: Pieraksta saglabāšana ne mazāk kā 200 punkti sekundē katram no kanāliem
A15: 8.1.2.8. | B15: Barošanu nodrošina standarta baterija
A16: 8.1.2.9. | B16: Ne mazāk kā 7 dienu monitorings ar vienu standarta bateriju
... A23: 8.1.2.16. | B23: Galvaniski izolēts un aizsargāts pret defibrilāciju
A24: 8.2. | B24: EKG holtera reģistrēto datu analīzes programmatūra | C24: 2
A25: 8.2.1. | B25: Veicamās funkcijas:
A26: 8.2.1.1. | B26: Ilgtermiņa pacienta EKG signāla analīze
A27: 8.2.2. | B27: Tehniskās prasības:
A28: 8.2.2.1. | B28: Savietojama ar piedāvājumā iekļautajiem holteriem
A29: 8.2.2.2. | B29: Pacientu datu bāze
A30: 8.2.2.3. | B30: Izmeklējumu datu analīzes un apskates iespējas
A31: 8.2.2.4. | B31: Automātisks un manuāls skanēšanas režīms ar lietotāja parametriem
A32: 8.2.2.5. | B32: Artefaktu novēršanas algoritms
A33: 8.2.2.6. | B33: Datu analīzes iespējas:
A34: 8.2.2.7. | B34: Ritma analīze
A35: 8.2.2.8. | B35: Aritmiju noteikšana un grupēšana pēc tipa un biežuma
A36: 8.2.2.9. | B36: EKG signāla noteikšana un analīze
... A51: 8.4.1. | B51: Citi piederumi, kas nepieciešamas piedāvātajai iekārtai, lai nodrošinātu tehniskajā aprakstā norādīto funkcionalitāti un/vai pieejamie papildinājumi. (rindiņas atļauts papildināt zemāk pēc nepieciešamības, vienā rindiņā ierakstīt ne vairāk kā vienu piederumu)
A55: Saimnieciski visizdevīgākā piedāvājuma vērtēšanai norādāmā papildus informācija | D55: Saimnieciski visizdevīgākā piedāvājuma vērtēšanai norādāmā papildus informācija Pretendenta piedāvājums, atsauce uz informatīvo materiālu vai ražotāja apliecinājumu
A56: B | B56: Jānorāda Preces ražotāja noteiktais preces maksimālais lietošanas ilgums (paredzamais lietošanas ilgums) (gados)
A57: C | B57: Jānorāda Preces ražotāja noteiktais elektroenerģijas patēriņš (voltampēros (VA) vai vatos (W))
A60: Daļa | B60: VĒRTĒŠANAS KRITĒRIJI | C60: ĪPATSVARS
A61: A | B61: Vērtējamā summa | C61: 80
A62: B | B62: Preces maksimālais lietošanas ilgums | C62: 10
A63: C | B63: Elektroenerģijas patēriņš darba režīmā. Ja netiek norādīta informācija, vai tā ir nepilnīga aplama, tad tiek piešķirti 0 punkti | C63: 10
A64: ∑ | B64: Maksimālais īpatsvars (kopējais punktu skaits) ∑=A+B+C | C64: 100
A65: Komisija katrā daļā piešķir īpatsvaru (punktu skaitu), šādā kārtībā: 1) A (Vērtējamā summa) un C (Elektroenerģijas patēriņš) daļai - viszemākajai vērtība tiek piešķirts maksimālais punktu skaits. Ja piedāvājumā nav norādīta informācija par elektroenerģijas patēriņu tiek piešķirti 0 punkti. Ja tiek norādīts elektroenerģijas patēriņa diapazons, punktu piešķiršanai tiek izmantota augstākā vērtība. 2) Nākamās vērtības A (Vērtējamā summa) un C (Elektroenerģijas patēriņš) daļai tiek aprēķinātas proporcionāli A vai C = (A vai C zemākā iesniegtā vērtība no visiem pretendentiem )/(faktiskā iesniegtā vērtība konkrētajam pretendentam) x Piešķiramais punktu skaits. 3) B (Preces ražotāja noteiktais preces maksimālais lietošanas ilgums) daļai - vislielākajai vērtības tiek piešķirts maksimālais punktu skaits. Ja piedāvājumā nav norādīta informācija par preces lietošanas ilgumu tiek pieņemts, ka lietošanas ilgums ir noteiktais garantijas laiks. Ja tiek norādīts paredzamā lietošanas ilguma diapazons, punktu piešķiršanai tiek izmantota zemākā vērtība. 4) Nākamās vērtības B (Preces ražotāja noteiktais preces maksimālais lietošanas ilgums) daļai tiek aprēķinātas proporcionāli B = (faktiskā iesniegtā vērtība konkrētajam pretendentam)/(B augstākā iesniegtā vērtība no visiem pretendentiem ) x Piešķiramais punktu skaits.

Sheet 9
A1: 9. pozīcija- Pacienta vitālo funkciju monitors | D1: Pretendenta piedāvājums, atsauce uz informatīvo materiālu (Informatīvā materiāla nosaukums, lpp.)
A2: Nr. | B2: Preces nosaukums, veicamās funkcijas, tehniskās prasības un komplektācija | C2: Skaits, gab.***
A3: Piemērs | B3: Piemērs | C3: Piemērs | D3: Informatīvais materiāls 2, 4.lpp
A4: 9. | B4: Nosaukums: Pacienta vitālo funkciju monitors (Norādīt piedāvātās iekārtas ražotāju un modeli) | C4: 6
A5: 9.1. | B5: Veicamās funkcijas:
A6: 9.1.1. | B6: Pacientu vitālo funkciju monitorēšana (SpO2, neinvazīvais asinsspiediens) monitorēšana
A7: 9.2. | B7: Tehniskās prasības:
A8: 9.2.1. | B8: Displeja izmērs ne mazāk kā 8” pa diagonāli; Vēlama prasība: Displeja izmērs ne mazāk kā 10” pa diagonāli
A9: 9.2.2. | B9: Monitora vadības sistēma – skārienjutīgs ekrāns
A10: 9.2.3. | B10: Visu mērīto parametru vienlaikus attēlojums uz ekrāna skaitliskā formā
A11: 9.2.4. | B11: Trauksmes režīmi visiem parametriem ar vizualizāciju uz ekrāna un skaņas indikāciju
A12: 9.2.5. | B12: Pacientu režīmi: jaundzimušais, pediatriskais, pieaugušais
A13: 9.2.6. | B13: Trauksmes vizualizācija gan ekrānā, gan ar trauksmes lampu
A14: 9.2.7. | B14: Darbināms no akumulatora un no tīkla
A15: 9.2.8 | B15: Svars bez akumulatora, piederumiem nav lielāks par 10 kg
A16: 9.2.9 | B16: Iekārta aprīkota ar ratiņiem
... A32: 9.3 | B32: Komplektācija (iekļauta iekārtas cenā, tiek piegādāta kopā ar katru iekārtu):
A33: 9.3.1 | B33: Monitors | C33: 1
A34: 9.3.2 | B34: Barošanas bloks vai barošanas kabelis | C34: 1
A35: 9.3.3 | B35: Statīvs uz riteņiem ar piederumu groziņu | C35: 1
A36: 9.3.4 | B36: Sensors SpO2:
A37: 9.3.4.1 | B37: Masimo RD SET konektori
A38: 9.3.4.2 | B38: Pediatriskais, daudzreizlietojamais, pirksta | C38: 1
A39: 9.3.4.3 | B39: Pieaugušo, daudzreizlietojamais, pirksta | C39: 1
A40: 9.3.4.4 | B40: Kabelis savienojošais SpO2, daudzreizlietojams, garums vismaz 3m, ja nepieciešams | C40: 1
A41: 9.3.5 | B41: Manšetes, daudzreizlietojamās
A42: 9.3.5.1 | B42: Vismaz piecu dažādu izmēru manšetes, kuras nosedz izmēru diapazonu vismaz no 15 -40 cm. Norādīt izmērus:
A43: 9.3.5.1.1 | B43: 1. manšete | C43: 1
A44: 9.3.5.1.2 | B44: 2. manšete | C44: 1
A45: 9.3.5.1.3 | B45: 3. manšete | C45: 1
A46: 9.3.5.1.4 | B46: 4. manšete | C46: 1
A47: 9.3.5.1.5 | B47: 5. manšete | C47: 1
A48: 9.3.5.2 | B48: Kabelis savienojošais neinvazīvā asinsspiediena | C48: 1
A49: 9.4 | B49: Piederumi, saderīgi ar piedāvāto iekārtu (tiek norādīta cena par vienu vienību, tiks pasūtīti pēc nepieciešamības, kolonnā "Skaits" norādīts paredzamais pasūtāmo piederumu daudzums; papildus norādīto piederumu cena netiek iekļauta vērtējamajā cenā):
A50: 9.4.1 | B50: Sensors SpO2:
A51: 9.4.1.1 | B51: Jaundzimušo, daudzreizlietojams (Ja attiecināms. Pretendenta jāpiedāvā viens no punktiem (9.4.1.1 vai 9.4.1.2)) | C51: 1
A52: 9.4.1.2 | B52: Jaundzimušo, vienreizlietojams (Ja attiecināms. Pretendenta jāpiedāvā viens no punktiem (9.4.1.1 vai 9.4.1.2)) | C52: 1
A53: 9.4.1.3 | B53: Pediatriskais, daudzreizlietojamais, pirksta | C53: 1
A54: 9.4.1.4 | B54: Pieaugušo, daudzreizlietojamais, pirksta | C54: 1
A55: 9.4.1.5 | B55: Kabelis savienojošais SpO2, daudzreizlietojams, garums vismaz 3m, ja nepieciešams | C55: 1
A56: 9.4.3 | B56: Manšetes, daudzreizlietojamās:
A57: 9.4.3.1 | B57: Vismaz piecu dažādu izmēru manšetes, kuras nosedz izmēru diapazonu vismaz no 15 -40 cm. Norādīt izmērus:
A58: 9.4.3.1.1 | B58: 1. manšete | C58: 1
A59: 9.4.3.1.2 | B59: 2. manšete | C59: 1
A60: 9.4.3.1.3 | B60: 3. manšete | C60: 1
A61: 9.4.3.1.4 | B61: 4. manšete | C61: 1
A62: 9.4.3.1.5 | B62: 5. manšete | C62: 1
A63: 9.4.3.2 | B63: Kabelis savienojošais neinvazīvā asinsspiediena | C63: 1
A64: 9.4.3.3 | B64: Citi piederumi, kas nepieciešamas piedāvātajai iekārtai, lai nodrošinātu tehniskajā aprakstā norādīto funkcionalitāti un/vai pieejamie papildinājumi. (rindiņas atļauts papildināt zemāk pēc nepieciešamības, vienā rindiņā ierakstīt ne vairāk kā vienu piederumu)
A68: Saimnieciski visizdevīgākā piedāvājuma vērtēšanai norādāmā papildus informācija | C68: Saimnieciski visizdevīgākā piedāvājuma vērtēšanai norādāmā papildus informācija Pretendenta piedāvājums, atsauce uz informatīvo materiālu vai ražotāja apliecinājumu
A69: B | B69: Jānorāda Preces ražotāja noteiktais preces paredzamais lietošanas ilgums (gados)
A70: C | B70: Jānorāda Preces ražotāja noteiktais elektroenerģijas patēriņš darba režīmā (voltampēros (VA) vai vatos (W))
A71: D | B71: Jānorāda iekārtas darbības laiks no akumulatora (h)
A72: E | B72: Displeja izmērs ne mazāk kā 10” pa diagonāli
A73: F | B73: Neinvazīvā arteriālā asinsspiediena mērījumu kļūda ne lielāka kā ± 3 mm Hg st.
A76: Daļa | B76: VĒRTĒŠANAS KRITĒRIJI | C76: ĪPATSVARS
A77: A | B77: Preču kopējās (iegāde, piederumi un tehniskā apkope) izmaksas | C77: 65
A78: B | B78: Preces paredzamais lietošanas ilgums | C78: 10
A79: C | B79: Elektroenerģijas patēriņš darba režīmā | C79: 10
A80: D | B80: Iekārtas darbības laiks no akumulatora (h) | C80: 5
A81: E | B81: Displeja izmērs ne mazāk kā 10” pa diagonāli | C81: 5
A82: F | B82: Neinvazīvā arteriālā asinsspiediena mērījumu kļūda ne lielāka kā ± 3 mm Hg st. | C82: 5
A83: ∑ | B83: Maksimālais īpatsvars (kopējais punktu skaits) ∑=A+B+C+D+E+F | C83: =SUM(C77:C82) -> 100
A86: Komisija katrā daļā piešķir īpatsvaru (punktu skaitu), šādā kārtībā: 1) A (Vērtējamā summa) un C (Elektroenerģijas patēriņš) daļai - viszemākajai vērtība tiek piešķirts maksimālais punktu skaits. Ja piedāvājumā nav norādīta informācija par elektroenerģijas patēriņu tiek piešķirti 0 punkti. Ja tiek norādīts elektroenerģijas patēriņa diapazons, punktu piešķiršanai tiek izmantota augstākā vērtība. 2) Nākamās vērtības A (Vērtējamā summa) un C (Elektroenerģijas patēriņš) daļai tiek aprēķinātas proporcionāli A vai C = (A vai C zemākā iesniegtā vērtība no visiem pretendentiem )/(faktiskā iesniegtā vērtība konkrētajam pretendentam) x Piešķiramais punktu skaits. 3) B (Preces ražotāja noteiktais preces maksimālais lietošanas ilgums) daļai - vislielākajai vērtības tiek piešķirts maksimālais punktu skaits. Ja piedāvājumā nav norādīta informācija par preces lietošanas ilgumu tiek pieņemts, ka lietošanas ilgums ir noteiktais garantijas laiks. Ja tiek norādīts paredzamā lietošanas ilguma diapazons, punktu piešķiršanai tiek izmantota zemākā vērtība. 4) Nākamās vērtības B (Preces ražotāja noteiktais preces maksimālais lietošanas ilgums) daļai tiek aprēķinātas proporcionāli. B = (faktiskā iesniegtā vērtība konkrētajam pretendentam)/(B augstākā iesniegtā vērtība no visiem pretendentiem ) x Piešķiramais punktu skaits. 5) D (Iekārtas darbības laiks no akumulatora (h)) daļai visaugstākajai vērtība tiek piešķirts maksimālais punktu skaits. 6) Nākamās vērtības D (Iekārtas darbība no akumulatora) daļai tiek aprēķinātas proporcionāli. D = (faktiskā iesniegtā vērtība konkrētajam pretendentam)/(D augstākā iesniegtā vērtība no visiem pretendentiem ) x Piešķiramais punktu skaits 7) E (Displeja izmērs ne mazāk kā 10” pa diagonāli) un F (mērījumu kļūda ne lielāka kā ± 3 mm Hg st) daļai tiek piešķirti 5 punkti par prasību izpildi vai 0 punkti par neatbilstību prasībai;

Sheet 10
A1: 10. pozīcija - Elektroniskais asinsspiediena mērītājs | D1: Pretendenta piedāvājums, atsauce uz informatīvo materiālu (Informatīvā materiāla nosaukums, lpp.)
A2: Nr. | B2: Preces nosaukums, veicamās funkcijas, tehniskās prasības un komplektācija | C2: Skaits, gab.***
A3: Piemērs | B3: Piemērs | C3: Piemērs | D3: Informatīvais materiāls 2, 4.lpp
A4: 10. | B4: Nosaukums: Elektroniskais asinsspiediena mērītājs | C4: 20 | D4: (Norādīt piedāvātās iekārtas ražotāju un modeli)
A5: 10.1. | B5: Veicamās funkcijas:
A6: 10.1.1. | B6: Nodrošina automātiskus asinsspiediena un pulsa mērījumus
A7: 10.2. | B7: Tehniskās prasības:
A8: 10.2.1. | B8: Displejs rezultātu atspoguļošanai
A9: 10.2.2. | B9: Sistoliskā un diastoliskā spiediena mērīšana:
A10: 10.2.3. | B10: Mērīšanas diapazons sistoliskajam spiedienam ne mazāks par 60-250 mmHg
A11: 10.2.4. | B11: Mērīšanas diapazons diastoliskajam spiedienam ne mazāks par 30-220 mmHg
A12: 10.2.5. | B12: Mērījumu kļūda ne lielāka kā ± 5 mm Hg st. Vēlama prasība: mērījumu kļūda ne lielāka kā ± 3 mm Hg st.
A13: 10.2.7. | B13: Asinsspiediena mērījuma laikā pulsa noteikšana:
A14: 10.2.8. | B14: Mērīšanas diapazons ne mazāks par 40-199 sit/min.
A15: 10.2.8.1. | B15: Mērījumu kļūda ne lielāka kā ±5%
A16: 10.2.9. | B16: Maināmas manšetes
... A26: 10.3. | B26: Komplektācija (iekļauta iekārtas cenā, tiek piegādāta kopā ar katru iekārtu):
A27: 10.3.1. | B27: Asinsspiediena mērītājs | C27: 1
A28: 10.3.2. | B28: Lādētājs (ja attiecināms) | C28: 1
A29: 10.3.4. | B29: Vismaz četru dažādu izmēru manšetes, kuras nosedz izmēru diapazonu vismaz no 15 - 40 cm. Norādīt izmērus:
A30: 10.3.4.1. | B30: 1. manšete | C30: 1
A31: 10.3.4.2. | B31: 2. manšete | C31: 1
A32: 10.3.4.3. | B32: 3. manšete | C32: 1
A33: 10.3.4.4. | B33: 4. manšete | C33: 1
A34: 10.4. | B34: Piederumi, saderīgi ar piedāvāto iekārtu (tiek norādīta cena par katru piederumu atsevišķi, tiks pasūtīti pēc nepieciešamības, papildus norādīto piederumu cena netiek iekļauta vērtējamajā cenā):
A35: 10.4.1. | B35: Vismaz četru dažādu izmēru manšetes, kuras nosedz izmēru diapazonu vismaz no 15 - 40 cm. Norādīt izmērus: | C35: 1
A36: 10.4.2. | B36: 1. manšete | C36: 1
A37: 10.4.3. | B37: 2. manšete | C37: 1
A38: 10.4.4. | B38: 3. manšete | C38: 1
A39: 10.4.5. | B39: 4. manšete | C39: 1
A40: 10.4.6. | B40: Citi piederumi, kas nepieciešamas piedāvātajai iekārtai, lai nodrošinātu tehniskajā aprakstā norādīto funkcionalitāti un/vai pieejamie papildinājumi. (rindiņas atļauts papildināt zemāk pēc nepieciešamības, vienā rindiņā ierakstīt ne vairāk kā vienu piederumu) | C40: 1
A43: Saimnieciski visizdevīgākā piedāvājuma vērtēšanai norādāmā papildus informācija | D43: Saimnieciski visizdevīgākā piedāvājuma vērtēšanai norādāmā papildus informācija Pretendenta piedāvājums, atsauce uz informatīvo materiālu vai ražotāja apliecinājumu
A44: B | B44: Jānorāda Preces ražotāja noteiktais preces maksimālais lietošanas ilgums (paredzamais lietošanas ilgums) (gados)
A45: C | B45: Jānorāda Preces ražotāja noteiktais elektroenerģijas patēriņš (voltampēros (VA) vai vatos (W))
A46: F | B46: Neinvazīvā arteriālā asinsspiediena mērījumu kļūda ne lielāka kā ± 3 mm Hg st.
A48: Daļa | B48: VĒRTĒŠANAS KRITĒRIJI | C48: ĪPATSVARS
A49: A | B49: Vērtējamā summa | C49: 75
A50: B | B50: Preces maksimālais lietošanas ilgums | C50: 10
A51: C | B51: Elektroenerģijas patēriņš darba režīmā. Ja netiek norādīta informācija, vai tā ir nepilnīga aplama, tad tiek piešķirti 0 punkti | C51: 10
A52: F | B52: Neinvazīvā arteriālā asinsspiediena mērījumu kļūda ne lielāka kā ± 3 mm Hg st. | C52: 5
A53: ∑ | B53: Maksimālais īpatsvars (kopējais punktu skaits) ∑=A+B+C | C53: 100
A54: Komisija katrā daļā piešķir īpatsvaru (punktu skaitu), šādā kārtībā: 1) A (Vērtējamā summa) un C (Elektroenerģijas patēriņš) daļai - viszemākajai vērtība tiek piešķirts maksimālais punktu skaits. Ja piedāvājumā nav norādīta informācija par elektroenerģijas patēriņu tiek piešķirti 0 punkti. Ja tiek norādīts elektroenerģijas patēriņa diapazons, punktu piešķiršanai tiek izmantota augstākā vērtība. 2) Nākamās vērtības A (Vērtējamā summa) un C (Elektroenerģijas patēriņš) daļai tiek aprēķinātas proporcionāli A vai C = (A vai C zemākā iesniegtā vērtība no visiem pretendentiem )/(faktiskā iesniegtā vērtība konkrētajam pretendentam) x Piešķiramais punktu skaits. 3) B (Preces ražotāja noteiktais preces maksimālais lietošanas ilgums) daļai - vislielākajai vērtības tiek piešķirts maksimālais punktu skaits. Ja piedāvājumā nav norādīta informācija par preces lietošanas ilgumu tiek pieņemts, ka lietošanas ilgums ir noteiktais garantijas laiks. Ja tiek norādīts paredzamā lietošanas ilguma diapazons, punktu piešķiršanai tiek izmantota zemākā vērtība. 4) Nākamās vērtības B (Preces ražotāja noteiktais preces maksimālais lietošanas ilgums) daļai tiek aprēķinātas proporcionāli B = (faktiskā iesniegtā vērtība konkrētajam pretendentam)/(B augstākā iesniegtā vērtība no visiem pretendentiem ) x Piešķiramais punktu skaits. 5) F (mērījumu kļūda ne lielāka kā ± 3 mm Hg st) daļai tiek piešķirti 5 punkti par prasību izpildi vai 0 punkti par neatbilstību prasībai;

Sheet 11
A1: 11. pozīcija - Pacientu elektroniskie grīdas svari | D1: Pretendenta piedāvājums, atsauce uz informatīvo materiālu (Informatīvā materiāla nosaukums, lpp.)
A2: Nr. | B2: Preces nosaukums, veicamās funkcijas, tehniskās prasības un komplektācija | C2: Skaits, gab.***
A3: 11. | B3: Nosaukums: Pacientu elektroniskie grīdas svari | C3: 5
A4: 11.1. | B4: Veicamās funkcijas:
A5: 11.1.1. | B5: Pacientu svara noteikšana
A6: 11.2. | B6: Tehniskās prasības:
A7: 11.2.1. | B7: Mērījumu diapazons vismaz līdz 200 kg
A8: 11.2.2. | B8: Mērījumu kļūda ne lielāka par ± 100 g diapazonā līdz 150 kg
A9: 11.2.3. | B9: Mērījumu kļūda ne lielāka par ± 200 g pārējā svēršanas diapazonā
A10: 11.2.4. | B10: Nolasījuma iedaļas vērtība ne lielāka kā 0,1 kg
A11: 11.2.5. | B11: Darbināms ar baterijām vai no tīkla (220 V; 50Hz)
A12: 11.2.6. | B12: Svari marķēti atbilstoši tam, kā noteikts LR MK noteikumos Nr.210 "Neautomātisko svaru atbilstības novērtēšanas noteikumi"
A13: 11.3. | B13: Komplektācija (iekļauta iekārtas cenā, tiek piegādāta kopā ar katru iekārtu):
A14: 11.3.1. | B14: Ar iekārtu saderīgs barošanas bloks | C14: 1
A15: 11.3.2. | B15: Iekārta tiek piegādāta pilnā komplektācijā pirmreizējai lietošanai | C15: 1
A18: Saimnieciski visizdevīgākā piedāvājuma vērtēšanai norādāmā papildus informācija | D18: Saimnieciski visizdevīgākā piedāvājuma vērtēšanai norādāmā papildus informācija Pretendenta piedāvājums, atsauce uz informatīvo materiālu vai ražotāja apliecinājumu
A19: B | B19: Jānorāda Preces ražotāja noteiktais preces maksimālais lietošanas ilgums (paredzamais lietošanas ilgums) (gados)
A20: C | B20: Jānorāda Preces ražotāja noteiktais elektroenerģijas patēriņš (voltampēros (VA) vai vatos (W))
A23: Daļa | B23: VĒRTĒŠANAS KRITĒRIJI | C23: ĪPATSVARS
A24: A | B24: Vērtējamā summa | C24: 80
A25: B | B25: Preces maksimālais lietošanas ilgums | C25: 10
A26: C | B26: Elektroenerģijas patēriņš darba režīmā. Ja netiek norādīta informācija, vai tā ir nepilnīga aplama, tad tiek piešķirti 0 punkti | C26: 10
A27: ∑ | B27: Maksimālais īpatsvars (kopējais punktu skaits) ∑=A+B+C | C27: 100
A28: Komisija katrā daļā piešķir īpatsvaru (punktu skaitu), šādā kārtībā: 1) A (Vērtējamā summa) un C (Elektroenerģijas patēriņš) daļai - viszemākajai vērtība tiek piešķirts maksimālais punktu skaits. Ja piedāvājumā nav norādīta informācija par elektroenerģijas patēriņu tiek piešķirti 0 punkti. Ja tiek norādīts elektroenerģijas patēriņa diapazons, punktu piešķiršanai tiek izmantota augstākā vērtība. 2) Nākamās vērtības A (Vērtējamā summa) un C (Elektroenerģijas patēriņš) daļai tiek aprēķinātas proporcionāli A vai C = (A vai C zemākā iesniegtā vērtība no visiem pretendentiem )/(faktiskā iesniegtā vērtība konkrētajam pretendentam) x Piešķiramais punktu skaits. 3) B (Preces ražotāja noteiktais preces maksimālais lietošanas ilgums) daļai - vislielākajai vērtības tiek piešķirts maksimālais punktu skaits. Ja piedāvājumā nav norādīta informācija par preces lietošanas ilgumu tiek pieņemts, ka lietošanas ilgums ir noteiktais garantijas laiks. Ja tiek norādīts paredzamā lietošanas ilguma diapazons, punktu piešķiršanai tiek izmantota zemākā vērtība. 4) Nākamās vērtības B (Preces ražotāja noteiktais preces maksimālais lietošanas ilgums) daļai tiek aprēķinātas proporcionāli B = (faktiskā iesniegtā vērtība konkrētajam pretendentam)/(B augstākā iesniegtā vērtība no visiem pretendentiem ) x Piešķiramais punktu skaits.

Sheet 12
A1: 12. pozīcija - Elektroniskie zīdaiņu svari I | D1: Pretendenta piedāvājums, atsauce uz informatīvo materiālu (Informatīvā materiāla nosaukums, lpp.)
A2: Nr. | B2: Preces nosaukums, veicamās funkcijas, tehniskās prasības un komplektācija | C2: Skaits, gab.***
A3: 12. | B3: Nosaukums: Elektroniskie zīdaiņu svari | C3: 5
A4: 12.1. | B4: Veicamās funkcijas:
A5: 12.1.1. | B5: Zīdaiņu svara noteikšana
A6: 12.2. | B6: Tehniskās prasības:
A7: 12.2.1. | B7: Mērījumu diapazons vismaz līdz 10 kg
A8: 12.2.2. | B8: Mērījumu kļūda ± 2 g vai mazāk svēršanai vismaz līdz 5 kg
A9: 12.2.3. | B9: Mērījumu kļūda ± 5g vai mazāk pārējā svēršanas diapazonā
A10: 12.2.5. | B10: Ieliekta svaru platforma vai platforma ar apmalēm, lai novērstu zīdaiņa nokrišanu
A11: 12.2.6. | B11: Barošanu nodrošina elektriskais tīkls (220 V, 50 Hz) un baterijas
A12: 12.2.7. | B12: Svari marķēti atbilstoši tam, kā noteikts LR MK noteikumos Nr.210 "Neautomātisko svaru atbilstības novērtēšanas noteikumi"
A13: 12.3. | B13: Komplektācija (iekļauta iekārtas cenā, tiek piegādāta kopā ar katru iekārtu):
A14: 12.3.1. | B14: Ar iekārtu saderīgs barošanas bloks | C14: 1
A15: 12.3.2. | B15: Iekārta tiek piegādāta pilnā komplektācijā pirmreizējai lietošanai
A17: Saimnieciski visizdevīgākā piedāvājuma vērtēšanai norādāmā papildus informācija | D17: Saimnieciski visizdevīgākā piedāvājuma vērtēšanai norādāmā papildus informācija Pretendenta piedāvājums, atsauce uz informatīvo materiālu vai ražotāja apliecinājumu
A18: B | B18: Jānorāda Preces ražotāja noteiktais preces maksimālais lietošanas ilgums (paredzamais lietošanas ilgums) (gados)
A19: C | B19: Jānorāda Preces ražotāja noteiktais elektroenerģijas patēriņš (voltampēros (VA) vai vatos (W))
A22: Daļa | B22: VĒRTĒŠANAS KRITĒRIJI | C22: ĪPATSVARS
A23: A | B23: Vērtējamā summa | C23: 80
A24: B | B24: Preces maksimālais lietošanas ilgums | C24: 10
A25: C | B25: Elektroenerģijas patēriņš darba režīmā. Ja netiek norādīta informācija, vai tā ir nepilnīga aplama, tad tiek piešķirti 0 punkti | C25: 10
A26: ∑ | B26: Maksimālais īpatsvars (kopējais punktu skaits) ∑=A+B+C | C26: 100
A27: Komisija katrā daļā piešķir īpatsvaru (punktu skaitu), šādā kārtībā: 1) A (Vērtējamā summa) un C (Elektroenerģijas patēriņš) daļai - viszemākajai vērtība tiek piešķirts maksimālais punktu skaits. Ja piedāvājumā nav norādīta informācija par elektroenerģijas patēriņu tiek piešķirti 0 punkti. Ja tiek norādīts elektroenerģijas patēriņa diapazons, punktu piešķiršanai tiek izmantota augstākā vērtība. 2) Nākamās vērtības A (Vērtējamā summa) un C (Elektroenerģijas patēriņš) daļai tiek aprēķinātas proporcionāli A vai C = (A vai C zemākā iesniegtā vērtība no visiem pretendentiem )/(faktiskā iesniegtā vērtība konkrētajam pretendentam) x Piešķiramais punktu skaits. 3) B (Preces ražotāja noteiktais preces maksimālais lietošanas ilgums) daļai - vislielākajai vērtības tiek piešķirts maksimālais punktu skaits. Ja piedāvājumā nav norādīta informācija par preces lietošanas ilgumu tiek pieņemts, ka lietošanas ilgums ir noteiktais garantijas laiks. Ja tiek norādīts paredzamā lietošanas ilguma diapazons, punktu piešķiršanai tiek izmantota zemākā vērtība. 4) Nākamās vērtības B (Preces ražotāja noteiktais preces maksimālais lietošanas ilgums) daļai tiek aprēķinātas proporcionāli B = (faktiskā iesniegtā vērtība konkrētajam pretendentam)/(B augstākā iesniegtā vērtība no visiem pretendentiem ) x Piešķiramais punktu skaits.

Sheet 13
A1: 13. pozīcija - Elektroniskie zīdaiņu svari II | D1: Pretendenta piedāvājums, atsauce uz informatīvo materiālu (Informatīvā materiāla nosaukums, lpp.)
A2: Nr. | B2: Preces nosaukums, veicamās funkcijas, tehniskās prasības un komplektācija | C2: Skaits, gab.***
A3: 13. | B3: Nosaukums: Elektroniskie zīdaiņu svari | C3: 3
A4: 13.1. | B4: Veicamās funkcijas:
A5: 13.1.1. | B5: Zīdaiņu svara noteikšana
A6: 13.2. | B6: Tehniskās prasības:
A7: 13.2.1. | B7: Mērījumu diapazons vismaz līdz 10 kg
A8: 13.2.2. | B8: Mērījumu kļūda ± 5 g vai mazāk svēršanai vismaz līdz 5 kg
A9: 13.2.3. | B9: Mērījumu kļūda ± 10 g vai mazāk pārējā svēršanas diapazonā
A10: 13.2.5. | B10: Ieliekta svaru platforma vai platforma ar apmalēm, lai novērstu zīdaiņa nokrišanu
A11: 13.2.6. | B11: Barošanu nodrošina elektriskais tīkls (220 V, 50 Hz) un baterijas
A12: 13.2.7. | B12: Svari marķēti atbilstoši tam, kā noteikts LR MK noteikumos Nr.210 "Neautomātisko svaru atbilstības novērtēšanas noteikumi"
A13: 13.3. | B13: Komplektācija (iekļauta iekārtas cenā, tiek piegādāta kopā ar katru iekārtu):
A14: 13.3.1. | B14: Ar iekārtu saderīgs barošanas bloks | C14: 1
A15: 13.3.2. | B15: Iekārta tiek piegādāta pilnā komplektācijā pirmreizējai lietošanai
A18: Saimnieciski visizdevīgākā piedāvājuma vērtēšanai norādāmā papildus informācija | D18: Saimnieciski visizdevīgākā piedāvājuma vērtēšanai norādāmā papildus informācija Pretendenta piedāvājums, atsauce uz informatīvo materiālu vai ražotāja apliecinājumu
A19: B | B19: Jānorāda Preces ražotāja noteiktais preces maksimālais lietošanas ilgums (paredzamais lietošanas ilgums) (gados)
A20: C | B20: Jānorāda Preces ražotāja noteiktais elektroenerģijas patēriņš (voltampēros (VA) vai vatos (W))
A23: Daļa | B23: VĒRTĒŠANAS KRITĒRIJI | C23: ĪPATSVARS
A24: A | B24: Vērtējamā summa | C24: 80
A25: B | B25: Preces maksimālais lietošanas ilgums | C25: 10
A26: C | B26: Elektroenerģijas patēriņš darba režīmā. Ja netiek norādīta informācija, vai tā ir nepilnīga aplama, tad tiek piešķirti 0 punkti | C26: 10
A27: ∑ | B27: Maksimālais īpatsvars (kopējais punktu skaits) ∑=A+B+C | C27: 100
A28: Komisija katrā daļā piešķir īpatsvaru (punktu skaitu), šādā kārtībā: 1) A (Vērtējamā summa) un C (Elektroenerģijas patēriņš) daļai - viszemākajai vērtība tiek piešķirts maksimālais punktu skaits. Ja piedāvājumā nav norādīta informācija par elektroenerģijas patēriņu tiek piešķirti 0 punkti. Ja tiek norādīts elektroenerģijas patēriņa diapazons, punktu piešķiršanai tiek izmantota augstākā vērtība. 2) Nākamās vērtības A (Vērtējamā summa) un C (Elektroenerģijas patēriņš) daļai tiek aprēķinātas proporcionāli A vai C = (A vai C zemākā iesniegtā vērtība no visiem pretendentiem )/(faktiskā iesniegtā vērtība konkrētajam pretendentam) x Piešķiramais punktu skaits. 3) B (Preces ražotāja noteiktais preces maksimālais lietošanas ilgums) daļai - vislielākajai vērtības tiek piešķirts maksimālais punktu skaits. Ja piedāvājumā nav norādīta informācija par preces lietošanas ilgumu tiek pieņemts, ka lietošanas ilgums ir noteiktais garantijas laiks. Ja tiek norādīts paredzamā lietošanas ilguma diapazons, punktu piešķiršanai tiek izmantota zemākā vērtība. 4) Nākamās vērtības B (Preces ražotāja noteiktais preces maksimālais lietošanas ilgums) daļai tiek aprēķinātas proporcionāli B = (faktiskā iesniegtā vērtība konkrētajam pretendentam)/(B augstākā iesniegtā vērtība no visiem pretendentiem ) x Piešķiramais punktu skaits.

Sheet 14
A1: 14. daļa - Atsūcējs krūts piena, divpakāpju | D1: Pretendenta piedāvājums, atsauce uz informatīvo materiālu (Informatīvā materiāla nosaukums, lpp.)
A2: Nr. | B2: Preces nosaukums, veicamās funkcijas, tehniskās prasības un komplektācija | C2: Skaits, gab.***
A3: Piemērs | B3: Piemērs | C3: Piemērs | D3: Informatīvais materiāls 2, 4.lpp
A4: 14.1. | B4: Nosaukums: Atsūcējs krūts piena, divpakāpju (Norādīt piedāvātās iekārtas ražotāju un modeli) | C4: 3
A5: 14.1.1 | B5: Veicamās funkcijas:
A6: 14.1.1.1. | B6: Elektroniski vadāms, divas retinājuma pakāpes ritmiski nodrošinošs piena atsūcējs, kas pilnībā imitē dabisko bērna zīšanas ritmu, nodrošinot kvalitatīvu barojošas mātes laktāciju, šādā veidā stimulējot piena veidošanos barojošām māmiņām.
A7: 14.1.1.2. | B7: Piena atsūkšana notiek aseptiskā veidā, bez riska kontaminēt sūkņa motoru, telpas, un lietotājiem vienam otru.
A8: 14.1.2. | B8: Tehniskās prasības:
A9: 14.1.2.1. | B9: Aizvērta sistēma
A10: 14.1.2.2. | B10: Atsūkšanas iespēja vienlaicīgi abām krūtīm
A11: 14.1.2.3. | B11: Sūkņa motors ir aizsargāts no piena pārplūdes ar divu membrānu sistēmu, kas nodrošina pilnībā aseptisku atslaukšanu.
A12: 14.1.2.4. | B12: Sūknim jābūt ar autoklāvējamu krūts piena atslaukšanas komplektu
A13: 14.1.2.5. | B13: Sūknis darbojas no maiņstrāvas elektrotīkla: 220-240V, 50/60Hz
A14: 14.1.2.6. | B14: Svars ne vairāk kā 3 kg
A15: 14.1.2.7. | B15: Izmēri 215mm x 155mm x 245mm (GxPxA), pielaide ±10%
A16: 14.1.2.8. | B16: Piena pumpja darbība tiek regulēta elektroniski, mainot divas retinājuma pakāpes (stāvokļus) vienu ar otru
... A28: 14.1.3.3. | B28: Vismaz divi riteņi aprīkoti ar bremzēm
A29: 14.2. | B29: Krūts piena savākšanas komplekts, kas satur: | C29: 2
A30: 14.2.1. | B30: Krūts piena savākšanas piltuvi
A31: 14.2.1.1 | B31: Veicamās funkcijas:
A32: 14.2.1.1.1. | B32: Ievietojot krūšu galu, tiek nodrošināta krūšu hermētiska piekļaušanās, lai atslauktu krūts pienu. Piltuve ir pievienojama pie piena pudeles un savākšanas piltuves savienotāja
A33: 14.2.1.2. | B33: Tehniskās prasības:
A34: 14.2.1.2.1. | B34: Komplektā iekļauts vidējais izmērs, diametrs vietā, kur ievietojas krūts gals: 24mm ±5mm; atsevišķi ir iespēja iegādāties S (mazo) izmēru 21mm un L (lielo) izmēru 27mm
A35: 14.2.1.2.2. | B35: Izstrādājuma materiāls polipropilēns, nesatur di-fenolu savienojumus
A36: 14.2.1.2.3. | B36: Izturīgas un daudzreizlietojamas
A37: 14.2.1.2.4. | B37: var mazgāt trauku - pudeļu mazgāšanas - dezinfekcijas mašīnās
A38: 14.2.1.2.5. | B38: Sterilizējams autoklāvā pie 134°C vismaz 5min.
A39: 14.2.2. | B39: Piena pudeles un savākšanas piltuves savienotājs | C39: 3
A40: 14.2.2.1. | B40: Veicamās funkcijas:
A41: 14.2.2.1.1. | B41: Savieno piena savākšanas piltuvi un piena pudeli vienotā komplektā, tā nodrošinot krūts piena nokļuvi pudelē, aseptiskā, (izolētā) veidā atslaukšanas brīdī, nepieļaujot atslauktā piena nokļuvu ārpus pudeles.
A42: 14.2.2.2. | B42: Tehniskās prasības:
A43: 14.2.2.2.1. | B43: Izstrādājuma materiāls polipropilēns, nesatur di-fenolu savienojumus
A44: 14.2.2.2.2. | B44: Izturīgs un daudzreizlietojams
A45: 14.2.2.2.3. | B45: var mazgāt trauku - pudeļu mazgāšanas - dezinfekcijas mašīnās
A46: 14.2.2.2.4. | B46: Sterilizējams autoklāvā pie 134°C vismaz 5min.
A47: 14.2.2.2.5. | B47: Saderīgs ar standarta pudeļu vītni
A48: 14.2.3. | B48: Piena pudeles vārsts ar membrānu | C48: 3
A49: 14.2.3.1. | B49: Veicamās funkcijas:
A50: 14.2.3.1.1. | B50: Ievietojams piena pudeles un savākšanas piltuves savienotājā, lai nodrošinātu atsūkto piena/gaisa masu sadali, ar piena aizvadi uz pudeli
A51: 14.2.3.2. | B51: Tehniskās prasības:
A52: 14.2.3.2.1. | B52: Vārsta materiāls polipropilēns, nesatur di-fenolu savienojumus
A53: 14.2.3.2.2. | B53: Membrānas materiāls silikons
A54: 14.2.3.2.3. | B54: Izturīgs un daudzreizlietojams
A55: 14.2.3.2.4. | B55: var mazgāt trauku - pudeļu mazgāšanas - dezinfekcijas mašīnās
A56: 14.2.3.2.5. | B56: Sterilizējams autoklāvā pie 134°C vismaz 5min.
A57: 14.2.4. | B57: Silikona cauruļvads ar poligonālu adapteri | C57: 3
A58: 14.2.4.1. | B58: Veicamās funkcijas:
A59: 14.2.4.1.1. | B59: Nodrošina bez kontakta, aseptisku, piena pumpja darbību, piena ieslaukšanas laikā
A60: 14.2.4.2. | B60: Tehniskās prasības:
A61: 14.2.4.2.1. | B61: Cauruļvada materiāls silikons, savienojošajiem uzgaļiem materiāls polipropilēns, nesatur di-fenolu savienojumus;
A62: 14.2.4.2.2. | B62: Izturīgs un daudzreizlietojams
A63: 14.2.4.2.3. | B63: Var mazgāt trauku - pudeļu mazgāšanas - dezinfekcijas mašīnās
A64: 14.2.4.2.4. | B64: Saderīgs ar piedāvāto piena sūkni
A65: 14.2.5.2.5. | B65: Sterilizējams autoklāvā pie 134°C vismaz 5min.
A66: 14.2.5. | B66: Piena pudele | C66: 3
A67: 14.2.5.1. | B67: Veicamās funkcijas:
A68: 14.2.5.1.1. | B68: Atslauktā krūts piena savākšanai no mātes ar piena pumpja palīdzību un izbarošanai bērniem aseptiskā veidā.
A69: 14.2.5.2. | B69: Tehniskās prasības:
A70: 14.2.5.2.1. | B70: Pudeles materiāls polipropilēns, nesatur di-fenolu savienojumus
A71: 14.2.5.2.2. | B71: Tilpums: 150ml
A72: 14.2.5.2.3. | B72: Izturīga, trieciendroša un daudzreizlietojama
A73: 14.2.5.2.4. | B73: Var mazgāt trauku - pudeļu mazgāšanas - dezinfekcijas mašīnās
A74: 14.2.5.2.5. | B74: Sterilizējams autoklāvā pie 134°C vismaz 5min.
A75: 14.2.5.2.6. | B75: Pudele saderīga ar piena knupjiem un ar standarta veida vītni
A76: 14.2.6. | B76: Piena sūkņa atsūkšanas kausiņš ar membrānu-uzmavu | C76: 3
A77: 14.2.6.1. | B77: Veicamās funkcijas:
A78: 14.2.6.1.1. | B78: Retinājuma nodrošināšana aseptiskā, noslēgtā veidā, vienotā kontūrā, kas veidojas starp membrānu nu kausiņu, ar retinājuma pārvadi pa cauruļvadu uz piena savākšanas piltuvi.
A79: 14.2.6.2. | B79: Tehniskās prasības:
A80: 14.2.6.2.1. | B80: Kausiņa materiāls polipropilēns kausiņa membrānas-uzmavas materiāls silikons, savienojošie uzgaļi - materiāls polipropilēns, nesatur di-fenolu savienojumus
A81: 14.2.6.2.2. | B81: Izturīgs un daudzreizlietojams
A82: 14.2.6.2.3. | B82: Var mazgāt trauku - pudeļu mazgāšanas - dezinfekcijas mašīnās
A83: 14.2.6.2.4. | B83: Saderīgs ar piedāvāto piena sūkni
A84: 14.2.6.2.5. | B84: Sterilizējams autoklāvā pie 134°C vismaz 5min.
A85: 14.2.7. | B85: Piena pudeles noslēgšanas gredzens, ar disku, vāciņš un rezerves piena pudeles vārsta membrāna | C85: 3
A86: 14.2.7.1. | B86: Veicamās funkcijas:
A87: 14.2.7.1.1. | B87: Atslauktā piena pudeles noslēgšana un piena uzglabāšana aseptiskā, noslēgtā veidā.
A88: 14.2.7.2. | B88: Tehniskās prasības:
A89: 14.2.7.2.1. | B89: Piena pudeles noslēgšanas gredzena, diska un vāciņa materiāls polipropilēns, membrānas materiāls silikons, nesatur di-fenolu saveinojumus
A90: 14.2.7.2.2. | B90: Daudzreizlietojams
A91: 14.2.7.2.3. | B91: Var mazgāt trauku - pudeļu mazgāšanas - dezinfekcijas mašīnās
A92: 14.2.7.2.4. | B92: Saderīgs ar krūts piena pudeli
A93: 14.2.7.2.5. | B93: Sterilizējams autoklāvā pie 134°C vismaz 5min.
A97: Saimnieciski visizdevīgākā piedāvājuma vērtēšanai norādāmā papildus informācija | D97: Saimnieciski visizdevīgākā piedāvājuma vērtēšanai norādāmā papildus informācija Pretendenta piedāvājums, atsauce uz informatīvo materiālu vai ražotāja apliecinājumu
A98: B | B98: Jānorāda Preces ražotāja noteiktais preces maksimālais lietošanas ilgums (paredzamais lietošanas ilgums) (gados)
A99: C | B99: Jānorāda Preces ražotāja noteiktais elektroenerģijas patēriņš (voltampēros (VA) vai vatos (W))
A102: Daļa | B102: VĒRTĒŠANAS KRITĒRIJI | C102: ĪPATSVARS
A103: A | B103: Vērtējamā summa | C103: 80
A104: B | B104: Preces maksimālais lietošanas ilgums | C104: 10
A105: C | B105: Elektroenerģijas patēriņš darba režīmā. Ja netiek norādīta informācija, vai tā ir nepilnīga aplama, tad tiek piešķirti 0 punkti | C105: 10
A106: ∑ | B106: Maksimālais īpatsvars (kopējais punktu skaits) ∑=A+B+C | C106: 100
A107: Komisija katrā daļā piešķir īpatsvaru (punktu skaitu), šādā kārtībā: 1) A (Vērtējamā summa) un C (Elektroenerģijas patēriņš) daļai - viszemākajai vērtība tiek piešķirts maksimālais punktu skaits. Ja piedāvājumā nav norādīta informācija par elektroenerģijas patēriņu tiek piešķirti 0 punkti. Ja tiek norādīts elektroenerģijas patēriņa diapazons, punktu piešķiršanai tiek izmantota augstākā vērtība. 2) Nākamās vērtības A (Vērtējamā summa) un C (Elektroenerģijas patēriņš) daļai tiek aprēķinātas proporcionāli A vai C = (A vai C zemākā iesniegtā vērtība no visiem pretendentiem )/(faktiskā iesniegtā vērtība konkrētajam pretendentam) x Piešķiramais punktu skaits. 3) B (Preces ražotāja noteiktais preces maksimālais lietošanas ilgums) daļai - vislielākajai vērtības tiek piešķirts maksimālais punktu skaits. Ja piedāvājumā nav norādīta informācija par preces lietošanas ilgumu tiek pieņemts, ka lietošanas ilgums ir noteiktais garantijas laiks. Ja tiek norādīts paredzamā lietošanas ilguma diapazons, punktu piešķiršanai tiek izmantota zemākā vērtība. 4) Nākamās vērtības B (Preces ražotāja noteiktais preces maksimālais lietošanas ilgums) daļai tiek aprēķinātas proporcionāli B = (faktiskā iesniegtā vērtība konkrētajam pretendentam)/(B augstākā iesniegtā vērtība no visiem pretendentiem ) x Piešķiramais punktu skaits.

Sheet 15
A1: 15. pozīcija - Mehāniskais asinsspiediena mērītājs | D1: Pretendenta piedāvājums, atsauce uz informatīvo materiālu (Informatīvā materiāla nosaukums, lpp.)
A2: Nr. | B2: Preces nosaukums, veicamās funkcijas, tehniskās prasības un komplektācija | C2: Skaits, gab.***
A3: Piemērs | B3: Piemērs | C3: Piemērs | D3: Informatīvais materiāls 2, 4.lpp
A4: 15. | B4: Nosaukums: Mehāniskais asinsspiediena mērītājs | C4: 5
A5: 15.1. | B5: Veicamās funkcijas:
A6: 15.1.1. | B6: Nodrošina asisnsspiediena mērījuma veikšanu
A7: 15.2. | B7: Tehniskās prasības:
A8: 15.2.1. | B8: Manometrs ar vismaz 55 mm skalu
A9: 15.2.2. | B9: Sistoliskā un diastoliskā spiediena mērīšana:
A10: 15.2.3. | B10: Mērīšanas diapazons ne mazāks par 0-300 mmHg
A11: 15.2.4. | B11: Mērīšanas precizitāte ne zemāka par ±3 mmHg
A12: 15.2.5. | B12: Vārstulis gaisa nolaišanai
A13: 15.2.6. | B13: Vismaz 4 manšetes izmēri
A14: 15.2.6.1. | B14: XS (Pediatric 14 - 20 cm +/- 4 cm)
A15: 15.2.6.2. | B15: S (Small adult 18 - 26 cm +/- 4 cm)
A16: 15.2.6.3. | B16: M (Adult 22 - 36 cm +/- 4 cm)
... A20: 15.3. | B20: Komplektācija (iekļauta iekārtas cenā, tiek piegādāta kopā ar katru iekārtu):
A21: 15.3.1. | B21: Asinsspiediena mērītājs | C21: 1
A22: 15.3.2. | B22: Lādētājs (ja attiecināms) | C22: 1
A23: 15.3.3. | B23: Vismaz 4 manšetes izmēri
A24: 15.3.3.1. | B24: XS (Pediatric 14 - 20 cm +/- 4 cm) | C24: 1
A25: 15.3.3.2. | B25: S (Small adult 18 - 26 cm +/- 4 cm) | C25: 1
A26: 15.3.3.3. | B26: M (Adult 22 - 36 cm +/- 4 cm) | C26: 1
A27: 15.3.3.4. | B27: L (Large adult 32 - 42 cm +/- 4 cm) | C27: 1
A28: 15.4 | B28: Piederumi, saderīgi ar piedāvāto iekārtu (tiek norādīta cena par katru piederumu atsevišķi, tiks pasūtīti pēc nepieciešamības, papildus norādīto piederumu cena netiek iekļauta vērtējamajā cenā):
A29: 15.4.1. | B29: Vismaz 4 manšetes izmēri
A30: 15.4.1.1. | B30: XS (Pediatric 14 - 20 cm +/- 4 cm) | C30: 1
A31: 15.4.1.2. | B31: S (Small adult 18 - 26 cm +/- 4 cm) | C31: 1
A32: 15.4.1.3. | B32: M (Adult 22 - 36 cm +/- 4 cm) | C32: 1
A33: 15.4.1.4. | B33: L (Large adult 32 - 42 cm +/- 4 cm) | C33: 1
A34: 15.4.2. | B34: Citi piederumi, kas nepieciešamas piedāvātajai iekārtai, lai nodrošinātu tehniskajā aprakstā norādīto funkcionalitāti un/vai pieejamie papildinājumi. (rindiņas atļauts papildināt zemāk pēc nepieciešamības, vienā rindiņā ierakstīt ne vairāk kā vienu piederumu) | C34: 1

Sheet 16
A1: 16. pozīcija - Otoskops | D1: Pretendenta piedāvājums, atsauce uz informatīvo materiālu (Informatīvā materiāla nosaukums, lpp.)
A2: Nr. | B2: Preces nosaukums, veicamās funkcijas, tehniskās prasības un komplektācija | C2: Skaits, gab.***
A3: Piemērs | B3: Piemērs | C3: Piemērs | D3: Informatīvais materiāls 2, 4.lpp
A4: 16. | B4: Nosaukums: Otoskops | C4: 5
A5: 16.1. | B5: Veicamās funkcijas:
A6: 16.1.1. | B6: Ausu izmeklējumu veikšana
A7: 16.2. | B7: Tehniskās prasības:
A8: 16.2.1. | B8: Barošanas avots: akumulatora baterijas
A9: 16.2.2. | B9: LED apgaismojuma avots
A10: 16.2.3. | B10: Vēlams Spuldze ir maināma
A11: 16.2.4. | B11: Instrumenta kātā integrēts gaismas avota ieslēgšanas/izslēgšanas mehānisms
A12: 16.2.5. | B12: Pneimatiskā testa konektors
A13: 16.2.6. | B13: Grozāms skatīšanās logs ar vismaz 3x palielinājumu
A14: 16.3. | B14: Komplektācija (iekļauta iekārtas cenā, tiek piegādāta kopā ar katru iekārtu):
A15: 16.3.1. | B15: Oftalmoskopa rokturis | C15: 1
A16: 16.3.2. | B16: Uzglabāšanas kaste / soma | C16: 1
A17: 16.3.3. | B17: Spuldze | C17: 1
A18: 16.3.4. | B18: Oftalmoskopa rokturis ar akumulatoru un vadu vai lādēšanas staciju, ja attiecināms | C18: 1
A19: 16.4. | B19: Piederumi, saderīgi ar piedāvāto iekārtu (tiek norādīta cena par katru piederumu atsevišķi, tiks pasūtīti pēc nepieciešamības, papildus norādīto piederumu cena netiek iekļauta vērtējamajā cenā):
A20: 16.4.1. | B20: Spuldze (ja attiecināms) | C20: 1
A21: 16.4.2. | B21: Akumulators | C21: 1
A22: 16.4.3. | B22: Lādēšanas stacija vai vads | C22: 1
A23: 16.4.4. | B23: Citi piederumi, kas nepieciešamas piedāvātajai iekārtai, lai nodrošinātu tehniskajā aprakstā norādīto funkcionalitāti un/vai pieejamie papildinājumi. (rindiņas atļauts papildināt zemāk pēc nepieciešamības, vienā rindiņā ierakstīt ne vairāk kā vienu piederumu) | C23: 1

Sheet 17
A1: 17. pozīcija - Oftalmoskops | D1: Pretendenta piedāvājums, atsauce uz informatīvo materiālu (Informatīvā materiāla nosaukums, lpp.)
A2: Nr. | B2: Preces nosaukums, veicamās funkcijas, tehniskās prasības un komplektācija | C2: Skaits, gab.***
A3: Piemērs | B3: Piemērs | C3: Piemērs | D3: Informatīvais materiāls 2, 4.lpp
A4: 17. | B4: Nosaukums: Oftalmoskops | C4: 5
A5: 17.1. | B5: Veicamās funkcijas:
A6: 17.1.1. | B6: Acs anatomisko struktūru novērtēšana
A7: 17.2. | B7: Tehniskās prasības:
A8: 17.2.1. | B8: Barošanas avots: akumulatora baterijas
A9: 17.2.2. | B9: Iespējami vismaz sekojošie gaismas stara veidi:
A10: 17.2.2.1. | B10: Liels atvērums
A11: 17.2.2.2. | B11: Mazs atvērums
A12: 17.2.2.3. | B12: Sprauga
A13: 17.2.2.4. | B13: Polāro koordinātu mērķis
A14: 17.2.2.5. | B14: zilais filtrs
A15: 17.2.2.6. | B15: pusaplis
A16: 17.2.3. | B16: Diapazons vismaz -20,0D līdz + 20,0 D
... A21: 17.3. | B21: Komplektācija (iekļauta iekārtas cenā, tiek piegādāta kopā ar katru iekārtu):
A22: 17.3.1 | B22: Oftalmoskopa galva | C22: 1
A23: 17.3.2. | B23: Oftalmoskopa rokturis ar akumulatoru un vadu vai lādēšanas staciju, ja attiecināms | C23: 1
A24: 17.3.3. | B24: Spuldze | C24: 1
A25: 17.3.4. | B25: Uzglabāšanas soma vai kaste | C25: 1
A26: 17.4. | B26: Piederumi, saderīgi ar piedāvāto iekārtu (tiek norādīta cena par katru piederumu atsevišķi, tiks pasūtīti pēc nepieciešamības, papildus norādīto piederumu cena netiek iekļauta vērtējamajā cenā):
A27: 17.4.1. | B27: Spuldze (ja attiecināms) | C27: 1
A28: 17.4.2. | B28: Akumulators | C28: 1
A29: 17.4.3. | B29: Lādēšanas stacija vai vads | C29: 1
A30: 17.4.4. | B30: Citi piederumi, kas nepieciešamas piedāvātajai iekārtai, lai nodrošinātu tehniskajā aprakstā norādīto funkcionalitāti un/vai pieejamie papildinājumi. (rindiņas atļauts papildināt zemāk pēc nepieciešamības, vienā rindiņā ierakstīt ne vairāk kā vienu piederumu) | C30: 1

Sheet 18
A1: 18. pozīcija - Izbraukumu/medikamentu soma (mazā) | D1: Pretendenta piedāvājums, atsauce uz informatīvo materiālu (Informatīvā materiāla nosaukums, lpp.)
A2: Nr. | B2: Preces nosaukums, veicamās funkcijas, tehniskās prasības un komplektācija | C2: Skaits, gab.***
A3: Piemērs | B3: Piemērs | C3: Piemērs | D3: Informatīvais materiāls 2, 4.lpp
A4: 18. | B4: Nosaukums: Izbraukumu/medikamentu soma (mazā) | C4: 1
A5: 18.1. | B5: Veicamās funkcijas:
A6: 18.1.1. | B6: Medikamentu un instrumentu glabāšana un pārvadāšana
A7: 18.2. | B7: Tehniskās prasības:
A8: 18.2.1. | B8: Somas svars nepārsniedz 4 kg (tukša)
A9: 18.2.2. | B9: Somas izmēri nepārsniedz 55 x 25 x 30 cm
A10: 18.2.3. | B10: Somas svara ietilpība vismaz līdz 12 kg
A11: 18.2.4. | B11: Somas ietilpība vismaz 28 litri
A12: 18.2.5. | B12: Somu iespējams pārnēsāt kā mugursomu (soma aprīkota ar noņemamām mugursomas lencēm)
A13: 18.2.6. | B13: Soma aprīkota ar rokturiem nešanai
A14: 18.2.7. | B14: Soma sadalīta galvenajā sadaļā un ārējās sadaļās
A15: 18.3. | B15: Ārējā sadaļa
A16: 18.3.1. | B16: Aprīkota ar elastīgam cilpām dažādu piederumu glabāšanai
... A21: 18.4.3. | B21: Aprīkota ar vismaz 4 (dažādu krāsu) caurspīdīgām somiņām dažādu piederumu glabāšanai

Sheet 19
A1: 19. pozīcija - Izbraukumu/medikamentu soma (mugursoma) | D1: Pretendenta piedāvājums, atsauce uz informatīvo materiālu (Informatīvā materiāla nosaukums, lpp.)
A2: Nr. | B2: Preces nosaukums, veicamās funkcijas, tehniskās prasības un komplektācija | C2: Skaits, gab.***
A3: Piemērs | B3: Piemērs | C3: Piemērs | D3: Informatīvais materiāls 2, 4.lpp
A4: 19. | B4: Nosaukums: Izbraukumu/medikamentu soma (mugursoma) | C4: 1
A5: 19.1. | B5: Veicamās funkcijas:
A6: 19.1.1. | B6: Medikamentu un instrumentu glabāšana un pārvadāšana
A7: 19.2. | B7: Tehniskās prasības:
A8: 19.2.1. | B8: Somas svars nepārsniedz 5 kg (tukša)
A9: 19.2.2. | B9: Somas izmēri nepārsniedz 32 x 52 x 28 cm
A10: 19.2.3. | B10: Somas svara ietilpība vismaz līdz 12 kg
A11: 19.2.4. | B11: Somas ietilpība vismaz 46 litri
A12: 19.2.5. | B12: Somu iespējams pārnēsāt kā mugursomu (soma aprīkota ar noņemamām mugursomas lencēm)
A13: 19.2.6. | B13: Soma aprīkota ar rokturiem nešanai
A14: 19.2.7. | B14: Soma sadalīta galvenajā sadaļā un ārējās sadaļās
A15: 19.3. | B15: Ārējā sadaļa
A16: 19.3.1. | B16: Sānu ārējās sadaļas paredzētas piederumu glabāšanai
... A20: 19.4.3. | B20: Aprīkota ar vismaz 4 (dažādu krāsu) caurspīdīgām somiņām dažādu piederumu glabāšanai

Sheet 20
A1: 20. pozīcija - Infrasarkanais bezkontakta termometrs | D1: Pretendenta piedāvājums, atsauce uz informatīvo materiālu (Informatīvā materiāla nosaukums, lpp.)
A2: Nr. | B2: Preces nosaukums, veicamās funkcijas, tehniskās prasības un komplektācija | C2: Skaits, gab.***
A3: Piemērs | B3: Piemērs | C3: Piemērs | D3: Informatīvais materiāls 2, 4.lpp
A4: 20. | B4: Nosaukums: Infrasarkanais bezkontakta termometrs | C4: 20
A5: 20.1. | B5: Veicamās funkcijas:
A6: 20.1.1. | B6: Veic ķermeņa temperatūras mērīšanu bez kontakta ar pacienta ādu
A7: 20.2. | B7: Tehniskās prasības:
A8: 20.2.1. | B8: Iespēja izvēlēties starp ķermeņa un virsmas temperatūras mērīšanu
A9: 20.2.2. | B9: LCD displejs rezultātu atspoguļošanai
A10: 20.2.3. | B10: Mērīšanas laiks nepārsniedz 1 sekundi
A11: 20.2.4. | B11: Darbināms no standarta baterijām
A12: 20.2.5. | B12: Tiek saglabāti vismaz pēdējie 30 mērījumi
A13: 20.2.6. | B13: Darbības attālums 5-15 cm no mērāmā objekta
A14: 20.2.7. | B14: Ķermeņa temperatūras mērīšana robežās no vismaz 32,0 - 42,9 C˚
A15: 20.2.8. | B15: Virsmas temperatūras mērīšana robežās no vismaz 0,0 - 60,0 C˚
A16: 20.2.9. | B16: Temperatūras mērījuma uzrādīšana C˚ skalā
... A24: 20.3. | B24: Komplektācija (iekļauta iekārtas cenā, tiek piegādāta kopā ar katru iekārtu):
A25: 20.3.1. | B25: Infrasarkanais termometrs | C25: 1
A26: 20.3.2. | B26: Baterijas pirmreizējai lietošanai | C26: 1
A27: 20.3.3. | B27: Iekārta tiek piegādāta pilnā komplektācijā pirmreizējai lietošanai | C27: 1

Sheet 21
A1: 21. pozīcija - Augummērs | D1: Pretendenta piedāvājums, atsauce uz informatīvo materiālu (Informatīvā materiāla nosaukums, lpp.)
A2: Nr. | B2: Preces nosaukums, veicamās funkcijas, tehniskās prasības un komplektācija | C2: Skaits, gab.***
A3: Piemērs | B3: Piemērs | C3: Piemērs | D3: Informatīvais materiāls 2, 4.lpp
A4: 21. | B4: Nosaukums: Augummērs | C4: 10
A5: 21.1. | B5: Veicamās funkcijas:
A6: 21.1.1. | B6: Pacienta auguma mērīšana
A7: 21.2. | B7: Tehniskās prasības:
A8: 21.2.1. | B8: Stiprināms pie sienas
A9: 21.2.2. | B9: Mērījumu diapazons vismaz 0-2200 mm
A10: 21.2.3. | B10: Iedaļas vērtība ne lielāka kā 1 mm
A11: 21.2.4. | B11: Svars nepārsniedz 250 g
A12: 21.2.5. | B12: Izritināma vai stacionāra mērījumu skala
A13: 21.2.6. | B13: Auguma mērījums notiek novietojot mērījuma fiksatoru pie pacienta galvas
A14: 21.3. | B14: Komplektācija (iekļauta iekārtas cenā, tiek piegādāta kopā ar katru iekārtu):
A15: 21.3.1. | B15: Auguma mērītājs | C15: 1
A16: 21.3.2. | B16: Nepieciešamās skrūves stiprinājumam pie sienas | C16: 1

Sheet 22
A1: 22. pozīcija - Fonendoskopi | D1: Pretendenta piedāvājums, atsauce uz informatīvo materiālu (Informatīvā materiāla nosaukums, lpp.)
A2: Nr. | B2: Preces nosaukums, veicamās funkcijas, tehniskās prasības un komplektācija | C2: Skaits, gab.****
A3: Piemērs | B3: Piemērs | C3: Piemērs | D3: Informatīvais materiāls 2, 4.lpp
A4: 22. | B4: Nosaukums: Fonendoskopi
A5: 22.1. | B5: Veicamās funkcijas:
A6: 22.1.1. | B6: Piemērots sirds un plaušu izklausīšanai
A7: 22.2. | B7: Tehniskās prasības:
A8: 22.2.1. | B8: Vienlaidus abpusēja (pieaugušajiem un bērniem) nerūsējošā tērauda galva, aukstuma sajūtu neraisoša materiāla maliņas saskarsmei ar pacientu
A9: 22.2.2. | B9: Vienlaidus savienotājcaurule
A10: 22.2.3. | B10: Mīksti ausu uzgaļi (komplektācijā iekļauti rezerves)
A11: 22.2.4. | B11: Savienotājcaurules garums 70±10 cm
A12: 22.2.5. | B12: Abpusēja peldošā membrāna vai noskaņojamā membrāna
A13: 22.2.6. | B13: Lielās membrānas diametrs 45±5 mm
A14: 22.2.7. | B14: Mazās membrānas diametrs 30 +/- 5 mm
A15: 22.2.8. | B15: Nesatur lateksu
... A18: 22.3. | B18: Izmēri:
A19: 22.3.1. | B19: Pieaugušo fonendoskops - Lielās membrānas diametrs 45±5 mm; Mazās membrānas diametrs 30 +/- 5 mm | C19: 10
A20: 22.3.2. | B20: Bērnu fonendoskops - Lielās membrānas diametrs 30±5 mm; Mazās membrānas diametrs 27 +/- 5 mm | C20: 10
A21: 22.2.3. | B21: Jaundzimušo fonendoskops - Lielās membrānas diametrs 30±5 mm; Mazās membrānas diametrs 20 +/- 5 mm | C21: 10

Sheet Iekārtu tehniskā apkalpošana
A2: Ierīcēm, kurām pēcgarantijas periodā periodiski veicamo darbu saturs mainās, Pretendents aizpilda "Iekārtu tehniskā apkalpošana" tabulu, izveidojot papildus rindu/as zem ierīces, katrā jaunā rindā norādot periodiski veicamā darba veidu, pārliecinoties, ka kopumā ir uzskaitīti visi uz ierīci attiecināmie periodiski veicamie darbi pēcgarantijas periodā
A3: Kopējās izmaksas viena periodiski veicamā darba veida veikšanai pēcgarantijas periodā tiek aprēķinātas sekojoši: 13=3*(6*(7+(8*9)) kur norādītie skaitļi ir kolonnas kārtas numurs. 14. kolonnā jānorāda summa par visiem periodiski veicamajiem darbiem visām iekārtām
A4: Iekārtu tehniskā apkalpošana
A5: Iepirkuma pozīcijas numurs | B5: Iekārtas nosaukums | C5: Iekārtu skaits *** | D5: Pēcgarantijas periods, ņemot vērā, ka garantijas periods un pēcgarantijas periods veido piecus gadus | E5: Periodiski veicamā darba veids pēcgarantijas periodā | F5: Periodiski veicamā darba skaits vienai ierīcei pēcgarantijas periodā | G5: Viena periodiski veicamā darba maināmo rezerves daļu izmaksas, ja attiecināms, EUR bez PVN | H5: Viena periodiski veicamā darba paredzamais ilgums, stundas | I5: Periodiski veicamo darbu servisa stundas likme, EUR bez PVN | J5: Remonta servisa stundas likme, EUR bez PVN | K5: Vai ražotājs ir paredzējis elektrodrošības pārbaudes periodiski veicamo darbu ietvaros? (Jā/Nē) | L5: Vai ražotājs ir paredzējis funkcionālās pārbaudes periodiski veicamo darbu ietvaros? (Jā/Nē) | M5: Summa par viena periodiski veicamā darba veidu pēcgarantijas periodā visām iekārtām, EUR bez PVN | N5: Summa par visiem periodiski veicamajiem darbiem pēcgarantijas periodā visām iekārtām, EUR bez PVN | O5: Piezīmes
A6: 1 | B6: 2 | C6: 3 | D6: 4 | E6: 5 | F6: 6 | G6: 7 | H6: 8 | I6: 9 | J6: 10 | K6: 11 | L6: 12 | M6: 13 | N6: 14 | O6: 15
A7: 1. | B7: Pacientu monitors | C7: 2 | M7: =C7*(F7*(G7+(H7*I7))) -> 0 | N7: =M7 -> 0
A8: 2. | B8: Inhalators | C8: 20 | M8: =C8*(F8*(G8+(H8*I8))) -> 0 | N8: =M8 -> 0
A9: 3. | B9: Infūziju sūknis | C9: 20 | M9: =C9*(F9*(G9+(H9*I9))) -> 0 | N9: =M9 -> 0
A10: 4. | B10: Portatīvais vakuumsūknis | C10: 10 | M10: =C10*(F10*(G10+(H10*I10))) -> 0 | N10: =M10 -> 0
A11: 5. | B11: Sūknis enterālās barošanas | C11: 10 | M11: =C11*(F11*(G11+(H11*I11))) -> 0 | N11: =M11 -> 0
A12: 6. | B12: Pulsa oksimetrs I | C12: 15 | M12: =C12*(F12*(G12+(H12*I12))) -> 0 | N12: =M12 -> 0
A13: 7. | B13: Pulsa oksimetrs II | C13: 15 | M13: =C13*(F13*(G13+(H13*I13))) -> 0 | N13: =M13 -> 0
A14: 8. | B14: Bezvadu ierīces EKG monitorēšanai | C14: 10 | M14: =C14*(F14*(G14+(H14*I14))) -> 0 | N14: =M14 -> 0
A15: 9. | B15: Pacienta vitālo funkciju monitors | C15: 6 | M15: =C15*(F15*(G15+(H15*I15))) -> 0 | N15: =M15 -> 0
A16: 10. | B16: Elektroniskais asinsspiediena mērītājs | C16: 20 | M16: =C16*(F16*(G16+(H16*I16))) -> 0 | N16: =M16 -> 0
A17: 11. | B17: Pacientu elektroniskie grīdas svari | C17: 5 | M17: =C17*(F17*(G17+(H17*I17))) -> 0 | N17: =M17 -> 0
A18: 12. | B18: Elektroniskie zīdaiņu svari I | C18: 5 | M18: =C18*(F18*(G18+(H18*I18))) -> 0 | N18: =M18 -> 0
... A20: 14. | B20: Atsūcējs krūts piena, divpakāpju | C20: 3 | M20: =C20*(F20*(G20+(H20*I20))) -> 0 | N20: =M20 -> 0
A21: Piemērs
A22: Iekārtu tehniskā apkalpošana
A23: Iepirkuma daļas numurs | B23: Iekārtas nosaukums | C23: Iekārtu skaits * | D23: Pēcgarantijas periods, ņemot vērā, ka garantijas periods un pēcgarantijas periods veido piecus gadus | E23: Periodiski veicamā darba veids pēcgarantijas periodā | F23: Periodiski veicamā darba skaits vienai ierīcei pēcgarantijas periodā | G23: Viena periodiski veicamā darba maināmo rezerves daļu izmaksas, ja attiecināms, EUR bez PVN | H23: Viena periodiski veicamā darba paredzamais ilgums, stundas | I23: Periodiski veicamo darbu servisa stundas likme, EUR bez PVN | J23: Remonta servisa stundas likme, EUR bez PVN | K23: Vai ražotājs ir paredzējis elektrodrošības pārbaudes periodiski veicamo darbu ietvaros? (Jā/Nē) | L23: Vai ražotājs ir paredzējis funkcionālās pārbaudes periodiski veicamo darbu ietvaros? (Jā/Nē) | M23: Summa par viena periodiski veicamā darba veidu pēcgarantijas periodā visām iekārtām, EUR bez PVN | N23: Summa par visiem periodiski veicamajiem darbiem pēcgarantijas periodā visām iekārtām, EUR bez PVN | O23: Piezīmes
A24: 1 | B24: 2 | C24: 3 | D24: 4 | E24: 5 | F24: 6 | G24: 7 | H24: 8 | I24: 9 | J24: 10 | K24: 11 | L24: 12 | M24: 13 | N24: 14 | O24: 15
A25: 1. daļa | B25: Mākslīgā plaušu ventilācijas ierīce | C25: 5 | D25: 3 | E25: 1000h apkope | F25: 2 | G25: 500 | H25: 3 | I25: 35 | J25: 35 | K25: JĀ | L25: JĀ | M25: =C25*(F25*(G25+(H25*I25))) -> 6050 | N25: =M25+M26 -> 6312.5
C26: 5 | D26: 3 | E26: 2 gadu pārbaude | F26: 1 | G26: 0 | H26: 1.5 | I26: 35 | J26: 35 | K26: JĀ | L26: JĀ | M26: =C26*(F26*(G26+(H26*I26))) -> 262.5

Sheet Finanšu piedāvājums
B1: Finanšu piedāvājums
B2: Iekārtu iegādes izmaksas
A3: Iepirkuma pozīcijas numurs | B3: Tehniskās specifikācijas punkta numurs | C3: Iekārtas nosaukums | D3: Iekārtu skaits * | E3: Vienas vienības cena, EUR bez PVN | F3: Summa, EUR bez PVN | G3: PVN likme, % | H3: Summa par iekārtu tehnisko apkalpošanu (ja ražotājs tādu ir paredzējis) | I3: Vērtējamā summa | J3: Komentārs
A4: 1. pozīcija | B4: 1. | C4: Pacientu monitors | D4: 2 | F4: =E4*D4 -> 0 | H4: ='Iekārtu tehniskā apkalpošana'!N7 -> 0 | I4: =F4+H4+SUM(F7:F20) -> 0
C5: Piederumi, saderīgi ar piedāvāto iekārtu (tiek norādīta cena par katru piederumu atsevišķi, tiks pasūtīti pēc nepieciešamības, papildus norādīto piederumu cena netiek iekļauta vērtējamajā cenā): | H5: Nav attiecināms
B6: 1.4.1. | C6: Sensors SpO2:
B7: 1.4.1.1. | C7: Jaundzimušo, daudzreizlietojams (1gab) vai vienreizlietojams (20 gab) | D7: 1 | F7: =E7*D7 -> 0
B8: 1.4.1.2. | C8: Pediatriskais, daudzreizlietojamais, pirksta | D8: 1 | F8: =E8*D8 -> 0
B9: 1.4.1.3. | C9: Pieaugušo, daudzreizlietojamais, pirksta | D9: 1 | F9: =E9*D9 -> 0
B10: 1.4.1.4. | C10: Kabelis savienojošais SpO2, daudzreizlietojams, garums vismaz 2m, ja nepieciešams | D10: 1 | F10: =E10*D10 -> 0
B11: 1.4.2. | C11: Manšetes, daudzreizlietojamās:
B12: 1.4.2.1. | C12: Jaundzimušo, 10-15 cm +/- 4 cm | D12: 1 | F12: =E12*D12 -> 0
B13: 1.4.2.2. | C13: Pediatriskā, 14 - 20 cm +/- 4 cm | D13: 1 | F13: =E13*D13 -> 0
B14: 1.4.2.3. | C14: Pieaugušo S, 18 - 26 cm +/- 4 cm | D14: 1 | F14: =E14*D14 -> 0
B15: 1.4.2.4. | C15: Pieaugušo, 22 - 36 cm +/- 4 cm | D15: 1 | F15: =E15*D15 -> 0
B16: 1.4.2.5. | C16: Kabelis savienojošais neinvazīvā asinspiediena | D16: 1 | F16: =E16*D16 -> 0
B17: 1.4.3. | C17: EKG mērīšana:
B18: 1.4.3.1. | C18: Daudzreizlietojamais EKG kabelis 3 novadījumu (jaundzimušo) | D18: 1 | F18: =E18*D18 -> 0
B19: 1.4.3.2. | C19: Daudzreizlietojamais EKG kabelis 3 novadījumu (pediatriskais/pieaugušo) | D19: 1 | F19: =E19*D19 -> 0
B20: 1.4.3.3. | C20: Savienojošais kabelis EKG mērījumu nodrošināšanai | D20: 1 | F20: =E20*D20 -> 0
B21: 1.4.4. | C21: Citi piederumi, kas nepieciešamas piedāvātajai iekārtai, lai nodrošinātu tehniskajā aprakstā norādīto funkcionalitāti un/vai pieejamie papildinājumi. (rindiņas atļauts papildināt zemāk pēc nepieciešamības, vienā rindinā ierakstīt ne vairāk kā vienu piederumu) | D21: 1 | F21: =E21*D21 -> 0
A22: 2. pozīcija | B22: 2. | C22: Inhalators | D22: 20 | F22: =E22*D22 -> 0 | H22: ='Iekārtu tehniskā apkalpošana'!N8 -> 0 | I22: =F22+H22+SUM(F24:F25) -> 0
C23: Piederumi, saderīgi ar piedāvāto iekārtu (tiek norādīta cena par katru piederumu atsevišķi, tiks pasūtīti pēc nepieciešamības, papildus norādīto piederumu cena netiek iekļauta vērtējamajā cenā): | H23: Nav attiecināms
B24: 4.4.1. | C24: Piederumu komplekts, kas nodrošina ieelpojamo daļiņu vidējo aerodinamisko diametru (MMAD) ne lielāku par 4 µm | D24: 1 | F24: =E24*D24 -> 0
B25: 4.4.2. | C25: Iekārtas transporta soma | D25: 1 | F25: =E25*D25 -> 0
B26: 4.4.3. | C26: Citi piederumi, kas nepieciešamas piedāvātajai iekārtai, lai nodrošinātu tehniskajā aprakstā norādīto funkcionalitāti un/vai pieejamie papildinājumi. (rindiņas atļauts papildināt zemāk pēc nepieciešamības, vienā rindinā ierakstīt ne vairāk kā vienu piederumu) | F26: =E26*D26 -> 0
A27: 3. pozīcija | B27: 3. | C27: Infūziju sūknis | D27: 20 | F27: =E27*D27 -> 0 | H27: ='Iekārtu tehniskā apkalpošana'!N9 -> 0 | I27: =F27+H27 -> 0
C28: Piederumi, saderīgi ar piedāvāto iekārtu (tiek norādīta cena par katru piederumu atsevišķi, tiks pasūtīti pēc nepieciešamības, papildus norādīto piederumu cena netiek iekļauta vērtējamajā cenā): | H28: Nav attiecināms
B29: 3.6.1. | C29: Citi piederumi, kas nepieciešami piedāvātajai iekārtai, lai nodrošinātu tehniskajā aprakstā norādīto funkcionalitāti un/vai pieejamie papildinājumi. (rindiņas atļauts papildināt zemāk pēc nepieciešamības, vienā rindiņā ierakstīt ne vairāk kā vienu piederumu) | D29: 1 | F29: =E29*D29 -> 0
A30: 4.pozīcija | B30: 4. | C30: Portatīvais vakuumsūknis | D30: 10 | F30: =E30*D30 -> 0 | H30: ='Iekārtu tehniskā apkalpošana'!N10 -> 0 | I30: =F30+H30+SUM(F32:F34) -> 0
C31: Piederumi, saderīgi ar piedāvāto iekārtu (tiek norādīta cena par katru piederumu atsevišķi, tiks pasūtīti pēc nepieciešamības, papildus norādīto piederumu cena netiek iekļauta vērtējamajā cenā): | H31: Nav attiecināms
B32: 4.4.1. | C32: Savācējtrauka komplekts - Daudzreizlietojams, autoklāvējams, ar tilpumu vismaz 1 L un ne lielāku kā 2 L, aprīkots ar pārplūdes aizsardzības vārstu | D32: 3 komplekti | F32: =E32*3 -> 0
B33: 4.4.2. | C33: Savācējtrauks - Daudzreizlietojams, autoklāvējams, ar tilpumu vismaz 1 L un ne lielāku kā 2 L, aprīkots ar pārplūdes aizsardzības vārstu | D33: 3 | F33: =E33*D33 -> 0
B34: 4.4.3. | C34: Savācējtrauka vāks (saderīgi ar piedāvātajiem traukiem) | D34: 3 | F34: =E34*D34 -> 0
B35: 4.4.4. | C35: Citi piederumi, kas nepieciešamas piedāvātajai iekārtai, lai nodrošinātu tehniskajā aprakstā norādīto funkcionalitāti un/vai pieejamie papildinājumi. (rindiņas atļauts papildināt zemāk pēc nepieciešamības, vienā rindinā ierakstīt ne vairāk kā vienu piederumu) | D35: 1 | F35: =E35*D35 -> 0
A36: 5. pozīcija | B36: 5. | C36: Sūknis enterālās barošanas | D36: 10 | F36: =E36*D36 -> 0 | H36: ='Iekārtu tehniskā apkalpošana'!N11 -> 0 | I36: =F36+H36+F38 -> 0
C37: Piederumi, saderīgi ar piedāvāto iekārtu (tiek norādīta cena par katru piederumu atsevišķi, tiks pasūtīti pēc nepieciešamības, papildus norādīto piederumu cena netiek iekļauta vērtējamajā cenā): | H37: Nav attiecināms
B38: 5.2.8.1. | C38: Stiprinājums iekārtas stiprināšanai pie statīva | D38: 1 | F38: =E38*D38 -> 0
B39: 5.2.8.2. | C39: Citi piederumi vai papildus komplektācija, kas nepieciešamas piedāvātajai ierīcei, lai nodrošinātu tehniskajā aprakstā norādīto funkcionalitāti. (rindiņas atļauts papildināt zemāk pēc nepieciešamības, vienā rindiņā ierakstīt ne vairāk kā vienu piederumu) | D39: 1 | F39: =E39*D39 -> 0
A40: 6.pozīcija | B40: 6. | C40: Pulsa oksimetrs I | D40: 15 | F40: =E40*D40 -> 0 | H40: ='Iekārtu tehniskā apkalpošana'!N12 -> 0 | I40: =F40+H40+SUM(F42:F47) -> 0
C41: Piederumi, saderīgi ar piedāvāto iekārtu (tiek norādīta cena par katru piederumu atsevišķi, tiks pasūtīti pēc nepieciešamības, papildus norādīto piederumu cena netiek iekļauta vērtējamajā cenā): | H41: Nav attiecināms
B42: 6.4.1. | C42: Kabelis savienojošais SpO2, daudzreizlietojams, garums vismaz 2,5m, ja nepieciešams | D42: 1 | F42: =E42*D42 -> 0
B43: 6.4.2. | C43: Barošanas bloks | D43: 1 | F43: =E43*D43 -> 0
B44: 6.4.3. | C44: Jaundzimušo sensors, daudzreizlietojams | D44: 1 | F44: =E44*D44 -> 0
B45: 6.4.4. | C45: Jaundzimušo sensors, vienreizreizlietojams | D45: 20 | F45: =E45*D45 -> 0
B46: 6.4.5. | C46: Bērnu sensors, daudzreizlietojams | D46: 1 | F46: =E46*D46 -> 0
B47: 6.4.6. | C47: Pieaugušo sensors, daudzreizlietojams | D47: 1 | F47: =E47*D47 -> 0
B48: 6.4.7. | C48: Citi piederumi, kas nepieciešamas piedāvātajai iekārtai, lai nodrošinātu tehniskajā aprakstā norādīto funkcionalitāti un/vai pieejamie papildinājumi. (rindiņas atļauts papildināt zemāk pēc nepieciešamības, vienā rindinā ierakstīt ne vairāk kā vienu piederumu) | D48: 1
A49: 7.pozīcija | B49: 7. | C49: Pulsa oksimetrs II | D49: 15 | F49: =E49*D49 -> 0 | H49: ='Iekārtu tehniskā apkalpošana'!N13 -> 0 | I49: =F49+H49+SUM(F51:F56) -> 0
C50: Piederumi, saderīgi ar piedāvāto iekārtu (tiek norādīta cena par katru piederumu atsevišķi, tiks pasūtīti pēc nepieciešamības, papildus norādīto piederumu cena netiek iekļauta vērtējamajā cenā): | H50: Nav attiecināms
B51: 7.4.1. | C51: Sensors SpO2:
B52: 7.4.1.1 | C52: Jaundzimušo, daudzreizlietojams (Ja attiecināms. Pretendenta jāpiedāvā viens no punktiem (9.4.1.1 vai 9.4.1.2)) | D52: 1 | F52: =E52*D52 -> 0
B53: 7.4.1.2 | C53: Jaundzimušo, vienreizlietojams (Ja attiecināms. Pretendenta jāpiedāvā viens no punktiem (9.4.1.1 vai 9.4.1.2)) | D53: 20 | F53: =E53*D53 -> 0
B54: 7.4.1.3 | C54: Pediatriskais, daudzreizlietojamais, pirksta | D54: 1 | F54: =E54*D54 -> 0
B55: 7.4.1.4 | C55: Pieaugušo, daudzreizlietojamais, pirksta | D55: 1 | F55: =E55*D55 -> 0
B56: 7.4.1.5 | C56: Kabelis savienojošais SpO2, daudzreizlietojams, garums vismaz 3m, ja nepieciešams | D56: 1 | F56: =E56*D56 -> 0
B57: 7.4.1.6. | C57: Citi piederumi, kas nepieciešamas piedāvātajai iekārtai, lai nodrošinātu tehniskajā aprakstā norādīto funkcionalitāti un/vai pieejamie papildinājumi. (rindiņas atļauts papildināt zemāk pēc nepieciešamības, vienā rindinā ierakstīt ne vairāk kā vienu piederumu) | D57: 1 | F57: =E57*D57 -> 0
A58: 8. pozīcija | B58: 8.1. | C58: Bezvadu ierīces EKG monitorēšanai | D58: 10 | F58: =E58*D58 -> 0 | H58: ='Iekārtu tehniskā apkalpošana'!N14 -> 0 | I58: =F58+F59+H58 -> 0
B59: 8.2. | C59: EKG holtera reģistrēto datu analīzes programmatūra | D59: 2 | F59: =E59*D59 -> 0 | H59: Nav attiecināms
C60: Piederumi, saderīgi ar piedāvāto iekārtu (tiek norādīta cena par katru piederumu atsevišķi, tiks pasūtīti pēc nepieciešamības, papildus norādīto piederumu cena netiek iekļauta vērtējamajā cenā):
B61: 8.4.1. | C61: Citi piederumi, kas nepieciešamas piedāvātajai iekārtai, lai nodrošinātu tehniskajā aprakstā norādīto funkcionalitāti un/vai pieejamie papildinājumi. (rindiņas atļauts papildināt zemāk pēc nepieciešamības, vienā rindinā ierakstīt ne vairāk kā vienu piederumu) | D61: 1 | F61: =E61*D61 -> 0
A62: 9. pozīcija | B62: 9. | C62: Pacienta vitālo funkciju monitors | D62: 6 | F62: =E62*D62 -> 0 | H62: ='Iekārtu tehniskā apkalpošana'!N15 -> 0 | I62: =F62+H62+SUM(F65:F77) -> 0
B63: 9.4. | C63: Piederumi, saderīgi ar piedāvāto iekārtu (tiek norādīta cena par vienu vienību, tiks pasūtīti pēc nepieciešamības, kolonnā "Skaits" norādīts paredzamais pasūtāmo piederumu daudzums; papildus norādīto piederumu cena netiek iekļauta vērtējamajā cenā): | H63: Nav attiecināms
B64: 9.4.1. | C64: Sensors SpO2:
B65: 9.4.1.1. | C65: Jaundzimušo, daudzreizlietojams (Ja attiecināms. Pretendenta jāpiedāvā viens no punktiem (11.4.1.1 vai 11.4.1.2)) | D65: 1 | F65: =E65*D65 -> 0
B66: 9.4.1.2. | C66: Jaundzimušo, vienreizlietojams (Ja attiecināms. Pretendenta jāpiedāvā viens no punktiem (11.4.1.1 vai 11.4.1.2)) | D66: 1 | F66: =E66*D66 -> 0
B67: 9.4.1.3. | C67: Pediatriskais, daudzreizlietojamais, pirksta | D67: 1 | F67: =E67*D67 -> 0
B68: 9.4.1.4. | C68: Pieaugušo, daudzreizlietojamais, pirksta | D68: 1 | F68: =E68*D68 -> 0
B69: 9.4.1.5. | C69: Kabelis savienojošais SpO2, daudzreizlietojams, garums vismaz 3m, ja nepieciešams | D69: 1 | F69: =E69*D69 -> 0
B70: 9.4.3. | C70: Manšetes, daudzreizlietojamās:
B71: 9.4.3.1. | C71: Vismaz piecu dažādu izmēru manšetes, kuras nosedz izmēru diapazonu vismaz no 15 -40 cm. Norādīt izmērus:
B72: 9.4.3.1.1. | C72: 1. manšete | D72: 1 | F72: =E72*D72 -> 0
B73: 9.4.3.1.2. | C73: 2. manšete | D73: 1 | F73: =E73*D73 -> 0
B74: 9.4.3.1.3. | C74: 3. manšete | D74: 1 | F74: =E74*D74 -> 0
B75: 9.4.3.1.4. | C75: 4. manšete | D75: 1 | F75: =E75*D75 -> 0
B76: 9.4.3.1.5. | C76: 5. manšete | D76: 1 | F76: =E76*D76 -> 0
B77: 9.4.3.2. | C77: Kabelis savienojošais neinvazīvā asinsspiediena | D77: 1 | F77: =E77*D77 -> 0
B78: 9.4.3.3. | C78: Citi piederumi vai papildus komplektācija, kas nepieciešamas piedāvātajai ierīcei, lai nodrošinātu tehniskajā aprakstā norādīto funkcionalitāti. (rindiņas atļauts papildināt zemāk pēc nepieciešamības, vienā rindiņā ierakstīt ne vairāk kā vienu piederumu) | D78: 1 | F78: =E78*D78 -> 0
A79: 10. pozīcija | B79: 10. | C79: Elektroniskais asinsspiediena mērītājs | D79: 20 | F79: =E79*D79 -> 0 | H79: ='Iekārtu tehniskā apkalpošana'!N16 -> 0 | I79: =F79+H79+SUM(F81:F86) -> 0
C80: Piederumi, saderīgi ar piedāvāto iekārtu (tiek norādīta cena par katru piederumu atsevišķi, tiks pasūtīti pēc nepieciešamības, papildus norādīto piederumu cena netiek iekļauta vērtējamajā cenā): | H80: Nav attiecināms
B81: 10.4.1. | C81: Vismaz četru dažādu izmēru manšetes, kuras nosedz izmēru diapazonu vismaz no 15 - 40 cm. Norādīt izmērus:
B82: 10.4.2. | C82: 1. manšete | D82: 1 | F82: =E82*D82 -> 0
B83: 10.4.3. | C83: 2. manšete | D83: 1 | F83: =E83*D83 -> 0
B84: 10.4.4. | C84: 3. manšete | D84: 1 | F84: =E84*D84 -> 0
B85: 10.4.5. | C85: 4. manšete | D85: 1 | F85: =E85*D85 -> 0
B86: 10.4.6. | C86: Citi piederumi vai papildus komplektācija, kas nepieciešamas piedāvātajai ierīcei, lai nodrošinātu tehniskajā aprakstā norādīto funkcionalitāti. (rindiņas atļauts papildināt zemāk pēc nepieciešamības, vienā rindiņā ierakstīt ne vairāk kā vienu piederumu) | D86: 1 | F86: =E86*D86 -> 0
A87: 11. pozīcija | B87: 11. | C87: Pacientu elektroniskie grīdas svari | D87: 5 | F87: =E87*D87 -> 0 | H87: ='Iekārtu tehniskā apkalpošana'!N17 -> 0 | I87: =F87+H87 -> 0
A88: 12. pozīcija | B88: 12. | C88: Elektroniskie zīdaiņu svari I | D88: 5 | F88: =E88*D88 -> 0 | H88: ='Iekārtu tehniskā apkalpošana'!N18 -> 0 | I88: =F88+H88 -> 0
A89: 13. pozīcija | B89: 13. | C89: Elektroniskie zīdaiņu svari II | D89: 3 | F89: =E89*D89 -> 0 | H89: ='Iekārtu tehniskā apkalpošana'!N19 -> 0 | I89: =F89+H89 -> 0
A90: 14. pozīcija | B90: 14.1. | C90: Atsūcējs krūts piena, divpakāpju | D90: 3 | F90: =E90*D90 -> 0 | H90: ='Iekārtu tehniskā apkalpošana'!N20 -> 0 | I90: =SUM(F90:F97)+H90 -> 0
B91: 14.2.1. | C91: Krūts piena savākšanas piltuvi | D91: 3 | F91: =E91*D91 -> 0 | H91: Nav attiecināms
B92: 14.2.2. | C92: Piena pudeles un savākšanas piltuves savienotājs | D92: 3 | F92: =E92*D92 -> 0
B93: 14.2.3. | C93: Piena pudeles vārsts ar membrānu | D93: 3 | F93: =E93*D93 -> 0
B94: 14.2.4. | C94: Silikona cauruļvads ar poligonālu adapteri | D94: 3 | F94: =E94*D94 -> 0
B95: 14.2.5. | C95: Piena pudele | D95: 3 | F95: =E95*D95 -> 0
B96: 14.2.6. | C96: Piena sūkņa atsūkšanas kausiņš ar membrānu-uzmavu | D96: 3 | F96: =E96*D96 -> 0
B97: 14.2.7. | C97: Piena pudeles noslēgšanas gredzens, ar disku, vāciņš un rezerves piena pudeles vārsta membrāna | D97: 3 | F97: =E97*D97 -> 0
A98: 15. pozīcija | B98: 15. | C98: Mehāniskais asinsspiediena mērītājs | D98: 5 | F98: =E98*D98 -> 0 | H98: Nav attiecināms | I98: =F98+SUM(F101:F104) -> 0
C99: Piederumi, saderīgi ar piedāvāto iekārtu (tiek norādīta cena par katru piederumu atsevišķi, tiks pasūtīti pēc nepieciešamības, papildus norādīto piederumu cena netiek iekļauta vērtējamajā cenā):
B100: 15.4.1. | C100: Vismaz 4 manšetes izmēri
...
