Workbook

Sheet Saturs
A1: Nr. | B1: Nosaukums | C1: Skaits*** | D1: Vērtējamā summa (A), maksimālais punktu skaits | E1: Jānorāda Preces ražotāja noteiktais preces maksimālais lietošanas ilgums (gados) (B), maksimālais punktu skaits | F1: Preces/ iekārtas elektroenerģijas patēriņš vai Preces/Iekārtas energoefektivitāte (C), maksimālais punktu skaits | G1: Jānorāda iekārtas darbības laiks no akumulatora (h) (D), maksimālais punktu skaits | H1: Displeja izmērs ne mazāk kā 10” pa diagonāli (E), maksimālais punktu skaits | I1: Mērījumu kļūda ne lielāka kā ± 3 mm Hg st. (F), maksimālais punktu skaits | J1: Kopā
A2: 1. | B2: Pacientu monitori | C2: 2 | D2: 80 | E2: 10 | F2: 10 | G2: 0 | J2: =SUM(D2:F2) -> 100
A3: 2. | B3: Inhalators | C3: 10 | D3: 80 | E3: 10 | F3: 10 | J3: =SUM(D3:F3) -> 100
A4: 3. | B4: Infūzijas sūknis | C4: 20 | D4: 80 | E4: 10 | F4: 10 | J4: =SUM(D4:F4) -> 100
A5: 4. | B5: Portatīvais vakuumsūknis | C5: 10 | D5: 80 | E5: 10 | F5: 10 | J5: =SUM(D5:F5) -> 100
A6: 5. | B6: Sūknis enterālās barošanas | C6: 10 | D6: 80 | E6: 10 | F6: 10 | J6: =SUM(D6:F6) -> 100
A7: 6. | B7: Pulsa oksimetrs I | C7: 15 | D7: 80 | E7: 10 | F7: 10 | J7: =SUM(D7:F7) -> 100
A8: 7. | B8: Pulsa oksimetrs II | C8: 15 | D8: 80 | E8: 10 | F8: 10 | J8: =SUM(D8:F8) -> 100
A9: 8. | B9: Bezvadu ierīces EKG monitorēšanai | C9: 10 | D9: 80 | E9: 10 | F9: 10 | J9: =SUM(D9:F9) -> 100
A10: 9. | B10: Pacienta vitālo funkciju monitors | C10: 6 | D10: 65 | E10: 10 | F10: 10 | G10: 5 | H10: 5 | I10: 5 | J10: =SUM(D10:I10) -> 100
A11: 10. | B11: Elektroniskais asinsspiediena mērītājs | C11: 20 | D11: 75 | E11: 10 | F11: 10 | G11: 0 | I11: 5 | J11: =SUM(D11:I11) -> 100
A12: 11. | B12: Pacientu elektroniskie grīdas svari | C12: 5 | D12: 80 | E12: 10 | F12: 10 | G12: 0 | J12: =SUM(D12:I12) -> 100
A13: 12. | B13: Elektroniskie zīdaiņu svari I | C13: 5 | D13: 80 | E13: 10 | F13: 10 | J13: =SUM(D13:F13) -> 100
A14: 13. | B14: Elektroniskie zīdaiņu svari II | C14: 3 | D14: 80 | E14: 10 | F14: 10 | J14: =SUM(D14:F14) -> 100
A15: 14. | B15: Atsūcējs krūts piena, divpakāpju | C15: 3 | D15: 80 | E15: 10 | F15: 10 | J15: =SUM(D15:F15) -> 100
A16: 15. | B16: Mehāniskais asinsspiediena mērītājs | C16: 5 | D16: 100 | E16: 0 | J16: =SUM(D16:F16) -> 100
A17: 16. | B17: Otoskops | C17: 5 | D17: 100 | J17: =SUM(D17:F17) -> 100
A18: 17. | B18: Oftalmoskops | C18: 5 | D18: 100 | J18: =SUM(D18:F18) -> 100
A19: 18. | B19: Izbraukumu/medikamentu soma (mazā) | C19: 1 | D19: 100 | J19: =SUM(D19:F19) -> 100
A20: 19. | B20: Izbraukumu/medikamentu soma (mugursoma) | C20: 1 | D20: 100 | J20: =SUM(D20:F20) -> 100
A21: 20. | B21: Infrasarkanais bezkontakta termometrs | C21: 20 | D21: 100 | J21: =SUM(D21:F21) -> 100
A22: 21. | B22: Augummērs | C22: 10 | D22: 100 | J22: =SUM(D22:F22) -> 100
A23: 22. | B23: Fonendoskopi | C23: 30 | D23: 100 | J23: =SUM(D23:F23) -> 100

Sheet Obl.pras.
A1: nr. | B1: Obligātās prsības iekārtām un iesniegtajam piedāvājumam | C1: Pretendenta piedāvājums, atsauce uz informatīvo materiālu (Informatīvā materiāla nosaukums, lpp.)
C3: 1. pozīcija - Pacientu monitors | D3: 2. pozīcija - Inhalators | E3: 3. pozīcija - Infūziju sūknis | F3: 4. pozīcija - Portatīvais vakuumsūknis | G3: 5. pozīcija - Sūknis enterālās barošanas | H3: 6. pozīcija - Pulsa oksimetrs I | I3: 7. pozīcija - Pulsa oksimetrs II | J3: 8. pozīcija - Bezvadu ierīces EKG monitorēšanai | K3: 9. pozīcija- Pacienta vitālo funkciju monitors | L3: 10. pozīcija - Elektroniskais asinsspiediena mērītājs | M3: 11. pozīcija - Pacientu elektroniskie grīdas svari | N3: 12. pozīcija - Elektroniskie zīdaiņu svari I | O3: 13. pozīcija - Elektroniskie zīdaiņu svari II | P3: 14. daļa - Atsūcējs krūts piena, divpakāpju | Q3: 15. pozīcija - Mehāniskais asinsspiediena mērītājs | R3: 16. pozīcija - Otoskops | S3: 17. pozīcija - Oftalmoskops | T3: 18. pozīcija - Izbraukumu/medikamentu soma (mazā) | U3: 19. pozīcija - Izbraukumu/medikamentu soma (mugursoma) | V3: 20. pozīcija - Infrasarkanais bezkontakta termometrs | W3: 21. pozīcija - Augummērs | X3: 22. pozīcija - Fonendoskopi
A4: Piemērs | B4: Piemērs | C4: Ražotāja apliecinājums 1, 1.lpp | D4: Ražotāja apliecinājums 1, 1.lpp | E4: Ražotāja apliecinājums 1, 1.lpp | F4: Ražotāja apliecinājums 1, 1.lpp | G4: Ražotāja apliecinājums 1, 1.lpp | H4: Ražotāja apliecinājums 1, 1.lpp | I4: Ražotāja apliecinājums 1, 1.lpp | J4: Ražotāja apliecinājums 1, 1.lpp | X4: Informatīvais materiāls 2, 4.lpp
A5: Piedāvājumam jāpievieno:
A6: 1 | B6: Preces ražotāja izsniegta autorizācijas vēstule, kas apliecina, ka pretendents ir tiesīgs izplatīt un nodrošināt tehnisko apkalpošanu* (ja attiecināms) piedāvātai Precei Latvijas Republikā. Vai arī ražotāja apliecinājums, ka autorizācija nav nepieciešama.
A7: 2 | B7: Piedāvātas Preces atbilstības deklarācijas kopija. (Ja piedāvātās sistēmas komplektācija sastāv no vairākām iekārtām nepieciešams iesniegt atbilstības deklarācijas kopiju par katru iekārtu)
A8: 3 | B8: Piedāvātas Preces CE sertifikāta kopija, ja attiecināms. (Ja piedāvātās sistēmas komplektācija sastāv no vairākām iekārtām nepieciešams iesniegt CE sertifikāta kopiju par katru iekārtu, ja attiecināms)
A9: 4 | B9: Ja ražotājs ir paredzējis, ka periodiski veicamos darbus** un/vai remontu var veikt tikai sertificēts inženieris, piesakoties uz atbilstošo pozīciju, jāiesniedz atbilstošs inženiera sertifikāts par apmācībām, kurās norādīta atbilstība veikt konkrētā modeļa ierīču periodiskos darbus un/vai remontu vai iesniegt ražotāja apliecinājumu par Preces garantijas remonta un tehniskās apkalpošanas pasākumu, ja tādi ir nepieciešami, nodrošināšanas iespējām. (Ja piedāvātās sistēmas komplektācija sastāv no vairākām iekārtām nepieciešams iesniegt inženiera sertifikātu par katru iekārtu, ja attiecināms) | Q9: Nav attiecināms
A10: 5 | B10: Ražotāja apstiprinātu periodiski veicamo darbu sarakstu, kā arī šo darbu periodiskumu (servisa rokasgrāmatas attiecīgās sadaļas ar ietvertu informāciju par veicamajām darbībām, to periodiskumu, mērāmajiem parametriem, to robežvērtībām, regulāri maināmajām rezerves daļām), ja ražotājs tādus ir paredzējis. Ja ražotājs nav paredzējis periodiski veicamos darbus, par to jāiesniedz ražotāja apliecinājums. Servisa rokasgrāmatas sadaļas var aizstāt ar ražotāja apstiprinātu dokumentu, kas ietver šajā punktā aprakstīto informāciju. (Ja piedāvātās sistēmas komplektācija sastāv no vairākām iekārtām nepieciešams iesniegt periodiski veicamo darbu sarakstu par katru iekārtu, ja attiecināms)
A11: 6 | B11: Piedāvājumā iesniegt iespējamās remontstundas un periodiski veicamo darbu izmaksas pēc garantijas periodā, ja ražotājs tādas ir paredzējis. (Ja piedāvātās sistēmas komplektācija sastāv no vairākām iekārtām nepieciešams iesniegt remontstundas un periodiski veicamo darbu izmaksas par katru iekārtu, ja attiecināms)
A12: Prasības precei:
A13: 7 | B13: Piedāvātā Prece ir jauna, iepriekš nelietota un nav izmantota prezentācijās; tā nesatur iepriekš lietotas vai atjaunotas sastāvdaļas vai komponentes. Tā ir ražota ne agrāk kā 12 mēnešus pirms piegādes. | C13: Piedāvājot savu preci, pretendents apstiprina preces nosacījumu izpildi.
A14: 8 | B14: Piedāvātajām Precēm garantijas termiņš ir vismaz 24 mēneši no pieņemšanas – nodošanas akta abpusējas parakstīšanas brīža.
A15: 9 | B15: Garantijas laikā Piegādātājs bez papildus samaksas nodrošina ierīces remontu un periodiskos darbus atbilstoši ražotāja noteiktajām prasībām, ja ražotājs tādu ir paredzējis.
A16: 10 | B16: Garantijas laikā Piegādātājs bez papildus samaksas nodrošina konsultācijas un atkārtotas apmācības par Preci, kuras vada apmācīts speciālists, ja tādas ir nepieciešamas lietotājam.
A17: 11 | B17: Prece tiek piegādāta ne ilgāk kā 60 dienu laikā, lūdzam norādīt iekārtas piegādes laiku. | C17: Norādīt piegādes laiku: | D17: Norādīt piegādes laiku: | E17: Norādīt piegādes laiku: | F17: Norādīt piegādes laiku: | G17: Norādīt piegādes laiku: | H17: Norādīt piegādes laiku: | I17: Norādīt piegādes laiku: | J17: Norādīt piegādes laiku: | K17: Norādīt piegādes laiku: | L17: Norādīt piegādes laiku: | M17: Norādīt piegādes laiku: | N17: Norādīt piegādes laiku: | O17: Norādīt piegādes laiku: | P17: Norādīt piegādes laiku: | Q17: Norādīt piegādes laiku: | R17: Norādīt piegādes laiku: | S17: Norādīt piegādes laiku: | T17: Norādīt piegādes laiku: | U17: Norādīt piegādes laiku: | V17: Norādīt piegādes laiku: | W17: Norādīt piegādes laiku: | X17: Norādīt piegādes laiku:
A18: Preces piegādes nosacījumi:
A19: 12 | B19: Piegādājot Preci, Piegādātājs nodod sekojošu dokumentāciju: medicīniskās ierīces lietošanas instrukcijas un citas dokumentācijas oriģinālvalodā un valsts valodā nodošanu (gan papīra, gan digitālā formātā) un vigilances sistēmas darbības izskaidrošanu lietotājam attiecībā uz konkrēto medicīnisko ierīci | C19: Piedāvājot savu preci, pretendents apstiprina preces piegādes nosacījumu izpildi.
A20: 13 | B20: Nododot Preci ekspluatācijā, piegādātājs nodrošina Preces uzstādīšanu, ierīces funkcionālo un elektrodrošības pārbaudi, kā arī funkciju testēšanu un ierīces kalibrēšanu(ja, uzsākot tās ekspluatāciju, tādas prasības paredzētas ierīces tehniskajā dokumentācijā), iesniedz domenentāciju par šo darbu izpildi.
A21: 14 | B21: Piegādājot preci piegādātās veic medicīniskās ierīces lietotāja apmācību un izsniedzot apliecinošu dokumentu, kurā norāda apmācīto personu, personu, kura veikusi apmācību, un apmācības veikšanas datumu; Piegādājot preci piegādātās veic medicīniskās ierīces tehniskajā dokumentācijā pieprasīto ierīces lietošanas vides raksturlielumu un garantētā elektroapgādes režīma pārbaudi un šo pierakstu nodošanu medicīniskās ierīces īpašniekam vai turētājam.
A22: 15 | B22: Piegādājot Preci, Piegādātājs nodrošina medicīniskās ierīces tehniskajā dokumentācijā pieprasīto ierīces lietošanas vides raksturlielumu un garantētā elektroapgādes režīma pārbaudi un šo pierakstu nodošanu pasūtītājam (Attiecināms uz Aktīvām IIa, aktīvām IIb un aktīvām III klases medicīnas ierīcēm ierīcēm, kurām ražotājs šādu pārbaudi ir noteicis)
A23: Tehniskās apkalpošanas nodrošināšanas nosacījumi
A24: 16 | B24: Visu veidu tehniskā apkalpošana tiek veikta tikai pēc Pasūtītāja pieprasījuma. | C24: Piedāvājot savu preci, pretendents apstiprina tehniskās apkalpošanas nodrošināšanas nosacījumu izpildi. | R24: Nav attiecināms
A25: 17 | B25: Visu veidu tehniskā apkalpošana tikai izņēmuma gadījumos notiek ārpus Slimnīcas teritorijas, iepriekš to saskaņojot ar Pasūtītāju. Ja autorizētais pārstāvis iekārtas tehnisko apkalpošanu nenodrošina uz vietas, bet ierīce tiek sūtīta ražotājam, tad to norādīt piedāvājumā.
A26: 18 | B26: Tehniskā uzraudzība jādokumentē atbilstoši ražotāja un 2023.gada 15.augusta Ministru kabineta noteikumu nr. 461 "Medicīnisko ierīču noteikumi" punktiem 45., 56., 59., norādot visas izmantotās mēriekārtas un mērīto lielumu robežvērtības, ja attiecināms.
A27: 19 | B27: Visu veidu tehniskā apkalpošana jādokumentē un jānoslēdz ar abpusēji parakstītu pieņemšanas/nodošanas vai servisa aktu.
A28: 20 | B28: Ierīces defektācija tiek veikta trīs darba dienu laikā no pieprasījuma saņemšanas, iesniedzot rakstisku atzinumu par ierīces tehnisko stāvokli. Darbības traucējumi tiek novērsti 5 darba dienu laikā no pieprasījuma saņemšanas vai defektācijas akta apstiprināšanas brīža. Par ilgāku bojājuma novēršanas izpildes laiku jāvienojas atsevišķi.
A29: 21 | B29: Ja iekārtas darbības atjaunošanai nepieciešama rezerves daļu nomaiņa, tad tiek sastādīts defektācijas akts un rezerves daļu nomaiņa tiek veikta tikai pēc defekta akta saskaņošanas ar Pasūtītāju.
A30: 22 | B30: Garantēt veikto darbu atbilstību ierīces ražotāja noteiktajiem standartiem un Latvijas Republikā spēkā esošajiem normatīvajiem aktiem, paredzot ne mazāk kā trīs mēnešu garantiju nomainītajām rezerves daļām, materiāliem un ar to nomaiņu saistītiem remontdarbiem.
A31: 23 | B31: Garantēt, ka tehnisko apkalpošanu veic ražotājs vai ražotāja atbilstoši apmācīts un sertificēts speciālists, ja ražotājs tā paredzējis.
A32: 24 | B32: Informēt Pasūtītāju gadījumos, ja ražotājs plāno pārtraukt tehnisko pavadību un tiklīdz ražotājs ir pārtraucis iekārtas tehnisko pavadību.
A33: 25 | B33: Servisa stundas likme ietver visas izmaksas (administratīvās, transporta, inženiera stundas likmi, servisam nepieciešamo instrumentu un materiālu (salvetes, skrūvju līme u.tml.) u.c.), izņemot rezerves daļu izmaksas, kas nepieciešamas, lai nodrošinātu vienu ierīces remonta/tehniskās apkalpošanas stundu. Laika uzskaites vienības - pusstunda vai stunda.
A34: 26 | B34: Periodiski veicamo darbu cenā ir ietvertas visas elektrodrošības un funkcionālās pārbaudes izmaksas, ja ražotājs tādas pārbaudes ir paredzējis.
A35: 27 | B35: Periodisko veicamo darbu veikšanai nepieciešamo piederumu (vienreizlietojamās sistēmas, kontūri u.tml.) izmaksas jāiekļauj pakalpojuma cenā.
A36: 28 | B36: Jānorāda paredzamais periodiski veicamo darbu ilgums, kas ir nepieciešams, lai varētu plānot ierīces pieejamību. Apmaksa par darba ilgumu tiks veikta pēc pieņemšanas/nodošanas vai servisa aktā minētā laika
... A38: 30 | B38: Ja iekārtai periodiski veicamo darbu saturs mainās, tad iekārtu tehniskās apkalpošanas piedāvājumā katru periodiski veicamā darba veidu norādīt atsevišķi, veidojot papildus rindas pēc nepieciešamības
A39: Papildus informācija par iepirkumu un piedāvājuma aizpildīšanas prasībām:
A40: 31 | B40: Pretendents tehniskajā piedāvājumā norāda Preces ražotāju, modeli un atbilstošos parametrus.
A41: 32 | B41: Parametru atbilstību pamatot ar norādi uz tehniskajām datu lapām vai informatīviem materiāliem, norādot atsauci tehniskajā piedāvājumā uz konkrēto lapaspusi un punktu. Informatīvajā materiālā norādīt tehniskās specifikācijas punktu, uz kuru attiecināms.
A42: 33 | B42: Iepirkums sadalīts 22 pozīcijās, līgums tiks slēgts par katru pozīciju atsevišķi, parakstot vispārīgo vienošanos.
...

Sheet 1
A1: 1. pozīcija - Pacientu monitors | D1: Pretendenta piedāvājums, atsauce uz informatīvo materiālu (Informatīvā materiāla nosaukums, lpp.)
A2: Nr. | B2: Preces nosaukums, veicamās funkcijas, tehniskās prasības un komplektācija | C2: Skaits, gab.***
A3: Piemērs | B3: Piemērs | C3: Piemērs | D3: Informatīvais materiāls 2, 4.lpp
A4: 1. | B4: Nosaukums: Pacientu monitors | C4: 2 | D4: (Norādīt piedāvātās iekārtas ražotāju un modeli)
A5: 1.1. | B5: Veicamās funkcijas:
A6: 1.1.1. | B6: Pacientu vitālo funkciju monitorēšana (EKG, SpO2, neinvazīvais asinsspiediens, temperatūra) monitorēšana
A7: 1.2. | B7: Tehniskās prasības:
A8: 1.2.1. | B8: Displeja izmērs ne mazāk kā 10” pa diagonāli
A9: 1.2.2. | B9: Ir iespēja vienlaicīgi novērot vismaz 6 kanālus
A10: 1.2.3. | B10: Trauksmes režīmi visiem parametriem ar vizualizāciju uz ekrāna un skaņas indikāciju
A11: 1.2.4. | B11: Pacientu režīmi: jaundzimušais, pediatriskais, pieaugušais
A12: 1.2.5. | B12: Darbināms no akumulatora un no tīkla
A13: 1.2.6. | B13: Ir iespēja eksportēt datus no pacienta monitora uz slimnīcā esošo centrālo darba staciju Edan MFM- CMS
A14: 1.2.7. | B14: Iekārta aprīkota ar ratiņiem
A15: 1.2.8. | B15: Iekārtas ratiņi ar aprīkoti ar groziņu piederumu glabāšanai
A16: 1.2.9. | B16: Riteņu protektors: termoplastiska gumija vai analogs
... A36: 1.3 | B36: Komplektācija (iekļauta iekārtas cenā, tiek piegādāta kopā ar katru iekārtu):
A37: 1.3.1 | B37: Monitors | C37: 1
A38: 1.3.2 | B38: Barošanas bloks | C38: 1
A39: 1.3.3 | B39: Statīvs uz riteņiem ar piederumu groziņu | C39: 1
A40: 1.3.4 | B40: Sensors SpO2:
A41: 1.3.4.1 | B41: Jaundzimušo, daudzreizlietojams (1gab) vai vienreizlietojams (20 gab) | C41: 1
A42: 1.3.4.2 | B42: Pediatriskais, daudzreizlietojamais, pirksta | C42: 1
A43: 1.3.4.3 | B43: Pieaugušo, daudzreizlietojamais, pirksta | C43: 1
A44: 1.3.4.4 | B44: Kabelis savienojošais SpO2, daudzreizlietojams, garums vismaz 2m, ja nepieciešams | C44: 1
A45: 1.3.5 | B45: Manšetes, daudzreizlietojamās:
A46: 1.3.5.1 | B46: Jaundzimušo, 10-15 cm +/- 4 cm | C46: 1
A47: 1.3.5.2 | B47: Pediatriskā, 14 - 20 cm +/- 4 cm | C47: 1
A48: 1.3.5.3 | B48: Pieaugušo S, 18 - 26 cm +/- 4 cm | C48: 1
A49: 1.3.5.4 | B49: Pieaugušo, 22 - 36 cm +/- 4 cm | C49: 1
A50: 1.3.5.5 | B50: Kabelis savienojošais neinvazīvā asinsspiediena | C50: 1
A51: 1.3.6 | B51: EKG mērīšana:
A52: 1.3.6.1 | B52: Daudzreizlietojamais EKG kabelis 3 novadījumu (jaundzimušo) | C52: 1
A53: 1.3.6.2 | B53: Daudzreizlietojamais EKG kabelis 3 novadījumu (pediatriskais/pieaugušo) | C53: 1
A54: 1.3.6.3 | B54: Savienojošais kabelis EKG mērījumu nodrošināšanai | C54: 1
A55: 1.4. | B55: Piederumi, saderīgi ar piedāvāto iekārtu (tiek norādīta cena par katru piederumu atsevišķi, tiks pasūtīti pēc nepieciešamības, papildus norādīto piederumu cena netiek iekļauta vērtējamajā cenā):
A56: 1.4.1. | B56: Sensors SpO2:
A57: 1.4.1.1. | B57: Jaundzimušo, daudzreizlietojams (1gab) vai vienreizlietojams (20 gab) | C57: 1
A58: 1.4.1.2. | B58: Pediatriskais, daudzreizlietojamais, pirksta | C58: 1
A59: 1.4.1.3. | B59: Pieaugušo, daudzreizlietojamais, pirksta | C59: 1
...

Sheet 2
A1: 2. pozīcija - Inhalators | D1: Pretendenta piedāvājums, atsauce uz informatīvo materiālu (Informatīvā materiāla nosaukums, lpp.)
A2: Nr. | B2: Preces nosaukums, veicamās funkcijas, tehniskās prasības un komplektācija | C2: Skaits, gab.***
A3: Piemērs | B3: Piemērs | C3: Piemērs | D3: Informatīvais materiāls 2, 4.lpp
A4: 2. | B4: Nosaukums: Inhalators (Norādīt piedāvātās iekārtas ražotāju un modeli) | C4: 10 | D4: (Norādīt piedāvātās iekārtas ražotāju un modeli)
A5: 2.1. | B5: Veicamās funkcijas:
A6: 2.1.1. | B6: Zāļu ievadīšana caur elpceļiem intensīvas noslodzes apstākļos
A7: 2.2. | B7: Tehniskās prasības:
A8: 2.2.1. | B8: Darbības princips: Kompresora
A9: 2.2.2. | B9: Kompresora daļas svars nepārsniedz 2 kg
A10: 2.2.3. | B10: Barošanas avots (maiņstrāvas): 220-240 V, 50/60 Hz
A11: 2.2.4. | B11: Kompresora plūsma vismaz 5 l/min
A12: 2.2.5. | B12: Ir iespējams nodrošināt dažādus ieelpojamo daļiņu izmērus
A13: 2.2.6. | B13: Maksimālā miglotāja ietilpība ne lielāka kā 10 ml
A14: 2.2.7. | B14: Daļiņas ar izmēru < 5 µm attiecība pret visām ieelpojamām daļiņām ir diapazonā 60 - 80% pie dažādiem piederumu komplektiem
A15: 2.2.8. | B15: Skaņa miglojot ne vairāk kā 60 dBA (1 m attālumā)
A16: 2.2.9. | B16: Izmantojams antibiotiķu, bronhodilatatoru, steroīdu un pulmozyme miglošanai
... A20: 2.3. | B20: Komplektācija (iekļauta iekārtas cenā, tiek piegādāta kopā ar katru iekārtu):
A21: 2.3.1. | B21: Piederumu komplekts, kas nodrošina ieelpojamo daļiņu vidējo aerodinamisko diametru (MMAD) ne lielāku par 4 µm | C21: 1
A22: 4.4. | B22: Piederumi, saderīgi ar piedāvāto iekārtu (tiek norādīta cena par katru piederumu atsevišķi, tiks pasūtīti pēc nepieciešamības, papildu norādīto piederumu cena netiek iekļauta vērtējamajā cenā):
A23: 4.4.1. | B23: Piederumu komplekts, kas nodrošina ieelpojamo daļiņu vidējo aerodinamisko diametru (MMAD) ne lielāku par 4 µm | C23: 1
A24: 4.4.2. | B24: Iekārtas transporta soma | C24: 1
A25: 4.4.3. | B25: Citi piederumi, kas nepieciešamas piedāvātajai iekārtai, lai nodrošinātu tehniskajā aprakstā norādīto funkcionalitāti un/vai pieejamie papildinājumi. (rindiņas atļauts papildināt zemāk pēc nepieciešamības, vienā rindiņā ierakstīt ne vairāk kā vienu piederumu)
A28: Saimnieciski visizdevīgākā piedāvājuma vērtēšanai norādāmā papildus informācija | D28: Saimnieciski visizdevīgākā piedāvājuma vērtēšanai norādāmā papildus informācija Pretendenta piedāvājums, atsauce uz informatīvo materiālu vai ražotāja apliecinājumu
A29: B | B29: Jānorāda Preces ražotāja noteiktais preces maksimālais lietošanas ilgums (paredzamais lietošanas ilgums) (gados)
A30: C | B30: Jānorāda Preces ražotāja noteiktais elektroenerģijas patēriņš (voltampēros (VA) vai vatos (W))
A33: Daļa | B33: VĒRTĒŠANAS KRITĒRIJI | C33: ĪPATSVARS
A34: A | B34: Vērtējamā summa | C34: 80
A35: B | B35: Preces maksimālais lietošanas ilgums | C35: 10
A36: C | B36: Elektroenerģijas patēriņš darba režīmā. Ja netiek norādīta informācija, vai tā ir nepilnīga aplama, tad tiek piešķirti 0 punkti | C36: 10
A37: ∑ | B37: Maksimālais īpatsvars (kopējais punktu skaits) ∑=A+B+C | C37: 100
A38: Komisija katrā daļā piešķir īpatsvaru (punktu skaitu), šādā kārtībā: 1) A (Vērtējamā summa) un C (Elektroenerģijas patēriņš) daļai - viszemākajai vērtība tiek piešķirts maksimālais punktu skaits. Ja piedāvājumā nav norādīta informācija par elektroenerģijas patēriņu tiek piešķirti 0 punkti. Ja tiek norādīts elektroenerģijas patēriņa diapazons, punktu piešķiršanai tiek izmantota augstākā vērtība. 2) Nākamās vērtības A (Vērtējamā summa) un C (Elektroenerģijas patēriņš) daļai tiek aprēķinātas proporcionāli A vai C = (A vai C zemākā iesniegtā vērtība no visiem pretendentiem )/(faktiskā iesniegtā vērtība konkrētajam pretendentam) x Piešķiramais punktu skaits. 3) B (Preces ražotāja noteiktais preces maksimālais lietošanas ilgums) daļai - vislielākajai vērtības tiek piešķirts maksimālais punktu skaits. Ja piedāvājumā nav norādīta informācija par preces lietošanas ilgumu tiek pieņemts, ka lietošanas ilgums ir noteiktais garantijas laiks. Ja tiek norādīts paredzamā lietošanas ilguma diapazons, punktu piešķiršanai tiek izmantota zemākā vērtība. 4) Nākamās vērtības B (Preces ražotāja noteiktais preces maksimālais lietošanas ilgums) daļai tiek aprēķinātas proporcionāli B = (faktiskā iesniegtā vērtība konkrētajam pretendentam)/(B augstākā iesniegtā vērtība no visiem pretendentiem ) x Piešķiramais punktu skaits.

Sheet 3
A1: 3. pozīcija - Infūziju sūknis | D1: Pretendenta piedāvājums, atsauce uz informatīvo materiālu (Informatīvā materiāla nosaukums, lpp.)
A2: Nr. | B2: Preces nosaukums, veicamās funkcijas, tehniskās prasības un komplektācija | C2: Skaits, gab.***
A3: Piemērs | B3: Piemērs | C3: Piemērs | D3: Informatīvais materiāls 2, 4.lpp
A4: 3. | B4: Nosaukums: Infūzijas sūknis | C4: 20 | D4: (Norādīt piedāvātās iekārtas ražotāju un modeli)
A5: 3.1. | B5: Veicamās funkcijas:
A6: 3.1.1. | B6: Precīza medikamentu dozēta vienlaicīga ievade un uzraudzība noteiktā laika posmā
A7: 3.2. | B7: Tehniskās prasības:
A8: 3.2.1. | B8: Ātruma titrēšana infūzijas laikā
A9: 3.2.2. | B9: Bolus funkcija
A10: 3.2.3. | B10: Infūzijas ātrums intervālā 1 - 99,9 ml/h iestatāms ar soli ne lielāku kā 0,01 ml/h; intervālā 100,0 - 999 ml/h iestatāms ar soli ne lielāku kā 0,1 ml/h
A11: 3.2.4. | B11: Maināms oklūzijas spiediena līmenis ar spiediena trauksmes līmeņa uzstādīšanas iespēju līdz vismaz 1 bar
A12: 3.2.5. | B12: Plūsmas ātruma uzstādīšana vismaz no 1 - 999 ml/h
A13: 3.2.6. | B13: Darbība no individuālās modulārās stacijas vai no 220-240 V, 50 Hz strāvas avota un automātiski uzlādējamas baterijas
A14: 3.2.7. | B14: Ir iespējams aprīkot ar pilienu sensoru
A15: 3.2.8. | B15: KVO ātrums vismaz no 0,1 - 3 ml/h
A16: 3.2.9. | B16: Ievades precizitāte vismaz ± 2%
... A30: 3.5. | B30: Papildus komplektācija (tiek norādīta cena par katru piederumu atsevišķi, tiks pasūtīti pēc nepieciešamības, norādīto piederumu cena tiek iekļauta vērtējamajā cenā):
A31: 3.5.1. | B31: Ārējais barošanas bloks (ja attiecināms) | C31: 1
A32: 3.5.2. | B32: Stiprinājums pie infūzijas statīva (gadījumā, ja iekārta nav aprīkota ar iebūvētu risinājumu) | C32: 1
A33: 3.5.3. | B33: Modulārās stacijas ar vismaz 4 uzlādes vietām, saderīgas ar piedāvātajiem sūkņiem | C33: 1
A34: 3.5.4. | B34: Pilienu sensors | C34: 1
A35: 3.6. | B35: Piederumi, saderīgi ar piedāvāto iekārtu (tiek norādīta cena par katru piederumu atsevišķi, tiks pasūtīti pēc nepieciešamības, papildus norādīto piederumu cena netiek iekļauta vērtējamajā cenā):
A36: 3.6.1. | B36: Citi piederumi, kas nepieciešamas piedāvātajai iekārtai, lai nodrošinātu tehniskajā aprakstā norādīto funkcionalitāti un/vai pieejamie papildinājumi. (rindiņas atļauts papildināt zemāk pēc nepieciešamības, vienā rindiņā ierakstīt ne vairāk kā vienu piederumu) | C36: 1
A39: Saimnieciski visizdevīgākā piedāvājuma vērtēšanai norādāmā papildus informācija | D39: Saimnieciski visizdevīgākā piedāvājuma vērtēšanai norādāmā papildus informācija Pretendenta piedāvājums, atsauce uz informatīvo materiālu vai ražotāja apliecinājumu
A40: B | B40: Jānorāda Preces ražotāja noteiktais preces maksimālais lietošanas ilgums (paredzamais lietošanas ilgums) (gados)
A41: C | B41: Jānorāda Preces ražotāja noteiktais elektroenerģijas patēriņš (voltampēros (VA) vai vatos (W))
A44: Daļa | B44: VĒRTĒŠANAS KRITĒRIJI | C44: ĪPATSVARS
A45: A | B45: Vērtējamā summa | C45: 80
A46: B | B46: Preces maksimālais lietošanas ilgums | C46: 10
A47: C | B47: Elektroenerģijas patēriņš darba režīmā. Ja netiek norādīta informācija, vai tā ir nepilnīga aplama, tad tiek piešķirti 0 punkti | C47: 10
A48: ∑ | B48: Maksimālais īpatsvars (kopējais punktu skaits) ∑=A+B+C | C48: 100
A49: Komisija katrā daļā piešķir īpatsvaru (punktu skaitu), šādā kārtībā: 1) A (Vērtējamā summa) un C (Elektroenerģijas patēriņš) daļai - viszemākajai vērtība tiek piešķirts maksimālais punktu skaits. Ja piedāvājumā nav norādīta informācija par elektroenerģijas patēriņu tiek piešķirti 0 punkti. Ja tiek norādīts elektroenerģijas patēriņa diapazons, punktu piešķiršanai tiek izmantota augstākā vērtība. 2) Nākamās vērtības A (Vērtējamā summa) un C (Elektroenerģijas patēriņš) daļai tiek aprēķinātas proporcionāli A vai C = (A vai C zemākā iesniegtā vērtība no visiem pretendentiem )/(faktiskā iesniegtā vērtība konkrētajam pretendentam) x Piešķiramais punktu skaits. 3) B (Preces ražotāja noteiktais preces maksimālais lietošanas ilgums) daļai - vislielākajai vērtības tiek piešķirts maksimālais punktu skaits. Ja piedāvājumā nav norādīta informācija par preces lietošanas ilgumu tiek pieņemts, ka lietošanas ilgums ir noteiktais garantijas laiks. Ja tiek norādīts paredzamā lietošanas ilguma diapazons, punktu piešķiršanai tiek izmantota zemākā vērtība. 4) Nākamās vērtības B (Preces ražotāja noteiktais preces maksimālais lietošanas ilgums) daļai tiek aprēķinātas proporcionāli B = (faktiskā iesniegtā vērtība konkrētajam pretendentam)/(B augstākā iesniegtā vērtība no visiem pretendentiem ) x Piešķiramais punktu skaits.

Sheet 4
A1: 4. pozīcija - Portatīvais vakuumsūknis | D1: Pretendenta piedāvājums, atsauce uz informatīvo materiālu (Informatīvā materiāla nosaukums, lpp.)
A2: Nr. | B2: Preces nosaukums, veicamās funkcijas, tehniskās prasības un komplektācija | C2: Skaits, gab.***
A3: Piemērs | B3: Piemērs | C3: Piemērs | D3: Informatīvais materiāls 2, 4.lpp
A4: 4. | B4: Nosaukums: Portatīvais vakuumsūknis | C4: 10 | D4: (Norādīt piedāvātās iekārtas ražotāju un modeli)
A5: 4.1. | B5: Veicamās funkcijas:
A6: 4.1.1. | B6: Šķidrumu atsūkšana - elpceļu sanācija
A7: 4.2. | B7: Tehniskās prasības:
A8: 4.2.1. | B8: Aprīkots ar rokturi ērtai pārvietošanai
A9: 4.2.2. | B9: Pielietojams visu vecumu pacientiem
A10: 4.2.3. | B10: Maksimālais skaņas līmenis < 65 dBA pie maksimālā uzstādītā vakuuma līmeņa
A11: 4.2.4. | B11: Aprīkots ar vakuuma līmeņa regulētāju
A12: 4.2.5. | B12: Precīzi un viegli regulējams vakuuma līmenis, maksimālais vakuuma līmenis ne mazāks kā -80 kPa (-0.8 bar/-600 mmHg)
A13: 4.2.6. | B13: Maksimālā atsūkšanas plūsma vismaz 30 l/min
A14: 4.2.7. | B14: Labi pārredzams spiediena manometrs ar kPa, bar vai mmHg iedaļām
A15: 4.2.8. | B15: Spiediena manometra precizitāte ± 5 % visā spiediena diapazonā
A16: 4.2.9. | B16: Ar maināmiem mitruma/bakteriālajiem filtriem pirms atsūkšanas caurulītes ieejas vakuumsūknī
... A22: 4.3. | B22: Komplektācija (iekļauta iekārtas cenā, tiek piegādāta kopā ar katru iekārtu):
A23: 4.3.1. | B23: Visas vakuumsūkņa pirmreizējai darbībai nepieciešamās savienojošās caurules, adapteri un filtri | C23: 1
A24: 4.3.2. | B24: Daudzreizlietojams autoklāvējams savācējtrauks ar tilpumu vismaz 1 L un ne lielāku kā 2 L, savācējtrauks aprīkots ar pārplūdes aizsardzības vārstu | C24: 1
A25: 4.3.3. | B25: Rezerves daudzreizlietojams autoklāvējams savācējtrauks ar tilpumu vismaz 1 L un ne lielāku kā 2 L, savācējtrauks aprīkots ar pārplūdes aizsardzības vārstu | C25: 1
A26: 4.3.4. | B26: Barošanas kabelis | C26: 1
A27: 4.4. | B27: Piederumi, saderīgi ar piedāvāto iekārtu (tiek norādīta cena par katru piederumu atsevišķi, tiks pasūtīti pēc nepieciešamības, papildus norādīto piederumu cena netiek iekļauta vērtējamajā cenā):
A28: 4.4.1. | B28: Savācējtrauka komplekts - Daudzreizlietojams, autoklāvējams, ar tilpumu vismaz 1 L un ne lielāku kā 2 L, aprīkots ar pārplūdes aizsardzības vārstu | C28: 3 komplekti
A29: 4.4.2. | B29: Savācējtrauks - Daudzreizlietojams, autoklāvējams, ar tilpumu vismaz 1 L un ne lielāku kā 2 L, aprīkots ar pārplūdes aizsardzības vārstu | C29: 3
A30: 4.4.3. | B30: Savācējtrauka vāks (saderīgi ar piedāvātajiem traukiem) | C30: 3
A31: 4.4.4. | B31: Citi piederumi, kas nepieciešamas piedāvātajai iekārtai, lai nodrošinātu tehniskajā aprakstā norādīto funkcionalitāti un/vai pieejamie papildinājumi. (rindiņas atļauts papildināt zemāk pēc nepieciešamības, vienā rindiņā ierakstīt ne vairāk kā vienu piederumu) | C31: 1
A33: Saimnieciski visizdevīgākā piedāvājuma vērtēšanai norādāmā papildus informācija | D33: Saimnieciski visizdevīgākā piedāvājuma vērtēšanai norādāmā papildus informācija Pretendenta piedāvājums, atsauce uz informatīvo materiālu vai ražotāja apliecinājumu
A34: B | B34: Jānorāda Preces ražotāja noteiktais preces maksimālais lietošanas ilgums (paredzamais lietošanas ilgums) (gados)
A35: C | B35: Jānorāda Preces ražotāja noteiktais elektroenerģijas patēriņš (voltampēros (VA) vai vatos (W))
A38: Daļa | B38: VĒRTĒŠANAS KRITĒRIJI | C38: ĪPATSVARS
A39: A | B39: Vērtējamā summa | C39: 80
A40: B | B40: Preces maksimālais lietošanas ilgums | C40: 10
A41: C | B41: Elektroenerģijas patēriņš darba režīmā. Ja netiek norādīta informācija, vai tā ir nepilnīga aplama, tad tiek piešķirti 0 punkti | C41: 10
A42: ∑ | B42: Maksimālais īpatsvars (kopējais punktu skaits) ∑=A+B+C | C42: 100
A43: Komisija katrā daļā piešķir īpatsvaru (punktu skaitu), šādā kārtībā: 1) A (Vērtējamā summa) un C (Elektroenerģijas patēriņš) daļai - viszemākajai vērtība tiek piešķirts maksimālais punktu skaits. Ja piedāvājumā nav norādīta informācija par elektroenerģijas patēriņu tiek piešķirti 0 punkti. Ja tiek norādīts elektroenerģijas patēriņa diapazons, punktu piešķiršanai tiek izmantota augstākā vērtība. 2) Nākamās vērtības A (Vērtējamā summa) un C (Elektroenerģijas patēriņš) daļai tiek aprēķinātas proporcionāli A vai C = (A vai C zemākā iesniegtā vērtība no visiem pretendentiem )/(faktiskā iesniegtā vērtība konkrētajam pretendentam) x Piešķiramais punktu skaits. 3) B (Preces ražotāja noteiktais preces maksimālais lietošanas ilgums) daļai - vislielākajai vērtības tiek piešķirts maksimālais punktu skaits. Ja piedāvājumā nav norādīta informācija par preces lietošanas ilgumu tiek pieņemts, ka lietošanas ilgums ir noteiktais garantijas laiks. Ja tiek norādīts paredzamā lietošanas ilguma diapazons, punktu piešķiršanai tiek izmantota zemākā vērtība. 4) Nākamās vērtības B (Preces ražotāja noteiktais preces maksimālais lietošanas ilgums) daļai tiek aprēķinātas proporcionāli B = (faktiskā iesniegtā vērtība konkrētajam pretendentam)/(B augstākā iesniegtā vērtība no visiem pretendentiem ) x Piešķiramais punktu skaits.

Sheet 5
A1: 5. pozīcija - Sūknis enterālās barošanas | D1: Pretendenta piedāvājums, atsauce uz informatīvo materiālu (Informatīvā materiāla nosaukums, lpp.)
A2: Nr. | B2: Preces nosaukums, veicamās funkcijas, tehniskās prasības un komplektācija | C2: Skaits, gab.****
A3: Piemērs | B3: Piemērs | C3: Piemērs | D3: Informatīvais materiāls 2, 4.lpp
A4: 5. | B4: Nosaukums: Sūknis enterālās barošanas (Norādīt piedāvātās iekārtas ražotāju un modeli) | C4: 10
A5: 5.1. | B5: Veicamās funkcijas:
A6: 5.1.1. | B6: Precīza un dozēta enterālā maisījuma ievade un uzraudzība noteiktā laika posmā no maisa ar enterālo maisījumu
A7: 5.2. | B7: Tehniskās prasības:
A8: 5.2.1. | B8: Ātruma titrēšanas iespēja enterālā maisījuma ievades laikā
A9: 5.2.2. | B9: Infūzijas parametri:
A10: 5.2.2.1. | B10: Ievadīšanas plūsmas ātruma diapazons (RATE) no vismaz 1 ml/h līdz vismaz 400 ml/h
A11: 5.2.2.2. | B11: Ievadāmā šķidruma daudzuma diapazons (VTBI) vismaz no 1 ml līdz vismaz 4000 ml
A12: 5.2.2.3. | B12: Ievadītā daudzuma reģistrēšanas diapazons (VI) no 0 ml līdz vismaz 4000 ml
A13: 5.2.2.4. | B13: Ievadīšanas plūsmas ātruma un tilpuma precizitāte ± 5 %
A14: 5.2.2.5. | B14: Sistēmā esošo gaisa burbuļu detektēšana - gaisa burbuļu izmērs ne mazāks kā 500 µl
A15: 5.2.2.6. | B15: Oklūzijas spiediena detektēšana ieplūdē - vismaz -250 mmHg
A16: 5.2.2.7. | B16: Oklūzijas spiediena detektēšana izplūdē - vismaz 620 mmHg
... A35: 5.2.7. | B35: Komplektācija (iekļauta iekārtas cenā, tiek piegādāta kopā ar katru iekārtu):
A36: 5.2.7.1. | B36: Barošanas sūknis | C36: 1
A37: 5.2.7.2. | B37: Barošanas kabelis | C37: 1
A38: 5.2.7.3. | B38: Stiprinājums iekārtas stiprināšanai pie statīva | C38: 1
A39: 5.2.8. | B39: Piederumi, saderīgi ar piedāvāto iekārtu (tiek norādīta cena par katru piederumu atsevišķi, tiks pasūtīti pēc nepieciešamības, papildus norādīto piederumu cena netiek iekļauta vērtējamajā cenā):
A40: 5.2.8.1. | B40: Stiprinājums iekārtas stiprināšanai pie statīva
A41: 5.2.8.2. | B41: Citi piederumi, kas nepieciešamas piedāvātajai iekārtai, lai nodrošinātu tehniskajā aprakstā norādīto funkcionalitāti un/vai pieejamie papildinājumi. (rindiņas atļauts papildināt zemāk pēc nepieciešamības, vienā rindiņā ierakstīt ne vairāk kā vienu piederumu)
A44: Saimnieciski visizdevīgākā piedāvājuma vērtēšanai norādāmā papildus informācija | D44: Saimnieciski visizdevīgākā piedāvājuma vērtēšanai norādāmā papildus informācija Pretendenta piedāvājums, atsauce uz informatīvo materiālu vai ražotāja apliecinājumu
A45: B | B45: Jānorāda Preces ražotāja noteiktais preces maksimālais lietošanas ilgums (paredzamais lietošanas ilgums) (gados)
A46: C | B46: Jānorāda Preces ražotāja noteiktais elektroenerģijas patēriņš (voltampēros (VA) vai vatos (W))
A49: Daļa | B49: VĒRTĒŠANAS KRITĒRIJI | C49: ĪPATSVARS
A50: A | B50: Vērtējamā summa | C50: 80
A51: B | B51: Preces maksimālais lietošanas ilgums | C51: 10
A52: C | B52: Elektroenerģijas patēriņš darba režīmā. Ja netiek norādīta informācija, vai tā ir nepilnīga aplama, tad tiek piešķirti 0 punkti | C52: 10
A53: ∑ | B53: Maksimālais īpatsvars (kopējais punktu skaits) ∑=A+B+C | C53: 100
A54: Komisija katrā daļā piešķir īpatsvaru (punktu skaitu), šādā kārtībā: 1) A (Vērtējamā summa) un C (Elektroenerģijas patēriņš) daļai - viszemākajai vērtība tiek piešķirts maksimālais punktu skaits. Ja piedāvājumā nav norādīta informācija par elektroenerģijas patēriņu tiek piešķirti 0 punkti. Ja tiek norādīts elektroenerģijas patēriņa diapazons, punktu piešķiršanai tiek izmantota augstākā vērtība. 2) Nākamās vērtības A (Vērtējamā summa) un C (Elektroenerģijas patēriņš) daļai tiek aprēķinātas proporcionāli A vai C = (A vai C zemākā iesniegtā vērtība no visiem pretendentiem )/(faktiskā iesniegtā vērtība konkrētajam pretendentam) x Piešķiramais punktu skaits. 3) B (Preces ražotāja noteiktais preces maksimālais lietošanas ilgums) daļai - vislielākajai vērtības tiek piešķirts maksimālais punktu skaits. Ja piedāvājumā nav norādīta informācija par preces lietošanas ilgumu tiek pieņemts, ka lietošanas ilgums ir noteiktais garantijas laiks. Ja tiek norādīts paredzamā lietošanas ilguma diapazons, punktu piešķiršanai tiek izmantota zemākā vērtība. 4) Nākamās vērtības B (Preces ražotāja noteiktais preces maksimālais lietošanas ilgums) daļai tiek aprēķinātas proporcionāli B = (faktiskā iesniegtā vērtība konkrētajam pretendentam)/(B augstākā iesniegtā vērtība no visiem pretendentiem ) x Piešķiramais punktu skaits.

Sheet 6
A1: 6. pozīcija - Pulsa oksimetrs I | D1: Pretendenta piedāvājums, atsauce uz informatīvo materiālu (Informatīvā materiāla nosaukums, lpp.)
A2: Nr. | B2: Preces nosaukums, veicamās funkcijas, tehniskās prasības un komplektācija | C2: Skaits, gab.***
A3: Piemērs | B3: Piemērs | C3: Piemērs | D3: Informatīvais materiāls 2, 4.lpp
A4: 6. | B4: Nosaukums: Pulsa oksimetrs | C4: 15
A5: 6.1. | B5: Veicamās funkcijas:
A6: 6.1.1. | B6: Nepārtrauktu SpO2 mērījumu veikšana
A7: 6.1.2. | B7: Pulsa noteikšana
A8: 6.2. | B8: Tehniskās prasības:
A9: 6.2.1. | B9: SpO2 Mērījumu diapazons: vismaz 70% līdz 100%
A10: 6.2.2. | B10: SpO2 Mērījumu precizitāte: pie saturācijas 70 – 100% vismaz ± 3 %
A11: 6.2.3. | B11: Pulsa mērījumu diapazons: robežās vismaz 30 – 240 sitieni/min
A12: 6.2.4. | B12: Pulsa mērījumu precizitāte: vismaz ± 5 sitieni/min, ja pacients kustas
A13: 6.2.5. | B13: Iebūvēta atmiņa ar mērījumu pierakstu vismaz 8 h
A14: 6.2.6. | B14: Barošanas avots: 220-240V, 50Hz strāvas avots un atkārtoti uzlādējams akumulators
A15: 6.2.7. | B15: Akumulatora darbības laiks ne mazāk kā 7 h
A16: 6.2.8. | B16: Iekārtas lielākais ārējais izmērs ne lielāks kā 250 mm
... A23: 6.3. | B23: Komplektācija (iekļauta iekārtas cenā, tiek piegādāta kopā ar katru iekārtu):
A24: 6.3.1. | B24: Kabelis savienojošais SpO2, daudzreizlietojams, garums vismaz 2,5m, ja nepieciešams | C24: 1
A25: 6.3.2. | B25: Barošanas bloks | C25: 1
A26: 6.3.3. | B26: Jaundzimušo sensors, daudzreizlietojams | C26: 1
A27: 6.3.4. | B27: Bērnu sensors, daudzreizlietojams | C27: 1
A28: 6.3.5. | B28: Pieaugušo sensors, daudzreizlietojams | C28: 1
A29: 6.4. | B29: Piederumi, saderīgi ar piedāvāto iekārtu (tiek norādīta cena par katru piederumu atsevišķi, tiks pasūtīti pēc nepieciešamības, papildus norādīto piederumu cena netiek iekļauta vērtējamajā cenā):
A30: 6.4.1. | B30: Kabelis savienojošais SpO2, daudzreizlietojams, garums vismaz 2,5m, ja nepieciešams | C30: 1
A31: 6.4.2. | B31: Barošanas bloks | C31: 1
A32: 6.4.3. | B32: Jaundzimušo sensors, daudzreizlietojams | C32: 1
A33: 6.4.4. | B33: Jaundzimušo sensors, vienreizreizlietojams | C33: 20
A34: 6.4.5. | B34: Bērnu sensors, daudzreizlietojams | C34: 1
A35: 6.4.6. | B35: Pieaugušo sensors, daudzreizlietojams | C35: 1
A36: 6.4.7. | B36: Citi piederumi, kas nepieciešamas piedāvātajai iekārtai, lai nodrošinātu tehniskajā aprakstā norādīto funkcionalitāti un/vai pieejamie papildinājumi. (rindiņas atļauts papildināt zemāk pēc nepieciešamības, vienā rindiņā ierakstīt ne vairāk kā vienu piederumu) | C36: 1
A39: Saimnieciski visizdevīgākā piedāvājuma vērtēšanai norādāmā papildus informācija | D39: Saimnieciski visizdevīgākā piedāvājuma vērtēšanai norādāmā papildus informācija Pretendenta piedāvājums, atsauce uz informatīvo materiālu vai ražotāja apliecinājumu
A40: B | B40: Jānorāda Preces ražotāja noteiktais preces maksimālais lietošanas ilgums (paredzamais lietošanas ilgums) (gados)
A41: C | B41: Jānorāda Preces ražotāja noteiktais elektroenerģijas patēriņš (voltampēros (VA) vai vatos (W))
A44: Daļa | B44: VĒRTĒŠANAS KRITĒRIJI | C44: ĪPATSVARS
A45: A | B45: Vērtējamā summa | C45: 80
A46: B | B46: Preces maksimālais lietošanas ilgums | C46: 10
A47: C | B47: Elektroenerģijas patēriņš darba režīmā. Ja netiek norādīta informācija, vai tā ir nepilnīga aplama, tad tiek piešķirti 0 punkti | C47: 10
A48: ∑ | B48: Maksimālais īpatsvars (kopējais punktu skaits) ∑=A+B+C | C48: 100
A49: Komisija katrā daļā piešķir īpatsvaru (punktu skaitu), šādā kārtībā: 1) A (Vērtējamā summa) un C (Elektroenerģijas patēriņš) daļai - viszemākajai vērtība tiek piešķirts maksimālais punktu skaits. Ja piedāvājumā nav norādīta informācija par elektroenerģijas patēriņu tiek piešķirti 0 punkti. Ja tiek norādīts elektroenerģijas patēriņa diapazons, punktu piešķiršanai tiek izmantota augstākā vērtība. 2) Nākamās vērtības A (Vērtējamā summa) un C (Elektroenerģijas patēriņš) daļai tiek aprēķinātas proporcionāli A vai C = (A vai C zemākā iesniegtā vērtība no visiem pretendentiem )/(faktiskā iesniegtā vērtība konkrētajam pretendentam) x Piešķiramais punktu skaits. 3) B (Preces ražotāja noteiktais preces maksimālais lietošanas ilgums) daļai - vislielākajai vērtības tiek piešķirts maksimālais punktu skaits. Ja piedāvājumā nav norādīta informācija par preces lietošanas ilgumu tiek pieņemts, ka lietošanas ilgums ir noteiktais garantijas laiks. Ja tiek norādīts paredzamā lietošanas ilguma diapazons, punktu piešķiršanai tiek izmantota zemākā vērtība. 4) Nākamās vērtības B (Preces ražotāja noteiktais preces maksimālais lietošanas ilgums) daļai tiek aprēķinātas proporcionāli B = (faktiskā iesniegtā vērtība konkrētajam pretendentam)/(B augstākā iesniegtā vērtība no visiem pretendentiem ) x Piešķiramais punktu skaits.

Sheet 7
A1: 7. pozīcija - Pulsa oksimetrs II | D1: Pretendenta piedāvājums, atsauce uz informatīvo materiālu (Informatīvā materiāla nosaukums, lpp.)
A2: Nr. | B2: Preces nosaukums, veicamās funkcijas, tehniskās prasības un komplektācija | C2: Skaits, gab.***
A3: Piemērs | B3: Piemērs | C3: Piemērs | D3: Informatīvais materiāls 2, 4.lpp
A4: 7. | B4: Nosaukums: Pulsa oksimetrs | C4: 15
A5: 7.1. | B5: Veicamās funkcijas:
A6: 7.1.1. | B6: Nepārtrauktu SpO2 mērījumu veikšana
A7: 7.1.2. | B7: Pulsa noteikšana
A8: 7.2. | B8: Tehniskās prasības:
A9: 7.2.1. | B9: Skābekla saturācijas un pulsa mērīšanas funkcija - Masimo SET tehnoloģija
A10: 7.2.2. | B10: Perfūzijas indeksa kalkulāciju un SpO2 mērījumu attēlošanu skaitliskās izteiksmes veidā procentos
A11: 7.2.3. | B11: SpO2 mērīšanas diapazons no 70 līdz 100%
A12: 7.2.4. | B12: Mērījumu kļūda ne lielāka par ± 2% robežās no 70 līdz 100%
A13: 7.2.5. | B13: Pulsa frekvences mērīšana diapazonā ne mazāk kā no 30 līdz 240 reiz./ min
A14: 7.2.6. | B14: Pulsa mērījumu precizitāte: vismaz ± 5 sitieni/min, ja pacients kustas
A15: 7.2.7. | B15: Iebūvēta atmiņa ar mērījumu pierakstu vismaz 8 h
A16: 7.2.8. | B16: Barošanas avots: 220-240V, 50Hz strāvas avots un atkārtoti uzlādējams akumulators
... A26: 7.3.1. | B26: Sensors SpO2:
A27: 7.3.1.1. | B27: Masimo RD SET konektori | C27: 1
A28: 7.3.1.2. | B28: Pediatriskais, daudzreizlietojamais, pirksta | C28: 1
A29: 7.3.1.3. | B29: Pieaugušo, daudzreizlietojamais, pirksta | C29: 1
A30: 7.3.2. | B30: Kabelis savienojošais SpO2, daudzreizlietojams, garums vismaz 2,5m, ja nepieciešams | C30: 1
A31: 7.3.3. | B31: Barošanas bloks vai barošanas kabelis | C31: 1
A32: 7.4. | B32: Piederumi, saderīgi ar piedāvāto iekārtu (tiek norādīta cena par katru piederumu atsevišķi, tiks pasūtīti pēc nepieciešamības, papildus norādīto piederumu cena netiek iekļauta vērtējamajā cenā):
A33: 7.4.1 | B33: Sensors SpO2:
A34: 7.4.1.1 | B34: Jaundzimušo, daudzreizlietojams (Ja attiecināms. Pretendenta jāpiedāvā viens no punktiem (7.4.1.1 vai 7.4.1.2)) | C34: 1
A35: 7.4.1.2 | B35: Jaundzimušo, vienreizlietojams (Ja attiecināms. Pretendenta jāpiedāvā viens no punktiem (7.4.1.1 vai 7.4.1.2)) | C35: 20
A36: 7.4.1.3 | B36: Pediatriskais, daudzreizlietojamais, pirksta | C36: 1
A37: 7.4.1.4 | B37: Pieaugušo, daudzreizlietojamais, pirksta | C37: 1
A38: 7.4.1.5 | B38: Kabelis savienojošais SpO2, daudzreizlietojams, garums vismaz 3m, ja nepieciešams | C38: 1
A39: 7.4.1.6. | B39: Citi piederumi, kas nepieciešamas piedāvātajai iekārtai, lai nodrošinātu tehniskajā aprakstā norādīto funkcionalitāti un/vai pieejamie papildinājumi. (rindiņas atļauts papildināt zemāk pēc nepieciešamības, vienā rindiņā ierakstīt ne vairāk kā vienu piederumu) | C39: 1
A44: Saimnieciski visizdevīgākā piedāvājuma vērtēšanai norādāmā papildus informācija | D44: Saimnieciski visizdevīgākā piedāvājuma vērtēšanai norādāmā papildus informācija Pretendenta piedāvājums, atsauce uz informatīvo materiālu vai ražotāja apliecinājumu
A45: B | B45: Jānorāda Preces ražotāja noteiktais preces maksimālais lietošanas ilgums (paredzamais lietošanas ilgums) (gados)
A46: C | B46: Jānorāda Preces ražotāja noteiktais elektroenerģijas patēriņš (voltampēros (VA) vai vatos (W))
A49: Daļa | B49: VĒRTĒŠANAS KRITĒRIJI | C49: ĪPATSVARS
A50: A | B50: Vērtējamā summa | C50: 80
A51: B | B51: Preces maksimālais lietošanas ilgums | C51: 10
A52: C | B52: Elektroenerģijas patēriņš darba režīmā. Ja netiek norādīta informācija, vai tā ir nepilnīga aplama, tad tiek piešķirti 0 punkti | C52: 10
A53: ∑ | B53: Maksimālais īpatsvars (kopējais punktu skaits) ∑=A+B+C | C53: 100
A54: Komisija katrā daļā piešķir īpatsvaru (punktu skaitu), šādā kārtībā: 1) A (Vērtējamā summa) un C (Elektroenerģijas patēriņš) daļai - viszemākajai vērtība tiek piešķirts maksimālais punktu skaits. Ja piedāvājumā nav norādīta informācija par elektroenerģijas patēriņu tiek piešķirti 0 punkti. Ja tiek norādīts elektroenerģijas patēriņa diapazons, punktu piešķiršanai tiek izmantota augstākā vērtība. 2) Nākamās vērtības A (Vērtējamā summa) un C (Elektroenerģijas patēriņš) daļai tiek aprēķinātas proporcionāli A vai C = (A vai C zemākā iesniegtā vērtība no visiem pretendentiem )/(faktiskā iesniegtā vērtība konkrētajam pretendentam) x Piešķiramais punktu skaits. 3) B (Preces ražotāja noteiktais preces maksimālais lietošanas ilgums) daļai - vislielākajai vērtības tiek piešķirts maksimālais punktu skaits. Ja piedāvājumā nav norādīta informācija par preces lietošanas ilgumu tiek pieņemts, ka lietošanas ilgums ir noteiktais garantijas laiks. Ja tiek norādīts paredzamā lietošanas ilguma diapazons, punktu piešķiršanai tiek izmantota zemākā vērtība. 4) Nākamās vērtības B (Preces ražotāja noteiktais preces maksimālais lietošanas ilgums) daļai tiek aprēķinātas proporcionāli B = (faktiskā iesniegtā vērtība konkrētajam pretendentam)/(B augstākā iesniegtā vērtība no visiem pretendentiem ) x Piešķiramais punktu skaits.

Sheet 8
A1: 8. pozīcija - Bezvadu ierīces EKG monitorēšanai | D1: Pretendenta piedāvājums, atsauce uz informatīvo materiālu (Informatīvā materiāla nosaukums, lpp.)
A2: Nr. | B2: Preces nosaukums, veicamās funkcijas, tehniskās prasības un komplektācija | C2: Skaits, gab.***
A3: Piemērs | B3: Piemērs | C3: Piemērs | D3: Informatīvais materiāls 2, 4.lpp
A4: 8.1. | B4: Nosaukums: Bezvadu ierīces EKG monitorēšanai | C4: 10
A5: 8.1.1. | B5: Veicamās funkcijas:
A6: 8.1.1.1. | B6: Ilgtermiņa pacienta EKG signāla ierakstīšana
A7: 8.1.2. | B7: Tehniskās prasības:
A8: 8.1.2.1. | B8: EKG signāla reģistrācija un saglabāšana nesaspiestā formā monitoringam vismaz līdz 48 stundām
A9: 8.1.2.2. | B9: Piemēroti pediatriskajiem pacientiem, tostarp ar ķermeņa svaru zem 10 kg
A10: 8.1.2.3. | B10: 3 kanālu EKG ierakstīšana
A11: 8.1.2.4. | B11: Vizuāli indikatori iekārtas statusam
A12: 8.1.2.5. | B12: Notikumu reģistrēšana
A13: 8.1.2.6. | B13: Analogā-ciparu signāla pārveidošanas izšķirtspēja ne mazāk kā 16 biti
A14: 8.1.2.7. | B14: Pieraksta saglabāšana ne mazāk kā 200 punkti sekundē katram no kanāliem
A15: 8.1.2.8. | B15: Barošanu nodrošina standarta baterija
A16: 8.1.2.9. | B16: Ne mazāk kā 7 dienu monitorings ar vienu standarta bateriju
... A23: 8.1.2.16. | B23: Galvaniski izolēts un aizsargāts pret defibrilāciju
A24: 8.2. | B24: EKG holtera reģistrēto datu analīzes programmatūra | C24: 2
A25: 8.2.1. | B25: Veicamās funkcijas:
A26: 8.2.1.1. | B26: Ilgtermiņa pacienta EKG signāla analīze
A27: 8.2.2. | B27: Tehniskās prasības:
A28: 8.2.2.1. | B28: Savietojama ar piedāvājumā iekļautajiem holteriem
A29: 8.2.2.2. | B29: Pacientu datu bāze
A30: 8.2.2.3. | B30: Izmeklējumu datu analīzes un apskates iespējas
A31: 8.2.2.4. | B31: Automātisks un manuāls skanēšanas režīms ar lietotāja parametriem
A32: 8.2.2.5. | B32: Artefaktu novēršanas algoritms
A33: 8.2.2.6. | B33: Datu analīzes iespējas:
A34: 8.2.2.7. | B34: Ritma analīze
A35: 8.2.2.8. | B35: Aritmiju noteikšana un grupēšana pēc tipa un biežuma
A36: 8.2.2.9. | B36: EKG signāla noteikšana un analīze
... A51: 8.4.1. | B51: Citi piederumi, kas nepieciešamas piedāvātajai iekārtai, lai nodrošinātu tehniskajā aprakstā norādīto funkcionalitāti un/vai pieejamie papildinājumi. (rindiņas atļauts papildināt zemāk pēc nepieciešamības, vienā rindiņā ierakstīt ne vairāk kā vienu piederumu)
A55: Saimnieciski visizdevīgākā piedāvājuma vērtēšanai norādāmā papildus informācija | D55: Saimnieciski visizdevīgākā piedāvājuma vērtēšanai norādāmā papildus informācija Pretendenta piedāvājums, atsauce uz informatīvo materiālu vai ražotāja apliecinājumu
A56: B | B56: Jānorāda Preces ražotāja noteiktais preces maksimālais lietošanas ilgums (paredzamais lietošanas ilgums) (gados)
A57: C | B57: Jānorāda Preces ražotāja noteiktais elektroenerģijas patēriņš (voltampēros (VA) vai vatos (W))
A60: Daļa | B60: VĒRTĒŠANAS KRITĒRIJI | C60: ĪPATSVARS
A61: A | B61: Vērtējamā summa | C61: 80
A62: B | B62: Preces maksimālais lietošanas ilgums | C62: 10
A63: C | B63: Elektroenerģijas patēriņš darba režīmā. Ja netiek norādīta informācija, vai tā ir nepilnīga aplama, tad tiek piešķirti 0 punkti | C63: 10
A64: ∑ | B64: Maksimālais īpatsvars (kopējais punktu skaits) ∑=A+B+C | C64: 100
A65: Komisija katrā daļā piešķir īpatsvaru (punktu skaitu), šādā kārtībā: 1) A (Vērtējamā summa) un C (Elektroenerģijas patēriņš) daļai - viszemākajai vērtība tiek piešķirts maksimālais punktu skaits. Ja piedāvājumā nav norādīta informācija par elektroenerģijas patēriņu tiek piešķirti 0 punkti. Ja tiek norādīts elektroenerģijas patēriņa diapazons, punktu piešķiršanai tiek izmantota augstākā vērtība. 2) Nākamās vērtības A (Vērtējamā summa) un C (Elektroenerģijas patēriņš) daļai tiek aprēķinātas proporcionāli A vai C = (A vai C zemākā iesniegtā vērtība no visiem pretendentiem )/(faktiskā iesniegtā vērtība konkrētajam pretendentam) x Piešķiramais punktu skaits. 3) B (Preces ražotāja noteiktais preces maksimālais lietošanas ilgums) daļai - vislielākajai vērtības tiek piešķirts maksimālais punktu skaits. Ja piedāvājumā nav norādīta informācija par preces lietošanas ilgumu tiek pieņemts, ka lietošanas ilgums ir noteiktais garantijas laiks. Ja tiek norādīts paredzamā lietošanas ilguma diapazons, punktu piešķiršanai tiek izmantota zemākā vērtība. 4) Nākamās vērtības B (Preces ražotāja noteiktais preces maksimālais lietošanas ilgums) daļai tiek aprēķinātas proporcionāli B = (faktiskā iesniegtā vērtība konkrētajam pretendentam)/(B augstākā iesniegtā vērtība no visiem pretendentiem ) x Piešķiramais punktu skaits.

Sheet 9
A1: 9. pozīcija- Pacienta vitālo funkciju monitors | D1: Pretendenta piedāvājums, atsauce uz informatīvo materiālu (Informatīvā materiāla nosaukums, lpp.)
A2: Nr. | B2: Preces nosaukums, veicamās funkcijas, tehniskās prasības un komplektācija | C2: Skaits, gab.***
A3: Piemērs | B3: Piemērs | C3: Piemērs | D3: Informatīvais materiāls 2, 4.lpp
A4: 9. | B4: Nosaukums: Pacienta vitālo funkciju monitors (Norādīt piedāvātās iekārtas ražotāju un modeli) | C4: 6
A5: 9.1. | B5: Veicamās funkcijas:
A6: 9.1.1. | B6: Pacientu vitālo funkciju monitorēšana (SpO2, neinvazīvais asinsspiediens) monitorēšana
A7: 9.2. | B7: Tehniskās prasības:
A8: 9.2.1. | B8: Displeja izmērs ne mazāk kā 8” pa diagonāli; Vēlama prasība: Displeja izmērs ne mazāk kā 10” pa diagonāli
A9: 9.2.2. | B9: Monitora vadības sistēma – skārienjutīgs ekrāns
A10: 9.2.3. | B10: Visu mērīto parametru vienlaikus attēlojums uz ekrāna skaitliskā formā
A11: 9.2.4. | B11: Trauksmes režīmi visiem parametriem ar vizualizāciju uz ekrāna un skaņas indikāciju
A12: 9.2.5. | B12: Pacientu režīmi: jaundzimušais, pediatriskais, pieaugušais
A13: 9.2.6. | B13: Trauksmes vizualizācija gan ekrānā, gan ar trauksmes lampu
A14: 9.2.7. | B14: Darbināms no akumulatora un no tīkla
A15: 9.2.8 | B15: Svars bez akumulatora, piederumiem nav lielāks par 10 kg
A16: 9.2.9 | B16: Iekārta aprīkota ar ratiņiem
... A32: 9.3 | B32: Komplektācija (iekļauta iekārtas cenā, tiek piegādāta kopā ar katru iekārtu):
A33: 9.3.1 | B33: Monitors | C33: 1
A34: 9.3.2 | B34: Barošanas bloks vai barošanas kabelis | C34: 1
A35: 9.3.3 | B35: Statīvs uz riteņiem ar piederumu groziņu | C35: 1
A36: 9.3.4 | B36: Sensors SpO2:
A37: 9.3.4.1 | B37: Masimo RD SET konektori
A38: 9.3.4.2 | B38: Pediatriskais, daudzreizlietojamais, pirksta | C38: 1
A39: 9.3.4.3 | B39: Pieaugušo, daudzreizlietojamais, pirksta | C39: 1
A40: 9.3.4.4 | B40: Kabelis savienojošais SpO2, daudzreizlietojams, garums vismaz 3m, ja nepieciešams | C40: 1
A41: 9.3.5 | B41: Manšetes, daudzreizlietojamās
A42: 9.3.5.1 | B42: Vismaz piecu dažādu izmēru manšetes, kuras nosedz izmēru diapazonu vismaz no 15 -40 cm. Norādīt izmērus:
A43: 9.3.5.1.1 | B43: 1. manšete | C43: 1
A44: 9.3.5.1.2 | B44: 2. manšete | C44: 1
A45: 9.3.5.1.3 | B45: 3. manšete | C45: 1
A46: 9.3.5.1.4 | B46: 4. manšete | C46: 1
A47: 9.3.5.1.5 | B47: 5. manšete | C47: 1
A48: 9.3.5.2 | B48: Kabelis savienojošais neinvazīvā asinsspiediena | C48: 1
A49: 9.4 | B49: Piederumi, saderīgi ar piedāvāto iekārtu (tiek norādīta cena par vienu vienību, tiks pasūtīti pēc nepieciešamības, kolonnā "Skaits" norādīts paredzamais pasūtāmo piederumu daudzums; papildus norādīto piederumu cena netiek iekļauta vērtējamajā cenā):
A50: 9.4.1 | B50: Sensors SpO2:
A51: 9.4.1.1 | B51: Jaundzimušo, daudzreizlietojams (Ja attiecināms. Pretendenta jāpiedāvā viens no punktiem (9.4.1.1 vai 9.4.1.2)) | C51: 1
A52: 9.4.1.2 | B52: Jaundzimušo, vienreizlietojams (Ja attiecināms. Pretendenta jāpiedāvā viens no punktiem (9.4.1.1 vai 9.4.1.2)) | C52: 1
A53: 9.4.1.3 | B53: Pediatriskais, daudzreizlietojamais, pirksta | C53: 1
A54: 9.4.1.4 | B54: Pieaugušo, daudzreizlietojamais, pirksta | C54: 1
A55: 9.4.1.5 | B55: Kabelis savienojošais SpO2, daudzreizlietojams, garums vismaz 3m, ja nepieciešams | C55: 1
...

Sheet 10
A1: 10. pozīcija - Elektroniskais asinsspiediena mērītājs | D1: Pretendenta piedāvājums, atsauce uz informatīvo materiālu (Informatīvā materiāla nosaukums, lpp.)
A2: Nr. | B2: Preces nosaukums, veicamās funkcijas, tehniskās prasības un komplektācija | C2: Skaits, gab.***
A3: Piemērs | B3: Piemērs | C3: Piemērs | D3: Informatīvais materiāls 2, 4.lpp
A4: 10. | B4: Nosaukums: Elektroniskais asinsspiediena mērītājs | C4: 20 | D4: (Norādīt piedāvātās iekārtas ražotāju un modeli)
A5: 10.1. | B5: Veicamās funkcijas:
A6: 10.1.1. | B6: Nodrošina automātiskus asinsspiediena un pulsa mērījumus
A7: 10.2. | B7: Tehniskās prasības:
A8: 10.2.1. | B8: Displejs rezultātu atspoguļošanai
A9: 10.2.2. | B9: Sistoliskā un diastoliskā spiediena mērīšana:
A10: 10.2.3. | B10: Mērīšanas diapazons sistoliskajam spiedienam ne mazāks par 60-250 mmHg
A11: 10.2.4. | B11: Mērīšanas diapazons diastoliskajam spiedienam ne mazāks par 30-220 mmHg
A12: 10.2.5. | B12: Mērījumu kļūda ne lielāka kā ± 5 mm Hg st. Vēlama prasība: mērījumu kļūda ne lielāka kā ± 3 mm Hg st.
A13: 10.2.7. | B13: Asinsspiediena mērījuma laikā pulsa noteikšana:
A14: 10.2.8. | B14: Mērīšanas diapazons ne mazāks par 40-199 sit/min.
A15: 10.2.8.1. | B15: Mērījumu kļūda ne lielāka kā ±5%
A16: 10.2.9. | B16: Maināmas manšetes
... A26: 10.3. | B26: Komplektācija (iekļauta iekārtas cenā, tiek piegādāta kopā ar katru iekārtu):
A27: 10.3.1. | B27: Asinsspiediena mērītājs | C27: 1
A28: 10.3.2. | B28: Lādētājs (ja attiecināms) | C28: 1
A29: 10.3.4. | B29: Vismaz četru dažādu izmēru manšetes, kuras nosedz izmēru diapazonu vismaz no 15 - 40 cm. Norādīt izmērus:
A30: 10.3.4.1. | B30: 1. manšete | C30: 1
A31: 10.3.4.2. | B31: 2. manšete | C31: 1
A32: 10.3.4.3. | B32: 3. manšete | C32: 1
A33: 10.3.4.4. | B33: 4. manšete | C33: 1
A34: 10.4. | B34: Piederumi, saderīgi ar piedāvāto iekārtu (tiek norādīta cena par katru piederumu atsevišķi, tiks pasūtīti pēc nepieciešamības, papildus norādīto piederumu cena netiek iekļauta vērtējamajā cenā):
A35: 10.4.1. | B35: Vismaz četru dažādu izmēru manšetes, kuras nosedz izmēru diapazonu vismaz no 15 - 40 cm. Norādīt izmērus: | C35: 1
A36: 10.4.2. | B36: 1. manšete | C36: 1
A37: 10.4.3. | B37: 2. manšete | C37: 1
A38: 10.4.4. | B38: 3. manšete | C38: 1
A39: 10.4.5. | B39: 4. manšete | C39: 1
A40: 10.4.6. | B40: Citi piederumi, kas nepieciešamas piedāvātajai iekārtai, lai nodrošinātu tehniskajā aprakstā norādīto funkcionalitāti un/vai pieejamie papildinājumi. (rindiņas atļauts papildināt zemāk pēc nepieciešamības, vienā rindiņā ierakstīt ne vairāk kā vienu piederumu) | C40: 1
A43: Saimnieciski visizdevīgākā piedāvājuma vērtēšanai norādāmā papildus informācija | D43: Saimnieciski visizdevīgākā piedāvājuma vērtēšanai norādāmā papildus informācija Pretendenta piedāvājums, atsauce uz informatīvo materiālu vai ražotāja apliecinājumu
A44: B | B44: Jānorāda Preces ražotāja noteiktais preces maksimālais lietošanas ilgums (paredzamais lietošanas ilgums) (gados)
A45: C | B45: Jānorāda Preces ražotāja noteiktais elektroenerģijas patēriņš (voltampēros (VA) vai vatos (W))
A46: F | B46: Neinvazīvā arteriālā asinsspiediena mērījumu kļūda ne lielāka kā ± 3 mm Hg st.
A48: Daļa | B48: VĒRTĒŠANAS KRITĒRIJI | C48: ĪPATSVARS
A49: A | B49: Vērtējamā summa | C49: 75
A50: B | B50: Preces maksimālais lietošanas ilgums | C50: 10
A51: C | B51: Elektroenerģijas patēriņš darba režīmā. Ja netiek norādīta informācija, vai tā ir nepilnīga aplama, tad tiek piešķirti 0 punkti | C51: 10
A52: F | B52: Neinvazīvā arteriālā asinsspiediena mērījumu kļūda ne lielāka kā ± 3 mm Hg st. | C52: 5
...

Sheet 11
A1: 11. pozīcija - Pacientu elektroniskie grīdas svari | D1: Pretendenta piedāvājums, atsauce uz informatīvo materiālu (Informatīvā materiāla nosaukums, lpp.)
A2: Nr. | B2: Preces nosaukums, veicamās funkcijas, tehniskās prasības un komplektācija | C2: Skaits, gab.***
A3: 11. | B3: Nosaukums: Pacientu elektroniskie grīdas svari | C3: 5
A4: 11.1. | B4: Veicamās funkcijas:
A5: 11.1.1. | B5: Pacientu svara noteikšana
A6: 11.2. | B6: Tehniskās prasības:
A7: 11.2.1. | B7: Mērījumu diapazons vismaz līdz 200 kg
A8: 11.2.2. | B8: Mērījumu kļūda ne lielāka par ± 100 g diapazonā līdz 150 kg
A9: 11.2.3. | B9: Mērījumu kļūda ne lielāka par ± 200 g pārējā svēršanas diapazonā
A10: 11.2.4. | B10: Nolasījuma iedaļas vērtība ne lielāka kā 0,1 kg
A11: 11.2.5. | B11: Darbināms ar baterijām vai no tīkla (220 V; 50Hz)
A12: 11.2.6. | B12: Svari marķēti atbilstoši tam, kā noteikts LR MK noteikumos Nr.210 "Neautomātisko svaru atbilstības novērtēšanas noteikumi"
A13: 11.3. | B13: Komplektācija (iekļauta iekārtas cenā, tiek piegādāta kopā ar katru iekārtu):
A14: 11.3.1. | B14: Ar iekārtu saderīgs barošanas bloks | C14: 1
A15: 11.3.2. | B15: Iekārta tiek piegādāta pilnā komplektācijā pirmreizējai lietošanai | C15: 1
A18: Saimnieciski visizdevīgākā piedāvājuma vērtēšanai norādāmā papildus informācija | D18: Saimnieciski visizdevīgākā piedāvājuma vērtēšanai norādāmā papildus informācija Pretendenta piedāvājums, atsauce uz informatīvo materiālu vai ražotāja apliecinājumu
A19: B | B19: Jānorāda Preces ražotāja noteiktais preces maksimālais lietošanas ilgums (paredzamais lietošanas ilgums) (gados)
A20: C | B20: Jānorāda Preces ražotāja noteiktais elektroenerģijas patēriņš (voltampēros (VA) vai vatos (W))
A23: Daļa | B23: VĒRTĒŠANAS KRITĒRIJI | C23: ĪPATSVARS
A24: A | B24: Vērtējamā summa | C24: 80
A25: B | B25: Preces maksimālais lietošanas ilgums | C25: 10
A26: C | B26: Elektroenerģijas patēriņš darba režīmā. Ja netiek norādīta informācija, vai tā ir nepilnīga aplama, tad tiek piešķirti 0 punkti | C26: 10
A27: ∑ | B27: Maksimālais īpatsvars (kopējais punktu skaits) ∑=A+B+C | C27: 100
