Workbook

Sheet 9.pielikums - Fin.pied.
A1: 9.pielikums iepirkuma “Daudzdzīvokļu dzīvojamo ēku jumtu remontdarbi”, iepirkuma identifikācijas Nr.SIAON 2024/17-MI, Nolikumam
B3: FINANŠU PIEDĀVĀJUMS
B5: ____________________(pretendenta nosaukums, vienotais reģistrācijas nr.) piedāvājam veikt iepirkumā “Daudzdzīvokļu dzīvojamo ēku jumtu remontdarbi”, id. Nr.SIAON 2024/17-MI minētos darbus, saskaņā ar Nolikumu un tā pielikumiem, tajā noteiktajā laikā un veidā par šādu līgumcenu:
B7: Nr. p. k. | C7: Dzīvojamās mājas adrese Ogrē | D7: Darbu nosaukums | E7: Pretendenta piedāvātā darbu summa, EUR bez PVN
B8: 1 | C8: Ausekļa prospekts 5A | D8: Ieejas jumtiņu seguma remonts | E8: ='1.Ausekļa pr.5A'!P13 -> 0
B9: 2 | C9: Brīvības iela 117 | D9: Ieejas jumtiņu ruberoīda seguma remonts | E9: ='2.Brīvības iela 117'!P13 -> 0
B10: 3 | C10: Mālkalnes prospekts 14 | D10: Ieejas jumtiņu seguma nomaiņa | E10: ='3.Mālkalnes pr. 14'!P13 -> 0
B11: 4 | C11: Mālkalnes prospekts 2A | D11: Ieejas jumtiņu atjaunošana, remonts (t.sk. ruberoīda seguma atjaunošana) | E11: ='4.Mālkalnes pr. 2A'!P13 -> 0
B12: 5 | C12: Rīgas iela 6 | D12: Ieejas jumtiņu ruberoīda seguma remonts | E12: ='5.Rīgas iela 6'!P13 -> 0
B13: 6 | C13: Skolas iela 17 | D13: Ieejas jumtiņu remonts | E13: ='6. Skolas iela 17'!P12 -> 0
B14: 7 | C14: Mālkalnes prospekts 15 | D14: Ieejas jumtiņu remonts, seguma nomaiņa | E14: ='7. Mālkalnes pr. 15'!P13 -> 0
B15: 8 | C15: Priežu iela 1 | D15: Ieejas jumtiņu remonts | E15: ='8. Priežu iela 1'!P13 -> 0
B16: 9 | C16: Upes prospekts 18A | D16: Ieejas jumtiņu remonts | E16: ='9. Upes pr. 18A'!P13 -> 0
B17: 10 | C17: Tīnūžu iela 11 | D17: Parapeta remonts, hidroizolācijas ieklāšana | E17: ='10. Tīnūžu iela 11'!P13 -> 0
B18: 11 | C18: Skolas iela 10 | D18: Ēkas jumta seguma remonts, parapeta remonts | E18: ='11. Skolas iela 10'!P13 -> 0
B19: 12 | C19: Ausekļa prospekts 15 | D19: Mājas parapeta remonts, nosegšana ar skārdu, jumta seguma virs lifta telpas remonts | E19: ='12. Ausekļa pr. 15'!P13 -> 0
B20: Līguma summa kopā, EUR bez PVN: | E20: =ROUND(SUM(E8:E17),2) -> 0

Sheet 1.Ausekļa pr.5A
A1: 8.pielikums iepirkuma “Daudzdzīvokļu dzīvojamo ēku jumtu remontdarbi”, iepirkuma identifikācijas Nr.SIAON 2024/17-MI, Nolikumam
B3: TEHNISKĀ SPECIFIKĀCIJA UN TEHNISKAIS PIEDĀVĀJUMS
H5: Ieejas jumtiņa seguma nomaiņa
A6: (Darba veids vai konstruktīvā elementa nosaukums)
C8: Būves nosaukums: | D8: Daudzdzīvokļu nams
C9: Objekta adrese: | D9: Ausekļa pr. 5A, Ogre
C10: Pasūtītājs: | D10: Sabiedrība ar ierobežotu atbildību ''Ogres Namsaimnieks''
C11: Izpildītājs:
O13: Pretendenta piedāvātā darbu summa, Eur bez PVN: | P13: =P47 -> 0
A15: Nr.p.k | B15: Kods | C15: Būvdarbu apraksts | D15: Mērvienība | E15: Daudzums | F15: Vienības izmaksas | L15: Kopā uz visu apjomu
F16: Laika norma (c/h) | G16: Darba samaksas likme (euro/h) | H16: Darba alga (euro) | I16: Būvizstrādājumi (euro) | J16: Mehā-nismi (euro) | K16: Kopā (euro) | L16: Darb-ietilpība (c/h) | M16: Darba alga (euro) | N16: Būvizstrādājumi (euro) | O16: Mehā-nismi (euro) | P16: Summa (euro)
A17: 1 | B17: =A17+1 -> 2 | C17: =B17+1 -> 3 | D17: =C17+1 -> 4 | E17: =D17+1 -> 5 | F17: =E17+1 -> 6 | G17: =F17+1 -> 7 | H17: =G17+1 -> 8 | I17: =H17+1 -> 9 | ... P17: =O17+1 -> 16
A18: 1 | C18: Esošā jumtiņa seguma demontāža | D18: m2 | E18: 16
A19: 2 | C19: Jumtiņa koka karkasa remonts, latojuma nomaiņa,plēves ieklāšana, vēja kastes remonts, krāsošana | D19: m2 | E19: 18
C20: Zāģmateriāli 25x100mm | D20: m3 | E20: 0.25
C21: Pretkondensāta plēve | D21: m2 | E21: 21
C22: Aizsargkrāsa kokam Vivacolor Villa Ultima , koka fasādes ( vai ekvivalents) | D22: L | E22: 2.7
C23: Palīgmateriāli | D23: kompl | E23: 1
A24: 3 | C24: Jumtiņa seguma ieklāšana | D24: m2 | E24: 16
C25: Profils PP-20 0.5 PUR | D25: m2 | E25: 20
C26: Palīgmateriāli | D26: kompl | E26: 1
A27: 4 | C27: Skārda vējmalu, lāseņa, pieslēgumu pie sienas montāža | D27: m | E27: 18
C28: Lāsenis | D28: m | E28: 7
C29: Vējmala | D29: m | E29: 6
C30: Pieslēgums pie sienas | D30: m | E30: 7
C31: Palīgmateriāli | D31: kompl | E31: 1
A32: 5 | C32: Tekņu montāža, notekcauruļu montāža | D32: m | E32: 9
C33: Tekne 150mm | D33: m | E33: 7
C34: Teknes āķis īsais 150mm | D34: gb | E34: 7
C35: Teknes gals 150mm | D35: gb | E35: 1
C36: Piltuve (figurāla) 150/120mm | D36: gb | E36: 1
C37: Notekcaurules līkums (valcēts) 120 mm | D37: gb | E37: 1
C38: Notekcaurule 120mm | D38: m | E38: 4
C39: Notekcaurules kronšteins(ar tapskrūvi, dībeļi) 120mm | D39: gb | E39: 4
C40: Notekcaurules apakšējais līkums(valcēts) 120mm | D40: gb | E40: 1
A41: 6 | C41: Objekta sakārtošana, gružu savākšana | D41: obj | E41: 1
A42: Kopā:
C43: Transporta izmaksas:
C44: Tiešās izmaksas kopā, t.sk. darba devēja sociālais nodoklis 23,59%
C45: Virsizdevumi:
C46: Darbuzņēmēja peļņa:
C47: Kopā bez PVN:
C48: PVN
C49: Pavisam kopā:

Sheet 2.Brīvības iela 117
A1: 8.pielikums iepirkuma “Daudzdzīvokļu dzīvojamo ēku jumtu remontdarbi”, iepirkuma identifikācijas Nr.SIAON 2024/17-MI, Nolikumam
B3: TEHNISKĀ SPECIFIKĀCIJA UN TEHNISKAIS PIEDĀVĀJUMS
H5: Ēkas ieejas jumtiņu remonts - 6gb.
A6: (Darba veids vai konstruktīvā elementa nosaukums)
C8: Būves nosaukums: | D8: Daudzdzīvokļu nams
C9: Objekta adrese: | D9: Brīvības iela 117, Ogre
C10: Pasūtītājs: | D10: Sabiedrība ar ierobežotu atbildību ''Ogres Namsaimnieks''
C11: Izpildītājs:
O13: Pretendenta piedāvātā darbu summa, Eur bez PVN: | P13: =P43 -> 0
A15: Nr.p.k | B15: Kods | C15: Būvdarbu apraksts | D15: Mērvienība | E15: Daudzums | F15: Vienības izmaksas | L15: Kopā uz visu apjomu
F16: Laika norma (c/h) | G16: Darba samaksas likme (euro/h) | H16: Darba alga (euro) | I16: Būvizstrādājumi (euro) | J16: Mehā-nismi (euro) | K16: Kopā (euro) | L16: Darb-ietilpība (c/h) | M16: Darba alga (euro) | N16: Būvizstrādājumi (euro) | O16: Mehā-nismi (euro) | P16: Summa (euro)
A17: 1 | B17: =A17+1 -> 2 | C17: =B17+1 -> 3 | D17: =C17+1 -> 4 | E17: =D17+1 -> 5 | F17: =E17+1 -> 6 | G17: =F17+1 -> 7 | H17: =G17+1 -> 8 | I17: =H17+1 -> 9 | ... P17: =O17+1 -> 16
A18: 1 | C18: Esošo jumtiņu skārda malu demontāža | D18: m | E18: 39.18
A19: 2 | C19: Jumta seguma sagatavošana darbam, jumta seguma noplēsto un grumbuļaino vietu demontāža, bedrīšu izlīdzināšana | D19: m2 | E19: 23
C20: Sakret be 25kg ( vai ekvivalents) | D20: kg | E20: 200
C21: Palīgmateriāli | D21: kompl | E21: 1
A22: 3 | C22: Skārda lāseņa montāža | D22: m | E22: 19
A23: 4 | C23: Vējmalu montāža | D23: m | E23: 25
C24: Vējmala ZN | D24: m | E24: 25
C25: Skārda lāsenis 90x60x20mm ( vai analogs ) | D25: m | E25: 19
C26: Palīgmateriāli | D26: kompl | E26: 1
A27: 5 | C27: Jumta hidroizolācijas materiāla virsklāja Unifleks EKP 5.0 (virsklājs, ~4,4mm) ieklāšana, pieslegumu pie jumta sienu aplīmēšana | D27: m2 | E27: 50
C28: Unifleks EKP 5.0 (virsklājs, ~4,4mm) ( vai ekvivalents) | D28: m2 | E28: 56
C29: Palīgmateriāli | D29: kompl | E29: 1
A30: 6 | C30: Jumtiņu apdares no apakšas remonts ( caurumu aizdare, virsmas špaktelēšana iestrādājot stiklašķiedra sietu) | D30: m2 | E30: 32
C31: Stiklšķiedras siets 50m2 (Valmieras 1 klase), Dzeltens, 160g ( vai ekvivalents) | D31: m2 | E31: 45
C32: Sakret BAK/25kg java ( vai ekvivalents) | D32: kg | E32: 250
C33: Palīgmateriāli | D33: kompl | E33: 1
A34: 7 | C34: Jumtiņu griestu virsmas gruntēšana, krāsošana x 2 reizes | D34: m2 | E34: 32
C35: Grunts SAKRET PG 25 kg ( vai ekvivalents) | D35: kg | E35: 15
C36: Krāsa Forakril C tonētā 9L/ ( Ral 7003 ) ( vai ekvivalents) | D36: L | E36: 9
A37: 8 | C37: Objekta sakārtošana, gružu savākšana | D37: obj. | E37: 1
A38: Kopā:
C39: Transporta izmaksas:
C40: Tiešās izmaksas kopā, t.sk. darba devēja sociālais nodoklis 23,59%
C41: Virsizdevumi:
C42: Darbuzņēmēja peļņa:
C43: Kopā bez PVN:
C44: PVN
C45: Pavisam kopā:

Sheet 3.Mālkalnes pr. 14
A1: 8.pielikums iepirkuma “Daudzdzīvokļu dzīvojamo ēku jumtu remontdarbi”, iepirkuma identifikācijas Nr.SIAON 2024/17-MI, Nolikumam
B3: TEHNISKĀ SPECIFIKĀCIJA UN TEHNISKAIS PIEDĀVĀJUMS
H5: Ieejas jumtiņu remonts, seguma nomaiņa - 6gb
A6: (Darba veids vai konstruktīvā elementa nosaukums)
C8: Būves nosaukums: | D8: Daudzdzīvokļu nams
C9: Objekta adrese: | D9: Mālkalnes pr. 14, Ogre
C10: Pasūtītājs: | D10: Sabiedrība ar ierobežotu atbildību ''Ogres Namsaimnieks''
C11: Izpildītājs:
O13: Pretendenta piedāvātā darbu summa, Eur bez PVN: | P13: =P47 -> 0
A15: Nr.p.k | B15: Kods | C15: Būvdarbu apraksts | D15: Mērvienība | E15: Daudzums | F15: Vienības izmaksas | L15: Kopā uz visu apjomu
F16: Laika norma (c/h) | G16: Darba samaksas likme (euro/h) | H16: Darba alga (euro) | I16: Būvizstrādājumi (euro) | J16: Mehā-nismi (euro) | K16: Kopā (euro) | L16: Darb-ietilpība (c/h) | M16: Darba alga (euro) | N16: Būvizstrādājumi (euro) | O16: Mehā-nismi (euro) | P16: Summa (euro)
A17: 1 | B17: =A17+1 -> 2 | C17: =B17+1 -> 3 | D17: =C17+1 -> 4 | E17: =D17+1 -> 5 | F17: =E17+1 -> 6 | G17: =F17+1 -> 7 | H17: =G17+1 -> 8 | I17: =H17+1 -> 9 | ... P17: =O17+1 -> 16
A19: 1 | C19: Esošō jumtiņu seguma, tekņu un esoša koka latojuma ( 3750x3500mm - 6 gab ) demontāža | D19: m2 | E19: 79
A20: 2 | C20: Zāģmateriāla sagatavošana, krāsošana, jauna koka latojuma izbūve | D20: m2 | E20: 79
C21: Zāģmateriāli 25x100 | D21: m3 | E21: 0.15
C22: Zāģmateriāli 50x50 | D22: m3 | E22: 0.5
C23: Zāģmateriāli 50x100 | D23: m3 | E23: 1
C24: Aizsarg krāsa Shed and Fence dark oak 5L ( vai ekvivalents) | D24: L | E24: 30
C25: Palīgmateriāli | D25: kompl | E25: 6
A26: 3 | C26: Seguma ieklāšana | D26: m2 | E26: 79
C27: Jumta metāla loksne T20 | D27: m2 | E27: 90
C28: Palīgmateriāli | D28: kompl | E28: 6
A29: 4 | C29: Jumta seguma pieslēguma pie sienas, skārda lāseņa un vējmalas montāža | D29: m | E29: 21
C30: Skārda lāsenis 90x60x20mm | D30: m | E30: 21
C31: Vējmala (sānu malām) | D31: m | E31: 45
C32: Piesleguma pie sienas 150x235mm | D32: m | E32: 21
C33: Palīgmateriāli | D33: kompl | E33: 6
A34: 5 | C34: Tekņu montāža jumtiņu priekšpusē | D34: m | E34: 21
C35: Tekne 125mm( apaļa ) | D35: m | E35: 21
C36: Teknes stiprinājums īsais 125mm | D36: gb | E36: 24
C37: Teknes galu vāki ar gumiju | D37: gb | E37: 6
A38: 6 | C38: Metāla konstrukciju krāsošana x2 reizes | D38: kompl | E38: 6
C39: Krāsa Pentaprim zaļa ( vai ekvivalents) | D39: L | E39: 10
A40: 7 | C40: Objekta sakārtošana, gružu savākšana/utilizācija | D40: obj | E40: 1
A41: 66 | D41: gab
A42: Kopā:
C43: Transporta izmaksas:
C44: Tiešās izmaksas kopā, t.sk. darba devēja sociālais nodoklis 23.59%
C45: Virsizdevumi:
C46: Darbuzņēmēja peļņa:
C47: Kopā bez PVN:
C48: PVN
C49: Pavisam kopā:

Sheet 4.Mālkalnes pr. 2A
A1: 8.pielikums iepirkuma “Daudzdzīvokļu dzīvojamo ēku jumtu remontdarbi”, iepirkuma identifikācijas Nr.SIAON 2024/17-MI, Nolikumam
B3: TEHNISKĀ SPECIFIKĀCIJA UN TEHNISKAIS PIEDĀVĀJUMS
H5: Ēkas ieejas jumtiņu remonts - 2gb.
A6: (Darba veids vai konstruktīvā elementa nosaukums)
C8: Būves nosaukums: | D8: Daudzdzīvokļu nams
C9: Objekta adrese: | D9: Mālkalnes pr. 2A, Ogre
C10: Pasūtītājs: | D10: Sabiedrība ar ierobežotu atbildību ''Ogres Namsaimnieks''
C11: Izpildītājs:
O13: Pretendenta piedāvātā darbu summa, Eur bez PVN: | P13: =P55 -> 0
A15: Nr.p.k | B15: Kods | C15: Būvdarbu apraksts | D15: Mērvienība | E15: Daudzums | F15: Vienības izmaksas | L15: Kopā uz visu apjomu
F16: Laika norma (c/h) | G16: Darba samaksas likme (euro/h) | H16: Darba alga (euro) | I16: Būvizstrādājumi (euro) | J16: Mehā-nismi (euro) | K16: Kopā (euro) | L16: Darb-ietilpība (c/h) | M16: Darba alga (euro) | N16: Būvizstrādājumi (euro) | O16: Mehā-nismi (euro) | P16: Summa (euro)
A17: 1 | B17: =A17+1 -> 2 | C17: =B17+1 -> 3 | D17: =C17+1 -> 4 | E17: =D17+1 -> 5 | F17: =E17+1 -> 6 | G17: =F17+1 -> 7 | H17: =G17+1 -> 8 | I17: =H17+1 -> 9 | ... P17: =O17+1 -> 16
A19: 1 | C19: Esošo jumtiņu skārda malu demontāža | D19: m | E19: 30.4
A20: 2 | C20: Jumta seguma sagatavošana darbam, jumta seguma noplēsto un grumbuļaino vietu demontāža, bedrīšu izlīdzināšana | D20: m2 | E20: 12
C21: Sakret be 25kg ( vai ekvivalents) | D21: kg | E21: 150
A22: 3 | C22: Skārda lāseņa montāža | D22: m | E22: 7.5
A23: 4 | C23: Vējmalu montāža | D23: m | E23: 16
C24: Vējmala ZN | D24: m | E24: 16
C25: Skārda lāsenis 90x60x20mm ( vai analogs ) | D25: m | E25: 7.5
C26: Palīgmateriāli | D26: kompl | E26: 1
A27: 5 | C27: Jumta hidroizolācijas materiāla virsklāja Unifleks EKP 5.0 (virsklājs, ~4,4mm) ieklāšana, pieslegumu pie jumta sienu aplīmēšana | D27: m2 | E27: 29.4
C28: Unifleks EKP 5.0 (virsklājs, ~4,4mm) ( vai ekvivalents) | D28: m2 | E28: 38
C29: Palīgmateriāli | D29: kompl | E29: 1
A30: 6 | C30: Jumtiņu teknes ierīkošana | D30: m | E30: 7.5
C31: Tekne ZN 125mm( apaļa ) | D31: m | E31: 18
C32: Teknes stiprinājums īsais Zn 125mm | D32: gb | E32: 32
C33: Teknes galu vāki ar gumiju 125mm | D33: gb | E33: 8
C34: Piltuve Zn 125/1000mm | D34: gb | E34: 4
C35: Montāžas materiāli | D35: m | E35: 15.8
A36: 7 | C36: Notekcauruļu montāža | D36: m | E36: 6
C37: Notekcaurule apaļa 100mm | D37: m | E37: 8
C38: Notekcaurules kronšteins 100mm (ar tapskrūvi, dībeļi) | D38: gb | E38: 8
C39: Notekcaurules apakšējāis līkums(valcēts) 100mm | D39: gb | E39: 2
C40: Montāžas materiāli | D40: m | E40: 6
A41: 8 | C41: Jumtiņu apdares no apakšas remonts ( caurumu aizdare, virsmas špaktelēšana iestrādājot stiklašķiedra sietu) | D41: m2 | E41: 12
C42: Stiklšķiedras siets 50m2 (Valmieras 1 klase), Dzeltens, 160g ( vai ekvivalents) | D42: m2 | E42: 15
C43: Sakret BAK/25kg java ( vai ekvivalents) | D43: kg | E43: 100
C44: Palīgmateriāli | D44: kompl | E44: 1
A45: 9 | C45: Jumtiņu virsmas gruntēšana, krāsošana x 2 reizes | D45: m2 | E45: 12
C46: Grunts SAKRET PG 25 kg ( vai ekvivalents) | D46: kg | E46: 5
C47: Krāsa Forakril C tonētā 9L/ ( Ral 7003 ) ( vai ekvivalents) | D47: L | E47: 7
A48: 10 | C48: Objekta sakārtošana, gružu savākšana | D48: obj. | E48: 1
A49: 64 | D49: gab
A50: Kopā:
C51: Transporta izmaksas:
C52: Tiešās izmaksas kopā, t.sk. darba devēja sociālais nodoklis 23,59%
C53: Virsizdevumi:
C54: Darbuzņēmēja peļņa:
C55: Kopā bez PVN:
C56: PVN
C57: Pavisam kopā:

Sheet 5.Rīgas iela 6
A1: 8.pielikums iepirkuma “Daudzdzīvokļu dzīvojamo ēku jumtu remontdarbi”, iepirkuma identifikācijas Nr.SIAON 2024/17-MI, Nolikumam
B3: TEHNISKĀ SPECIFIKĀCIJA UN TEHNISKAIS PIEDĀVĀJUMS
H5: Ēkas ieejas jumtiņu remonts - 10gb.
A6: (Darba veids vai konstruktīvā elementa nosaukums)
C8: Būves nosaukums: | D8: Daudzdzīvokļu nams
C9: Objekta adrese: | D9: Rīgas iela 6, Ogre
C10: Pasūtītājs: | D10: Sabiedrība ar ierobežotu atbildību ''Ogres Namsaimnieks''
C11: Izpildītājs:
O13: Pretendenta piedāvātā darbu summa, Eur bez PVN: | P13: =P43 -> 0
A15: Nr.p.k | B15: Kods | C15: Būvdarbu apraksts | D15: Mērvienība | E15: Daudzums | F15: Vienības izmaksas | L15: Kopā uz visu apjomu
F16: Laika norma (c/h) | G16: Darba samaksas likme (euro/h) | H16: Darba alga (euro) | I16: Būvizstrādājumi (euro) | J16: Mehā-nismi (euro) | K16: Kopā (euro) | L16: Darb-ietilpība (c/h) | M16: Darba alga (euro) | N16: Būvizstrādājumi (euro) | O16: Mehā-nismi (euro) | P16: Summa (euro)
A17: 1 | B17: =A17+1 -> 2 | C17: =B17+1 -> 3 | D17: =C17+1 -> 4 | E17: =D17+1 -> 5 | F17: =E17+1 -> 6 | G17: =F17+1 -> 7 | H17: =G17+1 -> 8 | I17: =H17+1 -> 9 | ... P17: =O17+1 -> 16
A19: 1 | C19: Esošo jumtiņu skārda malu demontāža | D19: m | E19: 58
A20: 2 | C20: Jumta seguma sagatavošana darbam, jumta seguma noplēsto un grumbuļaino vietu demontāža, bedrīšu izlīdzināšana | D20: m2 | E20: 18
C21: Sakret be 25kg ( vai ekvivalents) | D21: kg | E21: 200
C22: Palīgmateriāli | D22: kompl | E22: 1
A23: 3 | C23: Skārda lāseņa montāža | D23: m | E23: 36
A24: 4 | C24: Pieslēgumu pie sienas montāža | D24: m | E24: 29
C25: pieslēgums pie sienas ZN | D25: m | E25: 29
C26: Skārda lāsenis 90x60x20mm ( vai analogs ) | D26: m | E26: 36
C27: Palīgmateriāli | D27: kompl | E27: 1
A28: 5 | C28: Jumta hidroizolācijas materiāla virsklāja Unifleks EKP 5.0 (virsklājs, ~4,4mm) ieklāšana, pieslegumu pie jumta sienu aplīmēšana | D28: m2 | E28: 41.6
C29: Unifleks EKP 5.0 (virsklājs, ~4,4mm) ( vai ekvivalents) | D29: m2 | E29: 48
C30: Palīgmateriāli | D30: kompl | E30: 1
A31: 6 | C31: Teknes montāža jumtiņu priekšpusē | D31: m | E31: 35
C32: Tekne110mm | D32: m | E32: 35
C33: Teknes āķis īsais Zn 110mm | D33: gb | E33: 35
C34: Teknes galu vāki | D34: gb | E34: 10
C35: Montāžas materiāli | D35: m | E35: 35
A36: 7 | C36: Objekta sakārtošana, gružu savākšana | D36: obj. | E36: 1
A37: 56 | D37: gab
A38: Kopā:
C39: Transporta izmaksas:
C40: Tiešās izmaksas kopā, t.sk. darba devēja sociālais nodoklis 23,59%
C41: Virsizdevumi:
C42: Darbuzņēmēja peļņa:
C43: Kopā bez PVN:
C44: PVN
C45: Pavisam kopā:

Sheet 6. Skolas iela 17
A1: 8.pielikums iepirkuma “Daudzdzīvokļu dzīvojamo ēku jumtu remontdarbi”, iepirkuma identifikācijas Nr.SIAON 2024/17-MI, Nolikumam
B3: TEHNISKĀ SPECIFIKĀCIJA UN TEHNISKAIS PIEDĀVĀJUMS
H5: Ieejas jumtiņu remonts - 4 gb.
A6: (Darba veids vai konstruktīvā elementa nosaukums)
C8: Būves nosaukums: | D8: Daudzdzīvokļu nams
C9: Objekta adrese: | D9: Skolas iela 17, Ogre
C10: Pasūtītājs: | D10: Sabiedrība ar ierobežotu atbildību ''Ogres Namsaimnieks''
C11: Izpildītājs:
O12: Pretendenta piedāvātā darbu summa, Eur bez PVN: | P12: =P50 -> 0
A14: Nr.p.k | B14: Kods | C14: Būvdarbu apraksts | D14: Mērvienība | E14: Daudzums | F14: Vienības izmaksas | L14: Kopā uz visu apjomu
F15: Laika norma (c/h) | G15: Darba samaksas likme (euro/h) | H15: Darba alga (euro) | I15: Būvizstrādājumi (euro) | J15: Mehā-nismi (euro) | K15: Kopā (euro) | L15: Darb-ietilpība (c/h) | M15: Darba alga (euro) | N15: Būvizstrādājumi (euro) | O15: Mehā-nismi (euro) | P15: Summa (euro)
A16: 1 | B16: =A16+1 -> 2 | C16: =B16+1 -> 3 | D16: =C16+1 -> 4 | E16: =D16+1 -> 5 | F16: =E16+1 -> 6 | G16: =F16+1 -> 7 | H16: =G16+1 -> 8 | I16: =H16+1 -> 9 | ... P16: =O16+1 -> 16
A18: 1 | C18: Esošā seguma demontāža | D18: m2 | E18: 36
A19: 2 | C19: Esošo skārda vējmalu un pieslēgumu pie sienas demontāža | D19: m | E19: 48
A20: 3 | C20: Jumtiņu pamatnes tīrīšana, gruntēšana, sagatavošana | D20: m2 | E20: 36
C21: Bitumena grunts TECHNONICOL ( vai ekvivalents) | D21: L | E21: 16
C22: Palīgmateriāli | D22: kompl | E22: 1
A23: 4 | C23: Jumtiņu skārda vējmalu, pieslēgumu pie sienas montāža | D23: m | E23: 48
C24: Pieslēgums pie sienas | D24: m | E24: 12
C25: Vējmala bitumena jumtiem | D25: m | E25: 36
C26: Lāsenis | D26: m | E26: 12
C27: Montāžas materiāli | D27: m | E27: 48
A28: 5 | C28: Jumta seguma ieklāšana | D28: m2 | E28: 48
C29: Unifleks Ekstra EKP virsklājs, ~4,5mm ( vai ekvivalents) | D29: m2 | E29: 60
C30: Palīgmateriāli | D30: kompl | E30: 4
A31: 6 | C31: Jumtiņu apdare no apakšas - sagatavošana krāsošanai, ( virsmas gruntēšana, špaktelēšana ) | D31: m2 | E31: 48
C32: Sakret bak ( vai ekvivalents) | D32: kg | E32: 75
C33: Sakret dziļumgrunts ( vai ekvivalents) | D33: L | E33: 8
C34: Stiklašķiedra siets ( vai ekvivalents) | D34: m2 | E34: 55
C35: Palīgmateriāli | D35: kompl | E35: 1
A36: 7 | C36: Jumtiņu griestu virsmas krāsošana x2 reizes | D36: m2 | E36: 48
C37: Forakril krāsa + tonēšana ( vai ekvivalents) | D37: L | E37: 13
C38: Palīgmateriāli | D38: kompl | E38: 1
A39: 8 | C39: Jumtiņu balsta metāla konstrukciju slīpēšana ( sagatavošana krāsošanas darbiem ) | D39: kompl | E39: 4
C40: Slīpēšanas diski | D40: gb | E40: 32
A41: 9 | C41: Jumtiņu balsta metāla balsta konstrukciju krāsošana x2 reizes | D41: kompl | E41: 4
C42: Hammerite krāsa brūna ( vai analgs) ( vai ekvivalents) | D42: l | E42: 8
C43: Palīgmateriāli | D43: kompl | E43: 1
A44: 10 | C44: Objekta sakārtošana, gružu savākšana utilizācija | D44: obj | E44: 1
A45: Kopā:
C46: Transporta izmaksas:
C47: Tiešās izmaksas kopā, t.sk. darba devēja sociālais nodoklis 23,59%
C48: Virsizdevumi:
C49: Darbuzņēmēja peļņa:
C50: Kopā bez PVN:
C51: PVN
C52: Pavisam kopā:

Sheet 7. Mālkalnes pr. 15
A1: 8.pielikums iepirkuma “Daudzdzīvokļu dzīvojamo ēku jumtu remontdarbi”, iepirkuma identifikācijas Nr.SIAON 2024/17-MI, Nolikumam
B3: TEHNISKĀ SPECIFIKĀCIJA UN TEHNISKAIS PIEDĀVĀJUMS
H5: Ieejas jumtiņu remonts, seguma nomaiņa - 4gb
A6: (Darba veids vai konstruktīvā elementa nosaukums)
C8: Būves nosaukums: | D8: Daudzdzīvokļu nams
C9: Objekta adrese: | D9: Mālkalnes pr. 15, Ogre
C10: Pasūtītājs: | D10: Sabiedrība ar ierobežotu atbildību ''Ogres Namsaimnieks''
C11: Izpildītājs:
O13: Pretendenta piedāvātā darbu summa, Eur bez PVN: | P13: =P72 -> 0
A15: Nr.p.k | B15: Kods | C15: Būvdarbu apraksts | D15: Mērvienība | E15: Daudzums | F15: Vienības izmaksas | L15: Kopā uz visu apjomu
F16: Laika norma (c/h) | G16: Darba samaksas likme (euro/h) | H16: Darba alga (euro) | I16: Būvizstrādājumi (euro) | J16: Mehā-nismi (euro) | K16: Kopā (euro) | L16: Darb-ietilpība (c/h) | M16: Darba alga (euro) | N16: Būvizstrādājumi (euro) | O16: Mehā-nismi (euro) | P16: Summa (euro)
A17: 1 | B17: =A17+1 -> 2 | C17: =B17+1 -> 3 | D17: =C17+1 -> 4 | E17: =D17+1 -> 5 | F17: =E17+1 -> 6 | G17: =F17+1 -> 7 | H17: =G17+1 -> 8 | I17: =H17+1 -> 9 | ... P17: =O17+1 -> 16
A19: 1 | C19: Esošō jumtiņu seguma, tekņu (2650x2850mm - 4 gab ) demontāža | D19: m2 | E19: 31
C20: Jumtiņu virsmas gruntēšana, veidņu izgatavošana, montāža, pēc betonēšanas veidņu noņemšana, jumtiņu virsmas betonēšana ar Sakret Bh javu izveidojot slīpumus | D20: m2 | E20: 31
C21: Universālā grunts UG Sakret 5 L ( vai ekvivalents) | D21: L | E21: 5
C22: Sakret Bh/ 40kg ( vai ekvivalents) | D22: kg | E22: 1080
C23: Zāģmateriāli 25x100x3000mm | D23: m3 | E23: 0.1
C24: Palīgmateriāli | D24: kompl | E24: 4
A25: 2 | C25: Virsmas gruntēšana | D25: m2 | E25: 23.62
C26: Bituma grunts 01 Praimer ( vai ekvivalents) | D26: kg | E26: 25
A27: 3 | C27: Skārda lāseņa,( pieslēgumu pie sienas - iefrēzē sienā ) un notekas montāža | D27: kompl | E27: 4
C28: Lāsenis A=90mm B=60mm C=20mm | D28: m | E28: 12
C29: Sikaflex Construction D600ml | D29: gb | E29: 2
C30: Teknes gals 125mm | D30: gb | E30: 4
C31: Teknes āķis īsais 125mm | D31: gb | E31: 14
C32: Tekne 125mm | D32: m | E32: 12
C33: Piltuve (figurāla) 125 / 100 | D33: gb | E33: 4
C34: Pieslēgums pie sienas | D34: m | E34: 12
C35: Palīgmateriāli | D35: kompl | E35: 4
A36: 4 | C36: Notekcauruļu montāža | D36: m | E36: 10
C37: Notekcaurule apaļa 100mm | D37: m | E37: 10
C38: Notekcaurules kronšteins 100mm (ar tapskrūvi, dībeļi) | D38: gb | E38: 9
C39: Notekcaurules apakšējāis līkums(valcēts) 100mm | D39: gb | E39: 3
C40: Notekcaurules līkums (valcēts) 100mm | D40: gb | E40: 6
C41: Montāžas materiāli | D41: m | E41: 10
A42: 5 | C42: Jumtiņu vējmalas montāža | D42: m | E42: 22
C43: Vējmala bitumena jumtiem | D43: m | E43: 22
C44: Palīgmateriāli | D44: kompl | E44: 4
A45: 6 | C45: Hidroizolācijas virsklāja materiāla Uniflex 5.0 EKP kausēšana | D45: m2 | E45: 31
C46: Hidroizolācijas virsklāja materiāls Uniflex 5.0 EKP ( vai ekvivalents) | D46: m2 | E46: 36
C47: Sašķidrinātā gāze | D47: kg | E47: 15
C48: Palīgmateriāli | D48: kompl | E48: 4
A49: 7 | C49: Jumtiņu balsta metāla konstrukciju slīpēšana ( sagatavošana krāsošanas darbiem ) | D49: kompl | E49: 4
C50: Slīpēšanas diski | D50: gb | E50: 32
A51: 8 | C51: Jumtiņu balsta metāla balsta konstrukciju krāsošana x2 reizes | D51: kompl | E51: 4
C52: Hammerite krāsa brūna ( vai analgs) ( vai ekvivalents) | D52: l | E52: 8
C53: Palīgmateriāli | D53: kompl | E53: 1
A54: 9 | C54: Griestu virsmas sagatavošana, mazgāšana ar augstpiediena strūklu vai mehāniskā tīrīšana, griestu apdares noņemšana | D54: m2 | E54: 31
A55: 10 | C55: Griestu gruntēšana | D55: m2 | E55: 31
C56: Sakret UG grunts ( vai ekvivalents) | D56: L | E56: 5
A57: 11 | C57: Griestu virsmas špaktelēšana ( armēšana ) ar Sakret Bak armēšanas javu iestrādājot stikla šķiedra sietu un PVC stūrīšus ar sietu | D57: m2 | E57: 31
C58: Stiklšķiedras siets 50m2 , Dzeltens, 160g ( vai ekvivalents) | D58: m2 | E58: 36
C59: Sakret Bak 25kg armēšanas java pelēka ( vai ekvivalents) | D59: kg | E59: 200
C60: Stūris (PVC+siets balts 100x100x2500mm) ( vai ekvivalents) | D60: m | E60: 35
A61: 12 | C61: Sienu un griestu gruntēšana ar zemapmetuma grunti | D61: m2 | E61: 31
C62: Grunts Sakret PG/15kg ( vai ekvivalents) | D62: kg | E62: 15
A63: 13 | C63: Dekoratīva tonēta akrīla apmetuma, ierīkošana, grauda lielums 2mm | D63: m2 | E63: 31
C64: Tonēts Sakret AP/ 25kg akrila apmetums, grauda lielums 2mm ( toni saskaņot ar mājas vecāko) ( vai ekvivalents) | D64: kg | E64: 125
A65: 14 | C65: Objekta sakārtošana, gružu savākšana/utilizācija | D65: obj | E65: 1
A66: 56 | D66: gab
A67: Kopā:
C68: Transporta izmaksas:
C69: Tiešās izmaksas kopā, t.sk. darba devēja sociālais nodoklis 23,59%
C70: Virsizdevumi:
C71: Darbuzņēmēja peļņa:
C72: Kopā bez PVN:
C73: PVN
C74: Pavisam kopā:

Sheet 8. Priežu iela 1
A1: 8.pielikums iepirkuma “Daudzdzīvokļu dzīvojamo ēku jumtu remontdarbi”, iepirkuma identifikācijas Nr.SIAON 2024/17-MI, Nolikumam
B3: TEHNISKĀ SPECIFIKĀCIJA UN TEHNISKAIS PIEDĀVĀJUMS
H5: Ēkas ieejas jumtiņu remonts - 3 gb
A6: (Darba veids vai konstruktīvā elementa nosaukums)
C8: Būves nosaukums: | D8: Daudzdzīvokļu nams
C9: Objekta adrese: | D9: Priežu iela 1, Ogre
C10: Pasūtītājs: | D10: Sabiedrība ar ierobežotu atbildību ''Ogres Namsaimnieks''
C11: Izpildītājs:
O13: Pretendenta piedāvātā darbu summa, Eur bez PVN: | P13: =P56 -> 0
A15: Nr.p.k | B15: Kods | C15: Būvdarbu apraksts | D15: Mērvienība | E15: Daudzums | F15: Vienības izmaksas | L15: Kopā uz visu apjomu
F16: Laika norma (c/h) | G16: Darba samaksas likme (euro/h) | H16: Darba alga (euro) | I16: Būvizstrādājumi (euro) | J16: Mehā-nismi (euro) | K16: Kopā (euro) | L16: Darb-ietilpība (c/h) | M16: Darba alga (euro) | N16: Būvizstrādājumi (euro) | O16: Mehā-nismi (euro) | P16: Summa (euro)
A17: 1 | B17: =A17+1 -> 2 | C17: =B17+1 -> 3 | D17: =C17+1 -> 4 | E17: =D17+1 -> 5 | F17: =E17+1 -> 6 | G17: =F17+1 -> 7 | H17: =G17+1 -> 8 | I17: =H17+1 -> 9 | ... P17: =O17+1 -> 16
A18: 1 | C18: Esošo jumtiņu skārda malu demontāža | D18: m | E18: 30.6
A19: 2 | C19: Jumta seguma sagatavošana darbam, esošā seguma demontāžas darbi | D19: m2 | E19: 21
C20: Sakret bh 25kg ( vai ekvivalents) | D20: kg | E20: 150
C21: Palīgmateriāli | D21: kompl | E21: 1
A22: 3 | C22: Skārda lāseņa montāža | D22: m | E22: 11
A23: 4 | C23: Vējmalu montāža | D23: m | E23: 9
A24: 5 | C24: Pieslēgumu pie sienas montāža | D24: m | E24: 21
C25: Vējmala bitumena jumtiem | D25: m | E25: 10
C26: Skārda lāsenis | D26: m | E26: 12
C27: Pieslēgums pie sienas | D27: m | E27: 22
C28: Palīgmateriāli | D28: kompl | E28: 1
A29: 6 | C29: Jumta hidroizolācijas materiāla virsklāja Unifleks EKP 5.0 (virsklājs, ~4,4mm) ieklāšana, pieslegumu pie jumta sienu aplīmēšana | D29: m2 | E29: 21
C30: Unifleks EKP 5.0 (virsklājs, ~4,4mm) ( vai ekvivalents) | D30: m2 | E30: 24
C31: Palīgmateriāli | D31: kompl | E31: 1
A32: 7 | C32: Jumtiņu teknes ierīkošana | D32: m | E32: 11
C33: Tekne ZN 125mm( apaļa ) | D33: m | E33: 12
C34: Teknes stiprinājums īsais Zn 125mm | D34: gb | E34: 15
C35: Teknes galu vāki125mm | D35: gb | E35: 6
C36: Piltuve Zn 125/1000mm | D36: gb | E36: 3
C37: Montāžas materiāli | D37: m | E37: 11
A38: 8 | C38: Notekcauruļu montāža | D38: m | E38: 9
C39: Notekcaurule apaļa 100mm | D39: m | E39: 10
C40: Notekcaurules kronšteins 100mm (ar tapskrūvi, dībeļi) | D40: gb | E40: 10
C41: Notekcaurules apakšējāis līkums(valcēts) 100mm | D41: gb | E41: 3
C42: Montāžas materiāli | D42: m | E42: 9
A43: 9 | C43: Jumtiņu apdares no apakšas remonts ( caurumu aizdare, virsmas špaktelēšana iestrādājot stiklašķiedra sietu) | D43: m2 | E43: 21
C44: Stiklšķiedras siets 50m2 (Valmieras 1 klase), Dzeltens, 160g ( vai ekvivalents) | D44: m2 | E44: 25
C45: Sakret BAK/25kg java ( vai ekvivalents) | D45: kg | E45: 200
C46: Palīgmateriāli | D46: kompl | E46: 1
A47: 10 | C47: Jumtiņu virsmas gruntēšana, krāsošana x 2 reizes | D47: m2 | E47: 21
C48: Grunts SAKRET PG 25 kg ( vai ekvivalents) | D48: kg | E48: 5
C49: Krāsa Forakril C tonētā 9L/ ( Ral 7003 ) ( vai ekvivalents) | D49: L | E49: 5
A50: 11 | C50: Objekta sakārtošana, gružu savākšana | D50: obj. | E50: 1
A51: Kopā:
C52: Transporta izmaksas:
C53: Tiešās izmaksas kopā, t.sk. darba devēja sociālais nodoklis 23,59%
C54: Virsizdevumi:
C55: Darbuzņēmēja peļņa:
C56: Kopā bez PVN:
C57: PVN
C58: Pavisam kopā:

Sheet 9. Upes pr. 18A
A1: 8.pielikums iepirkuma “Daudzdzīvokļu dzīvojamo ēku jumtu remontdarbi”, iepirkuma identifikācijas Nr.SIAON 2024/17-MI, Nolikumam
B3: TEHNISKĀ SPECIFIKĀCIJA UN TEHNISKAIS PIEDĀVĀJUMS
H5: Ieejas jumtiņu remonts - 3 gb
A6: (Darba veids vai konstruktīvā elementa nosaukums)
C8: Būves nosaukums: | D8: Daudzdzīvokļu nams
C9: Objekta adrese: | D9: Upes pr. 18A, Ogre
C10: Pasūtītājs: | D10: Sabiedrība ar ierobežotu atbildību ''Ogres Namsaimnieks''
C11: Izpildītājs:
O13: Pretendenta piedāvātā darbu summa, Eur bez PVN: | P13: =P45 -> 0
A15: Nr.p.k | B15: Kods | C15: Būvdarbu apraksts | D15: Mērvienība | E15: Daudzums | F15: Vienības izmaksas | L15: Kopā uz visu apjomu
F16: Laika norma (c/h) | G16: Darba samaksas likme (euro/h) | H16: Darba alga (euro) | I16: Būvizstrādājumi (euro) | J16: Mehā-nismi (euro) | K16: Kopā (euro) | L16: Darb-ietilpība (c/h) | M16: Darba alga (euro) | N16: Būvizstrādājumi (euro) | O16: Mehā-nismi (euro) | P16: Summa (euro)
A17: 1 | B17: =A17+1 -> 2 | C17: =B17+1 -> 3 | D17: =C17+1 -> 4 | E17: =D17+1 -> 5 | F17: =E17+1 -> 6 | G17: =F17+1 -> 7 | H17: =G17+1 -> 8 | I17: =H17+1 -> 9 | ... P17: =O17+1 -> 16
A18: 1 | C18: Esošā seguma demontāža | D18: m2 | E18: 18
A19: 2 | C19: Esošo skārda vējmalu un pieslēgumu pie sienas demontāža | D19: m | E19: 24
A20: 3 | C20: Jumtiņu pamatnes tīrīšana, gruntēšana, sagatavošana | D20: m2 | E20: 18
C21: Bitumena grunts TECHNONICOL ( vai ekvivalents) | D21: L | E21: 10
C22: Palīgmateriāli | D22: kompl | E22: 1
A23: 4 | C23: Jumtiņu skārda vējmalu, pieslēgumu pie sienas montāža | D23: m | E23: 24
C24: Pieslēgums pie sienas | D24: m | E24: 10
C25: Vējmala bitumena jumtiem | D25: m | E25: 7
C26: Lāsenis | D26: m | E26: 10
C27: Montāžas materiāli | D27: m | E27: 24
A28: 5 | C28: Jumta seguma ieklāšana | D28: m2 | E28: 18
C29: Unifleks Ekstra EKP virsklājs, ~4,5mm ( vai ekvivalents) | D29: m2 | E29: 21
C30: Palīgmateriāli | D30: kompl | E30: 3
A31: 6 | C31: Jumtiņu apdare no apakšas - sagatavošana krāsošanai, ( virsmas gruntēšana, špaktelēšana ) | D31: m2 | E31: 18
C32: Sakret bak ( vai ekvivalents) | D32: kg | E32: 100
C33: Sakret dziļumgrunts ( vai ekvivalents) | D33: L | E33: 5
C34: Stiklašķiedra siets ( vai ekvivalents) | D34: m2 | E34: 21
C35: Palīgmateriāli | D35: kompl | E35: 1
A36: 7 | C36: Jumtiņu griestu virsmas krāsošana x2 reizes | D36: m2 | E36: 18
C37: Forakril krāsa + tonēšana ( vai ekvivalents) | D37: L | E37: 10
C38: Palīgmateriāli | D38: kompl | E38: 1
A39: 8 | C39: Objekta sakārtošana, gružu savākšana utilizācija | D39: obj | E39: 1
A40: Kopā:
C41: Transporta izmaksas:
C42: Tiešās izmaksas kopā, t.sk. darba devēja sociālais nodoklis 23,59%
C43: Virsizdevumi:
C44: Darbuzņēmēja peļņa:
C45: Kopā bez PVN:
C46: PVN
C47: Pavisam kopā:

Sheet 10. Tīnūžu iela 11
A1: 8.pielikums iepirkuma “Daudzdzīvokļu dzīvojamo ēku jumtu remontdarbi”, iepirkuma identifikācijas Nr.SIAON 2024/17-MI, Nolikumam
B3: TEHNISKĀ SPECIFIKĀCIJA UN TEHNISKAIS PIEDĀVĀJUMS
H5: Parapeta remonts, hidroizolācijas ieklāšana
A6: (Darba veids vai konstruktīvā elementa nosaukums)
C8: Būves nosaukums: | D8: Daudzdzīvokļu nams
C9: Objekta adrese: | D9: Tīnūžu iela 11, Ogre
C10: Pasūtītājs: | D10: Sabiedrība ar ierobežotu atbildību ''Ogres Namsaimnieks''
C11: Izpildītājs:
O13: Pretendenta piedāvātā darbu summa, Eur bez PVN: | P13: =P31 -> 0
A15: Nr.p.k | B15: Kods | C15: Būvdarbu apraksts | D15: Mērvienība | E15: Daudzums | F15: Vienības izmaksas | L15: Kopā uz visu apjomu
F16: Laika norma (c/h) | G16: Darba samaksas likme (euro/h) | H16: Darba alga (euro) | I16: Būvizstrādājumi (euro) | J16: Mehā-nismi (euro) | K16: Kopā (euro) | L16: Darb-ietilpība (c/h) | M16: Darba alga (euro) | N16: Būvizstrādājumi (euro) | O16: Mehā-nismi (euro) | P16: Summa (euro)
A17: 1 | B17: =A17+1 -> 2 | C17: =B17+1 -> 3 | D17: =C17+1 -> 4 | E17: =D17+1 -> 5 | F17: =E17+1 -> 6 | G17: =F17+1 -> 7 | H17: =G17+1 -> 8 | I17: =H17+1 -> 9 | ... P17: =O17+1 -> 16
A18: 1 | C18: Parapeta virsmas sagatavošana, virsmas tīrīšana, salaidumu apdare ar hermētiķi | D18: m | E18: 65
C19: Hyperseal Expert - 150 600 cc( vai ekvivalents) | D19: gb | E19: 15
C20: Palīgmateriāli | D20: kompl | E20: 1
A21: 2 | C21: Parapeta skārda pamatnes gruntēšana, hidroizolācijas seguma ieklāšana x2 kārtās | D21: m2 | E21: 40
C22: Microsealer - 50 grunts ( vai ekvivalents) | D22: L | E22: 8
C23: Hyperdesmo ADY-E grey ( vai ekvivalents) | D23: L | E23: 30
C24: Palīgmateriāli | D24: kompl | E24: 1
A25: 3 | C25: Objekta sakārtošana, gružu savākšana | D25: obj | E25: 1
A26: Kopā:
C27: Transporta izmaksas:
C28: Tiešās izmaksas kopā, t.sk. darba devēja sociālais nodoklis 23,59%
C29: Virsizdevumi:
C30: Darbuzņēmēja peļņa:
C31: Kopā bez PVN:
C32: PVN
C33: Pavisam kopā:

Sheet 11. Skolas iela 10
A1: 8.pielikums iepirkuma “Daudzdzīvokļu dzīvojamo ēku jumtu remontdarbi”, iepirkuma identifikācijas Nr.SIAON 2024/17-MI, Nolikumam
B3: TEHNISKĀ SPECIFIKĀCIJA UN TEHNISKAIS PIEDĀVĀJUMS
H5: Jumta seguma remonts
A6: (Darba veids vai konstruktīvā elementa nosaukums)
C8: Būves nosaukums: | D8: Daudzdzīvokļu nams
C9: Objekta adrese: | D9: Skolas iela 10, Ogre
C10: Pasūtītājs: | D10: Sabiedrība ar ierobežotu atbildību ''Ogres Namsaimnieks''
C11: Izpildītājs:
O13: Pretendenta piedāvātā darbu summa, Eur bez PVN: | P13: =P36 -> 0
A15: Nr.p.k | B15: Kods | C15: Būvdarbu apraksts | D15: Mērvienība | E15: Daudzums | F15: Vienības izmaksas | L15: Kopā uz visu apjomu
F16: Laika norma (c/h) | G16: Darba samaksas likme (euro/h) | H16: Darba alga (euro) | I16: Būvizstrādājumi (euro) | J16: Mehā-nismi (euro) | K16: Kopā (euro) | L16: Darb-ietilpība (c/h) | M16: Darba alga (euro) | N16: Būvizstrādājumi (euro) | O16: Mehā-nismi (euro) | P16: Summa (euro)
A17: 1 | B17: =A17+1 -> 2 | C17: =B17+1 -> 3 | D17: =C17+1 -> 4 | E17: =D17+1 -> 5 | F17: =E17+1 -> 6 | G17: =F17+1 -> 7 | H17: =G17+1 -> 8 | I17: =H17+1 -> 9 | ... P17: =O17+1 -> 16
A18: 1 | C18: Jutmta virsmas sagatavošana, tīrīšana. | D18: m2 | E18: 150
A19: 2 | C19: Materiālu uzcelšana uz jumta | D19: obj. | E19: 1
A20: 3 | C20: Pamatnes gruntēšana | D20: m2 | E20: 150
C21: Bitumena grunts №01 (PRAIMER)( vai ekvivalents ) | D21: L | E21: 40
C22: Palīgmateriāli | D22: kompl | E22: 1
A23: 4 | C23: Jumta seguma virskārtas ieklāšana | D23: m2 | E23: 150
C24: Unifleks Ekstra EKP virsklājs, ~4,5mm ( vai ekvivalents ) | D24: m2 | E24: 180
C25: Gāze | D25: baloni | E25: 3
C26: Palīgmateriāli | D26: kompl. | E26: 1
A27: 5 | C27: Aeratoru montāža | D27: gb | E27: 4
C28: Ventilācijas aeratori | D28: gb | E28: 4
C29: Palīgmateriāli | D29: kompl. | E29: 1
A30: 6 | C30: Objekta sakārtošana, gružu savākšana | D30: obj. | E30: 1
A31: Kopā:
C32: Transporta izmaksas:
C33: Tiešās izmaksas kopā, t.sk. darba devēja sociālais nodoklis 23,59%
C34: Virsizdevumi:
C35: Darbuzņēmēja peļņa:
C36: Kopā bez PVN:
C37: PVN
C38: Pavisam kopā:

Sheet 12. Ausekļa pr. 15
A1: 8.pielikums iepirkuma “Daudzdzīvokļu dzīvojamo ēku jumtu remontdarbi”, iepirkuma identifikācijas Nr.SIAON 2024/17-MI, Nolikumam
B3: TEHNISKĀ SPECIFIKĀCIJA UN TEHNISKAIS PIEDĀVĀJUMS
H5: Mājas parapeta remonts, nosegšana ar skārdu, jumta seguma virs lifta telpas remonts
A6: (Darba veids vai konstruktīvā elementa nosaukums)
C8: Būves nosaukums: | D8: Daudzdzīvokļu nams
C9: Objekta adrese: | D9: Ausekļa pr. 15, Ogre
C10: Pasūtītājs: | D10: Sabiedrība ar ierobežotu atbildību ''Ogres Namsaimnieks''
C11: Izpildītājs:
O13: Pretendenta piedāvātā darbu summa, Eur bez PVN: | P13: =P40 -> 0
A15: Nr.p.k | B15: Kods | C15: Būvdarbu apraksts | D15: Mērvienība | E15: Daudzums | F15: Vienības izmaksas | L15: Kopā uz visu apjomu
F16: Laika norma (c/h) | G16: Darba samaksas likme (euro/h) | H16: Darba alga (euro) | I16: Būvizstrādājumi (euro) | J16: Mehā-nismi (euro) | K16: Kopā (euro) | L16: Darb-ietilpība (c/h) | M16: Darba alga (euro) | N16: Būvizstrādājumi (euro) | O16: Mehā-nismi (euro) | P16: Summa (euro)
A17: 1 | B17: =A17+1 -> 2 | C17: =B17+1 -> 3 | D17: =C17+1 -> 4 | E17: =D17+1 -> 5 | F17: =E17+1 -> 6 | G17: =F17+1 -> 7 | H17: =G17+1 -> 8 | I17: =H17+1 -> 9 | ... P17: =O17+1 -> 16
A18: 1 | C18: Skārda nosegelementa izgatavošana, parapeta malas nosegšana ar skārdu | D18: m | E18: 36
C19: ZN skārds | D19: m2 | E19: 18.72
C20: Palīgmateriāli | D20: kompl | E20: 1
A21: 2 | C21: Parapeta skārda un betona pamatnes gruntēšana, hidroizolācijas seguma ieklāšana x2 kārtās | D21: m2 | E21: 25
C22: Microsealer - 50 grunts ( vai ekvivalents ) | D22: L | E22: 8
C23: Hyperdesmo classik sarkans ( vai ekvivalents ) | D23: kg | E23: 50
C24: Hyperdesmo classik pelēks ( vai ekvivalents ) | D24: kg | E24: 50
C25: Palīgmateriāli | D25: kompl | E25: 1
A26: 3 | C26: Jumta seguma bojāto vietu pamatnes tīrīšana, virsmas gruntēšana | D26: m2 | E26: 56
C27: Microsealer - 50 grunts ( vai ekvivalents ) | D27: L | E27: 10
A28: 4 | C28: Jumta seguma remonts, hidroizolācijas pirmās kārtas ieklāšana | D28: m2 | E28: 56
C29: Hyperdesmo classik sarkans ( vai ekvivalents ) | D29: kg | E29: 100
C30: Palīgmateriāli | D30: kompl | E30: 1
A31: 5 | C31: Jumta seguma hidroizolācijas klāja otrā klāja ieklāšana | D31: m2 | E31: 56
C32: Hyperdesmo classik pelēks ( vai ekvivalents ) | D32: kg | E32: 100
C33: Palīgmateriāli | D33: kompl | E33: 1
A34: 6 | C34: Objekta sakārtošana, gružu savākšana | D34: obj | E34: 1
A35: Kopā:
C36: Transporta izmaksas:
C37: Tiešās izmaksas kopā, t.sk. darba devēja sociālais nodoklis 23,59%
C38: Virsizdevumi:
C39: Darbuzņēmēja peļņa:
C40: Kopā bez PVN:
C41: PVN
C42: Pavisam kopā:
