Workbook

Sheet Koptāme
C1: 7.pielikums
C2: Atklāta konkursa ID Nr.CNP/2024/45/ERAF
C3: nolikumam
B4: ATKLĀTA KONKURSA
B5: Ēkas pārbūve Raiņa ielā 27, Cēsīs, Cēsu novadā
B6: Iepirkuma identifikācijas Nr. CNP/2024/45/ERAF
B7: FINANŠU PIEDĀVĀJUMS / DARBU APJOMI
C8: APSTIPRINU
C10: (pasūtītāja paraksts un tā atšifrējums)
C11: Z.v.
A12: 2024.gada ___.________________
A14: Būvniecības koptāme
A16: Objekta nosaukums: Ēkas pārbūve
A17: Būves nosaukums: Ēkas pārbūve
A18: Objekta adrese: Raiņa iela 27, Cēsis, Cēsu novads
A19: Pasūtījuma Nr. :
A21: Nr.p.k. | B21: Objekta nosaukums | C21: Objekta izmaksas (euro)
A22: 1 | B22: Ēkas vienkāršotā atjaunošana ar lietošanas veida maiņu | C22: =Kopsavilkums!E33 -> 0
B23: kopā | C23: =SUM(C22) -> 0
A24: =[1]KT!B28 -> Pavisam būvniecības izmaksas, neskaitot PVN: | C24: =C23 -> 0
A25: PVN (21%) | C25: =C23*21% -> 0
A26: =[1]KT!B30 -> Pavisam būvniecības izmaksas: | C26: =C23+C25 -> 0
A31: Sastādīja:
C32: (paraksts un tā atšifrējums, datums)
A33: Sertifikāta Nr.:
A36: Pārbaudīja:
C37: (paraksts un tā atšifrējums, datums)

Sheet Kopsavilkums
A1: Kopsavilkuma aprēķins Nr.1
A2: Ēkas pārbūve Raiņa ielā 27, Cēsīs, Cēsu novadā
A3: Vispārējie būvdarbi. Specializētie darbi.
A4: (darba veids vai konstruktīvā elementa nosaukums)
A6: Objekta nosaukums: | C6: Ēkas pārbūve
A7: Būves nosaukums: | C7: Ēkas pārbūve
A8: Objekta adrese: | C8: Raiņa iela 27, Cēsis, Cēsu novads
A9: Pasūtījuma Nr.:
C10: Par kopējo summu, euro | E10: =E33 -> 0
C11: Kopējā darbietilpība, c/h | E11: =I29 -> 0
A13: Nr.p.k. | B13: Kods, tāmes Nr. | C13: Būvdarbu veids vai konstruktīvā elementa nosaukums | E13: Tāmes izmaksas (euro) | F13: Tai skaitā | I13: Darbietilpība (c/h)
F14: darba alga (euro) | G14: būvizstrādājumi (euro) | H14: mehānismi (euro)
A15: 1 | B15: 1 | C15: Demontāžas, sagatavošanās darbi | E15: =F15+G15+H15 -> 0 | F15: =Nr.1!M83 -> 0 | G15: =Nr.1!N83 -> 0 | H15: =Nr.1!O83 -> 0 | I15: =Nr.1!L83 -> 0
A16: 2 | B16: 2 | C16: Vispārējie būvdarbi | E16: =F16+G16+H16 -> 0 | F16: =Nr.2!M345 -> 0 | G16: =Nr.2!N345 -> 0 | H16: =Nr.2!O345 -> 0 | I16: =Nr.2!L345 -> 0
A17: 3 | B17: 3 | C17: Ceļi, laukumi un labiekārtojums | E17: =F17+G17+H17 -> 0 | F17: =Nr.3!M113 -> 0 | G17: =Nr.3!N113 -> 0 | H17: =Nr.3!O113 -> 0 | I17: =Nr.3!L113 -> 0
A18: 4 | B18: 4 | C18: Ugunsgrēka atklāšanas un trauksmes signalizācijas sistēma (UATS) | E18: =F18+G18+H18 -> 0 | F18: =Nr.4!M45 -> 0 | G18: =Nr.4!N45 -> 0 | H18: =Nr.4!O45 -> 0 | I18: =Nr.4!L45 -> 0
A19: 5 | B19: 5 | C19: Apsardzes signalizācijas un piekļuves kontroles sistēma (ESS-ASPK) | E19: =F19+G19+H19 -> 0 | F19: =Nr.5!M62 -> 0 | G19: =Nr.5!N62 -> 0 | H19: =Nr.5!O62 -> 0 | I19: =Nr.5!L62 -> 0
A20: 6 | B20: 6 | C20: Elektronisko sakaru inženiertīkli (ESS-TK) | E20: =F20+G20+H20 -> 0 | F20: =Nr.6!M53 -> 0 | G20: =Nr.6!N53 -> 0 | H20: =Nr.6!O53 -> 0 | I20: =Nr.6!L53 -> 0
A21: 7 | B21: 7 | C21: Videonovērošanas sistēma (ESS-VN) | E21: =F21+G21+H21 -> 0 | F21: =Nr.7!M37 -> 0 | G21: =Nr.7!N37 -> 0 | H21: =Nr.7!O37 -> 0 | I21: =Nr.7!L37 -> 0
A22: 8 | B22: 8 | C22: Ūdensapgāde un kanalizācija (iekšējā) | E22: =F22+G22+H22 -> 0 | F22: =Nr.8!M116 -> 0 | G22: =Nr.8!N116 -> 0 | H22: =Nr.8!O116 -> 0 | I22: =Nr.8!L116 -> 0
A23: 9 | B23: 9 | C23: Apkure | E23: =F23+G23+H23 -> 0 | F23: =Nr.9!M197 -> 0 | G23: =Nr.9!N197 -> 0 | H23: =Nr.9!O197 -> 0 | I23: =Nr.9!L197 -> 0
A24: 10 | B24: 10 | C24: Ventilācija | E24: =F24+G24+H24 -> 0 | F24: =Nr.10!M216 -> 0 | G24: =Nr.10!N216 -> 0 | H24: =Nr.10!O216 -> 0 | I24: =Nr.10!L216 -> 0
A25: 11 | B25: 11 | C25: Kondicionēšana | E25: =F25+G25+H25 -> 0 | F25: =Nr.11!M161 -> 0 | G25: =Nr.11!N161 -> 0 | H25: =Nr.11!O161 -> 0 | I25: =Nr.11!L161 -> 0
A26: 12 | B26: 12 | C26: Siltummezgls | E26: =F26+G26+H26 -> 0 | F26: =Nr.12!M88 -> 0 | G26: =Nr.12!N88 -> 0 | H26: =Nr.12!O88 -> 0 | I26: =Nr.12!L88 -> 0
A27: 13 | B27: 13 | C27: Elektroapgāde | E27: =F27+G27+H27 -> 0 | F27: =Nr.13!M155 -> 0 | G27: =Nr.13!N155 -> 0 | H27: =Nr.13!O155 -> 0 | I27: =Nr.13!L155 -> 0
A28: 14 | B28: 14 | C28: Lietus kanalizācija (ārējā) | E28: =F28+G28+H28 -> 0 | F28: =Nr.14!M46 -> 0 | G28: =Nr.14!N46 -> 0 | H28: =Nr.14!O46 -> 0 | I28: =Nr.14!L46 -> 0
C29: Kopā : | E29: =SUM(E15:E28) -> 0 | F29: =SUM(F15:F28) -> 0 | G29: =SUM(G15:G28) -> 0 | H29: =SUM(H15:H28) -> 0 | I29: =SUM(I15:I28) -> 0
C30: Virsizdevumi (%) | E30: =ROUND(E29*D30,2) -> 0
C31: t.sk.darba aizsardzība | E31: =ROUND(E30*D31,2) -> 0
C32: Peļņa (%) | E32: =ROUND(E29*D32,2) -> 0
C33: Pavisam kopā: | E33: =E29+E30+E32 -> 0
A36: Sastādīja:
C37: (paraksts un tā atšifrējums, datums)
A38: Sertifikāta Nr.:
A41: Pārbaudīja:
C42: (paraksts un tā atšifrējums, datums)

Sheet Nr.1
N1: Ar grozījumiem, kas veikti Iepirkuma komisijs 2024. gada 11.septembra sēdē; 5. protokols
A2: Lokālā tāme Nr. 1
A3: Ēkas pārbūve Raiņa ielā 27, Cēsīs, Cēsu novadā
A4: Demontāžas, sagatavošanas darbi
A5: (būvdarbu veids vai konstruktīvā elementa nosaukums)
A7: =Kopsavilkums!A6 -> Objekta nosaukums: | C7: =Kopsavilkums!C6 -> Ēkas pārbūve
A8: =Kopsavilkums!A7 -> Būves nosaukums: | C8: =Kopsavilkums!C7 -> Ēkas pārbūve
A9: =Kopsavilkums!A8 -> Objekta adrese: | C9: =Kopsavilkums!C8 -> Raiņa iela 27, Cēsis, Cēsu novads
A10: =Kopsavilkums!A9 -> Pasūtījuma Nr.: | C10: =Kopsavilkums!C9 -> 0
K11: Tāmes izmaksas: | M11: Eur | N11: =P83 -> 0
A12: Tāme sastādīta 2024.gada tirgus cenās,pamatojoties uz AR, DOP daļas rasējumiem.
F13: Tāme sastādīta 2024. gada ___.______________
A15: Nr.p.k. | B15: Kods | C15: Būvdarbu nosaukums | D15: Mērvienība | E15: Daudzums | F15: Vienības izmaksas | L15: Kopā uz visu apjomu
F16: Laika norma (c/h) | G16: darba samaksas likme* (euro/h) | H16: darba alga | I16: būvizstrādājumi | J16: mehānismi | K16: kopā | L16: darbietilpība (c/h) | M16: darba alga | N16: būvizstrādājumi | O16: mehānismi | P16: summa
A17: 1 | B17: 2 | C17: 3 | D17: 4 | E17: 5 | F17: 6 | G17: 7 | H17: 8 | I17: 9 | J17: 10 | K17: 11 | L17: 12 | M17: 13 | N17: 14 | O17: 15 | P17: 16
A18: 1-1 | C18: BŪVLAUKUMA SAGATAVOŠANAS DARBI
A19: 1-1-1 | B19: 03-00000 | C19: Būvtāfeles izgatavošana un montāža | D19: gb. | E19: 1 | K19: =ROUND(J19+I19+H19,2) -> 0 | L19: =ROUND(F19*E19,2) -> 0 | M19: =ROUND(H19*E19,2) -> 0 | N19: =ROUND(I19*E19,2) -> 0 | O19: =ROUND(J19*E19,2) -> 0 | P19: =ROUND(O19+N19+M19,2) -> 0
A20: 1-1-2 | B20: 03-01000 | C20: Mobīlā žoga h=1,8m montāža, demontāža | D20: m | E20: 187 | K20: =ROUND(J20+I20+H20,2) -> 0 | L20: =ROUND(F20*E20,2) -> 0 | M20: =ROUND(H20*E20,2) -> 0 | N20: =ROUND(I20*E20,2) -> 0 | O20: =ROUND(J20*E20,2) -> 0 | P20: =ROUND(O20+N20+M20,2) -> 0
A21: 1-1-3 | B21: 03-00000 | C21: Pagaidu ugunsdrošības stendu montāža | D21: gb. | E21: 1 | K21: =ROUND(J21+I21+H21,2) -> 0 | L21: =ROUND(F21*E21,2) -> 0 | M21: =ROUND(H21*E21,2) -> 0 | N21: =ROUND(I21*E21,2) -> 0 | O21: =ROUND(J21*E21,2) -> 0 | P21: =ROUND(O21+N21+M21,2) -> 0
A22: 1-1-4 | B22: 03-00000 | C22: Pagaidu norāžu – ceļa zīmju izvietošana saskaņojot ar pasūtītāju | D22: kpl. | E22: 1 | K22: =ROUND(J22+I22+H22,2) -> 0 | L22: =ROUND(F22*E22,2) -> 0 | M22: =ROUND(H22*E22,2) -> 0 | N22: =ROUND(I22*E22,2) -> 0 | O22: =ROUND(J22*E22,2) -> 0 | P22: =ROUND(O22+N22+M22,2) -> 0
A23: 1-1-5 | B23: 03-00000 | C23: Pagaidu prožektori būvlaukumā | D23: gb | E23: 4 | K23: =ROUND(J23+I23+H23,2) -> 0 | L23: =ROUND(F23*E23,2) -> 0 | M23: =ROUND(H23*E23,2) -> 0 | N23: =ROUND(I23*E23,2) -> 0 | O23: =ROUND(J23*E23,2) -> 0 | P23: =ROUND(O23+N23+M23,2) -> 0
A24: 1-1-6 | B24: 03-00000 | C24: Smēķēšanas vietas ierīkošana | D24: kpl. | E24: 1 | K24: =ROUND(J24+I24+H24,2) -> 0 | L24: =ROUND(F24*E24,2) -> 0 | M24: =ROUND(H24*E24,2) -> 0 | N24: =ROUND(I24*E24,2) -> 0 | O24: =ROUND(J24*E24,2) -> 0 | P24: =ROUND(O24+N24+M24,2) -> 0
A25: 1-1-7 | C25: Pagaidu ēkas un būves
A26: 1-1-8 | B26: 03-00000 | C26: Vadības biroja moduļa uzstādīšana, demontāža, ieskaitot transporta un celšanas mehānismu izmaksas | D26: gb | E26: 1 | K26: =ROUND(J26+I26+H26,2) -> 0 | L26: =ROUND(F26*E26,2) -> 0 | M26: =ROUND(H26*E26,2) -> 0 | N26: =ROUND(I26*E26,2) -> 0 | O26: =ROUND(J26*E26,2) -> 0 | P26: =ROUND(O26+N26+M26,2) -> 0
A27: 1-1-9 | B27: 03-00000 | C27: Strādnieku sadzīves telpas moduļa uzstādīšana, demontāža, ieskaitot transporta un celšanas mehānismu izmaksas | D27: gb | E27: 1 | K27: =ROUND(J27+I27+H27,2) -> 0 | L27: =ROUND(F27*E27,2) -> 0 | M27: =ROUND(H27*E27,2) -> 0 | N27: =ROUND(I27*E27,2) -> 0 | O27: =ROUND(J27*E27,2) -> 0 | P27: =ROUND(O27+N27+M27,2) -> 0
A28: 1-1-10 | B28: 03-00000 | C28: Instrumentu noliktavas moduļa uzstādīšana, demontāža, ieskaitot transporta un celšanas mehānismu izmaksas | D28: gb | E28: 1 | K28: =ROUND(J28+I28+H28,2) -> 0 | L28: =ROUND(F28*E28,2) -> 0 | M28: =ROUND(H28*E28,2) -> 0 | N28: =ROUND(I28*E28,2) -> 0 | O28: =ROUND(J28*E28,2) -> 0 | P28: =ROUND(O28+N28+M28,2) -> 0
A29: 1-1-11 | B29: 03-00000 | C29: BIO tualetes moduļa uzstādīšana, demontāža, ieskaitot transporta un celšanas mehānismu izmaksas | D29: kpl. | E29: 1 | K29: =ROUND(J29+I29+H29,2) -> 0 | L29: =ROUND(F29*E29,2) -> 0 | M29: =ROUND(H29*E29,2) -> 0 | N29: =ROUND(I29*E29,2) -> 0 | O29: =ROUND(J29*E29,2) -> 0 | P29: =ROUND(O29+N29+M29,2) -> 0
A30: 1-1-12 | B30: 03-00000 | C30: Pagaidu elektropieslēgums un skaitītājs | D30: gb | E30: 1 | K30: =ROUND(J30+I30+H30,2) -> 0 | L30: =ROUND(F30*E30,2) -> 0 | M30: =ROUND(H30*E30,2) -> 0 | N30: =ROUND(I30*E30,2) -> 0 | O30: =ROUND(J30*E30,2) -> 0 | P30: =ROUND(O30+N30+M30,2) -> 0
A31: 1-1-13 | B31: 03-00000 | C31: Ūdens skaitītāja uzstādīšana | D31: gb | E31: 1 | K31: =ROUND(J31+I31+H31,2) -> 0 | L31: =ROUND(F31*E31,2) -> 0 | M31: =ROUND(H31*E31,2) -> 0 | N31: =ROUND(I31*E31,2) -> 0 | O31: =ROUND(J31*E31,2) -> 0 | P31: =ROUND(O31+N31+M31,2) -> 0
A32: 1-1-14 | C32: Būvlaukuma uzturēšana
A33: 1-1-15 | B33: 03-00000 | C33: Vadības biroja moduļa noma, 1gab. | D33: kpl. | E33: 1 | K33: =ROUND(J33+I33+H33,2) -> 0 | L33: =ROUND(F33*E33,2) -> 0 | M33: =ROUND(H33*E33,2) -> 0 | N33: =ROUND(I33*E33,2) -> 0 | O33: =ROUND(J33*E33,2) -> 0 | P33: =ROUND(O33+N33+M33,2) -> 0
A34: 1-1-16 | B34: 03-00000 | C34: Sadzīves moduļa noma, 1gab. | D34: kpl. | E34: 1 | K34: =ROUND(J34+I34+H34,2) -> 0 | L34: =ROUND(F34*E34,2) -> 0 | M34: =ROUND(H34*E34,2) -> 0 | N34: =ROUND(I34*E34,2) -> 0 | O34: =ROUND(J34*E34,2) -> 0 | P34: =ROUND(O34+N34+M34,2) -> 0
A35: 1-1-17 | B35: 03-00000 | C35: Instrumentu noliktavas moduļa noma 1gb. | D35: kpl. | E35: 1 | K35: =ROUND(J35+I35+H35,2) -> 0 | L35: =ROUND(F35*E35,2) -> 0 | M35: =ROUND(H35*E35,2) -> 0 | N35: =ROUND(I35*E35,2) -> 0 | O35: =ROUND(J35*E35,2) -> 0 | P35: =ROUND(O35+N35+M35,2) -> 0
A36: 1-1-18 | B36: 03-00000 | C36: BIO tualetes moduļa apkalpošana, noma 1gb. | D36: kpl. | E36: 1 | K36: =ROUND(J36+I36+H36,2) -> 0 | L36: =ROUND(F36*E36,2) -> 0 | M36: =ROUND(H36*E36,2) -> 0 | N36: =ROUND(I36*E36,2) -> 0 | O36: =ROUND(J36*E36,2) -> 0 | P36: =ROUND(O36+N36+M36,2) -> 0
A37: 1-1-19 | B37: 03-00000 | C37: Sadzīves atkritumu konteinera izvešana, noma 1gb. | D37: kpl. | E37: 1 | K37: =ROUND(J37+I37+H37,2) -> 0 | L37: =ROUND(F37*E37,2) -> 0 | M37: =ROUND(H37*E37,2) -> 0 | N37: =ROUND(I37*E37,2) -> 0 | O37: =ROUND(J37*E37,2) -> 0 | P37: =ROUND(O37+N37+M37,2) -> 0
A38: 1-1-20 | B38: 03-00000 | C38: Būvgružu konteineru izvešana, noma 1gb. | D38: kpl. | E38: 1 | K38: =ROUND(J38+I38+H38,2) -> 0 | L38: =ROUND(F38*E38,2) -> 0 | M38: =ROUND(H38*E38,2) -> 0 | N38: =ROUND(I38*E38,2) -> 0 | O38: =ROUND(J38*E38,2) -> 0 | P38: =ROUND(O38+N38+M38,2) -> 0
A39: 1-1-21 | B39: 03-00000 | C39: Maksa par elektroenerģiju | D39: kpl. | E39: 1 | K39: =ROUND(J39+I39+H39,2) -> 0 | L39: =ROUND(F39*E39,2) -> 0 | M39: =ROUND(H39*E39,2) -> 0 | N39: =ROUND(I39*E39,2) -> 0 | O39: =ROUND(J39*E39,2) -> 0 | P39: =ROUND(O39+N39+M39,2) -> 0
A40: 1-1-22 | B40: 03-00000 | C40: Maksa par ūdeni | D40: kpl. | E40: 1 | K40: =ROUND(J40+I40+H40,2) -> 0 | L40: =ROUND(F40*E40,2) -> 0 | M40: =ROUND(H40*E40,2) -> 0 | N40: =ROUND(I40*E40,2) -> 0 | O40: =ROUND(J40*E40,2) -> 0 | P40: =ROUND(O40+N40+M40,2) -> 0
A41: 1-1-23 | B41: 03-00000 | C41: Objekta apsardze (pagaidu videonovērošana) | D41: kpl. | E41: 1 | K41: =ROUND(J41+I41+H41,2) -> 0 | L41: =ROUND(F41*E41,2) -> 0 | M41: =ROUND(H41*E41,2) -> 0 | N41: =ROUND(I41*E41,2) -> 0 | O41: =ROUND(J41*E41,2) -> 0 | P41: =ROUND(O41+N41+M41,2) -> 0
A42: 1-1-24 | B42: 03-00000 | C42: Elektroniskā darba laika uzskaite (EDLUS sistēma) | D42: kpl. | E42: 1 | K42: =ROUND(J42+I42+H42,2) -> 0 | L42: =ROUND(F42*E42,2) -> 0 | M42: =ROUND(H42*E42,2) -> 0 | N42: =ROUND(I42*E42,2) -> 0 | O42: =ROUND(J42*E42,2) -> 0 | P42: =ROUND(O42+N42+M42,2) -> 0
A43: 1-2 | C43: DEMONTĀŽAS DARBI
A44: 1-2-1 | B44: 02-00000 | C44: Esošās apsardzes signalizācijas sistēmas un esošā ēkas elektrības pieslēguma demontāža | D44: kpl. | E44: 1 | K44: =ROUND(J44+I44+H44,2) -> 0 | L44: =ROUND(F44*E44,2) -> 0 | M44: =ROUND(H44*E44,2) -> 0 | N44: =ROUND(I44*E44,2) -> 0 | O44: =ROUND(J44*E44,2) -> 0 | P44: =ROUND(O44+N44+M44,2) -> 0
A45: 1-2-2 | B45: 02-00000 | C45: Esošo gaismekļu demontāža | D45: kpl. | E45: 1 | K45: =ROUND(J45+I45+H45,2) -> 0 | L45: =ROUND(F45*E45,2) -> 0 | M45: =ROUND(H45*E45,2) -> 0 | N45: =ROUND(I45*E45,2) -> 0 | O45: =ROUND(J45*E45,2) -> 0 | P45: =ROUND(O45+N45+M45,2) -> 0
A46: 1-2-3 | B46: 02-00000 | C46: Esošās lietus kanalizācijas demontāža | D46: kpl. | E46: 1 | K46: =ROUND(J46+I46+H46,2) -> 0 | L46: =ROUND(F46*E46,2) -> 0 | M46: =ROUND(H46*E46,2) -> 0 | N46: =ROUND(I46*E46,2) -> 0 | O46: =ROUND(J46*E46,2) -> 0 | P46: =ROUND(O46+N46+M46,2) -> 0
A47: 1-2-4 | B47: 02-00000 | C47: Ūdensvada pievadu demontāža | D47: kpl. | E47: 1 | K47: =ROUND(J47+I47+H47,2) -> 0 | L47: =ROUND(F47*E47,2) -> 0 | M47: =ROUND(H47*E47,2) -> 0 | N47: =ROUND(I47*E47,2) -> 0 | O47: =ROUND(J47*E47,2) -> 0 | P47: =ROUND(O47+N47+M47,2) -> 0
A48: 1-2-5 | B48: 02-00000 | C48: Ventilācijas cauruļvadu demontāža | D48: kpl. | E48: 1 | K48: =ROUND(J48+I48+H48,2) -> 0 | L48: =ROUND(F48*E48,2) -> 0 | M48: =ROUND(H48*E48,2) -> 0 | N48: =ROUND(I48*E48,2) -> 0 | O48: =ROUND(J48*E48,2) -> 0 | P48: =ROUND(O48+N48+M48,2) -> 0
A49: 1-2-6 | B49: 02-00000 | C49: Esošo stikla bloku demontāža | D49: m² | E49: 18.18 | K49: =ROUND(J49+I49+H49,2) -> 0 | L49: =ROUND(F49*E49,2) -> 0 | M49: =ROUND(H49*E49,2) -> 0 | N49: =ROUND(I49*E49,2) -> 0 | O49: =ROUND(J49*E49,2) -> 0 | P49: =ROUND(O49+N49+M49,2) -> 0
A50: 1-2-7 | B50: 02-00000 | C50: Dzelzsbetona kāpņu demontāža | D50: kpl. | E50: 1 | K50: =ROUND(J50+I50+H50,2) -> 0 | L50: =ROUND(F50*E50,2) -> 0 | M50: =ROUND(H50*E50,2) -> 0 | N50: =ROUND(I50*E50,2) -> 0 | O50: =ROUND(J50*E50,2) -> 0 | P50: =ROUND(O50+N50+M50,2) -> 0
A51: 1-2-8 | B51: 02-00000 | C51: Metāla kāpņu demontāža | D51: kpl. | E51: 1 | K51: =ROUND(J51+I51+H51,2) -> 0 | L51: =ROUND(F51*E51,2) -> 0 | M51: =ROUND(H51*E51,2) -> 0 | N51: =ROUND(I51*E51,2) -> 0 | O51: =ROUND(J51*E51,2) -> 0 | P51: =ROUND(O51+N51+M51,2) -> 0
A52: 1-2-9 | B52: 02-00000 | C52: Murā ventilācijas kanālu demontāža virs jumta plaknes | D52: m³ | E52: 1 | K52: =ROUND(J52+I52+H52,2) -> 0 | L52: =ROUND(F52*E52,2) -> 0 | M52: =ROUND(H52*E52,2) -> 0 | N52: =ROUND(I52*E52,2) -> 0 | O52: =ROUND(J52*E52,2) -> 0 | P52: =ROUND(O52+N52+M52,2) -> 0
A53: 1-2-10 | B53: 02-00000 | C53: Skārda ventilācijas izvadu virs jumta plaknes demontāža | D53: kpl. | E53: 5 | K53: =ROUND(J53+I53+H53,2) -> 0 | L53: =ROUND(F53*E53,2) -> 0 | M53: =ROUND(H53*E53,2) -> 0 | N53: =ROUND(I53*E53,2) -> 0 | O53: =ROUND(J53*E53,2) -> 0 | P53: =ROUND(O53+N53+M53,2) -> 0
A54: 1-2-11 | B54: 02-00000 | C54: Jumta seguma demontāža līdz pārseguma panelim ieskaitot skārda parapetu | D54: m² | E54: 872 | K54: =ROUND(J54+I54+H54,2) -> 0 | L54: =ROUND(F54*E54,2) -> 0 | M54: =ROUND(H54*E54,2) -> 0 | N54: =ROUND(I54*E54,2) -> 0 | O54: =ROUND(J54*E54,2) -> 0 | P54: =ROUND(O54+N54+M54,2) -> 0
A55: 1-2-12 | B55: 02-00000 | C55: Esošās jumta terases demontāža | D55: m² | E55: 225 | K55: =ROUND(J55+I55+H55,2) -> 0 | L55: =ROUND(F55*E55,2) -> 0 | M55: =ROUND(H55*E55,2) -> 0 | N55: =ROUND(I55*E55,2) -> 0 | O55: =ROUND(J55*E55,2) -> 0 | P55: =ROUND(O55+N55+M55,2) -> 0
A56: 1-2-13 | B56: 02-00000 | C56: Kāpņu izejas virs jumta plaknes, skārda apšuvuma demontāža | D56: m² | E56: 39 | K56: =ROUND(J56+I56+H56,2) -> 0 | L56: =ROUND(F56*E56,2) -> 0 | M56: =ROUND(H56*E56,2) -> 0 | N56: =ROUND(I56*E56,2) -> 0 | O56: =ROUND(J56*E56,2) -> 0 | P56: =ROUND(O56+N56+M56,2) -> 0
A57: 1-2-14 | C57: 1. stāvs
A58: 1-2-15 | B58: 02-00000 | C58: Esošo koka iekšdurvju demontāža | D58: m² | E58: 17.67 | K58: =ROUND(J58+I58+H58,2) -> 0 | L58: =ROUND(F58*E58,2) -> 0 | M58: =ROUND(H58*E58,2) -> 0 | N58: =ROUND(I58*E58,2) -> 0 | O58: =ROUND(J58*E58,2) -> 0 | P58: =ROUND(O58+N58+M58,2) -> 0
A59: 1-2-16 | B59: 02-00000 | C59: Esošā koka konstrukcijas logu demontāža | D59: m² | E59: 171.05 | K59: =ROUND(J59+I59+H59,2) -> 0 | L59: =ROUND(F59*E59,2) -> 0 | M59: =ROUND(H59*E59,2) -> 0 | N59: =ROUND(I59*E59,2) -> 0 | O59: =ROUND(J59*E59,2) -> 0 | P59: =ROUND(O59+N59+M59,2) -> 0
A60: 1-2-17 | B60: 02-00000 | C60: Esošās loga ailas OSB vairoga demontāža | D60: m² | E60: 21.2 | K60: =ROUND(J60+I60+H60,2) -> 0 | L60: =ROUND(F60*E60,2) -> 0 | M60: =ROUND(H60*E60,2) -> 0 | N60: =ROUND(I60*E60,2) -> 0 | O60: =ROUND(J60*E60,2) -> 0 | P60: =ROUND(O60+N60+M60,2) -> 0
A61: 1-2-18 | B61: 02-00000 | C61: Ģipškartona starpsienas demontāža | D61: m² | E61: 81.66 | K61: =ROUND(J61+I61+H61,2) -> 0 | L61: =ROUND(F61*E61,2) -> 0 | M61: =ROUND(H61*E61,2) -> 0 | N61: =ROUND(I61*E61,2) -> 0 | O61: =ROUND(J61*E61,2) -> 0 | P61: =ROUND(O61+N61+M61,2) -> 0
A62: 1-2-20 | B62: 02-01000 | C62: Ķieģeļu mūra sienu nojaukšana | D62: m³ | E62: 18.27 | K62: =ROUND(J62+I62+H62,2) -> 0 | L62: =ROUND(F62*E62,2) -> 0 | M62: =ROUND(H62*E62,2) -> 0 | N62: =ROUND(I62*E62,2) -> 0 | O62: =ROUND(J62*E62,2) -> 0 | P62: =ROUND(O62+N62+M62,2) -> 0
B63: 02-00000 | C63: Durvju ailas izbūve sienā izmantojot instrumentus, kas nerada dinamiskus triecienus | D63: m³ | E63: 0.67 | K63: =ROUND(J63+I63+H63,2) -> 0 | L63: =ROUND(F63*E63,2) -> 0 | M63: =ROUND(H63*E63,2) -> 0 | N63: =ROUND(I63*E63,2) -> 0 | O63: =ROUND(J63*E63,2) -> 0 | P63: =ROUND(O63+N63+M63,2) -> 0
A64: 1-2-21 | B64: 02-00000 | C64: Loga ailas izbūve ārsienā izmantojot instrumentus, kas nerada dinamiskus triecienus | D64: m³ | E64: 1.8 | K64: =ROUND(J64+I64+H64,2) -> 0 | L64: =ROUND(F64*E64,2) -> 0 | M64: =ROUND(H64*E64,2) -> 0 | N64: =ROUND(I64*E64,2) -> 0 | O64: =ROUND(J64*E64,2) -> 0 | P64: =ROUND(O64+N64+M64,2) -> 0
A65: 1-2-22 | B65: 02-01000 | C65: Ārsienas demontāža uz ass A 1.stāva līmenī, dzelzsbetona paneļi, bloku mūris | D65: m³ | E65: 20.08 | K65: =ROUND(J65+I65+H65,2) -> 0 | L65: =ROUND(F65*E65,2) -> 0 | M65: =ROUND(H65*E65,2) -> 0 | N65: =ROUND(I65*E65,2) -> 0 | O65: =ROUND(J65*E65,2) -> 0 | P65: =ROUND(O65+N65+M65,2) -> 0
A66: 1-2-23 | B66: 02-00000 | C66: Esošas gala apdares (krāsojums, keramikas flīzes) noņemšana esoša apmetuma remonts | D66: m² | E66: 481.53 | K66: =ROUND(J66+I66+H66,2) -> 0 | L66: =ROUND(F66*E66,2) -> 0 | M66: =ROUND(H66*E66,2) -> 0 | N66: =ROUND(I66*E66,2) -> 0 | O66: =ROUND(J66*E66,2) -> 0 | P66: =ROUND(O66+N66+M66,2) -> 0
A67: 1-2-24 | B67: 02-00000 | C67: Dzelzsbetona plātņu un siju virsmu attīrīšana | D67: m² | E67: 1722.66 | K67: =ROUND(J67+I67+H67,2) -> 0 | L67: =ROUND(F67*E67,2) -> 0 | M67: =ROUND(H67*E67,2) -> 0 | N67: =ROUND(I67*E67,2) -> 0 | O67: =ROUND(J67*E67,2) -> 0 | P67: =ROUND(O67+N67+M67,2) -> 0
A68: 1-2-25 | B68: 02-00000 | C68: Pilna grīdas konstrukcijas un seguma demontāža | D68: m² | E68: 883.3 | K68: =ROUND(J68+I68+H68,2) -> 0 | L68: =ROUND(F68*E68,2) -> 0 | M68: =ROUND(H68*E68,2) -> 0 | N68: =ROUND(I68*E68,2) -> 0 | O68: =ROUND(J68*E68,2) -> 0 | P68: =ROUND(O68+N68+M68,2) -> 0
C69: 2. stāvs
A70: 1-2-27 | B70: 02-00000 | C70: Esošo koka iekšdurvju demontāža | D70: m² | E70: 3.52 | K70: =ROUND(J70+I70+H70,2) -> 0 | L70: =ROUND(F70*E70,2) -> 0 | M70: =ROUND(H70*E70,2) -> 0 | N70: =ROUND(I70*E70,2) -> 0 | O70: =ROUND(J70*E70,2) -> 0 | P70: =ROUND(O70+N70+M70,2) -> 0
A71: 1-2-28 | B71: 02-00000 | C71: Esošā koka konstrukcijas logu demontāža | D71: m² | E71: 252.2 | K71: =ROUND(J71+I71+H71,2) -> 0 | L71: =ROUND(F71*E71,2) -> 0 | M71: =ROUND(H71*E71,2) -> 0 | N71: =ROUND(I71*E71,2) -> 0 | O71: =ROUND(J71*E71,2) -> 0 | P71: =ROUND(O71+N71+M71,2) -> 0
A72: 1-2-29 | B72: 02-00000 | C72: Ģipškartona starpsienas demontāža | D72: m² | E72: 152.64 | K72: =ROUND(J72+I72+H72,2) -> 0 | L72: =ROUND(F72*E72,2) -> 0 | M72: =ROUND(H72*E72,2) -> 0 | N72: =ROUND(I72*E72,2) -> 0 | O72: =ROUND(J72*E72,2) -> 0 | P72: =ROUND(O72+N72+M72,2) -> 0
A73: 1-2-30 | B73: 02-01000 | C73: Ķieģeļu mūra sienu nojaukšana | D73: m³ | E73: 15.9 | K73: =ROUND(J73+I73+H73,2) -> 0 | L73: =ROUND(F73*E73,2) -> 0 | M73: =ROUND(H73*E73,2) -> 0 | N73: =ROUND(I73*E73,2) -> 0 | O73: =ROUND(J73*E73,2) -> 0 | P73: =ROUND(O73+N73+M73,2) -> 0
A74: 1-2-31 | B74: 02-00000 | C74: Durvju ailas izbūve sienā izmantojot instrumentus, kas nerada dinamiskus triecienus | D74: m³ | E74: 0.32 | K74: =ROUND(J74+I74+H74,2) -> 0 | L74: =ROUND(F74*E74,2) -> 0 | M74: =ROUND(H74*E74,2) -> 0 | N74: =ROUND(I74*E74,2) -> 0 | O74: =ROUND(J74*E74,2) -> 0 | P74: =ROUND(O74+N74+M74,2) -> 0
A75: 1-2-32 | B75: 02-00000 | C75: 2.stāva pārseguma paneļu demontāža | D75: gb | E75: 4 | K75: =ROUND(J75+I75+H75,2) -> 0 | L75: =ROUND(F75*E75,2) -> 0 | M75: =ROUND(H75*E75,2) -> 0 | N75: =ROUND(I75*E75,2) -> 0 | O75: =ROUND(J75*E75,2) -> 0 | P75: =ROUND(O75+N75+M75,2) -> 0
A76: 1-2-33 | B76: 02-00000 | C76: 2.stāva dzelzsbetona pārseguma demontāža | D76: m² | E76: 22 | K76: =ROUND(J76+I76+H76,2) -> 0 | L76: =ROUND(F76*E76,2) -> 0 | M76: =ROUND(H76*E76,2) -> 0 | N76: =ROUND(I76*E76,2) -> 0 | O76: =ROUND(J76*E76,2) -> 0 | P76: =ROUND(O76+N76+M76,2) -> 0
A77: 1-2-34 | B77: 02-00000 | C77: Esošas gala apdares (krāsojums, keramikas flīzes) noņemšana esoša apmetuma remonts | D77: m² | E77: 534.93 | K77: =ROUND(J77+I77+H77,2) -> 0 | L77: =ROUND(F77*E77,2) -> 0 | M77: =ROUND(H77*E77,2) -> 0 | N77: =ROUND(I77*E77,2) -> 0 | O77: =ROUND(J77*E77,2) -> 0 | P77: =ROUND(O77+N77+M77,2) -> 0
A78: 1-2-35 | B78: 02-00000 | C78: Dzelzsbetona plātņu un siju virsmu attīrīšana | D78: m² | E78: 1722.66 | K78: =ROUND(J78+I78+H78,2) -> 0 | L78: =ROUND(F78*E78,2) -> 0 | M78: =ROUND(H78*E78,2) -> 0 | N78: =ROUND(I78*E78,2) -> 0 | O78: =ROUND(J78*E78,2) -> 0 | P78: =ROUND(O78+N78+M78,2) -> 0
A79: 1-2-36 | B79: 02-00000 | C79: Esošā grīdas seguma demontāža līdz pārseguma paneļiem | D79: m² | E79: 837.7 | K79: =ROUND(J79+I79+H79,2) -> 0 | L79: =ROUND(F79*E79,2) -> 0 | M79: =ROUND(H79*E79,2) -> 0 | N79: =ROUND(I79*E79,2) -> 0 | O79: =ROUND(J79*E79,2) -> 0 | P79: =ROUND(O79+N79+M79,2) -> 0
A80: 1-3 | C80: BŪVGRUŽI
A81: 1-3-1 | B81: 02-00000 | C81: Būvgružu savākšana | D81: obj. | E81: 1 | K81: =ROUND(J81+I81+H81,2) -> 0 | L81: =ROUND(F81*E81,2) -> 0 | M81: =ROUND(H81*E81,2) -> 0 | N81: =ROUND(I81*E81,2) -> 0 | O81: =ROUND(J81*E81,2) -> 0 | P81: =ROUND(O81+N81+M81,2) -> 0
A82: 1-3-2 | B82: 02-00000 | C82: Būvgružu utilizācija atkritumu poligonā, ieskaitot dabas resursu nodokli | D82: obj. | E82: 1 | K82: =ROUND(J82+I82+H82,2) -> 0 | L82: =ROUND(F82*E82,2) -> 0 | M82: =ROUND(H82*E82,2) -> 0 | N82: =ROUND(I82*E82,2) -> 0 | O82: =ROUND(J82*E82,2) -> 0 | P82: =ROUND(O82+N82+M82,2) -> 0
C83: Tiešās izmaksas kopā, t.sk. darba devēja sociālais nodoklis (23,59%) | L83: =SUM(L18:L82) -> 0 | M83: =SUM(M18:M82) -> 0 | N83: =SUM(N18:N82) -> 0 | O83: =SUM(O18:O82) -> 0 | P83: =SUM(P18:P82) -> 0
A86: =Kopsavilkums!A36 -> Sastādīja: | B86: =Kopsavilkums!B36 -> 0 | C86: =Kopsavilkums!C36 -> 0
A87: =Kopsavilkums!A37 -> 0 | B87: =Kopsavilkums!B37 -> 0 | C87: =Kopsavilkums!C37 -> (paraksts un tā atšifrējums, datums)
A88: =Kopsavilkums!A38 -> Sertifikāta Nr.: | C88: =Kopsavilkums!C38 -> 0
A89: =Kopsavilkums!A39 -> 0 | B89: =Kopsavilkums!B39 -> 0 | C89: =Kopsavilkums!C39 -> 0
A90: =Kopsavilkums!A40 -> 0 | B90: =Kopsavilkums!B40 -> 0 | C90: =Kopsavilkums!C40 -> 0
A91: =Kopsavilkums!A41 -> Pārbaudīja: | C91: =Kopsavilkums!C41 -> 0
A92: =Kopsavilkums!A42 -> 0 | B92: =Kopsavilkums!B42 -> 0 | C92: =Kopsavilkums!C42 -> (paraksts un tā atšifrējums, datums)

Sheet Nr.2
N1: Ar grozījumiem, kas veikti Iepirkuma komisijas 2024. gada 5. septembra sēdē; 4. protokols; ar grozījumiem, kas veikti Iepirkuma komisijs 2024. gada 11.septembra sēdē; 5. protokols, ar grozījumiem, kas veikti Iepirkuma komisijs 2024. gada 16.septembra sēdē; 6. protokols
A2: Lokālā tāme Nr. 2
A3: Ēkas pārbūve Raiņa ielā 27, Cēsīs, Cēsu novadā
A4: Vispārējie būvdarbi.
A5: (būvdarbu veids vai konstruktīvā elementa nosaukums)
D6: =Nr.1!D7 -> 0 | E6: =Nr.1!E7 -> 0 | F6: =Nr.1!F7 -> 0 | G6: =Nr.1!G7 -> 0 | H6: =Nr.1!H7 -> 0 | I6: =Nr.1!I7 -> 0 | J6: =Nr.1!J7 -> 0 | K6: =Nr.1!K7 -> 0 | ... N6: =Nr.1!N7 -> 0
A7: =Nr.1!A7 -> Objekta nosaukums: | C7: =Nr.1!C7 -> Ēkas pārbūve | D7: =Nr.1!D8 -> 0 | E7: =Nr.1!E8 -> 0 | F7: =Nr.1!F8 -> 0 | G7: =Nr.1!G8 -> 0 | H7: =Nr.1!H8 -> 0 | I7: =Nr.1!I8 -> 0 | J7: =Nr.1!J8 -> 0 | K7: =Nr.1!K8 -> 0 | ... N7: =Nr.1!N8 -> 0
A8: =Nr.1!A8 -> Būves nosaukums: | C8: =Nr.1!C8 -> Ēkas pārbūve | D8: =Nr.1!D9 -> 0 | E8: =Nr.1!E9 -> 0 | F8: =Nr.1!F9 -> 0 | G8: =Nr.1!G9 -> 0 | H8: =Nr.1!H9 -> 0 | I8: =Nr.1!I9 -> 0 | J8: =Nr.1!J9 -> 0 | K8: =Nr.1!K9 -> 0 | ... N8: =Nr.1!N9 -> 0
A9: =Nr.1!A9 -> Objekta adrese: | C9: =Nr.1!C9 -> Raiņa iela 27, Cēsis, Cēsu novads | D9: =Nr.1!D10 -> 0 | E9: =Nr.1!E10 -> 0 | F9: =Nr.1!F10 -> 0 | G9: =Nr.1!G10 -> 0 | H9: =Nr.1!H10 -> 0 | I9: =Nr.1!I10 -> 0 | J9: =Nr.1!J10 -> 0 | K9: =Nr.1!K10 -> 0 | ... N9: =Nr.1!N10 -> 0
A10: =Nr.1!A10 -> Pasūtījuma Nr.: | C10: =Nr.1!C10 -> 0
K11: Tāmes izmaksas: | M11: Eur | N11: =P345 -> 0
A12: Tāme sastādīta 2024.gada tirgus cenās,pamatojoties uz AR, BK daļas rasējumiem.
F13: Tāme sastādīta 2024. gada ___.________________
A15: Nr.p.k. | B15: Kods | C15: Būvdarbu nosaukums | D15: Mērvienība | E15: Daudzums | F15: Vienības izmaksas | L15: Kopā uz visu apjomu
F16: Laika norma (c/h) | G16: darba samaksas likme* (euro/h) | H16: darba alga | I16: būvizstrādājumi | J16: mehānismi | K16: kopā | L16: darbietilpība (c/h) | M16: darba alga | N16: būvizstrādājumi | O16: mehānismi | P16: summa
A17: 1 | B17: 2 | C17: 3 | D17: 4 | E17: 5 | F17: 6 | G17: 7 | H17: 8 | I17: 9 | J17: 10 | K17: 11 | L17: 12 | M17: 13 | N17: 14 | O17: 15 | P17: 16
A18: 2-1 | C18: COKOLS
A19: 2-1-1 | B19: 08-00000 | C19: Pamatu atrakšana mehanizēti, grunti utilizēt. | D19: m³ | E19: 110.16 | L19: =ROUND(F19*E19,2) -> 0 | M19: =ROUND(H19*E19,2) -> 0 | N19: =ROUND(I19*E19,2) -> 0 | O19: =ROUND(J19*E19,2) -> 0 | P19: =ROUND(O19+N19+M19,2) -> 0
A20: 2-1-2 | B20: 08-00000 | C20: Pamatu atrakšana izmantojot roku darbu, grunti utilizēt. | D20: m³ | E20: 54 | L20: =ROUND(F20*E20,2) -> 0 | M20: =ROUND(H20*E20,2) -> 0 | N20: =ROUND(I20*E20,2) -> 0 | O20: =ROUND(J20*E20,2) -> 0 | P20: =ROUND(O20+N20+M20,2) -> 0
A21: 2-1-3 | B21: 08-00000 | C21: Nokrišņu ūdens līmeņa pazemināšana tranšejās | D21: kpl. | E21: 1 | L21: =ROUND(F21*E21,2) -> 0 | M21: =ROUND(H21*E21,2) -> 0 | N21: =ROUND(I21*E21,2) -> 0 | O21: =ROUND(J21*E21,2) -> 0 | P21: =ROUND(O21+N21+M21,2) -> 0
A22: 2-1-4 | B22: 08-00000 | C22: Pamatu attīrīšana no nenoturīgā apmetuma, sūnām, zemes atliekām, u.c. | D22: m² | E22: 113.66 | L22: =ROUND(F22*E22,2) -> 0 | M22: =ROUND(H22*E22,2) -> 0 | N22: =ROUND(I22*E22,2) -> 0 | O22: =ROUND(J22*E22,2) -> 0 | P22: =ROUND(O22+N22+M22,2) -> 0
A23: 2-1-5 | B23: 08-00000 | C23: Veidņu montāža demontāža (saliekamie inventārveidņi; palīgmateriāli) | D23: m² | E23: 141.66 | L23: =ROUND(F23*E23,2) -> 0 | M23: =ROUND(H23*E23,2) -> 0 | N23: =ROUND(I23*E23,2) -> 0 | O23: =ROUND(J23*E23,2) -> 0 | P23: =ROUND(O23+N23+M23,2) -> 0
A24: 2-1-6 | B24: 08-00000 | C24: Šķembu pamatne 150mm blietējot (šķembas fr-10-40mm) | D24: m³ | E24: 9.47 | L24: =ROUND(F24*E24,2) -> 0 | M24: =ROUND(H24*E24,2) -> 0 | N24: =ROUND(I24*E24,2) -> 0 | O24: =ROUND(J24*E24,2) -> 0 | P24: =ROUND(O24+N24+M24,2) -> 0
A25: 2-1-7 | B25: 08-00000 | C25: Pamatu apbetonējuma stiegrošana ar armatūru (armatūra B500B ; siešanas stieple, distanceri; palīgmateriāli) | D25: kg | E25: 536.84 | L25: =ROUND(F25*E25,2) -> 0 | M25: =ROUND(H25*E25,2) -> 0 | N25: =ROUND(I25*E25,2) -> 0 | O25: =ROUND(J25*E25,2) -> 0 | P25: =ROUND(O25+N25+M25,2) -> 0
A26: 2-1-8 | B26: 08-00000 | C26: Pamatu apbetonēšana (betons C30/37; XC3, XF2, betona sūknis; betonēšanas palīgmateriāli) | D26: m³ | E26: 20.77 | L26: =ROUND(F26*E26,2) -> 0 | M26: =ROUND(H26*E26,2) -> 0 | N26: =ROUND(I26*E26,2) -> 0 | O26: =ROUND(J26*E26,2) -> 0 | P26: =ROUND(O26+N26+M26,2) -> 0
A27: 2-1-9 | B27: 08-00000 | C27: Pamatu siltināšana ar ekstrudēta putupolistorola siltumizolācijas plāksnēm 100mm (ekstrudēta putupolistirola siltumizolācija 100mm XPS, λD≤0,034 (W/mK), PU līme ; palīgmateriāli) | D27: m² | E27: 141.66 | L27: =ROUND(F27*E27,2) -> 0 | M27: =ROUND(H27*E27,2) -> 0 | N27: =ROUND(I27*E27,2) -> 0 | O27: =ROUND(J27*E27,2) -> 0 | P27: =ROUND(O27+N27+M27,2) -> 0
A28: 2-1-10 | B28: 08-00000 | C28: Horizontālā siltinājuma iestrāde gruntī (ekstrudēta putupolistirola siltumizolācija 100mm XPS, λD≤0,034 (W/mK), palīgmateriāli) | D28: m² | E28: 126.28 | L28: =ROUND(F28*E28,2) -> 0 | M28: =ROUND(H28*E28,2) -> 0 | N28: =ROUND(I28*E28,2) -> 0 | O28: =ROUND(J28*E28,2) -> 0 | P28: =ROUND(O28+N28+M28,2) -> 0
A29: 2-1-11 | B29: 08-00000 | C29: Pamatu gruntēšana ar bitumena emulsiju (šķīdinātājus nesaturoša bitumena emulsija, palīgmateriāli) | D29: m² | E29: 141.66 | L29: =ROUND(F29*E29,2) -> 0 | M29: =ROUND(H29*E29,2) -> 0 | N29: =ROUND(I29*E29,2) -> 0 | O29: =ROUND(J29*E29,2) -> 0 | P29: =ROUND(O29+N29+M29,2) -> 0
A30: 2-1-12 | B30: 08-00000 | C30: Horizontālā hidroizolācija (Horizontāla hidroizolācijas lenta, palīgmateriāli) | D30: m² | E30: 34.29 | L30: =ROUND(F30*E30,2) -> 0 | M30: =ROUND(H30*E30,2) -> 0 | N30: =ROUND(I30*E30,2) -> 0 | O30: =ROUND(J30*E30,2) -> 0 | P30: =ROUND(O30+N30+M30,2) -> 0
... A34: 2-1-16 | B34: 08-00000 | C34: Apmešana ar dekoratīvo apmetumu (masā tonēts dekoratīvais apmetums, palīgmateriāli) | D34: m² | E34: 50.12 | L34: =ROUND(F34*E34,2) -> 0 | M34: =ROUND(H34*E34,2) -> 0 | N34: =ROUND(I34*E34,2) -> 0 | O34: =ROUND(J34*E34,2) -> 0 | P34: =ROUND(O34+N34+M34,2) -> 0
A35: 2-1-17 | C35: Cokola apdare durvīm un vitrīnām
A36: 2-1-18 | B36: 08-00000 | C36: Ekstrudēta putupolistorola siltumizolācijas plāksnes 30mm iestrāde (ekstrudēta putupolistirola siltumizolācija 30mm XPS, PU līme ; palīgmateriāli) | D36: m² | E36: 9.15 | L36: =ROUND(F36*E36,2) -> 0 | M36: =ROUND(H36*E36,2) -> 0 | N36: =ROUND(I36*E36,2) -> 0 | O36: =ROUND(J36*E36,2) -> 0 | P36: =ROUND(O36+N36+M36,2) -> 0
A37: 2-1-19 | B37: 08-00000 | C37: Ekstrudēta putupolistorola siltumizolācijas plāksnes 30/50mm iestrāde (ekstrudēta putupolistirola siltumizolācija 30/50mm XPS, PU līme ; palīgmateriāli) | D37: m² | E37: 9.15 | L37: =ROUND(F37*E37,2) -> 0 | M37: =ROUND(H37*E37,2) -> 0 | N37: =ROUND(I37*E37,2) -> 0 | O37: =ROUND(J37*E37,2) -> 0 | P37: =ROUND(O37+N37+M37,2) -> 0
A38: 2-1-20 | B38: 08-00000 | C38: Armētas dzelzsbetona apmales izbūve (betons C25/30, armatūra B500B, siešanas stieple, distanceri, betonēšanas palīgmateriāli | D38: m³ | E38: 0.65 | L38: =ROUND(F38*E38,2) -> 0 | M38: =ROUND(H38*E38,2) -> 0 | N38: =ROUND(I38*E38,2) -> 0 | O38: =ROUND(J38*E38,2) -> 0 | P38: =ROUND(O38+N38+M38,2) -> 0
A39: 2-2 | C39: FASĀDES
A40: 2-2-1 | B40: 08-00000 | C40: Sastatņu īre, montāža, demontāža | D40: kpl. | E40: 1 | L40: =ROUND(F40*E40,2) -> 0 | M40: =ROUND(H40*E40,2) -> 0 | N40: =ROUND(I40*E40,2) -> 0 | O40: =ROUND(J40*E40,2) -> 0 | P40: =ROUND(O40+N40+M40,2) -> 0
A41: 2-2-2 | B41: 08-00000 | C41: Dībeļu izraušanas tests | D41: kpl. | E41: 1 | L41: =ROUND(F41*E41,2) -> 0 | M41: =ROUND(H41*E41,2) -> 0 | N41: =ROUND(I41*E41,2) -> 0 | O41: =ROUND(J41*E41,2) -> 0 | P41: =ROUND(O41+N41+M41,2) -> 0
A42: 2-2-3 | B42: 08-00000 | C42: Fasāžu attīrīšana, lokāls plaisu un bojājumu remonts (gruntskrāsa minerālām virsmām ārdarbiem, armējošais stiklšķiedras siets fasādēm 160g/m2; līmjava, palīgmateriāli) | D42: m² | E42: 50 | L42: =ROUND(F42*E42,2) -> 0 | M42: =ROUND(H42*E42,2) -> 0 | N42: =ROUND(I42*E42,2) -> 0 | O42: =ROUND(J42*E42,2) -> 0 | P42: =ROUND(O42+N42+M42,2) -> 0
A43: 2-2-4 | B43: 08-00000 | C43: Ailu, ārsienu mūrēšana ar keramzītbetona blokiem, sienu tipas AS-1 (keramzītbetona bloki; stiegrojums, mūrjava; palīgmateriāli) | D43: m³ | E43: 21.18 | L43: =ROUND(F43*E43,2) -> 0 | M43: =ROUND(H43*E43,2) -> 0 | N43: =ROUND(I43*E43,2) -> 0 | O43: =ROUND(J43*E43,2) -> 0 | P43: =ROUND(O43+N43+M43,2) -> 0
A44: 2-2-5 | C44: Ventilējamās fasādes | L44: =ROUND(F44*E44,2) -> 0 | M44: =ROUND(H44*E44,2) -> 0 | N44: =ROUND(I44*E44,2) -> 0 | O44: =ROUND(J44*E44,2) -> 0 | P44: =ROUND(O44+N44+M44,2) -> 0
A45: 2-2-6 | B45: 08-00000 | C45: Nesošā alumīnija karkasa montāža (nesošie alumīnija profili, alumīnija konsoles, termostarplika zem konsolēm, pretputnu siets, perforēti alumīnija cokola profili, nerūsējošā tērauda skrūves, dībeļi; palīgmateriāli) | D45: m² | E45: 924.24 | L45: =ROUND(F45*E45,2) -> 0 | M45: =ROUND(H45*E45,2) -> 0 | N45: =ROUND(I45*E45,2) -> 0 | O45: =ROUND(J45*E45,2) -> 0 | P45: =ROUND(O45+N45+M45,2) -> 0
A46: 2-2-7 | B46: 08-00000 | C46: Akmens vates siltumizolācijas plākšņu 200mm montāža (pretvēja akmens vates fasādes siltumizolācijas plāksnese ar melnu stikla šķiedras pārklājumu virspusē b=200mm λD≤0,035 W/mK ; dībeļnaglas siltumizolācijas plāksnēm, pretvēja aizsardzības un šuvju hermetizējošā līmlente, palīgmateriāli) | D46: m² | E46: 794.01 | L46: =ROUND(F46*E46,2) -> 0 | M46: =ROUND(H46*E46,2) -> 0 | N46: =ROUND(I46*E46,2) -> 0 | O46: =ROUND(J46*E46,2) -> 0 | P46: =ROUND(O46+N46+M46,2) -> 0
A47: 2-2-8 | B47: 08-00000 | C47: Ailu sānmalu siltināšana ar akmens vates loksnēm 30mm. (cietās akmens vates fasāžu siltumizolācijas plāksnes t=30mm, λD≤0,035 W/(m²xK); stiprinājumi; palīgmateriāli) | D47: m² | E47: 114 | L47: =ROUND(F47*E47,2) -> 0 | M47: =ROUND(H47*E47,2) -> 0 | N47: =ROUND(I47*E47,2) -> 0 | O47: =ROUND(J47*E47,2) -> 0 | P47: =ROUND(O47+N47+M47,2) -> 0
A48: 2-2-9 | B48: 08-00000 | C48: Fasāžu apdares lokšņu montāža (masā pigmentētas plāksnes ar caurspīdīgu, hidrofobu virsmas pārklājumu, b=8mm (skat. AR daļā). Krāsotas kniedes-skrūves, hermētiķi, palīgmateriāli) | D48: m² | E48: 686.47 | L48: =ROUND(F48*E48,2) -> 0 | M48: =ROUND(H48*E48,2) -> 0 | N48: =ROUND(I48*E48,2) -> 0 | O48: =ROUND(J48*E48,2) -> 0 | P48: =ROUND(O48+N48+M48,2) -> 0
A49: 2-2-10 | B49: 08-00000 | C49: Tērauda fasāžu apdares loksnes/kasetes ar patina slāni montāža (Cor-Ten 700 tērauda kasetes ar nelielu patina slāni, (skat. AR daļā). Krāsotas kniedes-skrūves, hermētiķi, palīgmateriāli) | D49: m² | E49: 93.87 | L49: =ROUND(F49*E49,2) -> 0 | M49: =ROUND(H49*E49,2) -> 0 | N49: =ROUND(I49*E49,2) -> 0 | O49: =ROUND(J49*E49,2) -> 0 | P49: =ROUND(O49+N49+M49,2) -> 0
A50: 2-2-11 | B50: 08-00000 | C50: Tērauda fasāžu apdares loksnes/kasetes ar patina slāni montāža (Cor-Ten 600 tērauda kasetes ar nelielu patina slāni, (skat. AR daļā). Krāsotas kniedes-skrūves, hermētiķi, palīgmateriāli) | D50: m² | E50: 143.9 | L50: =ROUND(F50*E50,2) -> 0 | M50: =ROUND(H50*E50,2) -> 0 | N50: =ROUND(I50*E50,2) -> 0 | O50: =ROUND(J50*E50,2) -> 0 | P50: =ROUND(O50+N50+M50,2) -> 0
A51: 2-2-12 | B51: 08-00000 | C51: Ailu apdare ar fasāžu apdares loksnēm (masā pigmentētas plāksnes ar caurspīdīgu, hidrofobu virsmas pārklājumu, b=8mm (skat. AR daļā). Krāsotas kniedes-skrūves, hermētiķi, palīgmateriāli) | D51: m² | E51: 95.34 | L51: =ROUND(F51*E51,2) -> 0 | M51: =ROUND(H51*E51,2) -> 0 | N51: =ROUND(I51*E51,2) -> 0 | O51: =ROUND(J51*E51,2) -> 0 | P51: =ROUND(O51+N51+M51,2) -> 0
A52: 2-2-13 | C52: Fasādes elementi
A53: 2-2-14 | B53: 08-00000 | C53: Tērauda nesošo detaļu ID-1 montāža (pēc individuāla pasutījuma izgatavota tērauda nesošā detaļa ID-1(4,8kg/gb*52gb) skat. AR-32, enkura stieņi Hilti HAS-U A4 M12x220 (156gb) vai ekvivalents, sazobes uzmava HIT-SC 18x85 (156gb) vai ekvivalents, ķīmiskā enkuru masa, palīgmateriāli) | D53: kpl. | E53: 52 | L53: =ROUND(F53*E53,2) -> 0 | M53: =ROUND(H53*E53,2) -> 0 | N53: =ROUND(I53*E53,2) -> 0 | O53: =ROUND(J53*E53,2) -> 0 | P53: =ROUND(O53+N53+M53,2) -> 0
A54: 2-2-15 | B54: 08-00000 | C54: Fasādes elemnta montāža (Tērauda taisnstūra caurule 100x40x2mm, ar Cor-Ten slāni,tērauda L profils 80x80x6, palīgmateriāli) | D54: m2 | E54: 73.51 | L54: =ROUND(F54*E54,2) -> 0 | M54: =ROUND(H54*E54,2) -> 0 | N54: =ROUND(I54*E54,2) -> 0 | O54: =ROUND(J54*E54,2) -> 0 | P54: =ROUND(O54+N54+M54,2) -> 0
A55: 2-2-14 | B55: 08-00000 | C55: Reklāmas stenda stiprinājumu montāža (Nerūsējošā tērauda skrūves, dībeļi; palīgmateriāli) | D55: kpl. | E55: 1 | L55: =ROUND(F55*E55,2) -> 0 | M55: =ROUND(H55*E55,2) -> 0 | N55: =ROUND(I55*E55,2) -> 0 | O55: =ROUND(J55*E55,2) -> 0 | P55: =ROUND(O55+N55+M55,2) -> 0
A56: 2-3 | C56: JUMTS
A57: 2-3-1 | C57: 2. stāva pārsegums
A58: 2-3-2 | B58: 09-00000 | C58: Grunts krāsa adhēzijas uzlabošanai ieklāšana (SOPRADERE Grunts krāsa, palīgmateriāli) | D58: m² | E58: 803.09 | L58: =ROUND(F58*E58,2) -> 0 | M58: =ROUND(H58*E58,2) -> 0 | N58: =ROUND(I58*E58,2) -> 0 | O58: =ROUND(J58*E58,2) -> 0 | P58: =ROUND(O58+N58+M58,2) -> 0
A59: 2-3-3 | B59: 09-00000 | C59: Tvaika barjera ieklāšana (Tvaika barjera MAMUT VAP ALU S3 3mm, palīgmateriāli) | D59: m² | E59: 803.09 | L59: =ROUND(F59*E59,2) -> 0 | M59: =ROUND(H59*E59,2) -> 0 | N59: =ROUND(I59*E59,2) -> 0 | O59: =ROUND(J59*E59,2) -> 0 | P59: =ROUND(O59+N59+M59,2) -> 0
A60: 2-3-4 | B60: 09-00000 | C60: Siltumizolācijas apakšslāņa ieklāšana 120mm (Poliuretāna siltumizolācija TR26 120mm 150 kPa, stiprinājumi, palīgmateriāli) | D60: m² | E60: 803.09 | L60: =ROUND(F60*E60,2) -> 0 | M60: =ROUND(H60*E60,2) -> 0 | N60: =ROUND(I60*E60,2) -> 0 | O60: =ROUND(J60*E60,2) -> 0 | P60: =ROUND(O60+N60+M60,2) -> 0
A61: 2-3-5 | B61: 09-00000 | C61: Siltumizolācijas virsslāņa ieklāšana 80mm (Poliuretāna siltumizolācija TR26 80mm 150 kPa, stiprinājumi, palīgmateriāli) | D61: m² | E61: 803.09 | L61: =ROUND(F61*E61,2) -> 0 | M61: =ROUND(H61*E61,2) -> 0 | N61: =ROUND(I61*E61,2) -> 0 | O61: =ROUND(J61*E61,2) -> 0 | P61: =ROUND(O61+N61+M61,2) -> 0
A62: 2-3-6 | B62: 09-00000 | C62: Hidroizolācijas uzraudzības sistēma iestrāde (Hidroizolācijas uzraudzības sistēma Controlit PK 2.3, palīgmateriāli) | D62: m² | E62: 803.09 | L62: =ROUND(F62*E62,2) -> 0 | M62: =ROUND(H62*E62,2) -> 0 | N62: =ROUND(I62*E62,2) -> 0 | O62: =ROUND(J62*E62,2) -> 0 | P62: =ROUND(O62+N62+M62,2) -> 0
A63: 2-3-7 | B63: 09-00000 | C63: PVC hidroizolācijas mebrānas ieklāšana, (PVC hidroizolācijas mebrāna 2mm; enkurskrūves; montāžas palīgmateriāli) | D63: m² | E63: 972.03 | L63: =ROUND(F63*E63,2) -> 0 | M63: =ROUND(H63*E63,2) -> 0 | N63: =ROUND(I63*E63,2) -> 0 | O63: =ROUND(J63*E63,2) -> 0 | P63: =ROUND(O63+N63+M63,2) -> 0
A64: 2-3-8 | B64: 09-00000 | C64: Papildus siltumizolācijas ieklāšana 3.stāva izbūvei. (Cieta akmens vate kopējais beizums 250mm, λD≤0,035 W/mK, stiprinājumi, palīgmateriāli) | D64: m² | E64: 13 | L64: =ROUND(F64*E64,2) -> 0 | M64: =ROUND(H64*E64,2) -> 0 | N64: =ROUND(I64*E64,2) -> 0 | O64: =ROUND(J64*E64,2) -> 0 | P64: =ROUND(O64+N64+M64,2) -> 0
A65: 2-3-9 | C65: Parapets
A66: 2-3-10 | B66: 09-07000 | C66: Koka latu 50*50mm montāža zem parapetiem (imprignētas koka latas 50*50mm, solis 600mm, metāla leņķi, dībeļskrūves, palīgamateriāli) | D66: m³ | E66: 0.47 | L66: =ROUND(F66*E66,2) -> 0 | M66: =ROUND(H66*E66,2) -> 0 | N66: =ROUND(I66*E66,2) -> 0 | O66: =ROUND(J66*E66,2) -> 0 | P66: =ROUND(O66+N66+M66,2) -> 0
A67: 2-3-11 | B67: 09-00000 | C67: Mitrumizturīga OSB montāža zem parapeta (mitrumizturīgs OSB 12mm, skrūves, palīgmateriāli) | D67: m² | E67: 95.5 | L67: =ROUND(F67*E67,2) -> 0 | M67: =ROUND(H67*E67,2) -> 0 | N67: =ROUND(I67*E67,2) -> 0 | O67: =ROUND(J67*E67,2) -> 0 | P67: =ROUND(O67+N67+M67,2) -> 0
A68: 2-3-12 | B68: 09-00000 | C68: Parapetu nosegelementu montāža (pēc pasūtījuma izgatavots krāsota skārda elementi t=0,5mm; skrūves, kniedes, hermētiķi, cinkoti leņķi, palīgmateriāli ) | D68: m² | E68: 149.51 | L68: =ROUND(F68*E68,2) -> 0 | M68: =ROUND(H68*E68,2) -> 0 | N68: =ROUND(I68*E68,2) -> 0 | O68: =ROUND(J68*E68,2) -> 0 | P68: =ROUND(O68+N68+M68,2) -> 0
A69: 2-3-13 | B69: 09-00000 | C69: Siltumizolācijas ieklāšana 50mm (cieta akmens vate 50mm, λD≤0,035 W/mK, spiedes izturība σ10=30 kPa; stiprinājumi, palīgmateriāli) | D69: m² | E69: 174.36 | L69: =ROUND(F69*E69,2) -> 0 | M69: =ROUND(H69*E69,2) -> 0 | N69: =ROUND(I69*E69,2) -> 0 | O69: =ROUND(J69*E69,2) -> 0 | P69: =ROUND(O69+N69+M69,2) -> 0
A70: 2-3-14 | B70: 09-00000 | C70: Parapeta piemūrēšana ar silikātķieģeļiem (silikāta celtniecības ķieģeļi, pilnais 250x120x88mm, mūrjava; palīgmateriāli) | D70: m³ | E70: 0.91 | L70: =ROUND(F70*E70,2) -> 0 | M70: =ROUND(H70*E70,2) -> 0 | N70: =ROUND(I70*E70,2) -> 0 | O70: =ROUND(J70*E70,2) -> 0 | P70: =ROUND(O70+N70+M70,2) -> 0
A71: 2-3-15 | B71: 09-00000 | C71: Cilvēku drošības barjeras montāža h=60cm (metāla konstrukcijas drošības barjera,elektrodi, ķīļenkuri; hidroizolācijas starplika zem staņu stiprinājumiem; palīgmateriāli) | D71: t/m | E71: 82.51 | L71: =ROUND(F71*E71,2) -> 0 | M71: =ROUND(H71*E71,2) -> 0 | N71: =ROUND(I71*E71,2) -> 0 | O71: =ROUND(J71*E71,2) -> 0 | P71: =ROUND(O71+N71+M71,2) -> 0
A72: 2-3-16 | B72: 09-00000 | C72: Vertikālas sienas kāpnes L=2,0m, stiprinājumu komplekts | D72: kpl. | E72: 1 | L72: =ROUND(F72*E72,2) -> 0 | M72: =ROUND(H72*E72,2) -> 0 | N72: =ROUND(I72*E72,2) -> 0 | O72: =ROUND(J72*E72,2) -> 0 | P72: =ROUND(O72+N72+M72,2) -> 0
A73: 2-3-17 | C73: 3.stāva pārsegums
A74: 2-3-18 | B74: 09-00000 | C74: Sendvičpaneļu 140mm montāža (Sendviča panelis B-s1, d0 , b=140mm, U≤0,15W/m²-K, hermētiķi; skrūves, stiprinājumi, palīgmateriāli) | D74: m² | E74: 69.84 | L74: =ROUND(F74*E74,2) -> 0 | M74: =ROUND(H74*E74,2) -> 0 | N74: =ROUND(I74*E74,2) -> 0 | O74: =ROUND(J74*E74,2) -> 0 | P74: =ROUND(O74+N74+M74,2) -> 0
A75: 2-3-19 | B75: 09-00000 | C75: Jumta nesošo profillokšņu montāža (nesošais profils T130M-75L-930, 0,9mm, montāžas skrūves, palīgmateriāli) | D75: m² | E75: 75.88 | L75: =ROUND(F75*E75,2) -> 0 | M75: =ROUND(H75*E75,2) -> 0 | N75: =ROUND(I75*E75,2) -> 0 | O75: =ROUND(J75*E75,2) -> 0 | P75: =ROUND(O75+N75+M75,2) -> 0
A76: 2-3-20 | B76: 09-00000 | C76: Mitrumizturīga osb montāža parapetiem (mitrumizturīgs osb 18mm, skrūves, palīgmateriāli) | D76: m² | E76: 75.88 | L76: =ROUND(F76*E76,2) -> 0 | M76: =ROUND(H76*E76,2) -> 0 | N76: =ROUND(I76*E76,2) -> 0 | O76: =ROUND(J76*E76,2) -> 0 | P76: =ROUND(O76+N76+M76,2) -> 0
A77: 2-3-21 | B77: 09-00000 | C77: Hidroizolācijas uzraudzības sistēma iestrāde (Hidroizolācijas uzraudzības sistēma Controlit PK 2.3, palīgmateriāli) | D77: m² | E77: 75.88 | L77: =ROUND(F77*E77,2) -> 0 | M77: =ROUND(H77*E77,2) -> 0 | N77: =ROUND(I77*E77,2) -> 0 | O77: =ROUND(J77*E77,2) -> 0 | P77: =ROUND(O77+N77+M77,2) -> 0
A78: 2-3-22 | B78: 09-00000 | C78: PVC hidroizolācijas mebrānas ieklāšana, (PVC hidroizolācijas mebrāna 2mm; enkurskrūves; montāžas palīgmateriāli) | D78: m² | E78: 75.88 | L78: =ROUND(F78*E78,2) -> 0 | M78: =ROUND(H78*E78,2) -> 0 | N78: =ROUND(I78*E78,2) -> 0 | O78: =ROUND(J78*E78,2) -> 0 | P78: =ROUND(O78+N78+M78,2) -> 0
A79: 2-3-23 | B79: 09-00000 | C79: Skārda nosegelementu montāža (pēc pasūtījuma izgatavots krāsota skārda elementi t=0,5mm; skrūves, kniedes, hermētiķi, cinkoti leņķi, palīgmateriāli ) | D79: m² | E79: 14.33 | L79: =ROUND(F79*E79,2) -> 0 | M79: =ROUND(H79*E79,2) -> 0 | N79: =ROUND(I79*E79,2) -> 0 | O79: =ROUND(J79*E79,2) -> 0 | P79: =ROUND(O79+N79+M79,2) -> 0
A80: 2-3-24 | B80: 09-00000 | C80: Enkurpunktu montāža jumta konstrukcijā (Nerūsējošā tērauda enkura punkts sendviča tipa paneļiem un trapecveida profila metāla loksnēm. Pamata izmēri 372x200 mm, statņa diametrs 16 mm, stiprinājumi, palīgmateriāli) | D80: gab | E80: 2 | L80: =ROUND(F80*E80,2) -> 0 | M80: =ROUND(H80*E80,2) -> 0 | N80: =ROUND(I80*E80,2) -> 0 | O80: =ROUND(J80*E80,2) -> 0 | P80: =ROUND(O80+N80+M80,2) -> 0
A81: 2-3-25 | B81: 09-00000 | C81: Vertikālas sienas kāpnes L=4,5m, stiprinājumu komplekts | D81: kpl. | E81: 1 | L81: =ROUND(F81*E81,2) -> 0 | M81: =ROUND(H81*E81,2) -> 0 | N81: =ROUND(I81*E81,2) -> 0 | O81: =ROUND(J81*E81,2) -> 0 | P81: =ROUND(O81+N81+M81,2) -> 0
A82: 2-3-26 | C82: Esošās kāpņu telpas izeja uz jumtu
A83: 2-3-27 | B83: 09-00000 | C83: Grunts krāsa adhēzijas uzlabošanai ieklāšana (SOPRADERE Grunts krāsa, palīgmateriāli) | D83: m² | E83: 22.07 | L83: =ROUND(F83*E83,2) -> 0 | M83: =ROUND(H83*E83,2) -> 0 | N83: =ROUND(I83*E83,2) -> 0 | O83: =ROUND(J83*E83,2) -> 0 | P83: =ROUND(O83+N83+M83,2) -> 0
A84: 2-3-28 | B84: 09-00000 | C84: Tvaika barjera ieklāšana (Tvaika barjera MAMUT VAP ALU S3 3mm, palīgmateriāli) | D84: m² | E84: 22.07 | L84: =ROUND(F84*E84,2) -> 0 | M84: =ROUND(H84*E84,2) -> 0 | N84: =ROUND(I84*E84,2) -> 0 | O84: =ROUND(J84*E84,2) -> 0 | P84: =ROUND(O84+N84+M84,2) -> 0
A85: 2-3-29 | B85: 09-00000 | C85: Siltumizolācijas apakšslāņa ieklāšana 150mm (cieta akmens vate 150mm, λD≤0,038 W/mK, spiedes izturība σ10=30 kPa; stiprinājumi, palīgmateriāli) | D85: m² | E85: 22.07 | L85: =ROUND(F85*E85,2) -> 0 | M85: =ROUND(H85*E85,2) -> 0 | N85: =ROUND(I85*E85,2) -> 0 | O85: =ROUND(J85*E85,2) -> 0 | P85: =ROUND(O85+N85+M85,2) -> 0
A86: 2-3-30 | B86: 09-00000 | C86: Siltumizolācijas virsslāņa ieklāšana 50mm (cieta akmens vate 50mm, λD≤0,037 W/mK, spiedes izturība σ10=50 kPa; stiprinājumi, palīgmateriāli) | D86: m² | E86: 22.07 | L86: =ROUND(F86*E86,2) -> 0 | M86: =ROUND(H86*E86,2) -> 0 | N86: =ROUND(I86*E86,2) -> 0 | O86: =ROUND(J86*E86,2) -> 0 | P86: =ROUND(O86+N86+M86,2) -> 0
A87: 2-3-31 | B87: 09-00000 | C87: Hidroizolācijas uzraudzības sistēma iestrāde (Hidroizolācijas uzraudzības sistēma Controlit PK 2.3, palīgmateriāli) | D87: m² | E87: 22.07 | L87: =ROUND(F87*E87,2) -> 0 | M87: =ROUND(H87*E87,2) -> 0 | N87: =ROUND(I87*E87,2) -> 0 | O87: =ROUND(J87*E87,2) -> 0 | P87: =ROUND(O87+N87+M87,2) -> 0
A88: 2-3-32 | B88: 09-00000 | C88: PVC hidroizolācijas mebrānas ieklāšana, (PVC hidroizolācijas mebrāna 2mm; enkurskrūves; montāžas palīgmateriāli) | D88: m² | E88: 23.07 | L88: =ROUND(F88*E88,2) -> 0 | M88: =ROUND(H88*E88,2) -> 0 | N88: =ROUND(I88*E88,2) -> 0 | O88: =ROUND(J88*E88,2) -> 0 | P88: =ROUND(O88+N88+M88,2) -> 0
A89: 2-3-33 | B89: 09-00000 | C89: Koka brusu montāža (ar antipirēnu-antiseptiķi apstrādāti zāģmateriāli 150*50mm, L=1000mm, ar mitruma saturu <20 %, būvkalumi, skrūves, stiprinājumi, PVC hidroizolācija, palīgmateriāli) | D89: m³ | E89: 0.18 | L89: =ROUND(F89*E89,2) -> 0 | M89: =ROUND(H89*E89,2) -> 0 | N89: =ROUND(I89*E89,2) -> 0 | O89: =ROUND(J89*E89,2) -> 0 | P89: =ROUND(O89+N89+M89,2) -> 0
A90: 2-3-34 | B90: 09-00000 | C90: Koka brusu montāža (ar antipirēnu-antiseptiķi apstrādāti zāģmateriāli 200*50mm, L=1000mm, ar mitruma saturu <20 %, būvkalumi, skrūves, stiprinājumi, PVC hidroizolācija, palīgmateriāli) | D90: m³ | E90: 0.16 | L90: =ROUND(F90*E90,2) -> 0 | M90: =ROUND(H90*E90,2) -> 0 | N90: =ROUND(I90*E90,2) -> 0 | O90: =ROUND(J90*E90,2) -> 0 | P90: =ROUND(O90+N90+M90,2) -> 0
A91: 2-3-35 | B91: 09-00000 | C91: Skārda nosegelementu montāža (pēc pasūtījuma izgatavots krāsota skārda elementi t=0,5mm; skrūves, kniedes, hermētiķi, cinkoti leņķi, palīgmateriāli ) | D91: m² | E91: 16.19 | L91: =ROUND(F91*E91,2) -> 0 | M91: =ROUND(H91*E91,2) -> 0 | N91: =ROUND(I91*E91,2) -> 0 | O91: =ROUND(J91*E91,2) -> 0 | P91: =ROUND(O91+N91+M91,2) -> 0
A92: 2-4 | C92: TERASE | L92: =ROUND(F92*E92,2) -> 0 | M92: =ROUND(H92*E92,2) -> 0 | N92: =ROUND(I92*E92,2) -> 0 | O92: =ROUND(J92*E92,2) -> 0 | P92: =ROUND(O92+N92+M92,2) -> 0
A93: 2-4-1 | B93: 08-00000 | C93: Terases dēļu montāža (Kompozītmateriāla terases dēļi, izmērs: 23x146x3600/4000/4800mm, stiprinājumi ar nerūsējošā tērauda skrūvēm, nosegelementi, palīgmateriāli) | D93: m² | E93: 379 | L93: =ROUND(F93*E93,2) -> 0 | M93: =ROUND(H93*E93,2) -> 0 | N93: =ROUND(I93*E93,2) -> 0 | O93: =ROUND(J93*E93,2) -> 0 | P93: =ROUND(O93+N93+M93,2) -> 0
A94: 2-4-2 | B94: 07-00000 | C94: Tērauda pasijas 60(h)x40x3mm montāža (Tērauda elements 60(h)x40x3mm , gruntēšanu un krāsošanu ar metāla konstrukcijām atbilstošiem alkīda sastāviem divās kārtās: grunts -1x40=40 mkr; krāsa -2x40=80mkr un stiprinājuma elementi) | D94: kg | E94: 4291.8 | L94: =ROUND(F94*E94,2) -> 0 | M94: =ROUND(H94*E94,2) -> 0 | N94: =ROUND(I94*E94,2) -> 0 | O94: =ROUND(J94*E94,2) -> 0 | P94: =ROUND(O94+N94+M94,2) -> 0
A95: 2-4-3 | B95: 07-08000 | C95: Margu montāža (krāsota tērauda margu rāmis, vārti ar brīvo atvērmu 1m, plakantērauda detaļas, stiprinājumu komplekts, palīgmateriāli) | D95: m | E95: 68.25 | L95: =ROUND(F95*E95,2) -> 0 | M95: =ROUND(H95*E95,2) -> 0 | N95: =ROUND(I95*E95,2) -> 0 | O95: =ROUND(J95*E95,2) -> 0 | P95: =ROUND(O95+N95+M95,2) -> 0
A96: 2-5 | C96: VITRĪNAS UN DURVIS | L96: =ROUND(F96*E96,2) -> 0 | M96: =ROUND(H96*E96,2) -> 0 | N96: =ROUND(I96*E96,2) -> 0 | O96: =ROUND(J96*E96,2) -> 0 | P96: =ROUND(O96+N96+M96,2) -> 0
A97: 2-5-1 | B97: 07-00000 | C97: Ārdurvju AD-1 (1 gab.) (1530x2400-ailas izmērs) montāža (Alumīnija konstrukcijas ārdurvis ar furnitūru un aplodām, tonēta trīsstiklu pakete. Durvju tonis RAL 7016. Viena aktīvā vērtne. Siltumcaurlaidības koeficients <1,8. Ar zemo slieksni <15mm. Siltināts pildiņš apakšējā durvju sekcijā. Durvis aprīkotas ar mehānisko aizvērēju. Durvju stiklojumam nodrošināt necaurspīdīgu, kontrastējošu marķējumu 0,10 m platā joslā visā stiklotās norobežojošās konstrukcijas platumā trīs augstumos no grīdas līmeņa - 1,60 m, 1,40 m, 0,35m. Slēdzamas. Evakuācijas rokturis evkuācijas ceļa virzienā (atbilstoši DIN EN 1125 standartam), jānodrošina atvēršana 3 sekunžu laikā. Piekļuves kontroli (slēgšanu) saskaņot ar pasūtītāju projekta realizācijas laikā; Aktīvās vērtnes brīvais durvju platums ≥0.9m. Ar slēdzeni, ar mehānisko aizvērēju, skrūves, montāžas putas, hermētiķi, stiprinājumu komplekts, palīgmateriāli) | D97: m² | E97: 3.67 | L97: =ROUND(F97*E97,2) -> 0 | M97: =ROUND(H97*E97,2) -> 0 | N97: =ROUND(I97*E97,2) -> 0 | O97: =ROUND(J97*E97,2) -> 0 | P97: =ROUND(O97+N97+M97,2) -> 0
A98: 2-5-2 | B98: 07-00000 | C98: Durvju D-1 (2 gab.) (700x2100-ailas izmērs) montāža (Koka karkasa gludas finierētas, mitrumizturīgas, vieglkonstrukcijas iešdurvis bez sliekšņa, komplektā ar aplodām un furnitūru. Durvju tonis RAL 9005 Durvīs iebūvēta gaisa pieplūdes reste. WC slēdzene. Aprīkotas ar mehānisko aizvērēju. Durvīm paredzēt amortizējošo perimetra profilgumiju. Skrūves, montāžas putas, hermētiķi, stiprinājumu komplekts, palīgmateriāli) | D98: m² | E98: 2.94 | L98: =ROUND(F98*E98,2) -> 0 | M98: =ROUND(H98*E98,2) -> 0 | N98: =ROUND(I98*E98,2) -> 0 | O98: =ROUND(J98*E98,2) -> 0 | P98: =ROUND(O98+N98+M98,2) -> 0
A99: 2-5-3 | B99: 07-00000 | C99: Durvju D-2 (3 gab.) (800x2100-ailas izmērs) montāža (Koka karkasa gludas finierētas, mitrumizturīgas, vieglkonstrukcijas iešdurvis bez sliekšņa, komplektā ar aplodām un furnitūru.Durvīs iebūvēta gaisa pieplūdes reste. WC slēdzene. Aprīkotas ar mehānisko aizvērēju. Durvīm paredzēt amortizējošo perimetra profilgumiju. Skrūves, montāžas putas, hermētiķi, stiprinājumu komplekts, palīgmateriāli) | D99: m² | E99: 5.04 | L99: =ROUND(F99*E99,2) -> 0 | M99: =ROUND(H99*E99,2) -> 0 | N99: =ROUND(I99*E99,2) -> 0 | O99: =ROUND(J99*E99,2) -> 0 | P99: =ROUND(O99+N99+M99,2) -> 0
A100: 2-5-4 | B100: 07-00000 | C100: Durvju D-2 (5 gab.) (800x2100-ailas izmērs) montāža (Koka karkasa gludas finierētas, mitrumizturīgas, vieglkonstrukcijas iešdurvis bez sliekšņa, komplektā ar aplodām un furnitūru. Durvju tonis RAL 9005. Skaņas slāpēšanas koef. >30 dB. Durvīs iebūvēta gaisa pieplūdes reste. WC slēdzene. Aprīkotas ar mehānisko aizvērēju. Durvīm paredzēt amortizējošo perimetra profilgumiju. Skrūves, montāžas putas, hermētiķi, stiprinājumu komplekts, palīgmateriāli) | D100: m² | E100: 8.4 | L100: =ROUND(F100*E100,2) -> 0 | M100: =ROUND(H100*E100,2) -> 0 | N100: =ROUND(I100*E100,2) -> 0 | O100: =ROUND(J100*E100,2) -> 0 | P100: =ROUND(O100+N100+M100,2) -> 0
A101: 2-5-5 | B101: 07-00000 | C101: Durvju D-3 (1 gab.) (1000x2100-ailas izmērs) montāža (Koka karkasa gludas finierētas, mitrumizturīgas, vieglkonstrukcijas iešdurvis bez sliekšņa, komplektā ar aplodām un furnitūru. Durvju tonis RAL 9005. Skaņas slāpēšanas koef. >30 dB.Durvīs iebūvēta gaisa pieplūdes reste. WC slēdzene. Brīvais durvju platums ≥0.9m. Aprīkotas ar mehānisko aizvērēju. Durvīm paredzēt amortizējošo perimetra profilgumiju. Skrūves, montāžas putas, hermētiķi, stiprinājumu komplekts, palīgmateriāli) | D101: m² | E101: 2.1 | L101: =ROUND(F101*E101,2) -> 0 | M101: =ROUND(H101*E101,2) -> 0 | N101: =ROUND(I101*E101,2) -> 0 | O101: =ROUND(J101*E101,2) -> 0 | P101: =ROUND(O101+N101+M101,2) -> 0
A102: 2-5-6 | B102: 07-00000 | C102: Durvju D-3 (2 gab.) (1000x2100-ailas izmērs) montāža (Koka karkasa gludas finierētas, mitrumizturīgas, vieglkonstrukcijas iešdurvis bez sliekšņa, komplektā ar aplodām un furnitūru. Durvju tonis RAL 9005. Durvīs iebūvēta gaisa pieplūdes reste. WC slēdzene. Brīvais durvju platums ≥0.9m. Aprīkotas ar mehānisko aizvērēju. Durvīm paredzēt amortizējošo perimetra profilgumiju. Skrūves, montāžas putas, hermētiķi, stiprinājumu komplekts, palīgmateriāli) | D102: m² | E102: 4.2 | L102: =ROUND(F102*E102,2) -> 0 | M102: =ROUND(H102*E102,2) -> 0 | N102: =ROUND(I102*E102,2) -> 0 | O102: =ROUND(J102*E102,2) -> 0 | P102: =ROUND(O102+N102+M102,2) -> 0
A103: 2-5-7 | B103: 07-00000 | C103: Durvju D-4 (2 gab.) (1000x2100-ailas izmērs) montāža (Koka karkasa gludas finierētas, mitrumizturīgas, vieglkonstrukcijas iešdurvis bez sliekšņa, komplektā ar aplodām un furnitūru. Durvju tonis RAL 9005. Skaņas slāpēšanas koef. >30 dB. Brīvais durvju platums ≥0.9m. Aprīkotas ar mehānisko aizvērēju. Slēdzamas. Durvīm paredzēt amortizējošo perimetra profilgumiju. Skrūves, montāžas putas, hermētiķi, stiprinājumu komplekts, palīgmateriāli) | D103: m² | E103: 4.2 | L103: =ROUND(F103*E103,2) -> 0 | M103: =ROUND(H103*E103,2) -> 0 | N103: =ROUND(I103*E103,2) -> 0 | O103: =ROUND(J103*E103,2) -> 0 | P103: =ROUND(O103+N103+M103,2) -> 0
A104: 2-5-8 | B104: 07-00000 | C104: Durvju D-5 furnitūras montāža (furnitūras, stiprinājumu komplekts, palīgmateriāli) | D104: kpl | E104: 1 | L104: =ROUND(F104*E104,2) -> 0 | M104: =ROUND(H104*E104,2) -> 0 | N104: =ROUND(I104*E104,2) -> 0 | O104: =ROUND(J104*E104,2) -> 0 | P104: =ROUND(O104+N104+M104,2) -> 0
...

Sheet Nr.3
A2: Lokālā tāme Nr.3
A3: Ēkas pārbūve Raiņa ielā 27, Cēsīs, Cēsu novadā
A4: Ceļi, laukumi un labiekārtojums
A5: (būvdarbu veids vai konstruktīvā elementa nosaukums)
A6: =Kopsavilkums!A5 -> 0 | C6: =Kopsavilkums!C5 -> 0
A7: =Kopsavilkums!A6 -> Objekta nosaukums: | C7: =Kopsavilkums!C6 -> Ēkas pārbūve
A8: =Kopsavilkums!A7 -> Būves nosaukums: | C8: =Kopsavilkums!C7 -> Ēkas pārbūve
A9: =Kopsavilkums!A8 -> Objekta adrese: | C9: =Kopsavilkums!C8 -> Raiņa iela 27, Cēsis, Cēsu novads
A10: =Kopsavilkums!A9 -> Pasūtījuma Nr.:
K11: Tāmes izmaksas: | M11: Eur | N11: =P113 -> 0
A12: Tāme sastādīta 2024.gada tirgus cenās,pamatojoties uz GP,TS daļas rasējumiem.
F13: Tāme sastādīta 2024. gada ___._________________
A15: Nr.p.k. | B15: Kods | C15: Būvdarbu nosaukums | D15: Mērvienība | E15: Daudzums | F15: Vienības izmaksas | L15: Kopā uz visu apjomu
F16: Laika norma (c/h) | G16: darba samaksas likme* (euro/h) | H16: darba alga | I16: būvizstrādājumi | J16: mehānismi | K16: kopā | L16: darbietilpība (c/h) | M16: darba alga | N16: būvizstrādājumi | O16: mehānismi | P16: summa
A17: 1 | B17: 2 | C17: 3 | D17: 4 | E17: 5 | F17: 6 | G17: 7 | H17: 8 | I17: 9 | J17: 10 | K17: 11 | L17: 12 | M17: 13 | N17: 14 | O17: 15 | P17: 16
A18: 3-1 | C18: Sagatavošanas darbi | H18: =ROUND(G18*F18,2) -> 0 | K18: =ROUND(J18+I18+H18,2) -> 0 | L18: =ROUND(F18*E18,2) -> 0 | M18: =ROUND(H18*E18,2) -> 0 | N18: =ROUND(I18*E18,2) -> 0 | O18: =ROUND(J18*E18,2) -> 0 | P18: =ROUND(O18+N18+M18,2) -> 0
A19: 3-1-1 | B19: 35-00000 | C19: Izpilddokumentācijas sagatavošana | D19: kpl | E19: 1 | K19: =ROUND(J19+I19+H19,2) -> 0 | L19: =ROUND(F19*E19,2) -> 0 | M19: =ROUND(H19*E19,2) -> 0 | N19: =ROUND(I19*E19,2) -> 0 | O19: =ROUND(J19*E19,2) -> 0 | P19: =ROUND(O19+N19+M19,2) -> 0
A20: 3-1-2 | B20: 35-00000 | C20: Mobilizācija un sagatavošanās būvdarbu veikšanai | D20: kpl | E20: 1 | K20: =ROUND(J20+I20+H20,2) -> 0 | L20: =ROUND(F20*E20,2) -> 0 | M20: =ROUND(H20*E20,2) -> 0 | N20: =ROUND(I20*E20,2) -> 0 | O20: =ROUND(J20*E20,2) -> 0 | P20: =ROUND(O20+N20+M20,2) -> 0
A21: 3-1-3 | B21: 35-00000 | C21: Satiksmes organizācija būvdarbu laikā | D21: kpl | E21: 1 | K21: =ROUND(J21+I21+H21,2) -> 0 | L21: =ROUND(F21*E21,2) -> 0 | M21: =ROUND(H21*E21,2) -> 0 | N21: =ROUND(I21*E21,2) -> 0 | O21: =ROUND(J21*E21,2) -> 0 | P21: =ROUND(O21+N21+M21,2) -> 0
A22: 3-1-4 | B22: 35-00000 | C22: Uzmērīšana un nospraušana | D22: kpl | E22: 1 | K22: =ROUND(J22+I22+H22,2) -> 0 | L22: =ROUND(F22*E22,2) -> 0 | M22: =ROUND(H22*E22,2) -> 0 | N22: =ROUND(I22*E22,2) -> 0 | O22: =ROUND(J22*E22,2) -> 0 | P22: =ROUND(O22+N22+M22,2) -> 0
A23: 3-1-5 | B23: 35-00000 | C23: Koku ciršana un celmu laušana, kokmateriālus nododot zemes īpašniekam, atteikuma gadījumā aizvest uz Būvuzņēmēja atbērtni | D23: gb | E23: 1 | K23: =ROUND(J23+I23+H23,2) -> 0 | L23: =ROUND(F23*E23,2) -> 0 | M23: =ROUND(H23*E23,2) -> 0 | N23: =ROUND(I23*E23,2) -> 0 | O23: =ROUND(J23*E23,2) -> 0 | P23: =ROUND(O23+N23+M23,2) -> 0
A24: 3-1-6 | B24: 35-00000 | C24: Koku aizsardzība būvdarbu laikā (atb. DOP) | D24: gb | E24: 1 | K24: =ROUND(J24+I24+H24,2) -> 0 | L24: =ROUND(F24*E24,2) -> 0 | M24: =ROUND(H24*E24,2) -> 0 | N24: =ROUND(I24*E24,2) -> 0 | O24: =ROUND(J24*E24,2) -> 0 | P24: =ROUND(O24+N24+M24,2) -> 0
A25: 2-1-9 | B25: 35-00000 | C25: Grants seguma demontāža un utilizācija, hvid 15cm | D25: m3 | E25: 120.45 | K25: =ROUND(J25+I25+H25,2) -> 0 | L25: =ROUND(F25*E25,2) -> 0 | M25: =ROUND(H25*E25,2) -> 0 | N25: =ROUND(I25*E25,2) -> 0 | O25: =ROUND(J25*E25,2) -> 0 | P25: =ROUND(O25+N25+M25,2) -> 0
A26: 2-1-10 | B26: 35-00000 | C26: Esošā žoga saudzīga demontāža un nogādāšna pasūtītāja norādītajā vietā. | D26: kpl | E26: 1 | K26: =ROUND(J26+I26+H26,2) -> 0 | L26: =ROUND(F26*E26,2) -> 0 | M26: =ROUND(H26*E26,2) -> 0 | N26: =ROUND(I26*E26,2) -> 0 | O26: =ROUND(J26*E26,2) -> 0 | P26: =ROUND(O26+N26+M26,2) -> 0
A27: 3-2 | C27: Zemes darbi (ceļi, laukumu) | K27: =ROUND(J27+I27+H27,2) -> 0 | L27: =ROUND(F27*E27,2) -> 0 | M27: =ROUND(H27*E27,2) -> 0 | N27: =ROUND(I27*E27,2) -> 0 | O27: =ROUND(J27*E27,2) -> 0 | P27: =ROUND(O27+N27+M27,2) -> 0
A28: 3-2-1 | B28: 35-00000 | C28: Zemes klātnes ierakuma būvniecība, t.sk. Materiāli būvbedru sienu nostiprināšanai (ja nepieciešams), grunti aizvedot uz Būvuzņēmēja atbērtni | D28: m3 | E28: 558.9 | K28: =ROUND(J28+I28+H28,2) -> 0 | L28: =ROUND(F28*E28,2) -> 0 | M28: =ROUND(H28*E28,2) -> 0 | N28: =ROUND(I28*E28,2) -> 0 | O28: =ROUND(J28*E28,2) -> 0 | P28: =ROUND(O28+N28+M28,2) -> 0
A29: 3-3 | C29: Brauktuves seguma izbūve (bruģis bez fāzes) | K29: =ROUND(J29+I29+H29,2) -> 0 | L29: =ROUND(F29*E29,2) -> 0 | M29: =ROUND(H29*E29,2) -> 0 | N29: =ROUND(I29*E29,2) -> 0 | O29: =ROUND(J29*E29,2) -> 0 | P29: =ROUND(O29+N29+M29,2) -> 0
A30: 3-3-1 | B30: 35-00000 | C30: Betona bruģa bez fāzes seguma izbūve, h=6cm | D30: m2 | E30: 653.01 | K30: =ROUND(J30+I30+H30,2) -> 0 | L30: =ROUND(F30*E30,2) -> 0 | M30: =ROUND(H30*E30,2) -> 0 | N30: =ROUND(I30*E30,2) -> 0 | O30: =ROUND(J30*E30,2) -> 0 | P30: =ROUND(O30+N30+M30,2) -> 0
A31: 3-3-2 | B31: 35-00000 | C31: Minerālmateriālu izsiju izlīdzinošais slānis fr.(2/8), h(vid)=3...5cm | D31: m3 | E31: 32.65 | K31: =ROUND(J31+I31+H31,2) -> 0 | L31: =ROUND(F31*E31,2) -> 0 | M31: =ROUND(H31*E31,2) -> 0 | N31: =ROUND(I31*E31,2) -> 0 | O31: =ROUND(J31*E31,2) -> 0 | P31: =ROUND(O31+N31+M31,2) -> 0
A32: 3-3-3 | B32: 35-00000 | C32: Minerālmateriālu maisījums 0/45, h=10cm, AADT j,smagie <100 | D32: m3 | E32: 65.31 | K32: =ROUND(J32+I32+H32,2) -> 0 | L32: =ROUND(F32*E32,2) -> 0 | M32: =ROUND(H32*E32,2) -> 0 | N32: =ROUND(I32*E32,2) -> 0 | O32: =ROUND(J32*E32,2) -> 0 | P32: =ROUND(O32+N32+M32,2) -> 0
A33: 3-3-4 | B33: 35-00000 | C33: Minerālmateriālu maisījums 0/56, h=15cm, AADT j,smagie <100, izbūvēt vairākās kartās | D33: m3 | E33: 97.96 | K33: =ROUND(J33+I33+H33,2) -> 0 | L33: =ROUND(F33*E33,2) -> 0 | M33: =ROUND(H33*E33,2) -> 0 | N33: =ROUND(I33*E33,2) -> 0 | O33: =ROUND(J33*E33,2) -> 0 | P33: =ROUND(O33+N33+M33,2) -> 0
A34: 3-3-5 | B34: 35-00000 | C34: Drenējošā kārta, kf>1m/dnn, h=30cm (≥60MPa) | D34: m3 | E34: 205.51 | K34: =ROUND(J34+I34+H34,2) -> 0 | L34: =ROUND(F34*E34,2) -> 0 | M34: =ROUND(H34*E34,2) -> 0 | N34: =ROUND(I34*E34,2) -> 0 | O34: =ROUND(J34*E34,2) -> 0 | P34: =ROUND(O34+N34+M34,2) -> 0
A35: 3-4 | C35: Brauktuves seguma izbūve (klinker) | K35: =ROUND(J35+I35+H35,2) -> 0 | L35: =ROUND(F35*E35,2) -> 0 | M35: =ROUND(H35*E35,2) -> 0 | N35: =ROUND(I35*E35,2) -> 0 | O35: =ROUND(J35*E35,2) -> 0 | P35: =ROUND(O35+N35+M35,2) -> 0
A36: 3-4-1 | B36: 35-00000 | C36: Klinker bruģa seguma izbūve | D36: m2 | E36: 177 | K36: =ROUND(J36+I36+H36,2) -> 0 | L36: =ROUND(F36*E36,2) -> 0 | M36: =ROUND(H36*E36,2) -> 0 | N36: =ROUND(I36*E36,2) -> 0 | O36: =ROUND(J36*E36,2) -> 0 | P36: =ROUND(O36+N36+M36,2) -> 0
A37: 3-4-2 | B37: 35-00000 | C37: Minerālmateriālu izsiju izlīdzinošais slānis fr.(2/8), h(vid)=3...5cm | D37: m3 | E37: 8.85 | K37: =ROUND(J37+I37+H37,2) -> 0 | L37: =ROUND(F37*E37,2) -> 0 | M37: =ROUND(H37*E37,2) -> 0 | N37: =ROUND(I37*E37,2) -> 0 | O37: =ROUND(J37*E37,2) -> 0 | P37: =ROUND(O37+N37+M37,2) -> 0
A38: 3-4-3 | B38: 35-00000 | C38: Minerālmateriālu maisījums 0/45, h=10cm, AADT j,smagie <100 | D38: m3 | E38: 17.7 | K38: =ROUND(J38+I38+H38,2) -> 0 | L38: =ROUND(F38*E38,2) -> 0 | M38: =ROUND(H38*E38,2) -> 0 | N38: =ROUND(I38*E38,2) -> 0 | O38: =ROUND(J38*E38,2) -> 0 | P38: =ROUND(O38+N38+M38,2) -> 0
A39: 3-4-4 | B39: 35-00000 | C39: Minerālmateriālu maisījums 0/56, h=15cm, AADT j,smagie <100, izbūvēt vairākās kartās | D39: m3 | E39: 26.55 | K39: =ROUND(J39+I39+H39,2) -> 0 | L39: =ROUND(F39*E39,2) -> 0 | M39: =ROUND(H39*E39,2) -> 0 | N39: =ROUND(I39*E39,2) -> 0 | O39: =ROUND(J39*E39,2) -> 0 | P39: =ROUND(O39+N39+M39,2) -> 0
A40: 3-4-5 | B40: 35-00000 | C40: Drenējošā kārta, kf>1m/dnn, h=30cm (≥60MPa) | D40: m3 | E40: 59.1 | K40: =ROUND(J40+I40+H40,2) -> 0 | L40: =ROUND(F40*E40,2) -> 0 | M40: =ROUND(H40*E40,2) -> 0 | N40: =ROUND(I40*E40,2) -> 0 | O40: =ROUND(J40*E40,2) -> 0 | P40: =ROUND(O40+N40+M40,2) -> 0
A41: 3-5 | C41: Brauktuves seguma izbūve (eko bruģis) | K41: =ROUND(J41+I41+H41,2) -> 0 | L41: =ROUND(F41*E41,2) -> 0 | M41: =ROUND(H41*E41,2) -> 0 | N41: =ROUND(I41*E41,2) -> 0 | O41: =ROUND(J41*E41,2) -> 0 | P41: =ROUND(O41+N41+M41,2) -> 0
A42: 3-5-1 | B42: 35-00000 | C42: Esošā eko bruģa demontāža un izbūve, dobumu aizpildīšana. Neizbūvēto eko bruģi nogādāt pāsūtītāja norādītajā vietā. | D42: m2 | E42: 188.8 | K42: =ROUND(J42+I42+H42,2) -> 0 | L42: =ROUND(F42*E42,2) -> 0 | M42: =ROUND(H42*E42,2) -> 0 | N42: =ROUND(I42*E42,2) -> 0 | O42: =ROUND(J42*E42,2) -> 0 | P42: =ROUND(O42+N42+M42,2) -> 0
A43: 3-5-2 | B43: 35-00000 | C43: Minerālmateriālu izsiju izlīdzinošais slānis fr.(2/8), h(vid)=3...5cm | D43: m3 | E43: 9.44 | K43: =ROUND(J43+I43+H43,2) -> 0 | L43: =ROUND(F43*E43,2) -> 0 | M43: =ROUND(H43*E43,2) -> 0 | N43: =ROUND(I43*E43,2) -> 0 | O43: =ROUND(J43*E43,2) -> 0 | P43: =ROUND(O43+N43+M43,2) -> 0
A44: 3-5-3 | B44: 35-00000 | C44: Minerālmateriālu maisījums 0/45, h=10cm, AADT j,smagie <100 | D44: m3 | E44: 18.88 | K44: =ROUND(J44+I44+H44,2) -> 0 | L44: =ROUND(F44*E44,2) -> 0 | M44: =ROUND(H44*E44,2) -> 0 | N44: =ROUND(I44*E44,2) -> 0 | O44: =ROUND(J44*E44,2) -> 0 | P44: =ROUND(O44+N44+M44,2) -> 0
A45: 3-5-4 | B45: 35-00000 | C45: Minerālmateriālu maisījums 0/56, h=15cm, AADT j,smagie <100, izbūvēt vairākās kartās | D45: m3 | E45: 28.32 | K45: =ROUND(J45+I45+H45,2) -> 0 | L45: =ROUND(F45*E45,2) -> 0 | M45: =ROUND(H45*E45,2) -> 0 | N45: =ROUND(I45*E45,2) -> 0 | O45: =ROUND(J45*E45,2) -> 0 | P45: =ROUND(O45+N45+M45,2) -> 0
A46: 3-5-5 | B46: 35-00000 | C46: Drenējošā kārta, kf>1m/dnn, h=30cm (≥60MPa) | D46: m3 | E46: 61.14 | K46: =ROUND(J46+I46+H46,2) -> 0 | L46: =ROUND(F46*E46,2) -> 0 | M46: =ROUND(H46*E46,2) -> 0 | N46: =ROUND(I46*E46,2) -> 0 | O46: =ROUND(J46*E46,2) -> 0 | P46: =ROUND(O46+N46+M46,2) -> 0
A47: 3-6 | C47: Taktīlās joslas izbūve
A48: 3-6-1 | B48: 35-00000 | C48: Taktīlas joslas izbūve ar betona bruģa segumu. Bruģa virsams reljefs - pumpas, joslas. Krāsa - dzeltena | D48: m2 | E48: 43.6 | K48: =ROUND(J48+I48+H48,2) -> 0 | L48: =ROUND(F48*E48,2) -> 0 | M48: =ROUND(H48*E48,2) -> 0 | N48: =ROUND(I48*E48,2) -> 0 | O48: =ROUND(J48*E48,2) -> 0 | P48: =ROUND(O48+N48+M48,2) -> 0
A49: 3-7 | C49: Konstrukcijas | K49: =ROUND(J49+I49+H49,2) -> 0 | L49: =ROUND(F49*E49,2) -> 0 | M49: =ROUND(H49*E49,2) -> 0 | N49: =ROUND(I49*E49,2) -> 0 | O49: =ROUND(J49*E49,2) -> 0 | P49: =ROUND(O49+N49+M49,2) -> 0
A50: 3-7-1 | B50: 35-00000 | C50: Cementbetona apmaļu 100x22x15 izbūve uz betona C30/37 un šķembu pamata h=15cm | D50: m | E50: 30 | K50: =ROUND(J50+I50+H50,2) -> 0 | L50: =ROUND(F50*E50,2) -> 0 | M50: =ROUND(H50*E50,2) -> 0 | N50: =ROUND(I50*E50,2) -> 0 | O50: =ROUND(J50*E50,2) -> 0 | P50: =ROUND(O50+N50+M50,2) -> 0
A51: 3-7-2 | B51: 35-00000 | C51: Cementbetona apmaļu 100x20x8 izbūve uz betona C30/37 un šķembu pamata h=15cm | D51: m | E51: 118 | K51: =ROUND(J51+I51+H51,2) -> 0 | L51: =ROUND(F51*E51,2) -> 0 | M51: =ROUND(H51*E51,2) -> 0 | N51: =ROUND(I51*E51,2) -> 0 | O51: =ROUND(J51*E51,2) -> 0 | P51: =ROUND(O51+N51+M51,2) -> 0
A52: 3-8 | C52: ACO drain līnijveida kanāls
A53: 3-8-1 | B53: 35-00000 | C53: ACO drain līnijveida polimērbetona kanāla ar nerūsējoša tērauda resti, 2 gala noslēgiem, 3gb. pievienojumiem OD110 ar smilšu ķērāju, gružu spaini un sifonu, izbūve uz betona C30/37 un šķembu pamata h=15cm | D53: m | E53: 48.3 | K53: =ROUND(J53+I53+H53,2) -> 0 | L53: =ROUND(F53*E53,2) -> 0 | M53: =ROUND(H53*E53,2) -> 0 | N53: =ROUND(I53*E53,2) -> 0 | O53: =ROUND(J53*E53,2) -> 0 | P53: =ROUND(O53+N53+M53,2) -> 0
A54: 3-9 | C54: Zemē daļēji iedziļinātais konteiners
A55: 3-9-1 | B55: 03-15000 | C55: Būvbedru rakšana mehanizēti | D55: m³ | E55: 16.76 | K55: =ROUND(J55+I55+H55,2) -> 0 | L55: =ROUND(F55*E55,2) -> 0 | M55: =ROUND(H55*E55,2) -> 0 | N55: =ROUND(I55*E55,2) -> 0 | O55: =ROUND(J55*E55,2) -> 0 | P55: =ROUND(O55+N55+M55,2) -> 0
A56: 3-9-2 | B56: 03-21000 | C56: Būvbedru rakšana izmantojot roku darbu | D56: m³ | E56: 5 | K56: =ROUND(J56+I56+H56,2) -> 0 | L56: =ROUND(F56*E56,2) -> 0 | M56: =ROUND(H56*E56,2) -> 0 | N56: =ROUND(I56*E56,2) -> 0 | O56: =ROUND(J56*E56,2) -> 0 | P56: =ROUND(O56+N56+M56,2) -> 0
A57: 3-9-3 | B57: 03-00000 | C57: Noraktās/neizstrādātās grunts utilizēšana | D57: m³ | E57: 21.76 | K57: =ROUND(J57+I57+H57,2) -> 0 | L57: =ROUND(F57*E57,2) -> 0 | M57: =ROUND(H57*E57,2) -> 0 | N57: =ROUND(I57*E57,2) -> 0 | O57: =ROUND(J57*E57,2) -> 0 | P57: =ROUND(O57+N57+M57,2) -> 0
A58: 3-9-4 | B58: 03-00000 | C58: Minerālmateriālu maisījums pabērums blietējot h=900mm, izmantojot roku darbu (fr-0-16mm) | D58: m³ | E58: 12.82 | K58: =ROUND(J58+I58+H58,2) -> 0 | L58: =ROUND(F58*E58,2) -> 0 | M58: =ROUND(H58*E58,2) -> 0 | N58: =ROUND(I58*E58,2) -> 0 | O58: =ROUND(J58*E58,2) -> 0 | P58: =ROUND(O58+N58+M58,2) -> 0
A59: 3-9-5 | B59: 03-00000 | C59: Minerālmateriālu maisījums pabērums blietējot h=500mm, izmantojot roku darbu (fr-16-32mm) | D59: m³ | E59: 3 | K59: =ROUND(J59+I59+H59,2) -> 0 | L59: =ROUND(F59*E59,2) -> 0 | M59: =ROUND(H59*E59,2) -> 0 | N59: =ROUND(I59*E59,2) -> 0 | O59: =ROUND(J59*E59,2) -> 0 | P59: =ROUND(O59+N59+M59,2) -> 0
A60: 3-9-6 | B60: 03-00000 | C60: Minerālmateriālu maisījums pabērums blietējot h=50mm, izmantojot roku darbu (fr-0-16mm) | D60: m³ | E60: 1.5 | K60: =ROUND(J60+I60+H60,2) -> 0 | L60: =ROUND(F60*E60,2) -> 0 | M60: =ROUND(H60*E60,2) -> 0 | N60: =ROUND(I60*E60,2) -> 0 | O60: =ROUND(J60*E60,2) -> 0 | P60: =ROUND(O60+N60+M60,2) -> 0
A61: 3-10 | C61: Labiekārtojums | K61: =ROUND(J61+I61+H61,2) -> 0 | L61: =ROUND(F61*E61,2) -> 0 | M61: =ROUND(H61*E61,2) -> 0 | N61: =ROUND(I61*E61,2) -> 0 | O61: =ROUND(J61*E61,2) -> 0 | P61: =ROUND(O61+N61+M61,2) -> 0
A62: 3-10-1 | B62: 31-00000 | C62: Intigrētā dārza ODK113-5 montāža (Mobila risinājuma integrētais dārzs ar soliem. Tērauda lokšņu metāls biezumā 3 mm un 5 mm. Tērauda pamatnes konstrukcija no Cor-Ten rūsināta metāla. Sēdvirsmas - individuāli tonēts FSC® skuju koks izmērā 70 mm x 145 mm vai 70 mm x 70 mm. Izmēri: 3,0 x1,5 x 0,87(h) m, t. Sk. Visi nepieciešamie materiāli) | D62: kpl | E62: 3 | K62: =ROUND(J62+I62+H62,2) -> 0 | L62: =ROUND(F62*E62,2) -> 0 | M62: =ROUND(H62*E62,2) -> 0 | N62: =ROUND(I62*E62,2) -> 0 | O62: =ROUND(J62*E62,2) -> 0 | P62: =ROUND(O62+N62+M62,2) -> 0
A63: 3-10-2 | B63: 31-00000 | C63: Puķu kastes ODK081 motāža (Kvadrāta formas metāla augu konteiners- puķu kaste ar konstrukcijā iestrādātu papildus siltinājumu augu sakņu sistēmas aizsardzībai ziemas sezonā, no Cor-Ten rūsināta metāla.Izmēri: 1,0 x1,1 x 1,05(h) m. t. Sk. Visi nepieciešamie materiāli) | D63: kpl | E63: 3 | K63: =ROUND(J63+I63+H63,2) -> 0 | L63: =ROUND(F63*E63,2) -> 0 | M63: =ROUND(H63*E63,2) -> 0 | N63: =ROUND(I63*E63,2) -> 0 | O63: =ROUND(J63*E63,2) -> 0 | P63: =ROUND(O63+N63+M63,2) -> 0
A64: 3-10-3 | B64: 31-00000 | C64: Robusta sola ODK056-16 montāža (L formas parka sols ar atzveltnēm. Sēdvirsmu platums 600 mm. Sēdvirsmas elementu izmēri 70 mm x 145 mm (platums x augstums). Sēdvirsma individuāli tonēts FSC® skuju koks. Metāla konstrukcijas 8 mm un 5 mm tērauda metāls. Metāla konstrukciju nobeiguma apstrāde- Cor-Ten rūsināts. t. Sk. Visi nepieciešamie materiāli) | D64: kpl | E64: 3 | K64: =ROUND(J64+I64+H64,2) -> 0 | L64: =ROUND(F64*E64,2) -> 0 | M64: =ROUND(H64*E64,2) -> 0 | N64: =ROUND(I64*E64,2) -> 0 | O64: =ROUND(J64*E64,2) -> 0 | P64: =ROUND(O64+N64+M64,2) -> 0
A65: 3-10-4 | B65: 31-00000 | C65: Atkritumu urnas ODK058-17 montāža (Hardwood atkritumu tvertne. Metāla detaļu nobeiguma apstrāde- Cor-Ten rūsināts, koka detaļas no pārstrādāta tropu dzelzskoka. Izmēri: 0,34 x0,34 x 0,9(h) m. t. Sk. Visi nepieciešamie materiāli) | D65: kpl | E65: 5 | K65: =ROUND(J65+I65+H65,2) -> 0 | L65: =ROUND(F65*E65,2) -> 0 | M65: =ROUND(H65*E65,2) -> 0 | N65: =ROUND(I65*E65,2) -> 0 | O65: =ROUND(J65*E65,2) -> 0 | P65: =ROUND(O65+N65+M65,2) -> 0
A66: 3-10-5 | B66: 31-00000 | C66: Radiālā sola montāža (Individuāla risinājuma radiālais sols no savietojamiem elementiem R burta formā. Sēdvirsmas elementi 40 mm biezumā ar pielāgotu platumu zem leņķa sola konstrukcijas rādiusam. Sēdvirsma- individuāli tonēts FSC® sertificēts skuju koks. Metāla konstrukcijas 8 mm un 5 mm tērauda metāls. Metāla konstrukciju nobeiguma apstrāde- Cor-Ten rūsināts. t. Sk. Visi nepieciešamie materiāli) | D66: m | E66: 26 | K66: =ROUND(J66+I66+H66,2) -> 0 | L66: =ROUND(F66*E66,2) -> 0 | M66: =ROUND(H66*E66,2) -> 0 | N66: =ROUND(I66*E66,2) -> 0 | O66: =ROUND(J66*E66,2) -> 0 | P66: =ROUND(O66+N66+M66,2) -> 0
A67: 3-10-6 | B67: 31-00000 | C67: Velo novietnes LN 0006 montāža (Trīsstūra veida velo nojume garums 3850mm (moduļveida). Metāla rāmis no profilcaurulēm 120x50x3mm, 80x40x3mm, apstrādāts ar pulverkrāsas cinka grunti, krāsots pulverkrāsā RAL 9005. Rāmja elementi saskrūvējami ar bultskrūvēm. laminēts rūdīts stikls 6+6mm, velo novietnes pamati - betons C30/37 XC3;XF2 1,6m3, veidņu montāža/demontāža 9,28m3, stiegrojums 72kg, šķembu pabērums blietējot h=150mm 0,5 m3 t. Sk. visi nepieciešamie materiāli, zemes darbi) | D67: kpl | E67: 1 | K67: =ROUND(J67+I67+H67,2) -> 0 | L67: =ROUND(F67*E67,2) -> 0 | M67: =ROUND(H67*E67,2) -> 0 | N67: =ROUND(I67*E67,2) -> 0 | O67: =ROUND(J67*E67,2) -> 0 | P67: =ROUND(O67+N67+M67,2) -> 0
A68: 3-10-7 | B68: 31-00000 | C68: Regulāras formas Cor-ten apmale (Stacionāri montējama atbalsta siena h=0,5m, elementi izgatavoti no tērauda loksnēm. Tērauda lokšņu metāls biezumā 3 mm un 5 mm. Metāla konstrukciju nobeiguma apstrāde- Cor-Ten rūsināts. t. Sk. Visi nepieciešamie materiāli) | D68: m | E68: 100 | K68: =ROUND(J68+I68+H68,2) -> 0 | L68: =ROUND(F68*E68,2) -> 0 | M68: =ROUND(H68*E68,2) -> 0 | N68: =ROUND(I68*E68,2) -> 0 | O68: =ROUND(J68*E68,2) -> 0 | P68: =ROUND(O68+N68+M68,2) -> 0
A69: 3-10-8 | B69: 31-00000 | C69: Liektas formas Cor-ten apmale (Stacionāri montējama atbalsta siena r=0,9m, h=0,5m, elementi izgatavoti no tērauda loksnēm. Tērauda lokšņu metāls biezumā 3 mm un 5 mm. Metāla konstrukciju nobeiguma apstrāde- Cor-Ten rūsināts. t. Sk. Visi nepieciešamie materiāli) | D69: kpl | E69: 5 | K69: =ROUND(J69+I69+H69,2) -> 0 | L69: =ROUND(F69*E69,2) -> 0 | M69: =ROUND(H69*E69,2) -> 0 | N69: =ROUND(I69*E69,2) -> 0 | O69: =ROUND(J69*E69,2) -> 0 | P69: =ROUND(O69+N69+M69,2) -> 0
A70: 3-10-9 | B70: 31-00000 | C70: Koki
A71: 3-10-10 | B71: 31-00000 | C71: Holandes liepas 'Pallida' Tilia stādīšana (Holandes liepa 'Pallida' Tilia, stāda izmēri - stumbra apkm. 1m augstumā - 14-16cm, sakņu sistēma - K, stādot kokus nogāzē, sakņu kamolu nostiprināt ar enkuriem, ievietot laistīšanas cauruli, t. sk. visi nepieciešamie materiāli) | D71: gb | E71: 5 | K71: =SUM(H71:J71) -> 0 | L71: =ROUND(F71*E71,2) -> 0 | M71: =ROUND(H71*E71,2) -> 0 | N71: =ROUND(I71*E71,2) -> 0 | O71: =ROUND(J71*E71,2) -> 0 | P71: =SUM(M71:O71) -> 0
A72: 3-10-11 | B72: 31-00000 | C72: Ogu ābeles stādīšana (Ogu ābele, stāda izmēri - h -1,5m, sakņu sistēma - c8, t. sk. visi nepieciešamie materiāli) | D72: gb | E72: 6 | K72: =SUM(H72:J72) -> 0 | L72: =ROUND(F72*E72,2) -> 0 | M72: =ROUND(H72*E72,2) -> 0 | N72: =ROUND(I72*E72,2) -> 0 | O72: =ROUND(J72*E72,2) -> 0 | P72: =SUM(M72:O72) -> 0
A73: 3-10-12 | B73: 31-00000 | C73: Košumkrūmi
A74: 3-10-13 | B74: 31-00000 | C74: Iegrieztā stefanandra stādīšana (iegrieztā stefanandra, stāda izmēri h 0,2- 0,3m, sakņu sistēma - c5, t. sk. visi nepieciešamie materiāli) | D74: gb | E74: 142 | K74: =SUM(H74:J74) -> 0 | L74: =ROUND(F74*E74,2) -> 0 | M74: =ROUND(H74*E74,2) -> 0 | N74: =ROUND(I74*E74,2) -> 0 | O74: =ROUND(J74*E74,2) -> 0 | P74: =SUM(M74:O74) -> 0
A75: 3-10-14 | B75: 31-00000 | C75: Pīlādžlapu sorbārija stādīšana (pīlādžlapu sorbārija, stāda izmēri h 0,3- 0,4m, sakņu sistēma - c3, t. sk. visi nepieciešamie materiāli) | D75: gb | E75: 58 | K75: =SUM(H75:J75) -> 0 | L75: =ROUND(F75*E75,2) -> 0 | M75: =ROUND(H75*E75,2) -> 0 | N75: =ROUND(I75*E75,2) -> 0 | O75: =ROUND(J75*E75,2) -> 0 | P75: =SUM(M75:O75) -> 0
A76: 3-10-15 | B76: 31-00000 | C76: Dammera klintene stādīšana (dammera klintene, stāda izmēri h 0,1m, sakņu sistēma - c3, t. sk. visi nepieciešamie materiāli) | D76: gb | E76: 6 | K76: =SUM(H76:J76) -> 0 | L76: =ROUND(F76*E76,2) -> 0 | M76: =ROUND(H76*E76,2) -> 0 | N76: =ROUND(I76*E76,2) -> 0 | O76: =ROUND(J76*E76,2) -> 0 | P76: =SUM(M76:O76) -> 0
A77: 3-10-16 | B77: 31-00000 | C77: Forčuna segliņa stādīšana Forčuna segliņš, stāda izmēri h 0,1m, sakņu sistēma - c2, t. sk. visi nepieciešamie materiāli) | D77: gb | E77: 6 | K77: =SUM(H77:J77) -> 0 | L77: =ROUND(F77*E77,2) -> 0 | M77: =ROUND(H77*E77,2) -> 0 | N77: =ROUND(I77*E77,2) -> 0 | O77: =ROUND(J77*E77,2) -> 0 | P77: =SUM(M77:O77) -> 0
A78: 3-10-17 | B78: 31-00000 | C78: Dobes ierīkošana, izmantojot pievestu augu zemi | D78: m2 | E78: 287 | K78: =SUM(H78:J78) -> 0 | L78: =ROUND(F78*E78,2) -> 0 | M78: =ROUND(H78*E78,2) -> 0 | N78: =ROUND(I78*E78,2) -> 0 | O78: =ROUND(J78*E78,2) -> 0 | P78: =SUM(M78:O78) -> 0
A79: 3-10-18 | B79: 31-00000 | C79: Mulčas uzbēršana dobēs | D79: m2 | E79: 287 | K79: =SUM(H79:J79) -> 0 | L79: =ROUND(F79*E79,2) -> 0 | M79: =ROUND(H79*E79,2) -> 0 | N79: =ROUND(I79*E79,2) -> 0 | O79: =ROUND(J79*E79,2) -> 0 | P79: =SUM(M79:O79) -> 0
A80: 3-11 | C80: TRIBĪNES
A81: 3-11-1 | B81: 03-00000 | C81: Auglīgās zemes virskārtas norakšana h, vidēji=0,20m, Noraktās auglīgās zemes iekraušana pašizgāzējos un transportēšana uz atbērtni attālumā līdz 500m | D81: m³ | E81: 14.4 | K81: =SUM(H81:J81) -> 0 | L81: =ROUND(E81*F81,0) -> 0 | M81: =ROUND(E81*H81,2) -> 0 | N81: =ROUND(I81*E81,2) -> 0 | O81: =ROUND(J81*E81,2) -> 0 | P81: =SUM(M81:O81) -> 0
A82: 3-11-2 | B82: 03-15000 | C82: Tranšeju un būvbedru rakšana mehanizēti | D82: m³ | E82: 36.69 | K82: =ROUND(J82+I82+H82,2) -> 0 | L82: =ROUND(F82*E82,2) -> 0 | M82: =ROUND(H82*E82,2) -> 0 | N82: =ROUND(I82*E82,2) -> 0 | O82: =ROUND(J82*E82,2) -> 0 | P82: =ROUND(O82+N82+M82,2) -> 0
A83: 3-11-3 | B83: 03-21000 | C83: Tranšeju un būvbedru rakšana izmantojot roku darbu | D83: m³ | E83: 10 | K83: =ROUND(J83+I83+H83,2) -> 0 | L83: =ROUND(F83*E83,2) -> 0 | M83: =ROUND(H83*E83,2) -> 0 | N83: =ROUND(I83*E83,2) -> 0 | O83: =ROUND(J83*E83,2) -> 0 | P83: =ROUND(O83+N83+M83,2) -> 0
A84: 3-11-4 | B84: 03-15000 | C84: Pamatu apbēršana ar smilti pēc to izbūves, izmantojot roku darbu, blīvējot pa kārtām 150mm (vidēji rupja smilts, filtr. koef. >1/mdnn,) | D84: m³ | E84: 28.27 | K84: =ROUND(J84+I84+H84,2) -> 0 | L84: =ROUND(F84*E84,2) -> 0 | M84: =ROUND(H84*E84,2) -> 0 | N84: =ROUND(I84*E84,2) -> 0 | O84: =ROUND(J84*E84,2) -> 0 | P84: =ROUND(O84+N84+M84,2) -> 0
A85: 3-11-5 | B85: 03-00000 | C85: Šķembu pabērums blietējot h=150mm zem pamatiem, izmantojot roku darbu (šķembas fr-10-40mm) | D85: m³ | E85: 9.39 | K85: =ROUND(J85+I85+H85,2) -> 0 | L85: =ROUND(F85*E85,2) -> 0 | M85: =ROUND(H85*E85,2) -> 0 | N85: =ROUND(I85*E85,2) -> 0 | O85: =ROUND(J85*E85,2) -> 0 | P85: =ROUND(O85+N85+M85,2) -> 0
A86: 3-11-6 | B86: 05-00000 | C86: Veidņu montāža demontāža (saliekamie inventārveidņi; palīgmateriāli) | D86: m² | E86: 115.25 | K86: =ROUND(J86+I86+H86,2) -> 0 | L86: =ROUND(F86*E86,2) -> 0 | M86: =ROUND(H86*E86,2) -> 0 | N86: =ROUND(I86*E86,2) -> 0 | O86: =ROUND(J86*E86,2) -> 0 | P86: =ROUND(O86+N86+M86,2) -> 0
A87: 3-11-7 | B87: 05-10100 | C87: Stiegrošana ar armatūru (armatūra B500B; siešanas stieple, distanceri; palīgmateriāli) | D87: kg | E87: 1401 | K87: =ROUND(J87+I87+H87,2) -> 0 | L87: =ROUND(F87*E87,2) -> 0 | M87: =ROUND(H87*E87,2) -> 0 | N87: =ROUND(I87*E87,2) -> 0 | O87: =ROUND(J87*E87,2) -> 0 | P87: =ROUND(O87+N87+M87,2) -> 0
A88: 3-11-8 | B88: 05-20000 | C88: Betonēšana (betons C30/37; XC3, XF2, betona sūknis; betonēšanas palīgmateriāli) | D88: m³ | E88: 17.5 | K88: =ROUND(J88+I88+H88,2) -> 0 | L88: =ROUND(F88*E88,2) -> 0 | M88: =ROUND(H88*E88,2) -> 0 | N88: =ROUND(I88*E88,2) -> 0 | O88: =ROUND(J88*E88,2) -> 0 | P88: =ROUND(O88+N88+M88,2) -> 0
A89: 3-11-9 | B89: 13-00000 | C89: Vertikālā hidroizolācija (bituma mastika, palīgmateriāli) | D89: m² | E89: 90 | K89: =ROUND(J89+I89+H89,2) -> 0 | L89: =ROUND(F89*E89,2) -> 0 | M89: =ROUND(H89*E89,2) -> 0 | N89: =ROUND(I89*E89,2) -> 0 | O89: =ROUND(J89*E89,2) -> 0 | P89: =ROUND(O89+N89+M89,2) -> 0
A90: 3-11-10 | B90: 03-00000 | C90: Noraktās/neizstrādātās grunts utilizēšna | D90: m³ | E90: 46.69 | K90: =ROUND(J90+I90+H90,2) -> 0 | L90: =ROUND(F90*E90,2) -> 0 | M90: =ROUND(H90*E90,2) -> 0 | N90: =ROUND(I90*E90,2) -> 0 | O90: =ROUND(J90*E90,2) -> 0 | P90: =ROUND(O90+N90+M90,2) -> 0
A91: 3-11-11 | C91: Ietves segas atjaunošana salaiduma posmā ar betona bruģakmens segumu
A92: 3-11-12 | B92: 35-00000 | C92: Esošā betona bruģakmens demontāža, attīrīšana un glabāšana līdz atkārtotai izbūvei | D92: m2 | E92: 7 | K92: =SUM(H92:J92) -> 0 | L92: =ROUND(E92*F92,2) -> 0 | M92: =ROUND(E92*H92,2) -> 0 | N92: =ROUND(E92*I92,2) -> 0 | O92: =ROUND(E92*J92,2) -> 0 | P92: =SUM(M92:O92) -> 0
A93: 3-11-13 | B93: 35-00000 | C93: Seguma pamata kārtu blīvēšana un profilēšana | D93: m2 | E93: 7 | K93: =SUM(H93:J93) -> 0 | L93: =ROUND(E93*F93,0) -> 0 | M93: =ROUND(E93*H93,2) -> 0 | N93: =ROUND(I93*E93,2) -> 0 | O93: =ROUND(J93*E93,2) -> 0 | P93: =SUM(M93:O93) -> 0
A94: 3-11-14 | B94: 35-00000 | C94: Minerālmateriālu izsiju (fr.2/8) izlīdzinošā slāņa izbūve, h(vid)=3cm | D94: m2 | E94: 7 | K94: =SUM(H94:J94) -> 0 | L94: =ROUND(E94*F94,0) -> 0 | M94: =ROUND(E94*H94,2) -> 0 | N94: =ROUND(I94*E94,2) -> 0 | O94: =ROUND(J94*E94,2) -> 0 | P94: =SUM(M94:O94) -> 0
A95: 3-11-15 | B95: 35-00000 | C95: Demontētā bruģakmens atkārtota izbūve | D95: m2 | E95: 7 | K95: =SUM(H95:J95) -> 0 | L95: =ROUND(E95*F95,0) -> 0 | M95: =ROUND(E95*H95,2) -> 0 | N95: =ROUND(I95*E95,2) -> 0 | O95: =ROUND(J95*E95,2) -> 0 | P95: =SUM(M95:O95) -> 0
A96: 3-12 | C96: ATBALSTSIENA
A97: 3-12-1 | B97: 03-00000 | C97: Auglīgās zemes virskārtas norakšana h, vidēji=0,20m, noraktās auglīgās zemes atkārtoti izmantošana objektā | D97: m³ | E97: 7.44 | K97: =SUM(H97:J97) -> 0 | L97: =ROUND(E97*F97,0) -> 0 | M97: =ROUND(E97*H97,2) -> 0 | N97: =ROUND(I97*E97,2) -> 0 | O97: =ROUND(J97*E97,2) -> 0 | P97: =SUM(M97:O97) -> 0
A98: 3-12-2 | B98: 03-15000 | C98: Tranšeju un būvbedru rakšana mehanizēti | D98: m³ | E98: 95.76 | K98: =ROUND(J98+I98+H98,2) -> 0 | L98: =ROUND(F98*E98,2) -> 0 | M98: =ROUND(H98*E98,2) -> 0 | N98: =ROUND(I98*E98,2) -> 0 | O98: =ROUND(J98*E98,2) -> 0 | P98: =ROUND(O98+N98+M98,2) -> 0
A99: 3-12-3 | B99: 03-21000 | C99: Tranšeju un būvbedru rakšana izmantojot roku darbu | D99: m³ | E99: 15 | K99: =ROUND(J99+I99+H99,2) -> 0 | L99: =ROUND(F99*E99,2) -> 0 | M99: =ROUND(H99*E99,2) -> 0 | N99: =ROUND(I99*E99,2) -> 0 | O99: =ROUND(J99*E99,2) -> 0 | P99: =ROUND(O99+N99+M99,2) -> 0
A100: 3-12-4 | B100: 03-15000 | C100: Pamatu apbēršana ar smilti pēc to izbūves, izmantojot roku darbu, blīvējot pa kārtām 150mm (vidēji rupja smilts, filtr. koef. >1/mdnn,) | D100: m³ | E100: 172.56 | K100: =ROUND(J100+I100+H100,2) -> 0 | L100: =ROUND(F100*E100,2) -> 0 | M100: =ROUND(H100*E100,2) -> 0 | N100: =ROUND(I100*E100,2) -> 0 | O100: =ROUND(J100*E100,2) -> 0 | P100: =ROUND(O100+N100+M100,2) -> 0
A101: 3-12-5 | B101: 03-00000 | C101: Šķembu pabērums blietējot h=150mm zem pamatiem, izmantojot roku darbu (šķembas fr-10-40mm) | D101: m³ | E101: 5.4 | K101: =ROUND(J101+I101+H101,2) -> 0 | L101: =ROUND(F101*E101,2) -> 0 | M101: =ROUND(H101*E101,2) -> 0 | N101: =ROUND(I101*E101,2) -> 0 | O101: =ROUND(J101*E101,2) -> 0 | P101: =ROUND(O101+N101+M101,2) -> 0
A102: 3-12-6 | B102: 05-00000 | C102: Veidņu montāža demontāža (saliekamie inventārveidņi; palīgmateriāli) | D102: m² | E102: 123.84 | K102: =ROUND(J102+I102+H102,2) -> 0 | L102: =ROUND(F102*E102,2) -> 0 | M102: =ROUND(H102*E102,2) -> 0 | N102: =ROUND(I102*E102,2) -> 0 | O102: =ROUND(J102*E102,2) -> 0 | P102: =ROUND(O102+N102+M102,2) -> 0
...

Sheet Nr.4
A2: Lokālā tāme Nr. 4
A3: Ēkas pārbūve Raiņa ielā 27, Cēsīs, Cēsu novadā
A4: Ugunsgrēka atklāšanas un trauksmes signalizācijas sistēma (UATS)
A5: (būvdarbu veids vai konstruktīvā elementa nosaukums)
D6: =Nr.3!D7 -> 0 | E6: =Nr.3!E7 -> 0 | F6: =Nr.3!F7 -> 0 | G6: =Nr.3!G7 -> 0 | H6: =Nr.3!H7 -> 0 | I6: =Nr.3!I7 -> 0 | J6: =Nr.3!J7 -> 0 | K6: =Nr.3!K7 -> 0 | ... N6: =Nr.3!N7 -> 0
A7: =Nr.3!A7 -> Objekta nosaukums: | C7: =Nr.3!C7 -> Ēkas pārbūve | D7: =Nr.3!D8 -> 0 | E7: =Nr.3!E8 -> 0 | F7: =Nr.3!F8 -> 0 | G7: =Nr.3!G8 -> 0 | H7: =Nr.3!H8 -> 0 | I7: =Nr.3!I8 -> 0 | J7: =Nr.3!J8 -> 0 | K7: =Nr.3!K8 -> 0 | ... N7: =Nr.3!N8 -> 0
A8: =Nr.3!A8 -> Būves nosaukums: | C8: =Nr.3!C8 -> Ēkas pārbūve | D8: =Nr.3!D9 -> 0 | E8: =Nr.3!E9 -> 0 | F8: =Nr.3!F9 -> 0 | G8: =Nr.3!G9 -> 0 | H8: =Nr.3!H9 -> 0 | I8: =Nr.3!I9 -> 0 | J8: =Nr.3!J9 -> 0 | K8: =Nr.3!K9 -> 0 | ... N8: =Nr.3!N9 -> 0
A9: =Nr.3!A9 -> Objekta adrese: | C9: =Nr.3!C9 -> Raiņa iela 27, Cēsis, Cēsu novads | I9: =Nr.3!I10 -> 0 | J9: =Nr.3!J10 -> 0 | K9: =Nr.3!K10 -> 0 | L9: =Nr.3!L10 -> 0 | M9: =Nr.3!M10 -> 0 | N9: =Nr.3!N10 -> 0
A10: =Nr.3!A10 -> Pasūtījuma Nr.:
K11: Tāmes izmaksas: | M11: Eur | N11: =P45 -> 0
A12: Tāme sastādīta 2024.gada tirgus cenās,pamatojoties uz UATS daļas rasējumiem.
F13: Tāme sastādīta 2024. gada ___._______________
A15: Nr.p.k. | B15: Kods | C15: Būvdarbu nosaukums | D15: Mērvienība | E15: Daudzums | F15: Vienības izmaksas | L15: Kopā uz visu apjomu
F16: Laika norma (c/h) | G16: darba samaksas likme* (euro/h) | H16: darba alga | I16: būvizstrādājumi | J16: mehānismi | K16: kopā | L16: darbietilpība (c/h) | M16: darba alga | N16: būvizstrādājumi | O16: mehānismi | P16: summa
A17: 1 | B17: 2 | C17: 3 | D17: 4 | E17: 5 | F17: 6 | G17: 7 | H17: 8 | I17: 9 | J17: 10 | K17: 11 | L17: 12 | M17: 13 | N17: 14 | O17: 15 | P17: 16
A18: 4-1 | C18: UATS SISTĒMA
A19: 4-1-1 | B19: 19-00000 | C19: Adrešu ugunsdrošības panelis iRIS8 (1-4) L-S, EN54-2/4, Teletek, iRIS8 (1-4)L-S / 31020066 | D19: gab. | E19: 1 | K19: =H19+I19+J19 -> 0 | L19: =ROUND(E19*F19,2) -> 0 | M19: =ROUND(H19*E19,2) -> 0 | N19: =ROUND(I19*E19,2) -> 0 | O19: =ROUND(J19*E19,2) -> 0 | P19: =O19+N19+M19 -> 0
A20: 4-1-2 | B20: 19-00000 | C20: Cilpas karte priekš iRIS8 un iRIS4, iRIS8 Loop TTE / 33000440 | D20: gab. | E20: 1 | K20: =H20+I20+J20 -> 0 | L20: =ROUND(E20*F20,2) -> 0 | M20: =ROUND(H20*E20,2) -> 0 | N20: =ROUND(I20*E20,2) -> 0 | O20: =ROUND(J20*E20,2) -> 0 | P20: =O20+N20+M20 -> 0
A21: 4-1-3 | B21: 19-00000 | C21: Akumulatoru kaste ar barošanas bloku Teletek IRIS PS72, IRIS PS72/ 31020046 | D21: gab. | E21: 1 | K21: =H21+I21+J21 -> 0 | L21: =ROUND(E21*F21,2) -> 0 | M21: =ROUND(H21*E21,2) -> 0 | N21: =ROUND(I21*E21,2) -> 0 | O21: =ROUND(J21*E21,2) -> 0 | P21: =O21+N21+M21 -> 0
A22: 4-1-4 | B22: 19-00000 | C22: Akumulatora baterija 12V 18Ah | D22: gab. | E22: 3 | K22: =H22+I22+J22 -> 0 | L22: =ROUND(E22*F22,2) -> 0 | M22: =ROUND(H22*E22,2) -> 0 | N22: =ROUND(I22*E22,2) -> 0 | O22: =ROUND(J22*E22,2) -> 0 | P22: =O22+N22+M22 -> 0
A23: 4-1-5 | B23: 19-00000 | C23: Programmators Teletek SensoIRIS - Programmēšanas ierīce priekš adrešu piešķiršanas SensoIRIS ierīcēm, SensoIRIS Progr / 31020032 | D23: gab. | E23: 1 | K23: =H23+I23+J23 -> 0 | L23: =ROUND(E23*F23,2) -> 0 | M23: =ROUND(H23*E23,2) -> 0 | N23: =ROUND(I23*E23,2) -> 0 | O23: =ROUND(J23*E23,2) -> 0 | P23: =O23+N23+M23 -> 0
A24: 4-1-6 | B24: 19-00000 | C24: Kārba ar indikātoru 75x75x22, RI9000 | D24: gab. | E24: 6 | K24: =H24+I24+J24 -> 0 | L24: =ROUND(E24*F24,2) -> 0 | M24: =ROUND(H24*E24,2) -> 0 | N24: =ROUND(I24*E24,2) -> 0 | O24: =ROUND(J24*E24,2) -> 0 | P24: =O24+N24+M24 -> 0
A25: 4-1-7 | B25: 19-00000 | C25: Adrešu dūmu detektors, SensoIRIS S130 IS / 31060049 | D25: gab. | E25: 78 | K25: =H25+I25+J25 -> 0 | L25: =ROUND(E25*F25,2) -> 0 | M25: =ROUND(H25*E25,2) -> 0 | N25: =ROUND(I25*E25,2) -> 0 | O25: =ROUND(J25*E25,2) -> 0 | P25: =O25+N25+M25 -> 0
A26: 4-1-8 | B26: 19-00000 | C26: Adrešu siltuma detektors, SensoIRIS T110 / 31060050 | D26: gab. | E26: 2 | K26: =H26+I26+J26 -> 0 | L26: =ROUND(E26*F26,2) -> 0 | M26: =ROUND(H26*E26,2) -> 0 | N26: =ROUND(I26*E26,2) -> 0 | O26: =ROUND(J26*E26,2) -> 0 | P26: =O26+N26+M26 -> 0
A27: 4-1-9 | B27: 19-00000 | C27: Adrešu detektoru bāze, SensoIRIS B124 / 31060047 | D27: gab. | E27: 53 | K27: =H27+I27+J27 -> 0 | L27: =ROUND(E27*F27,2) -> 0 | M27: =ROUND(H27*E27,2) -> 0 | N27: =ROUND(I27*E27,2) -> 0 | O27: =ROUND(J27*E27,2) -> 0 | P27: =O27+N27+M27 -> 0
A28: 4-1-10 | B28: 19-00000 | C28: Detektoru pamatne ar sirēnu un strobu, adrešu, SensoIRIS BSST IS / 32020021 | D28: gab. | E28: 27 | K28: =H28+I28+J28 -> 0 | L28: =ROUND(E28*F28,2) -> 0 | M28: =ROUND(H28*E28,2) -> 0 | N28: =ROUND(I28*E28,2) -> 0 | O28: =ROUND(J28*E28,2) -> 0 | P28: =O28+N28+M28 -> 0
A29: 4-1-11 | B29: 19-00000 | C29: Adrešu sirēna IP65, SensoIRIS WSOU IS-R / 32020007 | D29: gab. | E29: 2 | K29: =H29+I29+J29 -> 0 | L29: =ROUND(E29*F29,2) -> 0 | M29: =ROUND(H29*E29,2) -> 0 | N29: =ROUND(I29*E29,2) -> 0 | O29: =ROUND(J29*E29,2) -> 0 | P29: =O29+N29+M29 -> 0
A30: 4-1-12 | B30: 19-00000 | C30: Bāze priekš sirēnām IP65, SensoIRIS WSB IP65 / 31060062 | D30: gab. | E30: 2 | K30: =H30+I30+J30 -> 0 | L30: =ROUND(E30*F30,2) -> 0 | M30: =ROUND(H30*E30,2) -> 0 | N30: =ROUND(I30*E30,2) -> 0 | O30: =ROUND(J30*E30,2) -> 0 | P30: =O30+N30+M30 -> 0
... A44: 4-1-26 | B44: 19-00000 | C44: Izpilddokumentācijas sagatavošana | D44: kompl. | E44: 1 | K44: =H44+I44+J44 -> 0 | L44: =ROUND(E44*F44,2) -> 0 | M44: =ROUND(H44*E44,2) -> 0 | N44: =ROUND(I44*E44,2) -> 0 | O44: =ROUND(J44*E44,2) -> 0 | P44: =O44+N44+M44 -> 0
C45: Tiešās izmaksas kopā, t.sk. darba devēja sociālais nodoklis (23,59%) | L45: =SUM(L18:L44) -> 0 | M45: =SUM(M18:M44) -> 0 | N45: =SUM(N18:N44) -> 0 | O45: =SUM(O18:O44) -> 0 | P45: =SUM(P18:P44) -> 0
A48: =Nr.1!A86 -> Sastādīja: | C48: =Nr.1!C86 -> 0 | D48: =Nr.1!D86 -> 0 | E48: =Nr.1!E86 -> 0 | F48: =Nr.1!F86 -> 0 | G48: =Nr.1!G86 -> 0
A49: =Nr.1!A87 -> 0 | B49: =Nr.1!B87 -> 0 | C49: =Nr.1!C87 -> (paraksts un tā atšifrējums, datums) | D49: =Nr.1!D87 -> 0 | E49: =Nr.1!E87 -> 0 | F49: =Nr.1!F87 -> 0 | G49: =Nr.1!G87 -> 0
A50: =Nr.1!A88 -> Sertifikāta Nr.: | C50: =Nr.1!C88 -> 0 | D50: =Nr.1!D88 -> 0 | E50: =Nr.1!E88 -> 0 | F50: =Nr.1!F88 -> 0 | G50: =Nr.1!G88 -> 0
A51: =Nr.1!A89 -> 0 | B51: =Nr.1!B89 -> 0 | C51: =Nr.1!C89 -> 0 | D51: =Nr.1!D89 -> 0 | E51: =Nr.1!E89 -> 0 | F51: =Nr.1!F89 -> 0 | G51: =Nr.1!G89 -> 0
A52: =Nr.1!A90 -> 0 | B52: =Nr.1!B90 -> 0 | C52: =Nr.1!C90 -> 0 | D52: =Nr.1!D90 -> 0 | E52: =Nr.1!E90 -> 0 | F52: =Nr.1!F90 -> 0 | G52: =Nr.1!G90 -> 0
A53: =Nr.1!A91 -> Pārbaudīja: | C53: =Nr.1!C91 -> 0 | D53: =Nr.1!D91 -> 0 | E53: =Nr.1!E91 -> 0 | F53: =Nr.1!F91 -> 0 | G53: =Nr.1!G91 -> 0
A54: =Nr.1!A92 -> 0 | B54: =Nr.1!B92 -> 0 | C54: =Nr.1!C92 -> (paraksts un tā atšifrējums, datums) | D54: =Nr.1!D92 -> 0 | E54: =Nr.1!E92 -> 0 | F54: =Nr.1!F92 -> 0 | G54: =Nr.1!G92 -> 0

Sheet Nr.5
A2: Lokālā tāme Nr. 5
A3: =Nr.1!$A$3 -> Ēkas pārbūve Raiņa ielā 27, Cēsīs, Cēsu novadā
A4: Apsardzes signalizācijas un piekļuves kontroles sistēma (ESS-ASPK)
A5: (būvdarbu veids vai konstruktīvā elementa nosaukums)
A7: =Nr.1!A7 -> Objekta nosaukums: | C7: =Nr.1!C7 -> Ēkas pārbūve
A8: =Nr.1!A8 -> Būves nosaukums: | C8: =Nr.1!C8 -> Ēkas pārbūve
A9: =Nr.1!A9 -> Objekta adrese: | C9: =Nr.1!C9 -> Raiņa iela 27, Cēsis, Cēsu novads | I9: =Nr.1!I9 -> 0 | J9: =Nr.1!J9 -> 0 | K9: =Nr.1!K9 -> 0 | L9: =Nr.1!L9 -> 0 | M9: =Nr.1!M9 -> 0 | N9: =Nr.1!N9 -> 0
A10: =Nr.1!A10 -> Pasūtījuma Nr.: | C10: =Nr.1!C10 -> 0 | D10: =Nr.1!D10 -> 0 | E10: =Nr.1!E10 -> 0 | F10: =Nr.1!F10 -> 0 | G10: =Nr.1!G10 -> 0 | H10: =Nr.1!H10 -> 0 | I10: =Nr.1!I10 -> 0 | J10: =Nr.1!J10 -> 0 | ... N10: =Nr.1!N10 -> 0
K11: Tāmes izmaksas: | M11: Eur | N11: =P62 -> 0
A12: Tāme sastādīta 2024.gada tirgus cenās,pamatojoties uz ESS-ASPK daļas rasējumiem.
F13: Tāme sastādīta 2024. gada ___.__________________
A15: Nr.p.k. | B15: Kods | C15: Būvdarbu nosaukums | D15: Mērvienība | E15: Daudzums | F15: Vienības izmaksas | L15: Kopā uz visu apjomu
F16: Laika norma (c/h) | G16: darba samaksas likme* (euro/h) | H16: darba alga | I16: būvizstrādājumi | J16: mehānismi | K16: kopā | L16: darbietilpība (c/h) | M16: darba alga | N16: būvizstrādājumi | O16: mehānismi | P16: summa
A17: 1 | B17: 2 | C17: 3 | D17: 4 | E17: 5 | F17: 6 | G17: 7 | H17: 8 | I17: 9 | J17: 10 | K17: 11 | L17: 12 | M17: 13 | N17: 14 | O17: 15 | P17: 16
A18: 5-1 | C18: ESS-ASPK SISTĒMA
A19: 5-1-1 | B19: 19-00000 | C19: Apsardzes panelis 8-192 zonas 8 rajoni 5 PGM Paradox EVO, Paradox EVO192 | D19: gab. | E19: 1 | K19: =H19+I19+J19 -> 0 | L19: =ROUND(E19*F19,2) -> 0 | M19: =ROUND(H19*E19,2) -> 0 | N19: =ROUND(I19*E19,2) -> 0 | O19: =ROUND(J19*E19,2) -> 0 | P19: =O19+N19+M19 -> 0
A20: 5-1-2 | B20: 19-00000 | C20: 8 zonu paplašinātājs apsardzes paneļiem Paradox SP/EVO/MG/E, Paradox ZX8 | D20: gab. | E20: 7 | K20: =H20+I20+J20 -> 0 | L20: =ROUND(E20*F20,2) -> 0 | M20: =ROUND(H20*E20,2) -> 0 | N20: =ROUND(I20*E20,2) -> 0 | O20: =ROUND(J20*E20,2) -> 0 | P20: =O20+N20+M20 -> 0
A21: 5-1-3 | B21: 19-00000 | C21: Metāla korpus ar tamperslēdzi, kontroleriem, baterijām, transformatoriem, ar slēdzeni, 28x29x8cm, balts, Paradox AZ5030 | D21: gab. | E21: 7 | K21: =H21+I21+J21 -> 0 | L21: =ROUND(E21*F21,2) -> 0 | M21: =ROUND(H21*E21,2) -> 0 | N21: =ROUND(I21*E21,2) -> 0 | O21: =ROUND(J21*E21,2) -> 0 | P21: =O21+N21+M21 -> 0
A22: 5-1-4 | B22: 19-00000 | C22: Transformators ar drošinātāju 230-24VAC. 2.5A. 60VA, ME.TRE-60.75324/BSS | D22: gab. | E22: 1 | K22: =H22+I22+J22 -> 0 | L22: =ROUND(E22*F22,2) -> 0 | M22: =ROUND(H22*E22,2) -> 0 | N22: =ROUND(I22*E22,2) -> 0 | O22: =ROUND(J22*E22,2) -> 0 | P22: =O22+N22+M22 -> 0
A23: 5-1-5 | B23: 19-00000 | C23: Akumulators 12V 7Ah | D23: gab. | E23: 8 | K23: =H23+I23+J23 -> 0 | L23: =ROUND(E23*F23,2) -> 0 | M23: =ROUND(H23*E23,2) -> 0 | N23: =ROUND(I23*E23,2) -> 0 | O23: =ROUND(J23*E23,2) -> 0 | P23: =O23+N23+M23 -> 0
A24: 5-1-6 | B24: 19-00000 | C24: LCD tastatūra Paradox EVO K641, | D24: gab. | E24: 4 | K24: =H24+I24+J24 -> 0 | L24: =ROUND(E24*F24,2) -> 0 | M24: =ROUND(H24*E24,2) -> 0 | N24: =ROUND(I24*E24,2) -> 0 | O24: =ROUND(J24*E24,2) -> 0 | P24: =O24+N24+M24 -> 0
A25: 5-1-7 | B25: 19-00000 | C25: Apsardzes paneļa interneta modulis IP150+ | D25: gab. | E25: 1 | K25: =H25+I25+J25 -> 0 | L25: =ROUND(E25*F25,2) -> 0 | M25: =ROUND(H25*E25,2) -> 0 | N25: =ROUND(I25*E25,2) -> 0 | O25: =ROUND(J25*E25,2) -> 0 | P25: =O25+N25+M25 -> 0
A26: 5-1-8 | B26: 19-00000 | C26: ACM12 4 vadu piekļuves kontroles modulis Paradox | D26: gab. | E26: 7 | K26: =H26+I26+J26 -> 0 | L26: =ROUND(E26*F26,2) -> 0 | M26: =ROUND(H26*E26,2) -> 0 | N26: =ROUND(I26*E26,2) -> 0 | O26: =ROUND(J26*E26,2) -> 0 | P26: =O26+N26+M26 -> 0
A27: 5-1-9 | B27: 19-00000 | C27: Kontrolējams barošanas modulis 75W 4A, PS45 | D27: gab. | E27: 4 | K27: =H27+I27+J27 -> 0 | L27: =ROUND(E27*F27,2) -> 0 | M27: =ROUND(H27*E27,2) -> 0 | N27: =ROUND(I27*E27,2) -> 0 | O27: =ROUND(J27*E27,2) -> 0 | P27: =O27+N27+M27 -> 0
A28: 5-1-10 | B28: 19-00000 | C28: LTE autonomais apsardzes komunikators ar antenu, G17F | D28: gab. | E28: 1 | K28: =H28+I28+J28 -> 0 | L28: =ROUND(E28*F28,2) -> 0 | M28: =ROUND(H28*E28,2) -> 0 | N28: =ROUND(I28*E28,2) -> 0 | O28: =ROUND(J28*E28,2) -> 0 | P28: =O28+N28+M28 -> 0
A29: 5-1-11 | B29: 19-00000 | C29: Bezkontaktu karšu nolasītājs, R910 | D29: gab. | E29: 10 | K29: =H29+I29+J29 -> 0 | L29: =ROUND(E29*F29,2) -> 0 | M29: =ROUND(H29*E29,2) -> 0 | N29: =ROUND(I29*E29,2) -> 0 | O29: =ROUND(J29*E29,2) -> 0 | P29: =O29+N29+M29 -> 0
A30: 5-1-12 | B30: 19-00000 | C30: Piekļuves kontroles kartiņas | D30: gab. | E30: 100 | K30: =H30+I30+J30 -> 0 | L30: =ROUND(E30*F30,2) -> 0 | M30: =ROUND(H30*E30,2) -> 0 | N30: =ROUND(I30*E30,2) -> 0 | O30: =ROUND(J30*E30,2) -> 0 | P30: =O30+N30+M30 -> 0
... A44: 5-1-26 | B44: 19-00000 | C44: Montāžas palīgmateriāli | D44: kompl. | E44: 1 | K44: =H44+I44+J44 -> 0 | L44: =ROUND(E44*F44,2) -> 0 | M44: =ROUND(H44*E44,2) -> 0 | N44: =ROUND(I44*E44,2) -> 0 | O44: =ROUND(J44*E44,2) -> 0 | P44: =O44+N44+M44 -> 0
A45: 5-1-27 | C45: Apsardzes signalizācijas papildināšana Raiņa ielā 25
A46: 5-1-28 | B46: 19-00000 | C46: Kustības detektors (PIR) 18m 110° 25kg, SWAN QUAD | D46: gab. | E46: 1 | K46: =H46+I46+J46 -> 0 | L46: =ROUND(E46*F46,2) -> 0 | M46: =ROUND(H46*E46,2) -> 0 | N46: =ROUND(I46*E46,2) -> 0 | O46: =ROUND(J46*E46,2) -> 0 | P46: =O46+N46+M46 -> 0
A47: 5-1-29 | B47: 19-00000 | C47: Kombinētais detektors (PIR+GBD) 18m 90° PET 25kg, SWAN PGB | D47: gab. | E47: 1 | K47: =H47+I47+J47 -> 0 | L47: =ROUND(E47*F47,2) -> 0 | M47: =ROUND(H47*E47,2) -> 0 | N47: =ROUND(I47*E47,2) -> 0 | O47: =ROUND(J47*E47,2) -> 0 | P47: =O47+N47+M47 -> 0
A48: 5-1-30 | B48: 19-00000 | C48: Kronšteins Swan detektoriem | D48: gab. | E48: 2 | K48: =H48+I48+J48 -> 0 | L48: =ROUND(E48*F48,2) -> 0 | M48: =ROUND(H48*E48,2) -> 0 | N48: =ROUND(I48*E48,2) -> 0 | O48: =ROUND(J48*E48,2) -> 0 | P48: =O48+N48+M48 -> 0
A49: 5-1-31 | B49: 19-00000 | C49: Magnētiskais kontakts durvīm 43 x 17 x 10mm, KA 2071 | D49: gab. | E49: 2 | K49: =H49+I49+J49 -> 0 | L49: =ROUND(E49*F49,2) -> 0 | M49: =ROUND(H49*E49,2) -> 0 | N49: =ROUND(I49*E49,2) -> 0 | O49: =ROUND(J49*E49,2) -> 0 | P49: =O49+N49+M49 -> 0
A50: 5-1-32 | B50: 19-00000 | C50: Signalizācijas kabelis 8x0.22mm². LSZH | D50: m. | E50: 100 | K50: =H50+I50+J50 -> 0 | L50: =ROUND(E50*F50,2) -> 0 | M50: =ROUND(H50*E50,2) -> 0 | N50: =ROUND(I50*E50,2) -> 0 | O50: =ROUND(J50*E50,2) -> 0 | P50: =O50+N50+M50 -> 0
A51: 5-1-33 | B51: 19-00000 | C51: Gluda kabeļu aizsargcaurule. Ø20-25mm. LSZH | D51: m. | E51: 52 | K51: =H51+I51+J51 -> 0 | L51: =ROUND(E51*F51,2) -> 0 | M51: =ROUND(H51*E51,2) -> 0 | N51: =ROUND(I51*E51,2) -> 0 | O51: =ROUND(J51*E51,2) -> 0 | P51: =O51+N51+M51 -> 0
A52: 5-1-34 | B52: 19-00000 | C52: Cauruļu stiprinājumi un līkumi | D52: kompl. | E52: 1 | K52: =H52+I52+J52 -> 0 | L52: =ROUND(E52*F52,2) -> 0 | M52: =ROUND(H52*E52,2) -> 0 | N52: =ROUND(I52*E52,2) -> 0 | O52: =ROUND(J52*E52,2) -> 0 | P52: =O52+N52+M52 -> 0
A53: 5-1-35 | B53: 19-00000 | C53: Ugunsdroši aizdares materiāli | D53: kompl. | E53: 1 | K53: =H53+I53+J53 -> 0 | L53: =ROUND(E53*F53,2) -> 0 | M53: =ROUND(H53*E53,2) -> 0 | N53: =ROUND(I53*E53,2) -> 0 | O53: =ROUND(J53*E53,2) -> 0 | P53: =O53+N53+M53 -> 0
A54: 5-1-36 | B54: 19-00000 | C54: Montāžas palīgmateriāli | D54: kompl. | E54: 1 | K54: =H54+I54+J54 -> 0 | L54: =ROUND(E54*F54,2) -> 0 | M54: =ROUND(H54*E54,2) -> 0 | N54: =ROUND(I54*E54,2) -> 0 | O54: =ROUND(J54*E54,2) -> 0 | P54: =O54+N54+M54 -> 0
A55: 5-1-37 | B55: 19-00000 | C55: Izpilddokumentācijas sagatavošana | D55: kompl. | E55: 1 | K55: =H55+I55+J55 -> 0 | L55: =ROUND(E55*F55,2) -> 0 | M55: =ROUND(H55*E55,2) -> 0 | N55: =ROUND(I55*E55,2) -> 0 | O55: =ROUND(J55*E55,2) -> 0 | P55: =O55+N55+M55 -> 0
A56: 5-1-38 | C56: WC palīdzības izsaukuma sistēma
A57: 5-1-39 | B57: 19-00000 | C57: Invalīdu WC trauksmes izsaukšanas sistēmas komplekts 800Seriesg, C-TEC/NC951 | D57: kompl. | E57: 1 | K57: =H57+I57+J57 -> 0 | L57: =ROUND(E57*F57,2) -> 0 | M57: =ROUND(H57*E57,2) -> 0 | N57: =ROUND(I57*E57,2) -> 0 | O57: =ROUND(J57*E57,2) -> 0 | P57: =O57+N57+M57 -> 0
A58: 5-1-40 | B58: 19-00000 | C58: 8 dzīslu signalizācijas LSZH kabelis, CQR8 | D58: m. | E58: 100 | K58: =H58+I58+J58 -> 0 | L58: =ROUND(E58*F58,2) -> 0 | M58: =ROUND(H58*E58,2) -> 0 | N58: =ROUND(I58*E58,2) -> 0 | O58: =ROUND(J58*E58,2) -> 0 | P58: =O58+N58+M58 -> 0
A59: 5-1-41 | B59: 19-00000 | C59: Stiprinājuma elementi (100gb iepakojumā) | D59: kompl. | E59: 1 | K59: =H59+I59+J59 -> 0 | L59: =ROUND(E59*F59,2) -> 0 | M59: =ROUND(H59*E59,2) -> 0 | N59: =ROUND(I59*E59,2) -> 0 | O59: =ROUND(J59*E59,2) -> 0 | P59: =O59+N59+M59 -> 0
A60: 5-1-42 | B60: 19-00000 | C60: Kabeļu kanāls 25x25mm | D60: kompl. | E60: 1 | K60: =H60+I60+J60 -> 0 | L60: =ROUND(E60*F60,2) -> 0 | M60: =ROUND(H60*E60,2) -> 0 | N60: =ROUND(I60*E60,2) -> 0 | O60: =ROUND(J60*E60,2) -> 0 | P60: =O60+N60+M60 -> 0
A61: 5-1-43 | B61: 19-00000 | C61: Instalācijas materiāli | D61: kompl. | E61: 1 | K61: =H61+I61+J61 -> 0 | L61: =ROUND(E61*F61,2) -> 0 | M61: =ROUND(H61*E61,2) -> 0 | N61: =ROUND(I61*E61,2) -> 0 | O61: =ROUND(J61*E61,2) -> 0 | P61: =O61+N61+M61 -> 0
C62: Tiešās izmaksas kopā, t.sk. darba devēja sociālais nodoklis (23,59%) | L62: =SUM(L18:L61) -> 0 | M62: =SUM(M18:M61) -> 0 | N62: =SUM(N18:N61) -> 0 | O62: =SUM(O18:O61) -> 0 | P62: =SUM(P18:P61) -> 0
A65: =Nr.1!A86 -> Sastādīja: | C65: =Nr.1!C86 -> 0 | D65: =Nr.1!D86 -> 0 | E65: =Nr.1!E86 -> 0 | F65: =Nr.1!F86 -> 0 | G65: =Nr.1!G86 -> 0
A66: =Nr.1!A87 -> 0 | B66: =Nr.1!B87 -> 0 | C66: =Nr.1!C87 -> (paraksts un tā atšifrējums, datums)
A67: =Nr.1!A88 -> Sertifikāta Nr.: | C67: =Nr.1!C88 -> 0 | D67: =Nr.1!D88 -> 0 | E67: =Nr.1!E88 -> 0 | F67: =Nr.1!F88 -> 0 | G67: =Nr.1!G88 -> 0
A68: =Nr.1!A89 -> 0 | B68: =Nr.1!B89 -> 0 | C68: =Nr.1!C89 -> 0 | D68: =Nr.1!D89 -> 0 | E68: =Nr.1!E89 -> 0 | F68: =Nr.1!F89 -> 0 | G68: =Nr.1!G89 -> 0
A69: =Nr.1!A90 -> 0 | B69: =Nr.1!B90 -> 0 | C69: =Nr.1!C90 -> 0 | D69: =Nr.1!D90 -> 0 | E69: =Nr.1!E90 -> 0 | F69: =Nr.1!F90 -> 0 | G69: =Nr.1!G90 -> 0
A70: =Nr.1!A91 -> Pārbaudīja: | B70: =Nr.1!B91 -> 0 | C70: =Nr.1!C91 -> 0 | D70: =Nr.1!D91 -> 0 | E70: =Nr.1!E91 -> 0 | F70: =Nr.1!F91 -> 0 | G70: =Nr.1!G91 -> 0
A71: =Nr.1!A92 -> 0 | B71: =Nr.1!B92 -> 0 | C71: =Nr.1!C92 -> (paraksts un tā atšifrējums, datums)

Sheet Nr.6
A2: Lokālā tāme Nr. 6
A3: =Nr.1!$A$3 -> Ēkas pārbūve Raiņa ielā 27, Cēsīs, Cēsu novadā
A4: Elektronisko sakaru inženiertīkli (ESS-TK)
A5: (būvdarbu veids vai konstruktīvā elementa nosaukums)
A7: =Nr.1!A7 -> Objekta nosaukums: | C7: =Nr.1!C7 -> Ēkas pārbūve | D7: =Nr.1!D7 -> 0 | E7: =Nr.1!E7 -> 0 | F7: =Nr.1!F7 -> 0 | G7: =Nr.1!G7 -> 0 | H7: =Nr.1!H7 -> 0 | I7: =Nr.1!I7 -> 0 | J7: =Nr.1!J7 -> 0 | ... N7: =Nr.1!N7 -> 0
A8: =Nr.1!A8 -> Būves nosaukums: | C8: =Nr.1!C8 -> Ēkas pārbūve
A9: =Nr.1!A9 -> Objekta adrese: | C9: =Nr.1!C9 -> Raiņa iela 27, Cēsis, Cēsu novads
A10: =Nr.1!A10 -> Pasūtījuma Nr.: | C10: =Nr.1!C10 -> 0 | I10: =Nr.1!I10 -> 0 | J10: =Nr.1!J10 -> 0 | K10: =Nr.1!K10 -> 0 | L10: =Nr.1!L10 -> 0 | M10: =Nr.1!M10 -> 0 | N10: =Nr.1!N10 -> 0
K11: Tāmes izmaksas: | M11: Eur | N11: =P53 -> 0
A12: Tāme sastādīta 2024.gada tirgus cenās,pamatojoties uz ESS-TK daļas rasējumiem.
F13: Tāme sastādīta 2024. gada ___.___________________
A15: Nr.p.k. | B15: Kods | C15: Būvdarbu nosaukums | D15: Mērvienība | E15: Daudzums | F15: Vienības izmaksas | L15: Kopā uz visu apjomu
F16: Laika norma (c/h) | G16: darba samaksas likme* (euro/h) | H16: darba alga | I16: būvizstrādājumi | J16: mehānismi | K16: kopā | L16: darbietilpība (c/h) | M16: darba alga | N16: būvizstrādājumi | O16: mehānismi | P16: summa
A17: 1 | B17: 2 | C17: 3 | D17: 4 | E17: 5 | F17: 6 | G17: 7 | H17: 8 | I17: 9 | J17: 10 | K17: 11 | L17: 12 | M17: 13 | N17: 14 | O17: 15 | P17: 16
A18: 6-1 | C18: ESS-TK SISTĒMA
A19: 6-1-1 | B19: 19-00000 | C19: 19" Komutācijas skapis 32U 600×600mm | D19: gab. | E19: 1 | K19: =H19+I19+J19 -> 0 | L19: =ROUND(E19*F19,2) -> 0 | M19: =ROUND(H19*E19,2) -> 0 | N19: =ROUND(I19*E19,2) -> 0 | O19: =ROUND(J19*E19,2) -> 0 | P19: =O19+N19+M19 -> 0
A20: 6-1-2 | B20: 19-00000 | C20: 19'' Ventilatoru bloks ar 2 ventilatoriem un termostatu | D20: gab. | E20: 1 | K20: =H20+I20+J20 -> 0 | L20: =ROUND(E20*F20,2) -> 0 | M20: =ROUND(H20*E20,2) -> 0 | N20: =ROUND(I20*E20,2) -> 0 | O20: =ROUND(J20*E20,2) -> 0 | P20: =O20+N20+M20 -> 0
A21: 6-1-3 | B21: 19-00000 | C21: 19" Optiskais panelis 1U / 24 duplex/ Izvelkams ar kaseti | D21: gab. | E21: 1 | K21: =H21+I21+J21 -> 0 | L21: =ROUND(E21*F21,2) -> 0 | M21: =ROUND(H21*E21,2) -> 0 | N21: =ROUND(I21*E21,2) -> 0 | O21: =ROUND(J21*E21,2) -> 0 | P21: =O21+N21+M21 -> 0
A22: 6-1-4 | B22: 19-00000 | C22: 19″ 24 portu ekranēts patch panelis Cat 5e, FTP, ekranēts, PP-5F-24 | D22: gab. | E22: 3 | K22: =H22+I22+J22 -> 0 | L22: =ROUND(E22*F22,2) -> 0 | M22: =ROUND(H22*E22,2) -> 0 | N22: =ROUND(I22*E22,2) -> 0 | O22: =ROUND(J22*E22,2) -> 0 | P22: =O22+N22+M22 -> 0
A23: 6-1-5 | B23: 19-00000 | C23: 19'' Kabeļu horizontālais organizators ar vāku | D23: gab. | E23: 4 | K23: =H23+I23+J23 -> 0 | L23: =ROUND(E23*F23,2) -> 0 | M23: =ROUND(H23*E23,2) -> 0 | N23: =ROUND(I23*E23,2) -> 0 | O23: =ROUND(J23*E23,2) -> 0 | P23: =O23+N23+M23 -> 0
A24: 6-1-6 | B24: 19-00000 | C24: 19'' Rozešu bloks ar 8 ligzdām | D24: gab. | E24: 1 | K24: =H24+I24+J24 -> 0 | L24: =ROUND(E24*F24,2) -> 0 | M24: =ROUND(H24*E24,2) -> 0 | N24: =ROUND(I24*E24,2) -> 0 | O24: =ROUND(J24*E24,2) -> 0 | P24: =O24+N24+M24 -> 0
A25: 6-1-7 | B25: 19-00000 | C25: 19'' DIN Montāžas sliede 1m | D25: gab. | E25: 1 | K25: =H25+I25+J25 -> 0 | L25: =ROUND(E25*F25,2) -> 0 | M25: =ROUND(H25*E25,2) -> 0 | N25: =ROUND(I25*E25,2) -> 0 | O25: =ROUND(J25*E25,2) -> 0 | P25: =O25+N25+M25 -> 0
A26: 6-1-8 | B26: 19-00000 | C26: Automātiskais slēdzis 1P C16A | D26: gab. | E26: 1 | K26: =H26+I26+J26 -> 0 | L26: =ROUND(E26*F26,2) -> 0 | M26: =ROUND(H26*E26,2) -> 0 | N26: =ROUND(I26*E26,2) -> 0 | O26: =ROUND(J26*E26,2) -> 0 | P26: =O26+N26+M26 -> 0
A27: 6-1-9 | B27: 19-00000 | C27: DIN Rozete 16A 250V | D27: gab. | E27: 1 | K27: =H27+I27+J27 -> 0 | L27: =ROUND(E27*F27,2) -> 0 | M27: =ROUND(H27*E27,2) -> 0 | N27: =ROUND(I27*E27,2) -> 0 | O27: =ROUND(J27*E27,2) -> 0 | P27: =O27+N27+M27 -> 0
A28: 6-1-10 | B28: 19-00000 | C28: Optiskās šķiedras pigtail 2m SM | D28: gab. | E28: 8 | K28: =H28+I28+J28 -> 0 | L28: =ROUND(E28*F28,2) -> 0 | M28: =ROUND(H28*E28,2) -> 0 | N28: =ROUND(I28*E28,2) -> 0 | O28: =ROUND(J28*E28,2) -> 0 | P28: =O28+N28+M28 -> 0
A29: 6-1-11 | B29: 19-00000 | C29: Adapteri simplex | D29: gab. | E29: 4 | K29: =H29+I29+J29 -> 0 | L29: =ROUND(E29*F29,2) -> 0 | M29: =ROUND(H29*E29,2) -> 0 | N29: =ROUND(I29*E29,2) -> 0 | O29: =ROUND(J29*E29,2) -> 0 | P29: =O29+N29+M29 -> 0
A30: 6-1-12 | B30: 19-00000 | C30: Adapteri duplex | D30: gab. | E30: 3 | K30: =H30+I30+J30 -> 0 | L30: =ROUND(E30*F30,2) -> 0 | M30: =ROUND(H30*E30,2) -> 0 | N30: =ROUND(I30*E30,2) -> 0 | O30: =ROUND(J30*E30,2) -> 0 | P30: =O30+N30+M30 -> 0
... A52: 6-1-34 | B52: 19-00000 | C52: Izpilddokumentācijas sagatavošana | D52: kompl. | E52: 1 | K52: =H52+I52+J52 -> 0 | L52: =ROUND(E52*F52,2) -> 0 | M52: =ROUND(H52*E52,2) -> 0 | N52: =ROUND(I52*E52,2) -> 0 | O52: =ROUND(J52*E52,2) -> 0 | P52: =O52+N52+M52 -> 0
C53: Tiešās izmaksas kopā, t.sk. darba devēja sociālais nodoklis (23,59%) | L53: =SUM(L18:L52) -> 0 | M53: =SUM(M18:M52) -> 0 | N53: =SUM(N18:N52) -> 0 | O53: =SUM(O18:O52) -> 0 | P53: =SUM(P18:P52) -> 0
A56: =Nr.1!A86 -> Sastādīja: | C56: =Nr.1!C86 -> 0 | D56: =Nr.1!D86 -> 0 | E56: =Nr.1!E86 -> 0 | F56: =Nr.1!F86 -> 0 | G56: =Nr.1!G86 -> 0
A57: =Nr.1!A87 -> 0 | B57: =Nr.1!B87 -> 0 | C57: =Nr.1!C87 -> (paraksts un tā atšifrējums, datums)
A58: =Nr.1!A88 -> Sertifikāta Nr.: | C58: =Nr.1!C88 -> 0 | D58: =Nr.1!D88 -> 0 | E58: =Nr.1!E88 -> 0 | F58: =Nr.1!F88 -> 0 | G58: =Nr.1!G88 -> 0
A59: =Nr.1!A89 -> 0 | B59: =Nr.1!B89 -> 0 | C59: =Nr.1!C89 -> 0 | D59: =Nr.1!D89 -> 0 | E59: =Nr.1!E89 -> 0 | F59: =Nr.1!F89 -> 0 | G59: =Nr.1!G89 -> 0
A60: =Nr.1!A90 -> 0 | B60: =Nr.1!B90 -> 0 | C60: =Nr.1!C90 -> 0 | D60: =Nr.1!D90 -> 0 | E60: =Nr.1!E90 -> 0 | F60: =Nr.1!F90 -> 0 | G60: =Nr.1!G90 -> 0
A61: =Nr.1!A91 -> Pārbaudīja: | C61: =Nr.1!C91 -> 0 | D61: =Nr.1!D91 -> 0 | E61: =Nr.1!E91 -> 0 | F61: =Nr.1!F91 -> 0 | G61: =Nr.1!G91 -> 0
A62: =Nr.1!A92 -> 0 | B62: =Nr.1!B92 -> 0 | C62: =Nr.1!C92 -> (paraksts un tā atšifrējums, datums)

Sheet Nr.7
A2: Lokālā tāme Nr. 7
A3: =Nr.6!$A$3 -> Ēkas pārbūve Raiņa ielā 27, Cēsīs, Cēsu novadā
A4: Videonovērošanas sistēma (ESS-VN)
A5: (būvdarbu veids vai konstruktīvā elementa nosaukums)
A7: =Nr.1!A7 -> Objekta nosaukums: | C7: =Nr.1!C7 -> Ēkas pārbūve
A8: =Nr.1!A8 -> Būves nosaukums: | C8: =Nr.1!C8 -> Ēkas pārbūve
A9: =Nr.1!A9 -> Objekta adrese: | C9: =Nr.1!C9 -> Raiņa iela 27, Cēsis, Cēsu novads | I9: =Nr.1!I9 -> 0 | J9: =Nr.1!J9 -> 0 | K9: =Nr.1!K9 -> 0 | L9: =Nr.1!L9 -> 0 | M9: =Nr.1!M9 -> 0 | N9: =Nr.1!N9 -> 0
A10: =Nr.1!A10 -> Pasūtījuma Nr.: | C10: =Nr.1!C10 -> 0 | D10: =Nr.1!D10 -> 0 | E10: =Nr.1!E10 -> 0 | F10: =Nr.1!F10 -> 0 | G10: =Nr.1!G10 -> 0 | H10: =Nr.1!H10 -> 0 | I10: =Nr.1!I10 -> 0 | J10: =Nr.1!J10 -> 0 | ... N10: =Nr.1!N10 -> 0
K11: Tāmes izmaksas: | M11: Eur | N11: =P37 -> 0
A12: Tāme sastādīta 2024.gada tirgus cenās,pamatojoties uz ESS-VN daļas rasējumiem.
F13: Tāme sastādīta 2024. gada ___.____________________
A15: Nr.p.k. | B15: Kods | C15: Būvdarbu nosaukums | D15: Mērvienība | E15: Daudzums | F15: Vienības izmaksas | L15: Kopā uz visu apjomu
F16: Laika norma (c/h) | G16: darba samaksas likme* (euro/h) | H16: darba alga | I16: būvizstrādājumi | J16: mehānismi | K16: kopā | L16: darbietilpība (c/h) | M16: darba alga | N16: būvizstrādājumi | O16: mehānismi | P16: summa
A17: 1 | B17: 2 | C17: 3 | D17: 4 | E17: 5 | F17: 6 | G17: 7 | H17: 8 | I17: 9 | J17: 10 | K17: 11 | L17: 12 | M17: 13 | N17: 14 | O17: 15 | P17: 16
A18: 7-1 | C18: ESS-VN SISTĒMA
A19: 7-1-1 | B19: 19-00000 | C19: 32 kanālu AcuSense NVR HikVision videoreģistrators, līdz 320 Mbps ienākošās joslas platums, 10-ch@8 MP, 4 SATA līdz 16TB, 16 kanālu vienlaicīga atskaņošana, DS-7732NI-M4 | D19: gab. | E19: 1 | K19: =H19+I19+J19 -> 0 | L19: =ROUND(E19*F19,2) -> 0 | M19: =ROUND(H19*E19,2) -> 0 | N19: =ROUND(I19*E19,2) -> 0 | O19: =ROUND(J19*E19,2) -> 0 | P19: =O19+N19+M19 -> 0
A20: 7-1-2 | B20: 19-00000 | C20: Cietais disks, 8TB videonovērošanas iekārtām, WD84PURZ | D20: gab. | E20: 3 | K20: =H20+I20+J20 -> 0 | L20: =ROUND(E20*F20,2) -> 0 | M20: =ROUND(H20*E20,2) -> 0 | N20: =ROUND(I20*E20,2) -> 0 | O20: =ROUND(J20*E20,2) -> 0 | P20: =O20+N20+M20 -> 0
A21: 7-1-3 | B21: 19-00000 | C21: Kupola tipa videokamera, 4 MP AcuSense, 120 dB true WDR, microSD līdz 512GB aizsardzība IP67, -30 °C to 60 °C, DS-2CD3346G2-ISU(2.8mm) | D21: gab. | E21: 6 | K21: =H21+I21+J21 -> 0 | L21: =ROUND(E21*F21,2) -> 0 | M21: =ROUND(H21*E21,2) -> 0 | N21: =ROUND(I21*E21,2) -> 0 | O21: =ROUND(J21*E21,2) -> 0 | P21: =O21+N21+M21 -> 0
A22: 7-1-4 | B22: 19-00000 | C22: Montāžas kārba kupola kamerām, DS-1280ZJ-DM46 | D22: gab. | E22: 6 | K22: =H22+I22+J22 -> 0 | L22: =ROUND(E22*F22,2) -> 0 | M22: =ROUND(H22*E22,2) -> 0 | N22: =ROUND(I22*E22,2) -> 0 | O22: =ROUND(J22*E22,2) -> 0 | P22: =O22+N22+M22 -> 0
A23: 7-1-5 | B23: 19-00000 | C23: Bullet tipa videokamera, 4 Mpx AcuSense, 120 dB true WDR, microSD līdz 512GB aizsardzība IP67, -30 °C to 60 °C, Color: 0.003 Lux @ (F1.4, AGC ON),B/W: 0 Lux with IR, DS-2CD3T46G2-ISU/SL(2.8mm) | D23: gab. | E23: 6 | K23: =H23+I23+J23 -> 0 | L23: =ROUND(E23*F23,2) -> 0 | M23: =ROUND(H23*E23,2) -> 0 | N23: =ROUND(I23*E23,2) -> 0 | O23: =ROUND(J23*E23,2) -> 0 | P23: =O23+N23+M23 -> 0
A24: 7-1-6 | B24: 19-00000 | C24: Montāžas kārba bullet tipa kamerām, DS-1280ZJ-S | D24: gab. | E24: 6 | K24: =H24+I24+J24 -> 0 | L24: =ROUND(E24*F24,2) -> 0 | M24: =ROUND(H24*E24,2) -> 0 | N24: =ROUND(I24*E24,2) -> 0 | O24: =ROUND(J24*E24,2) -> 0 | P24: =O24+N24+M24 -> 0
A25: 7-1-7 | B25: 19-00000 | C25: Pārsprieguma aizsardzība, CAT.6, POE++, 16kA maksimālā pārsprieguma aizsardzība, datu pārraide līdz 10 Gbps, joslas platums līdz 500MHz, MJ8-POE-C6A | D25: gab. | E25: 6 | K25: =H25+I25+J25 -> 0 | L25: =ROUND(E25*F25,2) -> 0 | M25: =ROUND(H25*E25,2) -> 0 | N25: =ROUND(I25*E25,2) -> 0 | O25: =ROUND(J25*E25,2) -> 0 | P25: =O25+N25+M25 -> 0
A26: 7-1-8 | B26: 19-00000 | C26: Tīkla PoE komutātors, 24 portu, maksimālais enerģijas patēriņš 250W, darbības temperatūra -5 °C to 40 °C, izmēri 485 x 43.7 x 285.4 mm, 24 x Passive PoE, 802.3af (PoE), 802.3at (PoE+), US-24-250W | D26: gab. | E26: 1 | K26: =H26+I26+J26 -> 0 | L26: =ROUND(E26*F26,2) -> 0 | M26: =ROUND(H26*E26,2) -> 0 | N26: =ROUND(I26*E26,2) -> 0 | O26: =ROUND(J26*E26,2) -> 0 | P26: =O26+N26+M26 -> 0
A27: 7-1-9 | B27: 19-00000 | C27: SFP savienojuma kabelis | D27: gab. | E27: 1 | K27: =H27+I27+J27 -> 0 | L27: =ROUND(E27*F27,2) -> 0 | M27: =ROUND(H27*E27,2) -> 0 | N27: =ROUND(I27*E27,2) -> 0 | O27: =ROUND(J27*E27,2) -> 0 | P27: =O27+N27+M27 -> 0
A28: 7-1-10 | B28: 19-00000 | C28: 19″ 24 portu ekranēts patch panelis Cat 6, FTP, ekranēts, PP-6F-24 | D28: gab. | E28: 1 | K28: =H28+I28+J28 -> 0 | L28: =ROUND(E28*F28,2) -> 0 | M28: =ROUND(H28*E28,2) -> 0 | N28: =ROUND(I28*E28,2) -> 0 | O28: =ROUND(J28*E28,2) -> 0 | P28: =O28+N28+M28 -> 0
A29: 7-1-11 | B29: 19-00000 | C29: Konektors RJ45 Cat 6, FTP, RJ45-6F | D29: kompl. | E29: 1 | K29: =H29+I29+J29 -> 0 | L29: =ROUND(E29*F29,2) -> 0 | M29: =ROUND(H29*E29,2) -> 0 | N29: =ROUND(I29*E29,2) -> 0 | O29: =ROUND(J29*E29,2) -> 0 | P29: =O29+N29+M29 -> 0
A30: 7-1-12 | B30: 19-00000 | C30: Datu savienojošais kabelis Cat 6 FTP. LSZH. 2m pelēks | D30: gab. | E30: 12 | K30: =H30+I30+J30 -> 0 | L30: =ROUND(E30*F30,2) -> 0 | M30: =ROUND(H30*E30,2) -> 0 | N30: =ROUND(I30*E30,2) -> 0 | O30: =ROUND(J30*E30,2) -> 0 | P30: =O30+N30+M30 -> 0
... A36: 7-1-18 | B36: 19-00000 | C36: Izpilddokumentācijas sagatavošana | D36: kompl. | E36: 1 | K36: =H36+I36+J36 -> 0 | L36: =ROUND(E36*F36,2) -> 0 | M36: =ROUND(H36*E36,2) -> 0 | N36: =ROUND(I36*E36,2) -> 0 | O36: =ROUND(J36*E36,2) -> 0 | P36: =O36+N36+M36 -> 0
C37: Tiešās izmaksas kopā, t.sk. darba devēja sociālais nodoklis (23,59%) | L37: =SUM(L18:L36) -> 0 | M37: =SUM(M18:M36) -> 0 | N37: =SUM(N18:N36) -> 0 | O37: =SUM(O18:O36) -> 0 | P37: =SUM(P18:P36) -> 0
A40: =Nr.1!A86 -> Sastādīja: | C40: =Nr.1!C86 -> 0
A41: =Nr.1!A87 -> 0 | B41: =Nr.1!B87 -> 0 | C41: =Nr.1!C87 -> (paraksts un tā atšifrējums, datums) | D41: =Nr.1!D87 -> 0 | E41: =Nr.1!E87 -> 0 | F41: =Nr.1!F87 -> 0 | G41: =Nr.1!G87 -> 0
A42: =Nr.1!A88 -> Sertifikāta Nr.: | C42: =Nr.1!C88 -> 0 | D42: =Nr.1!D88 -> 0 | E42: =Nr.1!E88 -> 0 | F42: =Nr.1!F88 -> 0 | G42: =Nr.1!G88 -> 0
A43: =Nr.1!A89 -> 0 | B43: =Nr.1!B89 -> 0 | C43: =Nr.1!C89 -> 0 | D43: =Nr.1!D89 -> 0 | E43: =Nr.1!E89 -> 0 | F43: =Nr.1!F89 -> 0 | G43: =Nr.1!G89 -> 0
A44: =Nr.1!A90 -> 0 | B44: =Nr.1!B90 -> 0 | C44: =Nr.1!C90 -> 0 | D44: =Nr.1!D90 -> 0 | E44: =Nr.1!E90 -> 0 | F44: =Nr.1!F90 -> 0 | G44: =Nr.1!G90 -> 0
A45: =Nr.1!A91 -> Pārbaudīja: | C45: =Nr.1!C91 -> 0
A46: =Nr.1!A92 -> 0 | B46: =Nr.1!B92 -> 0 | C46: =Nr.1!C92 -> (paraksts un tā atšifrējums, datums) | D46: =Nr.1!D92 -> 0 | E46: =Nr.1!E92 -> 0 | F46: =Nr.1!F92 -> 0 | G46: =Nr.1!G92 -> 0

Sheet Nr.8
N1: Ar grozījumiem, kas veikti Iepirkuma komisijas 2024. gada 5. septembra sēdē; 4. protokols
A2: Lokālā tāme Nr. 8
A3: Ēkas pārbūve Raiņa ielā 27, Cēsīs, Cēsu novadā
A4: Ūdensapgāde un kanalizācija (iekšējā)
A5: (būvdarbu veids vai konstruktīvā elementa nosaukums)
A6: =Nr.1!A7 -> Objekta nosaukums: | C6: =Nr.1!C7 -> Ēkas pārbūve | D6: =Nr.1!D7 -> 0 | E6: =Nr.1!E7 -> 0 | F6: =Nr.1!F7 -> 0 | G6: =Nr.1!G7 -> 0 | H6: =Nr.1!H7 -> 0 | I6: =Nr.1!I7 -> 0 | J6: =Nr.1!J7 -> 0 | ... N6: =Nr.1!N7 -> 0
A7: =Nr.1!A8 -> Būves nosaukums: | C7: =Nr.1!C8 -> Ēkas pārbūve
A8: =Nr.1!A9 -> Objekta adrese: | C8: =Nr.1!C9 -> Raiņa iela 27, Cēsis, Cēsu novads
A9: =Nr.1!A10 -> Pasūtījuma Nr.: | C9: =Nr.1!C10 -> 0 | I9: =Nr.1!I10 -> 0 | J9: =Nr.1!J10 -> 0 | K9: =Nr.1!K10 -> 0 | L9: =Nr.1!L10 -> 0 | M9: =Nr.1!M10 -> 0 | N9: =Nr.1!N10 -> 0
K11: Tāmes izmaksas: | M11: Eur | N11: =P116 -> 0
A12: Tāme sastādīta 2024.gada tirgus cenās,pamatojoties uz UK daļas rasējumiem.
F13: Tāme sastādīta 2024. gada ____.______________________
A15: Nr.p.k. | B15: Kods | C15: Būvdarbu nosaukums | D15: Mērvienība | E15: Daudzums | F15: Vienības izmaksas | L15: Kopā uz visu apjomu
F16: Laika norma (c/h) | G16: darba samaksas likme* (euro/h) | H16: darba alga | I16: būvizstrādājumi | J16: mehānismi | K16: kopā | L16: darbietilpība (c/h) | M16: darba alga | N16: būvizstrādājumi | O16: mehānismi | P16: summa
A17: 1 | B17: 2 | C17: 3 | D17: 4 | E17: 5 | F17: 6 | G17: 7 | H17: 8 | I17: 9 | J17: 10 | K17: 11 | L17: 12 | M17: 13 | N17: 14 | O17: 15 | P17: 16
A18: 8-1 | C18: Iekšējie saimnieciskās kanalizācijas tīkli, aprīkojums - kanalizācija K1; Kondensāta noteces kanalizācijas tīkli, aprīkojums - kondensāta noteces kanalizācija K2
A19: 8-1-1 | B19: 16-00000 | C19: Esošā kanalizācijas izvada d110 tamponēšana aizbetonējot galu ar cementa javu, V=0.1m3 | D19: gb. | E19: 1 | K19: =ROUND(J19+I19+H19,2) -> 0 | L19: =ROUND(F19*E19,2) -> 0 | M19: =ROUND(H19*E19,2) -> 0 | N19: =ROUND(I19*E19,2) -> 0 | O19: =ROUND(J19*E19,2) -> 0 | P19: =ROUND(O19+N19+M19,2) -> 0
A20: 8-1-2 | B20: 16-00000 | C20: Trokšņus slāpējošā kanalizācijas caurule Wavin AS+ OD50, SN4, vai ekvivalenta, ieskaitot veidgabalus, fasondaļas un stiprinājumus, uzstādīšana pie sienas** | D20: m | E20: 18.9 | K20: =ROUND(J20+I20+H20,2) -> 0 | L20: =ROUND(F20*E20,2) -> 0 | M20: =ROUND(H20*E20,2) -> 0 | N20: =ROUND(I20*E20,2) -> 0 | O20: =ROUND(J20*E20,2) -> 0 | P20: =ROUND(O20+N20+M20,2) -> 0
A21: 8-1-3 | B21: 16-00000 | C21: Trokšņus slāpējošā kanalizācijas caurule Wavin AS+ OD110, SN4, vai ekvivalenta, ieskaitot veidgabalus, fasondaļas un stiprinājumus, uzstādīšana pie sienas** | D21: m | E21: 69.3 | K21: =ROUND(J21+I21+H21,2) -> 0 | L21: =ROUND(F21*E21,2) -> 0 | M21: =ROUND(H21*E21,2) -> 0 | N21: =ROUND(I21*E21,2) -> 0 | O21: =ROUND(J21*E21,2) -> 0 | P21: =ROUND(O21+N21+M21,2) -> 0
A22: 8-1-4 | B22: 16-00000 | C22: PP kanalizācijas caurule OD50, SN4, ieskaitot veidgabalus, fasondaļas, uzstādīšana sienā, pie sienas** | D22: m | E22: 12.1 | K22: =ROUND(J22+I22+H22,2) -> 0 | L22: =ROUND(F22*E22,2) -> 0 | M22: =ROUND(H22*E22,2) -> 0 | N22: =ROUND(I22*E22,2) -> 0 | O22: =ROUND(J22*E22,2) -> 0 | P22: =ROUND(O22+N22+M22,2) -> 0
A23: 8-1-5 | B23: 16-00000 | C23: PP kanalizācijas caurule OD110, SN8, ieskaitot veidgabalus, fasondaļas, uzstādīšana gruntī | D23: m | E23: 109.8 | K23: =ROUND(J23+I23+H23,2) -> 0 | L23: =ROUND(F23*E23,2) -> 0 | M23: =ROUND(H23*E23,2) -> 0 | N23: =ROUND(I23*E23,2) -> 0 | O23: =ROUND(J23*E23,2) -> 0 | P23: =ROUND(O23+N23+M23,2) -> 0
A24: 8-1-6 | B24: 16-00000 | C24: Kanalizācijas PP caurule OD32,SN4, ieskaitot veidgabalus, fasondaļas un stiprinājumus ik pēc 1-1,5m, uzstādīšana pie griestiem | D24: m | E24: 23.4 | K24: =ROUND(J24+I24+H24,2) -> 0 | L24: =ROUND(F24*E24,2) -> 0 | M24: =ROUND(H24*E24,2) -> 0 | N24: =ROUND(I24*E24,2) -> 0 | O24: =ROUND(J24*E24,2) -> 0 | P24: =ROUND(O24+N24+M24,2) -> 0
A25: 8-1-7 | B25: 16-00000 | C25: Kanalizācijas PP caurule OD50,SN4, ieskaitot veidgabalus, fasondaļas un stiprinājumus, uzstādīšana pie griestiem ** | D25: m | E25: 1.5 | K25: =ROUND(J25+I25+H25,2) -> 0 | L25: =ROUND(F25*E25,2) -> 0 | M25: =ROUND(H25*E25,2) -> 0 | N25: =ROUND(I25*E25,2) -> 0 | O25: =ROUND(J25*E25,2) -> 0 | P25: =ROUND(O25+N25+M25,2) -> 0
A26: 8-1-8 | B26: 16-00000 | C26: HEPVO sifona OD32 uzstādīšana kondensāta drenāžas pievienošanai, ieskaitot visus nepieciešamos papildmateriālus | D26: gb. | E26: 2 | K26: =ROUND(J26+I26+H26,2) -> 0 | L26: =ROUND(F26*E26,2) -> 0 | M26: =ROUND(H26*E26,2) -> 0 | N26: =ROUND(I26*E26,2) -> 0 | O26: =ROUND(J26*E26,2) -> 0 | P26: =ROUND(O26+N26+M26,2) -> 0
A27: 8-1-9 | B27: 16-00000 | C27: Kondensāta sifona DN40 ar lodīti uzstādīšana kondensāta drenāžas pievienošanai, ieskaitot visus nepieciešamos papildmateriālus | D27: gb. | E27: 1 | K27: =ROUND(J27+I27+H27,2) -> 0 | L27: =ROUND(F27*E27,2) -> 0 | M27: =ROUND(H27*E27,2) -> 0 | N27: =ROUND(I27*E27,2) -> 0 | O27: =ROUND(J27*E27,2) -> 0 | P27: =ROUND(O27+N27+M27,2) -> 0
A28: 8-1-10 | B28: 16-00000 | C28: Tīrīšanas vietas ar noslēgtapu izbūve OD32, ieskaitot visus nepieciešamos papildmateriālus | D28: gb. | E28: 2 | K28: =ROUND(J28+I28+H28,2) -> 0 | L28: =ROUND(F28*E28,2) -> 0 | M28: =ROUND(H28*E28,2) -> 0 | N28: =ROUND(I28*E28,2) -> 0 | O28: =ROUND(J28*E28,2) -> 0 | P28: =ROUND(O28+N28+M28,2) -> 0
A29: 8-1-11 | B29: 16-00000 | C29: Kondensāta drenāžas pievienojums ar lokano pievadu un blīvējumu DN25*, h=0,5m* | D29: gb. | E29: 6 | K29: =ROUND(J29+I29+H29,2) -> 0 | L29: =ROUND(F29*E29,2) -> 0 | M29: =ROUND(H29*E29,2) -> 0 | N29: =ROUND(I29*E29,2) -> 0 | O29: =ROUND(J29*E29,2) -> 0 | P29: =ROUND(O29+N29+M29,2) -> 0
A30: 8-1-12 | B30: 16-00000 | C30: Kondensāta drenāžas pievienojums DN40* | D30: gb. | E30: 1 | K30: =ROUND(J30+I30+H30,2) -> 0 | L30: =ROUND(F30*E30,2) -> 0 | M30: =ROUND(H30*E30,2) -> 0 | N30: =ROUND(I30*E30,2) -> 0 | O30: =ROUND(J30*E30,2) -> 0 | P30: =ROUND(O30+N30+M30,2) -> 0
... A38: 8-1-20 | B38: 16-00000 | C38: Revīzijas Wavin AS+ OD110 vai ekvivalentas, uzstādīšana | D38: gb. | E38: 9 | K38: =ROUND(J38+I38+H38,2) -> 0 | L38: =ROUND(F38*E38,2) -> 0 | M38: =ROUND(H38*E38,2) -> 0 | N38: =ROUND(I38*E38,2) -> 0 | O38: =ROUND(J38*E38,2) -> 0 | P38: =ROUND(O38+N38+M38,2) -> 0
A39: 8-1-21 | B39: 16-00000 | C39: Ugunsdrošas apkalpošanas lūkas uzstādīšana 200x200(h)mm | D39: gb. | E39: 8 | K39: =SUM(H39:J39) -> 0 | L39: =ROUND(F39*E39,2) -> 0 | M39: =ROUND(H39*E39,2) -> 0 | N39: =ROUND(I39*E39,2) -> 0 | O39: =ROUND(J39*E39,2) -> 0 | P39: =ROUND(O39+N39+M39,2) -> 0
A40: 8-1-22 | B40: 16-00000 | C40: Tīrīšanas lūku HL98 vai ekvivalents OD110 uzstādīšana | D40: vieta | E40: 14 | K40: =SUM(H40:J40) -> 0 | L40: =ROUND(F40*E40,2) -> 0 | M40: =ROUND(H40*E40,2) -> 0 | N40: =ROUND(I40*E40,2) -> 0 | O40: =ROUND(J40*E40,2) -> 0 | P40: =ROUND(O40+N40+M40,2) -> 0
A41: 8-1-23 | B41: 16-00000 | C41: Noslēgtapas izbūve PP OD110 perspektīvajam pieslēgumam | D41: vieta | E41: 11 | K41: =SUM(H41:J41) -> 0 | L41: =ROUND(F41*E41,2) -> 0 | M41: =ROUND(H41*E41,2) -> 0 | N41: =ROUND(I41*E41,2) -> 0 | O41: =ROUND(J41*E41,2) -> 0 | P41: =ROUND(O41+N41+M41,2) -> 0
A42: 8-1-24 | B42: 16-00000 | C42: Kvadrātveida dušas palikņa 800x800mm ar paneli un sifonu, balta un dušas stūra 800x800, h=1700mm Ravak vai ekvivalents, dušas maisītāja, dušas klausules ar pievadu Grohe vai ekvivalents un stipinājuma stieni montāža | D42: kpl. | E42: 1 | K42: =SUM(H42:J42) -> 0 | L42: =ROUND(F42*E42,2) -> 0 | M42: =ROUND(H42*E42,2) -> 0 | N42: =ROUND(I42*E42,2) -> 0 | O42: =ROUND(J42*E42,2) -> 0 | P42: =ROUND(O42+N42+M42,2) -> 0
A43: 8-1-25 | B43: 16-00000 | C43: Balta, stiprināma pie grīdas ar horizontālu izvadu, WC vāku un sēdriņķi, ūdens pievadu no sāna invalīdu poda ar sēdekļa augstumu 460mm un skalošanas tvertni, ieskaitot stiprinājumus un pievienojuma fasondaļu komplektu, uzstādīšana un pievienošana pie ūdensvadiem un pie kanalizācijas tīkliem. Ifo vai ekvivalents. Stacionāra un paceļama invalīdu rokturu 800x100x300mm un 880x70x80mm (krāsa:satīns) piestiprināšana pie sienas (17.telpa) | D43: kompl. | E43: 1 | K43: =H43+I43+J43 -> 0 | L43: =E43*F43 -> 0 | M43: =E43*H43 -> 0 | N43: =I43*E43 -> 0 | O43: =J43*E43 -> 0 | P43: =M43+N43+O43 -> 0
A44: 8-1-26 | B44: 16-00000 | C44: Balta, stiprināma pie grīdas ar horizontālu izvadu, WC vāku un sēdriņķi, invalīdu poda ar sēdekļa augstumu 460mm un skalošanas tvertni ar poda vadības sistēmu ar elektronisku skalošanas aktivizāciju, imantojot bateriju, divrežīmu skalošana, bezkontakta, ieskaitot stiprinājumus un pievienojuma fasondaļu komplektu, uzstādīšana un pievienošana pie ūdensvadiem un pie kanalizācijas tīkliem. Ifo vai ekvivalents. Stacionāra un paceļama invalīdu rokturu 800x100x300mm un 880x70x80mm (krāsa:satīns) piestiprināšana pie sienas (30.telpa) | D44: kompl. | E44: 1 | K44: =H44+I44+J44 -> 0 | L44: =E44*F44 -> 0 | M44: =E44*H44 -> 0 | N44: =I44*E44 -> 0 | O44: =J44*E44 -> 0 | P44: =M44+N44+O44 -> 0
A45: 8-1-27 | B45: 16-00000 | C45: Klozetpodu ar skalošanas tvertni Ifo vai ekvivalenta , ieskaitot sifonu uc. uzstādīšana un pievienošana pie ūdensvadiem un pie kanalizācijas (15., 16., 20.telpas) | D45: kpl | E45: 4 | K45: =ROUND(J45+I45+H45,2) -> 0 | L45: =ROUND(F45*E45,2) -> 0 | M45: =ROUND(H45*E45,2) -> 0 | N45: =ROUND(I45*E45,2) -> 0 | O45: =ROUND(J45*E45,2) -> 0 | P45: =SUM(O45+N45+M45) -> 0
A46: 8-1-28 | B46: 16-00000 | C46: Klozetpodu ar skalošanas tvertni Ifo Spira vai ekvivalents ar poda vadības sistēmu ar elektronisku skalošanas aktivizāciju, izmantojot bateriju, divrežīmu skalošana, bezkontakta, ieskaitot sifonu uc. uzstādīšana un pievienošana pie ūdensvadiem un pie kanalizācijas (31.,32.,33.,34.,35. telpas) | D46: kpl. | E46: 5 | K46: =ROUND(J46+I46+H46,2) -> 0 | L46: =ROUND(F46*E46,2) -> 0 | M46: =ROUND(H46*E46,2) -> 0 | N46: =ROUND(I46*E46,2) -> 0 | O46: =ROUND(J46*E46,2) -> 0 | P46: =SUM(O46+N46+M46) -> 0
A47: 8-1-29 | B47: 16-00000 | C47: Brīvi stāvošs bidē, ar atveri maisītājam un bidē jaucējkrānu Jika vai ekvivalents, ieskaitot stiprinājuma komplektu, lokanos pievadus L=0,5m un pievienošana pie ūdensvadiem un pie kanalizācijas | D47: kpl | E47: 1 | K47: =H47+I47+J47 -> 0 | L47: =E47*F47 -> 0 | M47: =E47*H47 -> 0 | N47: =I47*E47 -> 0 | O47: =J47*E47 -> 0 | P47: =M47+N47+O47 -> 0
A48: 8-1-30 | B48: 16-00000 | C48: Roku mazgātnes 64x55cm Jika vai ekvivalents invalīdiem uzstādīšana, ieskaitot bezkontakta jaucējkrānu Oras Electra vai ekvivalentu ar 6V baterijas barošanu, stiprinājuma komplektu, lokanos pievadus L=0,5m, metālisku sifonu uc. un pievienošana pie ūdensvadiem un pie kanalizācijas (30.telpa) | D48: kpl | E48: 1 | K48: =H48+I48+J48 -> 0 | L48: =E48*F48 -> 0 | M48: =E48*H48 -> 0 | N48: =I48*E48 -> 0 | O48: =J48*E48 -> 0 | P48: =M48+N48+O48 -> 0
A49: 8-1-31 | B49: 16-00000 | C49: Roku mazgātnes 64x55cm Jika vai ekvivalents invalīdiem uzstādīšana, ieskaitot jaucējkrānu, stiprinājuma komplektu, lokanos pievadus L=0,5m, metālisku sifonu uc. un pievienošana pie ūdensvadiem un pie kanalizācijas (17.telpa) | D49: kpl | E49: 1 | K49: =H49+I49+J49 -> 0 | L49: =E49*F49 -> 0 | M49: =E49*H49 -> 0 | N49: =I49*E49 -> 0 | O49: =J49*E49 -> 0 | P49: =M49+N49+O49 -> 0
A50: 8-1-32 | B50: 16-00000 | C50: D-Code Duravit vai ekvivalents dubultās izlietnes 120x49 cm, balta uzstādīšana, ieskaitot jaucējkrānu Hansgrohe vai ekvivalentu, sifonu, lokanos ūdensvada pievadus d10, L=500mm uc. un pievienošana pie ūdensvadiem un pie kanalizācijas (20.telpa) | D50: kpl. | E50: 1 | K50: =H50+I50+J50 -> 0 | L50: =E50*F50 -> 0 | M50: =E50*H50 -> 0 | N50: =I50*E50 -> 0 | O50: =J50*E50 -> 0 | P50: =M50+N50+O50 -> 0
A51: 8-1-33 | B51: 16-00000 | C51: Baltas keramikas roku mazgātnes uzstādīšana Jika vai ekvivalents, ieskaitot jaucējkrānu Hansgrohe vai ekvivalentu, sifonu, lokanos ūdensvada pievadus d10, L=500mm uc. un pievienošana pie ūdensvadiem un pie kanalizācijas (15.,16. telpas) | D51: kpl | E51: 2 | K51: =ROUND(J51+I51+H51,2) -> 0 | L51: =ROUND(F51*E51,2) -> 0 | M51: =ROUND(H51*E51,2) -> 0 | N51: =ROUND(I51*E51,2) -> 0 | O51: =ROUND(J51*E51,2) -> 0 | P51: =ROUND(O51+N51+M51,2) -> 0
A52: 8-1-34 | B52: 16-00000 | C52: Baltas keramikas roku mazgātnes uzstādīšana Jika vai analogs, ieskaitot bezkontakta jaucējkrānu Oras Electra vai ekvivalentu ar 6V baterijas barošanu, sifonu, lokanos ūdensvada pievadus d10, L=500mm uc. un pievienošana pie ūdensvadiem un pie kanalizācijas (31.,32.,33.,34.,35. telpas) | D52: kpl | E52: 5 | K52: =ROUND(J52+I52+H52,2) -> 0 | L52: =ROUND(F52*E52,2) -> 0 | M52: =ROUND(H52*E52,2) -> 0 | N52: =ROUND(I52*E52,2) -> 0 | O52: =ROUND(J52*E52,2) -> 0 | P52: =ROUND(O52+N52+M52,2) -> 0
A53: 8-1-35 | B53: 16-00000 | C53: Cauruļu, stiprinājumu un fasondaļu krāsošana ar baltu divkomponentu poliuretāna krāsu 2.stāvā | D53: m | E53: 5 | K53: =ROUND(J53+I53+H53,2) -> 0 | L53: =ROUND(F53*E53,2) -> 0 | M53: =ROUND(H53*E53,2) -> 0 | N53: =ROUND(I53*E53,2) -> 0 | O53: =ROUND(J53*E53,2) -> 0 | P53: =ROUND(O53+N53+M53,2) -> 0
A54: 8-1-36 | B54: 16-00000 | C54: Starpsienu šķērsošana, aizdare, L=150mm | D54: vieta | E54: 4 | K54: =H54+I54+J54 -> 0 | L54: =E54*F54 -> 0 | M54: =E54*H54 -> 0 | N54: =I54*E54 -> 0 | O54: =J54*E54 -> 0 | P54: =M54+N54+O54 -> 0
A55: 8-1-37 | B55: 16-00000 | C55: Mūra sienu šķērsošana,cauruma izveide, aizdare | D55: vieta | E55: 2 | K55: =H55+I55+J55 -> 0 | L55: =E55*F55 -> 0 | M55: =E55*H55 -> 0 | N55: =I55*E55 -> 0 | O55: =J55*E55 -> 0 | P55: =M55+N55+O55 -> 0
A56: 8-1-38 | B56: 16-00000 | C56: Ģipškartona konstrukcijas veidošana 300mm x 300mm cauruļvadu apšūšanai | D56: m | E56: 18 | K56: =ROUND(J56+I56+H56,2) -> 0 | L56: =ROUND(F56*E56,2) -> 0 | M56: =ROUND(H56*E56,2) -> 0 | N56: =ROUND(I56*E56,2) -> 0 | O56: =ROUND(J56*E56,2) -> 0 | P56: =ROUND(O56+N56+M56,2) -> 0
A57: 8-1-39 | B57: 16-00000 | C57: Izvada no ēkas izbūve sienas šķērsojuma vietā uzstādot aizsargčaulu OD110, izvada vietu hermetizējot | D57: vieta | E57: 2 | K57: =SUM(H57:J57) -> 0 | L57: =ROUND(E57*F57,2) -> 0 | M57: =ROUND(H57*E57,2) -> 0 | N57: =ROUND(I57*E57,2) -> 0 | O57: =ROUND(J57*E57,2) -> 0 | P57: =SUM(M57:O57) -> 0
A58: 8-1-40 | B58: 16-00000 | C58: Izbūvētās kanalizācijas sistēmas skalošana, hidrauliskās pārbaudes un izpilddokumentācijas sagatavošana | D58: kpl | E58: 1 | K58: =ROUND(J58+I58+H58,2) -> 0 | L58: =ROUND(F58*E58,2) -> 0 | M58: =ROUND(H58*E58,2) -> 0 | N58: =ROUND(I58*E58,2) -> 0 | O58: =ROUND(J58*E58,2) -> 0 | P58: =SUM(O58+N58+M58) -> 0
A59: 8-1-41 | B59: 16-00000 | C59: Kanalizācijas sistēmas komplektējošie palīgmateriāli (smērvielas, hermētiķi, stiprinājumi, u.c.) | D59: kpl | E59: 1 | K59: =ROUND(J59+I59+H59,2) -> 0 | L59: =ROUND(F59*E59,2) -> 0 | M59: =ROUND(H59*E59,2) -> 0 | N59: =ROUND(I59*E59,2) -> 0 | O59: =ROUND(J59*E59,2) -> 0 | P59: =SUM(O59+N59+M59) -> 0
A60: 8-2 | C60: Iekšējie lietus kanalizācijas tīkli, aprīkojums - lietus kanalizācija LK1; Kondensāta noteces kanalizācijas tīkli, aprīkojums - kondensāta noteces kanalizācija K2
A61: 8-2-42 | B61: 16-00000 | C61: Trokšņus slāpējošā kanalizācijas caurule Wavin AS+ OD160, SN4, vai ekvivalenta, ieskaitot veidgabalus, fasondaļas un stiprinājumus, uzstādīšana pie sienas ** | D61: m | E61: 43.5 | K61: =ROUND(J61+I61+H61,2) -> 0 | L61: =ROUND(F61*E61,2) -> 0 | M61: =ROUND(H61*E61,2) -> 0 | N61: =ROUND(I61*E61,2) -> 0 | O61: =ROUND(J61*E61,2) -> 0 | P61: =ROUND(O61+N61+M61,2) -> 0
A62: 8-2-43 | B62: 16-00000 | C62: PP kanalizācijas caurule OD160, SN8, ieskaitot veidgabalus, fasondaļas, uzstādīšana gruntī | D62: m | E62: 25 | K62: =ROUND(J62+I62+H62,2) -> 0 | L62: =ROUND(F62*E62,2) -> 0 | M62: =ROUND(H62*E62,2) -> 0 | N62: =ROUND(I62*E62,2) -> 0 | O62: =ROUND(J62*E62,2) -> 0 | P62: =ROUND(O62+N62+M62,2) -> 0
A63: 8-2-44 | B63: 16-00000 | C63: Kanalizācijas PP caurule OD32, SN4, ieskaitot veidgabalus, fasondaļas un stiprinājumus ik pēc 1-1,5m, uzstādīšana pie griestiem** | D63: m | E63: 158.4 | K63: =ROUND(J63+I63+H63,2) -> 0 | L63: =ROUND(F63*E63,2) -> 0 | M63: =ROUND(H63*E63,2) -> 0 | N63: =ROUND(I63*E63,2) -> 0 | O63: =ROUND(J63*E63,2) -> 0 | P63: =ROUND(O63+N63+M63,2) -> 0
A64: 8-2-45 | B64: 16-00000 | C64: Revīzijas Wavin AS+ OD160 vai ekvivalentas, uzstādīšana | D64: gb. | E64: 8 | K64: =ROUND(J64+I64+H64,2) -> 0 | L64: =ROUND(F64*E64,2) -> 0 | M64: =ROUND(H64*E64,2) -> 0 | N64: =ROUND(I64*E64,2) -> 0 | O64: =ROUND(J64*E64,2) -> 0 | P64: =ROUND(O64+N64+M64,2) -> 0
A65: 8-2-46 | B65: 16-00000 | C65: Lietus ūdens sateknes ar gružu sietu ∅160, ar jumta atloku, izolācijas materiālu pret kondensātu, pašregulējošo sildelementu ar 1m kabeli 32W montāža un pievienošana pie stāvvada, ieskaitot visus nepieciešamos papildmateriālus | D65: gb. | E65: 4 | K65: =ROUND(J65+I65+H65,2) -> 0 | L65: =ROUND(F65*E65,2) -> 0 | M65: =ROUND(H65*E65,2) -> 0 | N65: =ROUND(I65*E65,2) -> 0 | O65: =ROUND(J65*E65,2) -> 0 | P65: =ROUND(O65+N65+M65,2) -> 0
A66: 8-2-47 | B66: 16-00000 | C66: Pārseguma šķērsošana uzstādot ugunsdrošības manžeti DN160, šķērsojuma vietu aizdarot ar ugunsdrošo javu | D66: gb. | E66: 8 | K66: =ROUND(J66+I66+H66,2) -> 0 | L66: =ROUND(F66*E66,2) -> 0 | M66: =ROUND(H66*E66,2) -> 0 | N66: =ROUND(I66*E66,2) -> 0 | O66: =ROUND(J66*E66,2) -> 0 | P66: =ROUND(O66+N66+M66,2) -> 0
A67: 8-2-48 | B67: 16-00000 | C67: Ugunsdrošas apkalpošanas lūkas uzstādīšana 200x200(h)mm | D67: gb. | E67: 4 | K67: =SUM(H67:J67) -> 0 | L67: =ROUND(F67*E67,2) -> 0 | M67: =ROUND(H67*E67,2) -> 0 | N67: =ROUND(I67*E67,2) -> 0 | O67: =ROUND(J67*E67,2) -> 0 | P67: =ROUND(O67+N67+M67,2) -> 0
A68: 8-2-49 | B68: 16-00000 | C68: HEPVO sifona OD32 uzstādīšana kondensāta drenāžas pievienošanai, ieskaitot visus nepieciešamos papildmateriālus | D68: gb. | E68: 9 | K68: =ROUND(J68+I68+H68,2) -> 0 | L68: =ROUND(F68*E68,2) -> 0 | M68: =ROUND(H68*E68,2) -> 0 | N68: =ROUND(I68*E68,2) -> 0 | O68: =ROUND(J68*E68,2) -> 0 | P68: =ROUND(O68+N68+M68,2) -> 0
A69: 8-2-50 | B69: 16-00000 | C69: Tīrīšanas vietas ar noslēgtapu izbūve OD32, ieskaitot visus nepieciešamos papildmateriālus | D69: gb. | E69: 24 | K69: =ROUND(J69+I69+H69,2) -> 0 | L69: =ROUND(F69*E69,2) -> 0 | M69: =ROUND(H69*E69,2) -> 0 | N69: =ROUND(I69*E69,2) -> 0 | O69: =ROUND(J69*E69,2) -> 0 | P69: =ROUND(O69+N69+M69,2) -> 0
A70: 8-2-51 | B70: 16-00000 | C70: Kondensāta drenāžas pievienojums ar lokano pievadu un blīvējumu DN25*, h=0,5m* | D70: gb. | E70: 24 | K70: =ROUND(J70+I70+H70,2) -> 0 | L70: =ROUND(F70*E70,2) -> 0 | M70: =ROUND(H70*E70,2) -> 0 | N70: =ROUND(I70*E70,2) -> 0 | O70: =ROUND(J70*E70,2) -> 0 | P70: =ROUND(O70+N70+M70,2) -> 0
A71: 8-2-52 | B71: 16-00000 | C71: Cauruļu, stiprinājumu un fasondaļu krāsošana ar baltu divkomponentu poliuretāna krāsu 2.stāvā | D71: m | E71: 22 | K71: =ROUND(J71+I71+H71,2) -> 0 | L71: =ROUND(F71*E71,2) -> 0 | M71: =ROUND(H71*E71,2) -> 0 | N71: =ROUND(I71*E71,2) -> 0 | O71: =ROUND(J71*E71,2) -> 0 | P71: =ROUND(O71+N71+M71,2) -> 0
A72: 8-2-53 | B72: 16-00000 | C72: Starpsienu šķērsošana, aizdare, L=150mm | D72: vieta | E72: 8 | K72: =H72+I72+J72 -> 0 | L72: =E72*F72 -> 0 | M72: =E72*H72 -> 0 | N72: =I72*E72 -> 0 | O72: =J72*E72 -> 0 | P72: =M72+N72+O72 -> 0
A73: 8-2-54 | B73: 16-00000 | C73: Izvada no ēkas izbūve sienas šķērsojuma vietā uzstādot aizsargčaulu OD160, izvada vietu hermetizējot | D73: vieta | E73: 2 | K73: =SUM(H73:J73) -> 0 | L73: =ROUND(E73*F73,2) -> 0 | M73: =ROUND(H73*E73,2) -> 0 | N73: =ROUND(I73*E73,2) -> 0 | O73: =ROUND(J73*E73,2) -> 0 | P73: =SUM(M73:O73) -> 0
A74: 8-2-55 | B74: 16-00000 | C74: Izbūvētās kanalizācijas sistēmas skalošana, hidrauliskās pārbaudes un izpilddokumentācijas sagatavošana | D74: kpl | E74: 1 | K74: =ROUND(J74+I74+H74,2) -> 0 | L74: =ROUND(F74*E74,2) -> 0 | M74: =ROUND(H74*E74,2) -> 0 | N74: =ROUND(I74*E74,2) -> 0 | O74: =ROUND(J74*E74,2) -> 0 | P74: =SUM(O74+N74+M74) -> 0
A75: 8-2-56 | B75: 16-00000 | C75: Kanalizācijas sistēmas komplektējošie palīgmateriāli (smērvielas, hermētiķi, stiprinājumi, u.c.) | D75: kpl | E75: 1 | K75: =ROUND(J75+I75+H75,2) -> 0 | L75: =ROUND(F75*E75,2) -> 0 | M75: =ROUND(H75*E75,2) -> 0 | N75: =ROUND(I75*E75,2) -> 0 | O75: =ROUND(J75*E75,2) -> 0 | P75: =SUM(O75+N75+M75) -> 0
A76: 8-3 | C76: Iekšējie ūdensvadu tīkli, aprīkojums saimnieciskā ūdensapgāde (aukstā, karstā) | K76: =ROUND(J76+I76+H76,2) -> 0 | L76: =ROUND(F76*E76,2) -> 0 | M76: =ROUND(H76*E76,2) -> 0 | N76: =ROUND(I76*E76,2) -> 0 | O76: =ROUND(J76*E76,2) -> 0 | P76: =SUM(O76+N76+M76) -> 0
A77: 8-3-57 | B77: 16-00000 | C77: Ievada ēkā izbūve šķērsojot pamatu konstrukciju ar cauruli OD32 ievietojot to aizsargčaulā, ūdensvada caurules PE OD32 PN10 L=5.4m izbūve gruntī un pārejas PE/daudzslāņu caurule, ieskaitot visas fasondaļas montāža , ievada vietas hermetizēšana | D77: kpl. | E77: 1 | K77: =ROUND(J77+I77+H77,2) -> 0 | L77: =ROUND(F77*E77,2) -> 0 | M77: =ROUND(H77*E77,2) -> 0 | N77: =ROUND(I77*E77,2) -> 0 | O77: =ROUND(J77*E77,2) -> 0 | P77: =ROUND(O77+N77+M77,2) -> 0
A78: 8-3-58 | B78: 16-00000 | C78: Ūdens uzskaites mezgla UM-1 izbūve (sk. UK-2; UK-8 ras.) - lodveida ventilis DN25 -2gb., gružu filtra DN25, pretvārsta DN25, 2.gb R-160 klases aukstā ūdens skaitītāji DN15, manometra, 2 gb. lodveida ventiļu DN15, gružu filtra DN15, pretvārsta Dn15, 2gb. DN15 ventiļu tukšošanai, stiprinājuma konsoles,nerūsējošā tērauda cauruli DN25 un DN15 u.c montāža, ieskaitot visas fasondaļas montāža | D78: kpl. | E78: 1 | K78: =ROUND(J78+I78+H78,2) -> 0 | L78: =ROUND(F78*E78,2) -> 0 | M78: =ROUND(H78*E78,2) -> 0 | N78: =ROUND(I78*E78,2) -> 0 | O78: =ROUND(J78*E78,2) -> 0 | P78: =ROUND(O78+N78+M78,2) -> 0
A79: 8-3-59 | B79: 16-00000 | C79: Ūdens uzskaites mezgla UM-2 izbūve (sk. UK-2; UK-8 ras.) - lodveida ventilis DN15 -2gb., gružu filtra DN15, pretvārsta DN15, R-160 klases aukstā ūdens skaitītāja DN15, stiprinājuma konsoles montāža, ieskaitot visas fasondaļas | D79: kpl. | E79: 12 | K79: =ROUND(J79+I79+H79,2) -> 0 | L79: =ROUND(F79*E79,2) -> 0 | M79: =ROUND(H79*E79,2) -> 0 | N79: =ROUND(I79*E79,2) -> 0 | O79: =ROUND(J79*E79,2) -> 0 | P79: =ROUND(O79+N79+M79,2) -> 0
A80: 8-3-60 | B80: 16-00000 | C80: Wavin daudzslāņu caurulesPe-Xc/Al/PE-HD diametrā OD16 stangās vai ekvivalentas, ieskaitot fasondaļas (presējamie veidgabali) un stiprinājumus uzstādīšana pie sienas/sienās, pie griestiem | D80: m | E80: 51.6 | K80: =ROUND(J80+I80+H80,2) -> 0 | L80: =ROUND(F80*E80,2) -> 0 | M80: =ROUND(H80*E80,2) -> 0 | N80: =ROUND(I80*E80,2) -> 0 | O80: =ROUND(J80*E80,2) -> 0 | P80: =ROUND(O80+N80+M80,2) -> 0
A81: 8-3-61 | B81: 16-00000 | C81: Wavin daudzslāņu caurulesPe-Xc/Al/PE-HD diametrā OD20 stangās vai ekvivalentas, ieskaitot fasondaļas (presējamie veidgabali) un stiprinājumus uzstādīšana pie sienas/sienās, pie griestiem | D81: m | E81: 270 | K81: =SUM(H81:J81) -> 0 | L81: =E81*F81 -> 0 | M81: =E81*H81 -> 0 | N81: =I81*E81 -> 0 | O81: =J81*E81 -> 0 | P81: =M81+N81+O81 -> 0
A82: 8-3-62 | B82: 16-00000 | C82: Wavin daudzslāņu caurules Pe-Xc/Al/PE-HD diametrā OD25 stangās vai ekvivalentas, ieskaitot fasondaļas (presējamie veidgabali) un stiprinājumus uzstādīšana pie sienas/sienās, pie griestiem | D82: m | E82: 71.4 | K82: =SUM(H82:J82) -> 0 | L82: =E82*F82 -> 0 | M82: =E82*H82 -> 0 | N82: =I82*E82 -> 0 | O82: =J82*E82 -> 0 | P82: =M82+N82+O82 -> 0
A83: 8-3-63 | B83: 16-00000 | C83: Wavin daudzslāņu caurules Pe-Xc/Al/PE-HD diametrā OD32 stangās vai ekvivalentas, ieskaitot fasondaļas (presējamie veidgabali) un stiprinājumus uzstādīšana pie sienas/sienās, pie griestiem | D83: m | E83: 59.5 | K83: =SUM(H83:J83) -> 0 | L83: =E83*F83 -> 0 | M83: =E83*H83 -> 0 | N83: =I83*E83 -> 0 | O83: =J83*E83 -> 0 | P83: =M83+N83+O83 -> 0
A84: 8-3-64 | B84: 16-00000 | C84: Pretkondensāta izolācija Ø22x 9mm K-Flex EC vai ekvivalents uzstādīšanai | D84: m | E84: 211.4 | K84: =ROUND(J84+I84+H84,2) -> 0 | L84: =ROUND(F84*E84,2) -> 0 | M84: =ROUND(H84*E84,2) -> 0 | N84: =ROUND(I84*E84,2) -> 0 | O84: =ROUND(J84*E84,2) -> 0 | P84: =ROUND(O84+N84+M84,2) -> 0
A85: 8-3-65 | B85: 16-00000 | C85: Pretkondensāta izolācija Ø28x 9mm K-Flex EC vai ekvivalents uzstādīšanai | D85: m | E85: 24.5 | K85: =ROUND(J85+I85+H85,2) -> 0 | L85: =ROUND(F85*E85,2) -> 0 | M85: =ROUND(H85*E85,2) -> 0 | N85: =ROUND(I85*E85,2) -> 0 | O85: =ROUND(J85*E85,2) -> 0 | P85: =ROUND(O85+N85+M85,2) -> 0
A86: 8-3-66 | B86: 16-00000 | C86: Pretkondensāta izolācija Ø35x 9mm K-Flex EC vai ekvivalents uzstādīšanai | D86: m | E86: 59.5 | K86: =ROUND(J86+I86+H86,2) -> 0 | L86: =ROUND(F86*E86,2) -> 0 | M86: =ROUND(H86*E86,2) -> 0 | N86: =ROUND(I86*E86,2) -> 0 | O86: =ROUND(J86*E86,2) -> 0 | P86: =ROUND(O86+N86+M86,2) -> 0
A87: 8-3-67 | B87: 16-00000 | C87: Siltumizolācija Ø18x19mm K-Flex EC vai ekvivalents uzstādīšanai | D87: m | E87: 51.6 | K87: =ROUND(J87+I87+H87,2) -> 0 | L87: =ROUND(F87*E87,2) -> 0 | M87: =ROUND(H87*E87,2) -> 0 | N87: =ROUND(I87*E87,2) -> 0 | O87: =ROUND(J87*E87,2) -> 0 | P87: =ROUND(O87+N87+M87,2) -> 0
A88: 8-3-68 | B88: 16-00000 | C88: Siltumizolācija Ø22x19mm K-Flex EC vai ekvivalents uzstādīšanai | D88: m | E88: 58.6 | K88: =ROUND(J88+I88+H88,2) -> 0 | L88: =ROUND(F88*E88,2) -> 0 | M88: =ROUND(H88*E88,2) -> 0 | N88: =ROUND(I88*E88,2) -> 0 | O88: =ROUND(J88*E88,2) -> 0 | P88: =ROUND(O88+N88+M88,2) -> 0
A89: 8-3-69 | B89: 16-00000 | C89: Siltumizolācija Ø28x19mm K-Flex EC vai ekvivalents uzstādīšanai | D89: m | E89: 46.9 | K89: =ROUND(J89+I89+H89,2) -> 0 | L89: =ROUND(F89*E89,2) -> 0 | M89: =ROUND(H89*E89,2) -> 0 | N89: =ROUND(I89*E89,2) -> 0 | O89: =ROUND(J89*E89,2) -> 0 | P89: =ROUND(O89+N89+M89,2) -> 0
A90: 8-3-70 | B90: 16-00000 | C90: Ugunsdrošo nodalījumu aizsardzība aptinot caurules ar ugunsdrošo blīvlentu, šķērsojuma vietas aizdarot ar ugunsdrošo javu | D90: vieta | E90: 2 | K90: =H90+I90+J90 -> 0 | L90: =E90*F90 -> 0 | M90: =E90*H90 -> 0 | N90: =I90*E90 -> 0 | O90: =J90*E90 -> 0 | P90: =M90+N90+O90 -> 0
A91: 8-3-71 | B91: 16-00000 | C91: Mūra sienu šķērsošana caurulēm ar Ø≤50mm, AluCoatT-30 izolācijas čaulu iestrāde, abu galu noblīvēšana ar ugunsdrošo mastiku | D91: vieta | E91: 19 | K91: =H91+I91+J91 -> 0 | L91: =E91*F91 -> 0 | M91: =E91*H91 -> 0 | N91: =I91*E91 -> 0 | O91: =J91*E91 -> 0 | P91: =M91+N91+O91 -> 0
A92: 8-3-72 | B92: 16-00000 | C92: Starpsienu šķērsošana, aizdare, L=150mm | D92: vieta | E92: 16 | K92: =H92+I92+J92 -> 0 | L92: =E92*F92 -> 0 | M92: =E92*H92 -> 0 | N92: =I92*E92 -> 0 | O92: =J92*E92 -> 0 | P92: =M92+N92+O92 -> 0
A93: 8-3-73 | B93: 16-00000 | C93: Gropes kalšana sienā, pievadu izbūvei, aizdare | D93: m | E93: 13.2 | K93: =H93+I93+J93 -> 0 | L93: =E93*F93 -> 0 | M93: =E93*H93 -> 0 | N93: =I93*E93 -> 0 | O93: =J93*E93 -> 0 | P93: =M93+N93+O93 -> 0
A94: 8-3-74 | B94: 16-00000 | C94: Stūra ventiļu 1/2" uzstādīšana roku mazgātņu, klozetpodu pievienošanai | D94: gb | E94: 35 | K94: =H94+I94+J94 -> 0 | L94: =E94*F94 -> 0 | M94: =E94*H94 -> 0 | N94: =I94*E94 -> 0 | O94: =J94*E94 -> 0 | P94: =M94+N94+O94 -> 0
A95: 8-3-75 | B95: 16-00000 | C95: Lodveida ventīļa DN25 uzstādīšana | D95: gb | E95: 1 | K95: =H95+I95+J95 -> 0 | L95: =E95*F95 -> 0 | M95: =E95*H95 -> 0 | N95: =I95*E95 -> 0 | O95: =J95*E95 -> 0 | P95: =M95+N95+O95 -> 0
A96: 8-3-76 | B96: 16-00000 | C96: Lodveida ventīļa DN20 uzstādīšana | D96: gb | E96: 4 | K96: =H96+I96+J96 -> 0 | L96: =E96*F96 -> 0 | M96: =E96*H96 -> 0 | N96: =I96*E96 -> 0 | O96: =J96*E96 -> 0 | P96: =M96+N96+O96 -> 0
A97: 8-3-77 | B97: 16-00000 | C97: Lodveida ventīļa DN15 uzstādīšana | D97: gb | E97: 19 | K97: =H97+I97+J97 -> 0 | L97: =E97*F97 -> 0 | M97: =E97*H97 -> 0 | N97: =I97*E97 -> 0 | O97: =J97*E97 -> 0 | P97: =M97+N97+O97 -> 0
A98: 8-3-78 | B98: 16-00000 | C98: Pretvārsts DN15, uzstādīšana | D98: gb | E98: 3 | K98: =H98+I98+J98 -> 0 | L98: =E98*F98 -> 0 | M98: =E98*H98 -> 0 | N98: =I98*E98 -> 0 | O98: =J98*E98 -> 0 | P98: =M98+N98+O98 -> 0
A99: 8-3-79 | B99: 16-00000 | C99: Automātiskā atgaisotāja, leņķa, uzstādīšana DN15 | D99: gb | E99: 1 | K99: =H99+I99+J99 -> 0 | L99: =E99*F99 -> 0 | M99: =E99*H99 -> 0 | N99: =I99*E99 -> 0 | O99: =J99*E99 -> 0 | P99: =M99+N99+O99 -> 0
A100: 8-3-80 | B100: 16-00000 | C100: Termostatiskais cirkulācijas vārsts MTCV DN15, uzstādīšana | D100: gb | E100: 3 | K100: =H100+I100+J100 -> 0 | L100: =E100*F100 -> 0 | M100: =E100*H100 -> 0 | N100: =I100*E100 -> 0 | O100: =J100*E100 -> 0 | P100: =M100+N100+O100 -> 0
A101: 8-3-81 | B101: 16-00000 | C101: Neaizsalstošs fasādes laistīšanas krāns DN15,L=400-600mm, montāža | D101: gb | E101: 3 | K101: =ROUND(J101+I101+H101,2) -> 0 | L101: =ROUND(F101*E101,2) -> 0 | M101: =ROUND(H101*E101,2) -> 0 | N101: =ROUND(I101*E101,2) -> 0 | O101: =ROUND(J101*E101,2) -> 0 | P101: =ROUND(O101+N101+M101,2) -> 0
A102: 8-3-82 | B102: 16-00000 | C102: Cauruļu nesošo plauktu (reņu), platums 600mm, ieskaitot stiprinājumus un leņķa savienojumus, uzstādīšana un stiprināšana pie griestiem | D102: m | E102: 32 | K102: =ROUND(J102+I102+H102,2) -> 0 | L102: =ROUND(F102*E102,2) -> 0 | M102: =ROUND(H102*E102,2) -> 0 | N102: =ROUND(I102*E102,2) -> 0 | O102: =ROUND(J102*E102,2) -> 0 | P102: =SUM(O102+N102+M102) -> 0
A103: 8-3-83 | B103: 16-00000 | C103: Veidgabali, stiprinājumi un montāžas palīgmateriāli | D103: kompl. | E103: 1 | K103: =ROUND(J103+I103+H103,2) -> 0 | L103: =ROUND(F103*E103,2) -> 0 | M103: =ROUND(H103*E103,2) -> 0 | N103: =ROUND(I103*E103,2) -> 0 | O103: =ROUND(J103*E103,2) -> 0 | P103: =SUM(O103+N103+M103) -> 0
A104: 8-3-84 | B104: 16-00000 | C104: Ūdensvada skalošana, dezinfekcija un hidrauliskās pārbaudes | D104: gb | E104: 1 | K104: =ROUND(J104+I104+H104,2) -> 0 | L104: =ROUND(F104*E104,2) -> 0 | M104: =ROUND(H104*E104,2) -> 0 | N104: =ROUND(I104*E104,2) -> 0 | O104: =ROUND(J104*E104,2) -> 0 | P104: =SUM(O104+N104+M104) -> 0
A105: 8-4 | C105: Sausais ugunsdzēsības stāvvads
A106: 8-4-85 | B106: 16-00000 | C106: Cinkota tērauda caurules DN80 (88.9x3.2), ieskaitot fasondaļas un stiprinājumus uzstādīšana un stiprināšana pie griestiem, krāsošana ar ugunsdrošo krāsu | D106: m | E106: 12 | K106: =ROUND(J106+I106+H106,2) -> 0 | L106: =ROUND(F106*E106,2) -> 0 | M106: =ROUND(H106*E106,2) -> 0 | N106: =ROUND(I106*E106,2) -> 0 | O106: =ROUND(J106*E106,2) -> 0 | P106: =ROUND(O106+N106+M106,2) -> 0
A107: 8-4-86 | B107: 16-00000 | C107: Cinkota tērauda caurules DN15 (21.3x3.2), ieskaitot fasondaļas un stiprinājumus uzstādīšana un stiprināšana pie griestiem, krāsošana ar ugunsdrošo krāsu | D107: m | E107: 1 | K107: =ROUND(J107+I107+H107,2) -> 0 | L107: =ROUND(F107*E107,2) -> 0 | M107: =ROUND(H107*E107,2) -> 0 | N107: =ROUND(I107*E107,2) -> 0 | O107: =ROUND(J107*E107,2) -> 0 | P107: =SUM(O107+N107+M107) -> 0
A108: 8-4-87 | B108: 16-00000 | C108: Pretvārsts DN80, montāža | D108: gb | E108: 1 | K108: =ROUND(J108+I108+H108,2) -> 0 | L108: =ROUND(F108*E108,2) -> 0 | M108: =ROUND(H108*E108,2) -> 0 | N108: =ROUND(I108*E108,2) -> 0 | O108: =ROUND(J108*E108,2) -> 0 | P108: =SUM(O108+N108+M108) -> 0
A109: 8-4-88 | B109: 16-00000 | C109: Ugunsdzēsības krāna d=51 (DN50) mm ar griežamu ventili un savienotājgalviņu un aizsargvāciņu, ieskaitot pievienojuma pie metāla caurules DN80 veidgabalus | D109: kompl. | E109: 3 | K109: =ROUND(J109+I109+H109,2) -> 0 | L109: =ROUND(F109*E109,2) -> 0 | M109: =ROUND(H109*E109,2) -> 0 | N109: =ROUND(I109*E109,2) -> 0 | O109: =ROUND(J109*E109,2) -> 0 | P109: =SUM(O109+N109+M109) -> 0
...

Sheet Nr.9
N1: Ar grozījumiem, kas veikti Iepirkuma komisijas 2024. gada 5. septembra sēdē; 4. protokols
A2: Lokālā tāme Nr. 9
A3: Ēkas pārbūve Raiņa ielā 27, Cēsīs, Cēsu novadā
A4: Apkure
A5: (būvdarbu veids vai konstruktīvā elementa nosaukums)
A6: =Nr.1!A7 -> Objekta nosaukums: | C6: =Nr.1!C7 -> Ēkas pārbūve | D6: =Nr.1!D7 -> 0 | E6: =Nr.1!E7 -> 0 | F6: =Nr.1!F7 -> 0 | G6: =Nr.1!G7 -> 0 | H6: =Nr.1!H7 -> 0 | I6: =Nr.1!I7 -> 0 | J6: =Nr.1!J7 -> 0 | ... N6: =Nr.1!N7 -> 0
A7: =Nr.1!A8 -> Būves nosaukums: | C7: =Nr.1!C8 -> Ēkas pārbūve
A8: =Nr.1!A9 -> Objekta adrese: | C8: =Nr.1!C9 -> Raiņa iela 27, Cēsis, Cēsu novads
A9: =Nr.1!A10 -> Pasūtījuma Nr.: | C9: =Nr.1!C10 -> 0 | I9: =Nr.1!I10 -> 0 | J9: =Nr.1!J10 -> 0 | K9: =Nr.1!K10 -> 0 | L9: =Nr.1!L10 -> 0 | M9: =Nr.1!M10 -> 0 | N9: =Nr.1!N10 -> 0
K11: Tāmes izmaksas: | M11: Eur | N11: =P197 -> 0
A12: Tāme sastādīta 2024.gada tirgus cenās,pamatojoties uz AVK-A daļas rasējumiem.
F13: Tāme sastādīta 2024. gada ____.________________________
A15: Nr.p.k. | B15: Kods | C15: Būvdarbu nosaukums | D15: Mērvienība | E15: Daudzums | F15: Vienības izmaksas | L15: Kopā uz visu apjomu
F16: Laika norma (c/h) | G16: darba samaksas likme* (euro/h) | H16: darba alga | I16: būvizstrādājumi | J16: mehānismi | K16: kopā | L16: darbietilpība (c/h) | M16: darba alga | N16: būvizstrādājumi | O16: mehānismi | P16: summa
A17: 1 | B17: 2 | C17: 3 | D17: 4 | E17: 5 | F17: 6 | G17: 7 | H17: 8 | I17: 9 | J17: 10 | K17: 11 | L17: 12 | M17: 13 | N17: 14 | O17: 15 | P17: 16
A18: 9-1 | C18: Radiatoru apkures sistēmas T11/T12 (siltumnesējs - ūdens 65/45°C)
A19: 9-1-1 | C19: 1.stāvs
A20: 9-1-2 | B20: 17-00000 | C20: Rūpnieciski radiatori-reģistri ar kājiņam, korķi, atgaisotāju komplektā ar sānu piev. Melns, RAL9011., LYNGSON , KRS-3 d88,9 D169 L1000 , KRS-3 | D20: gab. | E20: 6 | K20: =SUM(H20:J20) -> 0 | L20: =ROUND(E20*F20,2) -> 0 | M20: =ROUND(E20*H20,2) -> 0 | N20: =ROUND(E20*I20,2) -> 0 | O20: =ROUND(E20*J20,2) -> 0 | P20: =SUM(M20:O20) -> 0
A21: 9-1-3 | B21: 17-00000 | C21: Rūpnieciski radiatori-reģistri ar kājiņam, korķi, atgaisotāju komplektā ar sānu piev. Melns, RAL9011., LYNGSON, KRS-3 d88,9 D169 L2000, KRS-3 | D21: gab. | E21: 6 | K21: =SUM(H21:J21) -> 0 | L21: =ROUND(E21*F21,2) -> 0 | M21: =ROUND(E21*H21,2) -> 0 | N21: =ROUND(E21*I21,2) -> 0 | O21: =ROUND(E21*J21,2) -> 0 | P21: =SUM(M21:O21) -> 0
A22: 9-1-4 | B22: 17-00000 | C22: Radiators ar sienas stiprinājumu, korķi, atgaisotāju komplektā ar sānu piev. Melns, RAL9011., LYNGSON, MCP22-318, Modul Compact Plan | D22: gab. | E22: 2 | K22: =SUM(H22:J22) -> 0 | L22: =ROUND(E22*F22,2) -> 0 | M22: =ROUND(E22*H22,2) -> 0 | N22: =ROUND(E22*I22,2) -> 0 | O22: =ROUND(E22*J22,2) -> 0 | P22: =SUM(M22:O22) -> 0
A23: 9-1-5 | B23: 17-00000 | C23: Radiators ar sienas stiprinājumu, korķi, atgaisotāju komplektā ar sānu piev. Melns, RAL9011., LYNGSON, MCP22-505, Modul Compact Plan | D23: gab. | E23: 1 | K23: =SUM(H23:J23) -> 0 | L23: =ROUND(E23*F23,2) -> 0 | M23: =ROUND(E23*H23,2) -> 0 | N23: =ROUND(E23*I23,2) -> 0 | O23: =ROUND(E23*J23,2) -> 0 | P23: =SUM(M23:O23) -> 0
A24: 9-1-6 | B24: 17-00000 | C24: Radiators ar sienas stiprinājumu, korķi, atgaisotāju komplektā ar sānu piev. Melns, RAL9011., LYNGSON, MCP22-509, Modul Compact Plan | D24: gab. | E24: 1 | K24: =SUM(H24:J24) -> 0 | L24: =ROUND(E24*F24,2) -> 0 | M24: =ROUND(E24*H24,2) -> 0 | N24: =ROUND(E24*I24,2) -> 0 | O24: =ROUND(E24*J24,2) -> 0 | P24: =SUM(M24:O24) -> 0
A25: 9-1-7 | B25: 17-00000 | C25: Radiators ar sienas stiprinājumu, korķi, atgaisotāju komplektā ar sānu piev. Melns, RAL9011., LYNGSON, MCP22-515, Modul Compact Plan | D25: gab. | E25: 2 | K25: =SUM(H25:J25) -> 0 | L25: =ROUND(E25*F25,2) -> 0 | M25: =ROUND(E25*H25,2) -> 0 | N25: =ROUND(E25*I25,2) -> 0 | O25: =ROUND(E25*J25,2) -> 0 | P25: =SUM(M25:O25) -> 0
A26: 9-1-8 | B26: 17-00000 | C26: Radiators ar sienas stiprinājumu, korķi, atgaisotāju komplektā ar sānu piev. Melns, RAL9011., LYNGSON, MCP22-517, Modul Compact Plan | D26: gab. | E26: 7 | K26: =SUM(H26:J26) -> 0 | L26: =ROUND(E26*F26,2) -> 0 | M26: =ROUND(E26*H26,2) -> 0 | N26: =ROUND(E26*I26,2) -> 0 | O26: =ROUND(E26*J26,2) -> 0 | P26: =SUM(M26:O26) -> 0
A27: 9-1-9 | B27: 17-00000 | C27: Radiators ar kājiņam, korķi, atgaisotāju komplektā ar sānu piev. Melns, RAL9011., LYNGSON, MCP33-312, Modul Compact Plan | D27: gab. | E27: 2 | K27: =SUM(H27:J27) -> 0 | L27: =ROUND(E27*F27,2) -> 0 | M27: =ROUND(E27*H27,2) -> 0 | N27: =ROUND(E27*I27,2) -> 0 | O27: =ROUND(E27*J27,2) -> 0 | P27: =SUM(M27:O27) -> 0
A28: 9-1-10 | B28: 17-00000 | C28: Radiators ar sienas stiprinājumu, korķi, atgaisotāju komplektā ar sānu piev. Melns, RAL9011., LYNGSON, MCP33-506, Modul Compact Plan | D28: gab. | E28: 1 | K28: =SUM(H28:J28) -> 0 | L28: =ROUND(E28*F28,2) -> 0 | M28: =ROUND(E28*H28,2) -> 0 | N28: =ROUND(E28*I28,2) -> 0 | O28: =ROUND(E28*J28,2) -> 0 | P28: =SUM(M28:O28) -> 0
A29: 9-1-11 | B29: 17-00000 | C29: Radiators ar sienas stiprinājumu, korķi, atgaisotāju komplektā ar sānu piev. Melns, RAL9011., LYNGSON, MCP33-511, Modul Compact Plan | D29: gab. | E29: 1 | K29: =SUM(H29:J29) -> 0 | L29: =ROUND(E29*F29,2) -> 0 | M29: =ROUND(E29*H29,2) -> 0 | N29: =ROUND(E29*I29,2) -> 0 | O29: =ROUND(E29*J29,2) -> 0 | P29: =SUM(M29:O29) -> 0
A30: 9-1-12 | B30: 17-00000 | C30: Radiators ar kājiņam, korķi, atgaisotāju komplektā ar sānu piev. Melns, RAL9011., LYNGSON, MCP33-312, Modul Compact Plan | D30: gab. | E30: 2 | K30: =SUM(H30:J30) -> 0 | L30: =ROUND(E30*F30,2) -> 0 | M30: =ROUND(E30*H30,2) -> 0 | N30: =ROUND(E30*I30,2) -> 0 | O30: =ROUND(E30*J30,2) -> 0 | P30: =SUM(M30:O30) -> 0
A31: 9-1-13 | B31: 17-00000 | C31: Radiators ar sienas stiprinājumu, korķi, atgaisotāju komplektā ar sānu piev. Melns, RAL9011., LYNGSON, MCP33-517, Modul Compact Plan | D31: gab. | E31: 3 | K31: =SUM(H31:J31) -> 0 | L31: =ROUND(E31*F31,2) -> 0 | M31: =ROUND(E31*H31,2) -> 0 | N31: =ROUND(E31*I31,2) -> 0 | O31: =ROUND(E31*J31,2) -> 0 | P31: =SUM(M31:O31) -> 0
A32: 9-1-14 | C32: 2.stāvs
A33: 9-1-15 | B33: 17-00000 | C33: Radiators ar sienas stiprinājumu, korķi, atgaisotāju komplektā ar sānu piev. Balts, RAL9010., LYNGSON, MCP22-513, Modul Compact Plan | D33: gab. | E33: 1 | K33: =SUM(H33:J33) -> 0 | L33: =ROUND(E33*F33,2) -> 0 | M33: =ROUND(E33*H33,2) -> 0 | N33: =ROUND(E33*I33,2) -> 0 | O33: =ROUND(E33*J33,2) -> 0 | P33: =SUM(M33:O33) -> 0
A34: 9-1-16 | B34: 17-00000 | C34: Radiators ar sienas stiprinājumu, korķi, atgaisotāju komplektā ar sānu piev. Balts, RAL9010., LYNGSON, MCP22-526, Modul Compact Plan | D34: gab. | E34: 14 | K34: =SUM(H34:J34) -> 0 | L34: =ROUND(E34*F34,2) -> 0 | M34: =ROUND(E34*H34,2) -> 0 | N34: =ROUND(E34*I34,2) -> 0 | O34: =ROUND(E34*J34,2) -> 0 | P34: =SUM(M34:O34) -> 0
A35: 9-1-17 | B35: 17-00000 | C35: Radiators ar sienas stiprinājumu, korķi, atgaisotāju komplektā ar sānu piev. Balts, RAL9010., LYNGSON, MCP22-530, Modul Compact Plan | D35: gab. | E35: 1 | K35: =SUM(H35:J35) -> 0 | L35: =ROUND(E35*F35,2) -> 0 | M35: =ROUND(E35*H35,2) -> 0 | N35: =ROUND(E35*I35,2) -> 0 | O35: =ROUND(E35*J35,2) -> 0 | P35: =SUM(M35:O35) -> 0
A36: 9-1-18 | B36: 17-00000 | C36: Radiators ar sienas stiprinājumu, korķi, atgaisotāju komplektā ar sānu piev. Balts, RAL9010., LYNGSON, MCP33-611, Modul Compact Plan | D36: gab. | E36: 1 | K36: =SUM(H36:J36) -> 0 | L36: =ROUND(E36*F36,2) -> 0 | M36: =ROUND(E36*H36,2) -> 0 | N36: =ROUND(E36*I36,2) -> 0 | O36: =ROUND(E36*J36,2) -> 0 | P36: =SUM(M36:O36) -> 0
A37: 9-1-19 | B37: 17-00000 | C37: Radiators ar sienas stiprinājumu, korķi, atgaisotāju komplektā ar sānu piev. Balts, RAL9010., LYNGSON, MCP33-513, Modul Compact Plan | D37: gab. | E37: 1 | K37: =SUM(H37:J37) -> 0 | L37: =ROUND(E37*F37,2) -> 0 | M37: =ROUND(E37*H37,2) -> 0 | N37: =ROUND(E37*I37,2) -> 0 | O37: =ROUND(E37*J37,2) -> 0 | P37: =SUM(M37:O37) -> 0
A38: 9-1-20 | C38: Visos stāvos kopā.
A39: 9-1-21 | B39: 17-00000 | C39: Radiatora turpgaitas vārsts, DANFOSS, RA-N Dn15, | D39: gab. | E39: 50 | K39: =SUM(H39:J39) -> 0 | L39: =ROUND(E39*F39,2) -> 0 | M39: =ROUND(E39*H39,2) -> 0 | N39: =ROUND(E39*I39,2) -> 0 | O39: =ROUND(E39*J39,2) -> 0 | P39: =SUM(M39:O39) -> 0
A40: 9-1-22 | B40: 17-00000 | C40: Radiatora atgaitas vārsts, DANFOSS, RLV-S Dn15, | D40: gab. | E40: 50 | K40: =SUM(H40:J40) -> 0 | L40: =ROUND(E40*F40,2) -> 0 | M40: =ROUND(E40*H40,2) -> 0 | N40: =ROUND(E40*I40,2) -> 0 | O40: =ROUND(E40*J40,2) -> 0 | P40: =SUM(M40:O40) -> 0
A41: 9-1-23 | B41: 17-00000 | C41: Radiatora termostāta galva , DANFOSS, RA 2990, | D41: gab. | E41: 50 | K41: =SUM(H41:J41) -> 0 | L41: =ROUND(E41*F41,2) -> 0 | M41: =ROUND(E41*H41,2) -> 0 | N41: =ROUND(E41*I41,2) -> 0 | O41: =ROUND(E41*J41,2) -> 0 | P41: =SUM(M41:O41) -> 0
A42: 9-1-24 | B42: 17-00000 | C42: Presējama tērauda caurule, RM, ø15х1,2 mm, STEELPRES | D42: m. | E42: 363 | K42: =SUM(H42:J42) -> 0 | L42: =ROUND(E42*F42,2) -> 0 | M42: =ROUND(E42*H42,2) -> 0 | N42: =ROUND(E42*I42,2) -> 0 | O42: =ROUND(E42*J42,2) -> 0 | P42: =SUM(M42:O42) -> 0
A43: 9-1-25 | B43: 17-00000 | C43: Presējama tērauda caurule, RM, ø18х1,2 mm, STEELPRES | D43: m. | E43: 157 | K43: =SUM(H43:J43) -> 0 | L43: =ROUND(E43*F43,2) -> 0 | M43: =ROUND(E43*H43,2) -> 0 | N43: =ROUND(E43*I43,2) -> 0 | O43: =ROUND(E43*J43,2) -> 0 | P43: =SUM(M43:O43) -> 0
A44: 9-1-26 | B44: 17-00000 | C44: Presējama tērauda caurule, RM, ø22х1,5 mm, STEELPRES | D44: m. | E44: 167 | K44: =SUM(H44:J44) -> 0 | L44: =ROUND(E44*F44,2) -> 0 | M44: =ROUND(E44*H44,2) -> 0 | N44: =ROUND(E44*I44,2) -> 0 | O44: =ROUND(E44*J44,2) -> 0 | P44: =SUM(M44:O44) -> 0
A45: 9-1-27 | B45: 17-00000 | C45: Presējama tērauda caurule, RM, ø28х1,5 mm, STEELPRES | D45: m. | E45: 91 | K45: =SUM(H45:J45) -> 0 | L45: =ROUND(E45*F45,2) -> 0 | M45: =ROUND(E45*H45,2) -> 0 | N45: =ROUND(E45*I45,2) -> 0 | O45: =ROUND(E45*J45,2) -> 0 | P45: =SUM(M45:O45) -> 0
A46: 9-1-28 | B46: 17-00000 | C46: Presējama tērauda caurule, RM, ø35х1,5 mm, STEELPRES | D46: m. | E46: 10 | K46: =SUM(H46:J46) -> 0 | L46: =ROUND(E46*F46,2) -> 0 | M46: =ROUND(E46*H46,2) -> 0 | N46: =ROUND(E46*I46,2) -> 0 | O46: =ROUND(E46*J46,2) -> 0 | P46: =SUM(M46:O46) -> 0
A47: 9-1-29 | B47: 17-00000 | C47: Presējama tērauda caurule, RM, ø42х1,5 mm, STEELPRES | D47: m. | E47: 48 | K47: =SUM(H47:J47) -> 0 | L47: =ROUND(E47*F47,2) -> 0 | M47: =ROUND(E47*H47,2) -> 0 | N47: =ROUND(E47*I47,2) -> 0 | O47: =ROUND(E47*J47,2) -> 0 | P47: =SUM(M47:O47) -> 0
A48: 9-1-30 | B48: 17-00000 | C48: Presējama tērauda caurul , RM, ø54х1,5 mm, STEELPRES | D48: m. | E48: 60 | K48: =SUM(H48:J48) -> 0 | L48: =ROUND(E48*F48,2) -> 0 | M48: =ROUND(E48*H48,2) -> 0 | N48: =ROUND(E48*I48,2) -> 0 | O48: =ROUND(E48*J48,2) -> 0 | P48: =SUM(M48:O48) -> 0
A49: 9-1-31 | B49: 17-00000 | C49: Presējamo tērauda cauruļu veidgabali, RM, STEELPRES | D49: kpl. | E49: 1 | K49: =SUM(H49:J49) -> 0 | L49: =ROUND(E49*F49,2) -> 0 | M49: =ROUND(E49*H49,2) -> 0 | N49: =ROUND(E49*I49,2) -> 0 | O49: =ROUND(E49*J49,2) -> 0 | P49: =SUM(M49:O49) -> 0
A50: 9-1-32 | B50: 17-00000 | C50: Siltumizolācijas čaula 30mm, PAROC, 15x30, Hvac Section AluCoat T | D50: m. | E50: 363 | K50: =SUM(H50:J50) -> 0 | L50: =ROUND(E50*F50,2) -> 0 | M50: =ROUND(E50*H50,2) -> 0 | N50: =ROUND(E50*I50,2) -> 0 | O50: =ROUND(E50*J50,2) -> 0 | P50: =SUM(M50:O50) -> 0
... A68: 9-1-50 | B68: 17-00000 | C68: Citi montāžas, izolācijas un marķešānas materiāli | D68: kpl. | E68: 1 | K68: =SUM(H68:J68) -> 0 | L68: =ROUND(E68*F68,2) -> 0 | M68: =ROUND(E68*H68,2) -> 0 | N68: =ROUND(E68*I68,2) -> 0 | O68: =ROUND(E68*J68,2) -> 0 | P68: =SUM(M68:O68) -> 0
A69: 9-2 | C69: Ventilācijas siltumapgādes sistēma T21/T22 (siltumnesējs - 35% etilēnglikols 65/45°C)
A70: 9-2-1 | B70: 17-00000 | C70: Presējama tērauda caurule, RM, ø28х1,5 mm, STEELPRES | D70: m. | E70: 5 | K70: =SUM(H70:J70) -> 0 | L70: =ROUND(E70*F70,2) -> 0 | M70: =ROUND(E70*H70,2) -> 0 | N70: =ROUND(E70*I70,2) -> 0 | O70: =ROUND(E70*J70,2) -> 0 | P70: =SUM(M70:O70) -> 0
A71: 9-2-2 | B71: 17-00000 | C71: Presējama tērauda caurule, RM, ø35х1,5 mm, STEELPRES | D71: m. | E71: 12 | K71: =SUM(H71:J71) -> 0 | L71: =ROUND(E71*F71,2) -> 0 | M71: =ROUND(E71*H71,2) -> 0 | N71: =ROUND(E71*I71,2) -> 0 | O71: =ROUND(E71*J71,2) -> 0 | P71: =SUM(M71:O71) -> 0
A72: 9-2-3 | B72: 17-00000 | C72: Presējama tērauda caurule, RM, ø42х1,5 mm, STEELPRES | D72: m. | E72: 32 | K72: =SUM(H72:J72) -> 0 | L72: =ROUND(E72*F72,2) -> 0 | M72: =ROUND(E72*H72,2) -> 0 | N72: =ROUND(E72*I72,2) -> 0 | O72: =ROUND(E72*J72,2) -> 0 | P72: =SUM(M72:O72) -> 0
A73: 9-2-4 | B73: 17-00000 | C73: Presējama tērauda caurule, RM, ø54х1,5 mm, STEELPRES | D73: m. | E73: 14 | K73: =SUM(H73:J73) -> 0 | L73: =ROUND(E73*F73,2) -> 0 | M73: =ROUND(E73*H73,2) -> 0 | N73: =ROUND(E73*I73,2) -> 0 | O73: =ROUND(E73*J73,2) -> 0 | P73: =SUM(M73:O73) -> 0
A74: 9-2-5 | B74: 17-00000 | C74: Presējamo tērauda cauruļu veidgabali, RM, , STEELPRES | D74: kpl. | E74: 1 | K74: =SUM(H74:J74) -> 0 | L74: =ROUND(E74*F74,2) -> 0 | M74: =ROUND(E74*H74,2) -> 0 | N74: =ROUND(E74*I74,2) -> 0 | O74: =ROUND(E74*J74,2) -> 0 | P74: =SUM(M74:O74) -> 0
A75: 9-2-6 | B75: 17-00000 | C75: Siltumizolācijas čaula 30mm, PAROC, 28x30, Hvac Section AluCoat T | D75: m. | E75: 5 | K75: =SUM(H75:J75) -> 0 | L75: =ROUND(E75*F75,2) -> 0 | M75: =ROUND(E75*H75,2) -> 0 | N75: =ROUND(E75*I75,2) -> 0 | O75: =ROUND(E75*J75,2) -> 0 | P75: =SUM(M75:O75) -> 0
A76: 9-2-7 | B76: 17-00000 | C76: Siltumizolācijas čaula 30mm, PAROC, 35x30, Hvac Section AluCoat T | D76: m. | E76: 12 | K76: =SUM(H76:J76) -> 0 | L76: =ROUND(E76*F76,2) -> 0 | M76: =ROUND(E76*H76,2) -> 0 | N76: =ROUND(E76*I76,2) -> 0 | O76: =ROUND(E76*J76,2) -> 0 | P76: =SUM(M76:O76) -> 0
A77: 9-2-8 | B77: 17-00000 | C77: Siltumizolācijas čaula 40mm, PAROC, 42x40, Hvac Section AluCoat T | D77: m. | E77: 32 | K77: =SUM(H77:J77) -> 0 | L77: =ROUND(E77*F77,2) -> 0 | M77: =ROUND(E77*H77,2) -> 0 | N77: =ROUND(E77*I77,2) -> 0 | O77: =ROUND(E77*J77,2) -> 0 | P77: =SUM(M77:O77) -> 0
A78: 9-2-9 | B78: 17-00000 | C78: Siltumizolācijas čaula 50mm, PAROC, 54x50, Hvac Section AluCoat T | D78: m. | E78: 14 | K78: =SUM(H78:J78) -> 0 | L78: =ROUND(E78*F78,2) -> 0 | M78: =ROUND(E78*H78,2) -> 0 | N78: =ROUND(E78*I78,2) -> 0 | O78: =ROUND(E78*J78,2) -> 0 | P78: =SUM(M78:O78) -> 0
A79: 9-2-10 | B79: 17-00000 | C79: Etilēnglikola šķīdums, 0,35, | D79: l | E79: 100 | K79: =SUM(H79:J79) -> 0 | L79: =ROUND(E79*F79,2) -> 0 | M79: =ROUND(E79*H79,2) -> 0 | N79: =ROUND(E79*I79,2) -> 0 | O79: =ROUND(E79*J79,2) -> 0 | P79: =SUM(M79:O79) -> 0
A80: 9-2-11 | B80: 17-00000 | C80: Noslēgkrāns, Dn50, | D80: gab. | E80: 2 | K80: =SUM(H80:J80) -> 0 | L80: =ROUND(E80*F80,2) -> 0 | M80: =ROUND(E80*H80,2) -> 0 | N80: =ROUND(E80*I80,2) -> 0 | O80: =ROUND(E80*J80,2) -> 0 | P80: =SUM(M80:O80) -> 0
A81: 9-2-12 | B81: 17-00000 | C81: Automātiskais atgaisotājs ar noslēgkrānu, Dn15, | D81: gab. | E81: 4 | K81: =SUM(H81:J81) -> 0 | L81: =ROUND(E81*F81,2) -> 0 | M81: =ROUND(E81*H81,2) -> 0 | N81: =ROUND(E81*I81,2) -> 0 | O81: =ROUND(E81*J81,2) -> 0 | P81: =SUM(M81:O81) -> 0
... A88: 9-2-19 | B88: 17-00000 | C88: Citi montāžas, izolācijas un marķešānas materiāli | D88: kpl. | E88: 1 | K88: =SUM(H88:J88) -> 0 | L88: =ROUND(E88*F88,2) -> 0 | M88: =ROUND(E88*H88,2) -> 0 | N88: =ROUND(E88*I88,2) -> 0 | O88: =ROUND(E88*J88,2) -> 0 | P88: =SUM(M88:O88) -> 0
A89: 9-3 | C89: Gaisa aizkāru un gaisa putēju sistēma T31 T32 (siltumnesējs - 35% etilēnglikols 65/45°C)
A90: 9-3-1 | B90: 17-00000 | C90: Presējama tērauda caurule, RM, ø42х1,5 mm, STEELPRES | D90: m. | E90: 114 | K90: =SUM(H90:J90) -> 0 | L90: =ROUND(E90*F90,2) -> 0 | M90: =ROUND(E90*H90,2) -> 0 | N90: =ROUND(E90*I90,2) -> 0 | O90: =ROUND(E90*J90,2) -> 0 | P90: =SUM(M90:O90) -> 0
A91: 9-3-2 | B91: 17-00000 | C91: Presējama tērauda caurule, RM, ø54х1,5 mm, STEELPRES | D91: m. | E91: 20 | K91: =SUM(H91:J91) -> 0 | L91: =ROUND(E91*F91,2) -> 0 | M91: =ROUND(E91*H91,2) -> 0 | N91: =ROUND(E91*I91,2) -> 0 | O91: =ROUND(E91*J91,2) -> 0 | P91: =SUM(M91:O91) -> 0
A92: 9-3-3 | B92: 17-00000 | C92: Presējamo tērauda cauruļu veidgabali, RM, STEELPRES | D92: kpl. | E92: 1 | K92: =SUM(H92:J92) -> 0 | L92: =ROUND(E92*F92,2) -> 0 | M92: =ROUND(E92*H92,2) -> 0 | N92: =ROUND(E92*I92,2) -> 0 | O92: =ROUND(E92*J92,2) -> 0 | P92: =SUM(M92:O92) -> 0
A93: 9-3-4 | B93: 17-00000 | C93: Siltumizolācijas čaula 40mm, PAROC, 42x40, Hvac Section AluCoat T | D93: m. | E93: 114 | K93: =SUM(H93:J93) -> 0 | L93: =ROUND(E93*F93,2) -> 0 | M93: =ROUND(E93*H93,2) -> 0 | N93: =ROUND(E93*I93,2) -> 0 | O93: =ROUND(E93*J93,2) -> 0 | P93: =SUM(M93:O93) -> 0
A94: 9-3-5 | B94: 17-00000 | C94: Siltumizolācijas čaula 50mm, PAROC, 54x50, Hvac Section AluCoat T | D94: m. | E94: 20 | K94: =SUM(H94:J94) -> 0 | L94: =ROUND(E94*F94,2) -> 0 | M94: =ROUND(E94*H94,2) -> 0 | N94: =ROUND(E94*I94,2) -> 0 | O94: =ROUND(E94*J94,2) -> 0 | P94: =SUM(M94:O94) -> 0
A95: 9-3-6 | B95: 17-00000 | C95: Etilēnglikola šķīdums, 0,35 | D95: l | E95: 180 | K95: =SUM(H95:J95) -> 0 | L95: =ROUND(E95*F95,2) -> 0 | M95: =ROUND(E95*H95,2) -> 0 | N95: =ROUND(E95*I95,2) -> 0 | O95: =ROUND(E95*J95,2) -> 0 | P95: =SUM(M95:O95) -> 0
A96: 9-3-7 | B96: 17-00000 | C96: Noslēgkrāns, Dn50, | D96: gab. | E96: 2 | K96: =SUM(H96:J96) -> 0 | L96: =ROUND(E96*F96,2) -> 0 | M96: =ROUND(E96*H96,2) -> 0 | N96: =ROUND(E96*I96,2) -> 0 | O96: =ROUND(E96*J96,2) -> 0 | P96: =SUM(M96:O96) -> 0
A97: 9-3-8 | B97: 17-00000 | C97: Automātiskais atgaisotājs ar noslēgkrānu, Dn15, | D97: gab. | E97: 4 | K97: =SUM(H97:J97) -> 0 | L97: =ROUND(E97*F97,2) -> 0 | M97: =ROUND(E97*H97,2) -> 0 | N97: =ROUND(E97*I97,2) -> 0 | O97: =ROUND(E97*J97,2) -> 0 | P97: =SUM(M97:O97) -> 0
A98: 9-3-9 | B98: 17-00000 | C98: Iztukšošanas krāns, Dn15, | D98: gab. | E98: 4 | K98: =SUM(H98:J98) -> 0 | L98: =ROUND(E98*F98,2) -> 0 | M98: =ROUND(E98*H98,2) -> 0 | N98: =ROUND(E98*I98,2) -> 0 | O98: =ROUND(E98*J98,2) -> 0 | P98: =SUM(M98:O98) -> 0
A99: 9-3-10 | B99: 17-00000 | C99: Atvērumu blīvēšanas materiāli | D99: kpl. | E99: 1 | K99: =SUM(H99:J99) -> 0 | L99: =ROUND(E99*F99,2) -> 0 | M99: =ROUND(E99*H99,2) -> 0 | N99: =ROUND(E99*I99,2) -> 0 | O99: =ROUND(E99*J99,2) -> 0 | P99: =SUM(M99:O99) -> 0
A100: 9-3-11 | B100: 17-00000 | C100: Ugunsdrošie atvērumu blīvēšanas materiāli | D100: kpl. | E100: 1 | K100: =SUM(H100:J100) -> 0 | L100: =ROUND(E100*F100,2) -> 0 | M100: =ROUND(E100*H100,2) -> 0 | N100: =ROUND(E100*I100,2) -> 0 | O100: =ROUND(E100*J100,2) -> 0 | P100: =SUM(M100:O100) -> 0
A101: 9-3-12 | B101: 17-00000 | C101: Cauruļvadu stiprinājumi un balsti | D101: kpl. | E101: 1 | K101: =SUM(H101:J101) -> 0 | L101: =ROUND(E101*F101,2) -> 0 | M101: =ROUND(E101*H101,2) -> 0 | N101: =ROUND(E101*I101,2) -> 0 | O101: =ROUND(E101*J101,2) -> 0 | P101: =SUM(M101:O101) -> 0
... A104: 9-3-15 | B104: 17-00000 | C104: Citi montāžas, izolācijas un marķešānas materiāli | D104: kpl. | E104: 1 | K104: =SUM(H104:J104) -> 0 | L104: =ROUND(E104*F104,2) -> 0 | M104: =ROUND(E104*H104,2) -> 0 | N104: =ROUND(E104*I104,2) -> 0 | O104: =ROUND(E104*J104,2) -> 0 | P104: =SUM(M104:O104) -> 0
A105: 9-4 | C105: PN1 ventilācijas kalorifera sajaukšanas mezgls.
A106: 9-4-1 | B106: 17-00000 | C106: Sajaukšanas mezgls kaloriferu siltumapgādei komplēktā:
A107: 9-4-2 | B107: 17-00000 | C107: cirkulācijas sūknis, WILO, Stratos PICO 15/0,5-6,0,68 m3/h; 3m, | D107: gab. | E107: 1 | K107: =SUM(H107:J107) -> 0 | L107: =ROUND(E107*F107,2) -> 0 | M107: =ROUND(E107*H107,2) -> 0 | N107: =ROUND(E107*I107,2) -> 0 | O107: =ROUND(E107*J107,2) -> 0 | P107: =SUM(M107:O107) -> 0
A108: 9-4-3 | B108: 17-00000 | C108: cirkulācijas sūkņa elektroinstalācija 230V/1~ | D108: kpl. | E108: 1 | K108: =SUM(H108:J108) -> 0 | L108: =ROUND(E108*F108,2) -> 0 | M108: =ROUND(E108*H108,2) -> 0 | N108: =ROUND(E108*I108,2) -> 0 | O108: =ROUND(E108*J108,2) -> 0 | P108: =SUM(M108:O108) -> 0
A109: 9-4-4 | B109: 17-00000 | C109: trīsceļu vārsts ar piedziņu, ESBE Dn25 VRG131 kvs=10, | D109: gab. | E109: 1 | K109: =SUM(H109:J109) -> 0 | L109: =ROUND(E109*F109,2) -> 0 | M109: =ROUND(E109*H109,2) -> 0 | N109: =ROUND(E109*I109,2) -> 0 | O109: =ROUND(E109*J109,2) -> 0 | P109: =SUM(M109:O109) -> 0
A110: 9-4-5 | B110: 17-00000 | C110: trīsceļu vārsta elektroinstalācija 24V, ESBE ARA659 ; 24VAC, 0-10VDC, | D110: kpl. | E110: 1 | K110: =SUM(H110:J110) -> 0 | L110: =ROUND(E110*F110,2) -> 0 | M110: =ROUND(E110*H110,2) -> 0 | N110: =ROUND(E110*I110,2) -> 0 | O110: =ROUND(E110*J110,2) -> 0 | P110: =SUM(M110:O110) -> 0
A111: 9-4-6 | B111: 17-00000 | C111: vienvirziena vārsts, Dn32, | D111: gab. | E111: 1 | K111: =SUM(H111:J111) -> 0 | L111: =ROUND(E111*F111,2) -> 0 | M111: =ROUND(E111*H111,2) -> 0 | N111: =ROUND(E111*I111,2) -> 0 | O111: =ROUND(E111*J111,2) -> 0 | P111: =SUM(M111:O111) -> 0
A112: 9-4-7 | B112: 17-00000 | C112: balansējošais vārsts Dn25; 0,19 l/s, | D112: gab. | E112: 2 | K112: =SUM(H112:J112) -> 0 | L112: =ROUND(E112*F112,2) -> 0 | M112: =ROUND(E112*H112,2) -> 0 | N112: =ROUND(E112*I112,2) -> 0 | O112: =ROUND(E112*J112,2) -> 0 | P112: =SUM(M112:O112) -> 0
A113: 9-4-8 | B113: 17-00000 | C113: lodveida vārsts, Dn32, | D113: gab. | E113: 4 | K113: =SUM(H113:J113) -> 0 | L113: =ROUND(E113*F113,2) -> 0 | M113: =ROUND(E113*H113,2) -> 0 | N113: =ROUND(E113*I113,2) -> 0 | O113: =ROUND(E113*J113,2) -> 0 | P113: =SUM(M113:O113) -> 0
A114: 9-4-9 | B114: 17-00000 | C114: mehāniskais filtrs, Dn32, | D114: gab. | E114: 1 | K114: =SUM(H114:J114) -> 0 | L114: =ROUND(E114*F114,2) -> 0 | M114: =ROUND(E114*H114,2) -> 0 | N114: =ROUND(E114*I114,2) -> 0 | O114: =ROUND(E114*J114,2) -> 0 | P114: =SUM(M114:O114) -> 0
A115: 9-4-10 | B115: 17-00000 | C115: manometrs ar noslēgvārstu P=0-6 bar, Dn15, | D115: gab. | E115: 5 | K115: =SUM(H115:J115) -> 0 | L115: =ROUND(E115*F115,2) -> 0 | M115: =ROUND(E115*H115,2) -> 0 | N115: =ROUND(E115*I115,2) -> 0 | O115: =ROUND(E115*J115,2) -> 0 | P115: =SUM(M115:O115) -> 0
A116: 9-4-11 | B116: 17-00000 | C116: termometrs T=0-120ºC, Dn15, | D116: gab. | E116: 4 | K116: =SUM(H116:J116) -> 0 | L116: =ROUND(E116*F116,2) -> 0 | M116: =ROUND(E116*H116,2) -> 0 | N116: =ROUND(E116*I116,2) -> 0 | O116: =ROUND(E116*J116,2) -> 0 | P116: =SUM(M116:O116) -> 0
A117: 9-4-12 | B117: 17-00000 | C117: termometra čaula, Dn15, | D117: gab. | E117: 4 | K117: =SUM(H117:J117) -> 0 | L117: =ROUND(E117*F117,2) -> 0 | M117: =ROUND(E117*H117,2) -> 0 | N117: =ROUND(E117*I117,2) -> 0 | O117: =ROUND(E117*J117,2) -> 0 | P117: =SUM(M117:O117) -> 0
A118: 9-4-13 | B118: 17-00000 | C118: kompensators, Dn32, | D118: gab. | E118: 2 | K118: =SUM(H118:J118) -> 0 | L118: =ROUND(E118*F118,2) -> 0 | M118: =ROUND(E118*H118,2) -> 0 | N118: =ROUND(E118*I118,2) -> 0 | O118: =ROUND(E118*J118,2) -> 0 | P118: =SUM(M118:O118) -> 0
... A125: 9-4-20 | B125: 17-00000 | C125: siltuma uzskaites ierīce-skaitītājs komplektā ar sensoriem un komurtācijas vadiem, KAMSTRUP, Multical 603+Ultraflow 54 DN20 qp 1,5 m3/h | D125: kpl. | E125: 1 | K125: =SUM(H125:J125) -> 0 | L125: =ROUND(E125*F125,2) -> 0 | M125: =ROUND(E125*H125,2) -> 0 | N125: =ROUND(E125*I125,2) -> 0 | O125: =ROUND(E125*J125,2) -> 0 | P125: =SUM(M125:O125) -> 0
A126: 9-5 | C126: PN2 ventilācijas kalorifera sajaukšānas mezgls.
A127: 9-5-1 | B127: 17-00000 | C127: sajaukšanas mezgls kaloriferu siltumapgādei komplēktā:
A128: 9-5-2 | B128: 17-00000 | C128: cirkulācijas sūknis, WILO, Stratos PICO 15/0,5-8 ,1,49 m3/h; 3m, | D128: gab. | E128: 1 | K128: =SUM(H128:J128) -> 0 | L128: =ROUND(E128*F128,2) -> 0 | M128: =ROUND(E128*H128,2) -> 0 | N128: =ROUND(E128*I128,2) -> 0 | O128: =ROUND(E128*J128,2) -> 0 | P128: =SUM(M128:O128) -> 0
A129: 9-5-3 | B129: 17-00000 | C129: cirkulācijas sūkņa elektroinstalācija 230V/1~ | D129: kpl. | E129: 1 | K129: =SUM(H129:J129) -> 0 | L129: =ROUND(E129*F129,2) -> 0 | M129: =ROUND(E129*H129,2) -> 0 | N129: =ROUND(E129*I129,2) -> 0 | O129: =ROUND(E129*J129,2) -> 0 | P129: =SUM(M129:O129) -> 0
A130: 9-5-4 | B130: 17-00000 | C130: trīsceļu vārsts ar piedziņu, ESBE Dn32 VRG131 kvs=16, | D130: gab. | E130: 1 | K130: =SUM(H130:J130) -> 0 | L130: =ROUND(E130*F130,2) -> 0 | M130: =ROUND(E130*H130,2) -> 0 | N130: =ROUND(E130*I130,2) -> 0 | O130: =ROUND(E130*J130,2) -> 0 | P130: =SUM(M130:O130) -> 0
A131: 9-5-5 | B131: 17-00000 | C131: trīsceļu vārsta elektroinstalācija 24V, ESBE ARA659 ; 24VAC, 0-10VDC, | D131: kpl. | E131: 1 | K131: =SUM(H131:J131) -> 0 | L131: =ROUND(E131*F131,2) -> 0 | M131: =ROUND(E131*H131,2) -> 0 | N131: =ROUND(E131*I131,2) -> 0 | O131: =ROUND(E131*J131,2) -> 0 | P131: =SUM(M131:O131) -> 0
A132: 9-5-6 | B132: 17-00000 | C132: vienvirziena vārsts, Dn40, | D132: gab. | E132: 1 | K132: =SUM(H132:J132) -> 0 | L132: =ROUND(E132*F132,2) -> 0 | M132: =ROUND(E132*H132,2) -> 0 | N132: =ROUND(E132*I132,2) -> 0 | O132: =ROUND(E132*J132,2) -> 0 | P132: =SUM(M132:O132) -> 0
A133: 9-5-7 | B133: 17-00000 | C133: balansējošais vārsts , Dn32; 0,41 l/s, | D133: gab. | E133: 2 | K133: =SUM(H133:J133) -> 0 | L133: =ROUND(E133*F133,2) -> 0 | M133: =ROUND(E133*H133,2) -> 0 | N133: =ROUND(E133*I133,2) -> 0 | O133: =ROUND(E133*J133,2) -> 0 | P133: =SUM(M133:O133) -> 0
...

Sheet Nr.10
A2: Lokālā tāme Nr. 10
A3: Ēkas pārbūve Raiņa ielā 27, Cēsīs, Cēsu novadā
A4: Ventilācija
A5: (būvdarbu veids vai konstruktīvā elementa nosaukums)
A6: =Nr.1!A7 -> Objekta nosaukums: | C6: =Nr.1!C7 -> Ēkas pārbūve | D6: =Nr.1!D7 -> 0 | E6: =Nr.1!E7 -> 0 | F6: =Nr.1!F7 -> 0 | G6: =Nr.1!G7 -> 0 | H6: =Nr.1!H7 -> 0 | I6: =Nr.1!I7 -> 0 | J6: =Nr.1!J7 -> 0 | ... N6: =Nr.1!N7 -> 0
A7: =Nr.1!A8 -> Būves nosaukums: | C7: =Nr.1!C8 -> Ēkas pārbūve
A8: =Nr.1!A9 -> Objekta adrese: | C8: =Nr.1!C9 -> Raiņa iela 27, Cēsis, Cēsu novads
A9: =Nr.1!A10 -> Pasūtījuma Nr.: | C9: =Nr.1!C10 -> 0 | I9: =Nr.1!I10 -> 0 | J9: =Nr.1!J10 -> 0 | K9: =Nr.1!K10 -> 0 | L9: =Nr.1!L10 -> 0 | M9: =Nr.1!M10 -> 0 | N9: =Nr.1!N10 -> 0
K11: Tāmes izmaksas: | M11: Eur | N11: =P216 -> 0
A12: Tāme sastādīta 2024.gada tirgus cenās,pamatojoties uz AVK-V daļas rasējumiem.
F13: Tāme sastādīta 2024. gada ____.____________________
A15: Nr.p.k. | B15: Kods | C15: Būvdarbu nosaukums | D15: Mērvienība | E15: Daudzums | F15: Vienības izmaksas | L15: Kopā uz visu apjomu
F16: Laika norma (c/h) | G16: darba samaksas likme* (euro/h) | H16: darba alga | I16: būvizstrādājumi | J16: mehānismi | K16: kopā | L16: darbietilpība (c/h) | M16: darba alga | N16: būvizstrādājumi | O16: mehānismi | P16: summa
A17: 1 | B17: 2 | C17: 3 | D17: 4 | E17: 5 | F17: 6 | G17: 7 | H17: 8 | I17: 9 | J17: 10 | K17: 11 | L17: 12 | M17: 13 | N17: 14 | O17: 15 | P17: 16
A18: 10-1 | C18: Ventilācijas sistēma PN1.
A19: 10-1-1 | B19: 17-00000 | C19: Ventiekarta +2160m3/h, +400Pa; -1530m3/h, -400Pa; Qsild.=14,7kW; Qdz.=17,3 kW; Qel.=1,6kW; m.=400kg , komplektā ar vadības automātiku , dēvejiem, ar iebūvetu iespēju BMS pieslēgšanai prot. ModBus TCP, VTS Clima, 3400x1000x1000(h), VVS021-R-FRCVH/VVS021-L-FRV_cd | D19: kpl. | E19: 1 | K19: =SUM(H19:J19) -> 0 | L19: =ROUND(E19*F19,2) -> 0 | M19: =ROUND(E19*H19,2) -> 0 | N19: =ROUND(E19*I19,2) -> 0 | O19: =ROUND(E19*J19,2) -> 0 | P19: =SUM(M19:O19) -> 0
A20: 10-1-2 | B20: 17-00000 | C20: Ventilācijas agregāta elektroinstalācija | D20: kpl. | E20: 1 | K20: =SUM(H20:J20) -> 0 | L20: =ROUND(E20*F20,2) -> 0 | M20: =ROUND(E20*H20,2) -> 0 | N20: =ROUND(E20*I20,2) -> 0 | O20: =ROUND(E20*J20,2) -> 0 | P20: =SUM(M20:O20) -> 0
A21: 10-1-3 | B21: 17-00000 | C21: Agregāta vibroizolātori | D21: kpl. | E21: 1 | K21: =SUM(H21:J21) -> 0 | L21: =ROUND(E21*F21,2) -> 0 | M21: =ROUND(E21*H21,2) -> 0 | N21: =ROUND(E21*I21,2) -> 0 | O21: =ROUND(E21*J21,2) -> 0 | P21: =SUM(M21:O21) -> 0
A22: 10-1-4 | B22: 17-00000 | C22: Kondensāta novadīšanas PVC izvads ar sifonu, ⌀50 | D22: gab. | E22: 1 | K22: =SUM(H22:J22) -> 0 | L22: =ROUND(E22*F22,2) -> 0 | M22: =ROUND(E22*H22,2) -> 0 | N22: =ROUND(E22*I22,2) -> 0 | O22: =ROUND(E22*J22,2) -> 0 | P22: =SUM(M22:O22) -> 0
A23: 10-1-5 | B23: 17-00000 | C23: Āra reste gaisa ieņemšanai, Komfovent, 800x400, LG-800-400 | D23: gab. | E23: 1 | K23: =SUM(H23:J23) -> 0 | L23: =ROUND(E23*F23,2) -> 0 | M23: =ROUND(E23*H23,2) -> 0 | N23: =ROUND(E23*I23,2) -> 0 | O23: =ROUND(E23*J23,2) -> 0 | P23: =SUM(M23:O23) -> 0
A24: 10-1-6 | B24: 17-00000 | C24: Āra reste gaisa izmešanai, Komfovent, 800x400, LG-800-400 | D24: gab. | E24: 1 | K24: =SUM(H24:J24) -> 0 | L24: =ROUND(E24*F24,2) -> 0 | M24: =ROUND(E24*H24,2) -> 0 | N24: =ROUND(E24*I24,2) -> 0 | O24: =ROUND(E24*J24,2) -> 0 | P24: =SUM(M24:O24) -> 0
A25: 10-1-7 | B25: 17-00000 | C25: Pieplūdes difuzors Krāsa:Cinkots RAL9003, Systemair, ⌀200, Balance-S-200 | D25: gab. | E25: 1 | K25: =SUM(H25:J25) -> 0 | L25: =ROUND(E25*F25,2) -> 0 | M25: =ROUND(E25*H25,2) -> 0 | N25: =ROUND(E25*I25,2) -> 0 | O25: =ROUND(E25*J25,2) -> 0 | P25: =SUM(M25:O25) -> 0
A26: 10-1-8 | B26: 17-00000 | C26: Pieplūdes difuzors Krāsa:Cinkots, Systemair, ⌀160, TSO-160+THOR-125-160 | D26: gab. | E26: 3 | K26: =SUM(H26:J26) -> 0 | L26: =ROUND(E26*F26,2) -> 0 | M26: =ROUND(E26*H26,2) -> 0 | N26: =ROUND(E26*I26,2) -> 0 | O26: =ROUND(E26*J26,2) -> 0 | P26: =SUM(M26:O26) -> 0
A27: 10-1-9 | B27: 17-00000 | C27: Pieplūdes difuzors Krāsa:Cinkots, Systemair, ⌀200, TSO-200+THOR-160-200 | D27: gab. | E27: 6 | K27: =SUM(H27:J27) -> 0 | L27: =ROUND(E27*F27,2) -> 0 | M27: =ROUND(E27*H27,2) -> 0 | N27: =ROUND(E27*I27,2) -> 0 | O27: =ROUND(E27*J27,2) -> 0 | P27: =SUM(M27:O27) -> 0
A28: 10-1-10 | B28: 17-00000 | C28: Pieplūdes difuzors Krāsa:Cinkots, Systemair, ⌀250, TSO-250+THOR-200-250 | D28: gab. | E28: 1 | K28: =SUM(H28:J28) -> 0 | L28: =ROUND(E28*F28,2) -> 0 | M28: =ROUND(E28*H28,2) -> 0 | N28: =ROUND(E28*I28,2) -> 0 | O28: =ROUND(E28*J28,2) -> 0 | P28: =SUM(M28:O28) -> 0
A29: 10-1-11 | B29: 17-00000 | C29: Nosūces difuzors Krāsa:Cinkots RAL9003, Systemair, ⌀200, Balance-E-200 | D29: gab. | E29: 1 | K29: =SUM(H29:J29) -> 0 | L29: =ROUND(E29*F29,2) -> 0 | M29: =ROUND(E29*H29,2) -> 0 | N29: =ROUND(E29*I29,2) -> 0 | O29: =ROUND(E29*J29,2) -> 0 | P29: =SUM(M29:O29) -> 0
A30: 10-1-12 | B30: 17-00000 | C30: Nosūces difuzors Krāsa:Cinkots, Systemair, ⌀160, TSF-160+THOR-125-160 | D30: gab. | E30: 2 | K30: =SUM(H30:J30) -> 0 | L30: =ROUND(E30*F30,2) -> 0 | M30: =ROUND(E30*H30,2) -> 0 | N30: =ROUND(E30*I30,2) -> 0 | O30: =ROUND(E30*J30,2) -> 0 | P30: =SUM(M30:O30) -> 0
... A67: 10-1-49 | B67: 17-00000 | C67: Ventilācijas sistēmas mērīšanas un regulēšanas darbi | D67: kpl. | E67: 1 | K67: =SUM(H67:J67) -> 0 | L67: =ROUND(E67*F67,2) -> 0 | M67: =ROUND(E67*H67,2) -> 0 | N67: =ROUND(E67*I67,2) -> 0 | O67: =ROUND(E67*J67,2) -> 0 | P67: =SUM(M67:O67) -> 0
A68: 10-2 | C68: Ventilācijas sistēma PN2.
A69: 10-2-1 | B69: 17-00000 | C69: Ventiekarta +6035m3/h, +400Pa; -5435m3/h, -400Pa; Qsild.=32,1kW; Qdz.=49,0 kW; Qel.=9,6kW; m.=850kg , komplektā ar vadības automātiku , dēvejiem, ar iebūvetu iespēju BMS pieslēgšanai prot. ModBus TCP, VTS Clima, 4000x1500x1800(h), VVS075-R-FRVHC/VVS075-L-FRV_cd | D69: kpl. | E69: 1 | K69: =SUM(H69:J69) -> 0 | L69: =ROUND(E69*F69,2) -> 0 | M69: =ROUND(E69*H69,2) -> 0 | N69: =ROUND(E69*I69,2) -> 0 | O69: =ROUND(E69*J69,2) -> 0 | P69: =SUM(M69:O69) -> 0
A70: 10-2-2 | B70: 17-00000 | C70: Ventilācijas agregāta elektroinstalācija | D70: kpl. | E70: 1 | K70: =SUM(H70:J70) -> 0 | L70: =ROUND(E70*F70,2) -> 0 | M70: =ROUND(E70*H70,2) -> 0 | N70: =ROUND(E70*I70,2) -> 0 | O70: =ROUND(E70*J70,2) -> 0 | P70: =SUM(M70:O70) -> 0
A71: 10-2-3 | B71: 17-00000 | C71: Agregāta vibroizolātori | D71: kpl. | E71: 1 | K71: =SUM(H71:J71) -> 0 | L71: =ROUND(E71*F71,2) -> 0 | M71: =ROUND(E71*H71,2) -> 0 | N71: =ROUND(E71*I71,2) -> 0 | O71: =ROUND(E71*J71,2) -> 0 | P71: =SUM(M71:O71) -> 0
A72: 10-2-4 | B72: 17-00000 | C72: Kondensāta novadīšanas PVC izvads ar sifonu, ⌀50 | D72: gab. | E72: 1 | K72: =SUM(H72:J72) -> 0 | L72: =ROUND(E72*F72,2) -> 0 | M72: =ROUND(E72*H72,2) -> 0 | N72: =ROUND(E72*I72,2) -> 0 | O72: =ROUND(E72*J72,2) -> 0 | P72: =SUM(M72:O72) -> 0
A73: 10-2-5 | B73: 17-00000 | C73: Āra reste gaisa ieņemšanai, Komfovent, 1400x1000, LG-1400-1000 | D73: gab. | E73: 1 | K73: =SUM(H73:J73) -> 0 | L73: =ROUND(E73*F73,2) -> 0 | M73: =ROUND(E73*H73,2) -> 0 | N73: =ROUND(E73*I73,2) -> 0 | O73: =ROUND(E73*J73,2) -> 0 | P73: =SUM(M73:O73) -> 0
A74: 10-2-6 | B74: 17-00000 | C74: Āra reste gaisa izmešanai, Komfovent, 1200x1000, LG-1200-1000 | D74: gab. | E74: 1 | K74: =SUM(H74:J74) -> 0 | L74: =ROUND(E74*F74,2) -> 0 | M74: =ROUND(E74*H74,2) -> 0 | N74: =ROUND(E74*I74,2) -> 0 | O74: =ROUND(E74*J74,2) -> 0 | P74: =SUM(M74:O74) -> 0
A75: 10-2-7 | B75: 17-00000 | C75: Pieplūdes difuzors Krāsa: Balts RAL9010 RAL9003, Systemair, ⌀125, Balance-S-125 | D75: gab. | E75: 2 | K75: =SUM(H75:J75) -> 0 | L75: =ROUND(E75*F75,2) -> 0 | M75: =ROUND(E75*H75,2) -> 0 | N75: =ROUND(E75*I75,2) -> 0 | O75: =ROUND(E75*J75,2) -> 0 | P75: =SUM(M75:O75) -> 0
A76: 10-2-8 | B76: 17-00000 | C76: Pieplūdes difuzors Krāsa: Balts RAL9010 RAL9003, Systemair, ⌀200, Balance-S-200 | D76: gab. | E76: 1 | K76: =SUM(H76:J76) -> 0 | L76: =ROUND(E76*F76,2) -> 0 | M76: =ROUND(E76*H76,2) -> 0 | N76: =ROUND(E76*I76,2) -> 0 | O76: =ROUND(E76*J76,2) -> 0 | P76: =SUM(M76:O76) -> 0
A77: 10-2-9 | B77: 17-00000 | C77: Pieplūdes difuzors Krāsa: Balts RAL9010 RAL9003, Systemair, ⌀200, Balance-S-200 | D77: gab. | E77: 2 | K77: =SUM(H77:J77) -> 0 | L77: =ROUND(E77*F77,2) -> 0 | M77: =ROUND(E77*H77,2) -> 0 | N77: =ROUND(E77*I77,2) -> 0 | O77: =ROUND(E77*J77,2) -> 0 | P77: =SUM(M77:O77) -> 0
A78: 10-2-10 | B78: 17-00000 | C78: Pieplūdes difuzors Krāsa: Balts RAL9010, Systemair, ⌀315, Konika-A-315 | D78: gab. | E78: 10 | K78: =SUM(H78:J78) -> 0 | L78: =ROUND(E78*F78,2) -> 0 | M78: =ROUND(E78*H78,2) -> 0 | N78: =ROUND(E78*I78,2) -> 0 | O78: =ROUND(E78*J78,2) -> 0 | P78: =SUM(M78:O78) -> 0
A79: 10-2-11 | B79: 17-00000 | C79: Pieplūdes difuzors Krāsa: Balts RAL9010, Systemair, ⌀200, TSO-200+THOR-160-200 | D79: gab. | E79: 1 | K79: =SUM(H79:J79) -> 0 | L79: =ROUND(E79*F79,2) -> 0 | M79: =ROUND(E79*H79,2) -> 0 | N79: =ROUND(E79*I79,2) -> 0 | O79: =ROUND(E79*J79,2) -> 0 | P79: =SUM(M79:O79) -> 0
A80: 10-2-12 | B80: 17-00000 | C80: Nosūces difuzors Krāsa: Balts RAL9010 RAL9003, Systemair, ⌀125, Balance-E-125 | D80: gab. | E80: 2 | K80: =SUM(H80:J80) -> 0 | L80: =ROUND(E80*F80,2) -> 0 | M80: =ROUND(E80*H80,2) -> 0 | N80: =ROUND(E80*I80,2) -> 0 | O80: =ROUND(E80*J80,2) -> 0 | P80: =SUM(M80:O80) -> 0
... A132: 10-2-64 | B132: 17-00000 | C132: Ventilācijas sistēmas mērīšanas un regulēšanas darbi | D132: kpl. | E132: 1 | K132: =SUM(H132:J132) -> 0 | L132: =ROUND(E132*F132,2) -> 0 | M132: =ROUND(E132*H132,2) -> 0 | N132: =ROUND(E132*I132,2) -> 0 | O132: =ROUND(E132*J132,2) -> 0 | P132: =SUM(M132:O132) -> 0
A133: 10-3 | C133: Ventilācijas sistēma PN3.
A134: 10-3-1 | B134: 17-00000 | C134: Ventiekarta +1400m3/h, +400Pa; -1400m3/h, -400Pa; Qsild.=10,3kW; Qdz.=11,1 kW; Qel.=1,4kW; m.=370kg , komplektā ar vadības automātiku , dēvejiem, ar iebūvetu iespēju BMS pieslēgšanai prot. ModBus TCP, VTS Clima, 2300x1600x400(h), VVS015s-R-FPVHC/VVS015s-L-FPV_cd | D134: kpl. | E134: 1 | K134: =SUM(H134:J134) -> 0 | L134: =ROUND(E134*F134,2) -> 0 | M134: =ROUND(E134*H134,2) -> 0 | N134: =ROUND(E134*I134,2) -> 0 | O134: =ROUND(E134*J134,2) -> 0 | P134: =SUM(M134:O134) -> 0
A135: 10-3-2 | B135: 17-00000 | C135: Ventilācijas agregāta elektroinstalācija | D135: kpl. | E135: 1 | K135: =SUM(H135:J135) -> 0 | L135: =ROUND(E135*F135,2) -> 0 | M135: =ROUND(E135*H135,2) -> 0 | N135: =ROUND(E135*I135,2) -> 0 | O135: =ROUND(E135*J135,2) -> 0 | P135: =SUM(M135:O135) -> 0
A136: 10-3-3 | B136: 17-00000 | C136: Agregāta vibroizolātori | D136: kpl. | E136: 1 | K136: =SUM(H136:J136) -> 0 | L136: =ROUND(E136*F136,2) -> 0 | M136: =ROUND(E136*H136,2) -> 0 | N136: =ROUND(E136*I136,2) -> 0 | O136: =ROUND(E136*J136,2) -> 0 | P136: =SUM(M136:O136) -> 0
A137: 10-3-4 | B137: 17-00000 | C137: Kondensāta novadīšanas PVC izvads ar sifonu, ⌀32 | D137: gab. | E137: 1 | K137: =SUM(H137:J137) -> 0 | L137: =ROUND(E137*F137,2) -> 0 | M137: =ROUND(E137*H137,2) -> 0 | N137: =ROUND(E137*I137,2) -> 0 | O137: =ROUND(E137*J137,2) -> 0 | P137: =SUM(M137:O137) -> 0
A138: 10-3-5 | B138: 17-00000 | C138: Āra reste gaisa ieņemšanai, Komfovent, 600x400, LG-600-400 | D138: gab. | E138: 1 | K138: =SUM(H138:J138) -> 0 | L138: =ROUND(E138*F138,2) -> 0 | M138: =ROUND(E138*H138,2) -> 0 | N138: =ROUND(E138*I138,2) -> 0 | O138: =ROUND(E138*J138,2) -> 0 | P138: =SUM(M138:O138) -> 0
A139: 10-3-6 | B139: 17-00000 | C139: Āra reste gaisa izmešanai, Komfovent, 600x400, LG-600-400 | D139: gab. | E139: 1 | K139: =SUM(H139:J139) -> 0 | L139: =ROUND(E139*F139,2) -> 0 | M139: =ROUND(E139*H139,2) -> 0 | N139: =ROUND(E139*I139,2) -> 0 | O139: =ROUND(E139*J139,2) -> 0 | P139: =SUM(M139:O139) -> 0
A140: 10-3-7 | B140: 17-00000 | C140: Pieplūdes difuzors krāsa: cinkots, Systemair, ⌀200, TSO-200+THOR-160-200 | D140: gab. | E140: 7 | K140: =SUM(H140:J140) -> 0 | L140: =ROUND(E140*F140,2) -> 0 | M140: =ROUND(E140*H140,2) -> 0 | N140: =ROUND(E140*I140,2) -> 0 | O140: =ROUND(E140*J140,2) -> 0 | P140: =SUM(M140:O140) -> 0
A141: 10-3-8 | B141: 17-00000 | C141: Nosūces difuzors krāsa: cinkots, Systemair, ⌀200, TSF-200+THOR-160-200 | D141: gab. | E141: 7 | K141: =SUM(H141:J141) -> 0 | L141: =ROUND(E141*F141,2) -> 0 | M141: =ROUND(E141*H141,2) -> 0 | N141: =ROUND(E141*I141,2) -> 0 | O141: =ROUND(E141*J141,2) -> 0 | P141: =SUM(M141:O141) -> 0
A142: 10-3-9 | B142: 17-00000 | C142: Mainīgas plūsmas VAV vārsts ar piedziņu, Komfovent, ⌀125, KOS-C-125 | D142: gab. | E142: 14 | K142: =SUM(H142:J142) -> 0 | L142: =ROUND(E142*F142,2) -> 0 | M142: =ROUND(E142*H142,2) -> 0 | N142: =ROUND(E142*I142,2) -> 0 | O142: =ROUND(E142*J142,2) -> 0 | P142: =SUM(M142:O142) -> 0
A143: 10-3-10 | B143: 17-00000 | C143: CO2 Sensors ar EL. Instalācijas komplektu, Regin Regio vai analogs | D143: gab. | E143: 14 | K143: =SUM(H143:J143) -> 0 | L143: =ROUND(E143*F143,2) -> 0 | M143: =ROUND(E143*H143,2) -> 0 | N143: =ROUND(E143*I143,2) -> 0 | O143: =ROUND(E143*J143,2) -> 0 | P143: =SUM(M143:O143) -> 0
A144: 10-3-11 | B144: 17-00000 | C144: Trokšņu slāpētājs b.=100; l.=900mm, Komfovent, ⌀160, AGS-160-100-900-M | D144: gab. | E144: 14 | K144: =SUM(H144:J144) -> 0 | L144: =ROUND(E144*F144,2) -> 0 | M144: =ROUND(E144*H144,2) -> 0 | N144: =ROUND(E144*I144,2) -> 0 | O144: =ROUND(E144*J144,2) -> 0 | P144: =SUM(M144:O144) -> 0
A145: 10-3-12 | B145: 17-00000 | C145: Trokšņu slāpētājs b.=100; l.=1200mm, Komfovent, ⌀315, AGS-315-100-1200-M | D145: gab. | E145: 4 | K145: =SUM(H145:J145) -> 0 | L145: =ROUND(E145*F145,2) -> 0 | M145: =ROUND(E145*H145,2) -> 0 | N145: =ROUND(E145*I145,2) -> 0 | O145: =ROUND(E145*J145,2) -> 0 | P145: =SUM(M145:O145) -> 0
... A168: 10-3-35 | B168: 17-00000 | C168: Ventilācijas sistēmas mērīšanas un regulēšanas darbi | D168: kpl. | E168: 1 | K168: =SUM(H168:J168) -> 0 | L168: =ROUND(E168*F168,2) -> 0 | M168: =ROUND(E168*H168,2) -> 0 | N168: =ROUND(E168*I168,2) -> 0 | O168: =ROUND(E168*J168,2) -> 0 | P168: =SUM(M168:O168) -> 0
A169: 10-4 | C169: Ventilācijas sistēma N2, WC
A170: 10-4-1 | B170: 17-00000 | C170: 1.stāvs
A171: 10-4-2 | B171: 17-00000 | C171: Nosūces difuzors krāsa: Cinkots RAL9003, Systemair, ⌀125, Balance-E-125 | D171: gab. | E171: 5 | K171: =SUM(H171:J171) -> 0 | L171: =ROUND(E171*F171,2) -> 0 | M171: =ROUND(E171*H171,2) -> 0 | N171: =ROUND(E171*I171,2) -> 0 | O171: =ROUND(E171*J171,2) -> 0 | P171: =SUM(M171:O171) -> 0
A172: 10-4-3 | B172: 17-00000 | C172: Nosūces difuzors krāsa: Cinkots, Systemair, ⌀100, Balance-E-100 | D172: gab. | E172: 1 | K172: =SUM(H172:J172) -> 0 | L172: =ROUND(E172*F172,2) -> 0 | M172: =ROUND(E172*H172,2) -> 0 | N172: =ROUND(E172*I172,2) -> 0 | O172: =ROUND(E172*J172,2) -> 0 | P172: =SUM(M172:O172) -> 0
A173: 10-4-4 | B173: 17-00000 | C173: 2.stāvs
A174: 10-4-5 | B174: 17-00000 | C174: Nosūces difuzors krāsa: Balts RAL9010 RAL9003, Systemair, ⌀125, Balance-E-125 | D174: gab. | E174: 6 | K174: =SUM(H174:J174) -> 0 | L174: =ROUND(E174*F174,2) -> 0 | M174: =ROUND(E174*H174,2) -> 0 | N174: =ROUND(E174*I174,2) -> 0 | O174: =ROUND(E174*J174,2) -> 0 | P174: =SUM(M174:O174) -> 0
A175: 10-4-6 | B175: 17-00000 | C175: Visos stāvos kopa.
A176: 10-4-7 | B176: 17-00000 | C176: Jumta ventilators komplektā ar jumta montāžas rāmi un ātruma regulatoru, -1130 m3/h, -250 Pa, Qel.=0,33kW, 230/1/50, Systemair, ⌀315, TFSR 315L+TOS 315 | D176: kpl. | E176: 1 | K176: =SUM(H176:J176) -> 0 | L176: =ROUND(E176*F176,2) -> 0 | M176: =ROUND(E176*H176,2) -> 0 | N176: =ROUND(E176*I176,2) -> 0 | O176: =ROUND(E176*J176,2) -> 0 | P176: =SUM(M176:O176) -> 0
A177: 10-4-8 | B177: 17-00000 | C177: Trokšņu slāpētājs b.=100; l.=1200mm, Komfovent, ⌀315, AGS-315-100-1200-M | D177: gab. | E177: 1 | K177: =SUM(H177:J177) -> 0 | L177: =ROUND(E177*F177,2) -> 0 | M177: =ROUND(E177*H177,2) -> 0 | N177: =ROUND(E177*I177,2) -> 0 | O177: =ROUND(E177*J177,2) -> 0 | P177: =SUM(M177:O177) -> 0
A178: 10-4-9 | B178: 17-00000 | C178: Pretvārsts, Systemair, ⌀315, RSK-315 | D178: gab. | E178: 1 | K178: =SUM(H178:J178) -> 0 | L178: =ROUND(E178*F178,2) -> 0 | M178: =ROUND(E178*H178,2) -> 0 | N178: =ROUND(E178*I178,2) -> 0 | O178: =ROUND(E178*J178,2) -> 0 | P178: =SUM(M178:O178) -> 0
A179: 10-4-10 | B179: 17-00000 | C179: Nosūces difuzors RAL9003, Systemair, ⌀125, Balance-E-125 | D179: gab. | E179: 6 | K179: =SUM(H179:J179) -> 0 | L179: =ROUND(E179*F179,2) -> 0 | M179: =ROUND(E179*H179,2) -> 0 | N179: =ROUND(E179*I179,2) -> 0 | O179: =ROUND(E179*J179,2) -> 0 | P179: =SUM(M179:O179) -> 0
A180: 10-4-11 | B180: 17-00000 | C180: Droseļvārsts, Komfovent, ⌀100, IRIS-100 | D180: gab. | E180: 1 | K180: =SUM(H180:J180) -> 0 | L180: =ROUND(E180*F180,2) -> 0 | M180: =ROUND(E180*H180,2) -> 0 | N180: =ROUND(E180*I180,2) -> 0 | O180: =ROUND(E180*J180,2) -> 0 | P180: =SUM(M180:O180) -> 0
A181: 10-4-12 | B181: 17-00000 | C181: Droseļvārsts, Komfovent, ⌀125, IRIS-125 | D181: gab. | E181: 11 | K181: =SUM(H181:J181) -> 0 | L181: =ROUND(E181*F181,2) -> 0 | M181: =ROUND(E181*H181,2) -> 0 | N181: =ROUND(E181*I181,2) -> 0 | O181: =ROUND(E181*J181,2) -> 0 | P181: =SUM(M181:O181) -> 0
A182: 10-4-13 | B182: 17-00000 | C182: Droseļvārsts, Komfovent, ⌀200, IRIS-200 | D182: gab. | E182: 2 | K182: =SUM(H182:J182) -> 0 | L182: =ROUND(E182*F182,2) -> 0 | M182: =ROUND(E182*H182,2) -> 0 | N182: =ROUND(E182*I182,2) -> 0 | O182: =ROUND(E182*J182,2) -> 0 | P182: =SUM(M182:O182) -> 0
A183: 10-4-14 | B183: 17-00000 | C183: Droseļvārsts, Komfovent, ⌀250, IRIS-250 | D183: gab. | E183: 1 | K183: =SUM(H183:J183) -> 0 | L183: =ROUND(E183*F183,2) -> 0 | M183: =ROUND(E183*H183,2) -> 0 | N183: =ROUND(E183*I183,2) -> 0 | O183: =ROUND(E183*J183,2) -> 0 | P183: =SUM(M183:O183) -> 0
A184: 10-4-15 | B184: 17-00000 | C184: Pārplūdes reste RAL9003, Systemair, 300x100, NOVA-D-300x100 | D184: gab. | E184: 12 | K184: =SUM(H184:J184) -> 0 | L184: =ROUND(E184*F184,2) -> 0 | M184: =ROUND(E184*H184,2) -> 0 | N184: =ROUND(E184*I184,2) -> 0 | O184: =ROUND(E184*J184,2) -> 0 | P184: =SUM(M184:O184) -> 0
A185: 10-4-16 | B185: 17-00000 | C185: Ugunsdrošības vārsts ar kūstošo elementu, Komfovent, ⌀200, UVA60H-200 | D185: gab. | E185: 2 | K185: =SUM(H185:J185) -> 0 | L185: =ROUND(E185*F185,2) -> 0 | M185: =ROUND(E185*H185,2) -> 0 | N185: =ROUND(E185*I185,2) -> 0 | O185: =ROUND(E185*J185,2) -> 0 | P185: =SUM(M185:O185) -> 0
A186: 10-4-17 | B186: 17-00000 | C186: Ugunsdrošības vārsts ar kūstošo elementu, Komfovent, ⌀315, UVA60H-315 | D186: gab. | E186: 1 | K186: =SUM(H186:J186) -> 0 | L186: =ROUND(E186*F186,2) -> 0 | M186: =ROUND(E186*H186,2) -> 0 | N186: =ROUND(E186*I186,2) -> 0 | O186: =ROUND(E186*J186,2) -> 0 | P186: =SUM(M186:O186) -> 0
A187: 10-4-18 | B187: 17-00000 | C187: Tīrīšanas lūka, Komfovent, ⌀160, KR-160 | D187: gab. | E187: 4 | K187: =SUM(H187:J187) -> 0 | L187: =ROUND(E187*F187,2) -> 0 | M187: =ROUND(E187*H187,2) -> 0 | N187: =ROUND(E187*I187,2) -> 0 | O187: =ROUND(E187*J187,2) -> 0 | P187: =SUM(M187:O187) -> 0
... A202: 10-4-33 | B202: 17-00000 | C202: Ventilācijas sistēmas mērīšanas un regulēšanas darbi | D202: kpl. | E202: 1 | K202: =SUM(H202:J202) -> 0 | L202: =ROUND(E202*F202,2) -> 0 | M202: =ROUND(E202*H202,2) -> 0 | N202: =ROUND(E202*I202,2) -> 0 | O202: =ROUND(E202*J202,2) -> 0 | P202: =SUM(M202:O202) -> 0
A203: 10-5 | C203: Ventilācijas sistēma DN4, DN5
A204: 10-5-1 | B204: 17-00000 | C204: Āra reste gaisa ieņemšanai, Komfovent, ⌀125, YGAV-125 | D204: gab. | E204: 1 | K204: =SUM(H204:J204) -> 0 | L204: =ROUND(E204*F204,2) -> 0 | M204: =ROUND(E204*H204,2) -> 0 | N204: =ROUND(E204*I204,2) -> 0 | O204: =ROUND(E204*J204,2) -> 0 | P204: =SUM(M204:O204) -> 0
A205: 10-5-2 | B205: 17-00000 | C205: Jumtiņš gaisa izmešanai, Komfovent, ⌀250, AHIP-250 | D205: gab. | E205: 1 | K205: =SUM(H205:J205) -> 0 | L205: =ROUND(E205*F205,2) -> 0 | M205: =ROUND(E205*H205,2) -> 0 | N205: =ROUND(E205*I205,2) -> 0 | O205: =ROUND(E205*J205,2) -> 0 | P205: =SUM(M205:O205) -> 0
A206: 10-5-3 | B206: 17-00000 | C206: Gala vāks ar sietu, Komfovent, ⌀125, AKTT-125 | D206: gab. | E206: 1 | K206: =SUM(H206:J206) -> 0 | L206: =ROUND(E206*F206,2) -> 0 | M206: =ROUND(E206*H206,2) -> 0 | N206: =ROUND(E206*I206,2) -> 0 | O206: =ROUND(E206*J206,2) -> 0 | P206: =SUM(M206:O206) -> 0
A207: 10-5-4 | B207: 17-00000 | C207: Gala vāks ar sietu, Komfovent, ⌀250, AKTT-250 | D207: gab. | E207: 1 | K207: =SUM(H207:J207) -> 0 | L207: =ROUND(E207*F207,2) -> 0 | M207: =ROUND(E207*H207,2) -> 0 | N207: =ROUND(E207*I207,2) -> 0 | O207: =ROUND(E207*J207,2) -> 0 | P207: =SUM(M207:O207) -> 0
A208: 10-5-5 | B208: 17-00000 | C208: Noslēgvārsts, Komfovent, ⌀125, AGUJ-R-125 | D208: gab. | E208: 1 | K208: =SUM(H208:J208) -> 0 | L208: =ROUND(E208*F208,2) -> 0 | M208: =ROUND(E208*H208,2) -> 0 | N208: =ROUND(E208*I208,2) -> 0 | O208: =ROUND(E208*J208,2) -> 0 | P208: =SUM(M208:O208) -> 0
A209: 10-5-6 | B209: 17-00000 | C209: Cinkots gaisa vads B blīvuma klase, Komfovent, ⌀125 | D209: m. | E209: 6 | K209: =SUM(H209:J209) -> 0 | L209: =ROUND(E209*F209,2) -> 0 | M209: =ROUND(E209*H209,2) -> 0 | N209: =ROUND(E209*I209,2) -> 0 | O209: =ROUND(E209*J209,2) -> 0 | P209: =SUM(M209:O209) -> 0
A210: 10-5-7 | B210: 17-00000 | C210: Fasondaļas un veidgabali, Komfovent | D210: kpl. | E210: 1 | K210: =SUM(H210:J210) -> 0 | L210: =ROUND(E210*F210,2) -> 0 | M210: =ROUND(E210*H210,2) -> 0 | N210: =ROUND(E210*I210,2) -> 0 | O210: =ROUND(E210*J210,2) -> 0 | P210: =SUM(M210:O210) -> 0
A211: 10-5-8 | B211: 17-00000 | C211: Minerālvates lamellas paklājs ar armētu alumīnija folija pārklājumu, Paroc, 50mm, Hvac Lamella Mat AluCoat | D211: m2 | E211: 2 | K211: =SUM(H211:J211) -> 0 | L211: =ROUND(E211*F211,2) -> 0 | M211: =ROUND(E211*H211,2) -> 0 | N211: =ROUND(E211*I211,2) -> 0 | O211: =ROUND(E211*J211,2) -> 0 | P211: =SUM(M211:O211) -> 0
A212: 10-5-9 | B212: 17-00000 | C212: Cinkotais skārds apšuvumam | D212: m2 | E212: 1 | K212: =SUM(H212:J212) -> 0 | L212: =ROUND(E212*F212,2) -> 0 | M212: =ROUND(E212*H212,2) -> 0 | N212: =ROUND(E212*I212,2) -> 0 | O212: =ROUND(E212*J212,2) -> 0 | P212: =SUM(M212:O212) -> 0
A213: 10-5-10 | B213: 17-00000 | C213: Gaisa vadu stiprinājumi | D213: kpl. | E213: 1 | K213: =SUM(H213:J213) -> 0 | L213: =ROUND(E213*F213,2) -> 0 | M213: =ROUND(E213*H213,2) -> 0 | N213: =ROUND(E213*I213,2) -> 0 | O213: =ROUND(E213*J213,2) -> 0 | P213: =SUM(M213:O213) -> 0
A214: 10-5-11 | B214: 17-00000 | C214: Atvērumu blīvēšanas materiāli | D214: kpl. | E214: 1 | K214: =SUM(H214:J214) -> 0 | L214: =ROUND(E214*F214,2) -> 0 | M214: =ROUND(E214*H214,2) -> 0 | N214: =ROUND(E214*I214,2) -> 0 | O214: =ROUND(E214*J214,2) -> 0 | P214: =SUM(M214:O214) -> 0
A215: 10-5-12 | B215: 17-00000 | C215: Citi montāžas, izolācijas un marķešānas materiāli | D215: kpl. | E215: 1 | K215: =SUM(H215:J215) -> 0 | L215: =ROUND(E215*F215,2) -> 0 | M215: =ROUND(E215*H215,2) -> 0 | N215: =ROUND(E215*I215,2) -> 0 | O215: =ROUND(E215*J215,2) -> 0 | P215: =SUM(M215:O215) -> 0
C216: Tiešās izmaksas kopā, t.sk. darba devēja sociālais nodoklis (23,59%) | L216: =SUM(L19:L215) -> 0 | M216: =SUM(M19:M215) -> 0 | N216: =SUM(N19:N215) -> 0 | O216: =SUM(O19:O215) -> 0 | P216: =SUM(P19:P215) -> 0
A219: =Nr.1!A86 -> Sastādīja: | B219: =Nr.1!B86 -> 0 | C219: =Nr.1!C86 -> 0 | D219: =Nr.1!D86 -> 0 | E219: =Nr.1!E86 -> 0 | F219: =Nr.1!F86 -> 0 | G219: =Nr.1!G86 -> 0
A220: =Nr.1!A87 -> 0 | B220: =Nr.1!B87 -> 0 | C220: =Nr.1!C87 -> (paraksts un tā atšifrējums, datums)
A221: =Nr.1!A88 -> Sertifikāta Nr.: | C221: =Nr.1!C88 -> 0 | D221: =Nr.1!D88 -> 0 | E221: =Nr.1!E88 -> 0 | F221: =Nr.1!F88 -> 0 | G221: =Nr.1!G88 -> 0
A222: =Nr.1!A89 -> 0 | B222: =Nr.1!B89 -> 0 | C222: =Nr.1!C89 -> 0 | D222: =Nr.1!D89 -> 0 | E222: =Nr.1!E89 -> 0 | F222: =Nr.1!F89 -> 0 | G222: =Nr.1!G89 -> 0
A223: =Nr.1!A90 -> 0 | B223: =Nr.1!B90 -> 0 | C223: =Nr.1!C90 -> 0 | D223: =Nr.1!D90 -> 0 | E223: =Nr.1!E90 -> 0 | F223: =Nr.1!F90 -> 0 | G223: =Nr.1!G90 -> 0
A224: =Nr.1!A91 -> Pārbaudīja: | C224: =Nr.1!C91 -> 0 | D224: =Nr.1!D91 -> 0 | E224: =Nr.1!E91 -> 0 | F224: =Nr.1!F91 -> 0 | G224: =Nr.1!G91 -> 0
A225: =Nr.1!A92 -> 0 | B225: =Nr.1!B92 -> 0 | C225: =Nr.1!C92 -> (paraksts un tā atšifrējums, datums)

Sheet Nr.11
A2: Lokālā tāme Nr. 11
A3: Ēkas pārbūve Raiņa ielā 27, Cēsīs, Cēsu novadā
A4: Kondicionēšana
A5: (būvdarbu veids vai konstruktīvā elementa nosaukums)
A7: =Nr.1!A7 -> Objekta nosaukums: | C7: =Nr.1!C7 -> Ēkas pārbūve
A8: =Nr.1!A8 -> Būves nosaukums: | C8: =Nr.1!C8 -> Ēkas pārbūve
A9: =Nr.1!A9 -> Objekta adrese: | C9: =Nr.1!C9 -> Raiņa iela 27, Cēsis, Cēsu novads | I9: =Nr.1!I9 -> 0 | J9: =Nr.1!J9 -> 0 | K9: =Nr.1!K9 -> 0 | L9: =Nr.1!L9 -> 0 | M9: =Nr.1!M9 -> 0 | N9: =Nr.1!N9 -> 0
A10: =Nr.1!A10 -> Pasūtījuma Nr.: | C10: =Nr.1!C10 -> 0 | D10: =Nr.1!D10 -> 0 | E10: =Nr.1!E10 -> 0 | F10: =Nr.1!F10 -> 0 | G10: =Nr.1!G10 -> 0 | H10: =Nr.1!H10 -> 0 | I10: =Nr.1!I10 -> 0 | J10: =Nr.1!J10 -> 0 | ... N10: =Nr.1!N10 -> 0
K11: Tāmes izmaksas: | M11: Eur | N11: =P161 -> 0
A12: Tāme sastādīta 2024.gada tirgus cenās,pamatojoties uz AVK-K daļas rasējumiem.
F13: Tāme sastādīta 2024. gada ____.___________________
A15: Nr.p.k. | B15: Kods | C15: Būvdarbu nosaukums | D15: Mērvienība | E15: Daudzums | F15: Vienības izmaksas | L15: Kopā uz visu apjomu
F16: Laika norma (c/h) | G16: darba samaksas likme* (euro/h) | H16: darba alga | I16: būvizstrādājumi | J16: mehānismi | K16: kopā | L16: darbietilpība (c/h) | M16: darba alga | N16: būvizstrādājumi | O16: mehānismi | P16: summa
A17: 1 | B17: 2 | C17: 3 | D17: 4 | E17: 5 | F17: 6 | G17: 7 | H17: 8 | I17: 9 | J17: 10 | K17: 11 | L17: 12 | M17: 13 | N17: 14 | O17: 15 | P17: 16
A18: 11-1 | C18: Dzesēšanas sistēma C11/C12
A19: 11-1-1 | B19: 17-00000 | C19: 1. stāvs
A20: 11-1-2 | B20: 17-00000 | C20: Vara caurule ar izolāciju 13mm krāsa: cinkots, Ø6,35 | D20: m. | E20: 28 | K20: =SUM(H20:J20) -> 0 | L20: =ROUND(E20*F20,2) -> 0 | M20: =ROUND(E20*H20,2) -> 0 | N20: =ROUND(E20*I20,2) -> 0 | O20: =ROUND(E20*J20,2) -> 0 | P20: =SUM(M20:O20) -> 0
A21: 11-1-3 | B21: 17-00000 | C21: Vara caurule ar izolāciju 13mm krāsa: cinkots, Ø9,52 | D21: m. | E21: 88 | K21: =SUM(H21:J21) -> 0 | L21: =ROUND(E21*F21,2) -> 0 | M21: =ROUND(E21*H21,2) -> 0 | N21: =ROUND(E21*I21,2) -> 0 | O21: =ROUND(E21*J21,2) -> 0 | P21: =SUM(M21:O21) -> 0
A22: 11-1-4 | B22: 17-00000 | C22: Vara caurule ar izolāciju 13mm krāsa: cinkots, Ø12,7 | D22: m. | E22: 30 | K22: =SUM(H22:J22) -> 0 | L22: =ROUND(E22*F22,2) -> 0 | M22: =ROUND(E22*H22,2) -> 0 | N22: =ROUND(E22*I22,2) -> 0 | O22: =ROUND(E22*J22,2) -> 0 | P22: =SUM(M22:O22) -> 0
A23: 11-1-5 | B23: 17-00000 | C23: Vara caurule ar izolāciju 13mm krāsa: cinkots, Ø15,9 | D23: m. | E23: 51 | K23: =SUM(H23:J23) -> 0 | L23: =ROUND(E23*F23,2) -> 0 | M23: =ROUND(E23*H23,2) -> 0 | N23: =ROUND(E23*I23,2) -> 0 | O23: =ROUND(E23*J23,2) -> 0 | P23: =SUM(M23:O23) -> 0
A24: 11-1-6 | B24: 17-00000 | C24: Vara caurule ar izolāciju 13mm krāsa: cinkots, Ø19,05 | D24: m. | E24: 32 | K24: =SUM(H24:J24) -> 0 | L24: =ROUND(E24*F24,2) -> 0 | M24: =ROUND(E24*H24,2) -> 0 | N24: =ROUND(E24*I24,2) -> 0 | O24: =ROUND(E24*J24,2) -> 0 | P24: =SUM(M24:O24) -> 0
A25: 11-1-7 | B25: 17-00000 | C25: Pretkondensācijas izolācija krāsa: cinkots, ARMACELL, 28x13, Armaflex ACE | D25: m. | E25: 29 | K25: =SUM(H25:J25) -> 0 | L25: =ROUND(E25*F25,2) -> 0 | M25: =ROUND(E25*H25,2) -> 0 | N25: =ROUND(E25*I25,2) -> 0 | O25: =ROUND(E25*J25,2) -> 0 | P25: =SUM(M25:O25) -> 0
A26: 11-1-8 | B26: 17-00000 | C26: 2. stāvs
A27: 11-1-9 | B27: 17-00000 | C27: Vara caurule ar izolāciju 13mm krasa: balts RAL9010, Ø15,9 | D27: m. | E27: 5 | K27: =SUM(H27:J27) -> 0 | L27: =ROUND(E27*F27,2) -> 0 | M27: =ROUND(E27*H27,2) -> 0 | N27: =ROUND(E27*I27,2) -> 0 | O27: =ROUND(E27*J27,2) -> 0 | P27: =SUM(M27:O27) -> 0
A28: 11-1-10 | B28: 17-00000 | C28: Pretkondensācijas izolācija krasa: balts RAL9010, ARMACELL, 28x13, Armaflex ACE | D28: m. | E28: 5 | K28: =SUM(H28:J28) -> 0 | L28: =ROUND(E28*F28,2) -> 0 | M28: =ROUND(E28*H28,2) -> 0 | N28: =ROUND(E28*I28,2) -> 0 | O28: =ROUND(E28*J28,2) -> 0 | P28: =SUM(M28:O28) -> 0
A29: 11-1-11 | B29: 17-00000 | C29: Visos stāvos kopa
A30: 11-1-12 | B30: 17-00000 | C30: Dzesēšanas sistēmas kompresora-kondensācijas bloks, Asami, Q.dz.=61,5kW, AMV6-O615 | D30: gab. | E30: 1 | K30: =SUM(H30:J30) -> 0 | L30: =ROUND(E30*F30,2) -> 0 | M30: =ROUND(E30*H30,2) -> 0 | N30: =ROUND(E30*I30,2) -> 0 | O30: =ROUND(E30*J30,2) -> 0 | P30: =SUM(M30:O30) -> 0
A31: 11-1-13 | B31: 17-00000 | C31: Antivibrācijas komplekts ar rāmi | D31: kpl. | E31: 1 | K31: =SUM(H31:J31) -> 0 | L31: =ROUND(E31*F31,2) -> 0 | M31: =ROUND(E31*H31,2) -> 0 | N31: =ROUND(E31*I31,2) -> 0 | O31: =ROUND(E31*J31,2) -> 0 | P31: =SUM(M31:O31) -> 0
A32: 11-1-14 | B32: 17-00000 | C32: Dzesēšanas sistēmas iekšējas bloks, Asami, Q.dz.=1,5 kW, AMV6-15CC | D32: gab. | E32: 1 | K32: =SUM(H32:J32) -> 0 | L32: =ROUND(E32*F32,2) -> 0 | M32: =ROUND(E32*H32,2) -> 0 | N32: =ROUND(E32*I32,2) -> 0 | O32: =ROUND(E32*J32,2) -> 0 | P32: =SUM(M32:O32) -> 0
A33: 11-1-15 | B33: 17-00000 | C33: Dzesēšanas sistēmas iekšējas bloks, Asami, Q.dz.=2,2 kW, AMV6-22CC | D33: gab. | E33: 5 | K33: =SUM(H33:J33) -> 0 | L33: =ROUND(E33*F33,2) -> 0 | M33: =ROUND(E33*H33,2) -> 0 | N33: =ROUND(E33*I33,2) -> 0 | O33: =ROUND(E33*J33,2) -> 0 | P33: =SUM(M33:O33) -> 0
A34: 11-1-16 | B34: 17-00000 | C34: Dzesēšanas sistēmas iekšējas bloks, Asami, Q.dz.=3,6 kW, AMV6-36CC | D34: gab. | E34: 3 | K34: =SUM(H34:J34) -> 0 | L34: =ROUND(E34*F34,2) -> 0 | M34: =ROUND(E34*H34,2) -> 0 | N34: =ROUND(E34*I34,2) -> 0 | O34: =ROUND(E34*J34,2) -> 0 | P34: =SUM(M34:O34) -> 0
A35: 11-1-17 | B35: 17-00000 | C35: Dzesēšanas sistēmas iekšējas bloks, Asami, Q.dz.=5,6 kW, AMV6-56CC | D35: gab. | E35: 5 | K35: =SUM(H35:J35) -> 0 | L35: =ROUND(E35*F35,2) -> 0 | M35: =ROUND(E35*H35,2) -> 0 | N35: =ROUND(E35*I35,2) -> 0 | O35: =ROUND(E35*J35,2) -> 0 | P35: =SUM(M35:O35) -> 0
A36: 11-1-18 | B36: 17-00000 | C36: Dzesēšanas sistēmas iekšējas bloks, Asami, Q.dz.=7,1 kW, AMV6-71C | D36: gab. | E36: 1 | K36: =SUM(H36:J36) -> 0 | L36: =ROUND(E36*F36,2) -> 0 | M36: =ROUND(E36*H36,2) -> 0 | N36: =ROUND(E36*I36,2) -> 0 | O36: =ROUND(E36*J36,2) -> 0 | P36: =SUM(M36:O36) -> 0
A37: 11-1-19 | B37: 17-00000 | C37: Dzesēšanas sistēmas iekšējas bloks, Asami, Q.dz.=9,0 kW, AMV6-90C | D37: gab. | E37: 1 | K37: =SUM(H37:J37) -> 0 | L37: =ROUND(E37*F37,2) -> 0 | M37: =ROUND(E37*H37,2) -> 0 | N37: =ROUND(E37*I37,2) -> 0 | O37: =ROUND(E37*J37,2) -> 0 | P37: =SUM(M37:O37) -> 0
A38: 11-1-20 | B38: 17-00000 | C38: Y-trejgabals, Asami, FQ02/A | D38: gab. | E38: 4 | K38: =SUM(H38:J38) -> 0 | L38: =ROUND(E38*F38,2) -> 0 | M38: =ROUND(E38*H38,2) -> 0 | N38: =ROUND(E38*I38,2) -> 0 | O38: =ROUND(E38*J38,2) -> 0 | P38: =SUM(M38:O38) -> 0
A39: 11-1-21 | B39: 17-00000 | C39: Y-trejgabals, Asami, FQ01B/A | D39: gab. | E39: 2 | K39: =SUM(H39:J39) -> 0 | L39: =ROUND(E39*F39,2) -> 0 | M39: =ROUND(E39*H39,2) -> 0 | N39: =ROUND(E39*I39,2) -> 0 | O39: =ROUND(E39*J39,2) -> 0 | P39: =SUM(M39:O39) -> 0
A40: 11-1-22 | B40: 17-00000 | C40: Y-trejgabals, Asami, FQ01A/A | D40: gab. | E40: 9 | K40: =SUM(H40:J40) -> 0 | L40: =ROUND(E40*F40,2) -> 0 | M40: =ROUND(E40*H40,2) -> 0 | N40: =ROUND(E40*I40,2) -> 0 | O40: =ROUND(E40*J40,2) -> 0 | P40: =SUM(M40:O40) -> 0
A41: 11-1-23 | B41: 17-00000 | C41: ( IR) vadības pults, Asami, YAP1F | D41: gab. | E41: 16 | K41: =SUM(H41:J41) -> 0 | L41: =ROUND(E41*F41,2) -> 0 | M41: =ROUND(E41*H41,2) -> 0 | N41: =ROUND(E41*I41,2) -> 0 | O41: =ROUND(E41*J41,2) -> 0 | P41: =SUM(M41:O41) -> 0
... A60: 11-1-42 | B60: 17-00000 | C60: Ugunsdrošo atvērumu blīvēšanas materiāli | D60: kpl. | E60: 1 | K60: =SUM(H60:J60) -> 0 | L60: =ROUND(E60*F60,2) -> 0 | M60: =ROUND(E60*H60,2) -> 0 | N60: =ROUND(E60*I60,2) -> 0 | O60: =ROUND(E60*J60,2) -> 0 | P60: =SUM(M60:O60) -> 0
A61: 11-2 | C61: Dzesēšanas sistema C21/C22
A62: 11-2-1 | B62: 17-00000 | C62: Dzesēšanas sistēmas kompresora-kondensācijas bloks, Asami, Q.dz.=61,5kW, AMV6-O615 | D62: gab. | E62: 1 | K62: =SUM(H62:J62) -> 0 | L62: =ROUND(E62*F62,2) -> 0 | M62: =ROUND(E62*H62,2) -> 0 | N62: =ROUND(E62*I62,2) -> 0 | O62: =ROUND(E62*J62,2) -> 0 | P62: =SUM(M62:O62) -> 0
A63: 11-2-2 | B63: 17-00000 | C63: Antivibrācijas komplekts ar rāmi | D63: kpl. | E63: 1 | K63: =SUM(H63:J63) -> 0 | L63: =ROUND(E63*F63,2) -> 0 | M63: =ROUND(E63*H63,2) -> 0 | N63: =ROUND(E63*I63,2) -> 0 | O63: =ROUND(E63*J63,2) -> 0 | P63: =SUM(M63:O63) -> 0
A64: 11-2-3 | B64: 17-00000 | C64: Dzesēšanas sistēmas iekšējas bloks, Asami, Q.dz.=3,6 kW, AMV6-36CC | D64: gab. | E64: 1 | K64: =SUM(H64:J64) -> 0 | L64: =ROUND(E64*F64,2) -> 0 | M64: =ROUND(E64*H64,2) -> 0 | N64: =ROUND(E64*I64,2) -> 0 | O64: =ROUND(E64*J64,2) -> 0 | P64: =SUM(M64:O64) -> 0
