Workbook

Sheet Koptāme
C1: 7.pielikums
C2: Atklāta konkursa ID Nr.CNP/2024/45/ERAF
C3: nolikumam
B4: ATKLĀTA KONKURSA
B5: Ēkas pārbūve Raiņa ielā 27, Cēsīs, Cēsu novadā
B6: Iepirkuma identifikācijas Nr. CNP/2024/45/ERAF
B7: FINANŠU PIEDĀVĀJUMS / DARBU APJOMI
C8: APSTIPRINU
C10: (pasūtītāja paraksts un tā atšifrējums)
C11: Z.v.
A12: 2024.gada ___.________________
A14: Būvniecības koptāme
A16: Objekta nosaukums: Ēkas pārbūve
A17: Būves nosaukums: Ēkas pārbūve
A18: Objekta adrese: Raiņa iela 27, Cēsis, Cēsu novads
A19: Pasūtījuma Nr. :
A21: Nr.p.k. | B21: Objekta nosaukums | C21: Objekta izmaksas (euro)
A22: 1 | B22: Ēkas vienkāršotā atjaunošana ar lietošanas veida maiņu | C22: =Kopsavilkums!E33 -> 0
B23: kopā | C23: =SUM(C22) -> 0
A24: =[1]KT!B28 -> Pavisam būvniecības izmaksas, neskaitot PVN: | C24: =C23 -> 0
A25: PVN (21%) | C25: =C23*21% -> 0
A26: =[1]KT!B30 -> Pavisam būvniecības izmaksas: | C26: =C23+C25 -> 0
A31: Sastādīja:
C32: (paraksts un tā atšifrējums, datums)
A33: Sertifikāta Nr.:
A36: Pārbaudīja:
C37: (paraksts un tā atšifrējums, datums)

Sheet Kopsavilkums
A1: Kopsavilkuma aprēķins Nr.1
A2: Ēkas pārbūve Raiņa ielā 27, Cēsīs, Cēsu novadā
A3: Vispārējie būvdarbi. Specializētie darbi.
A4: (darba veids vai konstruktīvā elementa nosaukums)
A6: Objekta nosaukums: | C6: Ēkas pārbūve
A7: Būves nosaukums: | C7: Ēkas pārbūve
A8: Objekta adrese: | C8: Raiņa iela 27, Cēsis, Cēsu novads
A9: Pasūtījuma Nr.:
C10: Par kopējo summu, euro | E10: =E33 -> 0
C11: Kopējā darbietilpība, c/h | E11: =I29 -> 0
A13: Nr.p.k. | B13: Kods, tāmes Nr. | C13: Būvdarbu veids vai konstruktīvā elementa nosaukums | E13: Tāmes izmaksas (euro) | F13: Tai skaitā | I13: Darbietilpība (c/h)
F14: darba alga (euro) | G14: būvizstrādājumi (euro) | H14: mehānismi (euro)
A15: 1 | B15: 1 | C15: Demontāžas, sagatavošanās darbi | E15: =F15+G15+H15 -> 0 | F15: =Nr.1!M83 -> 0 | G15: =Nr.1!N83 -> 0 | H15: =Nr.1!O83 -> 0 | I15: =Nr.1!L83 -> 0
A16: 2 | B16: 2 | C16: Vispārējie būvdarbi | E16: =F16+G16+H16 -> 0 | F16: =Nr.2!M345 -> 0 | G16: =Nr.2!N345 -> 0 | H16: =Nr.2!O345 -> 0 | I16: =Nr.2!L345 -> 0
A17: 3 | B17: 3 | C17: Ceļi, laukumi un labiekārtojums | E17: =F17+G17+H17 -> 0 | F17: =Nr.3!M113 -> 0 | G17: =Nr.3!N113 -> 0 | H17: =Nr.3!O113 -> 0 | I17: =Nr.3!L113 -> 0
A18: 4 | B18: 4 | C18: Ugunsgrēka atklāšanas un trauksmes signalizācijas sistēma (UATS) | E18: =F18+G18+H18 -> 0 | F18: =Nr.4!M45 -> 0 | G18: =Nr.4!N45 -> 0 | H18: =Nr.4!O45 -> 0 | I18: =Nr.4!L45 -> 0
A19: 5 | B19: 5 | C19: Apsardzes signalizācijas un piekļuves kontroles sistēma (ESS-ASPK) | E19: =F19+G19+H19 -> 0 | F19: =Nr.5!M62 -> 0 | G19: =Nr.5!N62 -> 0 | H19: =Nr.5!O62 -> 0 | I19: =Nr.5!L62 -> 0
A20: 6 | B20: 6 | C20: Elektronisko sakaru inženiertīkli (ESS-TK) | E20: =F20+G20+H20 -> 0 | F20: =Nr.6!M53 -> 0 | G20: =Nr.6!N53 -> 0 | H20: =Nr.6!O53 -> 0 | I20: =Nr.6!L53 -> 0
A21: 7 | B21: 7 | C21: Videonovērošanas sistēma (ESS-VN) | E21: =F21+G21+H21 -> 0 | F21: =Nr.7!M37 -> 0 | G21: =Nr.7!N37 -> 0 | H21: =Nr.7!O37 -> 0 | I21: =Nr.7!L37 -> 0
A22: 8 | B22: 8 | C22: Ūdensapgāde un kanalizācija (iekšējā) | E22: =F22+G22+H22 -> 0 | F22: =Nr.8!M116 -> 0 | G22: =Nr.8!N116 -> 0 | H22: =Nr.8!O116 -> 0 | I22: =Nr.8!L116 -> 0
A23: 9 | B23: 9 | C23: Apkure | E23: =F23+G23+H23 -> 0 | F23: =Nr.9!M197 -> 0 | G23: =Nr.9!N197 -> 0 | H23: =Nr.9!O197 -> 0 | I23: =Nr.9!L197 -> 0
A24: 10 | B24: 10 | C24: Ventilācija | E24: =F24+G24+H24 -> 0 | F24: =Nr.10!M216 -> 0 | G24: =Nr.10!N216 -> 0 | H24: =Nr.10!O216 -> 0 | I24: =Nr.10!L216 -> 0
A25: 11 | B25: 11 | C25: Kondicionēšana | E25: =F25+G25+H25 -> 0 | F25: =Nr.11!M161 -> 0 | G25: =Nr.11!N161 -> 0 | H25: =Nr.11!O161 -> 0 | I25: =Nr.11!L161 -> 0
A26: 12 | B26: 12 | C26: Siltummezgls | E26: =F26+G26+H26 -> 0 | F26: =Nr.12!M88 -> 0 | G26: =Nr.12!N88 -> 0 | H26: =Nr.12!O88 -> 0 | I26: =Nr.12!L88 -> 0
A27: 13 | B27: 13 | C27: Elektroapgāde | E27: =F27+G27+H27 -> 0 | F27: =Nr.13!M155 -> 0 | G27: =Nr.13!N155 -> 0 | H27: =Nr.13!O155 -> 0 | I27: =Nr.13!L155 -> 0
A28: 14 | B28: 14 | C28: Lietus kanalizācija (ārējā) | E28: =F28+G28+H28 -> 0 | F28: =Nr.14!M46 -> 0 | G28: =Nr.14!N46 -> 0 | H28: =Nr.14!O46 -> 0 | I28: =Nr.14!L46 -> 0
C29: Kopā : | E29: =SUM(E15:E28) -> 0 | F29: =SUM(F15:F28) -> 0 | G29: =SUM(G15:G28) -> 0 | H29: =SUM(H15:H28) -> 0 | I29: =SUM(I15:I28) -> 0
C30: Virsizdevumi (%) | E30: =ROUND(E29*D30,2) -> 0
C31: t.sk.darba aizsardzība | E31: =ROUND(E30*D31,2) -> 0
C32: Peļņa (%) | E32: =ROUND(E29*D32,2) -> 0
C33: Pavisam kopā: | E33: =E29+E30+E32 -> 0
A36: Sastādīja:
C37: (paraksts un tā atšifrējums, datums)
A38: Sertifikāta Nr.:
A41: Pārbaudīja:
C42: (paraksts un tā atšifrējums, datums)

Sheet Nr.1
N1: Ar grozījumiem, kas veikti Iepirkuma komisijs 2024. gada 11.septembra sēdē; 5. protokols
A2: Lokālā tāme Nr. 1
A3: Ēkas pārbūve Raiņa ielā 27, Cēsīs, Cēsu novadā
A4: Demontāžas, sagatavošanas darbi
A5: (būvdarbu veids vai konstruktīvā elementa nosaukums)
A7: =Kopsavilkums!A6 -> Objekta nosaukums: | C7: =Kopsavilkums!C6 -> Ēkas pārbūve
A8: =Kopsavilkums!A7 -> Būves nosaukums: | C8: =Kopsavilkums!C7 -> Ēkas pārbūve
A9: =Kopsavilkums!A8 -> Objekta adrese: | C9: =Kopsavilkums!C8 -> Raiņa iela 27, Cēsis, Cēsu novads
A10: =Kopsavilkums!A9 -> Pasūtījuma Nr.: | C10: =Kopsavilkums!C9 -> 0
K11: Tāmes izmaksas: | M11: Eur | N11: =P83 -> 0
A12: Tāme sastādīta 2024.gada tirgus cenās,pamatojoties uz AR, DOP daļas rasējumiem.
F13: Tāme sastādīta 2024. gada ___.______________
A15: Nr.p.k. | B15: Kods | C15: Būvdarbu nosaukums | D15: Mērvienība | E15: Daudzums | F15: Vienības izmaksas | L15: Kopā uz visu apjomu
F16: Laika norma (c/h) | G16: darba samaksas likme* (euro/h) | H16: darba alga | I16: būvizstrādājumi | J16: mehānismi | K16: kopā | L16: darbietilpība (c/h) | M16: darba alga | N16: būvizstrādājumi | O16: mehānismi | P16: summa
A17: 1 | B17: 2 | C17: 3 | D17: 4 | E17: 5 | F17: 6 | G17: 7 | H17: 8 | I17: 9 | J17: 10 | K17: 11 | L17: 12 | M17: 13 | N17: 14 | O17: 15 | P17: 16
A18: 1-1 | C18: BŪVLAUKUMA SAGATAVOŠANAS DARBI
A19: 1-1-1 | B19: 03-00000 | C19: Būvtāfeles izgatavošana un montāža | D19: gb. | E19: 1 | K19: =ROUND(J19+I19+H19,2) -> 0 | L19: =ROUND(F19*E19,2) -> 0 | M19: =ROUND(H19*E19,2) -> 0 | N19: =ROUND(I19*E19,2) -> 0 | O19: =ROUND(J19*E19,2) -> 0 | P19: =ROUND(O19+N19+M19,2) -> 0
A20: 1-1-2 | B20: 03-01000 | C20: Mobīlā žoga h=1,8m montāža, demontāža | D20: m | E20: 187 | K20: =ROUND(J20+I20+H20,2) -> 0 | L20: =ROUND(F20*E20,2) -> 0 | M20: =ROUND(H20*E20,2) -> 0 | N20: =ROUND(I20*E20,2) -> 0 | O20: =ROUND(J20*E20,2) -> 0 | P20: =ROUND(O20+N20+M20,2) -> 0
A21: 1-1-3 | B21: 03-00000 | C21: Pagaidu ugunsdrošības stendu montāža | D21: gb. | E21: 1 | K21: =ROUND(J21+I21+H21,2) -> 0 | L21: =ROUND(F21*E21,2) -> 0 | M21: =ROUND(H21*E21,2) -> 0 | N21: =ROUND(I21*E21,2) -> 0 | O21: =ROUND(J21*E21,2) -> 0 | P21: =ROUND(O21+N21+M21,2) -> 0
A22: 1-1-4 | B22: 03-00000 | C22: Pagaidu norāžu – ceļa zīmju izvietošana saskaņojot ar pasūtītāju | D22: kpl. | E22: 1 | K22: =ROUND(J22+I22+H22,2) -> 0 | L22: =ROUND(F22*E22,2) -> 0 | M22: =ROUND(H22*E22,2) -> 0 | N22: =ROUND(I22*E22,2) -> 0 | O22: =ROUND(J22*E22,2) -> 0 | P22: =ROUND(O22+N22+M22,2) -> 0
A23: 1-1-5 | B23: 03-00000 | C23: Pagaidu prožektori būvlaukumā | D23: gb | E23: 4 | K23: =ROUND(J23+I23+H23,2) -> 0 | L23: =ROUND(F23*E23,2) -> 0 | M23: =ROUND(H23*E23,2) -> 0 | N23: =ROUND(I23*E23,2) -> 0 | O23: =ROUND(J23*E23,2) -> 0 | P23: =ROUND(O23+N23+M23,2) -> 0
A24: 1-1-6 | B24: 03-00000 | C24: Smēķēšanas vietas ierīkošana | D24: kpl. | E24: 1 | K24: =ROUND(J24+I24+H24,2) -> 0 | L24: =ROUND(F24*E24,2) -> 0 | M24: =ROUND(H24*E24,2) -> 0 | N24: =ROUND(I24*E24,2) -> 0 | O24: =ROUND(J24*E24,2) -> 0 | P24: =ROUND(O24+N24+M24,2) -> 0
A25: 1-1-7 | C25: Pagaidu ēkas un būves
A26: 1-1-8 | B26: 03-00000 | C26: Vadības biroja moduļa uzstādīšana, demontāža, ieskaitot transporta un celšanas mehānismu izmaksas | D26: gb | E26: 1 | K26: =ROUND(J26+I26+H26,2) -> 0 | L26: =ROUND(F26*E26,2) -> 0 | M26: =ROUND(H26*E26,2) -> 0 | N26: =ROUND(I26*E26,2) -> 0 | O26: =ROUND(J26*E26,2) -> 0 | P26: =ROUND(O26+N26+M26,2) -> 0
A27: 1-1-9 | B27: 03-00000 | C27: Strādnieku sadzīves telpas moduļa uzstādīšana, demontāža, ieskaitot transporta un celšanas mehānismu izmaksas | D27: gb | E27: 1 | K27: =ROUND(J27+I27+H27,2) -> 0 | L27: =ROUND(F27*E27,2) -> 0 | M27: =ROUND(H27*E27,2) -> 0 | N27: =ROUND(I27*E27,2) -> 0 | O27: =ROUND(J27*E27,2) -> 0 | P27: =ROUND(O27+N27+M27,2) -> 0
A28: 1-1-10 | B28: 03-00000 | C28: Instrumentu noliktavas moduļa uzstādīšana, demontāža, ieskaitot transporta un celšanas mehānismu izmaksas | D28: gb | E28: 1 | K28: =ROUND(J28+I28+H28,2) -> 0 | L28: =ROUND(F28*E28,2) -> 0 | M28: =ROUND(H28*E28,2) -> 0 | N28: =ROUND(I28*E28,2) -> 0 | O28: =ROUND(J28*E28,2) -> 0 | P28: =ROUND(O28+N28+M28,2) -> 0
A29: 1-1-11 | B29: 03-00000 | C29: BIO tualetes moduļa uzstādīšana, demontāža, ieskaitot transporta un celšanas mehānismu izmaksas | D29: kpl. | E29: 1 | K29: =ROUND(J29+I29+H29,2) -> 0 | L29: =ROUND(F29*E29,2) -> 0 | M29: =ROUND(H29*E29,2) -> 0 | N29: =ROUND(I29*E29,2) -> 0 | O29: =ROUND(J29*E29,2) -> 0 | P29: =ROUND(O29+N29+M29,2) -> 0
A30: 1-1-12 | B30: 03-00000 | C30: Pagaidu elektropieslēgums un skaitītājs | D30: gb | E30: 1 | K30: =ROUND(J30+I30+H30,2) -> 0 | L30: =ROUND(F30*E30,2) -> 0 | M30: =ROUND(H30*E30,2) -> 0 | N30: =ROUND(I30*E30,2) -> 0 | O30: =ROUND(J30*E30,2) -> 0 | P30: =ROUND(O30+N30+M30,2) -> 0
A31: 1-1-13 | B31: 03-00000 | C31: Ūdens skaitītāja uzstādīšana | D31: gb | E31: 1 | K31: =ROUND(J31+I31+H31,2) -> 0 | L31: =ROUND(F31*E31,2) -> 0 | M31: =ROUND(H31*E31,2) -> 0 | N31: =ROUND(I31*E31,2) -> 0 | O31: =ROUND(J31*E31,2) -> 0 | P31: =ROUND(O31+N31+M31,2) -> 0
A32: 1-1-14 | C32: Būvlaukuma uzturēšana
A33: 1-1-15 | B33: 03-00000 | C33: Vadības biroja moduļa noma, 1gab. | D33: kpl. | E33: 1 | K33: =ROUND(J33+I33+H33,2) -> 0 | L33: =ROUND(F33*E33,2) -> 0 | M33: =ROUND(H33*E33,2) -> 0 | N33: =ROUND(I33*E33,2) -> 0 | O33: =ROUND(J33*E33,2) -> 0 | P33: =ROUND(O33+N33+M33,2) -> 0
A34: 1-1-16 | B34: 03-00000 | C34: Sadzīves moduļa noma, 1gab. | D34: kpl. | E34: 1 | K34: =ROUND(J34+I34+H34,2) -> 0 | L34: =ROUND(F34*E34,2) -> 0 | M34: =ROUND(H34*E34,2) -> 0 | N34: =ROUND(I34*E34,2) -> 0 | O34: =ROUND(J34*E34,2) -> 0 | P34: =ROUND(O34+N34+M34,2) -> 0
A35: 1-1-17 | B35: 03-00000 | C35: Instrumentu noliktavas moduļa noma 1gb. | D35: kpl. | E35: 1 | K35: =ROUND(J35+I35+H35,2) -> 0 | L35: =ROUND(F35*E35,2) -> 0 | M35: =ROUND(H35*E35,2) -> 0 | N35: =ROUND(I35*E35,2) -> 0 | O35: =ROUND(J35*E35,2) -> 0 | P35: =ROUND(O35+N35+M35,2) -> 0
A36: 1-1-18 | B36: 03-00000 | C36: BIO tualetes moduļa apkalpošana, noma 1gb. | D36: kpl. | E36: 1 | K36: =ROUND(J36+I36+H36,2) -> 0 | L36: =ROUND(F36*E36,2) -> 0 | M36: =ROUND(H36*E36,2) -> 0 | N36: =ROUND(I36*E36,2) -> 0 | O36: =ROUND(J36*E36,2) -> 0 | P36: =ROUND(O36+N36+M36,2) -> 0
A37: 1-1-19 | B37: 03-00000 | C37: Sadzīves atkritumu konteinera izvešana, noma 1gb. | D37: kpl. | E37: 1 | K37: =ROUND(J37+I37+H37,2) -> 0 | L37: =ROUND(F37*E37,2) -> 0 | M37: =ROUND(H37*E37,2) -> 0 | N37: =ROUND(I37*E37,2) -> 0 | O37: =ROUND(J37*E37,2) -> 0 | P37: =ROUND(O37+N37+M37,2) -> 0
A38: 1-1-20 | B38: 03-00000 | C38: Būvgružu konteineru izvešana, noma 1gb. | D38: kpl. | E38: 1 | K38: =ROUND(J38+I38+H38,2) -> 0 | L38: =ROUND(F38*E38,2) -> 0 | M38: =ROUND(H38*E38,2) -> 0 | N38: =ROUND(I38*E38,2) -> 0 | O38: =ROUND(J38*E38,2) -> 0 | P38: =ROUND(O38+N38+M38,2) -> 0
A39: 1-1-21 | B39: 03-00000 | C39: Maksa par elektroenerģiju | D39: kpl. | E39: 1 | K39: =ROUND(J39+I39+H39,2) -> 0 | L39: =ROUND(F39*E39,2) -> 0 | M39: =ROUND(H39*E39,2) -> 0 | N39: =ROUND(I39*E39,2) -> 0 | O39: =ROUND(J39*E39,2) -> 0 | P39: =ROUND(O39+N39+M39,2) -> 0
A40: 1-1-22 | B40: 03-00000 | C40: Maksa par ūdeni | D40: kpl. | E40: 1 | K40: =ROUND(J40+I40+H40,2) -> 0 | L40: =ROUND(F40*E40,2) -> 0 | M40: =ROUND(H40*E40,2) -> 0 | N40: =ROUND(I40*E40,2) -> 0 | O40: =ROUND(J40*E40,2) -> 0 | P40: =ROUND(O40+N40+M40,2) -> 0
A41: 1-1-23 | B41: 03-00000 | C41: Objekta apsardze (pagaidu videonovērošana) | D41: kpl. | E41: 1 | K41: =ROUND(J41+I41+H41,2) -> 0 | L41: =ROUND(F41*E41,2) -> 0 | M41: =ROUND(H41*E41,2) -> 0 | N41: =ROUND(I41*E41,2) -> 0 | O41: =ROUND(J41*E41,2) -> 0 | P41: =ROUND(O41+N41+M41,2) -> 0
A42: 1-1-24 | B42: 03-00000 | C42: Elektroniskā darba laika uzskaite (EDLUS sistēma) | D42: kpl. | E42: 1 | K42: =ROUND(J42+I42+H42,2) -> 0 | L42: =ROUND(F42*E42,2) -> 0 | M42: =ROUND(H42*E42,2) -> 0 | N42: =ROUND(I42*E42,2) -> 0 | O42: =ROUND(J42*E42,2) -> 0 | P42: =ROUND(O42+N42+M42,2) -> 0
...

Sheet Nr.2
N1: Ar grozījumiem, kas veikti Iepirkuma komisijas 2024. gada 5. septembra sēdē; 4. protokols; ar grozījumiem, kas veikti Iepirkuma komisijs 2024. gada 11.septembra sēdē; 5. protokols, ar grozījumiem, kas veikti Iepirkuma komisijs 2024. gada 16.septembra sēdē; 6. protokols
A2: Lokālā tāme Nr. 2
A3: Ēkas pārbūve Raiņa ielā 27, Cēsīs, Cēsu novadā
A4: Vispārējie būvdarbi.
A5: (būvdarbu veids vai konstruktīvā elementa nosaukums)
D6: =Nr.1!D7 -> 0 | E6: =Nr.1!E7 -> 0 | F6: =Nr.1!F7 -> 0 | G6: =Nr.1!G7 -> 0 | H6: =Nr.1!H7 -> 0 | I6: =Nr.1!I7 -> 0 | J6: =Nr.1!J7 -> 0 | K6: =Nr.1!K7 -> 0 | ... N6: =Nr.1!N7 -> 0
A7: =Nr.1!A7 -> Objekta nosaukums: | C7: =Nr.1!C7 -> Ēkas pārbūve | D7: =Nr.1!D8 -> 0 | E7: =Nr.1!E8 -> 0 | F7: =Nr.1!F8 -> 0 | G7: =Nr.1!G8 -> 0 | H7: =Nr.1!H8 -> 0 | I7: =Nr.1!I8 -> 0 | J7: =Nr.1!J8 -> 0 | K7: =Nr.1!K8 -> 0 | ... N7: =Nr.1!N8 -> 0
A8: =Nr.1!A8 -> Būves nosaukums: | C8: =Nr.1!C8 -> Ēkas pārbūve | D8: =Nr.1!D9 -> 0 | E8: =Nr.1!E9 -> 0 | F8: =Nr.1!F9 -> 0 | G8: =Nr.1!G9 -> 0 | H8: =Nr.1!H9 -> 0 | I8: =Nr.1!I9 -> 0 | J8: =Nr.1!J9 -> 0 | K8: =Nr.1!K9 -> 0 | ... N8: =Nr.1!N9 -> 0
A9: =Nr.1!A9 -> Objekta adrese: | C9: =Nr.1!C9 -> Raiņa iela 27, Cēsis, Cēsu novads | D9: =Nr.1!D10 -> 0 | E9: =Nr.1!E10 -> 0 | F9: =Nr.1!F10 -> 0 | G9: =Nr.1!G10 -> 0 | H9: =Nr.1!H10 -> 0 | I9: =Nr.1!I10 -> 0 | J9: =Nr.1!J10 -> 0 | K9: =Nr.1!K10 -> 0 | ... N9: =Nr.1!N10 -> 0
A10: =Nr.1!A10 -> Pasūtījuma Nr.: | C10: =Nr.1!C10 -> 0
K11: Tāmes izmaksas: | M11: Eur | N11: =P345 -> 0
A12: Tāme sastādīta 2024.gada tirgus cenās,pamatojoties uz AR, BK daļas rasējumiem.
F13: Tāme sastādīta 2024. gada ___.________________
A15: Nr.p.k. | B15: Kods | C15: Būvdarbu nosaukums | D15: Mērvienība | E15: Daudzums | F15: Vienības izmaksas | L15: Kopā uz visu apjomu
F16: Laika norma (c/h) | G16: darba samaksas likme* (euro/h) | H16: darba alga | I16: būvizstrādājumi | J16: mehānismi | K16: kopā | L16: darbietilpība (c/h) | M16: darba alga | N16: būvizstrādājumi | O16: mehānismi | P16: summa
A17: 1 | B17: 2 | C17: 3 | D17: 4 | E17: 5 | F17: 6 | G17: 7 | H17: 8 | I17: 9 | J17: 10 | K17: 11 | L17: 12 | M17: 13 | N17: 14 | O17: 15 | P17: 16
A18: 2-1 | C18: COKOLS
A19: 2-1-1 | B19: 08-00000 | C19: Pamatu atrakšana mehanizēti, grunti utilizēt. | D19: m³ | E19: 110.16 | L19: =ROUND(F19*E19,2) -> 0 | M19: =ROUND(H19*E19,2) -> 0 | N19: =ROUND(I19*E19,2) -> 0 | O19: =ROUND(J19*E19,2) -> 0 | P19: =ROUND(O19+N19+M19,2) -> 0
A20: 2-1-2 | B20: 08-00000 | C20: Pamatu atrakšana izmantojot roku darbu, grunti utilizēt. | D20: m³ | E20: 54 | L20: =ROUND(F20*E20,2) -> 0 | M20: =ROUND(H20*E20,2) -> 0 | N20: =ROUND(I20*E20,2) -> 0 | O20: =ROUND(J20*E20,2) -> 0 | P20: =ROUND(O20+N20+M20,2) -> 0
A21: 2-1-3 | B21: 08-00000 | C21: Nokrišņu ūdens līmeņa pazemināšana tranšejās | D21: kpl. | E21: 1 | L21: =ROUND(F21*E21,2) -> 0 | M21: =ROUND(H21*E21,2) -> 0 | N21: =ROUND(I21*E21,2) -> 0 | O21: =ROUND(J21*E21,2) -> 0 | P21: =ROUND(O21+N21+M21,2) -> 0
A22: 2-1-4 | B22: 08-00000 | C22: Pamatu attīrīšana no nenoturīgā apmetuma, sūnām, zemes atliekām, u.c. | D22: m² | E22: 113.66 | L22: =ROUND(F22*E22,2) -> 0 | M22: =ROUND(H22*E22,2) -> 0 | N22: =ROUND(I22*E22,2) -> 0 | O22: =ROUND(J22*E22,2) -> 0 | P22: =ROUND(O22+N22+M22,2) -> 0
A23: 2-1-5 | B23: 08-00000 | C23: Veidņu montāža demontāža (saliekamie inventārveidņi; palīgmateriāli) | D23: m² | E23: 141.66 | L23: =ROUND(F23*E23,2) -> 0 | M23: =ROUND(H23*E23,2) -> 0 | N23: =ROUND(I23*E23,2) -> 0 | O23: =ROUND(J23*E23,2) -> 0 | P23: =ROUND(O23+N23+M23,2) -> 0
A24: 2-1-6 | B24: 08-00000 | C24: Šķembu pamatne 150mm blietējot (šķembas fr-10-40mm) | D24: m³ | E24: 9.47 | L24: =ROUND(F24*E24,2) -> 0 | M24: =ROUND(H24*E24,2) -> 0 | N24: =ROUND(I24*E24,2) -> 0 | O24: =ROUND(J24*E24,2) -> 0 | P24: =ROUND(O24+N24+M24,2) -> 0
A25: 2-1-7 | B25: 08-00000 | C25: Pamatu apbetonējuma stiegrošana ar armatūru (armatūra B500B ; siešanas stieple, distanceri; palīgmateriāli) | D25: kg | E25: 536.84 | L25: =ROUND(F25*E25,2) -> 0 | M25: =ROUND(H25*E25,2) -> 0 | N25: =ROUND(I25*E25,2) -> 0 | O25: =ROUND(J25*E25,2) -> 0 | P25: =ROUND(O25+N25+M25,2) -> 0
A26: 2-1-8 | B26: 08-00000 | C26: Pamatu apbetonēšana (betons C30/37; XC3, XF2, betona sūknis; betonēšanas palīgmateriāli) | D26: m³ | E26: 20.77 | L26: =ROUND(F26*E26,2) -> 0 | M26: =ROUND(H26*E26,2) -> 0 | N26: =ROUND(I26*E26,2) -> 0 | O26: =ROUND(J26*E26,2) -> 0 | P26: =ROUND(O26+N26+M26,2) -> 0
A27: 2-1-9 | B27: 08-00000 | C27: Pamatu siltināšana ar ekstrudēta putupolistorola siltumizolācijas plāksnēm 100mm (ekstrudēta putupolistirola siltumizolācija 100mm XPS, λD≤0,034 (W/mK), PU līme ; palīgmateriāli) | D27: m² | E27: 141.66 | L27: =ROUND(F27*E27,2) -> 0 | M27: =ROUND(H27*E27,2) -> 0 | N27: =ROUND(I27*E27,2) -> 0 | O27: =ROUND(J27*E27,2) -> 0 | P27: =ROUND(O27+N27+M27,2) -> 0
A28: 2-1-10 | B28: 08-00000 | C28: Horizontālā siltinājuma iestrāde gruntī (ekstrudēta putupolistirola siltumizolācija 100mm XPS, λD≤0,034 (W/mK), palīgmateriāli) | D28: m² | E28: 126.28 | L28: =ROUND(F28*E28,2) -> 0 | M28: =ROUND(H28*E28,2) -> 0 | N28: =ROUND(I28*E28,2) -> 0 | O28: =ROUND(J28*E28,2) -> 0 | P28: =ROUND(O28+N28+M28,2) -> 0
A29: 2-1-11 | B29: 08-00000 | C29: Pamatu gruntēšana ar bitumena emulsiju (šķīdinātājus nesaturoša bitumena emulsija, palīgmateriāli) | D29: m² | E29: 141.66 | L29: =ROUND(F29*E29,2) -> 0 | M29: =ROUND(H29*E29,2) -> 0 | N29: =ROUND(I29*E29,2) -> 0 | O29: =ROUND(J29*E29,2) -> 0 | P29: =ROUND(O29+N29+M29,2) -> 0
A30: 2-1-12 | B30: 08-00000 | C30: Horizontālā hidroizolācija (Horizontāla hidroizolācijas lenta, palīgmateriāli) | D30: m² | E30: 34.29 | L30: =ROUND(F30*E30,2) -> 0 | M30: =ROUND(H30*E30,2) -> 0 | N30: =ROUND(I30*E30,2) -> 0 | O30: =ROUND(J30*E30,2) -> 0 | P30: =ROUND(O30+N30+M30,2) -> 0
... A34: 2-1-16 | B34: 08-00000 | C34: Apmešana ar dekoratīvo apmetumu (masā tonēts dekoratīvais apmetums, palīgmateriāli) | D34: m² | E34: 50.12 | L34: =ROUND(F34*E34,2) -> 0 | M34: =ROUND(H34*E34,2) -> 0 | N34: =ROUND(I34*E34,2) -> 0 | O34: =ROUND(J34*E34,2) -> 0 | P34: =ROUND(O34+N34+M34,2) -> 0
A35: 2-1-17 | C35: Cokola apdare durvīm un vitrīnām
A36: 2-1-18 | B36: 08-00000 | C36: Ekstrudēta putupolistorola siltumizolācijas plāksnes 30mm iestrāde (ekstrudēta putupolistirola siltumizolācija 30mm XPS, PU līme ; palīgmateriāli) | D36: m² | E36: 9.15 | L36: =ROUND(F36*E36,2) -> 0 | M36: =ROUND(H36*E36,2) -> 0 | N36: =ROUND(I36*E36,2) -> 0 | O36: =ROUND(J36*E36,2) -> 0 | P36: =ROUND(O36+N36+M36,2) -> 0
A37: 2-1-19 | B37: 08-00000 | C37: Ekstrudēta putupolistorola siltumizolācijas plāksnes 30/50mm iestrāde (ekstrudēta putupolistirola siltumizolācija 30/50mm XPS, PU līme ; palīgmateriāli) | D37: m² | E37: 9.15 | L37: =ROUND(F37*E37,2) -> 0 | M37: =ROUND(H37*E37,2) -> 0 | N37: =ROUND(I37*E37,2) -> 0 | O37: =ROUND(J37*E37,2) -> 0 | P37: =ROUND(O37+N37+M37,2) -> 0
A38: 2-1-20 | B38: 08-00000 | C38: Armētas dzelzsbetona apmales izbūve (betons C25/30, armatūra B500B, siešanas stieple, distanceri, betonēšanas palīgmateriāli | D38: m³ | E38: 0.65 | L38: =ROUND(F38*E38,2) -> 0 | M38: =ROUND(H38*E38,2) -> 0 | N38: =ROUND(I38*E38,2) -> 0 | O38: =ROUND(J38*E38,2) -> 0 | P38: =ROUND(O38+N38+M38,2) -> 0
A39: 2-2 | C39: FASĀDES
A40: 2-2-1 | B40: 08-00000 | C40: Sastatņu īre, montāža, demontāža | D40: kpl. | E40: 1 | L40: =ROUND(F40*E40,2) -> 0 | M40: =ROUND(H40*E40,2) -> 0 | N40: =ROUND(I40*E40,2) -> 0 | O40: =ROUND(J40*E40,2) -> 0 | P40: =ROUND(O40+N40+M40,2) -> 0
A41: 2-2-2 | B41: 08-00000 | C41: Dībeļu izraušanas tests | D41: kpl. | E41: 1 | L41: =ROUND(F41*E41,2) -> 0 | M41: =ROUND(H41*E41,2) -> 0 | N41: =ROUND(I41*E41,2) -> 0 | O41: =ROUND(J41*E41,2) -> 0 | P41: =ROUND(O41+N41+M41,2) -> 0
A42: 2-2-3 | B42: 08-00000 | C42: Fasāžu attīrīšana, lokāls plaisu un bojājumu remonts (gruntskrāsa minerālām virsmām ārdarbiem, armējošais stiklšķiedras siets fasādēm 160g/m2; līmjava, palīgmateriāli) | D42: m² | E42: 50 | L42: =ROUND(F42*E42,2) -> 0 | M42: =ROUND(H42*E42,2) -> 0 | N42: =ROUND(I42*E42,2) -> 0 | O42: =ROUND(J42*E42,2) -> 0 | P42: =ROUND(O42+N42+M42,2) -> 0
A43: 2-2-4 | B43: 08-00000 | C43: Ailu, ārsienu mūrēšana ar keramzītbetona blokiem, sienu tipas AS-1 (keramzītbetona bloki; stiegrojums, mūrjava; palīgmateriāli) | D43: m³ | E43: 21.18 | L43: =ROUND(F43*E43,2) -> 0 | M43: =ROUND(H43*E43,2) -> 0 | N43: =ROUND(I43*E43,2) -> 0 | O43: =ROUND(J43*E43,2) -> 0 | P43: =ROUND(O43+N43+M43,2) -> 0
A44: 2-2-5 | C44: Ventilējamās fasādes | L44: =ROUND(F44*E44,2) -> 0 | M44: =ROUND(H44*E44,2) -> 0 | N44: =ROUND(I44*E44,2) -> 0 | O44: =ROUND(J44*E44,2) -> 0 | P44: =ROUND(O44+N44+M44,2) -> 0
...

Sheet Nr.3
A2: Lokālā tāme Nr.3
A3: Ēkas pārbūve Raiņa ielā 27, Cēsīs, Cēsu novadā
A4: Ceļi, laukumi un labiekārtojums
A5: (būvdarbu veids vai konstruktīvā elementa nosaukums)
A6: =Kopsavilkums!A5 -> 0 | C6: =Kopsavilkums!C5 -> 0
A7: =Kopsavilkums!A6 -> Objekta nosaukums: | C7: =Kopsavilkums!C6 -> Ēkas pārbūve
A8: =Kopsavilkums!A7 -> Būves nosaukums: | C8: =Kopsavilkums!C7 -> Ēkas pārbūve
A9: =Kopsavilkums!A8 -> Objekta adrese: | C9: =Kopsavilkums!C8 -> Raiņa iela 27, Cēsis, Cēsu novads
A10: =Kopsavilkums!A9 -> Pasūtījuma Nr.:
K11: Tāmes izmaksas: | M11: Eur | N11: =P113 -> 0
A12: Tāme sastādīta 2024.gada tirgus cenās,pamatojoties uz GP,TS daļas rasējumiem.
F13: Tāme sastādīta 2024. gada ___._________________
A15: Nr.p.k. | B15: Kods | C15: Būvdarbu nosaukums | D15: Mērvienība | E15: Daudzums | F15: Vienības izmaksas | L15: Kopā uz visu apjomu
F16: Laika norma (c/h) | G16: darba samaksas likme* (euro/h) | H16: darba alga | I16: būvizstrādājumi | J16: mehānismi | K16: kopā | L16: darbietilpība (c/h) | M16: darba alga | N16: būvizstrādājumi | O16: mehānismi | P16: summa
A17: 1 | B17: 2 | C17: 3 | D17: 4 | E17: 5 | F17: 6 | G17: 7 | H17: 8 | I17: 9 | J17: 10 | K17: 11 | L17: 12 | M17: 13 | N17: 14 | O17: 15 | P17: 16
A18: 3-1 | C18: Sagatavošanas darbi | H18: =ROUND(G18*F18,2) -> 0 | K18: =ROUND(J18+I18+H18,2) -> 0 | L18: =ROUND(F18*E18,2) -> 0 | M18: =ROUND(H18*E18,2) -> 0 | N18: =ROUND(I18*E18,2) -> 0 | O18: =ROUND(J18*E18,2) -> 0 | P18: =ROUND(O18+N18+M18,2) -> 0
A19: 3-1-1 | B19: 35-00000 | C19: Izpilddokumentācijas sagatavošana | D19: kpl | E19: 1 | K19: =ROUND(J19+I19+H19,2) -> 0 | L19: =ROUND(F19*E19,2) -> 0 | M19: =ROUND(H19*E19,2) -> 0 | N19: =ROUND(I19*E19,2) -> 0 | O19: =ROUND(J19*E19,2) -> 0 | P19: =ROUND(O19+N19+M19,2) -> 0
A20: 3-1-2 | B20: 35-00000 | C20: Mobilizācija un sagatavošanās būvdarbu veikšanai | D20: kpl | E20: 1 | K20: =ROUND(J20+I20+H20,2) -> 0 | L20: =ROUND(F20*E20,2) -> 0 | M20: =ROUND(H20*E20,2) -> 0 | N20: =ROUND(I20*E20,2) -> 0 | O20: =ROUND(J20*E20,2) -> 0 | P20: =ROUND(O20+N20+M20,2) -> 0
A21: 3-1-3 | B21: 35-00000 | C21: Satiksmes organizācija būvdarbu laikā | D21: kpl | E21: 1 | K21: =ROUND(J21+I21+H21,2) -> 0 | L21: =ROUND(F21*E21,2) -> 0 | M21: =ROUND(H21*E21,2) -> 0 | N21: =ROUND(I21*E21,2) -> 0 | O21: =ROUND(J21*E21,2) -> 0 | P21: =ROUND(O21+N21+M21,2) -> 0
A22: 3-1-4 | B22: 35-00000 | C22: Uzmērīšana un nospraušana | D22: kpl | E22: 1 | K22: =ROUND(J22+I22+H22,2) -> 0 | L22: =ROUND(F22*E22,2) -> 0 | M22: =ROUND(H22*E22,2) -> 0 | N22: =ROUND(I22*E22,2) -> 0 | O22: =ROUND(J22*E22,2) -> 0 | P22: =ROUND(O22+N22+M22,2) -> 0
A23: 3-1-5 | B23: 35-00000 | C23: Koku ciršana un celmu laušana, kokmateriālus nododot zemes īpašniekam, atteikuma gadījumā aizvest uz Būvuzņēmēja atbērtni | D23: gb | E23: 1 | K23: =ROUND(J23+I23+H23,2) -> 0 | L23: =ROUND(F23*E23,2) -> 0 | M23: =ROUND(H23*E23,2) -> 0 | N23: =ROUND(I23*E23,2) -> 0 | O23: =ROUND(J23*E23,2) -> 0 | P23: =ROUND(O23+N23+M23,2) -> 0
A24: 3-1-6 | B24: 35-00000 | C24: Koku aizsardzība būvdarbu laikā (atb. DOP) | D24: gb | E24: 1 | K24: =ROUND(J24+I24+H24,2) -> 0 | L24: =ROUND(F24*E24,2) -> 0 | M24: =ROUND(H24*E24,2) -> 0 | N24: =ROUND(I24*E24,2) -> 0 | O24: =ROUND(J24*E24,2) -> 0 | P24: =ROUND(O24+N24+M24,2) -> 0
A25: 2-1-9 | B25: 35-00000 | C25: Grants seguma demontāža un utilizācija, hvid 15cm | D25: m3 | E25: 120.45 | K25: =ROUND(J25+I25+H25,2) -> 0 | L25: =ROUND(F25*E25,2) -> 0 | M25: =ROUND(H25*E25,2) -> 0 | N25: =ROUND(I25*E25,2) -> 0 | O25: =ROUND(J25*E25,2) -> 0 | P25: =ROUND(O25+N25+M25,2) -> 0
A26: 2-1-10 | B26: 35-00000 | C26: Esošā žoga saudzīga demontāža un nogādāšna pasūtītāja norādītajā vietā. | D26: kpl | E26: 1 | K26: =ROUND(J26+I26+H26,2) -> 0 | L26: =ROUND(F26*E26,2) -> 0 | M26: =ROUND(H26*E26,2) -> 0 | N26: =ROUND(I26*E26,2) -> 0 | O26: =ROUND(J26*E26,2) -> 0 | P26: =ROUND(O26+N26+M26,2) -> 0
A27: 3-2 | C27: Zemes darbi (ceļi, laukumu) | K27: =ROUND(J27+I27+H27,2) -> 0 | L27: =ROUND(F27*E27,2) -> 0 | M27: =ROUND(H27*E27,2) -> 0 | N27: =ROUND(I27*E27,2) -> 0 | O27: =ROUND(J27*E27,2) -> 0 | P27: =ROUND(O27+N27+M27,2) -> 0
A28: 3-2-1 | B28: 35-00000 | C28: Zemes klātnes ierakuma būvniecība, t.sk. Materiāli būvbedru sienu nostiprināšanai (ja nepieciešams), grunti aizvedot uz Būvuzņēmēja atbērtni | D28: m3 | E28: 558.9 | K28: =ROUND(J28+I28+H28,2) -> 0 | L28: =ROUND(F28*E28,2) -> 0 | M28: =ROUND(H28*E28,2) -> 0 | N28: =ROUND(I28*E28,2) -> 0 | O28: =ROUND(J28*E28,2) -> 0 | P28: =ROUND(O28+N28+M28,2) -> 0
A29: 3-3 | C29: Brauktuves seguma izbūve (bruģis bez fāzes) | K29: =ROUND(J29+I29+H29,2) -> 0 | L29: =ROUND(F29*E29,2) -> 0 | M29: =ROUND(H29*E29,2) -> 0 | N29: =ROUND(I29*E29,2) -> 0 | O29: =ROUND(J29*E29,2) -> 0 | P29: =ROUND(O29+N29+M29,2) -> 0
A30: 3-3-1 | B30: 35-00000 | C30: Betona bruģa bez fāzes seguma izbūve, h=6cm | D30: m2 | E30: 653.01 | K30: =ROUND(J30+I30+H30,2) -> 0 | L30: =ROUND(F30*E30,2) -> 0 | M30: =ROUND(H30*E30,2) -> 0 | N30: =ROUND(I30*E30,2) -> 0 | O30: =ROUND(J30*E30,2) -> 0 | P30: =ROUND(O30+N30+M30,2) -> 0
A31: 3-3-2 | B31: 35-00000 | C31: Minerālmateriālu izsiju izlīdzinošais slānis fr.(2/8), h(vid)=3...5cm | D31: m3 | E31: 32.65 | K31: =ROUND(J31+I31+H31,2) -> 0 | L31: =ROUND(F31*E31,2) -> 0 | M31: =ROUND(H31*E31,2) -> 0 | N31: =ROUND(I31*E31,2) -> 0 | O31: =ROUND(J31*E31,2) -> 0 | P31: =ROUND(O31+N31+M31,2) -> 0
A32: 3-3-3 | B32: 35-00000 | C32: Minerālmateriālu maisījums 0/45, h=10cm, AADT j,smagie <100 | D32: m3 | E32: 65.31 | K32: =ROUND(J32+I32+H32,2) -> 0 | L32: =ROUND(F32*E32,2) -> 0 | M32: =ROUND(H32*E32,2) -> 0 | N32: =ROUND(I32*E32,2) -> 0 | O32: =ROUND(J32*E32,2) -> 0 | P32: =ROUND(O32+N32+M32,2) -> 0
A33: 3-3-4 | B33: 35-00000 | C33: Minerālmateriālu maisījums 0/56, h=15cm, AADT j,smagie <100, izbūvēt vairākās kartās | D33: m3 | E33: 97.96 | K33: =ROUND(J33+I33+H33,2) -> 0 | L33: =ROUND(F33*E33,2) -> 0 | M33: =ROUND(H33*E33,2) -> 0 | N33: =ROUND(I33*E33,2) -> 0 | O33: =ROUND(J33*E33,2) -> 0 | P33: =ROUND(O33+N33+M33,2) -> 0
A34: 3-3-5 | B34: 35-00000 | C34: Drenējošā kārta, kf>1m/dnn, h=30cm (≥60MPa) | D34: m3 | E34: 205.51 | K34: =ROUND(J34+I34+H34,2) -> 0 | L34: =ROUND(F34*E34,2) -> 0 | M34: =ROUND(H34*E34,2) -> 0 | N34: =ROUND(I34*E34,2) -> 0 | O34: =ROUND(J34*E34,2) -> 0 | P34: =ROUND(O34+N34+M34,2) -> 0
A35: 3-4 | C35: Brauktuves seguma izbūve (klinker) | K35: =ROUND(J35+I35+H35,2) -> 0 | L35: =ROUND(F35*E35,2) -> 0 | M35: =ROUND(H35*E35,2) -> 0 | N35: =ROUND(I35*E35,2) -> 0 | O35: =ROUND(J35*E35,2) -> 0 | P35: =ROUND(O35+N35+M35,2) -> 0
A36: 3-4-1 | B36: 35-00000 | C36: Klinker bruģa seguma izbūve | D36: m2 | E36: 177 | K36: =ROUND(J36+I36+H36,2) -> 0 | L36: =ROUND(F36*E36,2) -> 0 | M36: =ROUND(H36*E36,2) -> 0 | N36: =ROUND(I36*E36,2) -> 0 | O36: =ROUND(J36*E36,2) -> 0 | P36: =ROUND(O36+N36+M36,2) -> 0
A37: 3-4-2 | B37: 35-00000 | C37: Minerālmateriālu izsiju izlīdzinošais slānis fr.(2/8), h(vid)=3...5cm | D37: m3 | E37: 8.85 | K37: =ROUND(J37+I37+H37,2) -> 0 | L37: =ROUND(F37*E37,2) -> 0 | M37: =ROUND(H37*E37,2) -> 0 | N37: =ROUND(I37*E37,2) -> 0 | O37: =ROUND(J37*E37,2) -> 0 | P37: =ROUND(O37+N37+M37,2) -> 0
A38: 3-4-3 | B38: 35-00000 | C38: Minerālmateriālu maisījums 0/45, h=10cm, AADT j,smagie <100 | D38: m3 | E38: 17.7 | K38: =ROUND(J38+I38+H38,2) -> 0 | L38: =ROUND(F38*E38,2) -> 0 | M38: =ROUND(H38*E38,2) -> 0 | N38: =ROUND(I38*E38,2) -> 0 | O38: =ROUND(J38*E38,2) -> 0 | P38: =ROUND(O38+N38+M38,2) -> 0
A39: 3-4-4 | B39: 35-00000 | C39: Minerālmateriālu maisījums 0/56, h=15cm, AADT j,smagie <100, izbūvēt vairākās kartās | D39: m3 | E39: 26.55 | K39: =ROUND(J39+I39+H39,2) -> 0 | L39: =ROUND(F39*E39,2) -> 0 | M39: =ROUND(H39*E39,2) -> 0 | N39: =ROUND(I39*E39,2) -> 0 | O39: =ROUND(J39*E39,2) -> 0 | P39: =ROUND(O39+N39+M39,2) -> 0
A40: 3-4-5 | B40: 35-00000 | C40: Drenējošā kārta, kf>1m/dnn, h=30cm (≥60MPa) | D40: m3 | E40: 59.1 | K40: =ROUND(J40+I40+H40,2) -> 0 | L40: =ROUND(F40*E40,2) -> 0 | M40: =ROUND(H40*E40,2) -> 0 | N40: =ROUND(I40*E40,2) -> 0 | O40: =ROUND(J40*E40,2) -> 0 | P40: =ROUND(O40+N40+M40,2) -> 0
A41: 3-5 | C41: Brauktuves seguma izbūve (eko bruģis) | K41: =ROUND(J41+I41+H41,2) -> 0 | L41: =ROUND(F41*E41,2) -> 0 | M41: =ROUND(H41*E41,2) -> 0 | N41: =ROUND(I41*E41,2) -> 0 | O41: =ROUND(J41*E41,2) -> 0 | P41: =ROUND(O41+N41+M41,2) -> 0
A42: 3-5-1 | B42: 35-00000 | C42: Esošā eko bruģa demontāža un izbūve, dobumu aizpildīšana. Neizbūvēto eko bruģi nogādāt pāsūtītāja norādītajā vietā. | D42: m2 | E42: 188.8 | K42: =ROUND(J42+I42+H42,2) -> 0 | L42: =ROUND(F42*E42,2) -> 0 | M42: =ROUND(H42*E42,2) -> 0 | N42: =ROUND(I42*E42,2) -> 0 | O42: =ROUND(J42*E42,2) -> 0 | P42: =ROUND(O42+N42+M42,2) -> 0
...

Sheet Nr.4
A2: Lokālā tāme Nr. 4
A3: Ēkas pārbūve Raiņa ielā 27, Cēsīs, Cēsu novadā
A4: Ugunsgrēka atklāšanas un trauksmes signalizācijas sistēma (UATS)
A5: (būvdarbu veids vai konstruktīvā elementa nosaukums)
D6: =Nr.3!D7 -> 0 | E6: =Nr.3!E7 -> 0 | F6: =Nr.3!F7 -> 0 | G6: =Nr.3!G7 -> 0 | H6: =Nr.3!H7 -> 0 | I6: =Nr.3!I7 -> 0 | J6: =Nr.3!J7 -> 0 | K6: =Nr.3!K7 -> 0 | ... N6: =Nr.3!N7 -> 0
A7: =Nr.3!A7 -> Objekta nosaukums: | C7: =Nr.3!C7 -> Ēkas pārbūve | D7: =Nr.3!D8 -> 0 | E7: =Nr.3!E8 -> 0 | F7: =Nr.3!F8 -> 0 | G7: =Nr.3!G8 -> 0 | H7: =Nr.3!H8 -> 0 | I7: =Nr.3!I8 -> 0 | J7: =Nr.3!J8 -> 0 | K7: =Nr.3!K8 -> 0 | ... N7: =Nr.3!N8 -> 0
A8: =Nr.3!A8 -> Būves nosaukums: | C8: =Nr.3!C8 -> Ēkas pārbūve | D8: =Nr.3!D9 -> 0 | E8: =Nr.3!E9 -> 0 | F8: =Nr.3!F9 -> 0 | G8: =Nr.3!G9 -> 0 | H8: =Nr.3!H9 -> 0 | I8: =Nr.3!I9 -> 0 | J8: =Nr.3!J9 -> 0 | K8: =Nr.3!K9 -> 0 | ... N8: =Nr.3!N9 -> 0
A9: =Nr.3!A9 -> Objekta adrese: | C9: =Nr.3!C9 -> Raiņa iela 27, Cēsis, Cēsu novads | I9: =Nr.3!I10 -> 0 | J9: =Nr.3!J10 -> 0 | K9: =Nr.3!K10 -> 0 | L9: =Nr.3!L10 -> 0 | M9: =Nr.3!M10 -> 0 | N9: =Nr.3!N10 -> 0
A10: =Nr.3!A10 -> Pasūtījuma Nr.:
K11: Tāmes izmaksas: | M11: Eur | N11: =P45 -> 0
A12: Tāme sastādīta 2024.gada tirgus cenās,pamatojoties uz UATS daļas rasējumiem.
F13: Tāme sastādīta 2024. gada ___._______________
A15: Nr.p.k. | B15: Kods | C15: Būvdarbu nosaukums | D15: Mērvienība | E15: Daudzums | F15: Vienības izmaksas | L15: Kopā uz visu apjomu
F16: Laika norma (c/h) | G16: darba samaksas likme* (euro/h) | H16: darba alga | I16: būvizstrādājumi | J16: mehānismi | K16: kopā | L16: darbietilpība (c/h) | M16: darba alga | N16: būvizstrādājumi | O16: mehānismi | P16: summa
A17: 1 | B17: 2 | C17: 3 | D17: 4 | E17: 5 | F17: 6 | G17: 7 | H17: 8 | I17: 9 | J17: 10 | K17: 11 | L17: 12 | M17: 13 | N17: 14 | O17: 15 | P17: 16
A18: 4-1 | C18: UATS SISTĒMA
A19: 4-1-1 | B19: 19-00000 | C19: Adrešu ugunsdrošības panelis iRIS8 (1-4) L-S, EN54-2/4, Teletek, iRIS8 (1-4)L-S / 31020066 | D19: gab. | E19: 1 | K19: =H19+I19+J19 -> 0 | L19: =ROUND(E19*F19,2) -> 0 | M19: =ROUND(H19*E19,2) -> 0 | N19: =ROUND(I19*E19,2) -> 0 | O19: =ROUND(J19*E19,2) -> 0 | P19: =O19+N19+M19 -> 0
A20: 4-1-2 | B20: 19-00000 | C20: Cilpas karte priekš iRIS8 un iRIS4, iRIS8 Loop TTE / 33000440 | D20: gab. | E20: 1 | K20: =H20+I20+J20 -> 0 | L20: =ROUND(E20*F20,2) -> 0 | M20: =ROUND(H20*E20,2) -> 0 | N20: =ROUND(I20*E20,2) -> 0 | O20: =ROUND(J20*E20,2) -> 0 | P20: =O20+N20+M20 -> 0
A21: 4-1-3 | B21: 19-00000 | C21: Akumulatoru kaste ar barošanas bloku Teletek IRIS PS72, IRIS PS72/ 31020046 | D21: gab. | E21: 1 | K21: =H21+I21+J21 -> 0 | L21: =ROUND(E21*F21,2) -> 0 | M21: =ROUND(H21*E21,2) -> 0 | N21: =ROUND(I21*E21,2) -> 0 | O21: =ROUND(J21*E21,2) -> 0 | P21: =O21+N21+M21 -> 0
A22: 4-1-4 | B22: 19-00000 | C22: Akumulatora baterija 12V 18Ah | D22: gab. | E22: 3 | K22: =H22+I22+J22 -> 0 | L22: =ROUND(E22*F22,2) -> 0 | M22: =ROUND(H22*E22,2) -> 0 | N22: =ROUND(I22*E22,2) -> 0 | O22: =ROUND(J22*E22,2) -> 0 | P22: =O22+N22+M22 -> 0
A23: 4-1-5 | B23: 19-00000 | C23: Programmators Teletek SensoIRIS - Programmēšanas ierīce priekš adrešu piešķiršanas SensoIRIS ierīcēm, SensoIRIS Progr / 31020032 | D23: gab. | E23: 1 | K23: =H23+I23+J23 -> 0 | L23: =ROUND(E23*F23,2) -> 0 | M23: =ROUND(H23*E23,2) -> 0 | N23: =ROUND(I23*E23,2) -> 0 | O23: =ROUND(J23*E23,2) -> 0 | P23: =O23+N23+M23 -> 0
A24: 4-1-6 | B24: 19-00000 | C24: Kārba ar indikātoru 75x75x22, RI9000 | D24: gab. | E24: 6 | K24: =H24+I24+J24 -> 0 | L24: =ROUND(E24*F24,2) -> 0 | M24: =ROUND(H24*E24,2) -> 0 | N24: =ROUND(I24*E24,2) -> 0 | O24: =ROUND(J24*E24,2) -> 0 | P24: =O24+N24+M24 -> 0
A25: 4-1-7 | B25: 19-00000 | C25: Adrešu dūmu detektors, SensoIRIS S130 IS / 31060049 | D25: gab. | E25: 78 | K25: =H25+I25+J25 -> 0 | L25: =ROUND(E25*F25,2) -> 0 | M25: =ROUND(H25*E25,2) -> 0 | N25: =ROUND(I25*E25,2) -> 0 | O25: =ROUND(J25*E25,2) -> 0 | P25: =O25+N25+M25 -> 0
A26: 4-1-8 | B26: 19-00000 | C26: Adrešu siltuma detektors, SensoIRIS T110 / 31060050 | D26: gab. | E26: 2 | K26: =H26+I26+J26 -> 0 | L26: =ROUND(E26*F26,2) -> 0 | M26: =ROUND(H26*E26,2) -> 0 | N26: =ROUND(I26*E26,2) -> 0 | O26: =ROUND(J26*E26,2) -> 0 | P26: =O26+N26+M26 -> 0
A27: 4-1-9 | B27: 19-00000 | C27: Adrešu detektoru bāze, SensoIRIS B124 / 31060047 | D27: gab. | E27: 53 | K27: =H27+I27+J27 -> 0 | L27: =ROUND(E27*F27,2) -> 0 | M27: =ROUND(H27*E27,2) -> 0 | N27: =ROUND(I27*E27,2) -> 0 | O27: =ROUND(J27*E27,2) -> 0 | P27: =O27+N27+M27 -> 0
A28: 4-1-10 | B28: 19-00000 | C28: Detektoru pamatne ar sirēnu un strobu, adrešu, SensoIRIS BSST IS / 32020021 | D28: gab. | E28: 27 | K28: =H28+I28+J28 -> 0 | L28: =ROUND(E28*F28,2) -> 0 | M28: =ROUND(H28*E28,2) -> 0 | N28: =ROUND(I28*E28,2) -> 0 | O28: =ROUND(J28*E28,2) -> 0 | P28: =O28+N28+M28 -> 0
A29: 4-1-11 | B29: 19-00000 | C29: Adrešu sirēna IP65, SensoIRIS WSOU IS-R / 32020007 | D29: gab. | E29: 2 | K29: =H29+I29+J29 -> 0 | L29: =ROUND(E29*F29,2) -> 0 | M29: =ROUND(H29*E29,2) -> 0 | N29: =ROUND(I29*E29,2) -> 0 | O29: =ROUND(J29*E29,2) -> 0 | P29: =O29+N29+M29 -> 0
A30: 4-1-12 | B30: 19-00000 | C30: Bāze priekš sirēnām IP65, SensoIRIS WSB IP65 / 31060062 | D30: gab. | E30: 2 | K30: =H30+I30+J30 -> 0 | L30: =ROUND(E30*F30,2) -> 0 | M30: =ROUND(H30*E30,2) -> 0 | N30: =ROUND(I30*E30,2) -> 0 | O30: =ROUND(J30*E30,2) -> 0 | P30: =O30+N30+M30 -> 0
... A44: 4-1-26 | B44: 19-00000 | C44: Izpilddokumentācijas sagatavošana | D44: kompl. | E44: 1 | K44: =H44+I44+J44 -> 0 | L44: =ROUND(E44*F44,2) -> 0 | M44: =ROUND(H44*E44,2) -> 0 | N44: =ROUND(I44*E44,2) -> 0 | O44: =ROUND(J44*E44,2) -> 0 | P44: =O44+N44+M44 -> 0
C45: Tiešās izmaksas kopā, t.sk. darba devēja sociālais nodoklis (23,59%) | L45: =SUM(L18:L44) -> 0 | M45: =SUM(M18:M44) -> 0 | N45: =SUM(N18:N44) -> 0 | O45: =SUM(O18:O44) -> 0 | P45: =SUM(P18:P44) -> 0
A48: =Nr.1!A86 -> Sastādīja: | C48: =Nr.1!C86 -> 0 | D48: =Nr.1!D86 -> 0 | E48: =Nr.1!E86 -> 0 | F48: =Nr.1!F86 -> 0 | G48: =Nr.1!G86 -> 0
A49: =Nr.1!A87 -> 0 | B49: =Nr.1!B87 -> 0 | C49: =Nr.1!C87 -> (paraksts un tā atšifrējums, datums) | D49: =Nr.1!D87 -> 0 | E49: =Nr.1!E87 -> 0 | F49: =Nr.1!F87 -> 0 | G49: =Nr.1!G87 -> 0
A50: =Nr.1!A88 -> Sertifikāta Nr.: | C50: =Nr.1!C88 -> 0 | D50: =Nr.1!D88 -> 0 | E50: =Nr.1!E88 -> 0 | F50: =Nr.1!F88 -> 0 | G50: =Nr.1!G88 -> 0
A51: =Nr.1!A89 -> 0 | B51: =Nr.1!B89 -> 0 | C51: =Nr.1!C89 -> 0 | D51: =Nr.1!D89 -> 0 | E51: =Nr.1!E89 -> 0 | F51: =Nr.1!F89 -> 0 | G51: =Nr.1!G89 -> 0
A52: =Nr.1!A90 -> 0 | B52: =Nr.1!B90 -> 0 | C52: =Nr.1!C90 -> 0 | D52: =Nr.1!D90 -> 0 | E52: =Nr.1!E90 -> 0 | F52: =Nr.1!F90 -> 0 | G52: =Nr.1!G90 -> 0
A53: =Nr.1!A91 -> Pārbaudīja: | C53: =Nr.1!C91 -> 0 | D53: =Nr.1!D91 -> 0 | E53: =Nr.1!E91 -> 0 | F53: =Nr.1!F91 -> 0 | G53: =Nr.1!G91 -> 0
A54: =Nr.1!A92 -> 0 | B54: =Nr.1!B92 -> 0 | C54: =Nr.1!C92 -> (paraksts un tā atšifrējums, datums) | D54: =Nr.1!D92 -> 0 | E54: =Nr.1!E92 -> 0 | F54: =Nr.1!F92 -> 0 | G54: =Nr.1!G92 -> 0

Sheet Nr.5
A2: Lokālā tāme Nr. 5
A3: =Nr.1!$A$3 -> Ēkas pārbūve Raiņa ielā 27, Cēsīs, Cēsu novadā
A4: Apsardzes signalizācijas un piekļuves kontroles sistēma (ESS-ASPK)
A5: (būvdarbu veids vai konstruktīvā elementa nosaukums)
A7: =Nr.1!A7 -> Objekta nosaukums: | C7: =Nr.1!C7 -> Ēkas pārbūve
A8: =Nr.1!A8 -> Būves nosaukums: | C8: =Nr.1!C8 -> Ēkas pārbūve
A9: =Nr.1!A9 -> Objekta adrese: | C9: =Nr.1!C9 -> Raiņa iela 27, Cēsis, Cēsu novads | I9: =Nr.1!I9 -> 0 | J9: =Nr.1!J9 -> 0 | K9: =Nr.1!K9 -> 0 | L9: =Nr.1!L9 -> 0 | M9: =Nr.1!M9 -> 0 | N9: =Nr.1!N9 -> 0
A10: =Nr.1!A10 -> Pasūtījuma Nr.: | C10: =Nr.1!C10 -> 0 | D10: =Nr.1!D10 -> 0 | E10: =Nr.1!E10 -> 0 | F10: =Nr.1!F10 -> 0 | G10: =Nr.1!G10 -> 0 | H10: =Nr.1!H10 -> 0 | I10: =Nr.1!I10 -> 0 | J10: =Nr.1!J10 -> 0 | ... N10: =Nr.1!N10 -> 0
K11: Tāmes izmaksas: | M11: Eur | N11: =P62 -> 0
A12: Tāme sastādīta 2024.gada tirgus cenās,pamatojoties uz ESS-ASPK daļas rasējumiem.
F13: Tāme sastādīta 2024. gada ___.__________________
A15: Nr.p.k. | B15: Kods | C15: Būvdarbu nosaukums | D15: Mērvienība | E15: Daudzums | F15: Vienības izmaksas | L15: Kopā uz visu apjomu
F16: Laika norma (c/h) | G16: darba samaksas likme* (euro/h) | H16: darba alga | I16: būvizstrādājumi | J16: mehānismi | K16: kopā | L16: darbietilpība (c/h) | M16: darba alga | N16: būvizstrādājumi | O16: mehānismi | P16: summa
A17: 1 | B17: 2 | C17: 3 | D17: 4 | E17: 5 | F17: 6 | G17: 7 | H17: 8 | I17: 9 | J17: 10 | K17: 11 | L17: 12 | M17: 13 | N17: 14 | O17: 15 | P17: 16
A18: 5-1 | C18: ESS-ASPK SISTĒMA
A19: 5-1-1 | B19: 19-00000 | C19: Apsardzes panelis 8-192 zonas 8 rajoni 5 PGM Paradox EVO, Paradox EVO192 | D19: gab. | E19: 1 | K19: =H19+I19+J19 -> 0 | L19: =ROUND(E19*F19,2) -> 0 | M19: =ROUND(H19*E19,2) -> 0 | N19: =ROUND(I19*E19,2) -> 0 | O19: =ROUND(J19*E19,2) -> 0 | P19: =O19+N19+M19 -> 0
A20: 5-1-2 | B20: 19-00000 | C20: 8 zonu paplašinātājs apsardzes paneļiem Paradox SP/EVO/MG/E, Paradox ZX8 | D20: gab. | E20: 7 | K20: =H20+I20+J20 -> 0 | L20: =ROUND(E20*F20,2) -> 0 | M20: =ROUND(H20*E20,2) -> 0 | N20: =ROUND(I20*E20,2) -> 0 | O20: =ROUND(J20*E20,2) -> 0 | P20: =O20+N20+M20 -> 0
A21: 5-1-3 | B21: 19-00000 | C21: Metāla korpus ar tamperslēdzi, kontroleriem, baterijām, transformatoriem, ar slēdzeni, 28x29x8cm, balts, Paradox AZ5030 | D21: gab. | E21: 7 | K21: =H21+I21+J21 -> 0 | L21: =ROUND(E21*F21,2) -> 0 | M21: =ROUND(H21*E21,2) -> 0 | N21: =ROUND(I21*E21,2) -> 0 | O21: =ROUND(J21*E21,2) -> 0 | P21: =O21+N21+M21 -> 0
A22: 5-1-4 | B22: 19-00000 | C22: Transformators ar drošinātāju 230-24VAC. 2.5A. 60VA, ME.TRE-60.75324/BSS | D22: gab. | E22: 1 | K22: =H22+I22+J22 -> 0 | L22: =ROUND(E22*F22,2) -> 0 | M22: =ROUND(H22*E22,2) -> 0 | N22: =ROUND(I22*E22,2) -> 0 | O22: =ROUND(J22*E22,2) -> 0 | P22: =O22+N22+M22 -> 0
A23: 5-1-5 | B23: 19-00000 | C23: Akumulators 12V 7Ah | D23: gab. | E23: 8 | K23: =H23+I23+J23 -> 0 | L23: =ROUND(E23*F23,2) -> 0 | M23: =ROUND(H23*E23,2) -> 0 | N23: =ROUND(I23*E23,2) -> 0 | O23: =ROUND(J23*E23,2) -> 0 | P23: =O23+N23+M23 -> 0
A24: 5-1-6 | B24: 19-00000 | C24: LCD tastatūra Paradox EVO K641, | D24: gab. | E24: 4 | K24: =H24+I24+J24 -> 0 | L24: =ROUND(E24*F24,2) -> 0 | M24: =ROUND(H24*E24,2) -> 0 | N24: =ROUND(I24*E24,2) -> 0 | O24: =ROUND(J24*E24,2) -> 0 | P24: =O24+N24+M24 -> 0
A25: 5-1-7 | B25: 19-00000 | C25: Apsardzes paneļa interneta modulis IP150+ | D25: gab. | E25: 1 | K25: =H25+I25+J25 -> 0 | L25: =ROUND(E25*F25,2) -> 0 | M25: =ROUND(H25*E25,2) -> 0 | N25: =ROUND(I25*E25,2) -> 0 | O25: =ROUND(J25*E25,2) -> 0 | P25: =O25+N25+M25 -> 0
A26: 5-1-8 | B26: 19-00000 | C26: ACM12 4 vadu piekļuves kontroles modulis Paradox | D26: gab. | E26: 7 | K26: =H26+I26+J26 -> 0 | L26: =ROUND(E26*F26,2) -> 0 | M26: =ROUND(H26*E26,2) -> 0 | N26: =ROUND(I26*E26,2) -> 0 | O26: =ROUND(J26*E26,2) -> 0 | P26: =O26+N26+M26 -> 0
A27: 5-1-9 | B27: 19-00000 | C27: Kontrolējams barošanas modulis 75W 4A, PS45 | D27: gab. | E27: 4 | K27: =H27+I27+J27 -> 0 | L27: =ROUND(E27*F27,2) -> 0 | M27: =ROUND(H27*E27,2) -> 0 | N27: =ROUND(I27*E27,2) -> 0 | O27: =ROUND(J27*E27,2) -> 0 | P27: =O27+N27+M27 -> 0
A28: 5-1-10 | B28: 19-00000 | C28: LTE autonomais apsardzes komunikators ar antenu, G17F | D28: gab. | E28: 1 | K28: =H28+I28+J28 -> 0 | L28: =ROUND(E28*F28,2) -> 0 | M28: =ROUND(H28*E28,2) -> 0 | N28: =ROUND(I28*E28,2) -> 0 | O28: =ROUND(J28*E28,2) -> 0 | P28: =O28+N28+M28 -> 0
A29: 5-1-11 | B29: 19-00000 | C29: Bezkontaktu karšu nolasītājs, R910 | D29: gab. | E29: 10 | K29: =H29+I29+J29 -> 0 | L29: =ROUND(E29*F29,2) -> 0 | M29: =ROUND(H29*E29,2) -> 0 | N29: =ROUND(I29*E29,2) -> 0 | O29: =ROUND(J29*E29,2) -> 0 | P29: =O29+N29+M29 -> 0
A30: 5-1-12 | B30: 19-00000 | C30: Piekļuves kontroles kartiņas | D30: gab. | E30: 100 | K30: =H30+I30+J30 -> 0 | L30: =ROUND(E30*F30,2) -> 0 | M30: =ROUND(H30*E30,2) -> 0 | N30: =ROUND(I30*E30,2) -> 0 | O30: =ROUND(J30*E30,2) -> 0 | P30: =O30+N30+M30 -> 0
... A44: 5-1-26 | B44: 19-00000 | C44: Montāžas palīgmateriāli | D44: kompl. | E44: 1 | K44: =H44+I44+J44 -> 0 | L44: =ROUND(E44*F44,2) -> 0 | M44: =ROUND(H44*E44,2) -> 0 | N44: =ROUND(I44*E44,2) -> 0 | O44: =ROUND(J44*E44,2) -> 0 | P44: =O44+N44+M44 -> 0
A45: 5-1-27 | C45: Apsardzes signalizācijas papildināšana Raiņa ielā 25
A46: 5-1-28 | B46: 19-00000 | C46: Kustības detektors (PIR) 18m 110° 25kg, SWAN QUAD | D46: gab. | E46: 1 | K46: =H46+I46+J46 -> 0 | L46: =ROUND(E46*F46,2) -> 0 | M46: =ROUND(H46*E46,2) -> 0 | N46: =ROUND(I46*E46,2) -> 0 | O46: =ROUND(J46*E46,2) -> 0 | P46: =O46+N46+M46 -> 0
A47: 5-1-29 | B47: 19-00000 | C47: Kombinētais detektors (PIR+GBD) 18m 90° PET 25kg, SWAN PGB | D47: gab. | E47: 1 | K47: =H47+I47+J47 -> 0 | L47: =ROUND(E47*F47,2) -> 0 | M47: =ROUND(H47*E47,2) -> 0 | N47: =ROUND(I47*E47,2) -> 0 | O47: =ROUND(J47*E47,2) -> 0 | P47: =O47+N47+M47 -> 0
A48: 5-1-30 | B48: 19-00000 | C48: Kronšteins Swan detektoriem | D48: gab. | E48: 2 | K48: =H48+I48+J48 -> 0 | L48: =ROUND(E48*F48,2) -> 0 | M48: =ROUND(H48*E48,2) -> 0 | N48: =ROUND(I48*E48,2) -> 0 | O48: =ROUND(J48*E48,2) -> 0 | P48: =O48+N48+M48 -> 0
A49: 5-1-31 | B49: 19-00000 | C49: Magnētiskais kontakts durvīm 43 x 17 x 10mm, KA 2071 | D49: gab. | E49: 2 | K49: =H49+I49+J49 -> 0 | L49: =ROUND(E49*F49,2) -> 0 | M49: =ROUND(H49*E49,2) -> 0 | N49: =ROUND(I49*E49,2) -> 0 | O49: =ROUND(J49*E49,2) -> 0 | P49: =O49+N49+M49 -> 0
A50: 5-1-32 | B50: 19-00000 | C50: Signalizācijas kabelis 8x0.22mm². LSZH | D50: m. | E50: 100 | K50: =H50+I50+J50 -> 0 | L50: =ROUND(E50*F50,2) -> 0 | M50: =ROUND(H50*E50,2) -> 0 | N50: =ROUND(I50*E50,2) -> 0 | O50: =ROUND(J50*E50,2) -> 0 | P50: =O50+N50+M50 -> 0
A51: 5-1-33 | B51: 19-00000 | C51: Gluda kabeļu aizsargcaurule. Ø20-25mm. LSZH | D51: m. | E51: 52 | K51: =H51+I51+J51 -> 0 | L51: =ROUND(E51*F51,2) -> 0 | M51: =ROUND(H51*E51,2) -> 0 | N51: =ROUND(I51*E51,2) -> 0 | O51: =ROUND(J51*E51,2) -> 0 | P51: =O51+N51+M51 -> 0
A52: 5-1-34 | B52: 19-00000 | C52: Cauruļu stiprinājumi un līkumi | D52: kompl. | E52: 1 | K52: =H52+I52+J52 -> 0 | L52: =ROUND(E52*F52,2) -> 0 | M52: =ROUND(H52*E52,2) -> 0 | N52: =ROUND(I52*E52,2) -> 0 | O52: =ROUND(J52*E52,2) -> 0 | P52: =O52+N52+M52 -> 0
A53: 5-1-35 | B53: 19-00000 | C53: Ugunsdroši aizdares materiāli | D53: kompl. | E53: 1 | K53: =H53+I53+J53 -> 0 | L53: =ROUND(E53*F53,2) -> 0 | M53: =ROUND(H53*E53,2) -> 0 | N53: =ROUND(I53*E53,2) -> 0 | O53: =ROUND(J53*E53,2) -> 0 | P53: =O53+N53+M53 -> 0
A54: 5-1-36 | B54: 19-00000 | C54: Montāžas palīgmateriāli | D54: kompl. | E54: 1 | K54: =H54+I54+J54 -> 0 | L54: =ROUND(E54*F54,2) -> 0 | M54: =ROUND(H54*E54,2) -> 0 | N54: =ROUND(I54*E54,2) -> 0 | O54: =ROUND(J54*E54,2) -> 0 | P54: =O54+N54+M54 -> 0
A55: 5-1-37 | B55: 19-00000 | C55: Izpilddokumentācijas sagatavošana | D55: kompl. | E55: 1 | K55: =H55+I55+J55 -> 0 | L55: =ROUND(E55*F55,2) -> 0 | M55: =ROUND(H55*E55,2) -> 0 | N55: =ROUND(I55*E55,2) -> 0 | O55: =ROUND(J55*E55,2) -> 0 | P55: =O55+N55+M55 -> 0
A56: 5-1-38 | C56: WC palīdzības izsaukuma sistēma
...

Sheet Nr.6
A2: Lokālā tāme Nr. 6
A3: =Nr.1!$A$3 -> Ēkas pārbūve Raiņa ielā 27, Cēsīs, Cēsu novadā
A4: Elektronisko sakaru inženiertīkli (ESS-TK)
A5: (būvdarbu veids vai konstruktīvā elementa nosaukums)
A7: =Nr.1!A7 -> Objekta nosaukums: | C7: =Nr.1!C7 -> Ēkas pārbūve | D7: =Nr.1!D7 -> 0 | E7: =Nr.1!E7 -> 0 | F7: =Nr.1!F7 -> 0 | G7: =Nr.1!G7 -> 0 | H7: =Nr.1!H7 -> 0 | I7: =Nr.1!I7 -> 0 | J7: =Nr.1!J7 -> 0 | ... N7: =Nr.1!N7 -> 0
A8: =Nr.1!A8 -> Būves nosaukums: | C8: =Nr.1!C8 -> Ēkas pārbūve
A9: =Nr.1!A9 -> Objekta adrese: | C9: =Nr.1!C9 -> Raiņa iela 27, Cēsis, Cēsu novads
A10: =Nr.1!A10 -> Pasūtījuma Nr.: | C10: =Nr.1!C10 -> 0 | I10: =Nr.1!I10 -> 0 | J10: =Nr.1!J10 -> 0 | K10: =Nr.1!K10 -> 0 | L10: =Nr.1!L10 -> 0 | M10: =Nr.1!M10 -> 0 | N10: =Nr.1!N10 -> 0
K11: Tāmes izmaksas: | M11: Eur | N11: =P53 -> 0
A12: Tāme sastādīta 2024.gada tirgus cenās,pamatojoties uz ESS-TK daļas rasējumiem.
F13: Tāme sastādīta 2024. gada ___.___________________
A15: Nr.p.k. | B15: Kods | C15: Būvdarbu nosaukums | D15: Mērvienība | E15: Daudzums | F15: Vienības izmaksas | L15: Kopā uz visu apjomu
F16: Laika norma (c/h) | G16: darba samaksas likme* (euro/h) | H16: darba alga | I16: būvizstrādājumi | J16: mehānismi | K16: kopā | L16: darbietilpība (c/h) | M16: darba alga | N16: būvizstrādājumi | O16: mehānismi | P16: summa
A17: 1 | B17: 2 | C17: 3 | D17: 4 | E17: 5 | F17: 6 | G17: 7 | H17: 8 | I17: 9 | J17: 10 | K17: 11 | L17: 12 | M17: 13 | N17: 14 | O17: 15 | P17: 16
A18: 6-1 | C18: ESS-TK SISTĒMA
A19: 6-1-1 | B19: 19-00000 | C19: 19" Komutācijas skapis 32U 600×600mm | D19: gab. | E19: 1 | K19: =H19+I19+J19 -> 0 | L19: =ROUND(E19*F19,2) -> 0 | M19: =ROUND(H19*E19,2) -> 0 | N19: =ROUND(I19*E19,2) -> 0 | O19: =ROUND(J19*E19,2) -> 0 | P19: =O19+N19+M19 -> 0
A20: 6-1-2 | B20: 19-00000 | C20: 19'' Ventilatoru bloks ar 2 ventilatoriem un termostatu | D20: gab. | E20: 1 | K20: =H20+I20+J20 -> 0 | L20: =ROUND(E20*F20,2) -> 0 | M20: =ROUND(H20*E20,2) -> 0 | N20: =ROUND(I20*E20,2) -> 0 | O20: =ROUND(J20*E20,2) -> 0 | P20: =O20+N20+M20 -> 0
A21: 6-1-3 | B21: 19-00000 | C21: 19" Optiskais panelis 1U / 24 duplex/ Izvelkams ar kaseti | D21: gab. | E21: 1 | K21: =H21+I21+J21 -> 0 | L21: =ROUND(E21*F21,2) -> 0 | M21: =ROUND(H21*E21,2) -> 0 | N21: =ROUND(I21*E21,2) -> 0 | O21: =ROUND(J21*E21,2) -> 0 | P21: =O21+N21+M21 -> 0
A22: 6-1-4 | B22: 19-00000 | C22: 19″ 24 portu ekranēts patch panelis Cat 5e, FTP, ekranēts, PP-5F-24 | D22: gab. | E22: 3 | K22: =H22+I22+J22 -> 0 | L22: =ROUND(E22*F22,2) -> 0 | M22: =ROUND(H22*E22,2) -> 0 | N22: =ROUND(I22*E22,2) -> 0 | O22: =ROUND(J22*E22,2) -> 0 | P22: =O22+N22+M22 -> 0
A23: 6-1-5 | B23: 19-00000 | C23: 19'' Kabeļu horizontālais organizators ar vāku | D23: gab. | E23: 4 | K23: =H23+I23+J23 -> 0 | L23: =ROUND(E23*F23,2) -> 0 | M23: =ROUND(H23*E23,2) -> 0 | N23: =ROUND(I23*E23,2) -> 0 | O23: =ROUND(J23*E23,2) -> 0 | P23: =O23+N23+M23 -> 0
A24: 6-1-6 | B24: 19-00000 | C24: 19'' Rozešu bloks ar 8 ligzdām | D24: gab. | E24: 1 | K24: =H24+I24+J24 -> 0 | L24: =ROUND(E24*F24,2) -> 0 | M24: =ROUND(H24*E24,2) -> 0 | N24: =ROUND(I24*E24,2) -> 0 | O24: =ROUND(J24*E24,2) -> 0 | P24: =O24+N24+M24 -> 0
A25: 6-1-7 | B25: 19-00000 | C25: 19'' DIN Montāžas sliede 1m | D25: gab. | E25: 1 | K25: =H25+I25+J25 -> 0 | L25: =ROUND(E25*F25,2) -> 0 | M25: =ROUND(H25*E25,2) -> 0 | N25: =ROUND(I25*E25,2) -> 0 | O25: =ROUND(J25*E25,2) -> 0 | P25: =O25+N25+M25 -> 0
A26: 6-1-8 | B26: 19-00000 | C26: Automātiskais slēdzis 1P C16A | D26: gab. | E26: 1 | K26: =H26+I26+J26 -> 0 | L26: =ROUND(E26*F26,2) -> 0 | M26: =ROUND(H26*E26,2) -> 0 | N26: =ROUND(I26*E26,2) -> 0 | O26: =ROUND(J26*E26,2) -> 0 | P26: =O26+N26+M26 -> 0
A27: 6-1-9 | B27: 19-00000 | C27: DIN Rozete 16A 250V | D27: gab. | E27: 1 | K27: =H27+I27+J27 -> 0 | L27: =ROUND(E27*F27,2) -> 0 | M27: =ROUND(H27*E27,2) -> 0 | N27: =ROUND(I27*E27,2) -> 0 | O27: =ROUND(J27*E27,2) -> 0 | P27: =O27+N27+M27 -> 0
A28: 6-1-10 | B28: 19-00000 | C28: Optiskās šķiedras pigtail 2m SM | D28: gab. | E28: 8 | K28: =H28+I28+J28 -> 0 | L28: =ROUND(E28*F28,2) -> 0 | M28: =ROUND(H28*E28,2) -> 0 | N28: =ROUND(I28*E28,2) -> 0 | O28: =ROUND(J28*E28,2) -> 0 | P28: =O28+N28+M28 -> 0
A29: 6-1-11 | B29: 19-00000 | C29: Adapteri simplex | D29: gab. | E29: 4 | K29: =H29+I29+J29 -> 0 | L29: =ROUND(E29*F29,2) -> 0 | M29: =ROUND(H29*E29,2) -> 0 | N29: =ROUND(I29*E29,2) -> 0 | O29: =ROUND(J29*E29,2) -> 0 | P29: =O29+N29+M29 -> 0
A30: 6-1-12 | B30: 19-00000 | C30: Adapteri duplex | D30: gab. | E30: 3 | K30: =H30+I30+J30 -> 0 | L30: =ROUND(E30*F30,2) -> 0 | M30: =ROUND(H30*E30,2) -> 0 | N30: =ROUND(I30*E30,2) -> 0 | O30: =ROUND(J30*E30,2) -> 0 | P30: =O30+N30+M30 -> 0
... A52: 6-1-34 | B52: 19-00000 | C52: Izpilddokumentācijas sagatavošana | D52: kompl. | E52: 1 | K52: =H52+I52+J52 -> 0 | L52: =ROUND(E52*F52,2) -> 0 | M52: =ROUND(H52*E52,2) -> 0 | N52: =ROUND(I52*E52,2) -> 0 | O52: =ROUND(J52*E52,2) -> 0 | P52: =O52+N52+M52 -> 0
C53: Tiešās izmaksas kopā, t.sk. darba devēja sociālais nodoklis (23,59%) | L53: =SUM(L18:L52) -> 0 | M53: =SUM(M18:M52) -> 0 | N53: =SUM(N18:N52) -> 0 | O53: =SUM(O18:O52) -> 0 | P53: =SUM(P18:P52) -> 0
A56: =Nr.1!A86 -> Sastādīja: | C56: =Nr.1!C86 -> 0 | D56: =Nr.1!D86 -> 0 | E56: =Nr.1!E86 -> 0 | F56: =Nr.1!F86 -> 0 | G56: =Nr.1!G86 -> 0
A57: =Nr.1!A87 -> 0 | B57: =Nr.1!B87 -> 0 | C57: =Nr.1!C87 -> (paraksts un tā atšifrējums, datums)
A58: =Nr.1!A88 -> Sertifikāta Nr.: | C58: =Nr.1!C88 -> 0 | D58: =Nr.1!D88 -> 0 | E58: =Nr.1!E88 -> 0 | F58: =Nr.1!F88 -> 0 | G58: =Nr.1!G88 -> 0
A59: =Nr.1!A89 -> 0 | B59: =Nr.1!B89 -> 0 | C59: =Nr.1!C89 -> 0 | D59: =Nr.1!D89 -> 0 | E59: =Nr.1!E89 -> 0 | F59: =Nr.1!F89 -> 0 | G59: =Nr.1!G89 -> 0
A60: =Nr.1!A90 -> 0 | B60: =Nr.1!B90 -> 0 | C60: =Nr.1!C90 -> 0 | D60: =Nr.1!D90 -> 0 | E60: =Nr.1!E90 -> 0 | F60: =Nr.1!F90 -> 0 | G60: =Nr.1!G90 -> 0
A61: =Nr.1!A91 -> Pārbaudīja: | C61: =Nr.1!C91 -> 0 | D61: =Nr.1!D91 -> 0 | E61: =Nr.1!E91 -> 0 | F61: =Nr.1!F91 -> 0 | G61: =Nr.1!G91 -> 0
A62: =Nr.1!A92 -> 0 | B62: =Nr.1!B92 -> 0 | C62: =Nr.1!C92 -> (paraksts un tā atšifrējums, datums)

Sheet Nr.7
A2: Lokālā tāme Nr. 7
A3: =Nr.6!$A$3 -> Ēkas pārbūve Raiņa ielā 27, Cēsīs, Cēsu novadā
A4: Videonovērošanas sistēma (ESS-VN)
A5: (būvdarbu veids vai konstruktīvā elementa nosaukums)
A7: =Nr.1!A7 -> Objekta nosaukums: | C7: =Nr.1!C7 -> Ēkas pārbūve
A8: =Nr.1!A8 -> Būves nosaukums: | C8: =Nr.1!C8 -> Ēkas pārbūve
A9: =Nr.1!A9 -> Objekta adrese: | C9: =Nr.1!C9 -> Raiņa iela 27, Cēsis, Cēsu novads | I9: =Nr.1!I9 -> 0 | J9: =Nr.1!J9 -> 0 | K9: =Nr.1!K9 -> 0 | L9: =Nr.1!L9 -> 0 | M9: =Nr.1!M9 -> 0 | N9: =Nr.1!N9 -> 0
A10: =Nr.1!A10 -> Pasūtījuma Nr.: | C10: =Nr.1!C10 -> 0 | D10: =Nr.1!D10 -> 0 | E10: =Nr.1!E10 -> 0 | F10: =Nr.1!F10 -> 0 | G10: =Nr.1!G10 -> 0 | H10: =Nr.1!H10 -> 0 | I10: =Nr.1!I10 -> 0 | J10: =Nr.1!J10 -> 0 | ... N10: =Nr.1!N10 -> 0
K11: Tāmes izmaksas: | M11: Eur | N11: =P37 -> 0
A12: Tāme sastādīta 2024.gada tirgus cenās,pamatojoties uz ESS-VN daļas rasējumiem.
F13: Tāme sastādīta 2024. gada ___.____________________
A15: Nr.p.k. | B15: Kods | C15: Būvdarbu nosaukums | D15: Mērvienība | E15: Daudzums | F15: Vienības izmaksas | L15: Kopā uz visu apjomu
F16: Laika norma (c/h) | G16: darba samaksas likme* (euro/h) | H16: darba alga | I16: būvizstrādājumi | J16: mehānismi | K16: kopā | L16: darbietilpība (c/h) | M16: darba alga | N16: būvizstrādājumi | O16: mehānismi | P16: summa
A17: 1 | B17: 2 | C17: 3 | D17: 4 | E17: 5 | F17: 6 | G17: 7 | H17: 8 | I17: 9 | J17: 10 | K17: 11 | L17: 12 | M17: 13 | N17: 14 | O17: 15 | P17: 16
A18: 7-1 | C18: ESS-VN SISTĒMA
A19: 7-1-1 | B19: 19-00000 | C19: 32 kanālu AcuSense NVR HikVision videoreģistrators, līdz 320 Mbps ienākošās joslas platums, 10-ch@8 MP, 4 SATA līdz 16TB, 16 kanālu vienlaicīga atskaņošana, DS-7732NI-M4 | D19: gab. | E19: 1 | K19: =H19+I19+J19 -> 0 | L19: =ROUND(E19*F19,2) -> 0 | M19: =ROUND(H19*E19,2) -> 0 | N19: =ROUND(I19*E19,2) -> 0 | O19: =ROUND(J19*E19,2) -> 0 | P19: =O19+N19+M19 -> 0
A20: 7-1-2 | B20: 19-00000 | C20: Cietais disks, 8TB videonovērošanas iekārtām, WD84PURZ | D20: gab. | E20: 3 | K20: =H20+I20+J20 -> 0 | L20: =ROUND(E20*F20,2) -> 0 | M20: =ROUND(H20*E20,2) -> 0 | N20: =ROUND(I20*E20,2) -> 0 | O20: =ROUND(J20*E20,2) -> 0 | P20: =O20+N20+M20 -> 0
A21: 7-1-3 | B21: 19-00000 | C21: Kupola tipa videokamera, 4 MP AcuSense, 120 dB true WDR, microSD līdz 512GB aizsardzība IP67, -30 °C to 60 °C, DS-2CD3346G2-ISU(2.8mm) | D21: gab. | E21: 6 | K21: =H21+I21+J21 -> 0 | L21: =ROUND(E21*F21,2) -> 0 | M21: =ROUND(H21*E21,2) -> 0 | N21: =ROUND(I21*E21,2) -> 0 | O21: =ROUND(J21*E21,2) -> 0 | P21: =O21+N21+M21 -> 0
A22: 7-1-4 | B22: 19-00000 | C22: Montāžas kārba kupola kamerām, DS-1280ZJ-DM46 | D22: gab. | E22: 6 | K22: =H22+I22+J22 -> 0 | L22: =ROUND(E22*F22,2) -> 0 | M22: =ROUND(H22*E22,2) -> 0 | N22: =ROUND(I22*E22,2) -> 0 | O22: =ROUND(J22*E22,2) -> 0 | P22: =O22+N22+M22 -> 0
A23: 7-1-5 | B23: 19-00000 | C23: Bullet tipa videokamera, 4 Mpx AcuSense, 120 dB true WDR, microSD līdz 512GB aizsardzība IP67, -30 °C to 60 °C, Color: 0.003 Lux @ (F1.4, AGC ON),B/W: 0 Lux with IR, DS-2CD3T46G2-ISU/SL(2.8mm) | D23: gab. | E23: 6 | K23: =H23+I23+J23 -> 0 | L23: =ROUND(E23*F23,2) -> 0 | M23: =ROUND(H23*E23,2) -> 0 | N23: =ROUND(I23*E23,2) -> 0 | O23: =ROUND(J23*E23,2) -> 0 | P23: =O23+N23+M23 -> 0
A24: 7-1-6 | B24: 19-00000 | C24: Montāžas kārba bullet tipa kamerām, DS-1280ZJ-S | D24: gab. | E24: 6 | K24: =H24+I24+J24 -> 0 | L24: =ROUND(E24*F24,2) -> 0 | M24: =ROUND(H24*E24,2) -> 0 | N24: =ROUND(I24*E24,2) -> 0 | O24: =ROUND(J24*E24,2) -> 0 | P24: =O24+N24+M24 -> 0
A25: 7-1-7 | B25: 19-00000 | C25: Pārsprieguma aizsardzība, CAT.6, POE++, 16kA maksimālā pārsprieguma aizsardzība, datu pārraide līdz 10 Gbps, joslas platums līdz 500MHz, MJ8-POE-C6A | D25: gab. | E25: 6 | K25: =H25+I25+J25 -> 0 | L25: =ROUND(E25*F25,2) -> 0 | M25: =ROUND(H25*E25,2) -> 0 | N25: =ROUND(I25*E25,2) -> 0 | O25: =ROUND(J25*E25,2) -> 0 | P25: =O25+N25+M25 -> 0
A26: 7-1-8 | B26: 19-00000 | C26: Tīkla PoE komutātors, 24 portu, maksimālais enerģijas patēriņš 250W, darbības temperatūra -5 °C to 40 °C, izmēri 485 x 43.7 x 285.4 mm, 24 x Passive PoE, 802.3af (PoE), 802.3at (PoE+), US-24-250W | D26: gab. | E26: 1 | K26: =H26+I26+J26 -> 0 | L26: =ROUND(E26*F26,2) -> 0 | M26: =ROUND(H26*E26,2) -> 0 | N26: =ROUND(I26*E26,2) -> 0 | O26: =ROUND(J26*E26,2) -> 0 | P26: =O26+N26+M26 -> 0
A27: 7-1-9 | B27: 19-00000 | C27: SFP savienojuma kabelis | D27: gab. | E27: 1 | K27: =H27+I27+J27 -> 0 | L27: =ROUND(E27*F27,2) -> 0 | M27: =ROUND(H27*E27,2) -> 0 | N27: =ROUND(I27*E27,2) -> 0 | O27: =ROUND(J27*E27,2) -> 0 | P27: =O27+N27+M27 -> 0
A28: 7-1-10 | B28: 19-00000 | C28: 19″ 24 portu ekranēts patch panelis Cat 6, FTP, ekranēts, PP-6F-24 | D28: gab. | E28: 1 | K28: =H28+I28+J28 -> 0 | L28: =ROUND(E28*F28,2) -> 0 | M28: =ROUND(H28*E28,2) -> 0 | N28: =ROUND(I28*E28,2) -> 0 | O28: =ROUND(J28*E28,2) -> 0 | P28: =O28+N28+M28 -> 0
A29: 7-1-11 | B29: 19-00000 | C29: Konektors RJ45 Cat 6, FTP, RJ45-6F | D29: kompl. | E29: 1 | K29: =H29+I29+J29 -> 0 | L29: =ROUND(E29*F29,2) -> 0 | M29: =ROUND(H29*E29,2) -> 0 | N29: =ROUND(I29*E29,2) -> 0 | O29: =ROUND(J29*E29,2) -> 0 | P29: =O29+N29+M29 -> 0
A30: 7-1-12 | B30: 19-00000 | C30: Datu savienojošais kabelis Cat 6 FTP. LSZH. 2m pelēks | D30: gab. | E30: 12 | K30: =H30+I30+J30 -> 0 | L30: =ROUND(E30*F30,2) -> 0 | M30: =ROUND(H30*E30,2) -> 0 | N30: =ROUND(I30*E30,2) -> 0 | O30: =ROUND(J30*E30,2) -> 0 | P30: =O30+N30+M30 -> 0
... A36: 7-1-18 | B36: 19-00000 | C36: Izpilddokumentācijas sagatavošana | D36: kompl. | E36: 1 | K36: =H36+I36+J36 -> 0 | L36: =ROUND(E36*F36,2) -> 0 | M36: =ROUND(H36*E36,2) -> 0 | N36: =ROUND(I36*E36,2) -> 0 | O36: =ROUND(J36*E36,2) -> 0 | P36: =O36+N36+M36 -> 0
C37: Tiešās izmaksas kopā, t.sk. darba devēja sociālais nodoklis (23,59%) | L37: =SUM(L18:L36) -> 0 | M37: =SUM(M18:M36) -> 0 | N37: =SUM(N18:N36) -> 0 | O37: =SUM(O18:O36) -> 0 | P37: =SUM(P18:P36) -> 0
A40: =Nr.1!A86 -> Sastādīja: | C40: =Nr.1!C86 -> 0
A41: =Nr.1!A87 -> 0 | B41: =Nr.1!B87 -> 0 | C41: =Nr.1!C87 -> (paraksts un tā atšifrējums, datums) | D41: =Nr.1!D87 -> 0 | E41: =Nr.1!E87 -> 0 | F41: =Nr.1!F87 -> 0 | G41: =Nr.1!G87 -> 0
A42: =Nr.1!A88 -> Sertifikāta Nr.: | C42: =Nr.1!C88 -> 0 | D42: =Nr.1!D88 -> 0 | E42: =Nr.1!E88 -> 0 | F42: =Nr.1!F88 -> 0 | G42: =Nr.1!G88 -> 0
A43: =Nr.1!A89 -> 0 | B43: =Nr.1!B89 -> 0 | C43: =Nr.1!C89 -> 0 | D43: =Nr.1!D89 -> 0 | E43: =Nr.1!E89 -> 0 | F43: =Nr.1!F89 -> 0 | G43: =Nr.1!G89 -> 0
A44: =Nr.1!A90 -> 0 | B44: =Nr.1!B90 -> 0 | C44: =Nr.1!C90 -> 0 | D44: =Nr.1!D90 -> 0 | E44: =Nr.1!E90 -> 0 | F44: =Nr.1!F90 -> 0 | G44: =Nr.1!G90 -> 0
A45: =Nr.1!A91 -> Pārbaudīja: | C45: =Nr.1!C91 -> 0
A46: =Nr.1!A92 -> 0 | B46: =Nr.1!B92 -> 0 | C46: =Nr.1!C92 -> (paraksts un tā atšifrējums, datums) | D46: =Nr.1!D92 -> 0 | E46: =Nr.1!E92 -> 0 | F46: =Nr.1!F92 -> 0 | G46: =Nr.1!G92 -> 0

Sheet Nr.8
N1: Ar grozījumiem, kas veikti Iepirkuma komisijas 2024. gada 5. septembra sēdē; 4. protokols
A2: Lokālā tāme Nr. 8
A3: Ēkas pārbūve Raiņa ielā 27, Cēsīs, Cēsu novadā
A4: Ūdensapgāde un kanalizācija (iekšējā)
A5: (būvdarbu veids vai konstruktīvā elementa nosaukums)
A6: =Nr.1!A7 -> Objekta nosaukums: | C6: =Nr.1!C7 -> Ēkas pārbūve | D6: =Nr.1!D7 -> 0 | E6: =Nr.1!E7 -> 0 | F6: =Nr.1!F7 -> 0 | G6: =Nr.1!G7 -> 0 | H6: =Nr.1!H7 -> 0 | I6: =Nr.1!I7 -> 0 | J6: =Nr.1!J7 -> 0 | ... N6: =Nr.1!N7 -> 0
A7: =Nr.1!A8 -> Būves nosaukums: | C7: =Nr.1!C8 -> Ēkas pārbūve
A8: =Nr.1!A9 -> Objekta adrese: | C8: =Nr.1!C9 -> Raiņa iela 27, Cēsis, Cēsu novads
A9: =Nr.1!A10 -> Pasūtījuma Nr.: | C9: =Nr.1!C10 -> 0 | I9: =Nr.1!I10 -> 0 | J9: =Nr.1!J10 -> 0 | K9: =Nr.1!K10 -> 0 | L9: =Nr.1!L10 -> 0 | M9: =Nr.1!M10 -> 0 | N9: =Nr.1!N10 -> 0
K11: Tāmes izmaksas: | M11: Eur | N11: =P116 -> 0
A12: Tāme sastādīta 2024.gada tirgus cenās,pamatojoties uz UK daļas rasējumiem.
F13: Tāme sastādīta 2024. gada ____.______________________
A15: Nr.p.k. | B15: Kods | C15: Būvdarbu nosaukums | D15: Mērvienība | E15: Daudzums | F15: Vienības izmaksas | L15: Kopā uz visu apjomu
F16: Laika norma (c/h) | G16: darba samaksas likme* (euro/h) | H16: darba alga | I16: būvizstrādājumi | J16: mehānismi | K16: kopā | L16: darbietilpība (c/h) | M16: darba alga | N16: būvizstrādājumi | O16: mehānismi | P16: summa
A17: 1 | B17: 2 | C17: 3 | D17: 4 | E17: 5 | F17: 6 | G17: 7 | H17: 8 | I17: 9 | J17: 10 | K17: 11 | L17: 12 | M17: 13 | N17: 14 | O17: 15 | P17: 16
A18: 8-1 | C18: Iekšējie saimnieciskās kanalizācijas tīkli, aprīkojums - kanalizācija K1; Kondensāta noteces kanalizācijas tīkli, aprīkojums - kondensāta noteces kanalizācija K2
A19: 8-1-1 | B19: 16-00000 | C19: Esošā kanalizācijas izvada d110 tamponēšana aizbetonējot galu ar cementa javu, V=0.1m3 | D19: gb. | E19: 1 | K19: =ROUND(J19+I19+H19,2) -> 0 | L19: =ROUND(F19*E19,2) -> 0 | M19: =ROUND(H19*E19,2) -> 0 | N19: =ROUND(I19*E19,2) -> 0 | O19: =ROUND(J19*E19,2) -> 0 | P19: =ROUND(O19+N19+M19,2) -> 0
A20: 8-1-2 | B20: 16-00000 | C20: Trokšņus slāpējošā kanalizācijas caurule Wavin AS+ OD50, SN4, vai ekvivalenta, ieskaitot veidgabalus, fasondaļas un stiprinājumus, uzstādīšana pie sienas** | D20: m | E20: 18.9 | K20: =ROUND(J20+I20+H20,2) -> 0 | L20: =ROUND(F20*E20,2) -> 0 | M20: =ROUND(H20*E20,2) -> 0 | N20: =ROUND(I20*E20,2) -> 0 | O20: =ROUND(J20*E20,2) -> 0 | P20: =ROUND(O20+N20+M20,2) -> 0
