Workbook
Name _1.1.: #REF!
Name _1.10.: #REF!
Name _1.12.: #REF!
Name _1.4.: #REF!
Name _1.5.: #REF!
Name _1.6.: #REF!
Name _1.7.: #REF!
Name _1.8.: #REF!
Name _1.9.: #REF!
Name Augsnes_biezums: #N/A
Name bg: '[1]Pebo grafiks'!$G$5
Name Grāvja_dziļums: #N/A
Name Grāvja_platums: #N/A
Name Nogažu_slīpums: #N/A
Name Nogāžu_nostiprinājuma_biezums: #N/A
Name Paaugstinājums: #N/A
Name Piketaža: #N/A
Name Segas_biezums: #N/A
Name šķers: [2]Pamats!$X$13
Name Šķērskritums: #N/A
Name Z_k_platums: #N/A

Sheet BA kopsavilkums
A1: Būvdarbu apjomu kopsavilkums
A3: Projektētājs | B3: SIA “RK projekti”
A4: Objekts | B4: Krišjāņa Valdemāra un Pļavas ielas pārbūve, Cēsīs, Cēsu novadā
A5: Garums, m | B5: 797,10 m
A7: Nr.p.k. | B7: Darba veids un būvprojekta sadaļa | C7: Kopējā izmaksa EUR
A8: 1 | B8: Ceļa darbi- Pļavas iela | C8: ='TS-CD_P'!G83 -> 0
A9: 2 | B9: Ceļa darbi- Krišjāņa Valdemāra iela | C9: ='TS-CD K.V'!G83 -> 0
A10: 3 | B10: Ūdensapgāde un kanalizācija – Pļavas iela | C10: ='LKT_UKT P'!G137 -> 0
A11: 4 | B11: Ūdensapgāde un kanalizācija – Krišjāņa Valdemāra iela | C11: ='LKT_UKT K.V'!G140 -> 0
A12: 5 | B12: Apgaismojums (ELT) - Pļavas iela | C12: ='ELT-apgaismojums_P'!G57 -> 0
A13: 6 | B13: Apgaismojums (ELT) - Krišjāņa Valdemāra iela | C13: ='ELT-apgaismojums_K.V'!G70 -> 0
A14: 7 | B14: Elektronisko sakaru sistēmas (EST) - Pļavas iela | C14: =EST_P!G81 -> 0
A15: 8 | B15: Elektronisko sakaru sistēmas (EST) - Krišjāņa Valdemāra iela | C15: =EST_K.V!G81 -> 0
A16: 9 | B16: Cēsis, Cēsu nov. (42010051318) ārējā elektroapgāde (TN-49693)* | C16: -
A17: A | B17: Kopā (bez PVN): | C17: =SUM(C8:C16) -> 0
A18: B | B18: PVN (21% no A) | C18: =ROUND(C17*0.21,2) -> 0
A19: C | B19: Pavisam kopā (A+B) | C19: =C17+C18 -> 0
A21: Piezīmes:
A22: *Atsevišķa BIS lieta. Būvdarbu veicējam būvdarbu laikā sadarboties ar AS "Sadales Tīkls" darbu veicēju.

Sheet TS-CD_P
A1: Ielas pārbūve - Ceļa darbi
A2: Projektētājs | B2: SIA “RK projekti”
A3: Objekts | B3: Pļavas ielas pārbūve, Cēsīs, Cēsu novadā
A4: Garums, m | B4: 389.30 m
A6: Izmaksu pozīcija | B6: Specifik. Nr | C6: Darba nosaukums | D6: Mērvienība | E6: Darba daudzums | F6: Vienības cena EUR | G6: Kopējā izmaksa EUR
A7: 1 | C7: DAŽĀDI DARBI
A8: 1.1 | B8: 2.1 | C8: Būvtāfeles uzstādīšana | D8: kompl. | E8: 1 | G8: =ROUND(F8*E8,2) -> 0
A9: 1.2 | B9: 2.1 | C9: Uzmērīšana un nospraušana | D9: m | E9: 389.3 | G9: =ROUND(F9*E9,2) -> 0
A10: 1.3 | B10: 3.3. | C10: Asfalta seguma frēzēšana vidēji 10 cm biezumā, aizvedot un nodot atkritumu apsaimniekotājam | D10: m3 | E10: 274 | G10: =ROUND(F10*E10,2) -> 0
A11: 1.4 | B11: 3.2 | C11: Betona plākšņu vai bruģa demontāža, aizvedot un nodot atkritumu apsaimniekotājam | D11: m2 | E11: 280 | G11: =ROUND(F11*E11,2) -> 0
A12: 1.5 | B12: 3.2 | C12: Betona bruģakmens remontzona, ietverot demontāžu, pamatnes līmeņošanu, bruģa izbūvi ar esošo materiālu | D12: m2 | E12: 45 | G12: =ROUND(F12*E12,2) -> 0
A13: 1.6 | B13: 3.2 | C13: Betona apmaļu demontāža, aizvedot un nodot atkritumu apsaimniekotājam | D13: m | E13: 790 | G13: =ROUND(F13*E13,2) -> 0
A14: 1.7 | B14: 3.2 | C14: Asfalta seguma demontāža 6-10cm biezumā, aizvedot un nodot atkritumu apsaimniekotājam | D14: m2 | E14: 570 | G14: =ROUND(F14*E14,2) -> 0
A15: 1.8 | B15: 3.2 | C15: Esošo ceļa zīmju balstu demontāža | D15: gab. | E15: 5 | G15: =ROUND(F15*E15,2) -> 0
A16: 1.9 | B16: 3.2 | C16: Esošo ceļa zīmju demontāža | D16: gab. | E16: 9 | G16: =ROUND(F16*E16,2) -> 0
A17: 1.10 | B17: 3.2 | C17: Esošo papildzīmju demontāža | D17: gab. | E17: 6 | G17: =ROUND(F17*E17,2) -> 0
A18: 1.11 | B18: 3.2 | C18: Esošā sfēriskā spoguļa ar balstu demontāža | D18: gab. | E18: 1 | G18: =ROUND(F18*E18,2) -> 0
A19: 1.12 | B19: 3.2 | C19: Akmeņu bruģa demontāža (akmeņus izmantojot atkārtoti) | D19: m2 | E19: 26 | G19: =ROUND(F19*E19,2) -> 0
A20: 1.13 | B20: 3.2 | C20: Drošības barjeras demontāža | D20: m | E20: 13 | G20: =ROUND(F20*E20,2) -> 0
A21: 1.14 | B21: 3.2 | C21: Apstādījumu demontāža (izrakšana) | D21: m2 | E21: 49 | G21: =ROUND(F21*E21,2) -> 0
A22: 1.15 | B22: 3.1 | C22: Teritorijas attīrīšana no krūmiem | D22: m2 | E22: 25 | G22: =ROUND(F22*E22,2) -> 0
... A26: 1.19 | B26: 3.2 | C26: "Piemiņas kurpju" uz būvdarbu laiku demontāža, pēc būvdarbiem uzstādot tai pašā vietā | D26: kompl. | E26: 1 | G26: =ROUND(F26*E26,2) -> 0
A27: 1.20 | B27: - | C27: Gāzes "kapju" līmeņošana projektētā seguma līmenī | D27: gab. | E27: 3 | G27: =ROUND(F27*E27,2) -> 0
A28: 1.21 | C28: Sadzīves kanalizācijas/ūdenvada aku lūku līmeņošana ietverot pārsedzes un vākus (vāki ar SIA "Vinda" logo) | D28: gab. | E28: 16 | G28: =ROUND(F28*E28,2) -> 0
A29: 1.22 | C29: Sakaru kabeļu kanalizācijas aku lūku līmeņošana ietverot pārsedzes un vākus | D29: gab. | E29: 3 | G29: =ROUND(F29*E29,2) -> 0
A30: 2 | C30: SATIKSMES APRĪKOJUMS
A31: 2.1 | B31: 7.2. | C31: Betona apmaļu izbūve 100x30x15 uz betona C30/37 un minerālmateriāla 0/56 pamata | D31: m | E31: 686 | G31: =ROUND(F31*E31,2) -> 0
A32: 2.2 | B32: 7.2. | C32: Betona apmaļu izbūve 100x22x15 uz betona C30/37 un minerālmateriāla 0/45 pamata | D32: m | E32: 316 | G32: =ROUND(F32*E32,2) -> 0
A33: 2.3 | B33: 7.2. | C33: Betona apmaļu izbūve 100x20x8 uz betona C30/37 un minerālmateriāla 0/45 pamata | D33: m | E33: 432 | G33: =ROUND(F33*E33,2) -> 0
A34: 2.4 | C34: Granīta apmaļu izbūve 100x22x15 uz betona C30/37 un minerālmateriāla 0/45 pamata | D34: m | E34: 18 | G34: =ROUND(F34*E34,2) -> 0
A35: 2.5 | B35: 7.2. | C35: Iebrauktuves komplekta (4.5m) izbūve uz betona C30/37 un minerālmateriāla 0/56 pamata | D35: gab. | E35: 1 | G35: =ROUND(F35*E35,2) -> 0
A36: 2.6 | B36: 7.2. | C36: Iebrauktuves komplekta (6.9m) izbūve uz betona C30/37 un minerālmateriāla 0/56 pamata | D36: gab. | E36: 0 | G36: =ROUND(F36*E36,2) -> 0
A37: 2.7 | B37: 7.3. | C37: Ceļa zīmju uzstādīšana, I izmēru grupa, I atstarošanas klase | D37: gab. | E37: 15 | G37: =ROUND(F37*E37,2) -> 0
A38: 2.8 | B38: 7.3. | C38: Papildzīmju uzstādīšana | D38: gab. | E38: 6 | G38: =ROUND(F38*E38,2) -> 0
A39: 2.9 | B39: 7.3. | C39: Ceļa zīmju balstu uzstādīšana | D39: gab. | E39: 10 | G39: =ROUND(F39*E39,2) -> 0
A40: 2.10 | B40: 7.3. | C40: Ceļa zīmju balstu ar iznesumu uzstādīšana | D40: gab. | E40: 3 | G40: =ROUND(F40*E40,2) -> 0
A41: 2.11 | B41: 7.8. | C41: Horizontālo apzīmējumu uzklāšana no termoplasta uz asfaltbetona seguma | D41: m2 | E41: 11 | G41: =ROUND(F41*E41,2) -> 0
A42: 2.12 | B42: - | C42: Polietilēna ģeomembrānas ar ūdensnecaurlaidības klasi W1, stiepes izturība garumā>300N/50mm, stiepes izturība platumā>300N/50mm izbūve gar ēku sienām ielas segas konstukcijas dziļumā | D42: m | E42: 69 | G42: =ROUND(F42*E42,2) -> 0
A43: 3 | C43: ZEMES KLĀTNE
A44: 3.1 | B44: 4.4. | C44: Zemes klātnes ierakuma būvniecība, aizvedot uz būvuzņēmēja atbērtni | D44: m3 | E44: 2300 | G44: =ROUND(F44*E44,2) -> 0
A45: 3.2 | B45: 4.4. | C45: Zemes klātnes uzbēruma būvniecība (darba zonas sakārtošana ar ierakuma grunti) | D45: m3 | E45: 100 | G45: =ROUND(F45*E45,2) -> 0
A46: 3.3 | B46: 4.6. | C46: Apzaļumošana un nogāžu nostiprināšana ar augu zemi (h=10cm) un zālāja iesēšana | D46: m2 | E46: 555 | G46: =ROUND(F46*E46,2) -> 0
A47: 3.4 | B47: 4.6. | C47: Vecā laukuma rekultivācija ar augu zemi 10 cm biezumā, un apsējot ar zālāja sēklām | D47: m2 | E47: 26 | G47: =ROUND(F47*E47,2) -> 0
A48: 3.5 | C48: Eco bruģa tukšumu uzpildīšana ar augu zemes un šķembu 0/16 maisījumu attiecībā 1:5, apsētu ar zālāja sēklām 8 cm biezumā | D48: m2 | E48: 0 | G48: =ROUND(F48*E48,2) -> 0
A49: 4 | C49: AR SAISTVIELĀM NESAISTĪTAS KONSTRUKTĪVĀS KĀRTAS
A50: 4.1 | B50: 5.1. | C50: Salizturīgā slāņa būvniecība 30 cm biezumā | D50: m3 | E50: 293 | G50: =ROUND(F50*E50,2) -> 0
A51: 4.2 | B51: 5.1. | C51: Salizturīgā slāņa būvniecība 40 cm biezumā | D51: m3 | E51: 697 | G51: =ROUND(F51*E51,2) -> 0
A52: 4.3 | B52: 5.2. | C52: Nesaistītu minerālmateriālu 0/45 virskārtas būvniecība 10 cm biezumā (N-III klase) | D52: m3 | E52: 128 | G52: =ROUND(F52*E52,2) -> 0
A53: 4.4 | B53: 5.2. | C53: Nesaistītu minerālmateriālu 0/45 virskārtas būvniecība 18 cm biezumā (N-III klase) | D53: m3 | E53: 260 | G53: =ROUND(F53*E53,2) -> 0
A54: 4.5 | B54: 5.2. | C54: Nesaistītu minerālmateriālu 0/56 pamata būvniecība 10 cm biezumā (N-IV klase) | D54: m3 | E54: 128 | G54: =ROUND(F54*E54,2) -> 0
A55: 4.6 | B55: 5.2. | C55: Granīta izsiju 2/8 slāņa izbūve vidēji 3 cm biezumā | D55: m2 | E55: 1407 | G55: =ROUND(F55*E55,2) -> 0
A56: 4.7 | B56: 5.5. | C56: Pelēka bezfāzu skalotas virsmas betona bruģa būvniecība, izmērs 200x100x80 mm | D56: m2 | E56: 672 | G56: =ROUND(F56*E56,2) -> 0
A57: 4.8 | B57: 5.5. | C57: Melna bezfāzu skalotas virsmas betona bruģa būvniecība, izmērs 200x100x80 mm | D57: m2 | E57: 470 | G57: =ROUND(F57*E57,2) -> 0
A58: 4.9 | B58: 5.5. | C58: Brūna bezfāzu skalotas virsmas betona bruģa būvniecība, izmērs 200x100x80 mm | D58: m2 | E58: 0 | G58: =ROUND(F58*E58,2) -> 0
A59: 4.10 | B59: 5.5. | C59: Sarkana bezfāzu skalotas virsmas betona bruģa būvniecība, izmērs 200x100x80 mm | D59: m2 | E59: 62 | G59: =ROUND(F59*E59,2) -> 0
A60: 4.11 | B60: 5.5. | C60: Dabīgā akmens, brūna šķeltā bruģa būvniecība, izmērs 80x80x80 mm | D60: m2 | E60: 32 | G60: =ROUND(F60*E60,2) -> 0
A61: 4.12 | B61: 5.5. | C61: Pelēka eco betona bruģa būvniecība, izmērs 600x400x80 mm | D61: m2 | E61: 0 | G61: =ROUND(F61*E61,2) -> 0
... A65: 4.16 | B65: 5.4. | C65: Balta vadlīnijas (reljefa) betona taktīlā bruģa būvniecība 8 cm biezumā, izmērs 300x300x80 mm | D65: m2 | E65: 112 | G65: =ROUND(F65*E65,2) -> 0
A66: 5 | C66: AR SAISTVIELĀM SAISTĪTAS KONSTRUKTĪVĀS KĀRTAS
A67: 5.1 | B67: 6.2. | C67: Karstā asfalta AC11surf virskārtas būvniecība 4 cm biezumā (S-III klase) | D67: m2 | E67: 1271 | G67: =ROUND(F67*E67,2) -> 0
A68: 5.2 | B68: 6.2. | C68: Karstā asfalta AC22base apakškārtas būvniecība 6 cm biezumā (S-IV klase) | D68: m2 | E68: 1271 | G68: =ROUND(F68*E68,2) -> 0
A69: 6 | C69: LABIEKĀRTOJUMS
A70: 6.1 | B70: - | C70: Slodzes izlīdzinošā materiāla geomaxx Geocell vai analogs izbūve | D70: m2 | E70: 270 | G70: =F70*E70 -> 0
A71: 6.2 | B71: - | C71: Esošo koku aizsardzības pasākumu realizēšana/uzraudzība būvniecības laikā - sertificēts arborists. 1. Koku vainagu sakopšana pirms un pēc būvniecības.2. Esošo koku individuālie aizsardzības pasākumi (vairogi ap koka stumbru). 3. Koka sakņu aizsardzības zonas norobežošana ar 3-4 m augstu, blīvu pagaidu žogu. 4. Koku sakņu aizsardzības zonu norobežojošo žogu un stumbru vairogu demontāža pēc labiekārtošanas darbu beigām. | D71: gab. | E71: 8 | G71: =F71*E71 -> 0
A72: 6.3 | B72: - | C72: Koku laistīšana 1-2 reizes nedēļā ar ūdens daudzumu 100 - 150 l/vienam kokam (Veic no koku izbūves līdz būves nodošanai ekspluatācijā, atbilstoši noteiktajam apjomam un/vai laikapstākļiem) | D72: gab. | E72: 14 | G72: =F72*E72 -> 0
A73: 6.4 | B73: - | C73: Sorbus aria (Miltu pīlādzis) stādīšana, stāda izmērs h 3-4 m | D73: gab. | E73: 6 | G73: =F73*E73 -> 0
A74: 6.5 | B74: - | C74: Sorbaria sorbifolia 'Sem' (Pīlādžlapu sorbārija šķ.) | D74: gab. | E74: 500 | G74: =F74*E74 -> 0
A75: 6.6 | B75: - | C75: Symphoricarpos doorenbosii 'Magic berry' (Sniegoga šķ.) | D75: gab. | E75: 300 | G75: =F75*E75 -> 0
A76: 6.7 | B76: - | C76: Ribes alpinum (Alpīnā vērene) | D76: gab. | E76: 108 | G76: =F76*E76 -> 0
A77: 6.8 | B77: - | C77: Atkritumu urnu uzstādīšana | D77: gab. | E77: 1 | G77: =F77*E77 -> 0
A78: 6.9 | C78: Krūmu dobes sagatavošana, ietverot auglīgo augsni 50 cm dziļumā un apdobes mulčēšanu | D78: m2 | E78: 227 | G78: =F78*E78 -> 0
A79: 6.10 | C79: Koka dobes sagatavošana, ietverot auglīgo augsni 100 cm dziļumā un apdobes mulčēšanu | D79: m2 | E79: 12 | G79: =F79*E79 -> 0
A80: 6.11 | B80: - | C80: Āra soliņa uzstādīšana | D80: gab. | E80: 1 | G80: =F80*E80 -> 0
A81: 6.12 | B81: - | C81: Augu konteineri | D81: gab. | E81: 6 | G81: =F81*E81 -> 0
A82: 6.13 | B82: - | C82: Sakņu barjera ReRoot 2000 Barrier vai analogs, h-1.0 m | D82: m | E82: 39 | G82: =F82*E82 -> 0
D83: A | E83: Kopā (bez PVN): | G83: =SUM(G7:G82) -> 0
D84: B | E84: PVN (21% no A) | G84: =ROUND(G83*0.21,2) -> 0
D85: C | E85: Pavisam kopā (A+B) | G85: =G83+G84 -> 0
A86: Piezīmes:
A87: 1) Dotais saraksts skatāms kopā ar rasējumiem un citām projekta daļām.
A88: 2) Visiem darbiem un materiāliem jāatbilst Autoceļu būvdarbu specifikācijām 2023.
A89: 3) Ceļa zīmju un papildzīmju uzstādīšana paredz stiprinājumu gan pie staba, gan apgaismojuma balsta. Skatīt satiksmes organizācijas plānu.

Sheet TS-CD K.V
A1: Ielas pārbūve - Ceļa darbi
A2: Projektētājs | B2: SIA “RK projekti”
A3: Objekts | B3: Krišjāņa Valdemāra ielas pārbūve, Cēsīs, Cēsu novadā
A4: Garums, m | B4: 407.80 m
A6: Izmaksu pozīcija | B6: Specifik. Nr | C6: Darba nosaukums | D6: Mērvienība | E6: Darba daudzums | F6: Vienības cena EUR | G6: Kopējā izmaksa EUR
A7: 1 | C7: DAŽĀDI DARBI
A8: 1.1 | B8: 2.1 | C8: Būvtāfeles uzstādīšana | D8: kompl. | E8: 1 | G8: =ROUND(F8*E8,2) -> 0
A9: 1.2 | B9: 2.1 | C9: Uzmērīšana un nospraušana | D9: m | E9: 407.8 | G9: =ROUND(F9*E9,2) -> 0
A10: 1.3 | B10: 3.3. | C10: Asfalta seguma frēzēšana vidēji 10 cm biezumā, aizvedot un nodot atkritumu apsaimniekotājam | D10: m3 | E10: 275 | G10: =ROUND(F10*E10,2) -> 0
A11: 1.4 | B11: 3.2 | C11: Betona plākšņu vai bruģa demontāža, aizvedot un nodot atkritumu apsaimniekotājam | D11: m2 | E11: 629 | G11: =ROUND(F11*E11,2) -> 0
A12: 1.5 | B12: 3.2 | C12: Betona bruģakmens remontzona, ietverot demontāžu, pamatnes līmeņošanu, bruģa izbūvi ar esošo materiālu | D12: m2 | E12: 64 | G12: =ROUND(F12*E12,2) -> 0
A13: 1.6 | B13: 3.2 | C13: Betona apmaļu demontāža, aizvedot un nodot atkritumu apsaimniekotājam | D13: m | E13: 1213 | G13: =ROUND(F13*E13,2) -> 0
A14: 1.7 | B14: 3.2 | C14: Asfalta seguma demontāža 6-10cm biezumā, aizvedot un nodot atkritumu apsaimniekotājam | D14: m2 | E14: 855 | G14: =ROUND(F14*E14,2) -> 0
A15: 1.8 | B15: 3.2 | C15: Esošo ceļa zīmju balstu demontāža | D15: gab. | E15: 20 | G15: =ROUND(F15*E15,2) -> 0
A16: 1.9 | B16: 3.2 | C16: Esošo ceļa zīmju demontāža | D16: gab. | E16: 24 | G16: =ROUND(F16*E16,2) -> 0
A17: 1.10 | B17: 3.2 | C17: Esošo papildzīmju demontāža | D17: gab. | E17: 21 | G17: =ROUND(F17*E17,2) -> 0
A18: 1.11 | B18: 3.2 | C18: Esošā sfēriskā spoguļa ar balstu demontāža | D18: gab. | E18: 0 | G18: =ROUND(F18*E18,2) -> 0
A19: 1.12 | B19: 3.2 | C19: Akmeņu bruģa demontāža (akmeņus izmantojot atkārtoti) | D19: m2 | E19: 0 | G19: =ROUND(F19*E19,2) -> 0
A20: 1.13 | B20: 3.2 | C20: Drošības barjeras demontāža | D20: m | E20: 5 | G20: =ROUND(F20*E20,2) -> 0
A21: 1.14 | B21: 3.2 | C21: Apstādījumu demontāža (izrakšana) | D21: m2 | E21: 0 | G21: =ROUND(F21*E21,2) -> 0
A22: 1.15 | B22: 3.1 | C22: Teritorijas attīrīšana no krūmiem | D22: m2 | E22: 25 | G22: =ROUND(F22*E22,2) -> 0
... A26: 1.19 | B26: 3.2 | C26: "Piemiņas kurpju" uz būvdarbu laiku demontāža, pēc būvdarbiem uzstādot tai pašā vietā | D26: kompl. | E26: 0 | G26: =ROUND(F26*E26,2) -> 0
A27: 1.20 | B27: - | C27: Gāzes "kapju" līmeņošana projektētā seguma līmenī | D27: gab. | E27: 3 | G27: =ROUND(F27*E27,2) -> 0
A28: 1.21 | C28: Sadzīves kanalizācijas/ūdenvada aku lūku līmeņošana ietverot pārsedzes un vākus (vāki ar SIA "Vinda" logo) | D28: gab. | E28: 33 | G28: =ROUND(F28*E28,2) -> 0
A29: 1.22 | C29: Sakaru kabeļu kanalizācijas aku lūku līmeņošana ietverot pārsedzes un vākus | D29: gab. | E29: 9 | G29: =ROUND(F29*E29,2) -> 0
A30: 2 | C30: SATIKSMES APRĪKOJUMS
A31: 2.1 | B31: 7.2. | C31: Betona apmaļu izbūve 100x30x15 uz betona C30/37 un minerālmateriāla 0/56 pamata | D31: m | E31: 660 | G31: =ROUND(F31*E31,2) -> 0
A32: 2.2 | B32: 7.2. | C32: Betona apmaļu izbūve 100x22x15 uz betona C30/37 un minerālmateriāla 0/45 pamata | D32: m | E32: 335 | G32: =ROUND(F32*E32,2) -> 0
A33: 2.3 | B33: 7.2. | C33: Betona apmaļu izbūve 100x20x8 uz betona C30/37 un minerālmateriāla 0/45 pamata | D33: m | E33: 1126 | G33: =ROUND(F33*E33,2) -> 0
A34: 2.4 | C34: Granīta apmaļu izbūve 100x22x15 uz betona C30/37 un minerālmateriāla 0/45 pamata | D34: m | E34: 71 | G34: =ROUND(F34*E34,2) -> 0
A35: 2.5 | B35: 7.2. | C35: Iebrauktuves komplekta (4.5m) izbūve uz betona C30/37 un minerālmateriāla 0/56 pamata | D35: gab. | E35: 0 | G35: =ROUND(F35*E35,2) -> 0
A36: 2.6 | B36: 7.2. | C36: Iebrauktuves komplekta (6.9m) izbūve uz betona C30/37 un minerālmateriāla 0/56 pamata | D36: gab. | E36: 1 | G36: =ROUND(F36*E36,2) -> 0
A37: 2.7 | B37: 7.3. | C37: Ceļa zīmju uzstādīšana, I izmēru grupa, I atstarošanas klase | D37: gab. | E37: 26 | G37: =ROUND(F37*E37,2) -> 0
A38: 2.8 | B38: 7.3. | C38: Papildzīmju uzstādīšana | D38: gab. | E38: 12 | G38: =ROUND(F38*E38,2) -> 0
A39: 2.9 | B39: 7.3. | C39: Ceļa zīmju balstu uzstādīšana | D39: gab. | E39: 10 | G39: =ROUND(F39*E39,2) -> 0
A40: 2.10 | B40: 7.3. | C40: Ceļa zīmju balstu ar iznesumu uzstādīšana | D40: gab. | E40: 5 | G40: =ROUND(F40*E40,2) -> 0
A41: 2.11 | B41: 7.8. | C41: Horizontālo apzīmējumu uzklāšana no termoplasta uz asfaltbetona seguma | D41: m2 | E41: 21 | G41: =ROUND(F41*E41,2) -> 0
A42: 2.12 | B42: - | C42: Polietilēna ģeomembrānas ar ūdensnecaurlaidības klasi W1, stiepes izturība garumā>300N/50mm, stiepes izturība platumā>300N/50mm izbūve gar ēku sienām ielas segas konstukcijas dziļumā | D42: m | E42: 89 | G42: =ROUND(F42*E42,2) -> 0
A43: 3 | C43: ZEMES KLĀTNE
A44: 3.1 | B44: 4.4. | C44: Zemes klātnes ierakuma būvniecība, aizvedot uz būvuzņēmēja atbērtni | D44: m3 | E44: 2712 | G44: =ROUND(F44*E44,2) -> 0
A45: 3.2 | B45: 4.4. | C45: Zemes klātnes uzbēruma būvniecība (darba zonas sakārtošana ar ierakuma grunti) | D45: m3 | E45: 100 | G45: =ROUND(F45*E45,2) -> 0
A46: 3.3 | B46: 4.6. | C46: Apzaļumošana un nogāžu nostiprināšana ar augu zemi (h=10cm) un zālāja iesēšana | D46: m2 | E46: 615 | G46: =ROUND(F46*E46,2) -> 0
A47: 3.4 | B47: 4.6. | C47: Vecā laukuma rekultivācija ar augu zemi 10 cm biezumā, un apsējot ar zālāja sēklām | D47: m2 | E47: 108 | G47: =ROUND(F47*E47,2) -> 0
A48: 3.5 | C48: Eco bruģa tukšumu uzpildīšana ar augu zemes un šķembu 0/16 maisījumu attiecībā 1:5, apsētu ar zālāja sēklām 8 cm biezumā | D48: m2 | E48: 108 | G48: =ROUND(F48*E48,2) -> 0
A49: 4 | C49: AR SAISTVIELĀM NESAISTĪTAS KONSTRUKTĪVĀS KĀRTAS
A50: 4.1 | B50: 5.1. | C50: Salizturīgā slāņa būvniecība 30 cm biezumā | D50: m3 | E50: 307 | G50: =ROUND(F50*E50,2) -> 0
A51: 4.2 | B51: 5.1. | C51: Salizturīgā slāņa būvniecība 40 cm biezumā | D51: m3 | E51: 1276 | G51: =ROUND(F51*E51,2) -> 0
A52: 4.3 | B52: 5.2. | C52: Nesaistītu minerālmateriālu 0/45 virskārtas būvniecība 10 cm biezumā (N-III klase) | D52: m3 | E52: 142 | G52: =ROUND(F52*E52,2) -> 0
A53: 4.4 | B53: 5.2. | C53: Nesaistītu minerālmateriālu 0/45 virskārtas būvniecība 18 cm biezumā (N-III klase) | D53: m3 | E53: 504 | G53: =ROUND(F53*E53,2) -> 0
A54: 4.5 | B54: 5.2. | C54: Nesaistītu minerālmateriālu 0/56 pamata būvniecība 10 cm biezumā (N-IV klase) | D54: m3 | E54: 142 | G54: =ROUND(F54*E54,2) -> 0
A55: 4.6 | B55: 5.2. | C55: Granīta izsiju 2/8 slāņa izbūve vidēji 3 cm biezumā | D55: m2 | E55: 2775 | G55: =ROUND(F55*E55,2) -> 0
A56: 4.7 | B56: 5.5. | C56: Pelēka bezfāzu skalotas virsmas betona bruģa būvniecība, izmērs 200x100x80 mm | D56: m2 | E56: 1272 | G56: =ROUND(F56*E56,2) -> 0
A57: 4.8 | B57: 5.5. | C57: Melna bezfāzu skalotas virsmas betona bruģa būvniecība, izmērs 200x100x80 mm | D57: m2 | E57: 885 | G57: =ROUND(F57*E57,2) -> 0
A58: 4.9 | B58: 5.5. | C58: Brūna bezfāzu skalotas virsmas betona bruģa būvniecība, izmērs 200x100x80 mm | D58: m2 | E58: 79 | G58: =ROUND(F58*E58,2) -> 0
A59: 4.10 | B59: 5.5. | C59: Sarkana bezfāzu skalotas virsmas betona bruģa būvniecība, izmērs 200x100x80 mm | D59: m2 | E59: 73 | G59: =ROUND(F59*E59,2) -> 0
A60: 4.11 | B60: 5.5. | C60: Dabīgā akmens, brūna šķeltā bruģa būvniecība, izmērs 80x80x80 mm | D60: m2 | E60: 71 | G60: =ROUND(F60*E60,2) -> 0
A61: 4.12 | B61: 5.5. | C61: Pelēka eco betona bruģa būvniecība, izmērs 600x400x80 mm | D61: m2 | E61: 108 | G61: =ROUND(F61*E61,2) -> 0
... A65: 4.16 | B65: 5.4. | C65: Balta vadlīnijas (reljefa) betona taktīlā bruģa būvniecība 8 cm biezumā, izmērs 300x300x80 mm | D65: m2 | E65: 223 | G65: =ROUND(F65*E65,2) -> 0
A66: 5 | C66: AR SAISTVIELĀM SAISTĪTAS KONSTRUKTĪVĀS KĀRTAS
A67: 5.1 | B67: 6.2. | C67: Karstā asfalta AC11surf virskārtas būvniecība 4 cm biezumā (S-III klase) | D67: m2 | E67: 1430 | G67: =ROUND(F67*E67,2) -> 0
A68: 5.2 | B68: 6.2. | C68: Karstā asfalta AC22base apakškārtas būvniecība 6 cm biezumā (S-IV klase) | D68: m2 | E68: 1430 | G68: =ROUND(F68*E68,2) -> 0
A69: 6 | C69: LABIEKĀRTOJUMS
A70: 6.1 | B70: - | C70: Slodzes izlīdzinošā materiāla geomaxx Geocell vai analogs izbūve | D70: m2 | E70: 0 | G70: =F70*E70 -> 0
A71: 6.2 | B71: - | C71: Esošo koku aizsardzības pasākumu realizēšana/uzraudzība būvniecības laikā - sertificēts arborists. 1. Koku vainagu sakopšana pirms un pēc būvniecības.2. Esošo koku individuālie aizsardzības pasākumi (vairogi ap koka stumbru). 3. Koka sakņu aizsardzības zonas norobežošana ar 3-4 m augstu, blīvu pagaidu žogu. 4. Koku sakņu aizsardzības zonu norobežojošo žogu un stumbru vairogu demontāža pēc labiekārtošanas darbu beigām. | D71: gab. | E71: 0 | G71: =F71*E71 -> 0
A72: 6.3 | B72: - | C72: Koku laistīšana 1-2 reizes nedēļā ar ūdens daudzumu 100 - 150 l/vienam kokam (Veic no koku izbūves līdz būves nodošanai ekspluatācijā, atbilstoši noteiktajam apjomam un/vai laikapstākļiem) | D72: gab. | E72: 18 | G72: =F72*E72 -> 0
A73: 6.4 | B73: - | C73: Sorbus aria (Miltu pīlādzis) stādīšana, stāda izmērs h 3-4 m | D73: gab. | E73: 18 | G73: =F73*E73 -> 0
A74: 6.5 | B74: - | C74: Sorbaria sorbifolia 'Sem' (Pīlādžlapu sorbārija šķ.) | D74: gab. | E74: 100 | G74: =F74*E74 -> 0
A75: 6.6 | B75: - | C75: Symphoricarpos doorenbosii 'Magic berry' (Sniegoga šķ.) | D75: gab. | E75: 0 | G75: =F75*E75 -> 0
A76: 6.7 | B76: - | C76: Ribes alpinum (Alpīnā vērene) | D76: gab. | E76: 784 | G76: =F76*E76 -> 0
A77: 6.8 | B77: - | C77: Atkritumu urnu uzstādīšana | D77: gab. | E77: 0 | G77: =F77*E77 -> 0
A78: 6.9 | C78: Krūmu dobes sagatavošana, ietverot auglīgo augsni 50 cm dziļumā un apdobes mulčēšanu | D78: m2 | E78: 221 | G78: =F78*E78 -> 0
A79: 6.10 | C79: Koka dobes sagatavošana, ietverot auglīgo augsni 100 cm dziļumā un apdobes mulčēšanu | D79: m2 | E79: 36 | G79: =F79*E79 -> 0
A80: 6.11 | B80: - | C80: Āra soliņa uzstādīšana | D80: gab. | E80: 0 | G80: =F80*E80 -> 0
A81: 6.12 | B81: - | C81: Augu konteineri | D81: gab. | E81: 0 | G81: =F81*E81 -> 0
A82: 6.13 | B82: - | C82: Sakņu barjera ReRoot 2000 Barrier vai analogs, h-1.0 m | D82: m | E82: 97 | G82: =F82*E82 -> 0
D83: A | E83: Kopā (bez PVN): | G83: =SUM(G7:G82) -> 0
D84: B | E84: PVN (21% no A) | G84: =ROUND(G83*0.21,2) -> 0
D85: C | E85: Pavisam kopā (A+B) | G85: =G83+G84 -> 0
A86: Piezīmes:
A87: 1) Dotais saraksts skatāms kopā ar rasējumiem un citām projekta daļām.
A88: 2) Visiem darbiem un materiāliem jāatbilst Autoceļu būvdarbu specifikācijām 2023.
A89: 3) Ceļa zīmju un papildzīmju uzstādīšana paredz stiprinājumu gan pie staba, gan apgaismojuma balsta. Skatīt satiksmes organizācijas plānu.

Sheet LKT_UKT P
A1: Ūdensapgāde un kanalizācija – ārējie tīkli (LKT, UKT)
A2: Projektētājs | B2: SIA “RK projekti”
A3: Objekts | B3: Pļavas ielas pārbūve, Cēsīs, Cēsu novadā
A4: Garums, m | B4: 389.30 m
A6: Izmaksu pozīcija | B6: Specifik. Nr | C6: Darba nosaukums | D6: Mērvienība | E6: Darba daudzums | F6: Vienības cena EUR | G6: Kopējā izmaksa EUR
A7: 1 | C7: ŪDENSAPGĀDES TĪKLI - U1
C8: Ūdensvads | D8: N/A
A9: 1.1 | C9: Ūdensvada caurule ārējiem tīkliem, PE100, RC, PN 10, DN/OD110, SDR17, atbilstošas LVS EN 12201, ar EM savienojumiem, iebūve atklātā tranšejā ar vairogiem | D9: m | E9: 252.8 | G9: =ROUND(F9*E9,2) -> 0
A10: 1.2 | C10: Ūdensvada caurule ārējiem tīkliem, PE100, RC, PN 10, DN/OD63, SDR17, atbilstošas LVS EN 12201, ar EM savienojumiem, iebūve atklātā tranšejā ar vairogiem | D10: m | E10: 74.5 | G10: =ROUND(F10*E10,2) -> 0
A11: 1.3 | C11: Ūdensvada caurule ārējiem tīkliem, PE100, RC, PN 10, DN/OD32, SDR17, atbilstošas LVS EN 12201, ar EM savienojumiem, iebūve atklātā tranšejā ar vairogiem | D11: m | E11: 5 | G11: =ROUND(F11*E11,2) -> 0
A12: 1.4 | C12: Ūdensvada caurule ārējiem tīkliem, PE100, RC, PN 10, DN/OD25, SDR17, atbilstošas LVS EN 12201, ar EM savienojumiem, iebūve atklātā tranšejā ar vairogiem | D12: m | E12: 7.4 | G12: =ROUND(F12*E12,2) -> 0
A13: 1.5 | C13: Skataka H=2,20m no saliekamiem dz/b elementiem D2000mm (grodi, pamatne, pārsegums, regulējošie gredzeni), hidroizolācija, VIATOP vai ekvivalentas "peldošā" tipa ķeta rāmis un D400 klases lūka ar adapteri, blīvgumiju, enģi un atsperi, DN≥600mm atbilstoši LVS EN 124, ar "VINDA" logo, polimēra materiāla atbalsta gredzens DN 680/1050 un polimēra materiāla paaugstinošie gredzeni DN 700/875 [mm], slodzes izturība atbilstoši LVS EN 124 prasībām | D13: kpl | E13: 1 | G13: =ROUND(F13*E13,2) -> 0
A14: 1.6 | C14: Esošās skatakas D2000 pārseguma maiņa, līmeņošana atbilstoši ceļa reljefam, lūkas nomaiņa uz VIATOP vai ekvivalentas "peldošā" tipa ķeta rāmis un D400 klases lūka ar adapteri, blīvgumiju, enģi un atsperi, DN≥600mm atbilstoši LVS EN 124, ar "VINDA" logo, polimēra materiāla atbalsta gredzens DN 680/1050 un polimēra materiāla paaugstinošie gredzeni DN 700/875 [mm], slodzes izturība atbilstoši LVS EN 124 prasībām | D14: kpl | E14: 2 | G14: =ROUND(F14*E14,2) -> 0
A15: 1.7 | C15: Esošās skatakas D1500 pārseguma maiņa, līmeņošana atbilstoši ceļa reljefam, lūkas nomaiņa uz VIATOP vai ekvivalentas "peldošā" tipa ķeta rāmis un D400 klases lūka ar adapteri, blīvgumiju, enģi un atsperi, atbilstoši LVS EN 124, DN≥600mm, lūka ar VINDA logo | D15: kpl | E15: 1 | G15: =ROUND(F15*E15,2) -> 0
A16: 1.8 | C16: Atloku krustgabals DN200/100, PN10, DCI | D16: gb | E16: 1 | G16: =ROUND(F16*E16,2) -> 0
A17: 1.9 | C17: Atloku trejgabals DN100/150, PN10, DCI | D17: gb | E17: 1 | G17: =ROUND(F17*E17,2) -> 0
A18: 1.10 | C18: Elektrometināms trejgabals 90°, PE, PN10, DN110/110 | D18: gb | E18: 2 | G18: =ROUND(F18*E18,2) -> 0
A19: 1.11 | C19: Elektrometināms trejgabals 90°, PE, PN10, DN110/63 | D19: gb | E19: 1 | G19: =ROUND(F19*E19,2) -> 0
A20: 1.12 | C20: Elektrometināms līkums 45°, PE, PN10, DN110 | D20: gb | E20: 2 | G20: =ROUND(F20*E20,2) -> 0
... A52: 1.44 | C52: Betons B25 (C20/25), W8 skataku apbetonējumam, armatūra Ø5mm, iestrāde | D52: m3 | E52: 2.5 | G52: =ROUND(F52*E52,2) -> 0
A53: 1.45 | C53: Dzelzsbetona elementos iebetonējama apvalkčaula DN200 caurulei | D53: kpl | E53: 2 | G53: =ROUND(F53*E62,2) -> 0
A54: 1.46 | C54: Dzelzsbetona elementos iebetonējama apvalkčaula PE DN110 caurulei | D54: kpl | E54: 3 | G54: =ROUND(F54*E54,2) -> 0
A55: 1.47 | C55: Pieslēgums pie esošā ūdensvada D200mm | D55: kpl | E55: 1 | G55: =ROUND(F55*E55,2) -> 0
A56: 1.48 | C56: Pieslēgums pie esošā ūdensvada D150mm | D56: kpl | E56: 1 | G56: =ROUND(F56*E56,2) -> 0
A57: 1.49 | C57: Pieslēgums pie esošā ūdensvada D100mm | D57: kpl | E57: 3 | G57: =ROUND(F57*E57,2) -> 0
A58: 1.50 | C58: Pieslēgums pie esošā ūdensvada D63mm | D58: kpl | E58: 3 | G58: =ROUND(F58*E58,2) -> 0
A59: 1.51 | C59: Pieslēgums pie esošā ūdensvada D25-32mm | D59: kpl | E59: 5 | G59: =ROUND(F59*E59,2) -> 0
A60: 1.52 | C60: Palīgmateriāli U1 sistēmas montāžai | D60: kpl | E60: 1 | G60: =ROUND(F60*E60,2) -> 0
A61: 1.53 | C61: Sistēmas skalošana, dezinfekcija, testēšana, hidrauliskā pārbaude, nodošana ekspluatācijā | D61: kpl | E61: 1 | G61: =ROUND(F61*E61,2) -> 0
C62: Pārejie darbi | D62: N/A
A63: 1.54 | C63: Precizēt esošo un projektējamo komunikācijas šķērsošanas vietas, atšurfējot pirms būvdarbu uzsākšanas | D63: vieta | E63: 47 | G63: =ROUND(F63*E63,2) -> 0
A64: 1.55 | C64: UKT tīklu trasējuma nospraušana pirms būvdarbu uzsakšanas | D64: kpl | E64: 1 | G64: =ROUND(F64*E64,2) -> 0
A65: 1.56 | C65: Sagatavošanās darbi pirms būvdarbu sākšanas - nepieciešamo atļauju un saskaņojumu saņemšana | D65: kpl | E65: 1 | G65: =ROUND(F65*E65,2) -> 0
A66: 1.57 | C66: Pasākumi pagaidu ūdensapgādes nodrošināšana esošajiem patērētājiem | D66: kpl | E66: 1 | G66: =ROUND(F66*E66,2) -> 0
A67: 1.58 | C67: Esošā ūdensvada posmu demontāža, utilizācija | D67: kpl | E67: 1 | G67: =ROUND(F67*E67,2) -> 0
A68: 1.59 | C68: Esošā ūdensvada skataku, pazemes pieslēgumu demontāža, utilizācija | D68: kpl | E68: 7 | G68: =ROUND(F68*E68,2) -> 0
A69: 1.60 | C69: Izbūvēto U1 sistēmu izpildshēmas izstrāde | D69: kpl | E69: 1 | G69: =ROUND(F69*E69,2) -> 0
A70: 1.61 | C70: U1 izbūves darbi (zemes darbi) | D70: N/A
A71: 1.62 | C71: Tranšejas rakšana, (hvid=2.10m) projektēto cauruļvadu montāžai, nederīgās grunts transports uz atbērtni 10km attālumā | D71: m3 | E71: =(E9+E10+E11+E12)*2.1*1.5 -> 1070.055 | G71: =ROUND(F71*E71,2) -> 0
A72: 1.63 | C72: Smilts pamatnes ierīkošana zem cauruļvadiem h=0.15m un apbēruma h=0.30m ierīkošanai | D72: m3 | E72: =(E9+E10+E11+E12)*0.45*1.5 -> 229.2975 | G72: =ROUND(F72*E72,2) -> 0
A73: 1.64 | C73: Tranšejas aizbēršana ar pievestu smilšu grunti kf>1m/dnn (esošās māla grunts nomaiņa) no ierīkotā apbēruma ap cauruļvadu līdz atjaunojamā seguma apakšējai kārtai | D73: m3 | E73: =E71-E72 -> 840.7575 | G73: =ROUND(F73*E73,2) -> 0
A74: 1.65 | C74: Tranšejas sieniņu nostiprināšana ar rievsienām vai metāla vairogiem (h>1.5m) | D74: m | E74: =E9+E10+E11+E12 -> 339.7 | G74: =ROUND(F74*E74,2) -> 0
A75: 1.66 | C75: Gruntsūdens līmeņa pazemināšana | D75: m | E75: 50 | G75: =ROUND(F75*E75,2) -> 0
A76: 2 | C76: SADZĪVES KANALIZĀCIJAS TĪKLI - K1
C77: Sadzīves kanalizācija
A78: 2.1 | C78: PP monolītsienu kanalizācijas caurule ar monolītas konstrukcijas ribām OD160mm, uzmavu tipa, iebūves klase SN8, ar baltu vai gaiši pelēku iekšpusi, atbilstošas LVS EN13476-3, ar iebūvi atklātā tranšejā ar vairogiem | D78: m | E78: 11.8 | G78: =ROUND(F78*E78,2) -> 0
A79: 2.2 | C79: Plastmasas skataka DN630mm, sekciju tipa, h=1,50-1,99m, PP cauruļvadu pievienojumi rūpnieciski iemetināmi vai iefrēzējami un pievienojami ar pieslēguma pārejām, peldošā tipa ķeta rāmis un D400 klases lūka ar teleskopu | D79: kpl | E79: 1 | G79: =ROUND(F79*E79,2) -> 0
A80: 2.3 | C80: Plastmasas skataka DN630mm, sekciju tipa, h=2.00-2.49m, PP cauruļvadu pievienojumi rūpnieciski iemetināmi vai iefrēzējami un pievienojami ar pieslēguma pārejām, peldošā tipa ķeta rāmis un D400 klases lūka ar teleskopu | D80: kpl | E80: 1 | G80: =ROUND(F80*E80,2) -> 0
A81: 2.4 | C81: Esošās skatakas pārseguma nomaiņa, līmeņošana atbilstoši ceļa reljefam, lūkas nomaiņa uz VIATOP vai ekvivalentas "peldošā" tipa ķeta rāmis un D400 klases lūka ar adapteri, blīvgumiju, enģi un atsperi, DN≥600mm atbilstoši LVS EN 124, ar "VINDA" logo, polimēra materiāla atbalsta gredzens DN 680/1050 un polimēra materiāla paaugstinošie gredzeni DN 700/875 [mm], slodzes izturība atbilstoši LVS EN 124 prasībām | D81: kpl | E81: 2 | G81: =ROUND(F81*E81,2) -> 0
A82: 2.5 | C82: Dzelzsbetona elementos iebetonējama apvalkčaula PP DN160 caurulei | D82: kpl | E82: 2 | G82: =ROUND(F82*E82,2) -> 0
A83: 2.6 | C83: Dubultuzmava, OD160mm, esošo pieslēgumu pārslēgšanai | D83: gb | E83: 5 | G83: =ROUND(F83*E83,2) -> 0
A84: 2.7 | C84: Pieslēguma pāreja pieslēgumam plastmasas skatakās, OD160mm | D84: gb | E84: 2 | G84: =ROUND(F84*E84,2) -> 0
A85: 2.8 | C85: Betons B25 (C20/25), W8 skataku apbetonējumam, armatūra Ø5mm | D85: m3 | E85: 7.5 | G85: =ROUND(F85*E85,2) -> 0
A86: 2.9 | C86: Palīgmateriāli K1 sistēmas montāžai | D86: kpl | E86: 1 | G86: =ROUND(F86*E86,2) -> 0
A87: 2.10 | C87: Sistēmas skalošana un CCTV inspekcija | D87: kpl | E87: 1 | G87: =ROUND(F87*E87,2) -> 0
C88: Pārejie darbi | D88: N/A
A89: 2.15 | C89: Precizēt esošo un projektējamo komunikācijas šķērsošanas vietas, atšurfējot pirms būvdarbu uzsākšanas | D89: vieta | E89: 7 | G89: =ROUND(F89*E89,2) -> 0
A90: 2.16 | C90: UKT tīklu trasējuma nospraušana pirms būvdarbu uzsakšanas | D90: kpl | E90: 1 | G90: =ROUND(F90*E90,2) -> 0
A91: 2.17 | C91: Sagatavošanās darbi pirms būvdarbu sākšanas - nepieciešamo atļauju un saskaņojumu saņemšana | D91: kpl | E91: 1 | G91: =ROUND(F91*E91,2) -> 0
A92: 2.18 | C92: Pasākumi pagaidu kanalizācijas nodrošināšana esošajiem patērētājiem | D92: kpl | E92: 1 | G92: =ROUND(F92*E92,2) -> 0
A93: 2.19 | C93: Esošā kanalizācijas posmu un elementu demontāža, utilizācija | D93: kpl | E93: 1 | G93: =ROUND(F93*E93,2) -> 0
A94: 2.20 | C94: Izbūvēto K1 sistēmu izpildshēmas izstrāde | D94: kpl | E94: 1 | G94: =ROUND(F94*E94,2) -> 0
C95: K1 izbūves darbi (zemes darbi) | D95: N/A
A96: 2.20 | C96: Tranšejas rakšana, (hvid=2.50m) projektēto cauruļvadu montāžai, nederīgās grunts transports uz atbērtni 10km attālumā | D96: m3 | E96: =(E78)*2.5*1.5 -> 44.25 | G96: =ROUND(F96*E96,2) -> 0
A97: 2.21 | C97: Smilts pamatnes ierīkošana zem cauruļvadiem h=0.15m un apbēruma h=0.30m ierīkošanai | D97: m3 | E97: =(E78)*0.45*1.5 -> 7.965 | G97: =ROUND(F97*E97,2) -> 0
A98: 2.22 | C98: Tranšejas aizbēršana ar pievestu smilšu grunti kf>1m/dnn (esošās māla grunts nomaiņa) no ierīkotā apbēruma ap cauruļvadu līdz atjaunojamā seguma apakšējai kārtai | D98: m3 | E98: =E96-E97 -> 36.285 | G98: =ROUND(F98*E98,2) -> 0
A99: 2.23 | C99: Tranšejas sieniņu nostiprināšana ar rievsienām vai metāla vairogiem (h>1.5m) | D99: m | E99: =E78 -> 11.8 | G99: =ROUND(F99*E99,2) -> 0
A100: 3 | C100: LIETUS KANALIZĀCIJAS UN DRENĀŽAS TĪKLI - LK1, D1
C101: Lietus kanalizācija, drenāža
A102: 3.1 | C102: PP dubultsienu lietus kanalizācijas caurule OD315mm, uzmavu tipa, iebūves klase SN8, ar baltu vai gaiši pelēku iekšpusi, atbilstošas LVS EN13476-3, ar iebūvi atklātā tranšejā ar vairogiem | D102: m | E102: 217.1 | G102: =ROUND(F102*E102,2) -> 0
A103: 3.2 | C103: PP dubultsienu lietus kanalizācijas caurule OD250mm, uzmavu tipa, iebūves klase SN8, ar baltu vai gaiši pelēku iekšpusi, atbilstošas LVS EN13476-3, ar iebūvi atklātā tranšejā ar vairogiem | D103: m | E103: 178 | G103: =ROUND(F103*E103,2) -> 0
A104: 3.3 | C104: PP dubultsienu lietus kanalizācijas caurule OD200mm, uzmavu tipa, iebūves klase SN8, ar baltu vai gaiši pelēku iekšpusi, atbilstošas LVS EN13476-3, ar iebūvi atklātā tranšejā ar vairogiem | D104: m | E104: 100.3 | G104: =ROUND(F104*E104,2) -> 0
A105: 3.4 | C105: PP dubultsienu lietus kanalizācijas caurule OD160mm, uzmavu tipa, iebūves klase SN8, ar baltu vai gaiši pelēku iekšpusi, atbilstošas LVS EN13476-3, ar iebūvi atklātā tranšejā ar vairogiem | D105: m | E105: 8.4 | G105: =ROUND(F105*E105,2) -> 0
A106: 3.5 | C106: PVC kanalizācijas caurule OD110mm, uzmavu tipa, iebūves klase SN8, atbilstošas LVS EN13476, ar iebūvi atklātā tranšejā | D106: m | E106: 20.5 | G106: =ROUND(F106*E106,2) -> 0
A107: 3.6 | C107: PVC drenāžas caurule DN128/113mm PP filtru 450μ, perforācija 360°, iebūves klase SN8, atbilstošas LVS EN13476, ar iebūvi atklātā tranšejā | D107: m | E107: 60.4 | G107: =ROUND(F107*E107,2) -> 0
A108: 3.7 | C108: Grodu tipa kanalizācijas skataka H=1.00-1.49m, polipropilēna atbilstoši LVS EN 13598-2 un LVS EN 476, grodu tipa elementi savstarpēji savienoti ar blīvgredzeniem DN 1000 mm, atbilstoši LVS EN 681-1 un LVS EN 1277, ar rūpnieciski lietu akas pamatni baltā krāsā, integrētām stacionārām kāpnēm atbilstoši LVS EN 13101 prasībām, VIATOP vai ekvivalentas "peldošā" tipa ķeta rāmis un D400 klases lūka ar adapteri, blīvgumiju, enģi un atsperi, DN≥600mm atbilstoši LVS EN 124, ar "VINDA" logo, polimēra materiāla atbalsta gredzens DN 680/1050 un polimēra materiāla paaugstinošie gredzeni DN 700/875 [mm], slodzes izturība atbilstoši LVS EN 124 prasībām | D108: kpl | E108: 1 | G108: =ROUND(F108*E108,2) -> 0
A109: 3.8 | C109: Grodu tipa kanalizācijas skataka H=2.00-2.49m, polipropilēna atbilstoši LVS EN 13598-2 un LVS EN 476, grodu tipa elementi savstarpēji savienoti ar blīvgredzeniem DN 1000 mm, atbilstoši LVS EN 681-1 un LVS EN 1277, ar rūpnieciski lietu akas pamatni baltā krāsā, integrētām stacionārām kāpnēm atbilstoši LVS EN 13101 prasībām, VIATOP vai ekvivalentas "peldošā" tipa ķeta rāmis un D400 klases lūka ar adapteri, blīvgumiju, enģi un atsperi, DN≥600mm atbilstoši LVS EN 124, ar "VINDA" logo, polimēra materiāla atbalsta gredzens DN 680/1050 un polimēra materiāla paaugstinošie gredzeni DN 700/875 [mm], slodzes izturība atbilstoši LVS EN 124 prasībām | D109: kpl | E109: 1 | G109: =ROUND(F109*E109,2) -> 0
A110: 3.9 | C110: Grodu tipa kanalizācijas skataka H=2.50-2.99m, polipropilēna atbilstoši LVS EN 13598-2 un LVS EN 476, grodu tipa elementi savstarpēji savienoti ar blīvgredzeniem DN 1000 mm, atbilstoši LVS EN 681-1 un LVS EN 1277, ar rūpnieciski lietu akas pamatni baltā krāsā, integrētām stacionārām kāpnēm atbilstoši LVS EN 13101 prasībām, VIATOP vai ekvivalentas "peldošā" tipa ķeta rāmis un D400 klases lūka ar adapteri, blīvgumiju, enģi un atsperi, DN≥600mm atbilstoši LVS EN 124, ar "VINDA" logo, polimēra materiāla atbalsta gredzens DN 680/1050 un polimēra materiāla paaugstinošie gredzeni DN 700/875 [mm], slodzes izturība atbilstoši LVS EN 124 prasībām | D110: kpl | E110: 1 | G110: =ROUND(F110*E110,2) -> 0
A111: 3.10 | C111: Plastmasas skataka DN630mm, sekciju tipa, h=1,00-1,49m, PP cauruļvadu pievienojumi rūpnieciski iemetināmi vai iefrēzējami un pievienojami ar pieslēguma pārejām, peldošā tipa ķeta rāmis un D400 klases lūka ar teleskopu | D111: kpl | E111: 15 | G111: =ROUND(F111*E111,2) -> 0
A112: 3.11 | C112: Plastmasas skataka DN630mm, sekciju tipa, h=1,50-1,99m, PP cauruļvadu pievienojumi rūpnieciski iemetināmi vai iefrēzējami un pievienojami ar pieslēguma pārejām, peldošā tipa ķeta rāmis un D400 klases lūka ar teleskopu | D112: kpl | E112: 6 | G112: =ROUND(F112*E112,2) -> 0
A113: 3.12 | C113: Plastmasas skataka DN630mm, sekciju tipa, h=2.00-2.49m, PP cauruļvadu pievienojumi rūpnieciski iemetināmi vai iefrēzējami un pievienojami ar pieslēguma pārejām, peldošā tipa ķeta rāmis un D400 klases lūka ar teleskopu | D113: kpl | E113: 5 | G113: =ROUND(F113*E113,2) -> 0
... A126: 3.25 | C126: Sistēmas skalošana un CCTV inspekcija | D126: kpl | E126: 1 | G126: =ROUND(F126*E126,2) -> 0
C127: Pārejie darbi | D127: N/A
A128: 3.26 | C128: Precizēt esošo un projektējamo komunikācijas šķērsošanas vietas, atšurfējot pirms būvdarbu uzsākšanas | D128: vieta | E128: 59 | G128: =ROUND(F128*E128,2) -> 0
A129: 3.27 | C129: LKT tīklu trasējuma nospraušana pirms būvdarbu uzsakšanas | D129: kpl | E129: 1 | G129: =ROUND(F129*E129,2) -> 0
A130: 3.28 | C130: Sagatavošanās darbi pirms būvdarbu sākšanas - nepieciešamo atļauju un saskaņojumu saņemšana | D130: kpl | E130: 1 | G130: =ROUND(F130*E130,2) -> 0
A131: 3.29 | C131: Izbūvēto LK1, D1 sistēmu izpildshēmas izstrāde | D131: kpl | E131: 1 | G131: =ROUND(F131*E131,2) -> 0
C132: LK1, D1 izbūves darbi (zemes darbi) | D132: N/A
A133: 3.30 | C133: Tranšejas rakšana, (hvid=2.10m) projektēto cauruļvadu montāžai, nederīgās grunts transports uz atbērtni 10km attālumā | D133: m3 | E133: =(E102+E103+E104+E105+E106)*2.1*1.5 -> 1651.545 | G133: =ROUND(F133*E133,2) -> 0
A134: 3.31 | C134: Smilts pamatnes ierīkošana zem cauruļvadiem h=0.15m un apbēruma h=0.30m ierīkošanai | D134: m3 | E134: =(E102+E103+E104+E105+E106+E107)*0.45*1.5 -> 394.6725 | G134: =ROUND(F134*E134,2) -> 0
A135: 3.32 | C135: Tranšejas aizbēršana ar pievestu smilšu grunti kf>1m/dnn (esošās māla grunts nomaiņa) no ierīkotā apbēruma ap cauruļvadu līdz atjaunojamā seguma apakšējai kārtai | D135: m3 | E135: =E133-E134 -> 1256.8725 | G135: =ROUND(F135*E135,2) -> 0
A136: 3.33 | C136: Tranšejas sieniņu nostiprināšana ar rievsienām vai metāla vairogiem (h>1.5m) | D136: m | E136: =E103 -> 178 | G136: =ROUND(F136*E136,2) -> 0
D137: A | E137: Kopā (bez PVN): | G137: =SUM(G7:G136) -> 0
D138: B | E138: PVN (21% no A) | G138: =ROUND(G137*0.21,2) -> 0
D139: C | E139: Pavisam kopā (A+B) | G139: =G137+G138 -> 0

Sheet LKT_UKT K.V
A1: Ūdensapgāde un kanalizācija – ārējie tīkli (LKT, UKT)
A2: Projektētājs | B2: SIA “RK projekti”
A3: Objekts | B3: Krišjāņa Valdemāra ielas pārbūve, Cēsīs, Cēsu novadā
A4: Garums, m | B4: 407.80 m
A6: Izmaksu pozīcija | B6: Specifik. Nr | C6: Darba nosaukums | D6: Mērvienība | E6: Darba daudzums | F6: Vienības cena EUR | G6: Kopējā izmaksa EUR
A7: 1 | C7: ŪDENSAPGĀDES TĪKLI - U1
C8: Ūdensvads | D8: N/A
A9: 1.1 | C9: Ūdensvada caurule ārējiem tīkliem, PE100, RC, PN 10, DN/OD110, SDR17, atbilstošas LVS EN 12201, ar EM savienojumiem, iebūve atklātā tranšejā ar vairogiem | D9: m | E9: 322.5 | G9: =ROUND(F9*E9,2) -> 0
A10: 1.2 | C10: Ūdensvada caurule ārējiem tīkliem, PE100, RC, PN 10, DN/OD63, SDR17, atbilstošas LVS EN 12201, ar EM savienojumiem, iebūve atklātā tranšejā ar vairogiem | D10: m | E10: 2 | G10: =ROUND(F10*E10,2) -> 0
A11: 1.3 | C11: Ūdensvada caurule ārējiem tīkliem, PE100, RC, PN 10, DN/OD32, SDR17, atbilstošas LVS EN 12201, ar EM savienojumiem, iebūve atklātā tranšejā ar vairogiem | D11: m | E11: 41.7 | G11: =ROUND(F11*E11,2) -> 0
A12: 1.4 | C12: Ūdensvada caurule ārējiem tīkliem, PE100, RC, PN 10, DN/OD25, SDR17, atbilstošas LVS EN 12201, ar EM savienojumiem, iebūve atklātā tranšejā ar vairogiem | D12: m | E12: 44.2 | G12: =ROUND(F12*E12,2) -> 0
A13: 1.5 | C13: Skataka H=2,20m no saliekamiem dz/b elementiem D1500mm (grodi, pamatne, pārsegums, regulējošie gredzeni), hidroizolācija, VIATOP vai ekvivalentas "peldošā" tipa ķeta rāmis un D400 klases lūka ar adapteri, blīvgumiju, enģi un atsperi, DN≥600mm atbilstoši LVS EN 124, ar "VINDA" logo, polimēra materiāla atbalsta gredzens DN 680/1050 un polimēra materiāla paaugstinošie gredzeni DN 700/875 [mm], slodzes izturība atbilstoši LVS EN 124 prasībām | D13: kpl | E13: 1 | G13: =ROUND(F13*E13,2) -> 0
A14: 1.6 | C14: Skataka H=2,20m no saliekamiem dz/b elementiem D1000mm (grodi, pamatne, pārsegums, regulējošie gredzeni), hidroizolācija, VIATOP vai ekvivalentas "peldošā" tipa ķeta rāmis un D400 klases lūka ar adapteri, blīvgumiju, enģi un atsperi, DN≥600mm atbilstoši LVS EN 124, ar "VINDA" logo, sarkanā krāsā, polimēra materiāla atbalsta gredzens DN 680/1050 un polimēra materiāla paaugstinošie gredzeni DN 700/875 [mm], slodzes izturība atbilstoši LVS EN 124 prasībām | D14: kpl | E14: 1 | G14: =ROUND(F14*E14,2) -> 0
A15: 1.7 | C15: Esošās skatakas D1500 pārseguma maiņa, līmeņošana atbilstoši ceļa reljefam, lūkas nomaiņa uz VIATOP vai ekvivalentas "peldošā" tipa ķeta rāmis un D400 klases lūka ar adapteri, blīvgumiju, enģi un atsperi, atbilstoši LVS EN 124, DN≥600mm, lūka ar VINDA logo | D15: kpl | E15: 1 | G15: =ROUND(F15*E15,2) -> 0
A16: 1.8 | C16: Rūpnieciski izgatavota, siltināta ūdensskaitītāja aka PM400 ar čuguna vāku ietvēm, ar iebūvētu apsaisti un caurulēm ūdens skaitītāja Dn15mm montāžai | D16: kpl | E16: 1 | G16: =ROUND(F16*E16,2) -> 0
A17: 1.9 | C17: Atloku krustgabals DN150/100, PN10, DCI | D17: gb | E17: 1 | G17: =ROUND(F17*E17,2) -> 0
A18: 1.10 | C18: Elektrometināms trejgabals 90°, PE, PN10, DN110/110 | D18: gb | E18: 1 | G18: =ROUND(F18*E18,2) -> 0
A19: 1.11 | C19: Elektrometināms trejgabals 90°, PE, PN10, DN110/63 | D19: gb | E19: 2 | G19: =ROUND(F19*E19,2) -> 0
A20: 1.12 | C20: Elektrometināms līkums 45°, PE, PN10, DN110 | D20: gb | E20: 3 | G20: =ROUND(F20*E20,2) -> 0
... A54: 1.46 | C54: Sistēmas skalošana, dezinfekcija, testēšana, hidrauliskā pārbaude, nodošana ekspluatācijā | D54: kpl | E54: 1 | G54: =ROUND(F54*E54,2) -> 0
C55: Pārejie darbi | D55: N/A
A56: 1.47 | C56: Precizēt esošo un projektējamo komunikācijas šķērsošanas vietas, atšurfējot pirms būvdarbu uzsākšanas | D56: vieta | E56: 89 | G56: =ROUND(F56*E56,2) -> 0
A57: 1.48 | C57: UKT tīklu trasējuma nospraušana pirms būvdarbu uzsakšanas | D57: kpl | E57: 1 | G57: =ROUND(F57*E57,2) -> 0
A58: 1.49 | C58: Sagatavošanās darbi pirms būvdarbu sākšanas - nepieciešamo atļauju un saskaņojumu saņemšana | D58: kpl | E58: 1 | G58: =ROUND(F58*E58,2) -> 0
A59: 1.50 | C59: Pasākumi pagaidu ūdensapgādes nodrošināšana esošajiem patērētājiem | D59: kpl | E59: 1 | G59: =ROUND(F59*E59,2) -> 0
A60: 1.51 | C60: Esošā ūdensvada posmu demontāža, utilizācija | D60: kpl | E60: 1 | G60: =ROUND(F60*E60,2) -> 0
A61: 1.52 | C61: Esošā ūdensvada skataku, pazemes pieslēgumu demontāža, utilizācija | D61: kpl | E61: 7 | G61: =ROUND(F61*E61,2) -> 0
A62: 1.53 | C62: Izbūvēto U1 sistēmu izpildshēmas izstrāde | D62: kpl | E62: 1 | G62: =ROUND(F62*E62,2) -> 0
C63: U1 izbūves darbi (zemes darbi) | D63: N/A
A64: 1.54 | C64: Tranšejas rakšana, (hvid=2.10m) projektēto cauruļvadu montāžai, nederīgās grunts transports uz atbērtni 10km attālumā | D64: m3 | E64: =(E9+E10+E11+E12)*2.1*1.5 -> 1292.76 | G64: =ROUND(F64*E64,2) -> 0
A65: 1.55 | C65: Smilts pamatnes ierīkošana zem cauruļvadiem h=0.15m un apbēruma h=0.30m ierīkošanai | D65: m3 | E65: =(E9+E10+E11+E12)*0.45*1.5 -> 277.02 | G65: =ROUND(F65*E65,2) -> 0
A66: 1.56 | C66: Tranšejas aizbēršana ar pievestu smilšu grunti kf>1m/dnn (esošās māla grunts nomaiņa) no ierīkotā apbēruma ap cauruļvadu līdz atjaunojamā seguma apakšējai kārtai | D66: m3 | E66: =E64-E65 -> 1015.74 | G66: =ROUND(F66*E66,2) -> 0
A67: 1.57 | C67: Tranšejas sieniņu nostiprināšana ar rievsienām vai metāla vairogiem (h>1.5m) | D67: m | E67: =E9+E10+E11+E12 -> 410.4 | G67: =ROUND(F67*E67,2) -> 0
A68: 1.58 | C68: Gruntsūdens līmeņa pazemināšana | D68: m | E68: 50 | G68: =ROUND(F68*E68,2) -> 0
A69: 2 | C69: SADZĪVES KANALIZĀCIJAS TĪKLI - K1
C70: Sadzīves kanalizācija
A71: 2.1 | C71: PP monolītsienu kanalizācijas caurule ar monolītas konstrukcijas ribām OD200mm, uzmavu tipa, iebūves klase SN8, ar baltu vai gaiši pelēku iekšpusi, atbilstošas LVS EN13476-3, ar iebūvi atklātā tranšejā ar vairogiem | D71: m | E71: 64.4 | G71: =ROUND(F71*E71,2) -> 0
A72: 2.2 | C72: PP monolītsienu kanalizācijas caurule ar monolītas konstrukcijas ribām OD160mm, uzmavu tipa, iebūves klase SN8, ar baltu vai gaiši pelēku iekšpusi, atbilstošas LVS EN13476-3, ar iebūvi atklātā tranšejā ar vairogiem | D72: m | E72: 16.9 | G72: =ROUND(F72*E72,2) -> 0
A73: 2.3 | C73: Grodu tipa kanalizācijas skataka H=2.50-2.99m, polipropilēnaatbilstoši LVS EN 13598-2 un LVS EN 476, grodu tipa elementi savstarpēji savienoti ar blīvgredzeniem DN 1000 mm, atbilstoši LVS EN 681-1 un LVS EN 1277, ar rūpnieciski lietu akas pamatni baltā krāsā, integrētām stacionārām kāpnēm atbilstoši LVS EN 13101 prasībām, VIATOP vai ekvivalentas "peldošā" tipa ķeta rāmis un D400 klases lūka ar adapteri, blīvgumiju, enģi un atsperi, DN≥600mm atbilstoši LVS EN 124, ar "VINDA" logo, polimēra materiāla atbalsta gredzens DN 680/1050 un polimēra materiāla paaugstinošie gredzeni DN 700/875 [mm], slodzes izturība atbilstoši LVS EN 124 prasībām | D73: kpl | E73: 1 | G73: =ROUND(F73*E73,2) -> 0
A74: 2.4 | C74: Grodu tipa kanalizācijas skataka H=2.00-2.49m, polipropilēnaatbilstoši LVS EN 13598-2 un LVS EN 476, grodu tipa elementi savstarpēji savienoti ar blīvgredzeniem DN 1000 mm, atbilstoši LVS EN 681-1 un LVS EN 1277, ar rūpnieciski lietu akas pamatni baltā krāsā, integrētām stacionārām kāpnēm atbilstoši LVS EN 13101 prasībām, VIATOP vai ekvivalentas "peldošā" tipa ķeta rāmis un D400 klases lūka ar adapteri, blīvgumiju, enģi un atsperi, DN≥600mm atbilstoši LVS EN 124, ar "VINDA" logo, polimēra materiāla atbalsta gredzens DN 680/1050 un polimēra materiāla paaugstinošie gredzeni DN 700/875 [mm], slodzes izturība atbilstoši LVS EN 124 prasībām | D74: kpl | E74: 1 | G74: =ROUND(F74*E74,2) -> 0
A75: 2.5 | C75: Esošās skatakas pārseguma nomaiņa, līmeņošana atbilstoši ceļa reljefam, lūkas nomaiņa uz VIATOP vai ekvivalentas "peldošā" tipa ķeta rāmis un D400 klases lūka ar adapteri, blīvgumiju, enģi un atsperi, DN≥600mm atbilstoši LVS EN 124, ar "VINDA" logo, polimēra materiāla atbalsta gredzens DN 680/1050 un polimēra materiāla paaugstinošie gredzeni DN 700/875 [mm], slodzes izturība atbilstoši LVS EN 124 prasībām | D75: kpl | E75: 1 | G75: =ROUND(F75*E75,2) -> 0
A76: 2.6 | C76: Dzelzsbetona elementos iebetonējama apvalkčaula PP DN200 caurulei | D76: kpl | E76: 6 | G76: =ROUND(F76*E76,2) -> 0
A77: 2.7 | C77: Dzelzsbetona elementos iebetonējama apvalkčaula PP DN160 caurulei | D77: kpl | E77: 6 | G77: =ROUND(F77*E77,2) -> 0
A78: 2.8 | C78: Betons B25 (C20/25), W8 skataku apbetonējumam, armatūra Ø5mm | D78: m3 | E78: 9 | G78: =ROUND(F78*E78,2) -> 0
A79: 2.9 | C79: Palīgmateriāli K1 sistēmas montāžai | D79: kpl | E79: 1 | G79: =ROUND(F79*E79,2) -> 0
A80: 2.10 | C80: Sistēmas skalošana un CCTV inspekcija | D80: kpl | E80: 1 | G80: =ROUND(F80*E80,2) -> 0
C81: Pārejie darbi | D81: N/A
A82: 2.11 | C82: Precizēt esošo un projektējamo komunikācijas šķērsošanas vietas, atšurfējot pirms būvdarbu uzsākšanas | D82: vieta | E82: 17 | G82: =ROUND(F82*E82,2) -> 0
A83: 2.12 | C83: UKT tīklu trasējuma nospraušana pirms būvdarbu uzsakšanas | D83: kpl | E83: 1 | G83: =ROUND(F83*E83,2) -> 0
A84: 2.13 | C84: Sagatavošanās darbi pirms būvdarbu sākšanas - nepieciešamo atļauju un saskaņojumu saņemšana | D84: kpl | E84: 1 | G84: =ROUND(F84*E84,2) -> 0
A85: 2.14 | C85: Pasākumi pagaidu kanalizācijas nodrošināšana esošajiem patērētājiem | D85: kpl | E85: 1 | G85: =ROUND(F85*E85,2) -> 0
A86: 2.15 | C86: Esošā kanalizācijas posmu un elementu demontāža, utilizācija | D86: kpl | E86: 1 | G86: =ROUND(F86*E86,2) -> 0
A87: 2.16 | C87: Izbūvēto K1 sistēmu izpildshēmas izstrāde | D87: kpl | E87: 1 | G87: =ROUND(F87*E87,2) -> 0
C88: K1 izbūves darbi (zemes darbi) | D88: N/A
A89: 2.17 | C89: Tranšejas rakšana, (hvid=2.50m) projektēto cauruļvadu montāžai, nederīgās grunts transports uz atbērtni 10km attālumā | D89: m3 | E89: =(E71+E72)*2.5*1.5 -> 304.875 | G89: =ROUND(F89*E89,2) -> 0
A90: 2.18 | C90: Smilts pamatnes ierīkošana zem cauruļvadiem h=0.15m un apbēruma h=0.30m ierīkošanai | D90: m3 | E90: =(E71+E72)*0.45*1.5 -> 54.8775 | G90: =ROUND(F90*E90,2) -> 0
A91: 2.19 | C91: Tranšejas aizbēršana ar pievestu smilšu grunti kf>1m/dnn (esošās māla grunts nomaiņa) no ierīkotā apbēruma ap cauruļvadu līdz atjaunojamā seguma apakšējai kārtai | D91: m3 | E91: =E89-E90 -> 249.9975 | G91: =ROUND(F91*E91,2) -> 0
A92: 2.20 | C92: Tranšejas sieniņu nostiprināšana ar rievsienām vai metāla vairogiem (h>1.5m) | D92: m | E92: =E71 -> 64.4 | G92: =ROUND(F92*E92,2) -> 0
A93: 2.21 | C93: Gruntsūdens līmeņa pazemināšana | D93: m | E93: 30 | G93: =ROUND(F93*E93,2) -> 0
A94: 3 | C94: LIETUS KANALIZĀCIJAS TĪKLI - LK1
C95: Lietus kanalizācija
A96: 3.1 | C96: PP dubultsienu lietus kanalizācijas caurule OD250mm, uzmavu tipa, iebūves klase SN8, ar baltu vai gaiši pelēku iekšpusi, atbilstošas LVS EN13476-3, ar iebūvi atklātā tranšejā ar vairogiem | D96: m | E96: 227 | G96: =ROUND(F96*E96,2) -> 0
A97: 3.2 | C97: PP dubultsienu lietus kanalizācijas caurule OD200mm, uzmavu tipa, iebūves klase SN8, ar baltu vai gaiši pelēku iekšpusi, atbilstošas LVS EN13476-3, ar iebūvi atklātā tranšejā ar vairogiem | D97: m | E97: 178.4 | G97: =ROUND(F97*E97,2) -> 0
A98: 3.3 | C98: PP dubultsienu lietus kanalizācijas caurule OD160mm, uzmavu tipa, iebūves klase SN8, ar baltu vai gaiši pelēku iekšpusi, atbilstošas LVS EN13476-3, ar iebūvi atklātā tranšejā ar vairogiem | D98: m | E98: 5.3 | G98: =ROUND(F98*E98,2) -> 0
A99: 3.4 | C99: PVC kanalizācijas caurule OD110mm, uzmavu tipa, iebūves klase SN8, atbilstošas LVS EN13476, ar iebūvi atklātā tranšejā | D99: m | E99: 128.1 | G99: =ROUND(F99*E99,2) -> 0
A100: 3.5 | C100: Grodu tipa kanalizācijas skataka H=1.50-1.99m, polipropilēnaatbilstoši LVS EN 13598-2 un LVS EN 476, grodu tipa elementi savstarpēji savienoti ar blīvgredzeniem DN 1000 mm, atbilstoši LVS EN 681-1 un LVS EN 1277, ar rūpnieciski lietu akas pamatni baltā krāsā, integrētām stacionārām kāpnēm atbilstoši LVS EN 13101 prasībām, VIATOP vai ekvivalentas "peldošā" tipa ķeta rāmis un D400 klases lūka ar adapteri, blīvgumiju, enģi un atsperi, DN≥600mm atbilstoši LVS EN 124, ar "VINDA" logo, polimēra materiāla atbalsta gredzens DN 680/1050 un polimēra materiāla paaugstinošie gredzeni DN 700/875 [mm], slodzes izturība atbilstoši LVS EN 124 prasībām | D100: kpl | E100: 3 | G100: =ROUND(F100*E100,2) -> 0
A101: 3.6 | C101: Plastmasas skataka DN630mm, sekciju tipa, h=1,50-1,99m, PP cauruļvadu pievienojumi rūpnieciski iemetināmi vai iefrēzējami un pievienojami ar pieslēguma pārejām, peldošā tipa ķeta rāmis un D400 klases lūka ar teleskopu | D101: kpl | E101: 6 | G101: =ROUND(F101*E101,2) -> 0
A102: 3.7 | C102: Plastmasas skataka DN630mm, sekciju tipa, h=2.00-2.49m, PP cauruļvadu pievienojumi rūpnieciski iemetināmi vai iefrēzējami un pievienojami ar pieslēguma pārejām, peldošā tipa ķeta rāmis un D400 klases lūka ar teleskopu | D102: kpl | E102: 6 | G102: =ROUND(F102*E102,2) -> 0
A103: 3.8 | C103: Plastmasas skataka DN630mm, sekciju tipa, h=2.50-2.99m, PP cauruļvadu pievienojumi rūpnieciski iemetināmi vai iefrēzējami un pievienojami ar pieslēguma pārejām, peldošā tipa ķeta rāmis un D400 klases RESTE ar teleskopu | D103: kpl | E103: 1 | G103: =ROUND(F103*E103,2) -> 0
A104: 3.9 | C104: Plastmasas skataka DN425mm, sekciju tipa, h=1.00-1.49m, PP cauruļvadu pievienojumi rūpnieciski iemetināmi vai iefrēzējami un pievienojami ar pieslēguma pārejām, peldošā tipa ķeta rāmis un D400 klases lūka ar teleskopu | D104: kpl | E104: 3 | G104: =ROUND(F104*E104,2) -> 0
A105: 3.10 | C105: Plastmasas gūlija DN425mm, sekciju tipa, h<1,50m, PP cauruļvadu pievienojumi rūpnieciski iemetināmi vai iefrēzējami un pievienojami ar pieslēguma pārejām, peldošā tipa ķeta rāmis un D400 klases kvadrātveida reste ar teleskopu, nosēddaļa h=0,5m | D105: kpl | E105: 9 | G105: =ROUND(F105*E105,2) -> 0
A106: 3.11 | C106: Plastmasas gūlija DN425mm, sekciju tipa, h<1,50m, PP cauruļvadu pievienojumi rūpnieciski iemetināmi vai iefrēzējami un pievienojami ar pieslēguma pārejām, C250 klases ķeta reste paredzēta montāžai bortakmenī ar teleskopu, atverama, nosēddaļa h=0,5m ("Wavin" vai analogs) | D106: kpl | E106: 10 | G106: =ROUND(F106*E106,2) -> 0
A107: 3.12 | C107: Plastmasas filtrācijas skataka DN425mm, sekciju tipa, h=1.30m, PP cauruļvadu pievienojumi rūpnieciski iemetināmi vai iefrēzējami un pievienojami ar pieslēguma pārejām, peldošā tipa ķeta rāmis un B125 klases lūka ar teleskopu, augšdaļas perforācija, ģeotekstila NV-9 ārējais aizsargpārklājums, nosēddaļa h=0.70m, skalotu oļu apbērums | D107: kpl | E107: 1 | G107: =ROUND(F107*E107,2) -> 0
... A128: 3.33 | C128: Sistēmas skalošana un CCTV inspekcija | D128: kpl | E128: 1 | G128: =ROUND(F128*E128,2) -> 0
C129: Pārejie darbi | D129: N/A
A130: 3.34 | C130: Precizēt esošo un projektējamo komunikācijas šķērsošanas vietas, atšurfējot pirms būvdarbu uzsākšanas | D130: vieta | E130: 86 | G130: =ROUND(F130*E130,2) -> 0
A131: 3.35 | C131: LKT tīklu trasējuma nospraušana pirms būvdarbu uzsakšanas | D131: kpl | E131: 1 | G131: =ROUND(F131*E131,2) -> 0
A132: 3.36 | C132: Sagatavošanās darbi pirms būvdarbu sākšanas - nepieciešamo atļauju un saskaņojumu saņemšana | D132: kpl | E132: 1 | G132: =ROUND(F132*E132,2) -> 0
A133: 3.37 | C133: Izbūvēto LK1, D1 sistēmu izpildshēmas izstrāde | D133: kpl | E133: 1 | G133: =ROUND(F133*E133,2) -> 0
C134: LK1 izbūves darbi (zemes darbi) | D134: N/A
A135: 3.38 | C135: Tranšejas rakšana, (hvid=2.10m) projektēto cauruļvadu montāžai, nederīgās grunts transports uz atbērtni 10km attālumā | D135: m3 | E135: =(E96+E97+E98+E99)*2.1*1.5 -> 1697.22 | G135: =ROUND(F135*E135,2) -> 0
A136: 3.39 | C136: Smilts pamatnes ierīkošana zem cauruļvadiem h=0.15m un apbēruma h=0.30m ierīkošanai | D136: m3 | E136: =(E96+E97+E98+E99)*0.45*1.5 -> 363.69 | G136: =ROUND(F136*E136,2) -> 0
A137: 3.40 | C137: Tranšejas aizbēršana ar pievestu smilšu grunti kf>1m/dnn (esošās māla grunts nomaiņa) no ierīkotā apbēruma ap cauruļvadu līdz atjaunojamā seguma apakšējai kārtai | D137: m3 | E137: =E135-E136 -> 1333.53 | G137: =ROUND(F137*E137,2) -> 0
A138: 3.41 | C138: Tranšejas sieniņu nostiprināšana ar rievsienām vai metāla vairogiem (h>1.5m) | D138: m | E138: =E96 -> 227 | G138: =ROUND(F138*E138,2) -> 0
A139: 3.42 | C139: Gruntsūdens līmeņa pazemināšana | D139: m | E139: 50 | G139: =ROUND(F139*E139,2) -> 0
D140: A | E140: Kopā (bez PVN): | G140: =SUM(G7:G139) -> 0
D141: B | E141: PVN (21% no A) | G141: =ROUND(G140*0.21,2) -> 0
D142: C | E142: Pavisam kopā (A+B) | G142: =G140+G141 -> 0

Sheet ELT-apgaismojums_P
A1: Apgaismojums (ELT)
A2: Projektētājs | B2: SIA “RK projekti”
A3: Objekts | B3: Krišjāņa Valdemāra un Pļavas ielas pārbūve, Cēsīs, Cēsu novadā
A4: Garums, m | B4: 389.30 m
A6: Izmaksu pozīcija | B6: Specifik. Nr | C6: Darba nosaukums | D6: Mērvienība | E6: Darba daudzums | F6: Vienības cena EUR | G6: Kopējā izmaksa EUR
C7: Materiāli
A8: 1 | B8: - | C8: Karsti cinkots tērauda balsts, H=6m (virszemes augstums), ar iebūvētu 230V ārtipa rozeti (svētku appgaismojumam) h=5,5m augstumā, kā arī ar spēka kabeļa izvadu H=4m augstumā (videonovērošanas kameras persp. Pieslēgumam) | D8: gb | E8: 13 | G8: =ROUND(F8*E8,2) -> 0
A9: 2 | C9: Karsti cinkota tērauda konsole H=2m, L=1m, 15-grādi | D9: gb | E9: 13
A10: 3 | B10: - | C10: Apgaismes balsta h=8m betona pamats | D10: gb | E10: 13 | G10: =ROUND(F10*E10,2) -> 0
A11: 4 | B11: - | C11: Apgaismes balsta stiprinājuma komplekts (pie pamata), blīvējumi | D11: gb | E11: 13 | G11: =ROUND(F11*E11,2) -> 0
A12: 5 | B12: - | C12: Individuāli izgatavojams dekoratīvais vēsturiskā dizaina gaismeklis (saskaņā ar Cēsu novada pašvaldības prasībām); Jaudu, krāsu, izpildījumu precizēt montāžas laikā, saskaņā ar Cēsu pašvaldības un ielu apgaismojuma uzturētāja organizācijas tehniskiem norādījumiem, komplektā ar dekoratīvo kronšteinu montāžai uz sienas/stiprinājumu uz balsta | D12: gb | E12: 2 | G12: =ROUND(F12*E12,2) -> 0
A13: 6 | B13: - | C13: Ielu apgaismojuma LED gaismeklis, Vizulo Stork Micro Martin 30W 3000K, ar pārspriegumaizsardzību 10kV, Zhaga konektoru, ar Zhaga-RF moduli; kods: 6000058463 MRUE 030 730 L02 AA016 | D13: gb | E13: 13 | G13: =ROUND(F13*E13,2) -> 0
A14: 7 | B14: - | C14: Vadības bloks montāžai gaismeklī, C-Node Zhaga-RF Pirms iegādes konsultēties ar SIA "FARADS" pārstāvjiem | D14: gb | E14: 13 | G14: =ROUND(F14*E14,2) -> 0
A15: 8 | C15: Drošinātāja/spaiļu bloks montāžai balstā,piem. ROSA NTB-3, ar drošinātājiem 6A | D15: kpl | E15: 1 | G15: =ROUND(F15*E15,2) -> 0
A16: 9 | C16: Drošinātāja/spaiļu bloks montāžai balstā,piem. ROSA NTB-2, ar drošinātājiem 6A | D16: kpl | E16: 12 | G16: =ROUND(F16*E16,2) -> 0
A17: 10 | C17: Ārtipa nozarkārba NK | D17: kpl | E17: 1 | G17: =ROUND(F17*E17,2) -> 0
A18: 11 | C18: El. kabelis, AXMK-4x25 | D18: m | E18: 500 | G18: =ROUND(F18*E18,2) -> 0
A19: 12 | C19: El. kabelis, XPK-3x6 | D19: m | E19: 220 | G19: =ROUND(F19*E19,2) -> 0
A20: 13 | C20: El. kabelis, XPK-3x1.5 | D20: m | E20: 220 | G20: =ROUND(F20*E20,2) -> 0
A21: 14 | C21: Kabeļa gala apdare, 4x16-50mm2 | D21: gb | E21: 19 | G21: =ROUND(F21*E21,2) -> 0
A22: 15 | C22: Aizsargcaurule, d75, 450N (visā garumā) | D22: m | E22: 700 | G22: =ROUND(F22*E22,2) -> 0
A23: 16 | C23: Aizsargcaurule, UV-noturīga d20, 750N (pa ēku ārsienām), iekļaujot pagriezienus | D23: m | E23: 10 | G23: =ROUND(F23*E23,2) -> 0
A24: 17 | C24: Aizsargcaurule, d110, 750N (zem braucamās daļas) | D24: m | E24: 150 | G24: =ROUND(F24*E24,2) -> 0
A25: 18 | C25: Atkārtotā zemējuma komplekts apgaismojuma balstam (Zn d20mm, L=9m, apaļvads Zn d10mm, savienojuma spaile) | D25: kpl | E25: 13 | G25: =ROUND(F25*E25,2) -> 0
A26: 19 | C26: Cinkots metāla apaļvads d10mm, atkārtoto zemējumu savienošanai, iekļaujot nepieciešamā daudzuma savienojuma spailes | D26: m | E26: 50 | G26: =ROUND(F26*E26,2) -> 0
... A28: 21 | C28: Celtniecības smiltis | D28: m3 | E28: 2 | G28: =ROUND(F28*E28,2) -> 0
A29: 22 | B29: - | C29: Šķembas (montāžai zem pamatnes) | D29: m3 | E29: 1 | G29: =ROUND(F29*E29,2) -> 0
A30: 23 | B30: - | C30: Sadalnes komutēšanas materiāli | D30: objekts | E30: 1 | G30: =ROUND(F30*E30,2) -> 0
A31: 24 | B31: - | C31: Palīgmateriāli | D31: objekts | E31: 1 | G31: =ROUND(F31*E31,2) -> 0
C32: Darbu apjomi
A33: 1 | B33: - | C33: Bedres rakšana/aizbēršana apgaismes balsta pamatam | D33: gb | E33: 13 | G33: =ROUND(F33*E33,2) -> 0
A34: 2 | B34: - | C34: Tranšejas rakšana un aizbēršana 1-2 kabeļiem(caurulēm) | D34: m | E34: 700 | G34: =ROUND(F34*E34,2) -> 0
A35: 3 | C35: Apgaismojuma balsta pamata montāža | D35: gb | E35: 13 | G35: =ROUND(F35*E35,2) -> 0
A36: 4 | B36: - | C36: Apgaismojuma balsta montāža. H=8m, t.sk. konsoles montāžu | D36: gb | E36: 13 | G36: =ROUND(F36*E36,2) -> 0
A37: 5 | C37: Esošā apgaismojuma balsta ar gaismekli demontāža | D37: gb | E37: 7 | G37: =ROUND(F37*E37,2) -> 0
A38: 6 | C38: Esošā gaismekļa demontāža no ēkas ārsienas (saglabājot kronšteinu) | D38: gb | E38: 2 | G38: =ROUND(F38*E38,2) -> 0
A39: 7 | B39: - | C39: Gaismekļa montāža balstā | D39: gb | E39: 13 | G39: =ROUND(F39*E39,2) -> 0
A40: 8 | B40: - | C40: Gaismekļa montāža uz sienas, uz kronšteina | D40: gb | E40: 2 | G40: =ROUND(F40*E40,2) -> 0
A41: 9 | B41: - | C41: Drošinātāju/Spaiļu bloka ievietošana balstā, pieslēgšana | D41: kpl | E41: 13 | G41: =ROUND(F41*E41,2) -> 0
A42: 10 | B42: - | C42: Tranšejas gultnes sagatavošana ar smilts pievešanu 1 kabelim/caurulei | D42: m | E42: 700 | G42: =ROUND(F42*E42,2) -> 0
A43: 11 | B43: - | C43: Aizsargcaurules guldīšana gatavā tranšejā | D43: m | E43: 850 | G43: =ROUND(F43*E43,2) -> 0
A44: 12 | B44: - | C44: Kabeļa ievilkšana aizsargcaurulē | D44: m | E44: 700 | G44: =ROUND(F44*E44,2) -> 0
A45: 13 | C45: Esošā kabeļa demontāža/atslēgšana, ieskaitot rakšanas darbus un nepieciešamos materiālus; demontāžas apjomu precizēt | D45: m | E45: 400 | G45: =ROUND(F45*E45,2) -> 0
A46: 14 | B46: - | C46: Kabeļa montāža apgaismes balstā | D46: kabelis | E46: 27 | G46: =ROUND(F46*E46,2) -> 0
A47: 15 | C47: Kabeļa montāža pa sienu | D47: kabelis | E47: 2 | G47: =ROUND(F47*E47,2) -> 0
A48: 16 | B48: - | C48: Signāllentas ieklāšana | D48: m | E48: 700 | G48: =ROUND(F48*E48,2) -> 0
A49: 17 | B49: - | C49: Kabeļa gala apdares montāža | D49: gb | E49: 19 | G49: =ROUND(F49*E49,2) -> 0
A50: 18 | B50: - | C50: Apgaismojuma balsta zemējuma ierīkošana un pieslēgšana, pretestības mērīšana | D50: kpl | E50: 13 | G50: =ROUND(F50*E50,2) -> 0
A51: 19 | C51: Programmēšanas darbi | D51: kpl | E51: 1 | G51: =ROUND(F51*E51,2) -> 0
A52: 20 | C52: Trases nospraušana | D52: objekts | E52: 1 | G52: =ROUND(F52*E52,2) -> 0
A53: 21 | C53: Gaismekļu programmēšana vadības ķēdē | D53: objekts | E53: 1 | G53: =ROUND(F53*E53,2) -> 0
A54: 22 | C54: Balstu numurēšana, ieskaitot materiālus | D54: objekts | E54: 1 | G54: =ROUND(F54*E54,2) -> 0
A55: 23 | C55: Koku aizsardzības pasākumu monitorings, pieaicinot sertificētu kokkopi – arboristu | D55: objekts | E55: 1 | G55: =ROUND(F55*E55,2) -> 0
A56: 24 | B56: - | C56: EPL ģeodēziskā kontrolkartēšana | D56: objekts | E56: 1 | G56: =ROUND(F56*E56,2) -> 0
D57: A | E57: Kopā (bez PVN): | G57: =SUM(G7:G56) -> 0
D58: B | E58: PVN (21% no A) | G58: =ROUND(G57*0.21,2) -> 0
D59: C | E59: Pavisam kopā (A+B) | G59: =G57+G58 -> 0

Sheet ELT-apgaismojums_K.V
A1: Apgaismojums (ELT)
A2: Projektētājs | B2: SIA “RK projekti”
A3: Objekts | B3: Krišjāņa Valdemāra ielas pārbūve, Cēsīs, Cēsu novadā
A4: Garums, m | B4: 407.80 m
A6: Izmaksu pozīcija | B6: Specifik. Nr | C6: Darba nosaukums | D6: Mērvienība | E6: Darba daudzums | F6: Vienības cena EUR | G6: Kopējā izmaksa EUR
C7: Materiāli
A8: 1 | B8: - | C8: Karsti cinkots tērauda balsts, H=6m (virszemes augstums), ar iebūvētu 230V ārtipa rozeti (svētku appgaismojumam) h=5,5m augstumā, kā arī ar spēka kabeļa izvadu H=4m augstumā (videonovērošanas kameras persp. Pieslēgumam) | D8: gb | E8: 10 | G8: =ROUND(F8*E8,2) -> 0
A9: 2 | C9: Karsti cinkota tērauda konsole H=2m, L=1m, 15-grādi | D9: gb | E9: 10
A10: 3 | B10: - | C10: Metāla dekoratīvs balsts piem. GHM BELLE EPOQUE GM ( with DERVOIS GM cast iron bollard ) H.4.5m 3/4"G27 RAL9005, komplektā ar pamatu montāžai zemē | D10: kpl | E10: 5 | G10: =ROUND(F10*E10,2) -> 0
A11: 4 | B11: - | C11: Apgaismes balsta h=8m betona pamats | D11: gb | E11: 10 | G11: =ROUND(F11*E11,2) -> 0
A12: 5 | B12: - | C12: Apgaismes balsta stiprinājuma komplekts (pie pamata), blīvējumi | D12: gb | E12: 10 | G12: =ROUND(F12*E12,2) -> 0
A13: 6 | B13: - | C13: Individuāli izgatavojams dekoratīvais vēsturiskā dizaina gaismeklis (saskaņā ar Cēsu novada pašvaldības prasībām); Jaudu, krāsu, izpildījumu precizēt montāžas laikā, saskaņā ar Cēsu pašvaldības un ielu apgaismojuma uzturētāja organizācijas tehniskiem norādījumiem, komplektā ar dekoratīvo kronšteinu montāžai uz sienas/stiprinājumu uz balsta | D13: gb | E13: 6 | G13: =ROUND(F13*E13,2) -> 0
A14: 7 | B14: - | C14: Ielu apgaismojuma LED gaismeklis, Vizulo Stork Micro Martin 30W 3000K, ar pārspriegumaizsardzību 10kV, Zhaga konektoru, ar Zhaga-RF moduli; kods: 6000058463 MRUE 030 730 L02 AA016 | D14: gb | E14: 10 | G14: =ROUND(F14*E14,2) -> 0
A15: 8 | B15: - | C15: Vadības bloks montāžai gaismeklī, C-Node Zhaga-RF Pirms iegādes konsultēties ar SIA "FARADS" pārstāvjiem | D15: gb | E15: 10 | G15: =ROUND(F15*E15,2) -> 0
A16: 9 | B16: - | C16: Ielu apgaismojuma vadības sadalne AVS1, ar vadības bloku C-BOX, C-BOX RF, saskaņā ar shēmu ELT-3 komplektā ar visiem nepieciešamiem elementiem (t.sk. Pamatu un slēdzeni), sadalnes un pamatnes korpusam jābūt RAL7032 krāsā, saskaņā ar Cēsu pašvaldības prasībām Pirms vadības sadalnes iegādes, komplektēšanas un montāžas sazināties ar SIA "FARADS" pārstāvjiem | D16: kpl | E16: 1 | G16: =ROUND(F16*E16,2) -> 0
A17: 10 | B17: - | C17: Metāla cinkots kabeļskapis CK1, ar metāla pamatni, ar NH00 vert.slēdžiem, saskaņā ar shemu ELT-2, sadalnes un pamatnes korpusam jābūt RAL7032 krāsā, saskaņā ar Cēsu pašvaldības prasībām; Pirms sadalnes iegādes, komplektēšanas un montāžas sazināties ar SIA "FARADS" pārstāvjiem | D17: kpl | E17: 1 | G17: =ROUND(F17*E17,2) -> 0
A18: 11 | B18: - | C18: Metāla cinkots kabeļskapis CK2, ar metāla pamatni, ar NH00 vert.slēdžiem, saskaņā ar shemu ELT-2, sadalnes un pamatnes korpusam jābūt RAL7032 krāsā, saskaņā ar Cēsu pašvaldības prasībām; Pirms sadalnes iegādes, komplektēšanas un montāžas sazināties ar SIA "FARADS" pārstāvjiem | D18: kpl | E18: 1 | G18: =ROUND(F18*E18,2) -> 0
A19: 12 | C19: Drošinātāja/spaiļu bloks montāžai balstā,piem. ROSA NTB-2, ar drošinātājiem 6A | D19: kpl | E19: 10 | G19: =ROUND(F19*E19,2) -> 0
A20: 13 | C20: Drošinātāja/spaiļu bloks montāžai balstā,piem. ROSA NTB-1, ar drošinātājiem 6A | D20: kpl | E20: 5 | G20: =ROUND(F20*E20,2) -> 0
A21: 14 | C21: El. kabelis, AXMK-4x50 | D21: m | E21: 160 | G21: =ROUND(F21*E21,2) -> 0
A22: 15 | C22: El. kabelis, AXMK-4x25 | D22: m | E22: 601 | G22: =ROUND(F22*E22,2) -> 0
A23: 16 | C23: El. kabelis, AXMK-4x16 | D23: m | E23: 285 | G23: =ROUND(F23*E23,2) -> 0
A24: 17 | C24: El. kabelis, XPK-3x4 | D24: m | E24: 55 | G24: =ROUND(F24*E24,2) -> 0
A25: 18 | C25: El. kabelis, XPK-3x1.5 | D25: m | E25: 200 | G25: =ROUND(F25*E25,2) -> 0
A26: 19 | C26: Kabeļa gala apdare, 4x16-50mm2 | D26: gb | E26: 44 | G26: =ROUND(F26*E26,2) -> 0
A27: 20 | C27: Kabeļa savienojuma uzmava, tipu precizēt ņemot vērā esošā kabeļa marku un šķērsgriezumu | D27: gb | E27: 4 | G27: =ROUND(F27*E27,2) -> 0
A28: 21 | C28: Aizsargcaurule, d75, 450N (visā garumā) | D28: m | E28: 1000 | G28: =ROUND(F28*E28,2) -> 0
A29: 22 | C29: Aizsargcaurule, UV-noturīga d20, 750N (pa ēku ārsienām), iekļaujot pagriezienus | D29: m | E29: 10 | G29: =ROUND(F29*E29,2) -> 0
A30: 23 | C30: Aizsargcaurule, d110, 750N (zem braucamās daļas) | D30: m | E30: 200 | G30: =ROUND(F30*E30,2) -> 0
... A34: 27 | C34: Celtniecības smiltis | D34: m3 | E34: 2 | G34: =ROUND(F34*E34,2) -> 0
A35: 28 | B35: - | C35: Šķembas (montāžai zem pamatnes) | D35: m3 | E35: 1 | G35: =ROUND(F35*E35,2) -> 0
A36: 29 | B36: - | C36: Sadalnes komutēšanas materiāli | D36: objekts | E36: 1 | G36: =ROUND(F36*E36,2) -> 0
A37: 30 | B37: - | C37: Palīgmateriāli | D37: objekts | E37: 1 | G37: =ROUND(F37*E37,2) -> 0
C38: Darbu apjomi
A39: 1 | B39: - | C39: Bedres rakšana/aizbēršana apgaismes balsta pamatam | D39: gb | E39: 15 | G39: =ROUND(F39*E39,2) -> 0
A40: 2 | C40: Bedres rakšana uzmavas montāžai, t.sk. esošā kabeļa precīza novietojuma noskaidrošanai | D40: gb | E40: 4 | G40: =ROUND(F40*E40,2) -> 0
A41: 3 | B41: - | C41: Tranšejas rakšana un aizbēršana 1-2 kabeļiem(caurulēm) | D41: m | E41: 1000 | G41: =ROUND(F41*E41,2) -> 0
A42: 6 | C42: Apgaismojuma balsta pamata montāža | D42: gb | E42: 15 | G42: =ROUND(F42*E42,2) -> 0
A43: 7 | B43: - | C43: Apgaismojuma balsta montāža. H=8m, t.sk. konsoles montāžu | D43: gb | E43: 10 | G43: =ROUND(F43*E43,2) -> 0
A44: 8 | B44: - | C44: Apgaismojuma balsta montāža. H=4.5m | D44: gb | E44: 5 | G44: =ROUND(F44*E44,2) -> 0
A45: 9 | C45: Esošā apgaismojuma balsta ar gaismekli demontāža | D45: gb | E45: 10 | G45: =ROUND(F45*E45,2) -> 0
A46: 10 | C46: Esošā gaismekļa demontāža no ēkas ārsienas (saglabājot kronšteinu) | D46: gb | E46: 2 | G46: =ROUND(F46*E46,2) -> 0
A47: 11 | B47: - | C47: Gaismekļa montāža balstā | D47: gb | E47: 15 | G47: =ROUND(F47*E47,2) -> 0
A48: 12 | B48: - | C48: Gaismekļa montāža uz sienas, uz kronšteina | D48: gb | E48: 1 | G48: =ROUND(F48*E48,2) -> 0
A49: 13 | B49: - | C49: Drošinātāju/Spaiļu bloka ievietošana balstā, pieslēgšana | D49: kpl | E49: 15 | G49: =ROUND(F49*E49,2) -> 0
A50: 14 | B50: - | C50: Tranšejas gultnes sagatavošana ar smilts pievešanu 1 kabelim/caurulei | D50: m | E50: 1000 | G50: =ROUND(F50*E50,2) -> 0
A51: 15 | B51: - | C51: Aizsargcaurules guldīšana gatavā tranšejā | D51: m | E51: 1200 | G51: =ROUND(F51*E51,2) -> 0
A52: 16 | B52: - | C52: Kabeļa ievilkšana aizsargcaurulē | D52: m | E52: 1000 | G52: =ROUND(F52*E52,2) -> 0
A53: 17 | C53: Esošā kabeļa atrakšana, pārcelšana pa jaunu trasi, tranšejas aizberšana | D53: m | E53: 10 | G53: =ROUND(F53*E53,2) -> 0
A54: 18 | C54: Esošā kabeļa demontāža/atslēgšana, ieskaitot rakšanas darbus un nepieciešamos materiālus; demontāžas apjomu precizēt | D54: m | E54: 400 | G54: =ROUND(F54*E54,2) -> 0
A55: 19 | B55: - | C55: Kabeļa montāža apgaismes balstā | D55: kabelis | E55: 25 | G55: =ROUND(F55*E55,2) -> 0
A56: 20 | C56: Kabeļa montāža pa sienu | D56: kabelis | E56: 1 | G56: =ROUND(F56*E56,2) -> 0
A57: 21 | B57: - | C57: Signāllentas ieklāšana | D57: m | E57: 1900 | G57: =ROUND(F57*E57,2) -> 0
A58: 22 | B58: - | C58: Kabeļa gala apdares montāža | D58: gb | E58: 63 | G58: =ROUND(F58*E58,2) -> 0
A59: 23 | B59: - | C59: Kabeļu savienojuma uzmavas montāža | D59: gb | E59: 4 | G59: =ROUND(F59*E59,2) -> 0
A60: 24 | B60: - | C60: Apgaismojuma balsta zemējuma ierīkošana un pieslēgšana, pretestības mērīšana | D60: kpl | E60: 15 | G60: =ROUND(F60*E60,2) -> 0
A61: 25 | B61: - | C61: Ielu apgaismojuma vadības sadalnes montāža, pieslēgšana | D61: kpl | E61: 1 | G61: =ROUND(F61*E61,2) -> 0
A62: 26 | B62: - | C62: Kabeļu sadalnes montāža, pieslēgšana | D62: kpl | E62: 2 | G62: =ROUND(F62*E62,2) -> 0
A63: 27 | C63: Esošās ielu apgaismojuma sadalnes demontāža | D63: gb | E63: 3 | G63: =ROUND(F63*E63,2) -> 0
A64: 28 | C64: Vadības iekārtas C-box uzstādīšana un programmēšanas darbi | D64: kpl | E64: 1 | G64: =ROUND(F64*E64,2) -> 0
A65: 29 | C65: Trases nospraušana | D65: objekts | E65: 1 | G65: =ROUND(F65*E65,2) -> 0
A66: 30 | C66: Gaismekļu programmēšana vadības ķēdē | D66: objekts | E66: 1 | G66: =ROUND(F66*E66,2) -> 0
A67: 31 | C67: Balstu numurēšana, ieskaitot materiālus | D67: objekts | E67: 1 | G67: =ROUND(F67*E67,2) -> 0
A68: 32 | C68: Koku aizsardzības pasākumu monitorings, pieaicinot sertificētu kokkopi – arboristu | D68: objekts | E68: 1 | G68: =ROUND(F68*E68,2) -> 0
A69: 33 | B69: - | C69: EPL ģeodēziskā kontrolkartēšana | D69: objekts | E69: 1 | G69: =ROUND(F69*E69,2) -> 0
D70: A | E70: Kopā (bez PVN): | G70: =SUM(G7:G69) -> 0
D71: B | E71: PVN (21% no A) | G71: =ROUND(G70*0.21,2) -> 0
D72: C | E72: Pavisam kopā (A+B) | G72: =G70+G71 -> 0

Sheet EST_P
A1: Elektronisko sakaru sistēmas (EST)
A2: Projektētājs | B2: SIA “RK projekti”
A3: Objekts | B3: Pļavas ielas pārbūve, Cēsīs, Cēsu novadā
A4: Garums, m | B4: 389.30 m
A6: Izmaksu pozīcija | B6: Specifik. Nr | C6: Darba nosaukums | D6: Mērvienība | E6: Darba daudzums | F6: Vienības cena EUR | G6: Kopējā izmaksa EUR
C7: Materiālu specifikācija
A8: SIA "TET" Kabeļu kanalizācijas izbūve un Vara kabeļu tīkla pārbūve
C9: Darbi
A10: 1 | B10: - | C10: Tranšejas rakšana un aizberšana platuma līdz 0.5m | D10: m | E10: 48 | G10: =ROUND(F10*E10,2) -> 0
A11: 2 | B11: - | C11: Kabeļu kanalizācijas cauruļu ieguldīšana tranšejā | D11: m | E11: 48 | G11: =ROUND(F11*E11,2) -> 0
A12: 3 | B12: - | C12: Kabeļu aizsardzība ar šķeltām caurulēm ar atšurfēšanu | D12: m | E12: 2.4 | G12: =ROUND(F12*E12,2) -> 0
A13: 4 | B13: - | C13: Tranšejas aizberšana ar pievestam smiltīm | D13: m3 | E13: 2 | G13: =ROUND(F13*E13,2) -> 0
A14: 5 | B14: - | C14: Būvbedres rakšana ar tehniku | D14: m3 | E14: 1 | G14: =ROUND(F14*E14,2) -> 0
A15: 6 | B15: - | C15: Kabeļu akas KP-PEH 800x650 uzstādīšana uz esošās kan. | D15: gb | E15: 1 | G15: =ROUND(F15*E15,2) -> 0
A16: 7 | B16: - | C16: Buksiera ievilkšana kabeļu kanalizācijā | D16: m | E16: 0 | G16: =ROUND(F16*E16,2) -> 0
A17: 8 | B17: - | C17: Kabeļa kanalizācijas caurejamības pārbaude | D17: m/kan | E17: 172 | G17: =ROUND(F17*E17,2) -> 0
A18: 9 | B18: - | C18: Ūdens atsūknešana no esošās kabeļu kanalizācijas akas | D18: gb | E18: 0 | G18: =ROUND(F18*E18,2) -> 0
A19: 10 | B19: - | C19: Esošas kabeļu akas tīrīšana | D19: gb | E19: 0 | G19: =ROUND(F19*E19,2) -> 0
A20: 11 | B20: - | C20: Metalkonstrukciju ierīkošana kabeļu kanalizācijas akā | D20: gb | E20: 0 | G20: =ROUND(F20*E20,2) -> 0
A21: 12 | B21: - | C21: Sadales kabeļa mērījumi starp gala iekārtām 1. pāris | D21: pāris | E21: 0 | G21: =ROUND(F21*E21,2) -> 0
... A36: 27 | B36: - | C36: Kabeļu (vara un optika) izvilkšana (demontāža) no caurulēm | D36: m | E36: 0 | G36: =ROUND(F36*E36,2) -> 0
C37: Materiāli
A38: 1 | B38: - | C38: Kab.kanaliz.caurule 100x6000 | D38: gb | E38: 8 | G38: =ROUND(F38*E38,2) -> 0
A39: 2 | B39: - | C39: Kab.kanaliz.caurules līkums(100/90°) | D39: gb | E39: 4 | G39: =ROUND(F39*E39,2) -> 0
A40: 3 | B40: - | C40: Dalītā aizsargcaurule DN110, 450N | D40: gb | E40: 2 | G40: =ROUND(F40*E40,2) -> 0
A41: 4 | B41: - | C41: Kabeļu brīd. lenta, plīstošā, 50mmX500m | D41: m | E41: 50 | G41: =ROUND(F41*E41,2) -> 0
A42: 5 | B42: - | C42: Virve kabeļa ievilkšanai(6mm/500m) | D42: m | E42: 0 | G42: =ROUND(F42*E42,2) -> 0
A43: 6 | B43: - | C43: Plastmasas aka KP-PEH 800x650 ar kv.pamatni | D43: gb | E43: 1 | G43: =ROUND(F43*E43,2) -> 0
A44: 7 | B44: - | C44: Akas lūka fiksetā augstuma B125 LOGO – Tet | D44: gb | E44: 1 | G44: =ROUND(F44*E44,2) -> 0
A45: 8 | B45: - | C45: Dzelzbetona riņķis kabeļakām | D45: gb | E45: 2 | G45: =ROUND(F45*E45,2) -> 0
A46: 9 | B46: - | C46: Atloks dzelzbetona gredzena pilnai fiksācijai | D46: gb | E46: 3 | G46: =ROUND(F46*E46,2) -> 0
A47: 10 | B47: - | C47: Kab. kanaliz. caurules nosledzojošais gals UTM100 | D47: gb | E47: 4 | G47: =ROUND(F47*E47,2) -> 0
A48: 11 | B48: - | C48: Silikons N, neitrāls 310ml | D48: gb | E48: 1 | G48: =ROUND(F48*E48,2) -> 0
A49: 12 | B49: - | C49: Pazemes kabelis VMOHBU 3x2x0.5, želejas pild. | D49: m | E49: 0 | G49: =ROUND(F49*E49,2) -> 0
... A62: 25 | B62: - | C62: Konsoles skrūve | D62: gb | E62: 0 | G62: =ROUND(F62*E62,2) -> 0
A63: SIA "TET" Optisko kabeļu pārbūve
C64: Darbi
A65: 1 | B65: - | C65: Optiskā kabeļa ieguldīšana kabeļu kanalizācijā | D65: m | E65: 0 | G65: =ROUND(F65*E65,2) -> 0
A66: 2 | B66: - | C66: Uzmavas uzstādīšana un 2 optisko kabeļu iestrāde uzmavā ( SC-F01 tipa uzmava) | D66: gb | E66: 0 | G66: =ROUND(F66*E66,2) -> 0
A67: 3 | B67: - | C67: Jauna 12F kabeļa pievienošana esošai uzmavai | D67: kab. | E67: 0 | G67: =ROUND(F67*E67,2) -> 0
A68: 4 | B68: - | C68: Optiskā kabeļa šķiedru metināšana, montāžas kvalitātes kontrole pēc montāžas pabeigšanas (jaunieguldīts kabelis) 1. šķiedra | D68: met. | E68: 0 | G68: =ROUND(F68*E68,2) -> 0
A69: 5 | B69: - | C69: Optiskā kabeļa šķiedru metināšana, montāžas kvalitātes kontrole pēc montāžas pabeigšanas (jaunieguldīts kabelis) katra nākoša šķiedra | D69: met. | E69: 0 | G69: =ROUND(F69*E69,2) -> 0
A70: 6 | B70: - | C70: Optisko šķiedru pārmetināšana esošā uzmavā | D70: met. | E70: 0 | G70: =ROUND(F70*E70,2) -> 0
A71: 7 | B71: - | C71: Pieņemšanas testēšana un profilaktiskie mērījumi 1. šķiedra | D71: šķ. | E71: 0 | G71: =ROUND(F71*E71,2) -> 0
A72: 8 | B72: - | C72: Pieņemšanas testēšana un profilaktiskie mērījumi katra nākošā šķiedra | D72: šķ. | E72: 0 | G72: =ROUND(F72*E72,2) -> 0
A73: 9 | B73: - | C73: Optiskā kabeļa līnijas izpilddokumentācijas koriģēšana | D73: dok. | E73: 0 | G73: =ROUND(F73*E73,2) -> 0
A74: 10 | B74: - | C74: Sagatavošanas darbi SIA "Tet" tīkla pārbūvei/pārslēgšanai | D74: st | E74: 0 | G74: =ROUND(F74*E74,2) -> 0
C75: Materiāli
A76: 1 | B76: - | C76: Optiskā uzmava horizontālā SC-F01 | D76: gb | E76: 0 | G76: =ROUND(F76*E76,2) -> 0
A77: 2 | B77: - | C77: Optiskais kabelis FZOMSU-SD-2x6 | D77: m | E77: 0 | G77: =ROUND(F77*E77,2) -> 0
A78: 3 | B78: - | C78: Virve kabeļu ievilkšanai | D78: m | E78: 0 | G78: =ROUND(F78*E78,2) -> 0
A79: 4 | B79: - | C79: Minimarķeris M2500 | D79: gb | E79: 0 | G79: =ROUND(F79*E79,2) -> 0
A80: 5 | B80: - | C80: Kabeļu saitīte 290x4.5 melna | D80: pac. | E80: 0 | G80: =ROUND(F80*E80,2) -> 0
D81: A | E81: Kopā (bez PVN): | G81: =SUM(G9:G80) -> 0
D82: B | E82: PVN (21% no A) | G82: =ROUND(G81*0.21,2) -> 0
D83: C | E83: Pavisam kopā (A+B) | G83: =G81+G82 -> 0

Sheet EST_K.V
A1: Elektronisko sakaru sistēmas (EST)
A2: Projektētājs | B2: SIA “RK projekti”
A3: Objekts | B3: Krišjāņa Valdemāra ielas pārbūve, Cēsīs, Cēsu novadā
A4: Garums, m | B4: 407.80 m
A6: Izmaksu pozīcija | B6: Specifik. Nr | C6: Darba nosaukums | D6: Mērvienība | E6: Darba daudzums | F6: Vienības cena EUR | G6: Kopējā izmaksa EUR
C7: Materiālu specifikācija
A8: SIA "TET" Kabeļu kanalizācijas izbūve un Vara kabeļu tīkla pārbūve
C9: Darbi
A10: 1 | B10: - | C10: Tranšejas rakšana un aizberšana platuma līdz 0.5m | D10: m | E10: 35 | G10: =ROUND(F10*E10,2) -> 0
A11: 2 | B11: - | C11: Kabeļu kanalizācijas cauruļu ieguldīšana tranšejā | D11: m | E11: 75 | G11: =ROUND(F11*E11,2) -> 0
A12: 3 | B12: - | C12: Kabeļu aizsardzība ar šķeltām caurulēm ar atšurfēšanu | D12: m | E12: 2.4 | G12: =ROUND(F12*E12,2) -> 0
A13: 4 | B13: - | C13: Tranšejas aizberšana ar pievestam smiltīm | D13: m3 | E13: 2 | G13: =ROUND(F13*E13,2) -> 0
A14: 5 | B14: - | C14: Būvbedres rakšana ar tehniku | D14: m3 | E14: 1 | G14: =ROUND(F14*E14,2) -> 0
A15: 6 | B15: - | C15: Kabeļu akas KP-PEH 800x650 uzstādīšana uz esošās kan. | D15: gb | E15: 1 | G15: =ROUND(F15*E15,2) -> 0
A16: 7 | B16: - | C16: Buksiera ievilkšana kabeļu kanalizācijā | D16: m | E16: 0 | G16: =ROUND(F16*E16,2) -> 0
A17: 8 | B17: - | C17: Kabeļa kanalizācijas caurejamības pārbaude | D17: m/kan | E17: 1700 | G17: =ROUND(F17*E17,2) -> 0
A18: 9 | B18: - | C18: Ūdens atsūknešana no esošās kabeļu kanalizācijas akas | D18: gb | E18: 3 | G18: =ROUND(F18*E18,2) -> 0
A19: 10 | B19: - | C19: Esošas kabeļu akas tīrīšana | D19: gb | E19: 1 | G19: =ROUND(F19*E19,2) -> 0
A20: 11 | B20: - | C20: Metalkonstrukciju ierīkošana kabeļu kanalizācijas akā | D20: gb | E20: 1 | G20: =ROUND(F20*E20,2) -> 0
A21: 12 | B21: - | C21: Sadales kabeļa mērījumi starp gala iekārtām 1. pāris | D21: pāris | E21: 12 | G21: =ROUND(F21*E21,2) -> 0
... A36: 27 | B36: - | C36: Kabeļu (vara un optika) izvilkšana (demontāža) no caurulēm | D36: m | E36: 360 | G36: =ROUND(F36*E36,2) -> 0
C37: Materiāli
A38: 1 | B38: - | C38: Kab.kanaliz.caurule 100x6000 | D38: gb | E38: 14 | G38: =ROUND(F38*E38,2) -> 0
A39: 2 | B39: - | C39: Kab.kanaliz.caurules līkums(100/90°) | D39: gb | E39: 4 | G39: =ROUND(F39*E39,2) -> 0
A40: 3 | B40: - | C40: Dalītā aizsargcaurule DN110, 450N | D40: gb | E40: 2 | G40: =ROUND(F40*E40,2) -> 0
A41: 4 | B41: - | C41: Kabeļu brīd. lenta, plīstošā, 50mmX500m | D41: m | E41: 50 | G41: =ROUND(F41*E41,2) -> 0
A42: 5 | B42: - | C42: Virve kabeļa ievilkšanai(6mm/500m) | D42: m | E42: 100 | G42: =ROUND(F42*E42,2) -> 0
A43: 6 | B43: - | C43: Plastmasas aka KP-PEH 800x650 ar kv.pamatni | D43: gb | E43: 1 | G43: =ROUND(F43*E43,2) -> 0
A44: 7 | B44: - | C44: Akas lūka fiksetā augstuma B125 LOGO – Tet | D44: gb | E44: 1 | G44: =ROUND(F44*E44,2) -> 0
A45: 8 | B45: - | C45: Dzelzbetona riņķis kabeļakām | D45: gb | E45: 2 | G45: =ROUND(F45*E45,2) -> 0
A46: 9 | B46: - | C46: Atloks dzelzbetona gredzena pilnai fiksācijai | D46: gb | E46: 3 | G46: =ROUND(F46*E46,2) -> 0
A47: 10 | B47: - | C47: Kab. kanaliz. caurules nosledzojošais gals UTM100 | D47: gb | E47: 6 | G47: =ROUND(F47*E47,2) -> 0
A48: 11 | B48: - | C48: Silikons N, neitrāls 310ml | D48: gb | E48: 2 | G48: =ROUND(F48*E48,2) -> 0
A49: 12 | B49: - | C49: Pazemes kabelis VMOHBU 3x2x0.5, želejas pild. | D49: m | E49: 60 | G49: =ROUND(F49*E49,2) -> 0
... A62: 25 | B62: - | C62: Konsoles skrūve | D62: gb | E62: 4 | G62: =ROUND(F62*E62,2) -> 0
A63: SIA "TET" Optisko kabeļu pārbūve
C64: Darbi
A65: 1 | B65: - | C65: Optiskā kabeļa ieguldīšana kabeļu kanalizācijā | D65: m | E65: 120 | G65: =ROUND(F65*E65,2) -> 0
A66: 2 | B66: - | C66: Uzmavas uzstādīšana un 2 optisko kabeļu iestrāde uzmavā ( SC-F01 tipa uzmava) | D66: gb | E66: 1 | G66: =ROUND(F66*E66,2) -> 0
A67: 3 | B67: - | C67: Jauna 12F kabeļa pievienošana esošai uzmavai | D67: kab. | E67: 1 | G67: =ROUND(F67*E67,2) -> 0
A68: 4 | B68: - | C68: Optiskā kabeļa šķiedru metināšana, montāžas kvalitātes kontrole pēc montāžas pabeigšanas (jaunieguldīts kabelis) 1. šķiedra | D68: met. | E68: 2 | G68: =ROUND(F68*E68,2) -> 0
A69: 5 | B69: - | C69: Optiskā kabeļa šķiedru metināšana, montāžas kvalitātes kontrole pēc montāžas pabeigšanas (jaunieguldīts kabelis) katra nākoša šķiedra | D69: met. | E69: 22 | G69: =ROUND(F69*E69,2) -> 0
A70: 6 | B70: - | C70: Optisko šķiedru pārmetināšana esošā uzmavā | D70: met. | E70: 12 | G70: =ROUND(F70*E70,2) -> 0
A71: 7 | B71: - | C71: Pieņemšanas testēšana un profilaktiskie mērījumi 1. šķiedra | D71: šķ. | E71: 1 | G71: =ROUND(F71*E71,2) -> 0
A72: 8 | B72: - | C72: Pieņemšanas testēšana un profilaktiskie mērījumi katra nākošā šķiedra | D72: šķ. | E72: 11 | G72: =ROUND(F72*E72,2) -> 0
A73: 9 | B73: - | C73: Optiskā kabeļa līnijas izpilddokumentācijas koriģēšana | D73: dok. | E73: 1 | G73: =ROUND(F73*E73,2) -> 0
A74: 10 | B74: - | C74: Sagatavošanas darbi SIA "Tet" tīkla pārbūvei/pārslēgšanai | D74: st | E74: 129 | G74: =ROUND(F74*E74,2) -> 0
C75: Materiāli
A76: 1 | B76: - | C76: Optiskā uzmava horizontālā SC-F01 | D76: gb | E76: 1 | G76: =ROUND(F76*E76,2) -> 0
A77: 2 | B77: - | C77: Optiskais kabelis FZOMSU-SD-2x6 | D77: m | E77: 120 | G77: =ROUND(F77*E77,2) -> 0
A78: 3 | B78: - | C78: Virve kabeļu ievilkšanai | D78: m | E78: 100 | G78: =ROUND(F78*E78,2) -> 0
A79: 4 | B79: - | C79: Minimarķeris M2500 | D79: gb | E79: 1 | G79: =ROUND(F79*E79,2) -> 0
A80: 5 | B80: - | C80: Kabeļu saitīte 290x4.5 melna | D80: pac. | E80: 1 | G80: =ROUND(F80*E80,2) -> 0
D81: A | E81: Kopā (bez PVN): | G81: =SUM(G9:G80) -> 0
D82: B | E82: PVN (21% no A) | G82: =ROUND(G81*0.21,2) -> 0
D83: C | E83: Pavisam kopā (A+B) | G83: =G81+G82 -> 0
