Workbook
Name _Toc409514577: '4_Tāme'!#REF!
Name _Toc409514577: '5_Finanšu piedāvājums'!#REF!

Sheet 1_Vid_laika norma
A3: Vidēji patērējamais darba laiks (norma) uzkopšanā
A5: Nr. | B5: Platību veids | C5: Ēkas veids | D5: Vidēja līmeņa pakalpojumu programmas, kv.m./h
A6: 1 | B6: Administratīvās telpas | C6: Skolas | D6: 170
A7: 2 | B7: Virtuve | C7: Administratīvie objekti | D7: 165
A8: 3 | B8: Gaiteņi/ ieejas halles manuāli | C8: Administratīvie objekti | D8: 300
A9: 4 | B9: Kāpnes | C9: Administratīvie objekti | D9: 120
A10: 5 | B10: Klases | C10: Skolas | D10: 150
A11: 6 | B11: Konferenču telpa | C11: Administratīvie objekti | D11: 265
A12: 7 | B12: Labierīcības un dušu telpas | C12: Skolas | D12: 70
A13: 8 | B13: Lifti | C13: Administratīvie objekti | D13: 30
A14: 9 | B14: Noliktavu telpas manuāli | C14: Administratīvie objekti | D14: 250
A15: 10 | B15: Pazemes autostāvvieta ar KGUI | C15: Administratīvie objekti | D15: 750
A16: 11 | B16: Sporta zāle manuāli | C16: Skolas | D16: 350
A17: Piezīme: KGUI - kombinētā grīdu uzkopšanas iekārta
A18: * Pretendents, kā jomas profesionālis, ir tiesīgs Vidējo patērējamo darba laiku (normu) uzkopšanā samazināt, bet ne vairāk kā par 15 %. Ja Pretendents samazina Vidējo patērējamo darba laiku (normu) uzkopšanā, tad Pretendents par to sniedz detalizētu darba efektivitātes sasniegšanas skaidrojumu (2. darba lapas "Darba efektivitāte" 9.kolonnā).

Sheet 2_Darba_efektivitāte
A1: Telpu ikdienas uzkopšana atbilstoši Pasūtītāja uzkopšanas programmai. Pasūtītāja noteiktais telpu ikdienas pamatuzkopšanai laiks ir: objektos: Mārupes ielā 17 k-1 un k-2, Hipokrāta ielā 3 no plkst. 10:00 līdz 13:00, Dārza ielā 5 no plkst. 8:00 līdz 11:00, pārējos RSU Objektos ikdienas telpu aktīvo uzkopšanu Izpildītājs veic ārpus RSU darba laika (RSU darba laiks pirmdienās – piektdienās no plkst.8:00-20:00, sestdienās no plkst. 8:00-18:00).
A2: Objekts | B2: Telpu pielietojums objektos saskaņā ar norādīto telpu pielietojuma sadalījumu 1.izklājlapā | C2: Telpu uzkopjamās platības objektos (m2) | D2: Telpu pamat-uzkopšanas reizes nedēļā | E2: Pretendentam nepieciešamais uzkopšanas laiks (h) 1 reizē saskaņā ar Pretendenta norādīto faktisko vidējā laika normu 6. kolonnā | F2: Pretendentam nepieciešamais Vidēji patērējamais darba laiks (norma) uzkopšanā, (m2 skaits stundā), ievērojot Finanšu piedāvājuma 1.datu lapā "Vid_laika_norma" noteikto (pieļaujams ne vairāk kā 15 % samazinājums)*. Aizpilda pretendents | G2: Pretendenta plānotās darba stundas kopā mēnesī noteikto platību uzkopšanai | H2: Pretendenta faktiskais darbinieku skaits noteikto platību uzkopšanai objektos (Informatīvi. Aizpilda Pretendents) | I2: Detalizētais efektivitātes sasniegšanas skaidrojums, ja 6. kolonnā norādītā Vidēji patērājamā darba laika (norma) uzkopšanā atšķiras no 1.datu lapā "Vid_laika_norma" noteikto (ne vairāk kā 15%*). Aizpilda pretendents
A3: 1 | B3: 2 | C3: 3 | D3: 4 | E3: 5 | F3: 6 | G3: 7 | H3: 8 | I3: 9
A4: Mārupes iela 17 k-1/ 17 k-2, Rīga | B4: Administratīvās telpas | C4: 205.3 | D4: 5 | F4: 0 | G4: =D4*E4*52/12 -> 0
B5: Virtuve (t.sk. virtuves un gaiteņi īrnieku AM3 un BM kategoriju numuros) | C5: 324.8 | D5: 6 | F5: 0 | G5: =D5*E5*52/12 -> 0
B6: Gaiteņi/ ieejas halles manuāli | C6: 1884 | D6: 6 | F6: 0 | G6: =D6*E6*52/12 -> 0
B7: Kāpnes | C7: 349.5 | D7: 6 | F7: 0 | G7: =D7*E7*52/12 -> 0
B8: Klases/Mācību vai atpūtas telpas | C8: 206.9 | D8: 6 | F8: 0 | G8: =D8*E8*52/12 -> 0
B9: Sporta zāle manuāli | C9: 217.8 | D9: 6 | F9: 0 | G9: =D9*E9*52/12 -> 0
B10: Noliktavu telpas manuāli | C10: 309.1 | D10: 0.25 | F10: 0 | G10: =D10*E10*52/12 -> 0
B11: Labierīcības un dušu telpas (t.sk. īrnieku AM3 un BM kategoriju numuros) | C11: 631.2 | D11: 6 | F11: 0 | G11: =D11*E11*52/12 -> 0
C12: =SUM(C4:C11) -> 4128.6 | G12: =SUM(G4:G11) -> 0
A13: Hipokrāta iela 3 | B13: Administratīvās telpas | C13: 63.9 | D13: 5 | F13: 0 | G13: =D13*E13*52/12 -> 0
B14: Konferenču telpa | C14: 76 | D14: 0.25 | F14: 0 | G14: =D14*E14*52/12 -> 0
B15: Gaiteņi/ ieejas halles manuāli | C15: 1230.5 | D15: 5 | F15: 0 | G15: =D15*E15*52/12 -> 0
B16: Lifti | C16: 2 | D16: 5 | F16: 0 | G16: =D16*E16*52/12 -> 0
B17: Noliktavu telpas manuāli | C17: 95.2 | D17: 1 | F17: 0 | G17: =D17*E17*52/12 -> 0
B18: Virtuve | C18: 220.9 | D18: 5 | F18: 0 | G18: =D18*E18*52/12 -> 0
B19: Kāpnes | C19: 166 | D19: 5 | F19: 0 | G19: =D19*E19*52/12 -> 0
B20: Sporta zāle manuāli | C20: 16.3 | D20: 5 | F20: 0 | G20: =D20*E20*52/12 -> 0
B21: Labierīcības un dušu telpas | C21: 543.6 | D21: 5 | F21: 0 | G21: =D21*E21*52/12 -> 0
C22: =SUM(C13:C21) -> 2414.4 | G22: =SUM(G13:G21) -> 0
A23: Dārza iela 5, Rīga | B23: Administratīvās telpas | C23: 157 | D23: 5 | F23: 0 | G23: =D23*E23*52/12 -> 0
B24: Virtuve (t.sk. virtuves un gaiteņi īrnieku B un C kategorijas numuros) | C24: 246 | D24: 5 | F24: 0 | G24: =D24*E24*52/12 -> 0
B25: Gaiteņi/ ieejas halles manuāli | C25: 974.7 | D25: 6 | F25: 0 | G25: =D25*E25*52/12 -> 0
B26: Kāpnes | C26: 246.2 | D26: 6 | F26: 0 | G26: =D26*E26*52/12 -> 0
B27: Lifti | C27: 3.2 | D27: 6 | F27: 0 | G27: =D27*E27*52/12 -> 0
B28: Noliktavu telpas manuāli (t.sk. velonovietnes) | C28: 213.8 | D28: 1 | F28: 0 | G28: =D28*E28*52/12 -> 0
B29: Pazemes autostāvvieta ar KGUI | C29: 1071.9 | D29: 1 | F29: 0 | G29: =D29*E29*52/12 -> 0
B30: Sporta zāle manuāli | C30: 59.3 | D30: 2 | F30: 0 | G30: =D30*E30*52/12 -> 0
B31: Labierīcības un dušu telpas īrnieku B un C kategorijas numuros | C31: 43.4 | D31: 5 | F31: 0 | G31: =D31*E31*52/12 -> 0
B32: Labierīcības un dušu telpas (izņemot īrnieku B un C kategorijas numuros) | C32: 39.9 | D32: 6 | F32: 0 | G32: =D32*E32*52/12 -> 0
C33: =SUM(C23:C32) -> 3055.4 | G33: =SUM(G23:G32) -> 0
B34: Kopā: | C34: =SUM(C12,C22,C33) -> 9598.4 | E34: =SUM(E4:E32) -> 0 | G34: =SUM(G12,G22,G33) -> 0 | H34: =SUM(H4:H32) -> 0 | I34: =SUM(I4:I32) -> 0
A35: * Pretendents, kā jomas profesionālis, ir tiesīgs Vidējo patērējamo darba laiku (normu) uzkopšanā samazināt, bet ne vairāk kā par 15 %. Ja Pretendents samazina Vidējo patērējamo darba laiku (normu) uzkopšanā, tad Pretendents par to sniedz detalizētu darba efektivitātes sasniegšanas skaidrojumu (2. darba lapas "Darba efektivitāte" 9.kolonnā).
A37: 2.Izpildītājam jānodrošina teritoriju ikdienas uzkopšana (katru dienu līdz plkst. 10:00 - sniega tīrīšanu un pretslīdes materiāla kaisīšanu veikt līdz plkst. 8:00, lapu pūšanu/zāles pļaušanu veikt ne agrāk kā no 9:00. Apstādījumu laistīšana nepieciešama vasarā (jūnijs-augusts) 1x dienā pēc nepieciešamības, atbilstoši Pasūtītāja uzkopšanas programmai.
B38: Objekti | C38: Teritorijas uzkopjamās platības objektos (m2) | D38: Teritorijas pamatuzkop šanas reizes nedēļā | E38: Pretendenta plānotais darba stundu skaits vidēji vienā uzkopšanas reizē (Aizpilda Pretendents) | F38: Pretendenta plānotās darba stundas kopā mēnesī noteikto platību pamatuzkopšanai | G38: Pretendenta faktiskais darbinieku skaits noteikto platību pamatuzkopšanai (Informatīvi. Aizpilda Pretendents)
B39: 1 | C39: 2 | D39: 3 | E39: 4 | F39: 5 | G39: 6
B40: Mārupes ielā 17 k-1,17 k-2
B41: cietais segums | C41: 3843 | D41: 7 | F41: =D41*E41*52/12 -> 0
B42: zaļā zona | C42: 3718 | D42: 1 | F42: =D42*E42*52/12 -> 0
B43: Kopā: | C43: =C41+C42 -> 7561 | F43: =F41+F42 -> 0
B44: Teritorija bez adreses Kad.Nr. 01000640116 (RSU parks, ūdenstilpnes vienā pusē, kas atrodas tuvāk Dārza ielai 5)
B45: cietais segums | C45: 99 | D45: 7 | F45: =D45*E45*52/12 -> 0
B46: zaļā zona | C46: 1647 | D46: 1 | F46: =D46*E46*52/12 -> 0
B47: Kopā: | C47: =C45+C46 -> 1746 | F47: =F45+F46 -> 0
B48: Hipokrāta iela 3
B49: Cietais segums | C49: 1288 | D49: 7 | F49: =D49*E49*52/12 -> 0
B50: Zālājs | C50: 4982 | D50: 1 | F50: =D50*E50*52/12 -> 0
B51: Meža teritorija | C51: 5933 | D51: 1 | F51: =D51*E51*52/12 -> 0
B52: Kopā: | C52: =C49+C50+C51 -> 12203 | F52: =F49+F50+F51 -> 0
B53: Dārza iela 5
B54: cietais segums | C54: 1720 | D54: 7 | F54: =D54*E54*52/12 -> 0
B55: zaļā zona | C55: 1603 | D55: 1 | F55: =D55*E55*52/12 -> 0
B56: Kopā: | C56: =C54+C55 -> 3323 | F56: =F54+F55 -> 0
B57: PAVISAM KOPĀ: | C57: =C43+C47+C52+C56 -> 24833 | E57: =E43+E47+E52+E56 -> 0 | F57: =F43+F47+F52+F56 -> 0 | G57: =G43+G47+G52+G56 -> 0
B58: Pretendenta piedāvātā vidējā uzkopjamās platības efektivitāte, m2/h vienā uzkopšanas reizē (gadījumā, ja līguma izpildes laikā tiks pievienots kāds objekts, kurā jāuzkopj teritorija, Pretendenta piedāvātā vidējā uzkopjamās platības efektivitāte tiks izmantota, lai aprēķinātu nepieciešamo stundu skaitu): | F58: =C57/E57 -> #DIV/0!
A61: Skaidrojumi:
A62: 1. Tabula:Telpu ikdienas uzkopšana atbilstoši Pasūtītāja prasībām (2. pielikums. Tehniskā specifikācija.Telpu uzkopšanas programma).
A63: 1. Kolonna: Pasūtītāja noteikto Objektu adreses.
A64: 2. Kolonna: Pasūtītāja norādītās telpu platības pēc to pielietojuma saskaņā ar Pasūtītāja norādītajām vadlīnijām (šī faila 1.cilne/sheet)
A65: 3. Kolonna: Pasūtītāja norādītās telpu uzkopjamās platības Objektos.
A66: 4. Kolonna: Pasūtītāja noteiktās uzkopšanas reize nedēļā.
A67: 5. Kolonna: Nepieciešamais stundu skaits vienā uzkopšanas reizē.
A68: 6. Kolonna: Pretendentam nepieciešamo stundu skaits - aizpilda Pretendents
A69: 7. Kolonna: Nepieciešamais stundu skaits mēnesī.
A70: 8. Kolonna: Aizpilda Pretendents, norādot plānoto darbinieku skaitu (par pamatu Pasūtītāja noteiktais telpu ikdienas pamatuzkopšanai laiku).
A71: 9.kolonna: Pretendentam detalizēts skaidrojums/pamatojums Vidējā darba laika (normas) izmaiņām - aizpilda Pretendents
A72: 2. Tabula:Teritorijas ikdienas pamatuzkopšana atbilstoši Pasūtītāja prasībām (2. pielikums. Tehniskā specifikācija.Teritorijas uzkopšanas programma).
... A78: 6. Kolonna: Aizpilda Pretendents, norādot plānoto sētnieku skaitu objektos, lai nodrošinātu Pasūtītāja noteikto teritoriju ikdienas uzkopšanu.

Sheet 3_Darbinieku atalgojuma veidi
A3: Pakalpojumā iesaistīto darbinieku faktiskais skaits un atalgojums.
B4: (Izvērsta forma - darbinieku atalgojums)
B5: Pretendents aizpilda tabulu, norādot faktisko darbinieku kopējo skaitu, lai nodrošinātu pakalpojuma izpildi.
A7: Pretendenta noteiktais slimības naudas uzkrājums, %:
A8: Objekts | B8: Nr. | C8: Amats | D8: Stundas likme (bruto) EUR/h | E8: Darba stundas mēnesī, h (vienam cilvēkam) | F8: Cilvēku skaits | G8: Stundu skaits kopā (aizpildās automātiski) | H8: Darbinieka atalgojums | O8: Darbinieka izmaksas
H9: Darba alga (vienam darbiniekam) (bruto) | I9: Uzkrājums atvaļinājumam (1/12 daļa) (vienam darbiniekam) | J9: Noteiktais slimības naudas uzkrājums vienam darbiniekam | K9: Atalgojums vienam darbiniekam (bruto) | L9: Darba Devēja soc.nodoklis | M9: Darba Devēja soc.nodoklis vienam darbiniekam | N9: Riska nodeva vienam darbiniekam
H10: Mēnesī (EUR) | I10: Mēnesī (EUR) | J10: Mēnesī (EUR) | K10: Mēnesī kopā (EUR) | L10: % | M10: Aizpildās automātiski (EUR) | N10: Mēnesī (EUR) | O10: Viena darbinieka izmaksas mēnesī | P10: Visu darbinieku izmaksas mēnesī
A11: 1 | B11: 2 | C11: 3 | D11: 4 | E11: 5 | F11: 6 | G11: 7 | H11: 8 | I11: 9 | J11: 10 | K11: 11 | L11: 12 | M11: 12.1 | N11: 13 | O11: 14 | P11: 15
A12: 1. Telpu ikdienas pamatuzkopšana,uzturēšana.
A13: 1.1. Telpu ikdienas uzkopšana.
A14: Mārupes iela 17 k-1 / 17 k-2, Rīga | B14: 1 | C14: Apkopēja | D14: 0 | E14: 0 | F14: 0 | G14: =E14*F14 -> 0 | H14: =D14*E14 -> 0 | I14: =H14/12 -> 0 | J14: =H14*$J$7 -> 0 | K14: =H14+I14+J14 -> 0 | L14: 0.2359 | M14: =K14*L14 -> 0 | N14: 0.36 | O14: =N14+M14+K14 -> 0.36 | P14: =O14*F14 -> 0
B15: 2 | C15: Apkopēja | D15: 0 | E15: 0 | F15: 0 | G15: =E15*F15 -> 0 | H15: =D15*E15 -> 0 | I15: =H15/12 -> 0 | J15: =H15*$J$7 -> 0 | K15: =H15+I15+J15 -> 0 | L15: 0.2359 | M15: =K15*L15 -> 0 | N15: 0.36 | O15: =N15+M15+K15 -> 0.36 | P15: =O15*F15 -> 0
B16: ... | C16: Apkopēja | D16: 0 | E16: 0 | F16: 0 | G16: =E16*F16 -> 0 | H16: =D16*E16 -> 0 | I16: =H16/12 -> 0 | J16: =H16*$J$7 -> 0 | K16: =H16+I16+J16 -> 0 | L16: 0.2359 | M16: =K16*L16 -> 0 | N16: 0.36 | O16: =N16+M16+K16 -> 0.36 | P16: =O16*F16 -> 0
G17: =SUM(G14:G16) -> 0 | P17: =SUM(P14:P16) -> 0
A18: Hipokrāta iela 3, Rīga | B18: 1 | C18: Apkopēja | D18: 0 | E18: 0 | F18: 0 | G18: =E18*F18 -> 0 | H18: =D18*E18 -> 0 | I18: =H18/12 -> 0 | J18: =H18*$J$7 -> 0 | K18: =H18+I18+J18 -> 0 | L18: 0.2359 | M18: =K18*L18 -> 0 | N18: 0.36 | O18: =N18+M18+K18 -> 0.36 | P18: =O18*F18 -> 0
B19: 2 | C19: Apkopēja | D19: 0 | E19: 0 | F19: 0 | G19: =E19*F19 -> 0 | H19: =D19*E19 -> 0 | I19: =H19/12 -> 0 | J19: =H19*$J$7 -> 0 | K19: =H19+I19+J19 -> 0 | L19: 0.2359 | M19: =K19*L19 -> 0 | N19: 0.36 | O19: =N19+M19+K19 -> 0.36 | P19: =O19*F19 -> 0
B20: ... | C20: Apkopēja | D20: 0 | E20: 0 | F20: 0 | G20: =E20*F20 -> 0 | H20: =D20*E20 -> 0 | I20: =H20/12 -> 0 | J20: =H20*$J$7 -> 0 | K20: =H20+I20+J20 -> 0 | L20: 0.2359 | M20: =K20*L20 -> 0 | N20: 0.36 | O20: =N20+M20+K20 -> 0.36 | P20: =O20*F20 -> 0
G21: =SUM(G18:G20) -> 0 | P21: =SUM(P18:P20) -> 0
A22: Dārza iela 5 | B22: 1 | C22: Apkopēja | D22: 0 | E22: 0 | F22: 0 | G22: =E22*F22 -> 0 | H22: =D22*E22 -> 0 | I22: =H22/12 -> 0 | J22: =H22*$J$7 -> 0 | K22: =H22+I22+J22 -> 0 | L22: 0.2359 | M22: =K22*L22 -> 0 | N22: 0.36 | O22: =K22+M22+N22 -> 0.36 | P22: =F22*O22 -> 0
B23: 2 | C23: Apkopēja | D23: 0 | E23: 0 | F23: 0 | G23: =E23*F23 -> 0 | H23: =D23*E23 -> 0 | I23: =H23/12 -> 0 | J23: =H23*$J$7 -> 0 | K23: =H23+I23+J23 -> 0 | L23: 0.2359 | M23: =K23*L23 -> 0 | N23: 0.36 | O23: =K23+M23+N23 -> 0.36 | P23: =F23*O23 -> 0
B24: ... | C24: Apkopēja | D24: 0 | E24: 0 | F24: 0 | G24: =E24*F24 -> 0 | H24: =D24*E24 -> 0 | I24: =H24/12 -> 0 | J24: =H24*$J$7 -> 0 | K24: =H24+I24+J24 -> 0 | L24: 0.2359 | M24: =K24*L24 -> 0 | N24: 0.36 | O24: =K24+M24+N24 -> 0.36 | P24: =F24*O24 -> 0
G25: =SUM(G22:G24) -> 0 | P25: =SUM(P22:P24) -> 0
A26: Telpu ikdienas pamatuzkopšana kopā mēnesī: | G26: =SUM(G17,G21,G25) -> 0 | P26: =SUM(P17,P21,P25) -> 0
A27: Vidējā stunas tarifa likme, EUR: | E27: =P26/G26 -> #DIV/0!
A28: 1.2. Teritorijas ikdienas uzkopšana.
A29: Mārupes iela 17 k-1/ 17 k-2 | B29: 1 | C29: Sētnieks | D29: 0 | E29: 0 | F29: 0 | G29: =E29*F29 -> 0 | H29: =D29*E29 -> 0 | I29: =H29/12 -> 0 | J29: =H29*$J$7 -> 0 | K29: =H29+I29+J29 -> 0 | L29: 0.2359 | M29: =K29*L29 -> 0 | N29: 0.36 | O29: =N29+M29+K29 -> 0.36 | P29: =O29*F29 -> 0
B30: 2 | C30: Sētnieks | D30: 0 | E30: 0 | F30: 0 | G30: =E30*F30 -> 0 | H30: =D30*E30 -> 0 | I30: =H30/12 -> 0 | J30: =H30*$J$7 -> 0 | K30: =H30+I30+J30 -> 0 | L30: 0.2359 | M30: =K30*L30 -> 0 | N30: 0.36 | O30: =N30+M30+K30 -> 0.36 | P30: =O30*F30 -> 0
B31: ... | C31: Sētnieks | D31: 0 | E31: 0 | F31: 0 | G31: =E31*F31 -> 0 | H31: =D31*E31 -> 0 | I31: =H31/12 -> 0 | J31: =H31*$J$7 -> 0 | K31: =H31+I31+J31 -> 0 | L31: 0.2359 | M31: =K31*L31 -> 0 | N31: 0.36 | O31: =N31+M31+K31 -> 0.36 | P31: =O31*F31 -> 0
G32: =SUM(G29:G31) -> 0 | P32: =SUM(P29:P31) -> 0
A33: Teritorija bez adreses Kad.Nr. 01000640116 (RSU parks, ūdenstilpnes vienā pusē, kas atrodas tuvāk Dārza ielai 5) | B33: 1 | C33: Sētnieks | D33: 0 | E33: 0 | F33: 0 | G33: =E33*F33 -> 0 | H33: =D33*E33 -> 0 | I33: =H33/12 -> 0 | J33: =H33*$J$7 -> 0 | K33: =H33+I33+J33 -> 0 | L33: 0.2359 | M33: =K33*L33 -> 0 | N33: 0.36 | O33: =N33+M33+K33 -> 0.36 | P33: =O33*F33 -> 0
B34: 2 | C34: Sētnieks | D34: 0 | E34: 0 | F34: 0 | G34: =E34*F34 -> 0 | H34: =D34*E34 -> 0 | I34: =H34/12 -> 0 | J34: =H34*$J$7 -> 0 | K34: =H34+I34+J34 -> 0 | L34: 0.2359 | M34: =K34*L34 -> 0 | N34: 0.36 | O34: =N34+M34+K34 -> 0.36 | P34: =O34*F34 -> 0
B35: ... | C35: Sētnieks | D35: 0 | E35: 0 | F35: 0 | G35: =E35*F35 -> 0 | H35: =D35*E35 -> 0 | I35: =H35/12 -> 0 | J35: =H35*$J$7 -> 0 | K35: =H35+I35+J35 -> 0 | L35: 0.2359 | M35: =K35*L35 -> 0 | N35: 0.36 | O35: =N35+M35+K35 -> 0.36 | P35: =O35*F35 -> 0
G36: =SUM(G33:G35) -> 0 | P36: =SUM(P33:P35) -> 0
A37: Hipokrāta iela 3 | B37: 1 | C37: Sētnieks | D37: 0 | E37: 0 | F37: 0 | G37: =E37*F37 -> 0 | H37: =D37*E37 -> 0 | I37: =H37/12 -> 0 | J37: =H37*$J$7 -> 0 | K37: =H37+I37+J37 -> 0 | L37: 0.2359 | M37: =K37*L37 -> 0 | N37: 0.36 | O37: =N37+M37+K37 -> 0.36 | P37: =O37*F37 -> 0
B38: 2 | C38: Sētnieks | D38: 0 | E38: 0 | F38: 0 | G38: =E38*F38 -> 0 | H38: =D38*E38 -> 0 | I38: =H38/12 -> 0 | J38: =H38*$J$7 -> 0 | K38: =H38+I38+J38 -> 0 | L38: 0.2359 | M38: =K38*L38 -> 0 | N38: 0.36 | O38: =N38+M38+K38 -> 0.36 | P38: =O38*F38 -> 0
B39: ... | C39: Sētnieks | D39: 0 | E39: 0 | F39: 0 | G39: =E39*F39 -> 0 | H39: =D39*E39 -> 0 | I39: =H39/12 -> 0 | J39: =H39*$J$7 -> 0 | K39: =H39+I39+J39 -> 0 | L39: 0.2359 | M39: =K39*L39 -> 0 | N39: 0.36 | O39: =N39+M39+K39 -> 0.36 | P39: =O39*F39 -> 0
G40: =SUM(G37:G39) -> 0 | P40: =SUM(P37:P39) -> 0
A41: Dārza iela 5 | B41: 1 | C41: Sētnieks | D41: 0 | E41: 0 | F41: 0 | G41: =E41*F41 -> 0 | H41: =D41*E41 -> 0 | I41: =H41/12 -> 0 | J41: =H41*$J$7 -> 0 | K41: =H41+I41+J41 -> 0 | L41: 0.2359 | M41: =K41*L41 -> 0 | N41: 0.36 | O41: =K41+M41+N41 -> 0.36 | P41: =F41*O41 -> 0
B42: 2 | C42: Sētnieks | D42: 0 | E42: 0 | F42: 0 | G42: =E42*F42 -> 0 | H42: =D42*E42 -> 0 | I42: =H42/12 -> 0 | J42: =H42*$J$7 -> 0 | K42: =H42+I42+J42 -> 0 | L42: 0.2359 | M42: =K42*L42 -> 0 | N42: 0.36 | O42: =K42+M42+N42 -> 0.36 | P42: =F42*O42 -> 0
B43: ... | C43: Sētnieks | D43: 0 | E43: 0 | F43: 0 | G43: =E43*F43 -> 0 | H43: =D43*E43 -> 0 | I43: =H43/12 -> 0 | J43: =H43*$J$7 -> 0 | K43: =H43+I43+J43 -> 0 | L43: 0.2359 | M43: =K43*L43 -> 0 | N43: 0.36 | O43: =K43+M43+N43 -> 0.36 | P43: =F43*O43 -> 0
G44: =SUM(G41:G43) -> 0 | P44: =SUM(P41:P43) -> 0
A45: Teritorijas ikdienas pamatuzkopšana kopā mēnesī: | G45: =SUM(G32,G36,G40,G44) -> 0 | P45: =SUM(P32,P36,P40,P44) -> 0
A46: Vidējā stunas tarifa likme, EUR: | E46: =P45/G45 -> #DIV/0!
A47: 1.4. Darbu vadīšana un uzraudzība
A48: Visi objekti | B48: 1 | C48: Darbu vadītājs | D48: 0 | E48: 0 | F48: 0 | G48: =E48*F48 -> 0 | H48: =D48*E48 -> 0 | I48: =H48/12 -> 0 | J48: =H48*$J$7 -> 0 | K48: =H48+I48+J48 -> 0 | L48: 0.2359 | M48: =K48*L48 -> 0 | N48: 0.36 | O48: =N48+M48+K48 -> 0.36 | P48: =O48*F48 -> 0
B49: … | C49: Darbu vadītājs | D49: 0 | E49: 0 | F49: 0 | G49: =E49*F49 -> 0 | H49: =D49*E49 -> 0 | I49: =H49/12 -> 0 | J49: =H49*$J$7 -> 0 | K49: =H49+I49+J49 -> 0 | L49: 0.2359 | M49: =K49*L49 -> 0 | N49: 0.36 | O49: =N49+M49+K49 -> 0.36 | P49: =O49*F49 -> 0
A50: Darbu vadīšana un uzraudzība kopā: | G50: =SUM(G48:G49) -> 0 | P50: =SUM(P48:P49) -> 0
A51: Vidējā stunas tarifa likme, EUR: | E51: =P50/G50 -> #DIV/0!
A53: Skaidrojumi.
A54: 1. Kolonna: Konkrētā Objekta adrese.
A55: 2. Kolonna: Posteņa Nr.
A56: 3. Kolonna: Pretendents norāda Servisa darbiniekus pēc amatiem: apkopējas, dežūrapkopējas, sētnieki, darbu vadītājs.
A57: 4. Kolonna: Pretendents norāda darbinieka bruto stundas likmi (EUR/h).
A58: 5. Kolonna: Pretendents norāda viena darbinieka plānotās darba stundas mēnesī.
A59: 6. Kolonna: Pretendents norāda darbinieku (posteņu) skaitu atbilstoši stundu skaitam/stundas likmei.
A60: 7. Kolonna: Kopējās darba stundas objektā mēnesī (jāsakrīt ar darba stundām katrā objektā saskaņā ar 2. darba lapu "Darba efektivitāte").
A61: 8. Kolonna: Pretendents norāda viena darbinieka (posteņa) bruto darba algu mēnesī.
A62: 9. Kolonna: Pretendents norāda ikmēneša uzkrājumu viena darbinieka (posteņa) atvaļinājumam.
A63: 10. Kolonna: Pretendents norāda ikmēneša slimības naudas uzkrājumu vienam darbiniekam (postenim) slimības gadījumā.
A64: 11. Kolonna: Pretendents norāda viena darbinieka (posteņa) atalgojums (bruto) mēnesī kopā.
... A69: 15. Kolonna: Pretendents norāda Kopējās darbinieka/darbinieku (posteņa/posteņu) izmaksas mēnesī.

Sheet 4_Tāme
A4: TĀME
A5: 1. Pakalpojuma stundas likme (Pretendents aizpilda tikai C kolonnas baltās šūnas)
A7: 1.1. Telpu ikdienas uzkopšana (pamatuzkopšana):
A8: Nr. | B8: Izmaksu pozīcija | C8: EUR/h, bez PVN
A9: 1.1.1. | B9: Darbaspēka izmaksas (aizpildās automātiski)*: | C9: ='3_Darbinieku atalgojuma veidi'!E27 -> #DIV/0!
A10: 1.1.2. | B10: Materiālu izmaksas (uzkopšanas līdzekļi, dezinfekcijas līdzekļi, atkritumu maisi, u.c.) (aizpilda Pretendents): | C10: 0
A11: 1.1.3. | B11: Inventārs, pamatlīdzekļi, darba apģērbs (aizpilda Pretendents): | C11: 0
A12: 1.1.4. | B12: Citas izmaksas (transporta un administratīvās izmaksas) (aizpilda Pretendents): | C12: 0
A13: Kopā, EUR/h: | C13: =SUM(C9:C12) -> #DIV/0!
A15: 1.2. Teritorijas ikdienas uzkopšana (pamatuzkopšana):
A16: Nr. | B16: Izmaksu pozīcija | C16: EUR/h, bez PVN
A17: 1.4.1. | B17: Darbaspēka izmaksas (aizpildās automātiski)*: | C17: ='3_Darbinieku atalgojuma veidi'!E46 -> #DIV/0!
A18: 1.4.2. | B18: Materiālu izmaksas (uzkopšanas līdzekļi, pretslīdes materiāli, atkritumu maisi, u.c.) (aizpilda Pretendents): | C18: 0
A19: 1.4.3. | B19: Inventārs, pamatlīdzekļi, darba apģērbs (aizpilda Pretendents): | C19: 0
A20: 1.4.4. | B20: Citas izmaksas (transporta un administratīvās izmaksas) (aizpilda Pretendents): | C20: 0
A21: Kopā, EUR/h: | C21: =SUM(C17:C20) -> #DIV/0!
A22: * Darbaspēka stundas likme ir atšifrēta sheetā 3_Darbinieku atalgojuma veid.
A24: 2. Pamatpakalpojumu (telpu ikdienas uzkopšana (2.1), teritoriju ikdienas uzkopšana (2.2), darbu vadīšana un uzraudzība (2.3.)) izmaksu sadalījums pa objektiem (aizpildās automātiski).
A25: Nr.p.k. | B25: Pakalpojums | C25: Kopējā platība objektos (m2) | D25: Pakalpojuma Darba stundas mēnesī | E25: Pakalpojuma stundas izmaksa (aizpildās automātiski) | F25: Cena par pakalpojumu mēnesī (aizpildās automātiski) | G25: Cena par pakalpojumu 24 mēnešos (aizpildās automātiski)
A26: 2.1. | B26: Telpu ikdienas uzkopšana
A27: 2.1.1. | B27: Mārupes iela 17 k-1/17 k-2 | C27: ='2_Darba_efektivitāte'!C12 -> 4128.6 | D27: ='2_Darba_efektivitāte'!G12 -> 0 | E27: =$C$13 -> #DIV/0! | F27: =D27*E27 -> #DIV/0! | G27: =F27*24 -> #DIV/0!
A28: 2.1.2. | B28: Hipokrāta iela 3 | C28: ='2_Darba_efektivitāte'!C22 -> 2414.4 | D28: ='2_Darba_efektivitāte'!G22 -> 0 | E28: =$C$13 -> #DIV/0! | F28: =D28*E28 -> #DIV/0! | G28: =F28*24 -> #DIV/0!
A29: 2.1.3. | B29: Dārza iela 5 | C29: ='2_Darba_efektivitāte'!C33 -> 3055.4 | D29: ='2_Darba_efektivitāte'!G33 -> 0 | E29: =$C$13 -> #DIV/0! | F29: =D29*E29 -> #DIV/0! | G29: =F29*24 -> #DIV/0!
A30: Kopā: | C30: =SUM(C27:C29) -> 9598.4 | D30: =SUM(D27:D29) -> 0 | F30: =SUM(F27:F29) -> #DIV/0! | G30: =F30*24 -> #DIV/0!
A31: 2.2. | B31: Teritoriju ikdienas uzkopšana
A32: 2.2.1. | B32: Mārupes iela 17 k-1/17 k-2 | C32: ='2_Darba_efektivitāte'!C43 -> 7561 | D32: ='2_Darba_efektivitāte'!F43 -> 0 | E32: =$C$21 -> #DIV/0! | F32: =D32*E32 -> #DIV/0! | G32: =F32*24 -> #DIV/0!
A33: 2.2.2. | B33: Teritorija bez adreses Kad Nr. 01000640116 (RSU parks, ūdenstilpnes vienā pusē, kas atrodas tuvāk Dārza ielai 5) | C33: ='2_Darba_efektivitāte'!C47 -> 1746 | D33: ='2_Darba_efektivitāte'!F47 -> 0 | E33: =$C$21 -> #DIV/0! | F33: =D33*E33 -> #DIV/0! | G33: =F33*24 -> #DIV/0!
A34: 2.2.3. | B34: Hipokrāta iela 3 | C34: ='2_Darba_efektivitāte'!C52 -> 12203 | D34: ='2_Darba_efektivitāte'!F52 -> 0 | E34: =$C$21 -> #DIV/0! | F34: =D34*E34 -> #DIV/0! | G34: =F34*24 -> #DIV/0!
A35: 2.2.4. | B35: Dārza iela 5 | C35: ='2_Darba_efektivitāte'!C56 -> 3323 | D35: ='2_Darba_efektivitāte'!F56 -> 0 | E35: =$C$21 -> #DIV/0! | F35: =D35*E35 -> #DIV/0! | G35: =F35*24 -> #DIV/0!
A36: Kopā: | C36: =SUM(C32:C35) -> 24833 | D36: =SUM(D32:D35) -> 0 | F36: =SUM(F32:F35) -> #DIV/0! | G36: =F36*24 -> #DIV/0!
A37: 2.3. | B37: Darbu vadīšana un uzraudzība
A38: 2.3.1. | B38: Visi objekti | C38: Visi objekti | D38: ='3_Darbinieku atalgojuma veidi'!G50 -> 0 | E38: ='3_Darbinieku atalgojuma veidi'!E51 -> #DIV/0! | F38: =D38*E38 -> #DIV/0! | G38: =F38*24 -> #DIV/0!
A39: Kopā: | C39: =C38 -> Visi objekti | D39: =D38 -> 0 | E39: =E38 -> #DIV/0! | F39: =F38 -> #DIV/0! | G39: =F39*24 -> #DIV/0!
A40: Kopā (2.1. + 2.2. + 2.3.): | F40: =F30+F36+F39 -> #DIV/0! | G40: =F40*24 -> #DIV/0!

Sheet 4_1_Izvērstās tāmes
A2: Telpu ikdienas uzkopšana atbilstoši Pasūtītāja uzkopšanas programmai. Pasūtītāja noteiktais telpu ikdienas pamatuzkopšanai laiks ir: objektos: Mārupes ielā 17 k-1 un k-2, Hipokrāta ielā 3 no plkst. 06:00 līdz 17:00, Dārza ielā 5 no plkst. 7:00 līdz 17:00
A3: Objekts | B3: Telpu pielietojums objektos saskaņā ar norādīto telpu pielietojuma sadalījumu 1.izklājlapā | C3: Telpu uzkopjamās platības objektos (m2) | D3: Telpu pamat-uzkopšanas reizes nedēļā | E3: Pretendentam nepieciešamais uzkopšanas laiks (h) 1 reizē saskaņā ar Pretendenta norādīto faktisko vidējā laika normu 6. kolonnā | F3: Pretendentam nepieciešamā vidējā darba laika norma (m2 skaits stundā) ievērojot Finanšu piedāvājuma 1.datu lapā "Vid_laika_norma" noteikto (t.sk. ne vairāk kā 15 % noteikto amplitūdu)*. Aizpildās automātiski no 2.izklājlapas | G3: Pretendenta plānotās darba stundas kopā mēnesī noteikto platību uzkopšanai | H3: Pakalpojuma stundas izmaksa (aizpildās automātiski) | I3: Cena par pakalpojumu mēnesī (aizpildās automātiski) | J3: Cena par pakalpojumu 24 mēnešos (aizpildās automātiski)
A4: 1 | B4: 2 | C4: 3 | D4: 4 | E4: 5 | F4: 6 | G4: 7 | H4: 8 | I4: 9 | J4: 10
A5: Mārupes iela 17 k-1/ 17 k-2, Rīga | B5: ='2_Darba_efektivitāte'!B4 -> Administratīvās telpas | C5: ='2_Darba_efektivitāte'!C4 -> 205.3 | D5: ='2_Darba_efektivitāte'!D4 -> 5 | E5: =C5/F5 -> #DIV/0! | F5: ='2_Darba_efektivitāte'!F4 -> 0 | G5: ='2_Darba_efektivitāte'!G4 -> 0 | H5: ='4_Tāme'!C13 -> #DIV/0! | I5: =G5*H5 -> #DIV/0! | J5: =I5*24 -> #DIV/0!
B6: ='2_Darba_efektivitāte'!B5 -> Virtuve (t.sk. virtuves un gaiteņi īrnieku AM3 un BM kategoriju numuros) | C6: ='2_Darba_efektivitāte'!C5 -> 324.8 | D6: ='2_Darba_efektivitāte'!D5 -> 6 | E6: =C6/F6 -> #DIV/0! | F6: ='2_Darba_efektivitāte'!F5 -> 0 | G6: ='2_Darba_efektivitāte'!G5 -> 0 | H6: ='4_Tāme'!C13 -> #DIV/0! | I6: =G6*H6 -> #DIV/0! | J6: =I6*24 -> #DIV/0!
B7: ='2_Darba_efektivitāte'!B6 -> Gaiteņi/ ieejas halles manuāli | C7: ='2_Darba_efektivitāte'!C6 -> 1884 | D7: ='2_Darba_efektivitāte'!D6 -> 6 | E7: =C7/F7 -> #DIV/0! | F7: ='2_Darba_efektivitāte'!F6 -> 0 | G7: ='2_Darba_efektivitāte'!G6 -> 0 | H7: ='4_Tāme'!C13 -> #DIV/0! | I7: =G7*H7 -> #DIV/0! | J7: =I7*24 -> #DIV/0!
B8: ='2_Darba_efektivitāte'!B7 -> Kāpnes | C8: ='2_Darba_efektivitāte'!C7 -> 349.5 | D8: ='2_Darba_efektivitāte'!D7 -> 6 | E8: =C8/F8 -> #DIV/0! | F8: ='2_Darba_efektivitāte'!F7 -> 0 | G8: ='2_Darba_efektivitāte'!G7 -> 0 | H8: ='4_Tāme'!C13 -> #DIV/0! | I8: =G8*H8 -> #DIV/0! | J8: =I8*24 -> #DIV/0!
B9: ='2_Darba_efektivitāte'!B8 -> Klases/Mācību vai atpūtas telpas | C9: ='2_Darba_efektivitāte'!C8 -> 206.9 | D9: ='2_Darba_efektivitāte'!D8 -> 6 | E9: =C9/F9 -> #DIV/0! | F9: ='2_Darba_efektivitāte'!F8 -> 0 | G9: ='2_Darba_efektivitāte'!G8 -> 0 | H9: ='4_Tāme'!C13 -> #DIV/0! | I9: =G9*H9 -> #DIV/0! | J9: =I9*24 -> #DIV/0!
B10: ='2_Darba_efektivitāte'!B9 -> Sporta zāle manuāli | C10: ='2_Darba_efektivitāte'!C9 -> 217.8 | D10: ='2_Darba_efektivitāte'!D9 -> 6 | E10: =C10/F10 -> #DIV/0! | F10: ='2_Darba_efektivitāte'!F9 -> 0 | G10: ='2_Darba_efektivitāte'!G9 -> 0 | H10: ='4_Tāme'!C13 -> #DIV/0! | I10: =G10*H10 -> #DIV/0! | J10: =I10*24 -> #DIV/0!
B11: ='2_Darba_efektivitāte'!B10 -> Noliktavu telpas manuāli | C11: ='2_Darba_efektivitāte'!C10 -> 309.1 | D11: ='2_Darba_efektivitāte'!D10 -> 0.25 | E11: =C11/F11 -> #DIV/0! | F11: ='2_Darba_efektivitāte'!F10 -> 0 | G11: ='2_Darba_efektivitāte'!G10 -> 0 | H11: ='4_Tāme'!C13 -> #DIV/0! | I11: =G11*H11 -> #DIV/0! | J11: =I11*24 -> #DIV/0!
B12: ='2_Darba_efektivitāte'!B11 -> Labierīcības un dušu telpas (t.sk. īrnieku AM3 un BM kategoriju numuros) | C12: ='2_Darba_efektivitāte'!C11 -> 631.2 | D12: ='2_Darba_efektivitāte'!D11 -> 6 | E12: =C12/F12 -> #DIV/0! | F12: ='2_Darba_efektivitāte'!F11 -> 0 | G12: ='2_Darba_efektivitāte'!G11 -> 0 | H12: ='4_Tāme'!C13 -> #DIV/0! | I12: =G12*H12 -> #DIV/0! | J12: =I12*24 -> #DIV/0!
C13: =SUM(C5:C12) -> 4128.6 | G13: =SUM(G5:G12) -> 0 | I13: =I5+I6+I7+I8+I9+I10+I11+I12 -> #DIV/0! | J13: =I13*24 -> #DIV/0!
A14: Hipokrāta iela 3 | B14: ='2_Darba_efektivitāte'!B13 -> Administratīvās telpas | C14: ='2_Darba_efektivitāte'!C13 -> 63.9 | D14: ='2_Darba_efektivitāte'!D13 -> 5 | E14: =C14/F14 -> #DIV/0! | F14: ='2_Darba_efektivitāte'!F13 -> 0 | G14: ='2_Darba_efektivitāte'!G13 -> 0 | H14: ='4_Tāme'!C13 -> #DIV/0! | I14: =G14*H14 -> #DIV/0! | J14: =I14*24 -> #DIV/0!
B15: ='2_Darba_efektivitāte'!B14 -> Konferenču telpa | C15: ='2_Darba_efektivitāte'!C14 -> 76 | D15: ='2_Darba_efektivitāte'!D14 -> 0.25 | E15: =C15/F15 -> #DIV/0! | F15: ='2_Darba_efektivitāte'!F14 -> 0 | G15: ='2_Darba_efektivitāte'!G14 -> 0 | H15: ='4_Tāme'!C13 -> #DIV/0! | I15: =G15*H15 -> #DIV/0! | J15: =I15*24 -> #DIV/0!
B16: ='2_Darba_efektivitāte'!B15 -> Gaiteņi/ ieejas halles manuāli | C16: ='2_Darba_efektivitāte'!C15 -> 1230.5 | D16: ='2_Darba_efektivitāte'!D15 -> 5 | E16: =C16/F16 -> #DIV/0! | F16: ='2_Darba_efektivitāte'!F15 -> 0 | G16: ='2_Darba_efektivitāte'!G15 -> 0 | H16: ='4_Tāme'!C13 -> #DIV/0! | I16: =G16*H16 -> #DIV/0! | J16: =I16*24 -> #DIV/0!
B17: ='2_Darba_efektivitāte'!B16 -> Lifti | C17: ='2_Darba_efektivitāte'!C16 -> 2 | D17: ='2_Darba_efektivitāte'!D16 -> 5 | E17: =C17/F17 -> #DIV/0! | F17: ='2_Darba_efektivitāte'!F16 -> 0 | G17: ='2_Darba_efektivitāte'!G16 -> 0 | H17: ='4_Tāme'!C13 -> #DIV/0! | I17: =G17*H17 -> #DIV/0! | J17: =I17*24 -> #DIV/0!
B18: ='2_Darba_efektivitāte'!B17 -> Noliktavu telpas manuāli | C18: ='2_Darba_efektivitāte'!C17 -> 95.2 | D18: ='2_Darba_efektivitāte'!D17 -> 1 | E18: =C18/F18 -> #DIV/0! | F18: ='2_Darba_efektivitāte'!F17 -> 0 | G18: ='2_Darba_efektivitāte'!G17 -> 0 | H18: ='4_Tāme'!C13 -> #DIV/0! | I18: =G18*H18 -> #DIV/0! | J18: =I18*24 -> #DIV/0!
B19: ='2_Darba_efektivitāte'!B18 -> Virtuve | C19: ='2_Darba_efektivitāte'!C18 -> 220.9 | D19: ='2_Darba_efektivitāte'!D18 -> 5 | E19: =C19/F19 -> #DIV/0! | F19: ='2_Darba_efektivitāte'!F18 -> 0 | G19: ='2_Darba_efektivitāte'!G18 -> 0 | H19: ='4_Tāme'!C13 -> #DIV/0! | I19: =G19*H19 -> #DIV/0! | J19: =I19*24 -> #DIV/0!
B20: ='2_Darba_efektivitāte'!B19 -> Kāpnes | C20: ='2_Darba_efektivitāte'!C19 -> 166 | D20: ='2_Darba_efektivitāte'!D19 -> 5 | E20: =C20/F20 -> #DIV/0! | F20: ='2_Darba_efektivitāte'!F19 -> 0 | G20: ='2_Darba_efektivitāte'!G19 -> 0 | H20: ='4_Tāme'!C13 -> #DIV/0! | I20: =G20*H20 -> #DIV/0! | J20: =I20*24 -> #DIV/0!
B21: ='2_Darba_efektivitāte'!B20 -> Sporta zāle manuāli | C21: ='2_Darba_efektivitāte'!C20 -> 16.3 | D21: ='2_Darba_efektivitāte'!D20 -> 5 | E21: =C21/F21 -> #DIV/0! | F21: ='2_Darba_efektivitāte'!F20 -> 0 | G21: ='2_Darba_efektivitāte'!G20 -> 0 | H21: ='4_Tāme'!C13 -> #DIV/0! | I21: =G21*H21 -> #DIV/0! | J21: =I21*24 -> #DIV/0!
B22: ='2_Darba_efektivitāte'!B21 -> Labierīcības un dušu telpas | C22: ='2_Darba_efektivitāte'!C21 -> 543.6 | D22: ='2_Darba_efektivitāte'!D21 -> 5 | E22: =C22/F22 -> #DIV/0! | F22: ='2_Darba_efektivitāte'!F21 -> 0 | G22: ='2_Darba_efektivitāte'!G21 -> 0 | H22: ='4_Tāme'!C13 -> #DIV/0! | I22: =G22*H22 -> #DIV/0! | J22: =I22*24 -> #DIV/0!
C23: =SUM(C14:C22) -> 2414.4 | G23: =SUM(G14:G22) -> 0 | I23: =I14+I15+I16+I17+I18+I19+I20+I21+I22 -> #DIV/0! | J23: =I23*24 -> #DIV/0!
A24: Dārza iela 5, Rīga | B24: ='2_Darba_efektivitāte'!B23 -> Administratīvās telpas | C24: ='2_Darba_efektivitāte'!C23 -> 157 | D24: ='2_Darba_efektivitāte'!D23 -> 5 | E24: =C24/F24 -> #DIV/0! | F24: ='2_Darba_efektivitāte'!F23 -> 0 | G24: ='2_Darba_efektivitāte'!G23 -> 0 | H24: ='4_Tāme'!C13 -> #DIV/0! | I24: =G24*H24 -> #DIV/0! | J24: =I24*24 -> #DIV/0!
B25: ='2_Darba_efektivitāte'!B24 -> Virtuve (t.sk. virtuves un gaiteņi īrnieku B un C kategorijas numuros) | C25: ='2_Darba_efektivitāte'!C24 -> 246 | D25: ='2_Darba_efektivitāte'!D24 -> 5 | E25: =C25/F25 -> #DIV/0! | F25: ='2_Darba_efektivitāte'!F24 -> 0 | G25: ='2_Darba_efektivitāte'!G24 -> 0 | H25: ='4_Tāme'!C13 -> #DIV/0! | I25: =G25*H25 -> #DIV/0! | J25: =I25*24 -> #DIV/0!
B26: ='2_Darba_efektivitāte'!B25 -> Gaiteņi/ ieejas halles manuāli | C26: ='2_Darba_efektivitāte'!C25 -> 974.7 | D26: ='2_Darba_efektivitāte'!D25 -> 6 | E26: =C26/F26 -> #DIV/0! | F26: ='2_Darba_efektivitāte'!F25 -> 0 | G26: ='2_Darba_efektivitāte'!G25 -> 0 | H26: ='4_Tāme'!C13 -> #DIV/0! | I26: =G26*H26 -> #DIV/0! | J26: =I26*24 -> #DIV/0!
B27: ='2_Darba_efektivitāte'!B26 -> Kāpnes | C27: ='2_Darba_efektivitāte'!C26 -> 246.2 | D27: ='2_Darba_efektivitāte'!D26 -> 6 | E27: =C27/F27 -> #DIV/0! | F27: ='2_Darba_efektivitāte'!F26 -> 0 | G27: ='2_Darba_efektivitāte'!G26 -> 0 | H27: ='4_Tāme'!C13 -> #DIV/0! | I27: =G27*H27 -> #DIV/0! | J27: =I27*24 -> #DIV/0!
B28: ='2_Darba_efektivitāte'!B27 -> Lifti | C28: ='2_Darba_efektivitāte'!C27 -> 3.2 | D28: ='2_Darba_efektivitāte'!D27 -> 6 | E28: =C28/F28 -> #DIV/0! | F28: ='2_Darba_efektivitāte'!F27 -> 0 | G28: ='2_Darba_efektivitāte'!G27 -> 0 | H28: ='4_Tāme'!C13 -> #DIV/0! | I28: =G28*H28 -> #DIV/0! | J28: =I28*24 -> #DIV/0!
B29: ='2_Darba_efektivitāte'!B28 -> Noliktavu telpas manuāli (t.sk. velonovietnes) | C29: ='2_Darba_efektivitāte'!C28 -> 213.8 | D29: ='2_Darba_efektivitāte'!D28 -> 1 | E29: =C29/F29 -> #DIV/0! | F29: ='2_Darba_efektivitāte'!F28 -> 0 | G29: ='2_Darba_efektivitāte'!G28 -> 0 | H29: ='4_Tāme'!C13 -> #DIV/0! | I29: =G29*H29 -> #DIV/0! | J29: =I29*24 -> #DIV/0!
B30: ='2_Darba_efektivitāte'!B29 -> Pazemes autostāvvieta ar KGUI | C30: ='2_Darba_efektivitāte'!C29 -> 1071.9 | D30: ='2_Darba_efektivitāte'!D29 -> 1 | E30: =C30/F30 -> #DIV/0! | F30: ='2_Darba_efektivitāte'!F29 -> 0 | G30: ='2_Darba_efektivitāte'!G29 -> 0 | H30: ='4_Tāme'!C13 -> #DIV/0! | I30: =G30*H30 -> #DIV/0! | J30: =I30*24 -> #DIV/0!
B31: ='2_Darba_efektivitāte'!B30 -> Sporta zāle manuāli | C31: ='2_Darba_efektivitāte'!C30 -> 59.3 | D31: ='2_Darba_efektivitāte'!D30 -> 2 | E31: =C31/F31 -> #DIV/0! | F31: ='2_Darba_efektivitāte'!F30 -> 0 | G31: ='2_Darba_efektivitāte'!G30 -> 0 | H31: ='4_Tāme'!C13 -> #DIV/0! | I31: =G31*H31 -> #DIV/0! | J31: =I31*24 -> #DIV/0!
B32: ='2_Darba_efektivitāte'!B31 -> Labierīcības un dušu telpas īrnieku B un C kategorijas numuros | C32: ='2_Darba_efektivitāte'!C31 -> 43.4 | D32: ='2_Darba_efektivitāte'!D31 -> 5 | E32: =C32/F32 -> #DIV/0! | F32: ='2_Darba_efektivitāte'!F31 -> 0 | G32: ='2_Darba_efektivitāte'!G31 -> 0 | H32: ='4_Tāme'!E29 -> #DIV/0! | I32: =G32*H32 -> #DIV/0! | J32: =I32*24 -> #DIV/0!
B33: ='2_Darba_efektivitāte'!B32 -> Labierīcības un dušu telpas (izņemot īrnieku B un C kategorijas numuros) | C33: ='2_Darba_efektivitāte'!C32 -> 39.9 | D33: ='2_Darba_efektivitāte'!D32 -> 6 | E33: =C33/F33 -> #DIV/0! | F33: ='2_Darba_efektivitāte'!F32 -> 0 | G33: ='2_Darba_efektivitāte'!G32 -> 0 | H33: ='4_Tāme'!E29 -> #DIV/0! | I33: =G33*H33 -> #DIV/0! | J33: =I33*24 -> #DIV/0!
C34: =SUM(C24:C33) -> 3055.4 | G34: =SUM(G24:G33) -> 0 | I34: =I24+I25+I26+I27+I28+I29+I30+I31+I32+I33 -> #DIV/0! | J34: =I34*24 -> #DIV/0!
B35: Kopā: | C35: =SUM(C13,C23,C34) -> 9598.4 | E35: =SUM(E5:E33) -> #DIV/0! | G35: =SUM(G13,G23,G34) -> 0 | I35: =I13+I23+I34 -> #DIV/0! | J35: =I35*24 -> #DIV/0!

Sheet 5_Finanšu piedāvājums
A4: FINANŠU PIEDĀVĀJUMS
B6: 1. Pamatpakalpojumi
B7: Nr. | C7: Sadaļa | D7: Cena mēnesī, EUR bez PVN (aizpildās automātiski) | E7: Cena 24 mēnešiem, EUR bez PVN (aizpildās automātiski)
B8: 1.1. | C8: Telpu ikdienas uzkopšana | D8: ='4_Tāme'!F30 -> #DIV/0! | E8: ='4_Tāme'!G30 -> #DIV/0!
B9: 1.3. | C9: Teritoriju ikdienas uzkopšana | D9: ='4_Tāme'!F36 -> #DIV/0! | E9: ='4_Tāme'!G36 -> #DIV/0!
B10: 1.4. | C10: Darbu vadīšana un uzraudzība | D10: ='4_Tāme'!F39 -> #DIV/0! | E10: ='4_Tāme'!G39 -> #DIV/0!
B11: Kopā, EUR bez PVN (VĒRTĒJAMAIS KRITĒRIJS A1): | D11: =SUM(D8:D10) -> #DIV/0! | E11: =SUM(E8:E10) -> #DIV/0!
B12: PVN, 21%, EUR: | D12: =D11*21% -> #DIV/0! | E12: =E11*21% -> #DIV/0!
B13: Kopā ar PVN: | D13: =D11+D12 -> #DIV/0! | E13: =E11+E12 -> #DIV/0!
B15: 2. Periodiski pēc pieprasījuma veicamie darbi
B16: Nr.p.k. | C16: Pakalpojums | D16: Mērvienība | E16: Prognozējamais apjoms (m²) vienai reizei dienesta viesnīcā Dārza ielā 5 | F16: Prognozējamais apjoms (m²) vienai reizei dienesta viesnīcā Hipokrāta ielā 3 | G16: Prognozējamais apjoms (m²) vienai reizei dienesta viesnīcā Mārupes ielā 17 k-1 un k-2 | H16: Cena par vienu mērvienību (m²), EUR bez PVN dienesta viesnīcā Dārza ielā 5 (aizpilda pretendents) | I16: Cena par vienu mērvienību (m²), EUR bez PVN dienesta viesnīcā Hipokrāta ielā 3 (aizpilda pretendents) | J16: Cena par vienu mērvienību, EUR bez PVN dienesta viesnīcā Mārupes ielā 17 k-1 un k-2 (aizpilda pretendents) | K16: Cena par kopējo apjomu EUR bez PVN dienesta viesnīcā Dārza ielā 5 (aizpildās automātiski) | L16: Cena par kopējo apjomu, EUR bez PVN dienesta viesnīcā Hipokrāta ielā 3 (aizpildās automātiski) | M16: Cena par kopējo apjomu EUR bez PVN dienesta viesnīcā Mārupes ielā 17 k-1 un k-2 (aizpildās automātiski)
K17: A 2.1. | L17: A 2.2. | M17: A 2.3.
B18: 2.1. | C18: Kāpņu telpu logu un stikla konstrukciju ģenerāltīrīšana no iekšpuses | D18: m2 | E18: 89 | F18: 0 | G18: 0 | I18: 0 | J18: 0 | K18: =E18*H18 -> 0 | L18: =F18*I18 -> 0 | M18: =G18*J18 -> 0
B19: 2.2. | C19: Biroja telpu zonu stikla starpsienu un ieejas zonu stikla konstrukciju abpusēja ģenerāltīrīšana | D19: m2 | E19: 314 | F19: 30 | G19: 100 | K19: =E19*H19 -> 0 | L19: =F19*I19 -> 0 | M19: =G19*J19 -> 0
B20: 2.3. | C20: Linoleja vaskošana | D20: m2 | E20: 100 | F20: 2377.7 | G20: 1780 | K20: =E20*H20 -> 0 | L20: =F20*I20 -> 0 | M20: =G20*J20 -> 0
B21: 2.4. | C21: Betona grīdas seguma vaskošana | D21: m2 | E21: 1608.8 | F21: 0 | G21: 0 | I21: 0 | J21: 0 | K21: =E21*H21 -> 0 | L21: =F21*I21 -> 0 | M21: =G21*J21 -> 0
B22: 2.5. | C22: Paklāju ģenerāltīrīšana | D22: m2 | E22: 903.8 | F22: 0 | G22: 0 | I22: 0 | J22: 0 | K22: =E22*H22 -> 0 | L22: =F22*I22 -> 0 | M22: =G22*J22 -> 0
B23: 2.6. | C23: Flīžu ģenerāltīrīšana (t.sk., flīžu šuves) | D23: m2 | E23: 959.8 | F23: 100 | G23: 1195.5 | K23: =E23*H23 -> 0 | L23: =F23*I23 -> 0 | M23: =G23*J23 -> 0
B24: 2.7. | C24: Mīksto mēbeļu ģenerāltīrīšana | D24: m2 | E24: 110 | F24: 20 | G24: 20 | K24: =E24*H24 -> 0 | L24: =F24*I24 -> 0 | M24: =G24*J24 -> 0
B25: Kopā, EUR bez PVN (VĒRTĒJAMAIS KRITĒRIJS A2.1., A2.2., A2.3.): | K25: =SUM(K18:K24) -> 0 | L25: =SUM(L18:L24) -> 0 | M25: =SUM(M18:M24) -> 0
B26: 2.tabulas pozīcijās, kur norādīta 0 (nulle), pretendentam nav jānorāda cena, jo saskaņā ar Tehnisko specifikāciju šādu darbu izpilde nav nepieciešama Periodiski veicamie speciālie darbi: Pretendents norāda cenu par 1m2 (EUR bez PVN). Periodiski veicamie speciālie darbi tiks veikti pēc Pasūtītāja pieprasījuma, iepriekš vienojoties ar Izpildītāju. Samaksa par noteiktajiem darbiem tiks veikta atsevišķi saskaņā ar Pretendenta norādīto cenu EUR/1m2 bez PVN
B28: 3. Istabeņu pakalpojumi
B29: Nr. | C29: Pakalpojums | D29: Istabiņas izmērs, m2 | E29: Mērvienība | F29: Cena par vienu mērvienību, EUR bez PVN (aizpilda pretendents)
B30: 3.1. | C30: Numuriņu uzkopšana Dārza ielā 5, Rīgā
B31: 3.1.1. | C31: A kategorijas numuriņa uzkopšana saskaņā ar darba aprakstu - ar sanitāro telpu uzkopšanu | D31: 17.4 - 23.3 | E31: gab.
B32: (VĒRTĒJAMAIS KRITĒRIJS A3.1.1) | F32: =F31 -> 0
B33: 3.1.2. | C33: A kategorijas numuriņa sanitāro telpu uzkopšanu | D33: 2.5-4.4 | E33: gab.
B34: 3.1.3. | C34: B, C kategorijas numuriņu guļamtelpu uzkopšana saskaņā ar darba aprakstu - bez sanitāro telpu, virtuvju (koplietošanas telpu) uzkopšanas | D34: 9.8 - 12.2 | E34: gab.
B35: 3.1.4. | C35: B kategorijas numuriņu virtuves uzkopšana | D35: 11.2-12.9 | E35: gab.
B36: 3.1.5. | C36: C kategorijas numuriņu virtuves uzkopšana | D36: 20.2 | E36: gab.
B37: 3.1.6. | C37: B kategorijas numuriņu sanitāro telpu uzkopšana | D37: 2.4-4.3 | E37: gab.
B38: 3.1.7. | C38: C kategorijas numuriņu sanitāro telpu uzkopšana | D38: 2.4-4.2 | E38: gab.
B39: (VĒRTĒJAMAIS KRITĒRIJS A3.1.2) | F39: =F33+F38 -> 0
B40: 3.2. | C40: Numuriņu uzkopšana Mārupes ielā 17 k-1, k-2, Rīgā
B41: 3.2.1. | C41: BM kategorijas numuriņa uzkopšana saskaņā ar darba aprakstu - ar virtuves un sanitāro telpu uzkopšanu | D41: 20.0 - 39.7 | E41: gab.
B42: 3.2.2. | C42: BM kategorijas numuriņa virtuves un sanitārās telpas uzkopšana | D42: 17.8-19.50 | E42: gab.
B43: 3.2.3. | C43: AM1, AM2 kategorijas numuriņa uzkopšana saskaņā ar darba aprakstu - ar sanitāro telpu uzkopšanu | D43: 21.1 - 33.81 | E43: gab.
B44: 3.2.4. | C44: AM3 kategorijas numuriņa guļamtelpu uzkopšana saskaņā ar darba aprakstu - bez sanitāro mezglu, virtuvju (koplietošanas telpu) uzkopšanas | D44: 7.4 - 12.55 | E44: gab.
B45: 3.2.5. | C45: AM3 kategorijas numuriņu koplietošanas telpu uzkopšana - sanitārās telpas, virtuves (numura koplietošanas telpas) | D45: 14.65 - 18.57 | E45: gab.
B46: 3.2.6. | C46: CM, DM kategorijas numuriņu guļamtelpu uzkopšana saskaņā ar darba aprakstu - bez sanitāro telpu, virtuvju (koplietošanas telpu) uzkopšanas | D46: 18.00-22.00 | E46: gab.
B47: (VĒRTĒJAMAIS KRITĒRIJS A3.2) | F47: =F41+F43+F44+F45+F46 -> 0
B48: 3.3. | C48: Istabu uzkopšana Hipokrāta ielā 3, Rīgā
C49: AH, BH, CH kategorijas numuriņu guļamtelpu uzkopšana saskaņā ar darba aprakstu - bez sanitāro telpu, virtuvju (koplietošanas telpu) uzkopšanas | D49: 12.3 - 19.5 | E49: gab.
B50: (VĒRTĒJAMAIS KRITĒRIJS A3.3) | F50: =F49 -> 0
B53: 4. Pēc pieprasījuma veicamie darbi (papildus ikdienas uzkopšanas/uzturēšanas programmai)
B54: Nr. | C54: Pakalpojums | D54: Mērvienība | E54: Cena par vienu mērvienību, EUR bez PVN (aizpilda pretendents)
B55: 4.1. | C55: Dežūrapkopējs darba laikā - no 08:00-17:00 | D55: h
B56: 4.2. | C56: Dežūrsētnieks darba laikā - no 8:00-17:00 | D56: h
B57: 4.3. | C57: Dežūrsētnieks ārpus darba laika - no 17:00-08:00 | D57: h
B58: (VĒRTĒJAMAIS KRITĒRIJS A4) | E58: =E55+E56+E57 -> 0
