Workbook

Sheet Koptāme
D1: APSTIPRINU
D3: (pasūtītāja paraksts un tā atšifrējums)
D4: Z.v.
D5: _______.gada ___. _____________
A9: Būvniecības koptāme
B11: Objekta nosaukums: | C11: Ūdensvada un kanalizācijas sistēmu remontdarbi Rozena ielā, Rīgā
B12: Būves nosaukums: | C12: Ūdensvada un kanalizācijas sistēmu remontdarbi
B13: Objekta adrese: | C13: Rozena iela , Rīga
A16: Nr.p.k. | B16: Objekta nosaukums | D16: Objekta izmaksas (euro)
A17: 1 | B17: Ūdensvada un kanalizācijas sistēmu remontdarbi Rozena ielā, Rīgā | D17: =Kopsavilkums!D25 -> 0
B18: Kopā : | D18: =D17 -> 0
B19: PVN (21%) | D19: =ROUND(D18*21%,2) -> 0
B20: Pavisam kopā (t.sk.PVN): | D20: =D18+D19 -> 0
A23: Sastādīja
A24: Sertifikāta Nr. | C24: (paraksts un tā atšifrējums, datums)
A26: Tāme sasatādīta
A28: Pārbaudīja
A29: Sertifikāta Nr. | C29: (paraksts un tā atšifrējums, datums)

Sheet Kopsavilkums
A1: Kopsavilkuma aprēķins
A3: =C6 -> Ūdensvada un kanalizācijas sistēmu remontdarbi Rozena ielā, Rīgā
A4: (Darba veids vai konstruktīvā elementa nosaukums)
A6: Objekta nosaukums: | C6: =Koptāme!C11 -> Ūdensvada un kanalizācijas sistēmu remontdarbi Rozena ielā, Rīgā
A7: Objekta adrese: | C7: =Koptāme!C13 -> Rozena iela , Rīga
A8: Līguma Nr., datums
A9: Līguma priekšmets: | C9: Ūdensvada un kanalizācijas sistēmu remontdarbi
A10: PASŪTĪTĀJS : | C10: SIA "Rīgas ūdens"
A11: UZŅĒMĒJS:
E13: Par kopējo summu (euro) | F13: =D25 -> 0
E14: Kopējā darbietilpība (c/h) | F14: =H21 -> 0
A17: Nr.p.k. | B17: Kods, tāmes Nr. | C17: Darba veids vai konstruktīvā elementa nosaukums | D17: Tāmes izmaksas | E17: Tai skaitā | H17: Darbietilpība (c/h)
E18: darba alga | F18: būvizstrādājumi | G18: mehānismi
A19: 1 | B19: LOK1 | C19: =C6 -> Ūdensvada un kanalizācijas sistēmu remontdarbi Rozena ielā, Rīgā | D19: =E19+F19+G19 -> 0 | E19: ='LOK1'!L57 -> 0 | F19: ='LOK1'!M57 -> 0 | G19: ='LOK1'!N57 -> 0 | H19: ='LOK1'!K57 -> 0
A20: 2 | B20: LOK2 | C20: Ēku monitorings | D20: ='LOK2'!F26 -> 0
C21: Kopā : | D21: =D19+D20 -> 0 | E21: =E19 -> 0 | F21: =F19 -> 0 | G21: =G19 -> 0 | H21: =H19 -> 0
A22: Virs izdevumi (_____%)
A23: t.sk.darba aizsardzība
A24: Peļņa (_____%)
A25: Pavisam kopā: | D25: =D24+D22+D21 -> 0
A28: Sastādīja
A29: Sertifikāta Nr. | C29: (paraksts un tā atšifrējums, datums)
A31: =Koptāme!A26 -> Tāme sasatādīta
A33: Pārbaudīja
A34: Sertifikāta Nr. | C34: (paraksts un tā atšifrējums, datums)
A36: Piezīmes: 1. Sagatavojot Finanšu piedāvājumu, Pretendentam ir jāņem vērā, ka būvdarbu izpildei nepieciešamos materiālus – lūku pārsedzes (tikai ķeta elementus) un kapes (ar apakšējo atbalsta plātni) ar SIA “Rīgas ūdens” logo – nodrošina Pasūtītājs. Pretendentam Finanšu piedāvājumā šo materiālu izmaksas jāparedz EUR 0,00 vērtībā. 2.Finanšu piedāvājumā jāiekļauj darbaspēka, materiālu, iekārtu, aprīkojuma un visu citu iespējamo Darbu izpildes izdevumu izmaksas. Pretendents nav tiesīgs Finanšu piedāvājuma tāmi papildināt ar jaunām izmaksu pozīcijām vai dzēst esošās izmaksu pozīcijas. 3. Finanšu piedāvājumā aprēķinus jāveic formulās ar noapaļojumu divi cipari aiz komata (jāizmanto funkcija “round”). 4. Finanšu piedāvājumā vienības cenas algas izmaksas aprēķinu jāveic pēc formulas “laika norma x stundas likme = alga”. 5. Finanšu piedāvājumā katras pozīcijas algas, būvizstrādājumu un mehānismu kopējās izmaksas aprēķinu jāveic pēc formulas “kopējais apjoms x vienības izmaksas”.

Sheet LOK1
A1: Lokālā tāme Nr.1
A2: =C5 -> Ūdensvada un kanalizācijas sistēmu remontdarbi Rozena ielā, Rīgā
A3: (Darba veids vai konstruktīvā elementa nosaukums)
A5: Objekta nosaukums: | C5: =Koptāme!C11 -> Ūdensvada un kanalizācijas sistēmu remontdarbi Rozena ielā, Rīgā
A6: Objekta adrese: | C6: =Koptāme!C13 -> Rozena iela , Rīga
A7: Līguma Nr., datums
A8: Līguma priekšmets: | C8: Ūdensvada un kanalizācijas sistēmu remontdarbi
A9: PASŪTĪTĀJS : | C9: SIA "Rīgas ūdens"
A10: UZŅĒMĒJS:
A12: Plānotās izmaksas par Darbu izpildi: EUR | D12: =O57 -> 0 | E12: bez PVN
A14: Nr.p.k. | B14: Darba nosaukums | C14: Mērvienība | D14: Daudzums | E14: Vienības izmaksas | K14: Kopā uz visu apjomu
E15: laika norma (c/h) | F15: darba samaksas likme (euro/h) | G15: darba alga (euro) | H15: materiāli (euro) | I15: mehānismi (euro) | J15: kopā (euro) | K15: darbietilpība (c/h) | L15: darba alga (euro) | M15: materiāli (euro) | N15: mehānismi (euro) | O15: summa (euro)
A16: 1 | B16: 2 | C16: 3 | D16: 4 | E16: 5 | F16: 6 | G16: 7 | H16: 8 | I16: 9 | J16: 10 | K16: 11 | L16: 12 | M16: 13 | N16: 14 | O16: 15
A18: 1 | B18: Mobilizācija
A19: 1.1. | B19: Mobilizācija | C19: kompl. | D19: 1 | G19: =ROUND(F19*E19,2) -> 0 | J19: =I19+H19+G19 -> 0 | O19: =N19+M19+L19 -> 0
A20: 2 | B20: Demontāžas darbi
A21: 2.1 | B21: Bruģa sguma demontāža, izvešana uz Bauskas ielu 209 | C21: m2 | D21: 262 | G21: =ROUND(F21*E21,2) -> 0 | J21: =I21+H21+G21 -> 0 | O21: =N21+M21+L21 -> 0
A22: 2.2 | B22: Esošo kanalizācijas tīklu OD225 demontāža, izvešana uz Bauskas ielu 209 no akas K18727 līdz akai K18508 | C22: m | D22: 105 | G22: =ROUND(F22*E22,2) -> 0 | J22: =I22+H22+G22 -> 0 | O22: =N22+M22+L22 -> 0
A23: 2.3 | B23: Esošo ūdensvada tīklu OD100 demontāža, izvešana uz Bauskas ielu 209 | C23: m | D23: 103 | G23: =ROUND(F23*E23,2) -> 0 | J23: =I23+H23+G23 -> 0 | O23: =N23+M23+L23 -> 0
A24: 2.4 | B24: Esošo ūdensvada tīklu pievadu OD100 demontāža, izvešana uz Bauskas ielu 209 | C24: m | D24: 4 | G24: =ROUND(F24*E24,2) -> 0 | J24: =I24+H24+G24 -> 0 | O24: =N24+M24+L24 -> 0
A25: 2.6 | B25: Esošo ūdensvada tīklu pievadu OD50 demontāža, izvešana uz Bauskas ielu 209 | C25: m | D25: 5 | G25: =ROUND(F25*E25,2) -> 0 | J25: =I25+H25+G25 -> 0 | O25: =N25+M25+L25 -> 0
A26: 2.7 | B26: Esošo ūdensvada tīklu pievadu OD40 demontāža, izvešana uz Bauskas ielu 209 | C26: m | D26: 3 | G26: =ROUND(F26*E26,2) -> 0 | J26: =I26+H26+G26 -> 0 | O26: =N26+M26+L26 -> 0
A27: 2.8 | B27: Esošo ūdensvada tīklu pievadu OD32 demontāža, izvešana uz Bauskas ielu 209 | C27: m | D27: 5 | G27: =ROUND(F27*E27,2) -> 0 | J27: =I27+H27+G27 -> 0 | O27: =N27+M27+L27 -> 0
A28: 3 | B28: Zemes darbi
A29: 3.1 | B29: Tranšejas rakšana ar ekskavatoru un rokām, izraktās grunts izvešana uz Bauskas ielu 209. | C29: m3 | D29: 368 | G29: =ROUND(F29*E29,2) -> 0 | J29: =I29+H29+G29 -> 0 | O29: =N29+M29+L29 -> 0
A30: 3.2 | B30: Tranšejas aizbēršana ar pievestu smilti apbēršanai, blietējot pa 30 cm kārtām | C30: m3 | D30: 326 | G30: =ROUND(F30*E30,2) -> 0 | J30: =I30+H30+G30 -> 0 | O30: =N30+M30+L30 -> 0
A31: 3.3 | B31: Esošās lūkas nomaiņa (materiālu nodrošina Pasūtītājs) K18727 | C31: gab | D31: 1 | G31: =ROUND(F31*E31,2) -> 0 | J31: =I31+H31+G31 -> 0 | O31: =N31+M31+L31 -> 0
A32: 4 | B32: Būvbedres stiprināšana
A33: 4.1 | B33: Tranšeju sienu stiprināšana ar rievsienām vai vairogiem | C33: kompl. | D33: 1 | G33: =ROUND(F33*E33,2) -> 0 | J33: =I33+H33+G33 -> 0 | O33: =N33+M33+L33 -> 0
A34: 5 | B34: Montāžas darbi
A35: 5.1. | B35: OD200 PP kanalizācijas cauruļvadu montāža (tai skaitā veidgabali un palīgmateriāli) | C35: m | D35: =D22 -> 105 | G35: =ROUND(F35*E35,2) -> 0 | J35: =I35+H35+G35 -> 0 | O35: =N35+M35+L35 -> 0
A36: 5.2. | B36: OD160 PP Kanalizācijas cauruļvada pieslēgumu izbūve | C36: kompl. | D36: 16 | G36: =ROUND(F36*E36,2) -> 0 | J36: =I36+H36+G36 -> 0 | O36: =N36+M36+L36 -> 0
A37: 5.3. | B37: Kanalizās skataku OD600 izbūve | C37: kompl. | D37: 7 | G37: =ROUND(F37*E37,2) -> 0 | J37: =I37+H37+G37 -> 0 | O37: =N37+M37+L37 -> 0
A38: 5.4. | B38: LK uztvērēju izbūve | C38: kompl. | D38: 5 | G38: =ROUND(F38*E38,2) -> 0 | J38: =I38+H38+G38 -> 0 | O38: =N38+M38+L38 -> 0
A39: 5.5. | B39: LK pieslēgumu uz trejgabalu izbūve | C39: kompl. | D39: 8 | G39: =ROUND(F39*E39,2) -> 0 | J39: =I39+H39+G39 -> 0 | O39: =N39+M39+L39 -> 0
A40: 5.6. | B40: OD110 PE ūdens cauruļvadu montāža (tai skaitā veidgabali un palīgmateriāli) | C40: m | D40: =D23 -> 103 | G40: =ROUND(F40*E40,2) -> 0 | J40: =I40+H40+G40 -> 0 | O40: =N40+M40+L40 -> 0
A41: 5.7. | B41: OD110 ūdens PE pievadu montāža (tai skaitā veidgabali un palīgmateriāli) | C41: m | D41: 6 | G41: =ROUND(F41*E41,2) -> 0 | J41: =I41+H41+G41 -> 0 | O41: =N41+M41+L41 -> 0
A42: 5.8. | B42: OD63 ūdens PE pievadu montāža (tai skaitā veidgabali un palīgmateriāli) | C42: m | D42: 8 | G42: =ROUND(F42*E42,2) -> 0 | J42: =I42+H42+G42 -> 0 | O42: =N42+M42+L42 -> 0
A43: 5.9. | B43: OD32 ūdens PE pievadu montāža (tai skaitā veidgabali un palīgmateriāli) | C43: m | D43: 8 | G43: =ROUND(F43*E43,2) -> 0 | J43: =I43+H43+G43 -> 0 | O43: =N43+M43+L43 -> 0
A44: 5.10. | B44: Dn 100 pazemes tipa aizbīdņa ar pagarinātājkātu un kapi montāža | C44: gab. | D44: 4 | G44: =ROUND(F44*E44,2) -> 0 | J44: =I44+H44+G44 -> 0 | O44: =N44+M44+L44 -> 0
...

Sheet LOK2
A1: Lokālā tāme Nr.2
A2: =Kopsavilkums!C20 -> Ēku monitorings
A3: (Darba veids vai konstruktīvā elementa nosaukums)
A4: Objekta nosaukums: | C4: =Koptāme!C11 -> Ūdensvada un kanalizācijas sistēmu remontdarbi Rozena ielā, Rīgā
A5: Objekta adrese: | C5: =Koptāme!C13 -> Rozena iela , Rīga
A6: Līguma Nr., datums
A7: Līguma priekšmets: | C7: Ūdensvada un kanalizācijas sistēmu remontdarbi
A8: PASŪTĪTĀJS : | C8: SIA "Rīgas ūdens"
A9: UZŅĒMĒJS:
A11: Nr.p.k. | B11: Nosaukums | C11: Mērv. | D11: Daudzums | E11: Vienības izmaksas Euro bez PVN | F11: Euro bez PVN
A12: 1 | B12: Monitoringa plāna izstrāde | C12: kpl | D12: 1 | F12: =E12*D12 -> 0
A13: =A12+1 -> 2 | B13: Visu ēku fasāžu sienu pret Rozena ielu (posmā no Doma laukuma līdz Krāmu ielai) un mūra žogu vizuālā apskate tajās esošās plaisas | C13: kpl | D13: 1 | F13: =E13*D13 -> 0
A14: =A13+1 -> 3 | B14: Raksturīgāko plaisu fotofiksācija | C14: kpl | D14: 1 | F14: =E14*D14 -> 0
A15: =A14+1 -> 4 | B15: Noniju uzstādīšana uz ēku fasāžu sienās pret Rozena ielu un mūra žogos esošajām raksturīgākajām plaisām to atvēruma platuma izmaiņu uzmērīšanai | C15: gb | D15: 30 | F15: =E15*D15 -> 0
A16: =A15+1 -> 5 | B16: Ģeodēziskā atbalstīkla izveidošana | C16: kpl | D16: 1 | F16: =E16*D16 -> 0
A17: =A16+1 -> 6 | B17: Sēšanās marku uzstādīšana ēku fasāžu sienās pret Rozena ielu un mūra žogos | C17: gb | D17: 30 | F17: =E17*D17 -> 0
A18: =A17+1 -> 7 | B18: Sēšanās marku augstumatzīmju uzmērīšanas ar ģeodēziskām metodēm "0" cikla veikšana | C18: gb | D18: 30 | F18: =E18*D18 -> 0
A19: =A18+1 -> 8 | B19: Fasāžu sienu pret Rozena ielu un mūra žogu kārtējā vizuālā apskate un uzstādīto noniju rādījumu kārtējā nolasīšanam (līdz 10gb) | C19: gb | D19: 10 | F19: =E19*D19 -> 0
A20: =A19+1 -> 9 | B20: Papildus pie kārtējās Fasāžu sienu pret Rozena ielu un mūra žogu uzstādīto noniju rādījumu kārtējā nolasīšana | C20: gb | D20: 10 | F20: =E20*D20 -> 0
A21: 10 | B21: Stapatskaites sagatavošana plaisu monitoringam, tai skaitā datu apkopošanu monitoringa žurnālā | C21: gb | D21: 10 | F21: =E21*D21 -> 0
A22: 11 | B22: Sēšanās marku augstumatzīmju kārtējā uzmērīšana (līdz 10gb) | C22: gb | D22: 10 | F22: =E22*D22 -> 0
A23: =A22+1 -> 12 | B23: Papildus uzmērīšana pie kārtējās sēšanās marku augstumatzīmju uzmērīšanas | C23: gb | D23: 10 | F23: =E23*D23 -> 0
A24: =A23+1 -> 13 | B24: Stapatskaites sagatavošana sēšanās monitoringam, tai skaitā datu apkopošanu monitoringa žurnālā | C24: gb | D24: 10 | F24: =E24*D24 -> 0
A25: =A24+1 -> 14 | B25: Beigu atskaites izstrādāšana, pabeidzot uzraudzību. Secinājumi un norādījumu par turpmāko darbību | C25: kpl | D25: 1 | F25: =E25*D25 -> 0
B26: Kopā: | F26: =SUM(F12:F25) -> 0
A28: Piezīmes:
B29: 1) Plānotais plaisu un marku monitorings 2-3x nedēļā;
B30: 2) Gruntsūdens pazemināšana šobrīd nav paredzēta;
B31: 3) Rievsienas - vieglās alumīnija, ar iespiešanu
A33: Piezīmes:
A35: 1.Finanšu piedāvājumā jāiekļauj darbaspēka, materiālu, iekārtu, aprīkojuma un visu citu iespējamo Darbu izpildes izdevumu izmaksas. Pretendents nav tiesīgs Finanšu piedāvājuma tāmi papildināt ar jaunām izmaksu pozīcijām vai dzēst esošās izmaksu pozīcijas.
A36: 2. Finanšu piedāvājumā aprēķinus jāveic formulās ar noapaļojumu divi cipari aiz komata (jāizmanto funkcija “round”).
