Workbook

Sheet KOPT
B1: APSTIPRINU
C3: __________________________
C4: (pasūtītāja paraksts un tā atšifrējums)
C7: Z.v.
C9: _____ .gada _____. ________________
A12: Būvniecības koptāme
A16: Objekta nosaukums | B16: =KOPS1!C9 -> Daudzdzīvokļu dzīvojamās mājas balkonu atjaunošana Kosmonautu ielā 12-1, Rēzeknē
A17: Būves nosaukums | B17: =KOPS1!C8 -> Daudzdzīvokļu dzīvojamās mājas balkonu atjaunošana Kosmonautu ielā 12-1, Rēzeknē
A18: Objekta adrese | B18: =KOPS1!C10 -> Kosmonautu iela 12-1, Rēzeknē
A19: Pasūtījuma Nr. | B19: =KOPS1!C11 -> 0
A24: Nr. p.k. | B24: Objekta nosaukums | C24: Objekta izmaksas (euro)
A26: =1 -> 1 | B26: =KOPS1!C9 -> Daudzdzīvokļu dzīvojamās mājas balkonu atjaunošana Kosmonautu ielā 12-1, Rēzeknē
A28: Kopā
A30: PVN (21%)
A33: Sastādīja | B33: =KOPS1!$B$49 -> _________________________
B34: (paraksts un tā atšifrējums, datums)
A36: Sertifikāta Nr. | B36: =KOPS1!$B$51 -> 0
A38: =KOPS1!F16 -> 0

Sheet KOPS1
A2: Kopsavilkuma aprēķini pa darbu vai konstruktīvo elementu veidiem
A4: Vispārējie būvdarbi
A5: (Darba veids vai konstruktīvā elementa nosaukums)
A8: Objekta nosaukums | C8: Daudzdzīvokļu dzīvojamās mājas balkonu atjaunošana Kosmonautu ielā 12-1, Rēzeknē
A9: Būves nosaukums | C9: Daudzdzīvokļu dzīvojamās mājas balkonu atjaunošana Kosmonautu ielā 12-1, Rēzeknē
A10: Objekta adrese | C10: Kosmonautu iela 12-1, Rēzeknē
A11: Pasūtījuma Nr.
A18: Nr. p.k. | B18: Kods, tāmes Nr. | C18: Būvdarbu veids vai konstruktīvā elementa nosaukums | E18: Tāmes izmaksas | F18: Tai skaitā | I18: Darbietilpība (c/h)
F19: darba alga | G19: būvizstrādājumi | H19: mehānismi
C21: 1. Vispārējie būvdarbi
A22: =A21+1 -> 1 | B22: 1-1 | C22: Būvlaukums | D22: BA
A23: =A22+1 -> 2 | B23: 1-2 | C23: Demontāžas darbi | D23: DEM
A24: =A23+1 -> 3 | B24: 1-3 | C24: Balkoni | D24: GR
A25: =A24+1 -> 4 | B25: 1-4 | C25: Jumts | D25: JS
A26: =A25+1 -> 5 | B26: 1-5 | C26: Teritorijas labiekārtošana | D26: TL
A28: Kopā
A29: ="Virsizdevumi ("&D29*100&"%)" -> Virsizdevumi (0%) | D29: 0
A30: t.sk. darba aizsardzība | D30: 0
A31: ="Peļņa ("&D31*100&"%)" -> Peļņa (0%) | D31: 0
C32: Neparedzētie izdevumi (3%)
A33: Pavisam kopā
A35: Piezīmes.
A36: 1. Būvuzņēmējam jādod pilna apjoma tendera (iepirkuma) cenu piedāvājums, ieskaitot palīgdarbus un materiālus, kas nav uzrādīti tāmē,
A37: apjomu sarakstā un projektā, bet ir nepieciešami projektētā būvobjekta izbūvei un nodošanai ekspluatācijā.
A38: 2. Darbu apjomu sarakstu skatīt kopā ar rasējumiem un specifikācijām.
A39: 3. Tāmēs ietvertos konkrēto ražotāju materiālus un izstrādājumus var aizvietot ar analogiem citu ražotāju materiāliem un izstrādājumiem.
A40: 4. Materiāli doti bez atgriezumiem un nesablīvētā veidā
A41: 5. Pēc pasūtītāja pieprasījuma , projektētājs veic būvdarbu apjomu pārrēķinu, ja projkets netiks realizēts pilnā apjomā
A43: Sastādīja: | B43: _________________________
B44: (paraksts un tā atšifrējums, datums)
A45: Sertifikāta Nr.
A47: =F16 -> 0
A49: Pārbaudīja: | B49: _________________________
B50: (paraksts un tā atšifrējums, datums)
A51: Sertifikāta Nr.

Sheet Buvlaukums
A1: Lokālā tāme Nr. 1-1
A3: Būvlaukuma sagatavošanas darbi
A4: (Darba veids vai konstruktīvā elementa nosaukums)
A8: Objekta nosaukums | C8: =KOPS1!C8 -> Daudzdzīvokļu dzīvojamās mājas balkonu atjaunošana Kosmonautu ielā 12-1, Rēzeknē
A9: Būves nosaukums | C9: =KOPS1!C9 -> Daudzdzīvokļu dzīvojamās mājas balkonu atjaunošana Kosmonautu ielā 12-1, Rēzeknē
A10: Objekta adrese | C10: =KOPS1!C10 -> Kosmonautu iela 12-1, Rēzeknē
A11: Pasūtījuma Nr. | C11: =KOPS1!C11 -> 0
A21: Nr. p.k. | B21: Kods | C21: Būvdarbu nosaukums | D21: Mērvienība | E21: Daudzums | F21: Vienības izmaksas | L21: Kopā uz visu apjomu
F22: laika norma (c/h) | G22: darba samaksas likme (euro /h) | H22: darba alga | I22: būvizstrādājumi | J22: mehānismi | K22: Kopā | L22: darbietilpība (c/h) | M22: darba alga | N22: būvizstrādājumi | O22: mehānismi | P22: summa
A23: 1 | B23: 2 | C23: 3 | D23: 4 | E23: 5 | F23: 6 | G23: 7 | H23: 8 | I23: 9 | J23: 10 | K23: 11 | L23: 12 | M23: 13 | N23: 14 | O23: 15 | P23: 16
A25: 1 | B25: līg.cena | C25: Pagaidu nožogojuma uzstādīšana un noma | D25: m | E25: 180
A26: =A25+1 -> 2 | B26: līg.cena | C26: Sastatņu montāža, demontāža | D26: m2 | E26: 110
A27: 3 | B27: līg.cena | C27: sastatņu īre | D27: m2 | E27: 110
A28: 4 | B28: līg.cena | C28: Tualetes uzstādīšana, noma | D28: gab | E28: 1
A29: 5 | B29: līg.cena | C29: Mobīlas sadzīves telpas, noma | D29: gab | E29: 1
A30: 6 | B30: līg.cena | C30: Būvdarbu vadītāja mobīlā telpa, noma | D30: gab | E30: 1
A33: Tiešās izmaksas kopā, t. sk. darba devēja sociālais nodoklis (23,59%)
A35: ="Sastādīja "&KOPS1!$B$43 -> Sastādīja _________________________
A36: =KOPS1!$F$16 -> 0
A38: ="Pārbaudīja "&KOPS1!$B$49 -> Pārbaudīja _________________________
B39: (paraksts un tā atšifrējums, datums)
A40: ="Sertifikāta Nr. "&KOPS1!$B$51 -> Sertifikāta Nr.

Sheet DEM
A1: Lokālā tāme Nr. 1-2
A3: Demontāžas darbi
A4: (Darba veids vai konstruktīvā elementa nosaukums)
A8: Objekta nosaukums | C8: =KOPS1!C8 -> Daudzdzīvokļu dzīvojamās mājas balkonu atjaunošana Kosmonautu ielā 12-1, Rēzeknē
A9: Būves nosaukums | C9: =KOPS1!C9 -> Daudzdzīvokļu dzīvojamās mājas balkonu atjaunošana Kosmonautu ielā 12-1, Rēzeknē
A10: Objekta adrese | C10: =KOPS1!C10 -> Kosmonautu iela 12-1, Rēzeknē
A11: Pasūtījuma Nr. | C11: =KOPS1!C11 -> 0
M18: =KOPS1!F16 -> 0
A21: Nr. p.k. | B21: Kods | C21: Būvdarbu nosaukums | D21: Mērvienība | E21: Daudzums | F21: Vienības izmaksas | L21: Kopā uz visu apjomu
F22: laika norma (c/h) | G22: darba samaksas likme (euro /h) | H22: darba alga | I22: būvizstrādājumi | J22: mehānismi | K22: Kopā | L22: darbietilpība (c/h) | M22: darba alga | N22: būvizstrādājumi | O22: mehānismi | P22: summa
A23: 1 | B23: 2 | C23: 3 | D23: 4 | E23: 5 | F23: 6 | G23: 7 | H23: 8 | I23: 9 | J23: 10 | K23: 11 | L23: 12 | M23: 13 | N23: 14 | O23: 15 | P23: 16
A25: 1 | B25: līg.cena | C25: Esošo balkonu dekoratīvo paneļu demontāža | D25: m2 | E25: 237
A26: =A25+1 -> 2 | B26: līg.cena | C26: Balkona margu attīrīšana no rūsas | D26: m | E26: 1296
A27: =A26+1 -> 3 | B27: līg.cena | C27: Balkonu dzelzsbetona plātnes attīrīšana no izdrupumiem, armatūras attīrīšama no rūsas | D27: m2 | E27: 15
A28: Tiešās izmaksas kopā, t. sk. darba devēja sociālais nodoklis (23,59%)
A30: ="Sastādīja "&KOPS1!$B$43 -> Sastādīja _________________________
A31: =KOPS1!$F$16 -> 0
A33: ="Pārbaudīja "&KOPS1!$B$49 -> Pārbaudīja _________________________
B34: (paraksts un tā atšifrējums, datums)
A35: ="Sertifikāta Nr. "&KOPS1!$B$51 -> Sertifikāta Nr.

Sheet BŪVL
A1: ="Lokālā tāme Nr. "&KOPS1!#REF! -> #REF!
A3: =KOPS1!#REF! -> #REF!
A4: (Darba veids vai konstruktīvā elementa nosaukums)
A6: Objekta nosaukums | C6: =KOPS1!C8 -> Daudzdzīvokļu dzīvojamās mājas balkonu atjaunošana Kosmonautu ielā 12-1, Rēzeknē
A7: Būves nosaukums | C7: =KOPS1!C9 -> Daudzdzīvokļu dzīvojamās mājas balkonu atjaunošana Kosmonautu ielā 12-1, Rēzeknē
A8: Objekta adrese | C8: =KOPS1!C10 -> Kosmonautu iela 12-1, Rēzeknē
A9: Pasūtījuma Nr. | C9: =KOPS1!C11 -> 0
A11: Tāme sastādīta 2017. gada tirgus cenās, pamatojoties uz AR, BK, GP daļas rasējumiem. | M11: =P43 -> 0
M13: =KOPS1!F16 -> 0
A15: Nr. p.k. | B15: Kods | C15: Būvdarbu nosaukums | D15: Mērvienība | E15: Daudzums | F15: Vienības izmaksas | L15: Kopā uz visu apjomu
F16: laika norma (c/h) | G16: darba samaksas likme (euro /h) | H16: darba alga | I16: būvizstrādājumi | J16: mehānismi | K16: Kopā | L16: darbietilpība (c/h) | M16: darba alga | N16: būvizstrādājumi | O16: mehānismi | P16: summa
A17: 1 | B17: 2 | C17: 3 | D17: 4 | E17: 5 | F17: 6 | G17: 7 | H17: 8 | I17: 9 | J17: 10 | K17: 11 | L17: 12 | M17: 13 | N17: 14 | O17: 15 | P17: 16
A43: Tiešās izmaksas kopā, t. sk. darba devēja sociālais nodoklis (23,59%) | L43: =SUM(L19:L42) -> 0 | M43: =SUM(M19:M42) -> 0 | N43: =SUM(N19:N42) -> 0 | O43: =SUM(O19:O42) -> 0 | P43: =SUM(P19:P42) -> 0
A46: ="Sastādīja "&KOPS1!$B$43 -> Sastādīja _________________________
B47: (paraksts un tā atšifrējums, datums)
A48: =KOPS1!$F$16 -> 0
A51: ="Pārbaudīja "&KOPS1!$B$49 -> Pārbaudīja _________________________
B52: (paraksts un tā atšifrējums, datums)
A53: ="Sertifikāta Nr. "&KOPS1!$B$51 -> Sertifikāta Nr.

Sheet balkoni
A1: Lokālā tāme Nr. 1-3
A3: Balkons
A4: (Darba veids vai konstruktīvā elementa nosaukums)
A6: Objekta nosaukums | C6: =KOPS1!C8 -> Daudzdzīvokļu dzīvojamās mājas balkonu atjaunošana Kosmonautu ielā 12-1, Rēzeknē
A7: Būves nosaukums | C7: =KOPS1!C9 -> Daudzdzīvokļu dzīvojamās mājas balkonu atjaunošana Kosmonautu ielā 12-1, Rēzeknē
A8: Objekta adrese | C8: =KOPS1!C10 -> Kosmonautu iela 12-1, Rēzeknē
A9: Pasūtījuma Nr. | C9: =KOPS1!C11 -> 0
M13: =KOPS1!F16 -> 0
A15: Nr. p.k. | B15: Kods | C15: Būvdarbu nosaukums | D15: Mērvienība | E15: Daudzums | F15: Vienības izmaksas | L15: Kopā uz visu apjomu
F16: laika norma (c/h) | G16: darba samaksas likme (euro /h) | H16: darba alga | I16: būvizstrādājumi | J16: mehānismi | K16: Kopā | L16: darbietilpība (c/h) | M16: darba alga | N16: būvizstrādājumi | O16: mehānismi | P16: summa
A17: 1 | B17: 2 | C17: 3 | D17: 4 | E17: 5 | F17: 6 | G17: 7 | H17: 8 | I17: 9 | J17: 10 | K17: 11 | L17: 12 | M17: 13 | N17: 14 | O17: 15 | P17: 16
A19: 1 | B19: līg.cena | C19: Balkona plātnes apmales apdare ar skārdu | D19: m | E19: 240
A20: 2 | B20: līg.cena | C20: Balkona plātnes virsmas atjaunošana | D20: m2 | E20: 128.2
A21: 3 | B21: līg.cena | C21: Balkona izdrupušo sektoru atjaunošana ar cementa remontjavu | D21: m2 | E21: 15
A22: 4 | B22: līg.cena | C22: Balkona virsmas flīzēšana | D22: m2 | E22: 128.2
A23: 5 | B23: līg.cena | C23: Balkona margu papildus tērauda elementu piemetināšana | D23: m | E23: 154
A24: 6 | B24: līg.cena | C24: Balkona margu roktura pastiprināšana ar mitrumizturīgu finieri 18 mm | D24: m | E24: 240
A25: 7 | B25: līg.cena | C25: Balkona apdare ar T-20-79-1100 krāsotu skārdu | D25: m2 | E25: 253.7
A26: 8 | B26: līg.cena | C26: Balkona specelementu montāža | D26: m2 | E26: 342.7
A27: 9 | B27: līg.cena | C27: Balkona savienojuma vietas ar ēkas ārsienu papildus hermetizācija | D27: m | E27: 153.6
A30: Tiešās izmaksas kopā, t. sk. darba devēja sociālais nodoklis (23,59%)
A33: ="Sastādīja "&KOPS1!$B$43 -> Sastādīja _________________________
B34: (paraksts un tā atšifrējums, datums)
A35: =KOPS1!$F$16 -> 0
A38: ="Pārbaudīja "&KOPS1!$B$49 -> Pārbaudīja _________________________
B39: (paraksts un tā atšifrējums, datums)
A40: ="Sertifikāta Nr. "&KOPS1!$B$51 -> Sertifikāta Nr.

Sheet Jumts
A1: Lokālā tāme Nr. 1-4
A3: Jumts
A4: (Darba veids vai konstruktīvā elementa nosaukums)
A6: Objekta nosaukums | C6: =KOPS1!C8 -> Daudzdzīvokļu dzīvojamās mājas balkonu atjaunošana Kosmonautu ielā 12-1, Rēzeknē
A7: Būves nosaukums | C7: =KOPS1!C9 -> Daudzdzīvokļu dzīvojamās mājas balkonu atjaunošana Kosmonautu ielā 12-1, Rēzeknē
A8: Objekta adrese | C8: =KOPS1!C10 -> Kosmonautu iela 12-1, Rēzeknē
A9: Pasūtījuma Nr. | C9: =KOPS1!C11 -> 0
M11: =P27 -> 0
M13: =KOPS1!F16 -> 0
A15: Nr. p.k. | B15: Kods | C15: Būvdarbu nosaukums | D15: Mērvienība | E15: Daudzums | F15: Vienības izmaksas | L15: Kopā uz visu apjomu
F16: laika norma (c/h) | G16: darba samaksas likme (euro /h) | H16: darba alga | I16: būvizstrādājumi | J16: mehānismi | K16: Kopā | L16: darbietilpība (c/h) | M16: darba alga | N16: būvizstrādājumi | O16: mehānismi | P16: summa
A17: 1 | B17: 2 | C17: 3 | D17: 4 | E17: 5 | F17: 6 | G17: 7 | H17: 8 | I17: 9 | J17: 10 | K17: 11 | L17: 12 | M17: 13 | N17: 14 | O17: 15 | P17: 16
A19: 1 | B19: līg.cena | C19: Jumtiņa tērauda konstrukciju izgatavošana no 40x40x4 kvadrātcaurules | D19: gab. | E19: 12
C20: tērauda 40x40x4 kvadrātcaurules | D20: m | E20: 264.4
A21: 2 | B21: līg.cena | C21: Jumtiņa tērauda konstrukciju montāža | D21: gab. | E21: 12
C22: Enkurskrūves | D22: gab. | E22: 120
A23: 3 | B23: līg.cena | C23: Koka latojuma 70x35, L-3.6 m apstrāde un montāža | D23: m | E23: 172.8
A24: 4 | B24: līg.cena | C24: Jumta metāla skārda ieklāšana T-20-79-1100, tonis - RR23 | D24: m2 | E24: 48
A25: 5 | B25: līg.cena | C25: Specelementu ontāža, tonis - RR23 | D25: m | E25: 113.3
A27: Tiešās izmaksas kopā, t. sk. darba devēja sociālais nodoklis (23,59%)
A30: ="Sastādīja "&KOPS1!$B$43 -> Sastādīja _________________________
B31: (paraksts un tā atšifrējums, datums)
A32: =KOPS1!$F$16 -> 0
A35: ="Pārbaudīja "&KOPS1!$B$49 -> Pārbaudīja _________________________
B36: (paraksts un tā atšifrējums, datums)
A37: ="Sertifikāta Nr. "&KOPS1!$B$51 -> Sertifikāta Nr.

Sheet Labiekartosana
A1: Lokālā tāme Nr. 1-5
A3: Teritorijas sakārtošana
A4: (Darba veids vai konstruktīvā elementa nosaukums)
A6: Objekta nosaukums | C6: =KOPS1!C8 -> Daudzdzīvokļu dzīvojamās mājas balkonu atjaunošana Kosmonautu ielā 12-1, Rēzeknē
A7: Būves nosaukums | C7: =KOPS1!C9 -> Daudzdzīvokļu dzīvojamās mājas balkonu atjaunošana Kosmonautu ielā 12-1, Rēzeknē
A8: Objekta adrese | C8: =KOPS1!C10 -> Kosmonautu iela 12-1, Rēzeknē
A9: Pasūtījuma Nr. | C9: =KOPS1!C11 -> 0
M11: =P23 -> 0
M13: =KOPS1!F16 -> 0
A15: Nr. p.k. | B15: Kods | C15: Būvdarbu nosaukums | D15: Mērvienība | E15: Daudzums | F15: Vienības izmaksas | L15: Kopā uz visu apjomu
F16: laika norma (c/h) | G16: darba samaksas likme (euro /h) | H16: darba alga | I16: būvizstrādājumi | J16: mehānismi | K16: Kopā | L16: darbietilpība (c/h) | M16: darba alga | N16: būvizstrādājumi | O16: mehānismi | P16: summa
A17: 1 | B17: 2 | C17: 3 | D17: 4 | E17: 5 | F17: 6 | G17: 7 | H17: 8 | I17: 9 | J17: 10 | K17: 11 | L17: 12 | M17: 13 | N17: 14 | O17: 15 | P17: 16
A19: 1 | B19: līg.cena | C19: Augsnes virskārtas izlīdzināšana ar melnzemi | D19: m3 | E19: 13
A20: 2 | B20: līg.cena | C20: Teritorijas zāliena atjaunošana | D20: m2 | E20: 480
A23: Tiešās izmaksas kopā, t. sk. darba devēja sociālais nodoklis (23,59%)
A26: ="Sastādīja "&KOPS1!$B$43 -> Sastādīja _________________________
B27: (paraksts un tā atšifrējums, datums)
A28: =KOPS1!$F$16 -> 0
A31: ="Pārbaudīja "&KOPS1!$B$49 -> Pārbaudīja _________________________
B32: (paraksts un tā atšifrējums, datums)
A33: ="Sertifikāta Nr. "&KOPS1!$B$51 -> Sertifikāta Nr.
