Workbook

Sheet 3.1._FP_Minerālo_mat_pārstr_iek
G1: 3.1.pielikums
A2: Pretendents (nosaukums, reģistrācijas numurs) _________________________
A4: FINANŠU PIEDĀVĀJUMS
A5: atklātā konkursā "Minerālo materiālu pārstrādes iekārtu rezerves daļu iegāde un apkopju veikšana", identifikācijas Nr. AS LVM ZDZ 2024/167 Ak
A6: Minerālo materiālu pārstrādes iekārtu (sijātāji - Powerscreen Chieftain 1400, Powerscreen Warrior 1400X, drupinātāji - Rubble Master RM100GO, Rubble Master RM90GO, mobilie sieti - RM MS105GO un RM MS95GO) rezerves daļu iegāde un apkopju veikšana sijātājam - Powerscreen Chieftain 1400 un drupinātājam - Rubble Master RM100GO, kas aprīkots ar mobilo sietu RM MS105GO
A8: iesniedzam sekojošu piedāvājumu atklātā konkursā "Minerālo materiālu pārstrādes iekārtu rezerves daļu iegāde un apkopju veikšana", identifikācijas Nr. AS LVM ZDZ 2024/167 Ak. Apliecinu, ka Pretendents ir pilnībā iepazinies ar atklāta konkursa nolikumu, tehniskajām specifikācijām, līguma projektu u.c. saistītajiem dokumentiem, pilnībā pārzina normatīvo aktu prasības attiecībā uz iepirkuma priekšmeta izpildi un finanšu piedāvājuma aprēķinā ir ierēķinājis visas paredzamās izmaksas.
A10: Nr.pk. | B10: Rezerves daļas minerālo materiālu pārstrādes iekārtai un pakalpojumi | C10: Finanšu piedāvājuma pielikuma Nr. | D10: Mērvienība | E10: Cena, EUR bez PVN | F10: Koeficients** | G10: Summa kopā EUR bez PVN*
A11: 1 | B11: Sijātāja Powerscreen Chieftain 1400 rezerves daļas | C11: 3.1.1. | D11: - | E11: - | F11: - | G11: ='3.1.1._FP_MM_parstr_iek_rez.d.'!G106 -> 0
A12: 2 | B12: Sijātāja Powerscreen Warrior 1400X rezerves daļas | C12: 3.1.1. | D12: - | E12: - | F12: - | G12: ='3.1.1._FP_MM_parstr_iek_rez.d.'!G370 -> 0
A13: 3 | B13: Drupinātāja Rubble Master RM100GO rezerves daļas | C13: 3.1.1. | D13: - | E13: - | F13: - | G13: ='3.1.1._FP_MM_parstr_iek_rez.d.'!G212 -> 0
A14: 4 | B14: Drupinātāja Rubble Master RM90GO rezerves daļas | C14: 3.1.1. | D14: - | E14: - | F14: - | G14: ='3.1.1._FP_MM_parstr_iek_rez.d.'!G491 -> 0
A15: 5 | B15: Mobilā sieta RM MS105GO rezerves daļas | C15: 3.1.1. | D15: - | E15: - | F15: - | G15: ='3.1.1._FP_MM_parstr_iek_rez.d.'!G255 -> 0
A16: 6 | B16: Mobilā sieta RM MS95GO rezerves daļas | C16: 3.1.1. | D16: - | E16: - | F16: - | G16: ='3.1.1._FP_MM_parstr_iek_rez.d.'!G538 -> 0
A17: 7 | B17: Apkopju veikšana drupinātājam Rubble Master RM100GO, kas aprīkots ar mobilo sietu RM MS105GO | C17: 3.1.2. | D17: - | E17: - | F17: - | G17: ='3.1.2._RubbleMaster100GO_apkope'!C59 -> 0
A18: 8 | B18: Apkopju veikšana sijātājam Powerscreen Chieftain 1400 | C18: 3.1.3. | D18: - | E18: - | F18: - | G18: ='3.1.3._PowerscreenCH1400 apkope'!I64 -> 0
A19: 9 | B19: Darba spēka izmaksas** | C19: - | D19: h | F19: 700 | G19: =ROUND(E19*F19,2) -> 0
A20: 10 | B20: Ceļa izdevumi no tuvākās Pretendenta bāzes vietas** | C20: - | D20: km | F20: 50000 | G20: =ROUND(E20*F20,2) -> 0
A21: Summa EUR bez PVN (kas ir vērtējamā summa)*** | G21: =SUM(G11:G20) -> 0
A23: * Kopējā Finanšu piedāvājuma 1.-8.pozīcija tiek aizpildīta automātiski, atbilstoši summām, kas veidojas pēc Finanšu piedāvājuma 3.1.1., 3.1.2. un 3.1.3.pielikumā norādītiem cenu piedāvājumiem (dokumenta 2., 3. un 4.lapa/sheet). ** Finanšu piedāvājumā pozīcijām "Darba spēka izmaksas" un "Ceļa izdevumi no tuvākās pretendenta bāzes vietas" (Excel "F" kolonna) piedāvājuma vērtēšanā tiek piemērots koeficients. Finanšu piedāvājuma 9. un 10.pozīcijā (Excel 19. un 20.rindas "E" kolonna, iekrāsota ar zaļu krāsu) pretendents norāda 1 h - darba spēka izmaksas EUR bez PVN un 1 km cenu par ceļa izdevumiem no pretendenta bāzes vietas EUR bez PVN. Excel 19. un 20.rindas "G" kolonnā tiks aprēķināta kopējā summā EUR bez PVN, kas ir attiecināma uz vērtējamo summu. Samaksa par šīm pozīcijām tiek veikta pēc faktiskās pakalpojuma sniegšanas, nosakot apjomu un aprēķinot to darbu pieņemšanas - nodošanas aktā (vai tamlīdzīgā dokumentā). Darba spēka izmaksas un ceļa izdevumu izmaksas attiecas gan uz rezerves daļu piegādi un apkalpošanu, ja nepieciešams, gan uz drupinātāja un sijātāja apkopju veikšanu. ***Visu Finanšu piedāvājuma pozcīju (Excel 11., 12., 13., 14., 15., 16., 17., 18., 19. un 20.rindas "G" kolonnas EUR bez PVN) summējums veidos kopējo summu EUR bez PVN, kas ir vērtējamā Finanšu piedāvājuma summa un, kas ir par pamatu saimnieciski izdevīgākā piedāvājumā noteikšanai, vērtējot tikai kopējo Finanšu piedāvājuma summu EUR bez PVN. Kopējā Finanšu piedāvājumā vienas mērvienības cena jāievada tikai ar zaļu iekrāsotajās Excel šūnās. Finanšu piedāvājumā norāda cenas ar precizitāti 2 (divas) zīmes aiz komata.
A25: Pretendenta pārstāvis (vārds uzvārds) ___________________________________________ieņemamais amats

Sheet 3.1.1._FP_MM_parstr_iek_rez.d.
G1: 3.1.1.pielikums
A2: Finanšu piedāvājums pa tehniskās specifikācijas pozīcijām
A3: atklātā konkursā "Minerālo materiālu pārstrādes iekārtu rezerves daļu iegāde un apkopju veikšana", identifikācijas Nr. AS LVM ZDZ 2024/167 Ak
A4: Minerālo materiālu pārstrādes iekārtu (sijātāji - Powerscreen Chieftain 1400, Powerscreen Warrior 1400X, drupinātāji - Rubble Master RM100GO, Rubble Master RM90GO, mobilie sieti - RM MS105GO un RM MS95GO) rezerves daļu iegāde
B6: Minerālo materiālu pārstrādes iekārta | C6: Nr. pk. | D6: Mezgli, sistēmas | E6: Rezerves daļas nosaukums | F6: Mērvienība | G6: Vienas mērvienības cena EUR, bez PVN*
B7: Sijātāja Powerscreen Chieftain 1400 rezerves daļas | C7: 1 | D7: Dzinējs | E7: Eļļas filtrs 7W2326 | F7: gab.
C8: 2 | E8: Degvielas filtrs sekundārais 3608960 | F8: gab.
C9: 3 | E9: Degvielas filtrs 4395037 | F9: gab.
C10: 4 | E10: Dzinēja gaisa filtra elements, ārējais 12890228 | F10: gab.
C11: 5 | E11: Dzinēja gaisa filtra elements, iekšējais 12890229 | F11: gab.
C12: 6 | E12: Dzinēja eļļa 10W30 (~ 15 litri sistēmā) | F12: litrs
C13: 7 | E13: Dzinēja plastmasas mufta 05790360 / 05790365 | F13: gab.
C14: 8 | E14: Dzinēja plastm. muftas zobrats 07290361 / 17090111 | F14: gab.
C15: 9 | D15: Ritošā daļa | E15: Zobrats 12.99.0496 | F15: gab.
C16: 10 | E16: Kāpurķēde, plika bez ķepām 65500400 | F16: gab.
C17: 11 | E17: Kāpurķēdes ķepas 12.99.0337 | F17: gab.
C18: 12 | E18: Ķepas skrūve 65500860 | F18: gab.
C19: 13 | E19: Ķepas uzgrieznis 65501195 | F19: gab.
C20: 14 | E20: Kāpurķēdes apakšējie atbalsta ruļļi 110-ASSEMBLY | F20: gab.
C21: 15 | E21: Kāpurķēdes spriegotājs 65503808 | F21: gab.
C22: 16 | D22: Elektrosistēma | E22: Aizdedzes slēdzis 06590270 | F22: gab.
C23: 17 | E23: Stop poga 06590276 | F23: gab.
C24: 18 | E24: Vada pults 65505796 | F24: gab.
C25: 19 | E25: Radio pults 60502836 | F25: gab.
C26: 20 | D26: Hidraulikas sistēma | E26: Hidraulikas bākas filtra elements 10213413 | F26: gab.
C27: 21 | E27: Hidraulikas bākas iesūkšanas filtri 3gab. 06760105 | F27: kompl.
C28: 22 | E28: 2x vārstu bloks 06620612 | F28: gab.
C29: 23 | E29: 3x vārstu bloks 06620613 | F29: gab.
C30: 24 | E30: 4x vārstu bloks 06620614 | F30: gab.
C31: 25 | E31: Kontroles vārsts 12090363 | F31: gab.
C32: 26 | E32: Plūsmas regulators 03220115 | F32: gab.
C33: 27 | E33: Trīssekciju sūknis 12090373 | F33: gab.
C34: 28 | D34: Padevējkonveijers | E34: Lentes tīrītājs 06630796 | F34: gab.
C35: 29 | E35: Lentes tīrītājs 06630187 | F35: gab.
C36: 30 | E36: Atbalsta rullis 06630206 | F36: gab.
C37: 31 | E37: Gultnis 05121159 | F37: gab.
C38: 32 | E38: Gultnis 02023213 | F38: gab.
C39: 33 | E39: Sānu rullis 02020606, 02020607 | F39: gab.
C40: 34 | E40: Konv. lente 06630773 | F40: gab.
C41: 35 | E41: Centrālais rullis 09130180 | F41: gab.
...

Sheet 3.1.2._RubbleMaster100GO_apkope
I1: 3.1.2.pielikums
A2: Finanšu piedāvājums pa tehniskās specifikācijas pozīcijām (Apkopju veikšana drupinātājam Rubble Master RM100GO, kas aprīkots ar mobilo sietu RM MS105GO
A3: atklātā konkursā "Minerālo materiālu pārstrādes iekārtu rezerves daļu iegāde un apkopju veikšana", identifikācijas Nr. AS LVM ZDZ 2024/167 Ak
A4: Drupinātāja Rubble Master RM100GO apkopju veikšana
B6: Apkopju grafiks pie 6750 m/h | H6: Apkopju grafiks pie 7750 m/h
B7: Apraksts | C7: Mērvienība | D7: Skaits | E7: Mērvienības cena, EUR bez PVN | F7: Summa EUR bez PVN | H7: Apraksts | I7: Mērvienība | J7: Skaits | K7: Mērvienības cena, EUR bez PVN | L7: Summa EUR bez PVN
B8: Dzinēja eļļas filtrs | C8: gab. | D8: 1 | F8: =ROUND(D8*E8,2) -> 0 | H8: Dzinēja eļļas filtrs | I8: gab. | J8: 1 | L8: =ROUND(J8*K8,2) -> 0
B9: Dzinēja degvielas filtrs | C9: gab. | D9: 1 | F9: =ROUND(D9*E9,2) -> 0 | H9: Dzinēja degvielas filtrs | I9: gab. | J9: 1 | L9: =ROUND(J9*K9,2) -> 0
B10: Dzinēja eļļa | C10: l | D10: 35 | F10: =ROUND(D10*E10,2) -> 0 | H10: Dzinēja eļļa | I10: l | J10: 35 | L10: =ROUND(J10*K10,2) -> 0
B11: Gaisa filtra elements, mazais | C11: gab. | D11: 1 | F11: =ROUND(D11*E11,2) -> 0 | H11: Gaisa filtra elements, mazais | I11: gab. | J11: 1 | L11: =ROUND(J11*K11,2) -> 0
B12: Gaisa filtra elements, lielais | C12: gab. | D12: 1 | F12: =ROUND(D12*E12,2) -> 0 | H12: Gaisa filtra elements, lielais | I12: gab. | J12: 1 | L12: =ROUND(J12*K12,2) -> 0
E13: Kopā: | F13: =SUM(F8:F12) -> 0 | K13: Kopā: | L13: =SUM(L8:L12) -> 0
B16: Apkopju grafiks pie 7000 m/h | H16: Apkopju grafiks pie 8000 m/h
B17: Apraksts | C17: Mērvienība | D17: Skaits | E17: Mērvienības cena, EUR bez PVN | F17: Summa EUR bez PVN | H17: Apraksts | I17: Mērvienība | J17: Skaits | K17: Mērvienības cena, EUR bez PVN | L17: Summa EUR bez PVN
B18: Dzinēja eļļas filtrs | C18: gab. | D18: 1 | F18: =ROUND(D18*E18,2) -> 0 | H18: Dzinēja eļļas filtrs | I18: gab. | J18: 1 | L18: =ROUND(J18*K18,2) -> 0
B19: Dzinēja degvielas filtrs | C19: gab. | D19: 1 | F19: =ROUND(D19*E19,2) -> 0 | H19: Dzinēja degvielas filtrs | I19: gab. | J19: 1 | L19: =ROUND(J19*K19,2) -> 0
B20: Degvielas piedeva | C20: ml | D20: 500 | F20: =ROUND(D20*E20,2) -> 0 | H20: Degvielas piedeva | I20: ml | J20: 500 | L20: =ROUND(J20*K20,2) -> 0
B21: Dzinēja eļļa | C21: l | D21: 35 | F21: =ROUND(D21*E21,2) -> 0 | H21: Dzinēja eļļa | I21: l | J21: 35 | L21: =ROUND(J21*K21,2) -> 0
B22: Gaisa filtra elements, mazais | C22: gab. | D22: 1 | F22: =ROUND(D22*E22,2) -> 0 | H22: Gaisa filtra elements, mazais | I22: gab. | J22: 1 | L22: =ROUND(J22*K22,2) -> 0
B23: Gaisa filtra elements, lielais | C23: gab. | D23: 1 | F23: =ROUND(D23*E23,2) -> 0 | H23: Gaisa filtra elements, lielais | I23: gab. | J23: 1 | L23: =ROUND(J23*K23,2) -> 0
B24: Gaitas reduktoru eļļa | C24: l | D24: 5 | F24: =ROUND(D24*E24,2) -> 0 | H24: Rotora gultņu tīrīšana un smērēšana | I24: gab. | J24: 1 | L24: =ROUND(J24*K24,2) -> 0
E25: Kopā: | F25: =SUM(F18:F24) -> 0 | H25: Gaitas reduktoru eļļa | I25: l | J25: 5 | L25: =ROUND(J25*K25,2) -> 0
H26: Sajūga hidr. bunduļa eļļa | I26: l | J26: 15 | L26: =ROUND(J26*K26,2) -> 0
H27: Dzesēšanas šķidruma maiņa | I27: l | J27: 45 | L27: =ROUND(J27*K27,2) -> 0
H28: Dzinēja vārstu regulācija un blīves maiņa | I28: gab. | J28: 1 | L28: =ROUND(J28*K28,2) -> 0
K29: Kopā: | L29: =SUM(L18:L28) -> 0
B31: Apkopju grafiks pie 7250 m/h | H31: Apkopju grafiks pie 8250 m/h
B32: Apraksts | C32: Mērvienība | D32: Skaits | E32: Mērvienības cena, EUR bez PVN | F32: Summa EUR bez PVN | H32: Apraksts | I32: Mērvienība | J32: Skaits | K32: Mērvienības cena, EUR bez PVN | L32: Summa EUR bez PVN
B33: Dzinēja eļļas filtrs | C33: gab. | D33: 1 | F33: =ROUND(D33*E33,2) -> 0 | H33: Dzinēja eļļas filtrs | I33: gab. | J33: 1 | L33: =ROUND(J33*K33,2) -> 0
B34: Dzinēja degvielas filtrs | C34: gab. | D34: 1 | F34: =ROUND(D34*E34,2) -> 0 | H34: Dzinēja degvielas filtrs | I34: gab. | J34: 1 | L34: =ROUND(J34*K34,2) -> 0
B35: Dzinēja eļļa | C35: l | D35: 35 | F35: =ROUND(D35*E35,2) -> 0 | H35: Dzinēja eļļa | I35: l | J35: 35 | L35: =ROUND(J35*K35,2) -> 0
B36: Gaisa filtra elements, mazais | C36: gab. | D36: 1 | F36: =ROUND(D36*E36,2) -> 0 | H36: Gaisa filtra elements, mazais | I36: gab. | J36: 1 | L36: =ROUND(J36*K36,2) -> 0
B37: Gaisa filtra elements, lielais | C37: gab. | D37: 1 | F37: =ROUND(D37*E37,2) -> 0 | H37: Gaisa filtra elements, lielais | I37: gab. | J37: 1 | L37: =ROUND(J37*K37,2) -> 0
E38: Kopā: | F38: =SUM(F33:F37) -> 0 | K38: Kopā: | L38: =SUM(L33:L37) -> 0
B41: Apkopju grafiks pie 7500 m/h | H41: Apkopju grafiks pie 8500 m/h
B42: Apraksts | C42: Mērvienība | D42: Skaits | E42: Mērvienības cena, EUR bez PVN | F42: Summa EUR bez PVN | H42: Apraksts | I42: Mērvienība | J42: Skaits | K42: Mērvienības cena, EUR bez PVN | L42: Summa EUR bez PVN
B43: Dzinēja eļļas filtrs | C43: gab. | D43: 1 | F43: =ROUND(D43*E43,2) -> 0 | H43: Dzinēja eļļas filtrs | I43: gab. | J43: 1 | L43: =ROUND(J43*K43,2) -> 0
B44: Dzinēja degvielas filtrs | C44: gab. | D44: 1 | F44: =ROUND(D44*E44,2) -> 0 | H44: Dzinēja degvielas filtrs | I44: gab. | J44: 1 | L44: =ROUND(J44*K44,2) -> 0
B45: Dzinēja eļļa | C45: l | D45: 35 | F45: =ROUND(D45*E45,2) -> 0 | H45: Dzinēja eļļa | I45: l | J45: 35 | L45: =ROUND(J45*K45,2) -> 0
B46: Gaisa filtra elements, mazais | C46: gab. | D46: 1 | F46: =ROUND(D46*E46,2) -> 0 | H46: Degvielas piedeva | I46: ml | J46: 500 | L46: =ROUND(J46*K46,2) -> 0
...

Sheet 3.1.3._PowerscreenCH1400 apkope
I1: 3.1.3.pielikums
A2: Finanšu piedāvājums pa tehniskās specifikācijas pozīcijām (Apkopju veikšana sijātājam Powerscreen Chieftain 1400) atklātā konkursā "Minerālo materiālu pārstrādes iekārtu rezerves daļu iegāde un apkopju veikšana", identifikācijas Nr. AS LVM ZDZ 2024/167 Ak
A4: Sijātāja Powerscreen Chieftain 1400 apkopju veikšana
B6: Apkopju grafiks pie 3500 m/h | H6: Apkopju grafiks pie 4750 m/h
B7: Apraksts | C7: Mērvienība | D7: Skaits | E7: Mērvienības cena, EUR bez PVN | F7: Summa EUR bez PVN | H7: Apraksts | I7: Mērvienība | J7: Skaits | K7: Mērvienības cena, EUR bez PVN | L7: Summa EUR bez PVN
B8: Dzinēja eļļas filtrs | C8: gab. | D8: 1 | F8: =ROUND(D8*E8,2) -> 0 | H8: Dzinēja eļļas filtrs | I8: gab. | J8: 1 | L8: =ROUND(J8*K8,2) -> 0
B9: Dzinēja filtrs | C9: gab. | D9: 1 | F9: =ROUND(D9*E9,2) -> 0 | H9: Dzinēja filtrs | I9: gab. | J9: 1 | L9: =ROUND(J9*K9,2) -> 0
B10: Dzinēja degvielas filtrs | C10: gab. | D10: 2 | F10: =ROUND(D10*E10,2) -> 0 | H10: Dzinēja degvielas filtrs | I10: gab. | J10: 2 | L10: =ROUND(J10*K10,2) -> 0
B11: Dzinēja eļļa | C11: l | D11: 20 | F11: =ROUND(D11*E11,2) -> 0 | H11: Dzinēja eļļa | I11: l | J11: 20 | L11: =ROUND(J11*K11,2) -> 0
B12: Gaisa filtra elements, mazais | C12: gab. | D12: 1 | F12: =ROUND(D12*E12,2) -> 0 | H12: Gaisa filtra elements, mazais | I12: gab. | J12: 1 | L12: =ROUND(J12*K12,2) -> 0
B13: Gaisa filtra elements, lielais | C13: gab. | D13: 1 | F13: =ROUND(D13*E13,2) -> 0 | H13: Gaisa filtra elements, lielais | I13: gab. | J13: 1 | L13: =ROUND(J13*K13,2) -> 0
B14: Hidrauliskās bākas filtrs | C14: gab. | D14: 1 | F14: =ROUND(D14*E14,2) -> 0 | K14: Kopā: | L14: =SUM(L8:L13) -> 0
B15: Padevēja reduktora eļļa | C15: l | D15: 2 | F15: =ROUND(D15*E15,2) -> 0
E16: Kopā: | F16: =SUM(F8:F15) -> 0
B19: Apkopju grafiks pie 3750 m/h | H19: Apkopju grafiks pie 5000 m/h
B20: Apraksts | C20: Mērvienība | D20: Skaits | E20: Mērvienības cena, EUR bez PVN | F20: Summa EUR bez PVN | H20: Apraksts | I20: Mērvienība | J20: Skaits | K20: Mērvienības cena, EUR bez PVN | L20: Summa EUR bez PVN
B21: Dzinēja eļļas filtrs | C21: gab. | D21: 1 | F21: =ROUND(D21*E21,2) -> 0 | H21: Dzinēja eļļas filtrs | I21: gab. | J21: 1 | L21: =ROUND(J21*K21,2) -> 0
B22: Dzinēja filtrs | C22: gab. | D22: 1 | F22: =ROUND(D22*E22,2) -> 0 | H22: Dzinēja filtrs | I22: gab. | J22: 1 | L22: =ROUND(J22*K22,2) -> 0
B23: Dzinēja degvielas filtrs | C23: gab. | D23: 2 | F23: =ROUND(D23*E23,2) -> 0 | H23: Dzinēja degvielas filtrs | I23: gab. | J23: 2 | L23: =ROUND(J23*K23,2) -> 0
B24: Dzinēja eļļa | C24: l | D24: 20 | F24: =ROUND(D24*E24,2) -> 0 | H24: Dzinēja eļļa | I24: l | J24: 20 | L24: =ROUND(J24*K24,2) -> 0
B25: Gaisa filtra elements, mazais | C25: gab. | D25: 1 | F25: =ROUND(D25*E25,2) -> 0 | H25: Gaisa filtra elements, mazais | I25: gab. | J25: 1 | L25: =ROUND(J25*K25,2) -> 0
B26: Gaisa filtra elements, lielais | C26: gab. | D26: 1 | F26: =ROUND(D26*E26,2) -> 0 | H26: Gaisa filtra elements, lielais | I26: gab. | J26: 1 | L26: =ROUND(J26*K26,2) -> 0
E27: Kopā: | F27: =SUM(F21:F26) -> 0 | H27: Hidrauliskās bākas filtrs | I27: gab. | J27: 1 | L27: =ROUND(J27*K27,2) -> 0
H28: Gaitas reduktoru eļļa | I28: l | J28: 6 | L28: =ROUND(J28*K28,2) -> 0
B29: Apkopju grafiks pie 4000 m/h | H29: Padevēja reduktora eļļa | I29: l | J29: 2 | L29: =ROUND(J29*K29,2) -> 0
B30: Apraksts | C30: Mērvienība | D30: Skaits | E30: Mērvienības cena, EUR bez PVN | F30: Summa EUR bez PVN | K30: Kopā: | L30: =SUM(L21:L29) -> 0
B31: Dzinēja eļļas filtrs | C31: gab. | D31: 1 | F31: =ROUND(D31*E31,2) -> 0
B32: Dzinēja filtrs | C32: gab. | D32: 1 | F32: =ROUND(D32*E32,2) -> 0 | H32: Apkopju grafiks pie 5250 m/h
B33: Dzinēja degvielas filtrs | C33: gab. | D33: 2 | F33: =ROUND(D33*E33,2) -> 0 | H33: Apraksts | I33: Mērvienība | J33: Skaits | K33: Mērvienības cena, EUR bez PVN | L33: Summa EUR bez PVN
B34: Dzinēja eļļa | C34: l | D34: 20 | F34: =ROUND(D34*E34,2) -> 0 | H34: Dzinēja eļļas filtrs | I34: gab. | J34: 1 | L34: =ROUND(J34*K34,2) -> 0
B35: Gaisa filtra elements, mazais | C35: gab. | D35: 1 | F35: =ROUND(D35*E35,2) -> 0 | H35: Dzinēja filtrs | I35: gab. | J35: 1 | L35: =ROUND(J35*K35,2) -> 0
B36: Gaisa filtra elements, lielais | C36: gab. | D36: 1 | F36: =ROUND(D36*E36,2) -> 0 | H36: Dzinēja degvielas filtrs | I36: gab. | J36: 2 | L36: =ROUND(J36*K36,2) -> 0
B37: Hidrauliskā eļļa | C37: l | D37: 565 | F37: =ROUND(D37*E37,2) -> 0 | H37: Dzinēja eļļa | I37: l | J37: 20 | L37: =ROUND(J37*K37,2) -> 0
B38: Hidrauliskās bākas filtrs | C38: gab. | D38: 1 | F38: =ROUND(D38*E38,2) -> 0 | H38: Gaisa filtra elements, mazais | I38: gab. | J38: 1 | L38: =ROUND(J38*K38,2) -> 0
B39: Hidrauliskās bākas iesūkšanas filtrs | C39: gab. | D39: 3 | F39: =ROUND(D39*E39,2) -> 0 | H39: Gaisa filtra elements, lielais | I39: gab. | J39: 1 | L39: =ROUND(J39*K39,2) -> 0
B40: Gaitas reduktoru eļļa | C40: l | D40: 6 | F40: =ROUND(D40*E40,2) -> 0 | K40: Kopā: | L40: =SUM(L34:L39) -> 0
B41: Padevēja reduktora eļļa | C41: l | D41: 2 | F41: =ROUND(D41*E41,2) -> 0
E42: Kopā: | F42: =SUM(F31:F41) -> 0 | H42: Apkopju grafiks pie 5500 m/h
H43: Apraksts | I43: Mērvienība | J43: Skaits | K43: Mērvienības cena, EUR bez PVN | L43: Summa EUR bez PVN
B44: Apkopju grafiks pie 4250 m/h | H44: Dzinēja eļļas filtrs | I44: gab. | J44: 1 | L44: =ROUND(J44*K44,2) -> 0
...
