Workbook
Name likme: KT!$E$23

Sheet KT
C2: APSTIPRINU_________________________________
C3: (pasūtītāja paraksts un tā atšifrējums)
C4: Z.V.
C5: 2024.gada ___.______________
A7: Būvniecības koptāme
A9: Objekta nosaukums: | B9: Autoceļa A6 - Rīgas ielas - Maskavas ielas - Skolas ielas un Zviedru ielas transporta mezgla un autoceļa A6 - Enerģētiķu ielas transporta mezgla pārbūve Salaspilī, Salaspils novadā
A11: Būves nosaukums:
A12: Objekta adrese: | B12: Rīgas iela, Maskavas iela, Skolas iela un Zviedru iela, Enerģētiķu iela, Salaspils
A13: Pasūtījuma nr.:
A15: Nr.p.k. | B15: Objekta nosaukums | C15: Objekta izmaksas (euro)
A16: 1 | B16: =B9 -> Autoceļa A6 - Rīgas ielas - Maskavas ielas - Skolas ielas un Zviedru ielas transporta mezgla un autoceļa A6 - Enerģētiķu ielas transporta mezgla pārbūve Salaspilī, Salaspils novadā | C16: =KA!E23 -> 0
B19: Kopā | C19: =SUM(C16:C18) -> 0
A21: PVN (21%) | C21: =ROUND(C19*21%,2) -> 0
A24: Sastādīja: | C24: =C28 -> 2024. gada
A25: (paraksts un tā atšifrējums, datums)
A28: Pārbaudīja: | C28: 2024. gada
A29: (paraksts un tā atšifrējums, datums)
A30: Sertifikāta Nr.:

Sheet KA
A2: Kopsavilkuma aprēķins nr.1
A3: =C6 -> Autoceļa A6 - Rīgas ielas - Maskavas ielas - Skolas ielas un Zviedru ielas transporta mezgla un autoceļa A6 - Enerģētiķu ielas transporta mezgla pārbūve Salaspilī, Salaspils novadā
A4: (būvdarbu veids vai konstruktīvā elementa nosaukums)
A6: Objekta nosaukums: | C6: =KT!B9 -> Autoceļa A6 - Rīgas ielas - Maskavas ielas - Skolas ielas un Zviedru ielas transporta mezgla un autoceļa A6 - Enerģētiķu ielas transporta mezgla pārbūve Salaspilī, Salaspils novadā
A7: Būves nosaukums:
A8: Objekta adrese: | C8: =KT!B12 -> Rīgas iela, Maskavas iela, Skolas iela un Zviedru iela, Enerģētiķu iela, Salaspils
A9: Pasūtījuma nr.:
C10: Par kopējo summu (euro) | E10: =E23 -> 0
C11: Kopējā darbietilpība (c/h) | E11: =SUM(I14:I18) -> 0
A12: Nr.p.k. | B12: kods, tāmes nr. | C12: Būvdarbu veids vai konstruktīvā elementa nosaukums | E12: Tāmes izmaksas | F12: Tai skaitā | I12: Darbietilpība (c/h)
F13: Darba alga | G13: Būvizstrādājumi | H13: Mehānismi
C14: 1. Vispārējie būvdarbi
A15: 1 | B15: 1.1 | C15: TS-CD - Ceļa darbi | E15: =SUM(F15:H15) -> 0 | F15: ='1,1'!M128 -> 0 | G15: ='1,1'!N128 -> 0 | H15: ='1,1'!O128 -> 0 | I15: ='1,1'!L128 -> 0
A16: =A15+1 -> 2 | B16: 1.2 | C16: ELT-A - Apgaismojums, abonenta tīkli | E16: =SUM(F16:H16) -> 0 | F16: ='1,2'!M212 -> 0 | G16: ='1,2'!N212 -> 0 | H16: ='1,2'!O212 -> 0 | I16: ='1,2'!L212 -> 0
A17: =A16+1 -> 3 | B17: 1.3 | C17: UKT - Ūdensapgāde un kanalizācija (ārējā) | E17: =SUM(F17:H17) -> 0 | F17: ='1,3'!M38 -> 0 | G17: ='1,3'!N38 -> 0 | H17: ='1,3'!O38 -> 0 | I17: ='1,3'!L38 -> 0
A18: =A17+1 -> 4 | B18: 1.4 | C18: ESS-VN - Luksoforu signalizācija | E18: =SUM(F18:H18) -> 0 | F18: ='1,4'!M138 -> 0 | G18: ='1,4'!N138 -> 0 | H18: ='1,4'!O138 -> 0 | I18: ='1,4'!L138 -> 0
A19: Kopā | E19: =SUM(E14:E18) -> 0
A20: Virsizdevumi | D20: %
A21: t.sk. Darba aizsardzība | D21: %
A22: Peļņa | D22: %
A23: Pavisam kopā | E23: =SUM(E19:E22) -> 0
A25: =KT!A24 -> Sastādīja: | E25: =KT!C28 -> 2024. gada
A26: (paraksts un tā atšifrējums, datums)
A29: =KT!A28 -> Pārbaudīja: | E29: =KT!C28 -> 2024. gada
A30: (paraksts un tā atšifrējums, datums)
A31: =KT!A30 -> Sertifikāta Nr.:

Sheet 1,1
A2: Lokālā tāme Nr.1,1
A3: TS-CD - Ceļa darbi
A4: (būvdarbu veids vai konstruktīvā elementa nosaukums)
A6: Objekta nosaukums: | C6: =KT!B9 -> Autoceļa A6 - Rīgas ielas - Maskavas ielas - Skolas ielas un Zviedru ielas transporta mezgla un autoceļa A6 - Enerģētiķu ielas transporta mezgla pārbūve Salaspilī, Salaspils novadā
A7: Būves nosaukums:
A8: Objekta adrese: | C8: =KT!B12 -> Rīgas iela, Maskavas iela, Skolas iela un Zviedru iela, Enerģētiķu iela, Salaspils
A9: Pasūtījuma nr.:
A11: Tāme sastādīta 2024. gada tirgus cenās, pamatojoties uz būvprojekta apjomiem | M11: Tāmes izmaksas: | O11: =P128 -> 0 | P11: EUR
N12: Tāme sastādīta | O12: =KT!C28 -> 2024. gada
A14: Nr.p.k. | B14: Kods | C14: Būvdarbu nosaukums | D14: Mērvienība | E14: Daudzums | F14: Vienības izmaksas | L14: Kopā uz visu apjomu
F15: Laika norma (c/h) | G15: Darba samaksas likme (euro/h) | H15: Darba alga | I15: Būvizstrādājumi | J15: Mehānismi | K15: KOPĀ | L15: Darbietilpība (c/h) | M15: Darba alga | N15: Būvizstrādājumi | O15: Mehānismi | P15: Summa
A16: Ceļa izbūves darbi
A17: Dažādi darbi
A18: 1 | C18: Ietves bruģa seguma uz šķembu pamata (H = 15 cm) demontāža un aizvešana uz atbērtni | D18: m2 | E18: 477
A19: =A18+1 -> 2 | C19: Asfalta seguma uz šķembu pamata (H = 30 cm) demontāža un aizvešana uz atbērtni | D19: m2 | E19: 809
A20: =A19+1 -> 3 | C20: Betona seguma uz šķembu pamata (H=30 cm) demontāža un aizvešana uz atbērtni | D20: m2 | E20: 31
A21: =A20+1 -> 4 | C21: Betona pamatu demontāža un aizvešana uz atbērtni | D21: m2 | E21: 53
A22: =A21+1 -> 5 | C22: Brauktuves betona apmaļu demontāža un aizvešana uz atbērtni | D22: m | E22: 348
A23: =A22+1 -> 6 | C23: Ietves betona apmaļu demontāža un aizvešana uz atbērtni | D23: m | E23: 364
A24: =A23+1 -> 7 | C24: Asfaltbetona frēzēšana | D24: m2 | E24: 737
A25: =A24+1 -> 8 | C25: Aku vāku nomaiņa pret peldošā tipa 40t vākiem t.sk. materiāli sekmīgai darba veikšanai. To līmeņošana atbilstoši proj.atzīmei. | D25: gab. | E25: 2
A26: =A25+1 -> 9 | C26: Šahtas lūkas pārbūve ar tipveida lūku un vāku | D26: gab. | E26: 1
A27: =A26+1 -> 10 | C27: Gūliju demontāža (sk. Arī UKTdaļu) | D27: gab. | E27: 3
A28: =A27+1 -> 11 | C28: Gūliju pieslēgumu pagarināšana un gūliju izbūve (sk.arī UKT daļu) | D28: gab. | E28: 3
A29: =A28+1 -> 12 | C29: Esoša žoga un vārtu pārvietošana. Ja pārvietošana nav iespējama, paredzēt pītā paneļa tipa žoga izbūvi | D29: m | E29: 35
A30: =A29+1 -> 13 | C30: Gājēju aizsargbarjeras demontāža | D30: m | E30: 84
... A36: =A35+1 -> 19 | C36: Policijas videokameras demontāža/montāža/pārvietošana | D36: kompl | E36: 1
A37: Zemes klātne
A38: =A36+1 -> 20 | C38: Zemes klātnes ierakuma būvniecība un aizvešana uz pasūtītāja atbērtni 6km attālumā, nodrošinot grunts izlīdzināšanu atbērtnē un piebraucamo ceļu slaucīšanu pēc nepieciešamības vai uz būvuzņēmēja atbērtni, ja ir tāda iespējamība | D38: m3 | E38: 725
A39: =A38+1 -> 21 | C39: Augsnes virskārtas noņemšana (H=15cm). Būvniecības stadijā Izvērtēt iespēju izmantot atkārtoti (piemēram demontējamā asfalta laukuma vietā A6-Zviedru ielas krustojumā). Atlikušās grunts aizvešana uz pasūtītāja atbērtni 6km attālumā, nodrošinot grunts izlīdzināšanu atbērtnē un piebraucamo ceļu slaucīšanu pēc nepieciešamības vai uz būvuzņēmēja atbērtni, ja ir tāda iespējamība | D39: m2 | E39: 1303
A40: Ar saistvielām nesaistītās konstruktīvās kārtas
A41: =A39+1 -> 22 | C41: Salizturīgās kārtas ( Nestspēja 90 Mpa) būvniecība zem brauktuvēm | D41: m3 | E41: 493
A42: =A41+1 -> 23 | C42: Salizturīgās kārtas ( Nestspēja 60 Mpa) būvniecība zem ietvēm (h=30cm) | D42: m3 | E42: 201
A43: =A42+1 -> 24 | C43: Minerālmateriālu maisījums, 2/5 (h=3cm) (stāvvietas, ietves šķērsojums) | D43: m3 | E43: 8.7
A44: =A43+1 -> 25 | C44: Minerālmateriālu maisījums, 2/5 (h=4cm) (ietves) | D44: m3 | E44: 25
A45: =A44+1 -> 26 | C45: Minerālmateriālu maisījums 0/45, N-II klase (h=15cm) (brauktuvēs) | D45: m3 | E45: 77
A46: =A45+1 -> 27 | C46: Minerālmateriālu maisījums 0/45, N-III klase (h=10-15cm) | D46: m3 | E46: 236
A47: =A46+1 -> 28 | C47: Minerālmateriālu maisījums 0/56, N-IV klase (h=20cm) (brauktuvēs) | D47: m3 | E47: 102
A48: =A47+1 -> 29 | C48: Vidēji rupjgraudaina smilts | D48: m3 | E48: 11
A49: =A48+1 -> 30 | C49: Apaļais bruģakmens | D49: m2 | E49: 71
A50: =A49+1 -> 31 | C50: Betona bruģis Prizma 8C (200x100x60),pelēks, bez fāzes (h=8cm) (Stāvvieta) | D50: m2 | E50: 118
A51: =A50+1 -> 32 | C51: Betona bruģis Dekor 240 C (240x160x80), pelēks, bez fāzes (h=8cm) (Ietves šķēsojums) | D51: m2 | E51: 25
A52: =A51+1 -> 33 | C52: Betona bruģis Dekor Field C (240x160x60), pelēks, bez fāzes (h=6cm) | D52: m2 | E52: 475
A53: =A52+1 -> 34 | C53: Betona bruģis Dekor 240 C Colourmix Mercury (240x160x80), bez fāzes (h=8cm) | D53: m2 | E53: 73
... A58: =A57+1 -> 39 | C58: Melnzeme apsēta ar zāliena sēklu - 15cm (sk. arī 2.2 pozīciju) | D58: m2 | E58: 1492
A59: Ar saistvielām saistītās konstruktīvās kārtas
A60: =A58+1 -> 40 | C60: A/b AC 11 surf - 4cm (ietvēs) | D60: m2 | E60: 10
A61: =A60+1 -> 41 | C61: A/b dilumkārta AC 11 surf, 50/70 S-II klase - 4cm | D61: m2 | E61: 1397
A62: =A61+1 -> 42 | C62: A/b dilumkārta AC 22 base/bin, 70/100 S-III klase - 5cm | D62: m2 | E62: 488
A63: =A62+1 -> 43 | C63: A/b saistkārta AC 32 base, 70/100 S-III klase - 6cm | D63: m2 | E63: 488
A64: =A63+1 -> 44 | C64: A/b saistkārta AC 32 base/bin, 70/100 S-III klase - 8cm | D64: m2 | E64: 180
A65: =A64+1 -> 45 | C65: Bitumena emulsijas gruntējums | D65: m2 | E65: 729
A66: Satiksmes aprīkojums
A67: =A65+1 -> 46 | C67: Ielas apmale Izmēri: 1000x150x300 (mm) | D67: m | E67: 213
A68: =A67+1 -> 47 | C68: Ielas apmale Izmēri: 1000x150x300L (mm) (Labā) | D68: m | E68: 11
A69: =A68+1 -> 48 | C69: Ielas apmale Izmēri: 1000x150x300K (mm) (Kreisā) | D69: m | E69: 11
A70: =A69+1 -> 49 | C70: Ielas apmale Izmēri: 1000x150x220 (mm) | D70: m | E70: 270
A71: =A70+1 -> 50 | C71: Ietves apmale Izmēri: 1000x80x200 (mm) | D71: m | E71: 399
A72: =A71+1 -> 51 | C72: Ceļa zīmes pārvietojamas t.sk. balsts ja nepieciešams
A73: =A72+1 -> 52 | C73: 2. grupas zīmes | D73: gab. | E73: 7
A74: =A73+1 -> 53 | C74: 3. grupas zīmes | D74: gab. | E74: 8
A75: =A74+1 -> 54 | C75: 4. grupas zīmes | D75: gab. | E75: 4
A76: =A75+1 -> 55 | C76: 5. grupas zīmes | D76: gab. | E76: 4
A77: =A76+1 -> 56 | C77: 7. grupas zīmes | D77: gab. | E77: 1
A78: =A77+1 -> 57 | C78: 8. grupas zīmes | D78: gab. | E78: 9
A79: =A78+1 -> 58 | C79: Videonovērošana zīme | D79: gab. | E79: 1
A80: =A79+1 -> 59 | C80: Balstu pārvietošana ar informācijas norādēm/ielu nosaukumiem | D80: gab. | E80: 4
A81: =A80+1 -> 60 | C81: Ceļa zīmes demontējamas t.sk. balsts ja nepieciešams. Demontētās zīmes nododamas pašvalībai.Zīmes, kuras demontētas uz A6, nododamas LVC.
A82: =A81+1 -> 61 | C82: 2. grupas zīmes | D82: gab. | E82: 2
A83: =A82+1 -> 62 | C83: 3. grupas zīmes | D83: gab. | E83: 1
A84: =A83+1 -> 63 | C84: 4. grupas zīmes | D84: gab. | E84: 3
A85: =A84+1 -> 64 | C85: 5. grupas zīmes | D85: gab. | E85: 23
A86: =A85+1 -> 65 | C86: 8. grupas zīmes | D86: gab. | E86: 3
A87: =A86+1 -> 66 | C87: Ceļa zīmes projektējamās
A88: =A87+1 -> 67 | C88: 2. grupas zīmes
A89: =A88+1 -> 68 | C89: 206 | D89: gab. | E89: 2
A90: =A89+1 -> 69 | C90: 3. grupas zīmes
A91: =A90+1 -> 70 | C91: 316 | D91: gab. | E91: 1
A92: =A91+1 -> 71 | C92: 323 (30km/h) | D92: gab. | E92: 2
A93: =A92+1 -> 72 | C93: 326 | D93: gab. | E93: 1
A94: =A93+1 -> 73 | C94: 4. grupas zīmes
A95: =A94+1 -> 74 | C95: 402 | D95: gab. | E95: 1
A96: =A95+1 -> 75 | C96: 417 | D96: gab. | E96: 3
A97: =A96+1 -> 76 | C97: 418 | D97: gab. | E97: 2
A98: =A97+1 -> 77 | C98: 419 | D98: gab. | E98: 2
A99: =A98+1 -> 78 | C99: 420 | D99: gab. | E99: 2
A100: =A99+1 -> 79 | C100: 421 | D100: gab. | E100: 2
A101: =A100+1 -> 80 | C101: 422 | D101: gab. | E101: 2
A102: =A101+1 -> 81 | C102: 5. grupas zīmes
A103: =A102+1 -> 82 | C103: 513 | D103: gab. | E103: 9
A104: =A103+1 -> 83 | C104: 513 (2.klases atstarojošā virsma, II izmēra grupa) | D104: gab. | E104: 2
A105: =A104+1 -> 84 | C105: 514 (2.klases atstarojošā virsma, II izmēra grupa) | D105: gab. | E105: 2
A106: =A105+1 -> 85 | C106: 535 (2.klases atstarojošā virsma) | D106: gab. | E106: 4
A107: =A106+1 -> 86 | C107: 536 (2.klases atstarojošā virsma) | D107: gab. | E107: 4
A108: =A107+1 -> 87 | C108: 8. grupas zīmes
A109: =A108+1 -> 88 | C109: 801 (25m) | D109: gab. | E109: 1
A110: =A109+1 -> 89 | C110: 801 (50m) | D110: gab. | E110: 1
A111: =A110+1 -> 90 | C111: Ceļa zīmju balsti | D111: gab. | E111: 16
A112: =A111+1 -> 91 | C112: Ceļa zīmju stiprinājumi pie apgaismes stabiem/luksoforu balstiem/kopnēm | D112: gab. | E112: 24
A113: =A112+1 -> 92 | C113: Gājēju aizsargbarjeras uzstādīšana | D113: m | E113: 45.7
...

Sheet 1,2
A2: Lokālā tāme Nr.1,2
A3: ELT-A - Apgaismojums, abonenta tīkli
A4: (būvdarbu veids vai konstruktīvā elementa nosaukums)
A6: Objekta nosaukums: | C6: =KT!B9 -> Autoceļa A6 - Rīgas ielas - Maskavas ielas - Skolas ielas un Zviedru ielas transporta mezgla un autoceļa A6 - Enerģētiķu ielas transporta mezgla pārbūve Salaspilī, Salaspils novadā
A7: Būves nosaukums:
A8: Objekta adrese: | C8: =KT!B12 -> Rīgas iela, Maskavas iela, Skolas iela un Zviedru iela, Enerģētiķu iela, Salaspils
A9: Pasūtījuma nr.:
A11: Tāme sastādīta 2024. gada tirgus cenās, pamatojoties uz būvprojekta apjomiem | M11: Tāmes izmaksas: | O11: =P212 -> 0 | P11: EUR
N12: Tāme sastādīta | O12: =KT!C28 -> 2024. gada
A14: Nr.p.k. | B14: Kods | C14: Būvdarbu nosaukums | D14: Mērvienība | E14: Daudzums | F14: Vienības izmaksas | L14: Kopā uz visu apjomu
F15: Laika norma (c/h) | G15: Darba samaksas likme (euro/h) | H15: Darba alga | I15: Būvizstrādājumi | J15: Mehānismi | K15: KOPĀ | L15: Darbietilpība (c/h) | M15: Darba alga | N15: Būvizstrādājumi | O15: Mehānismi | P15: Summa
A16: Apgaismojuma balsts G-1 un proj. kabeļlīnija
A17: Demontāžas darbi
A18: 1 | C18: Apgaismes stabu un pamatņu demontāža (atbilstoši projektam) un utilizācija | D18: kompl. | E18: 1
A19: Darbu izmaksas
A20: =A18+1 -> 2 | C20: Gaismekļa montāža | D20: kompl. | E20: 1
A21: =A20+1 -> 3 | C21: LED mirgojošā brīdinājuma gaismekļa montāža | D21: gab. | E21: 2
A22: =A21+1 -> 4 | C22: Gaismekļa vadības iekārtas C-Node 10 montāža | D22: kompl. | E22: 1
A23: =A22+1 -> 5 | C23: Gājēju pārejas balsta montāža | D23: kompl. | E23: 1
A24: =A23+1 -> 6 | C24: Bedres rakšana un aizbēršana apgaismojuma balstam | D24: gab. | E24: 1
A25: =A24+1 -> 7 | C25: Šķembas ieklāšana (zem apg. balsta pamata) | D25: m2 | E25: 1
A26: =A25+1 -> 8 | C26: Kabelis pa celtniecības konstrukcijām (stabā) | D26: m | E26: 9
A27: =A26+1 -> 9 | C27: Automātslēdžu montāža | D27: kompl. | E27: 1
A28: =A27+1 -> 10 | C28: Šurfēšana - apakšzemes komunikāciju apsekošana | D28: gab. | E28: 1
A29: =A28+1 -> 11 | C29: Tranšejas rakšana un aizbēršana kabeļu (caurules) gūldīšanai | D29: m | E29: 11
A30: =A29+1 -> 12 | C30: Signāllentes ieklāšana | D30: m | E30: 11
A31: =A30+1 -> 13 | C31: ZS kabeļa ievēršana proj. caurulē | D31: m | E31: 11
A32: =A31+1 -> 14 | C32: Kabeļu aizsargcaurules ieguldīšana gatavā tranšejā | D32: m | E32: 11
... A34: =A33+1 -> 16 | C34: Trases nospraušana | D34: m | E34: 11
A35: Materiālu izmaksas
A36: =A34+1 -> 17 | C36: LED Gaismeklis CREE TRMA-02-PCR-9L57733W, Dali, Zhaga | D36: kompl. | E36: 1
A37: =A36+1 -> 18 | C37: Gaismekļa vadības iekārta C-Node 10 Zhaga RF | D37: kompl. | E37: 1
A38: =A37+1 -> 19 | C38: Gājēju pārejas balsts ZEBRA: - balsts 6m, konsole 1,5m - betona pamats - gājēju pārejas norādas - gājēju pārejas plātnes - stiprinājumi un citi neuzskaitītie materiāli | D38: kompl. | E38: 1
A39: =A38+1 -> 20 | C39: Termocaurule ar līmi SRH2 95-26mm | D39: gab. | E39: 1
A40: =A39+1 -> 21 | C40: LED mirgojošs brīdinājuma gaismeklis Galileo d200 8W (La Semaforica) | D40: kompl. | E40: 2
A41: =A40+1 -> 22 | C41: Šķembas (zem apg. balsta pamata) | D41: m3 | E41: 0.1
A42: =A41+1 -> 23 | C42: Nozarošanas spaiļu komplekts, kabeļu komutācijai balstā | D42: gab. | E42: 1
A43: =A42+1 -> 24 | C43: Automātslēdzis, 1F 6A C | D43: gab. | E43: 1
A44: =A43+1 -> 25 | C44: Automātslēdžu kārba balstā "Lacroix" | D44: kompl. | E44: 1
A45: =A44+1 -> 26 | C45: Kabeļa gala apdare četrdzīslu kabelim | D45: gab. | E45: 2
A46: =A45+1 -> 27 | C46: Signāllenta kabeļlīnijai, platums 125mm (ar 5% rezervi) | D46: m | E46: 11
A47: =A46+1 -> 28 | C47: Kabelis 1kV, četrdzīslu Al-4x6 (ar 5% rezervi) | D47: m | E47: 15
A48: =A47+1 -> 29 | C48: Kabelis 1kV, trīsdzīslu NYY-J-3x1,5 (apgaismojuma balstā) | D48: m | E48: 9
A49: =A48+1 -> 30 | C49: PE caurule, gofrēta 750N, d110 | D49: m | E49: 11
A50: =A49+1 -> 31 | C50: Celtniecības smilts | D50: m3 | E50: =E46*0.25*0.25 -> 0.6875
A51: =A50+1 -> 32 | C51: Montāžas palīgmateriāli | D51: kompl. | E51: 1
A52: Apgaismojuma balsts G-2 un proj. kabeļlīnija
A53: Darbu izmaksas
A54: =A51+1 -> 33 | C54: Gaismekļa montāža | D54: kompl. | E54: 1
A55: =A54+1 -> 34 | C55: Gaismekļa vadības iekārtas C-Node 10 montāža | D55: kompl. | E55: 1
A56: =A55+1 -> 35 | C56: Apgaismes konsoles montāža | D56: gab. | E56: 1
A57: =A56+1 -> 36 | C57: Apgaismojuma balsta montāža | D57: gab. | E57: 1
A58: =A57+1 -> 37 | C58: Apgaismes balsta pamata montāža | D58: gab. | E58: 1
A59: =A58+1 -> 38 | C59: Bedres rakšana un aizbēršana apgaismojuma balstam | D59: gab. | E59: 1
A60: =A59+1 -> 39 | C60: Šķembas ieklāšana (zem apg. balsta pamata) | D60: m2 | E60: 1
A61: =A60+1 -> 40 | C61: Kabelis pa celtniecības konstrukcijām (stabā) | D61: m | E61: 9
A62: =A61+1 -> 41 | C62: Automātslēdžu montāža | D62: kompl. | E62: 1
A63: =A62+1 -> 42 | C63: Šurfēšana - apakšzemes komunikāciju apsekošana | D63: gab. | E63: 1
A64: =A63+1 -> 43 | C64: Tranšejas rakšana un aizbēršana kabeļu (caurules) gūldīšanai | D64: m | E64: 20
A65: =A64+1 -> 44 | C65: Tranšejas rakšana un aizbēršana kabeļu (caurules) gūldīšanai - demontējamajam kabelim | D65: m | E65: 8
A66: =A65+1 -> 45 | C66: Signāllentes ieklāšana | D66: m | E66: 20
... A72: =A71+1 -> 51 | C72: Esošā kabeļa (caurules) demontāža | D72: m | E72: 8
A73: Materiālu izmaksas
A74: =A72+1 -> 52 | C74: LED Gaismeklis | D74: kompl. | E74: 1
A75: =A74+1 -> 53 | C75: Gaismekļa vadības iekārta C-Node 10 Zhaga RF | D75: kompl. | E75: 1
A76: =A75+1 -> 54 | C76: Cinkota metāla apgaismojuma konsole (v=1,5m, h=1,5m, ∠5) | D76: gab. | E76: 1
A77: =A76+1 -> 55 | C77: Termocaurule ar līmi | D77: gab. | E77: 1
A78: =A77+1 -> 56 | C78: Cinkots metāla balsts h=7.1m | D78: gab. | E78: 1
A79: =A78+1 -> 57 | C79: Gumijas blīve kronšteinam D60 | D79: gab. | E79: 1
A80: =A79+1 -> 58 | C80: Balsta betona pamats (8m balstiem) | D80: gab. | E80: 1
A81: =A80+1 -> 59 | C81: Šķembas (zem apg. balsta pamata) | D81: m3 | E81: 0.1
A82: =A81+1 -> 60 | C82: Nozarošanas spaiļu komplekts, kabeļu komutācijai balstā | D82: gab. | E82: 1
A83: =A82+1 -> 61 | C83: Automātslēdzis, 1F 6A C | D83: gab. | E83: 1
A84: =A83+1 -> 62 | C84: Automātslēdžu kārba balstā "Lacroix" | D84: kompl. | E84: 1
A85: =A84+1 -> 63 | C85: Kabeļa gala apdare četrdzīslu kabelim | D85: gab. | E85: 2
A86: =A85+1 -> 64 | C86: Signāllenta kabeļlīnijai, platums 125mm (ar 5% rezervi) | D86: m | E86: 20
... A89: =A88+1 -> 67 | C89: PE caurule, gofrēta 450N, d50 | D89: m | E89: 11
A90: =A89+1 -> 68 | C90: Celtniecības smilts | D90: m3 | E90: =E86*0.25*0.25 -> 1.25
A91: =A90+1 -> 69 | C91: Montāžas palīgmateriāli | D91: kompl. | E91: 1
A92: Apgaismojuma balsts G-3 un proj. kabeļlīnija
A93: Darbu izmaksas
A94: =A91+1 -> 70 | C94: Gaismekļa montāža | D94: kompl. | E94: 1
A95: =A94+1 -> 71 | C95: Apgaismes konsoles montāža | D95: gab. | E95: 1
A96: =A95+1 -> 72 | C96: Apgaismojuma balsta montāža | D96: gab. | E96: 1
A97: =A96+1 -> 73 | C97: Apgaismes balsta pamata montāža | D97: gab. | E97: 1
A98: =A97+1 -> 74 | C98: Bedres rakšana un aizbēršana apgaismojuma balstam | D98: gab. | E98: 1
A99: =A98+1 -> 75 | C99: Šķembas ieklāšana (zem apg. balsta pamata) | D99: m2 | E99: 1
A100: =A99+1 -> 76 | C100: Kabelis pa celtniecības konstrukcijām (stabā) | D100: m | E100: 18
A101: =A100+1 -> 77 | C101: Automātslēdžu montāža | D101: kompl. | E101: 1
A102: =A101+1 -> 78 | C102: Šurfēšana - apakšzemes komunikāciju apsekošana | D102: gab. | E102: 2
A103: =A102+1 -> 79 | C103: Tranšejas rakšana un aizbēršana kabeļu (caurules) gūldīšanai | D103: m | E103: 4
A104: =A103+1 -> 80 | C104: Tranšejas rakšana un aizbēršana kabeļu (caurules) gūldīšanai - demontējamajam kabelim | D104: m | E104: 1
A105: =A104+1 -> 81 | C105: Signāllentes ieklāšana | D105: m | E105: 4
A106: =A105+1 -> 82 | C106: ZS kabeļa ievēršana proj. caurulē | D106: m | E106: 2
... A115: =A114+1 -> 91 | C115: Esošo kabeļu ievilkšana proj. sadalnē | D115: gab. | E115: 1
A116: Materiālu izmaksas
A117: =A115+1 -> 92 | C117: Cinkota metāla apgaismojuma konsole (v=1,5m, h=1,5m, ∠5) | D117: gab. | E117: 1
A118: =A117+1 -> 93 | C118: Termocaurule ar līmi | D118: gab. | E118: 1
A119: =A118+1 -> 94 | C119: Cinkots metāla balsts h=7.1m | D119: gab. | E119: 1
A120: =A119+1 -> 95 | C120: Gumijas blīve kronšteinam D60 | D120: gab. | E120: 1
...

Sheet 1,3
A2: Lokālā tāme Nr.1,3
A3: UKT - Ūdensapgāde un kanalizācija (ārējā)
A4: (būvdarbu veids vai konstruktīvā elementa nosaukums)
A6: Objekta nosaukums: | C6: =KT!B9 -> Autoceļa A6 - Rīgas ielas - Maskavas ielas - Skolas ielas un Zviedru ielas transporta mezgla un autoceļa A6 - Enerģētiķu ielas transporta mezgla pārbūve Salaspilī, Salaspils novadā
A7: Būves nosaukums:
A8: Objekta adrese: | C8: =KT!B12 -> Rīgas iela, Maskavas iela, Skolas iela un Zviedru iela, Enerģētiķu iela, Salaspils
A9: Pasūtījuma nr.:
A11: Tāme sastādīta 2024. gada tirgus cenās, pamatojoties uz būvprojekta apjomiem | M11: Tāmes izmaksas: | O11: =P38 -> 0 | P11: EUR
N12: Tāme sastādīta | O12: =KT!C28 -> 2024. gada
A14: Nr.p.k. | B14: Kods | C14: Būvdarbu nosaukums | D14: Mērvienība | E14: Daudzums | F14: Vienības izmaksas | L14: Kopā uz visu apjomu
F15: Laika norma (c/h) | G15: Darba samaksas likme (euro/h) | H15: Darba alga | I15: Būvizstrādājumi | J15: Mehānismi | K15: KOPĀ | L15: Darbietilpība (c/h) | M15: Darba alga | N15: Būvizstrādājumi | O15: Mehānismi | P15: Summa
A16: Ūdensvads (Ū1)
A17: 1 | C17: OD110 PE100RC PN10 ūdensvada caurules izbūve tranšejā H<2,0m, tranšejas sienu stiprināšana un nepieciešamības gadījumā gruntsūdens atsūknēšana. Tranšejas aizbēršana, pa kārtām noblīvējot. | D17: t.m. | E17: 2.8
A18: 2 | C18: Esošā ugunsdzēsības hidranta pārvietošana | D18: kpl. | E18: 1
A19: 3 | C19: Elektrometināma veidgabala OD110 45° PN10 uzstādīšana | D19: kpl. | E19: 1
A20: 4 | C20: Elektrometināmas dubultuzmavas OD110 PN10 uzstādīšana | D20: kpl. | E20: 1
A21: 5 | C21: Izbūvētās ūdensvada sistēmas uzmērīšas, dezinfekcija un pārbaude | D21: kpl. | E21: 1
A22: 6 | C22: Palīgmateriāli | D22: kpl. | E22: 1
A23: Lietus kanalizācija (K2)
A24: =A22+1 -> 7 | C24: OD110, PP, SN8 (T8) lietus kanalizācijas caurules izbūve tranšejā H<2,0m, tranšejas sienu stiprināšana un nepieciešamības gadījumā gruntsūdens atsūknēšana. Tranšejas aizbēršana, pa kārtām noblīvējot. | D24: t.m. | E24: 3.5
A25: =A24+1 -> 8 | C25: OD160, PP, SN8 (T8) lietus kanalizācijas caurules izbūve tranšejā H<2,0m, tranšejas sienu stiprināšana un nepieciešamības gadījumā gruntsūdens atsūknēšana. Tranšejas aizbēršana, pa kārtām noblīvējot. | D25: t.m. | E25: 15
A26: =A25+1 -> 9 | C26: Esošas caurules OD160 demontāža | D26: t.m. | E26: 10
A27: =A26+1 -> 10 | C27: Hermētiski noslēgt demontētā pieslēguma vietu skatakā | D27: vieta | E27: 1
A28: =A27+1 -> 11 | C28: Pievienojums esošai skatakai | D28: vieta | E28: 1
A29: =A28+1 -> 12 | C29: Krustojums ar esošo kanalizāciju | D29: vieta | E29: 1
A30: =A29+1 -> 13 | C30: Esošas gūlijas pārvietošana * | D30: kpl. | E30: 2
A31: =A30+1 -> 14 | C31: Pievienojums esošajam kanalizācijas vadam ar dubultuzmavu OD110, saglabājot esošo kritumu | D31: vieta | E31: 1
A32: =A31+1 -> 15 | C32: Pievienojums esošajam kanalizācijas vadam ar dubultuzmavu OD160, saglabājot esošo kritumu | D32: vieta | E32: 1
A33: =A32+1 -> 16 | C33: Izbūvētās kanalizācijas sistēmas uzmērīšas, skalošana un pārbaude | D33: kpl. | E33: 1
A34: =A33+1 -> 17 | C34: Palīgmateriāli | D34: kpl. | E34: 1
A35: Sadzīves kanalizācija (K1)
A36: =A34+1 -> 18 | C36: Esošās sadzīves kanalizācijas skatakas Rīgas un Skolas ielas krustojumā pilnīga pārbūve arī vāka nomaiņu pret peldošā tipa 40T. | D36: kpl. | E36: 1
A38: Tiešās izmaksas kopā, t.sk. Darba dēvēja sociālais nodoklis (23,59%) | L38: =SUM(L17:L37) -> 0 | M38: =SUM(M17:M37) -> 0 | N38: =SUM(N17:N37) -> 0 | O38: =SUM(O17:O37) -> 0 | P38: =SUM(P17:P37) -> 0
A40: =KT!A24 -> Sastādīja: | D40: =KT!C28 -> 2024. gada
A41: (paraksts un tā atšifrējums, datums)
A44: =KT!A28 -> Pārbaudīja: | D44: =KT!C28 -> 2024. gada
A45: (paraksts un tā atšifrējums, datums)
A46: =KT!A30 -> Sertifikāta Nr.:

Sheet 1,4
A2: Lokālā tāme Nr.1,4
A3: LS - Luksoforu daļa
A4: (būvdarbu veids vai konstruktīvā elementa nosaukums)
A6: Objekta nosaukums: | C6: =KT!B9 -> Autoceļa A6 - Rīgas ielas - Maskavas ielas - Skolas ielas un Zviedru ielas transporta mezgla un autoceļa A6 - Enerģētiķu ielas transporta mezgla pārbūve Salaspilī, Salaspils novadā
A7: Būves nosaukums:
A8: Objekta adrese: | C8: =KT!B12 -> Rīgas iela, Maskavas iela, Skolas iela un Zviedru iela, Enerģētiķu iela, Salaspils
A9: Pasūtījuma nr.:
A11: Tāme sastādīta 2024. gada tirgus cenās, pamatojoties uz būvprojekta apjomiem | M11: Tāmes izmaksas: | O11: =P138 -> 0 | P11: EUR
N12: Tāme sastādīta | O12: =KT!C28 -> 2024. gada
A14: Nr.p.k. | B14: Kods | C14: Būvdarbu nosaukums | D14: Mērvienība | E14: Daudzums | F14: Vienības izmaksas | L14: Kopā uz visu apjomu
F15: Laika norma (c/h) | G15: Darba samaksas likme (euro/h) | H15: Darba alga | I15: Būvizstrādājumi | J15: Mehānismi | K15: KOPĀ | L15: Darbietilpība (c/h) | M15: Darba alga | N15: Būvizstrādājumi | O15: Mehānismi | P15: Summa
A16: A6 - Enerģētiķu iela
A17: Darbu izmaksas
A18: 1 | C18: Tranšejas rakšana un aizbēršana caurules gūldīšanai 1m dziļumā | D18: m | E18: 26
A19: =A18+1 -> 2 | C19: Kabeļu aizsargcaurules d=līdz 110 mm ieguldīšana gatavā tranšejā | D19: m | E19: 26
A20: =A19+1 -> 3 | C20: Kabeļu ievilkšana aizsargcaurulēs, statnēs un sadalē | D20: m | E20: 163
A21: =A20+1 -> 4 | C21: Esošās luksoforu sadalnes demontāža | D21: gab | E21: 1
A22: =A21+1 -> 5 | C22: Video detektora demontāža | D22: gab | E22: 4
A23: =A22+1 -> 6 | C23: Gājēju signāla izsaukuma pogas demontāža | D23: gab | E23: 4
A24: =A23+1 -> 7 | C24: Kabeļu dzīslu un galu apdare, pievienošana kontaktspailem,kontrolierim | D24: obj | E24: 1
A25: =A24+1 -> 8 | C25: Luksoforu statnes ar pamatu montāža | D25: kpl | E25: 1
A26: =A25+1 -> 9 | C26: Luksofora speckronšteina montāža uz kopnes | D26: gab | E26: 1
A27: =A26+1 -> 10 | C27: Luksofora montāža | D27: gab | E27: 4
A28: =A27+1 -> 11 | C28: Kontrastekrāna montāža uz luksofora | D28: gab | E28: 2
A29: =A28+1 -> 12 | C29: Luksoforu sadales skapja montāža un esošā aprīkojuma pārcelšana | D29: kpl | E29: 1
A30: =A29+1 -> 13 | C30: Luksoforu un vājstrāvas iekārtu komutēšana luksoforu sadalē | D30: kpl | E30: 1
... A38: =A37+1 -> 21 | C38: Ceļu satiksmes organizācijas shēmas izstrāde un saskaņošana, pagaidu ceļa zīmju uzstādīšana un noņemšana. | D38: obj | E38: 1
A39: Materiālu izmaksas
A40: =A38+1 -> 22 | C40: Luksoforu kontroliera sadales skapis Shneider Electric Thalassa PLAZ 1250x750x320mm (vai analogs) komplektā ar pamatni, apsildi un apgaismojumu, kā arī 24V barošanas bloku vājstrāvas iekārtām | D40: kpl | E40: 1
A41: =A40+1 -> 23 | C41: Industriāla tipa mobilo datu pārraides tīkla modēms Robustel R2011 LTE (vai analogs) ar vismaz 4 LAN portiem | D41: gab | E41: 1
A42: =A41+1 -> 24 | C42: Luksoforu statne (h=5,5m) ar dzelzsbetona pamatni un blīvgumiju | D42: kpl | E42: 1
A43: =A42+1 -> 25 | C43: Speckronšteins luksofora montāžai uz kopnes | D43: gab | E43: 1
A44: =A43+1 -> 26 | C44: Transporta luksofors ar 3x210mm LED lēcām, kronšteiniem un saulessargiem | D44: kpl | E44: 2
A45: =A44+1 -> 27 | C45: Papildsekcijas luksofors ar 1x210mm LED lēcu, kronšteiniem un saulessargiem | D45: kpl | E45: 2
A46: =A45+1 -> 28 | C46: Luksofora kontrastekrāns 3x210+1x210mm luksoforam | D46: gab | E46: 2
A47: =A46+1 -> 29 | C47: Transporta video detektors (FLIR traficam AI vai analogs) ar platleņķa lēcu | D47: gab | E47: 1
A48: =A47+1 -> 30 | C48: Transporta video detektors (FLIR traficam AI vai analogs) ar šaurleņķa lēcu | D48: gab | E48: 2
A49: =A48+1 -> 31 | C49: Video detektoru saskarnes modulis (vismaz 4 kamerām) | D49: gab | E49: 1
A50: =A49+1 -> 32 | C50: Gājēju akustiskais bloks ar izsaukuma pogu un vājredzīgo norādēm Langmatz Crossguide EK533 (vai analogs) | D50: gab | E50: 4
A51: =A50+1 -> 33 | C51: 12-polu kontaktspailes montējamas uz DIN sliedes | D51: gab | E51: 4
A52: =A51+1 -> 34 | C52: Armēta aizsargplēve | D52: kvm | E52: 1
... A57: =A56+1 -> 39 | C57: Kabeļu aizsargcaurule d=110mm, 1250N | D57: m | E57: 6
A58: A6 - Rīgas iela
A59: Darbu izmaksas
A60: =A57+1 -> 40 | C60: Tranšejas rakšana un aizbēršana caurules gūldīšanai 1m dziļumā | D60: m | E60: 25
A61: =A60+1 -> 41 | C61: Kabeļu aizsargcaurules d=līdz 110 mm ieguldīšana gatavā tranšejā | D61: m | E61: 25
A62: =A61+1 -> 42 | C62: Kabeļu aizsargcaurules d=līdz 110 mm ieguldīšana ar caurdures metodi | D62: m | E62: 16
A63: =A62+1 -> 43 | C63: Kabeļu ievilkšana aizsargcaurulēs, statnēs un sadalē | D63: m | E63: 57
A64: =A63+1 -> 44 | C64: Esošās luksoforu sadalnes demontāža | D64: gab | E64: 1
A65: =A64+1 -> 45 | C65: Esošās luksoforu statnes pārcelšana uz jauno vietu | D65: gab | E65: 1
A66: =A65+1 -> 46 | C66: Video detektora demontāža | D66: gab | E66: 6
A67: =A66+1 -> 47 | C67: Gājēju signāla izsaukuma pogas demontāža | D67: gab | E67: 4
A68: =A67+1 -> 48 | C68: Luksofora demontāža | D68: gab | E68: 8
A69: =A68+1 -> 49 | C69: Luksoforu statnes ar pamatu montāža | D69: gab | E69: 1
A70: =A69+1 -> 50 | C70: Luksofora speckronšteina montāža uz kopnes | D70: gab | E70: 2
A71: =A70+1 -> 51 | C71: Luksofora montāža | D71: gab | E71: 12
A72: =A71+1 -> 52 | C72: Luksofora kontrastekrāna montāža | D72: gab | E72: 6
... A83: =A82+1 -> 63 | C83: Ceļu satiksmes organizācijas shēmas izstrāde un saskaņošana, pagaidu ceļa zīmju uzstādīšana un noņemšana. | D83: obj | E83: 1
A84: Materiālu izmaksas
A85: =A83+1 -> 64 | C85: Luksoforu kontroliera sadales skapis Shneider Electric Thalassa PLAZ 1250x750x320mm (vai analogs) komplektā ar pamatni, apsildi un apgaismojumu, kā arī 24V barošanas bloku vājstrāvas iekārtām | D85: kpl | E85: 1
A86: =A85+1 -> 65 | C86: Industriāla tipa mobilo datu pārraides tīkla modēms Robustel R2011 LTE (vai analogs) ar vismaz 4 LAN portiem | D86: gab | E86: 1
A87: =A86+1 -> 66 | C87: Luksoforu statne (h=5,5m) ar dzelzsbetona pamatni un blīvgumiju | D87: kpl | E87: 1
A88: =A87+1 -> 67 | C88: Speckronšteins luksofora montāžai uz kopnes | D88: gab | E88: 2
A89: =A88+1 -> 68 | C89: Transporta luksofors ar 3x300mm LED lēcām, kronšteiniem un saulessargiem | D89: kpl | E89: 6
A90: =A89+1 -> 69 | C90: Papildsekcijas luksofors ar 1x300mm LED lēcu, kronšteiniem un saulessargiem | D90: kpl | E90: 6
A91: =A90+1 -> 70 | C91: Luksofora kontrastekrāns 3x300+1x300mm luksoforam | D91: gab | E91: 6
A92: =A91+1 -> 71 | C92: Transporta video detektors (FLIR traficam AI vai analogs) ar platleņķa lēcu | D92: gab | E92: 2
A93: =A92+1 -> 72 | C93: Transporta video detektors (FLIR traficam AI vai analogs) ar šaurleņķa lēcu | D93: gab | E93: 2
A94: =A93+1 -> 73 | C94: Video detektoru saskarnes modulis (vismaz 4 kamerām) | D94: gab | E94: 1
A95: =A94+1 -> 74 | C95: Gājēju akustiskais bloks ar izsaukuma pogu un vājredzīgo norādēm Langmatz Crossguide EK533 (vai analogs) | D95: gab | E95: 4
A96: =A95+1 -> 75 | C96: Signālkabelis CYKY 5x1,5mm2 | D96: m | E96: 6
A97: =A96+1 -> 76 | C97: Signālkabelis NYY 14x1,5mm2 | D97: m | E97: 51
... A99: =A98+1 -> 78 | C99: Kabeļu caurdures aizsargcaurule d=110mm, 1250N | D99: m | E99: 16
A100: A6 - Skolas iela
A101: Darbu izmaksas
A102: =A99+1 -> 79 | C102: Tranšejas rakšana un aizbēršana caurules gūldīšanai 1m dziļumā | D102: m | E102: 76
A103: =A102+1 -> 80 | C103: Kabeļu aizsargcaurules d=līdz 110 mm ieguldīšana gatavā tranšejā | D103: m | E103: 76
A104: =A103+1 -> 81 | C104: Kabeļu ievilkšana aizsargcaurulēs, statnēs un sadalē | D104: m | E104: 242
A105: =A104+1 -> 82 | C105: Kabeļu dzīslu un galu apdare, pievienošana kontaktspailem,kontrolierim | D105: obj | E105: 1
A106: =A105+1 -> 83 | C106: Luksoforu statnes ar pamatu montāža | D106: kpl | E106: 7
A107: =A106+1 -> 84 | C107: Luksofora montāža | D107: gab | E107: 14
A108: =A107+1 -> 85 | C108: Luksoforu sadales skapja montāža | D108: kpl | E108: 1
A109: =A108+1 -> 86 | C109: Luksoforu un vājstrāvas iekārtu komutēšana luksoforu sadalē | D109: kpl | E109: 1
A110: =A109+1 -> 87 | C110: Luksoforu kontroliera programmēšana | D110: gab | E110: 1
A111: =A110+1 -> 88 | C111: Luksoforu kontroliera programmas pielāgošana pēc nepieciešamības | D111: gab | E111: 1
A112: =A111+1 -> 89 | C112: Video detektora montāža, komutēšana un pozicionēšana | D112: gab | E112: 2
A113: =A112+1 -> 90 | C113: Video detektora parametrizēšana | D113: gab | E113: 2
A114: =A113+1 -> 91 | C114: Video detektoru saskarnes moduļa uzstādīšana un komutēšana | D114: gab | E114: 1
... A117: =A116+1 -> 94 | C117: Ceļu satiksmes organizācijas shēmas izstrāde un saskaņošana, pagaidu ceļa zīmju uzstādīšana un noņemšana. | D117: obj | E117: 1
A118: Materiālu izmaksas
A119: =A117+1 -> 95 | C119: Luksoforu kontroliera sadales skapis Shneider Electric Thalassa PLAZ 1250x750x320mm (vai analogs) komplektā ar pamatni, apsildi un apgaismojumu, kā arī 24V barošanas bloku vājstrāvas iekārtām | D119: kpl | E119: 1
A120: =A119+1 -> 96 | C120: Luksoforu kontrolieris Swarco ITC-3 ar 24 vājstrāvas ievadu bloku (vai analogs) | D120: kpl | E120: 1
A121: =A120+1 -> 97 | C121: Industriāla tipa mobilo datu pārraides tīkla modēms Robustel R2011 LTE (vai analogs) ar vismaz 4 LAN portiem | D121: gab | E121: 1
A122: =A121+1 -> 98 | C122: Luksoforu statne (h=5,5m) ar dzelzsbetona pamatni un blīvgumiju | D122: kpl | E122: 7
A123: =A122+1 -> 99 | C123: Transporta luksofors ar 3x210mm LED lēcām, kronšteiniem un saulessargiem | D123: kpl | E123: 8
A124: =A123+1 -> 100 | C124: Gājēju luksofors ar 2x210mm LED lēcām, kronšteiniem un saulessargiem | D124: kpl | E124: 6
A125: =A124+1 -> 101 | C125: Transporta video detektors (FLIR traficam AI vai analogs) ar platleņķa lēcu | D125: gab | E125: 2
A126: =A125+1 -> 102 | C126: Video detektoru saskarnes modulis (vismaz 4 kamerām) | D126: gab | E126: 1
A127: =A126+1 -> 103 | C127: Gājēju akustiskais bloks ar izsaukuma pogu un vājredzīgo norādēm Langmatz Crossguide EK533 (vai analogs) | D127: gab | E127: 2
A128: =A127+1 -> 104 | C128: 12-polu kontaktspailes montējamas uz DIN sliedes | D128: gab | E128: 14
...
