Workbook
Name likme: KT!$E$23

Sheet KT
C2: APSTIPRINU_________________________________
C3: (pasūtītāja paraksts un tā atšifrējums)
C4: Z.V.
C5: 2024.gada ___.______________
A7: Būvniecības koptāme
A9: Objekta nosaukums: | B9: Autoceļa A6 - Rīgas ielas - Maskavas ielas - Skolas ielas un Zviedru ielas transporta mezgla un autoceļa A6 - Enerģētiķu ielas transporta mezgla pārbūve Salaspilī, Salaspils novadā
A11: Būves nosaukums:
A12: Objekta adrese: | B12: Rīgas iela, Maskavas iela, Skolas iela un Zviedru iela, Enerģētiķu iela, Salaspils
A13: Pasūtījuma nr.:
A15: Nr.p.k. | B15: Objekta nosaukums | C15: Objekta izmaksas (euro)
A16: 1 | B16: =B9 -> Autoceļa A6 - Rīgas ielas - Maskavas ielas - Skolas ielas un Zviedru ielas transporta mezgla un autoceļa A6 - Enerģētiķu ielas transporta mezgla pārbūve Salaspilī, Salaspils novadā | C16: =KA!E23 -> 0
B19: Kopā | C19: =SUM(C16:C18) -> 0
A21: PVN (21%) | C21: =ROUND(C19*21%,2) -> 0
A24: Sastādīja: | C24: =C28 -> 2024. gada
A25: (paraksts un tā atšifrējums, datums)
A28: Pārbaudīja: | C28: 2024. gada
A29: (paraksts un tā atšifrējums, datums)
A30: Sertifikāta Nr.:

Sheet KA
A2: Kopsavilkuma aprēķins nr.1
A3: =C6 -> Autoceļa A6 - Rīgas ielas - Maskavas ielas - Skolas ielas un Zviedru ielas transporta mezgla un autoceļa A6 - Enerģētiķu ielas transporta mezgla pārbūve Salaspilī, Salaspils novadā
A4: (būvdarbu veids vai konstruktīvā elementa nosaukums)
A6: Objekta nosaukums: | C6: =KT!B9 -> Autoceļa A6 - Rīgas ielas - Maskavas ielas - Skolas ielas un Zviedru ielas transporta mezgla un autoceļa A6 - Enerģētiķu ielas transporta mezgla pārbūve Salaspilī, Salaspils novadā
A7: Būves nosaukums:
A8: Objekta adrese: | C8: =KT!B12 -> Rīgas iela, Maskavas iela, Skolas iela un Zviedru iela, Enerģētiķu iela, Salaspils
A9: Pasūtījuma nr.:
C10: Par kopējo summu (euro) | E10: =E23 -> 0
C11: Kopējā darbietilpība (c/h) | E11: =SUM(I14:I18) -> 0
A12: Nr.p.k. | B12: kods, tāmes nr. | C12: Būvdarbu veids vai konstruktīvā elementa nosaukums | E12: Tāmes izmaksas | F12: Tai skaitā | I12: Darbietilpība (c/h)
F13: Darba alga | G13: Būvizstrādājumi | H13: Mehānismi
C14: 1. Vispārējie būvdarbi
A15: 1 | B15: 1.1 | C15: TS-CD - Ceļa darbi | E15: =SUM(F15:H15) -> 0 | F15: ='1,1'!M128 -> 0 | G15: ='1,1'!N128 -> 0 | H15: ='1,1'!O128 -> 0 | I15: ='1,1'!L128 -> 0
A16: =A15+1 -> 2 | B16: 1.2 | C16: ELT-A - Apgaismojums, abonenta tīkli | E16: =SUM(F16:H16) -> 0 | F16: ='1,2'!M212 -> 0 | G16: ='1,2'!N212 -> 0 | H16: ='1,2'!O212 -> 0 | I16: ='1,2'!L212 -> 0
A17: =A16+1 -> 3 | B17: 1.3 | C17: UKT - Ūdensapgāde un kanalizācija (ārējā) | E17: =SUM(F17:H17) -> 0 | F17: ='1,3'!M38 -> 0 | G17: ='1,3'!N38 -> 0 | H17: ='1,3'!O38 -> 0 | I17: ='1,3'!L38 -> 0
A18: =A17+1 -> 4 | B18: 1.4 | C18: ESS-VN - Luksoforu signalizācija | E18: =SUM(F18:H18) -> 0 | F18: ='1,4'!M138 -> 0 | G18: ='1,4'!N138 -> 0 | H18: ='1,4'!O138 -> 0 | I18: ='1,4'!L138 -> 0
A19: Kopā | E19: =SUM(E14:E18) -> 0
A20: Virsizdevumi | D20: %
A21: t.sk. Darba aizsardzība | D21: %
A22: Peļņa | D22: %
A23: Pavisam kopā | E23: =SUM(E19:E22) -> 0
A25: =KT!A24 -> Sastādīja: | E25: =KT!C28 -> 2024. gada
A26: (paraksts un tā atšifrējums, datums)
A29: =KT!A28 -> Pārbaudīja: | E29: =KT!C28 -> 2024. gada
A30: (paraksts un tā atšifrējums, datums)
A31: =KT!A30 -> Sertifikāta Nr.:

Sheet 1,1
A2: Lokālā tāme Nr.1,1
A3: TS-CD - Ceļa darbi
A4: (būvdarbu veids vai konstruktīvā elementa nosaukums)
A6: Objekta nosaukums: | C6: =KT!B9 -> Autoceļa A6 - Rīgas ielas - Maskavas ielas - Skolas ielas un Zviedru ielas transporta mezgla un autoceļa A6 - Enerģētiķu ielas transporta mezgla pārbūve Salaspilī, Salaspils novadā
A7: Būves nosaukums:
A8: Objekta adrese: | C8: =KT!B12 -> Rīgas iela, Maskavas iela, Skolas iela un Zviedru iela, Enerģētiķu iela, Salaspils
A9: Pasūtījuma nr.:
A11: Tāme sastādīta 2024. gada tirgus cenās, pamatojoties uz būvprojekta apjomiem | M11: Tāmes izmaksas: | O11: =P128 -> 0 | P11: EUR
N12: Tāme sastādīta | O12: =KT!C28 -> 2024. gada
A14: Nr.p.k. | B14: Kods | C14: Būvdarbu nosaukums | D14: Mērvienība | E14: Daudzums | F14: Vienības izmaksas | L14: Kopā uz visu apjomu
F15: Laika norma (c/h) | G15: Darba samaksas likme (euro/h) | H15: Darba alga | I15: Būvizstrādājumi | J15: Mehānismi | K15: KOPĀ | L15: Darbietilpība (c/h) | M15: Darba alga | N15: Būvizstrādājumi | O15: Mehānismi | P15: Summa
A16: Ceļa izbūves darbi
A17: Dažādi darbi
A18: 1 | C18: Ietves bruģa seguma uz šķembu pamata (H = 15 cm) demontāža un aizvešana uz atbērtni | D18: m2 | E18: 477
A19: =A18+1 -> 2 | C19: Asfalta seguma uz šķembu pamata (H = 30 cm) demontāža un aizvešana uz atbērtni | D19: m2 | E19: 809
A20: =A19+1 -> 3 | C20: Betona seguma uz šķembu pamata (H=30 cm) demontāža un aizvešana uz atbērtni | D20: m2 | E20: 31
A21: =A20+1 -> 4 | C21: Betona pamatu demontāža un aizvešana uz atbērtni | D21: m2 | E21: 53
A22: =A21+1 -> 5 | C22: Brauktuves betona apmaļu demontāža un aizvešana uz atbērtni | D22: m | E22: 348
A23: =A22+1 -> 6 | C23: Ietves betona apmaļu demontāža un aizvešana uz atbērtni | D23: m | E23: 364
A24: =A23+1 -> 7 | C24: Asfaltbetona frēzēšana | D24: m2 | E24: 737
A25: =A24+1 -> 8 | C25: Aku vāku nomaiņa pret peldošā tipa 40t vākiem t.sk. materiāli sekmīgai darba veikšanai. To līmeņošana atbilstoši proj.atzīmei. | D25: gab. | E25: 2
A26: =A25+1 -> 9 | C26: Šahtas lūkas pārbūve ar tipveida lūku un vāku | D26: gab. | E26: 1
A27: =A26+1 -> 10 | C27: Gūliju demontāža (sk. Arī UKTdaļu) | D27: gab. | E27: 3
A28: =A27+1 -> 11 | C28: Gūliju pieslēgumu pagarināšana un gūliju izbūve (sk.arī UKT daļu) | D28: gab. | E28: 3
A29: =A28+1 -> 12 | C29: Esoša žoga un vārtu pārvietošana. Ja pārvietošana nav iespējama, paredzēt pītā paneļa tipa žoga izbūvi | D29: m | E29: 35
A30: =A29+1 -> 13 | C30: Gājēju aizsargbarjeras demontāža | D30: m | E30: 84
... A36: =A35+1 -> 19 | C36: Policijas videokameras demontāža/montāža/pārvietošana | D36: kompl | E36: 1
A37: Zemes klātne
A38: =A36+1 -> 20 | C38: Zemes klātnes ierakuma būvniecība un aizvešana uz pasūtītāja atbērtni 6km attālumā, nodrošinot grunts izlīdzināšanu atbērtnē un piebraucamo ceļu slaucīšanu pēc nepieciešamības vai uz būvuzņēmēja atbērtni, ja ir tāda iespējamība | D38: m3 | E38: 725
A39: =A38+1 -> 21 | C39: Augsnes virskārtas noņemšana (H=15cm). Būvniecības stadijā Izvērtēt iespēju izmantot atkārtoti (piemēram demontējamā asfalta laukuma vietā A6-Zviedru ielas krustojumā). Atlikušās grunts aizvešana uz pasūtītāja atbērtni 6km attālumā, nodrošinot grunts izlīdzināšanu atbērtnē un piebraucamo ceļu slaucīšanu pēc nepieciešamības vai uz būvuzņēmēja atbērtni, ja ir tāda iespējamība | D39: m2 | E39: 1303
A40: Ar saistvielām nesaistītās konstruktīvās kārtas
A41: =A39+1 -> 22 | C41: Salizturīgās kārtas ( Nestspēja 90 Mpa) būvniecība zem brauktuvēm | D41: m3 | E41: 493
A42: =A41+1 -> 23 | C42: Salizturīgās kārtas ( Nestspēja 60 Mpa) būvniecība zem ietvēm (h=30cm) | D42: m3 | E42: 201
A43: =A42+1 -> 24 | C43: Minerālmateriālu maisījums, 2/5 (h=3cm) (stāvvietas, ietves šķērsojums) | D43: m3 | E43: 8.7
A44: =A43+1 -> 25 | C44: Minerālmateriālu maisījums, 2/5 (h=4cm) (ietves) | D44: m3 | E44: 25
A45: =A44+1 -> 26 | C45: Minerālmateriālu maisījums 0/45, N-II klase (h=15cm) (brauktuvēs) | D45: m3 | E45: 77
A46: =A45+1 -> 27 | C46: Minerālmateriālu maisījums 0/45, N-III klase (h=10-15cm) | D46: m3 | E46: 236
A47: =A46+1 -> 28 | C47: Minerālmateriālu maisījums 0/56, N-IV klase (h=20cm) (brauktuvēs) | D47: m3 | E47: 102
A48: =A47+1 -> 29 | C48: Vidēji rupjgraudaina smilts | D48: m3 | E48: 11
A49: =A48+1 -> 30 | C49: Apaļais bruģakmens | D49: m2 | E49: 71
...

Sheet 1,2
A2: Lokālā tāme Nr.1,2
A3: ELT-A - Apgaismojums, abonenta tīkli
A4: (būvdarbu veids vai konstruktīvā elementa nosaukums)
A6: Objekta nosaukums: | C6: =KT!B9 -> Autoceļa A6 - Rīgas ielas - Maskavas ielas - Skolas ielas un Zviedru ielas transporta mezgla un autoceļa A6 - Enerģētiķu ielas transporta mezgla pārbūve Salaspilī, Salaspils novadā
A7: Būves nosaukums:
A8: Objekta adrese: | C8: =KT!B12 -> Rīgas iela, Maskavas iela, Skolas iela un Zviedru iela, Enerģētiķu iela, Salaspils
A9: Pasūtījuma nr.:
A11: Tāme sastādīta 2024. gada tirgus cenās, pamatojoties uz būvprojekta apjomiem | M11: Tāmes izmaksas: | O11: =P212 -> 0 | P11: EUR
N12: Tāme sastādīta | O12: =KT!C28 -> 2024. gada
A14: Nr.p.k. | B14: Kods | C14: Būvdarbu nosaukums | D14: Mērvienība | E14: Daudzums | F14: Vienības izmaksas | L14: Kopā uz visu apjomu
F15: Laika norma (c/h) | G15: Darba samaksas likme (euro/h) | H15: Darba alga | I15: Būvizstrādājumi | J15: Mehānismi | K15: KOPĀ | L15: Darbietilpība (c/h) | M15: Darba alga | N15: Būvizstrādājumi | O15: Mehānismi | P15: Summa
A16: Apgaismojuma balsts G-1 un proj. kabeļlīnija
A17: Demontāžas darbi
A18: 1 | C18: Apgaismes stabu un pamatņu demontāža (atbilstoši projektam) un utilizācija | D18: kompl. | E18: 1
A19: Darbu izmaksas
A20: =A18+1 -> 2 | C20: Gaismekļa montāža | D20: kompl. | E20: 1
A21: =A20+1 -> 3 | C21: LED mirgojošā brīdinājuma gaismekļa montāža | D21: gab. | E21: 2
A22: =A21+1 -> 4 | C22: Gaismekļa vadības iekārtas C-Node 10 montāža | D22: kompl. | E22: 1
A23: =A22+1 -> 5 | C23: Gājēju pārejas balsta montāža | D23: kompl. | E23: 1
A24: =A23+1 -> 6 | C24: Bedres rakšana un aizbēršana apgaismojuma balstam | D24: gab. | E24: 1
A25: =A24+1 -> 7 | C25: Šķembas ieklāšana (zem apg. balsta pamata) | D25: m2 | E25: 1
A26: =A25+1 -> 8 | C26: Kabelis pa celtniecības konstrukcijām (stabā) | D26: m | E26: 9
A27: =A26+1 -> 9 | C27: Automātslēdžu montāža | D27: kompl. | E27: 1
A28: =A27+1 -> 10 | C28: Šurfēšana - apakšzemes komunikāciju apsekošana | D28: gab. | E28: 1
A29: =A28+1 -> 11 | C29: Tranšejas rakšana un aizbēršana kabeļu (caurules) gūldīšanai | D29: m | E29: 11
A30: =A29+1 -> 12 | C30: Signāllentes ieklāšana | D30: m | E30: 11
A31: =A30+1 -> 13 | C31: ZS kabeļa ievēršana proj. caurulē | D31: m | E31: 11
A32: =A31+1 -> 14 | C32: Kabeļu aizsargcaurules ieguldīšana gatavā tranšejā | D32: m | E32: 11
... A34: =A33+1 -> 16 | C34: Trases nospraušana | D34: m | E34: 11
A35: Materiālu izmaksas
A36: =A34+1 -> 17 | C36: LED Gaismeklis CREE TRMA-02-PCR-9L57733W, Dali, Zhaga | D36: kompl. | E36: 1
A37: =A36+1 -> 18 | C37: Gaismekļa vadības iekārta C-Node 10 Zhaga RF | D37: kompl. | E37: 1
A38: =A37+1 -> 19 | C38: Gājēju pārejas balsts ZEBRA: - balsts 6m, konsole 1,5m - betona pamats - gājēju pārejas norādas - gājēju pārejas plātnes - stiprinājumi un citi neuzskaitītie materiāli | D38: kompl. | E38: 1
A39: =A38+1 -> 20 | C39: Termocaurule ar līmi SRH2 95-26mm | D39: gab. | E39: 1
A40: =A39+1 -> 21 | C40: LED mirgojošs brīdinājuma gaismeklis Galileo d200 8W (La Semaforica) | D40: kompl. | E40: 2
A41: =A40+1 -> 22 | C41: Šķembas (zem apg. balsta pamata) | D41: m3 | E41: 0.1
A42: =A41+1 -> 23 | C42: Nozarošanas spaiļu komplekts, kabeļu komutācijai balstā | D42: gab. | E42: 1
A43: =A42+1 -> 24 | C43: Automātslēdzis, 1F 6A C | D43: gab. | E43: 1
A44: =A43+1 -> 25 | C44: Automātslēdžu kārba balstā "Lacroix" | D44: kompl. | E44: 1
A45: =A44+1 -> 26 | C45: Kabeļa gala apdare četrdzīslu kabelim | D45: gab. | E45: 2
...

Sheet 1,3
A2: Lokālā tāme Nr.1,3
A3: UKT - Ūdensapgāde un kanalizācija (ārējā)
A4: (būvdarbu veids vai konstruktīvā elementa nosaukums)
A6: Objekta nosaukums: | C6: =KT!B9 -> Autoceļa A6 - Rīgas ielas - Maskavas ielas - Skolas ielas un Zviedru ielas transporta mezgla un autoceļa A6 - Enerģētiķu ielas transporta mezgla pārbūve Salaspilī, Salaspils novadā
A7: Būves nosaukums:
A8: Objekta adrese: | C8: =KT!B12 -> Rīgas iela, Maskavas iela, Skolas iela un Zviedru iela, Enerģētiķu iela, Salaspils
A9: Pasūtījuma nr.:
A11: Tāme sastādīta 2024. gada tirgus cenās, pamatojoties uz būvprojekta apjomiem | M11: Tāmes izmaksas: | O11: =P38 -> 0 | P11: EUR
N12: Tāme sastādīta | O12: =KT!C28 -> 2024. gada
A14: Nr.p.k. | B14: Kods | C14: Būvdarbu nosaukums | D14: Mērvienība | E14: Daudzums | F14: Vienības izmaksas | L14: Kopā uz visu apjomu
F15: Laika norma (c/h) | G15: Darba samaksas likme (euro/h) | H15: Darba alga | I15: Būvizstrādājumi | J15: Mehānismi | K15: KOPĀ | L15: Darbietilpība (c/h) | M15: Darba alga | N15: Būvizstrādājumi | O15: Mehānismi | P15: Summa
A16: Ūdensvads (Ū1)
A17: 1 | C17: OD110 PE100RC PN10 ūdensvada caurules izbūve tranšejā H<2,0m, tranšejas sienu stiprināšana un nepieciešamības gadījumā gruntsūdens atsūknēšana. Tranšejas aizbēršana, pa kārtām noblīvējot. | D17: t.m. | E17: 2.8
A18: 2 | C18: Esošā ugunsdzēsības hidranta pārvietošana | D18: kpl. | E18: 1
A19: 3 | C19: Elektrometināma veidgabala OD110 45° PN10 uzstādīšana | D19: kpl. | E19: 1
A20: 4 | C20: Elektrometināmas dubultuzmavas OD110 PN10 uzstādīšana | D20: kpl. | E20: 1
A21: 5 | C21: Izbūvētās ūdensvada sistēmas uzmērīšas, dezinfekcija un pārbaude | D21: kpl. | E21: 1
A22: 6 | C22: Palīgmateriāli | D22: kpl. | E22: 1
A23: Lietus kanalizācija (K2)
A24: =A22+1 -> 7 | C24: OD110, PP, SN8 (T8) lietus kanalizācijas caurules izbūve tranšejā H<2,0m, tranšejas sienu stiprināšana un nepieciešamības gadījumā gruntsūdens atsūknēšana. Tranšejas aizbēršana, pa kārtām noblīvējot. | D24: t.m. | E24: 3.5
A25: =A24+1 -> 8 | C25: OD160, PP, SN8 (T8) lietus kanalizācijas caurules izbūve tranšejā H<2,0m, tranšejas sienu stiprināšana un nepieciešamības gadījumā gruntsūdens atsūknēšana. Tranšejas aizbēršana, pa kārtām noblīvējot. | D25: t.m. | E25: 15
A26: =A25+1 -> 9 | C26: Esošas caurules OD160 demontāža | D26: t.m. | E26: 10
A27: =A26+1 -> 10 | C27: Hermētiski noslēgt demontētā pieslēguma vietu skatakā | D27: vieta | E27: 1
A28: =A27+1 -> 11 | C28: Pievienojums esošai skatakai | D28: vieta | E28: 1
A29: =A28+1 -> 12 | C29: Krustojums ar esošo kanalizāciju | D29: vieta | E29: 1
A30: =A29+1 -> 13 | C30: Esošas gūlijas pārvietošana * | D30: kpl. | E30: 2
A31: =A30+1 -> 14 | C31: Pievienojums esošajam kanalizācijas vadam ar dubultuzmavu OD110, saglabājot esošo kritumu | D31: vieta | E31: 1
A32: =A31+1 -> 15 | C32: Pievienojums esošajam kanalizācijas vadam ar dubultuzmavu OD160, saglabājot esošo kritumu | D32: vieta | E32: 1
A33: =A32+1 -> 16 | C33: Izbūvētās kanalizācijas sistēmas uzmērīšas, skalošana un pārbaude | D33: kpl. | E33: 1
A34: =A33+1 -> 17 | C34: Palīgmateriāli | D34: kpl. | E34: 1
A35: Sadzīves kanalizācija (K1)
A36: =A34+1 -> 18 | C36: Esošās sadzīves kanalizācijas skatakas Rīgas un Skolas ielas krustojumā pilnīga pārbūve arī vāka nomaiņu pret peldošā tipa 40T. | D36: kpl. | E36: 1
A38: Tiešās izmaksas kopā, t.sk. Darba dēvēja sociālais nodoklis (23,59%) | L38: =SUM(L17:L37) -> 0 | M38: =SUM(M17:M37) -> 0 | N38: =SUM(N17:N37) -> 0 | O38: =SUM(O17:O37) -> 0 | P38: =SUM(P17:P37) -> 0
A40: =KT!A24 -> Sastādīja: | D40: =KT!C28 -> 2024. gada
A41: (paraksts un tā atšifrējums, datums)
A44: =KT!A28 -> Pārbaudīja: | D44: =KT!C28 -> 2024. gada
A45: (paraksts un tā atšifrējums, datums)
A46: =KT!A30 -> Sertifikāta Nr.:

Sheet 1,4
A2: Lokālā tāme Nr.1,4
A3: LS - Luksoforu daļa
A4: (būvdarbu veids vai konstruktīvā elementa nosaukums)
A6: Objekta nosaukums: | C6: =KT!B9 -> Autoceļa A6 - Rīgas ielas - Maskavas ielas - Skolas ielas un Zviedru ielas transporta mezgla un autoceļa A6 - Enerģētiķu ielas transporta mezgla pārbūve Salaspilī, Salaspils novadā
A7: Būves nosaukums:
A8: Objekta adrese: | C8: =KT!B12 -> Rīgas iela, Maskavas iela, Skolas iela un Zviedru iela, Enerģētiķu iela, Salaspils
A9: Pasūtījuma nr.:
A11: Tāme sastādīta 2024. gada tirgus cenās, pamatojoties uz būvprojekta apjomiem | M11: Tāmes izmaksas: | O11: =P138 -> 0 | P11: EUR
N12: Tāme sastādīta | O12: =KT!C28 -> 2024. gada
A14: Nr.p.k. | B14: Kods | C14: Būvdarbu nosaukums | D14: Mērvienība | E14: Daudzums | F14: Vienības izmaksas | L14: Kopā uz visu apjomu
F15: Laika norma (c/h) | G15: Darba samaksas likme (euro/h) | H15: Darba alga | I15: Būvizstrādājumi | J15: Mehānismi | K15: KOPĀ | L15: Darbietilpība (c/h) | M15: Darba alga | N15: Būvizstrādājumi | O15: Mehānismi | P15: Summa
A16: A6 - Enerģētiķu iela
A17: Darbu izmaksas
A18: 1 | C18: Tranšejas rakšana un aizbēršana caurules gūldīšanai 1m dziļumā | D18: m | E18: 26
A19: =A18+1 -> 2 | C19: Kabeļu aizsargcaurules d=līdz 110 mm ieguldīšana gatavā tranšejā | D19: m | E19: 26
A20: =A19+1 -> 3 | C20: Kabeļu ievilkšana aizsargcaurulēs, statnēs un sadalē | D20: m | E20: 163
A21: =A20+1 -> 4 | C21: Esošās luksoforu sadalnes demontāža | D21: gab | E21: 1
A22: =A21+1 -> 5 | C22: Video detektora demontāža | D22: gab | E22: 4
A23: =A22+1 -> 6 | C23: Gājēju signāla izsaukuma pogas demontāža | D23: gab | E23: 4
A24: =A23+1 -> 7 | C24: Kabeļu dzīslu un galu apdare, pievienošana kontaktspailem,kontrolierim | D24: obj | E24: 1
A25: =A24+1 -> 8 | C25: Luksoforu statnes ar pamatu montāža | D25: kpl | E25: 1
A26: =A25+1 -> 9 | C26: Luksofora speckronšteina montāža uz kopnes | D26: gab | E26: 1
A27: =A26+1 -> 10 | C27: Luksofora montāža | D27: gab | E27: 4
A28: =A27+1 -> 11 | C28: Kontrastekrāna montāža uz luksofora | D28: gab | E28: 2
A29: =A28+1 -> 12 | C29: Luksoforu sadales skapja montāža un esošā aprīkojuma pārcelšana | D29: kpl | E29: 1
A30: =A29+1 -> 13 | C30: Luksoforu un vājstrāvas iekārtu komutēšana luksoforu sadalē | D30: kpl | E30: 1
... A38: =A37+1 -> 21 | C38: Ceļu satiksmes organizācijas shēmas izstrāde un saskaņošana, pagaidu ceļa zīmju uzstādīšana un noņemšana. | D38: obj | E38: 1
A39: Materiālu izmaksas
A40: =A38+1 -> 22 | C40: Luksoforu kontroliera sadales skapis Shneider Electric Thalassa PLAZ 1250x750x320mm (vai analogs) komplektā ar pamatni, apsildi un apgaismojumu, kā arī 24V barošanas bloku vājstrāvas iekārtām | D40: kpl | E40: 1
A41: =A40+1 -> 23 | C41: Industriāla tipa mobilo datu pārraides tīkla modēms Robustel R2011 LTE (vai analogs) ar vismaz 4 LAN portiem | D41: gab | E41: 1
A42: =A41+1 -> 24 | C42: Luksoforu statne (h=5,5m) ar dzelzsbetona pamatni un blīvgumiju | D42: kpl | E42: 1
A43: =A42+1 -> 25 | C43: Speckronšteins luksofora montāžai uz kopnes | D43: gab | E43: 1
A44: =A43+1 -> 26 | C44: Transporta luksofors ar 3x210mm LED lēcām, kronšteiniem un saulessargiem | D44: kpl | E44: 2
A45: =A44+1 -> 27 | C45: Papildsekcijas luksofors ar 1x210mm LED lēcu, kronšteiniem un saulessargiem | D45: kpl | E45: 2
A46: =A45+1 -> 28 | C46: Luksofora kontrastekrāns 3x210+1x210mm luksoforam | D46: gab | E46: 2
A47: =A46+1 -> 29 | C47: Transporta video detektors (FLIR traficam AI vai analogs) ar platleņķa lēcu | D47: gab | E47: 1
A48: =A47+1 -> 30 | C48: Transporta video detektors (FLIR traficam AI vai analogs) ar šaurleņķa lēcu | D48: gab | E48: 2
A49: =A48+1 -> 31 | C49: Video detektoru saskarnes modulis (vismaz 4 kamerām) | D49: gab | E49: 1
A50: =A49+1 -> 32 | C50: Gājēju akustiskais bloks ar izsaukuma pogu un vājredzīgo norādēm Langmatz Crossguide EK533 (vai analogs) | D50: gab | E50: 4
A51: =A50+1 -> 33 | C51: 12-polu kontaktspailes montējamas uz DIN sliedes | D51: gab | E51: 4
...
