Workbook
Name A: '[1]2'!$A$1
Name P: #REF!
Name P: #REF!
Name P: #REF!
Name P: #REF!
Name P: #REF!
Name P: #REF!
Name P: #REF!
Name P: #REF!
Name P: #REF!
Name P: #REF!
Name P: #REF!
Name P: #REF!
Name P: #REF!
Name P: #REF!
Name P: #REF!
Name P: #REF!
Name P: #REF!
Name P: #REF!
Name P: #REF!
Name P: #REF!
Name P: #REF!
Name P: #REF!
Name P: #REF!
Name P: #REF!
Name P: #REF!
Name P: #REF!
Name P: #REF!
Name P: #REF!
Name P: #REF!
Name P: #REF!
Name P: #REF!
Name P: #REF!
Name P: #REF!
Name P: #REF!
Name P: #REF!
Name P: #REF!
Name P: #REF!
Name P: #REF!

Sheet Koptame
D2: APSTIPRINU
D3: ________________________________________
D4: (pasūtītāja paraksts un tā atšifrējums)
D6: Z.v.
D7: ______.gada ____.____________
B9: Būvniecības koptāme
B11: Būves nosaukums: | C11: Pirmsskolas izglītības iestāde
B12: Objekta nosaukums: | C12: Pirmsskolas izglītības iestādes jaunbūve
B13: Objekta adrese: | C13: Baložu iela 33, Baloži, Ķekavas novads
B14: Iepirkuma Id Nr. | C14: ĶNP 2023/85
D16: Tāme sastādīta:
B17: Tāme sastādīta 2024.gada tirgus cenās
B18: Kopsav.tāmes Nr | C18: Objekta nosaukums | D18: Objekta izmaksas (euro)
B21: 1 | C21: Vispārējie būvdarbi
B22: 2 | C22: Specializētie darbi-iekšējie tīkli, sistēmas
B23: 3 | C23: Specializētie darbi-ārējie tīkli, sistēmas
B24: 4 | C24: Teritorijas labiekārtošana
C25: Kopā( bez PVN)
C30: PVN 21 %
B35: Sastādīja:
B41: Pārbaudīja:

Sheet kops1
A2: Kopsavilkuma aprēķins Nr. 1
A6: =Koptame!C21 -> Vispārējie būvdarbi
A8: Būves nosaukums: | C8: =Koptame!C11 -> Pirmsskolas izglītības iestāde
A9: Objekta nosaukums: | C9: =Koptame!C12 -> Pirmsskolas izglītības iestādes jaunbūve
A10: Objekta adrese: | C10: =Koptame!C13 -> Baložu iela 33, Baloži, Ķekavas novads
A11: =Koptame!B14 -> Iepirkuma Id Nr. | C11: ĶNP 2023/85
F13: Par kopējo summu, euro | H13: =E37 -> 0
F14: Kopējā darbietilpība, c/h | H14: =I33 -> 0
H15: =H14+kops2!H14+kops3!H14+kops4!H14 -> 0
H16: =Koptame!D16 -> Tāme sastādīta:
A18: Nr.p.k. | B18: Kods, tāmes Nr. | C18: Būvdarbu veids vai konstruktīvā elementa nosaukums | E18: Tāmes izmaksas (euro) | F18: Tai skaitā | I18: Darbietilpība (c/h)
F19: darba alga (euro) | G19: būvizstrādājumi (euro) | H19: mehānismi (euro)
A21: 1 | B21: 1,1 | C21: Zemes darbi
A22: 2 | B22: 1,2 | C22: Pamati
A23: 3 | B23: 1,3 | C23: Sienas
A24: 4 | B24: 1,4 | C24: Pārsegums
A25: 5 | B25: 1,5 | C25: Jumts
A26: 6 | B26: 1,6 | C26: Grīdas
A27: 7 | B27: 1,7 | C27: Kāpnes
A28: 8 | B28: 1,8 | C28: Ailu aizpildījuma elementi
A29: 9 | B29: 1,9 | C29: Iekšējie apdares darbi
A30: 10 | B30: 1,10 | C30: Ārējās apdares darbi
A31: 11 | B31: 1,11 | C31: Dažādi darbi
C33: Kopā
A34: Virsizdevumi
C35: tai skaitā darba aizsardzība
A36: Peļņa
C37: Kopā bez PVN
B40: Sastādīja:
C41: =Koptame!C36 -> 0
C42: =Koptame!C37 -> 0
B46: =Koptame!B41 -> Pārbaudīja:
C47: =Koptame!C42 -> 0
C48: =Koptame!C43 -> 0

Sheet 1,1
G1: Lokālā tāme Nr. | H1: =kops1!B21 -> 1,1
A2: =C13 -> Zemes darbi
C3: Būves nosaukums: | D3: =Koptame!C11 -> Pirmsskolas izglītības iestāde
C4: Objekta nosaukums: | D4: =Koptame!C12 -> Pirmsskolas izglītības iestādes jaunbūve
C5: Objekta adrese: | D5: =Koptame!C13 -> Baložu iela 33, Baloži, Ķekavas novads
C6: =Koptame!B14 -> Iepirkuma Id Nr. | D6: =Koptame!C14 -> ĶNP 2023/85
A7: =Koptame!B17 -> Tāme sastādīta 2024.gada tirgus cenās | O7: Tāmes izmaksas euro: | P7: =P21 -> 0
L9: =Koptame!D16 -> Tāme sastādīta:
A11: Nr.p.k. | B11: Kods | C11: Būvdarbu nosaukums | D11: Mērvienība | E11: Daudzums | F11: Vienības izmaksas | L11: Kopā uz visu apjomu
F12: Laika norma (c/h) | G12: Darba samaksas likme (euro/h) | H12: Darba alga (euro) | I12: Būvizstrādājumi (euro) | J12: Mehānismi (euro) | K12: Kopā (euro) | L12: Darbietilpība (c/h) | M12: Darba alga (euro) | N12: Būvizstrādājumi (euro) | O12: Mehānismi (euro) | P12: Summa (euro)
C13: =kops1!C21 -> Zemes darbi | K13: =SUM(H13:J13) -> 0 | L13: =ROUND(F13*E13,2) -> 0 | M13: =ROUND(H13*E13,2) -> 0 | N13: =ROUND(I13*E13,2) -> 0 | O13: =ROUND(J13*E13,2) -> 0 | P13: =SUM(M13:O13) -> 0
A14: 1 | C14: Gruntsūdens līmeņa pazemināšana (Nepieciešamību precizēt būvniecības laikā!) | D14: kpl | E14: 1
A15: 2 | C15: Grunts rakšana ar mehanizēti, iekraujot grunti automašīnā-pašizgāzējā pamatu izbūvei | D15: m3 | E15: =3072+1151-E16 -> 3801
A16: 3 | C16: Grunts izstrāde roku darbā pamatu izbūvei | D16: m3 | E16: 422
A17: 4 | C17: Būvbedres un tranšejas aizbēršana mehanizēti ar pievesto smilti pamatiem | D17: m3 | E17: =2047-E18 -> 1842
A18: 5 | C18: Būvbedres un tranšejas aizbēršana ar rokām ar pievesto smilti pamatiem | D18: m3 | E18: 205
A19: 6 | C19: Liekās grunts izvešana | D19: m3 | E19: =E15+E16 -> 4223
F20: 0 | G20: 0
C21: Tiešās izmaksas kopā t.sk. darba devēja sociālais nodoklis(23,59%)
C23: Piezīmes:
A24: Visas atsauces uz materiālu un izstrādājumu izgatavotaj firmām, kuras norādītas būvprojektā, liecina tikai par šo materiālu un izstrādājumu tehniskajiem parametriem un kvalitātes līmeni, to nomaiņa ir iespējama ar citiem tehniski un kvalitatīvi ekvivalentiem būvizstrādājumiem, iepriekš saskaņojot tos ar projekta autoriem un uzrādot atbilstības sertifikātus.
B28: Sastādīja: | L28: =Koptame!B41 -> Pārbaudīja:
C29: =Koptame!C36 -> 0 | M29: =Koptame!C42 -> 0
C30: =Koptame!C37 -> 0 | M30: =Koptame!C43 -> 0

Sheet 1,2
G1: Lokālā tāme Nr. | H1: =kops1!B22 -> 1,2
A2: =C13 -> Pamati
C3: Būves nosaukums: | D3: =Koptame!C11 -> Pirmsskolas izglītības iestāde
C4: Objekta nosaukums: | D4: =Koptame!C12 -> Pirmsskolas izglītības iestādes jaunbūve
C5: Objekta adrese: | D5: =Koptame!C13 -> Baložu iela 33, Baloži, Ķekavas novads
C6: =Koptame!B14 -> Iepirkuma Id Nr. | D6: =Koptame!C14 -> ĶNP 2023/85
A7: =Koptame!B17 -> Tāme sastādīta 2024.gada tirgus cenās | O7: Tāmes izmaksas euro: | P7: =P28 -> 0
L9: =Koptame!D16 -> Tāme sastādīta:
A11: Nr.p.k. | B11: Kods | C11: Būvdarbu nosaukums | D11: Mērvienība | E11: Daudzums | F11: Vienības izmaksas | L11: Kopā uz visu apjomu
F12: Laika norma (c/h) | G12: Darba samaksas likme (euro/h) | H12: Darba alga (euro) | I12: Būvizstrādājumi (euro) | J12: Mehānismi (euro) | K12: Kopā (euro) | L12: Darbietilpība (c/h) | M12: Darba alga (euro) | N12: Būvizstrādājumi (euro) | O12: Mehānismi (euro) | P12: Summa (euro)
B13: 0 | C13: =kops1!C22 -> Pamati | F13: 0 | G13: 0 | H13: 0 | I13: 0 | J13: 0 | K13: =SUM(H13:J13) -> 0 | L13: =ROUND(F13*E13,2) -> 0 | M13: =ROUND(H13*E13,2) -> 0 | N13: =ROUND(I13*E13,2) -> 0 | O13: =ROUND(J13*E13,2) -> 0 | P13: =SUM(M13:O13) -> 0
A14: 0 | C14: Pamati BK-02.01 | H14: =ROUND(F14*G14,2) -> 0 | K14: =SUM(H14:J14) -> 0 | L14: =ROUND(F14*E14,2) -> 0 | M14: =ROUND(H14*E14,2) -> 0 | N14: =ROUND(I14*E14,2) -> 0 | O14: =ROUND(J14*E14,2) -> 0 | P14: =SUM(M14:O14) -> 0
A15: 1 | C15: Inventāro veidņu uzstādīšana,eļļošana pamatiem un nojaukšana ,noma | D15: m2 | E15: 5387.12
A16: 2 | C16: Betona iestrādāšana pamatu konstrukcijās-pamati C12/15 XC1 novibrējot,betonu padod ar sūkni | D16: m3 | E16: 65.48
A17: 3 | C17: Šķembu pamatojuma ierīkošana fr.20-40 mm,blīvā veidā ,novibrējot | D17: m3 | E17: 286.02
A18: 4 | C18: Armatūras sietu izgatavošana ,uzstādīšana,fiksatoru uzstādīšana . Armatūra B500B | D18: t | E18: 82.935
A19: 5 | C19: Betona iestrādāšana pamatu konstrukcijās-pamati C30/37 XC2 novibrējot,betonu padod ar sūkni | D19: m3 | E19: 672.35
A20: 6 | C20: Sienu mūrēšana no FIBO (vai ekvivalents) 3MPa blokiem 150 mm t.sk. Palīgmateriāli, mūrjava , stiegrojums | D20: m3 | E20: 5.39
A21: 6 | C21: Sienu mūrēšana no FIBO 3MPa blokiem t.sk. Palīgmateriāli, mūrjava , stiegrojums | D21: m3 | E21: 0.49
A22: 7 | C22: Armatūras sietu izgatavošana ,uzstādīšana,fiksatoru uzstādīšana . Armatūra B500B Stiegrojuma izvadi BK-02.4 | D22: t | E22: 16.809
A23: 8 | C23: Ieliekamo detaļu montāža. Peikko HPM 16P | D23: gb | E23: 8
A24: 9 | C24: Ieliekamo detaļu montāža. Peikko HPM 16P | D24: gb | E24: 12
A25: 10 | C25: Ieliekamo detaļu montāža. Peikko HPM 30L | D25: gb | E25: 8
A26: 11 | C26: Ieliekamo detaļu montāža. HILTI (vai ekvivalents)HIT HY 200 vai analogs + M16 8.8 | E26: 5
C28: Tiešās izmaksas kopā t.sk. darba devēja sociālais nodoklis(23,59%)
B30: ='1,1'!C23 -> Piezīmes:
A31: ='1,1'!A24:G24 -> Visas atsauces uz materiālu un izstrādājumu izgatavotaj firmām, kuras norādītas būvprojektā, liecina tikai par šo materiālu un izstrādājumu tehniskajiem parametriem un kvalitātes līmeni, to nomaiņa ir iespējama ar citiem tehniski un kvalitatīvi ekvivalentiem būvizstrādājumiem, iepriekš saskaņojot tos ar projekta autoriem un uzrādot atbilstības sertifikātus.
B35: Sastādīja: | L35: =Koptame!B41 -> Pārbaudīja:
C36: =Koptame!C36 -> 0 | M36: =Koptame!C42 -> 0
C37: =Koptame!C37 -> 0 | M37: =Koptame!C43 -> 0

Sheet 1,3
G1: Lokālā tāme Nr. | H1: =kops1!$B$23 -> 1,3
A2: =C13 -> Sienas
C3: Būves nosaukums: | D3: =Koptame!C11 -> Pirmsskolas izglītības iestāde
C4: Objekta nosaukums: | D4: =Koptame!C12 -> Pirmsskolas izglītības iestādes jaunbūve
C5: Objekta adrese: | D5: =Koptame!C13 -> Baložu iela 33, Baloži, Ķekavas novads
C6: =Koptame!B14 -> Iepirkuma Id Nr. | D6: =Koptame!C14 -> ĶNP 2023/85
A7: =Koptame!B17 -> Tāme sastādīta 2024.gada tirgus cenās | O7: Tāmes izmaksas euro: | P7: =P166 -> 0
L9: =Koptame!D16 -> Tāme sastādīta:
A11: Nr.p.k. | B11: Kods | C11: Būvdarbu nosaukums | D11: Mērvienība | E11: Daudzums | F11: Vienības izmaksas | L11: Kopā uz visu apjomu
F12: Laika norma (c/h) | G12: Darba samaksas likme (euro/h) | H12: Darba alga (euro) | I12: Būvizstrādājumi (euro) | J12: Mehānismi (euro) | K12: Kopā (euro) | L12: Darbietilpība (c/h) | M12: Darba alga (euro) | N12: Būvizstrādājumi (euro) | O12: Mehānismi (euro) | P12: Summa (euro)
B13: 0 | C13: =kops1!C23 -> Sienas | F13: 0 | G13: 0 | H13: 0 | I13: 0 | J13: 0 | K13: =SUM(H13:J13) -> 0 | L13: =ROUND(F13*E13,2) -> 0 | M13: =ROUND(H13*E13,2) -> 0 | N13: =ROUND(I13*E13,2) -> 0 | O13: =ROUND(J13*E13,2) -> 0 | P13: =SUM(M13:O13) -> 0
A14: 0 | C14: 1,2, bēniņi stāvs | H14: =ROUND(F14*G14,2) -> 0 | K14: =SUM(H14:J14) -> 0 | L14: =ROUND(F14*E14,2) -> 0 | M14: =ROUND(H14*E14,2) -> 0 | N14: =ROUND(I14*E14,2) -> 0 | O14: =ROUND(J14*E14,2) -> 0 | P14: =SUM(M14:O14) -> 0
A15: 1 | C15: Sienu mūrēšana no FIBO (vai ekvivalents) 5MPa blokiem 300 mm t.sk. Palīgmateriāli, mūrjava , stiegrojums | D15: m3 | E15: =386.43+227.84+205.31 -> 819.58
A16: 2 | C16: Sienu mūrēšana no FIBO (vai ekvivalents) 3MPa blokiem t.sk. Palīgmateriāli, mūrjava , stiegrojums | D16: m3 | E16: =33.9+67.49 -> 101.39
A17: 3 | C17: Sienu mūrēšana no FIBO (vai ekvivalents) 3MPa blokiem 150 mm t.sk. Palīgmateriāli, mūrjava , stiegrojums | D17: m3 | E17: =74.44+60.22 -> 134.66
A18: 4 | C18: Sienu mūrēšana no dobiem betona blokiem 190 mm t.sk. Palīgmateriāli, mūrjava , stiegrojums | D18: m3 | E18: 7.67
A19: 0 | C19: Pārsedzes 1 stāvs
A20: 5 | C20: DzP1 pārsedzes ierīkošana | D20: gb | E20: 6
A21: 6 | C21: DzP2 pārsedzes ierīkošana | D21: gb | E21: 1
A22: 7 | C22: DzP4 pārsedzes ierīkošana | D22: gb | E22: 1
A23: 8 | C23: DzP2 pārsedzes ierīkošana | D23: gb | E23: 7
A24: 9 | C24: DzP2 pārsedzes ierīkošana | D24: gb | E24: 2
A25: 10 | C25: DzP2 pārsedzes ierīkošana | D25: gb | E25: 2
A26: 11 | C26: DzP3 pārsedzes ierīkošana | D26: gb | E26: 2
A27: 12 | C27: DzP3 pārsedzes ierīkošana | D27: gb | E27: 1
A28: 13 | C28: DzP3 pārsedzes ierīkošana | D28: gb | E28: 13
A29: 14 | C29: FP3 pārsedzes ierīkošana | D29: gb | E29: 7
A30: 15 | C30: FP2 pārsedzes ierīkošana | D30: gb | E30: 19
A31: 16 | C31: FP2 pārsedzes ierīkošana | D31: gb | E31: 14
A32: 17 | C32: FP1 pārsedzes ierīkošana | D32: gb | E32: 3
A33: 18 | C33: FP1 pārsedzes ierīkošana | D33: gb | E33: 4
A34: 19 | C34: FP1 pārsedzes ierīkošana | D34: gb | E34: 2
... A51: 36 | C51: MsP3 aila monolītā sienā ierīkošana | D51: gb | E51: 2
A52: 0 | C52: Pārsedzes 2 stāvs
A53: 37 | C53: DzP1 pārsedzes ierīkošana | D53: gb | E53: 1
A54: 38 | C54: DzP5 pārsedzes ierīkošana | D54: gb | E54: 1
A55: 39 | C55: DzP3 pārsedzes ierīkošana | D55: gb | E55: 1
A56: 40 | C56: DzP3 pārsedzes ierīkošana | D56: gb | E56: 1
A57: 41 | C57: FP2 pārsedzes ierīkošana | D57: gb | E57: 16
A58: 42 | C58: FP1 pārsedzes ierīkošana | D58: gb | E58: 4
A59: 43 | C59: FP1 pārsedzes ierīkošana | D59: gb | E59: 1
A60: 44 | C60: DzP6 pārsedzes ierīkošana | D60: gb | E60: 1
A61: 45 | C61: DzP5 pārsedzes ierīkošana | D61: gb | E61: 2
A62: 46 | C62: DzP5 pārsedzes ierīkošana | D62: gb | E62: 1
A63: 47 | C63: DzP5 pārsedzes ierīkošana | D63: gb | E63: 1
A64: 48 | C64: FP5 pārsedzes ierīkošana | D64: gb | E64: 5
... A74: 58 | C74: MsP2 pārsedzes ierīkošana | D74: gb | E74: 2
A75: 0 | C75: Pārsedzes bēniņi stāvs
A76: 59 | C76: DzP1 pārsedzes ierīkošana | D76: gb | E76: 1
A77: 60 | C77: DzP1 pārsedzes ierīkošana | D77: gb | E77: 1
A78: 61 | C78: DzP3 pārsedzes ierīkošana | D78: gb | E78: 1
A79: 62 | C79: DzP3 pārsedzes ierīkošana | D79: gb | E79: 1
A80: 63 | C80: FP2 pārsedzes ierīkošana | D80: gb | E80: 1
A81: 64 | C81: FP2 pārsedzes ierīkošana | D81: gb | E81: 1
A82: 65 | C82: FP2 pārsedzes ierīkošana | D82: gb | E82: 1
A83: 66 | C83: FP2 pārsedzes ierīkošana | D83: gb | E83: 6
A84: 67 | C84: FP2 pārsedzes ierīkošana | D84: gb | E84: 1
A85: 68 | C85: FP1 pārsedzes ierīkošana | D85: gb | E85: 1
A86: 69 | C86: FP1 pārsedzes ierīkošana | D86: gb | E86: 1
A87: 70 | C87: FP1 pārsedzes ierīkošana | D87: gb | E87: 3
... A90: 73 | C90: FP1 pārsedzes ierīkošana | D90: gb | E90: 1
A91: 0 | C91: Dz.betona sienas, Kolonnas 1,2 .stāvs
A92: 74 | C92: Inventāro veidņu uzstādīšana,eļļošana un nojaukšana ,noma | D92: m2 | E92: =(272+65.3)*2+E95*8 -> 1428.92
A93: 75 | C93: Betona iestrādāšana sienu konstrukcijās C30/37 XC1 novibrējot,betonu padod ar sūkni | D93: m3 | E93: =81.43+13.05+21.52+1.25+10.62 -> 127.87
A94: 76 | C94: Armatūras sietu izgatavošana ,uzstādīšana,fiksatoru uzstādīšana . Armatūra B500B | D94: t | E94: =19.103+16.237+8.23 -> 43.57
A95: 77 | C95: Betona iestrādāšana kolonnu konstrukcijās C30/37 XC1 novibrējot,betonu padod ar sūkni t.sk. Ieliekamās detaļas | D95: m3 | E95: =47.86+29.56+16.87 -> 94.29
A96: 0 | C96: aktu zāles tribīnes
A97: 78 | C97: Inventāro veidņu uzstādīšana,eļļošana un nojaukšana ,noma | D97: m2 | E97: 220.16
A98: 79 | C98: Armatūras sietu izgatavošana ,uzstādīšana,fiksatoru uzstādīšana . Armatūra B500B | D98: t | E98: 5.608
A99: 80 | C99: Betona iestrādāšana konstrukcijās C30/37 XC1 novibrējot,betonu padod ar sūkni t.sk. Ieliekamās detaļas | D99: m3 | E99: 27.52
A100: 0 | C100: Tērauda kolonnas 1,2, stāvs
A101: 81 | C101: Tērauda konstrukciju- izgatavošana , piegāde,montāža t.sk. Palīgmateriāli. Metāla konstrukcijas apstrādātas atbilstoši BK norādījumiem t.sk. Pārklājumi | D101: t | E101: =1.862+0.224+0.512+0.06 -> 2.658
A102: 0 | C102: AR daļa
A103: 0 | C103: AS 1.0
A104: 82 | C104: Ekstrudēta putupolistirola uzstādīšana XPS 120 mm t.sk. Palīgmateriāli, stiprinājumi, līmjava Baumit Pro Contact (vai ekvivalents) | D104: m2 | E104: 224.6
A105: 83 | C105: Armējošā sieta iestrāde fasādei-cokolam. Līmēšanas un armēšanas java Baumit Pro Contact (vai ekvivalents), Stiklašķiedras siets fasādei. | D105: m2 | E105: 224.6
A106: 84 | C106: Sienas gruntēšana. ( zem dekoratīvā apmetuma) | D106: m2 | E106: 224.6
A107: 85 | C107: Apmetuma slāņa ieklāšana sienai tonēts | D107: m2 | E107: 224.6
A108: 0 | C108: AS 1.3
A109: 86 | C109: Sienu apmetuma ierīkošana ar Baumit MPI 25(b=10) (vai ekvivalentu) | D109: m2 | E109: 535.4
A110: 0 | C110: Sienu mūrēšana no keramzītbetona blokiem 300 mm t.sk. Palīgmateriāli, stiegrojums | D110: skat. BK daļas apjomus
A111: 0 | C111: AS 1.4
A112: 87 | C112: Sienu apmetuma ierīkošana ar Baumit MPI 25(b=10) (vai ekvivalentu) | D112: m2 | E112: 247.1
A113: 0 | C113: Sienu mūrēšana no keramzītbetona blokiem 300 mm t.sk. Palīgmateriāli, stiegrojums | D113: skat. BK daļas apjomus
A114: 0 | C114: AS 1.6
A115: 88 | C115: Sienu apmetuma ierīkošana ar Baumit MPI 25(b=10) (vai ekvivalentu) | D115: m2 | E115: 14.8
A116: 0 | C116: Sienu mūrēšana no keramzītbetona blokiem 300 mm t.sk. Palīgmateriāli, stiegrojums | D116: skat. BK daļas apjomus
A117: 0 | C117: AS 1.7
A118: 89 | C118: Sienu apmetuma ierīkošana ar Baumit MPI 25(b=10) (vai ekvivalentu) | D118: m2 | E118: 313.3
A119: 0 | C119: Sienu mūrēšana no keramzītbetona blokiem 300 mm t.sk. Palīgmateriāli, stiegrojums | D119: skat. BK daļas apjomus
A120: 0 | C120: NS 1.1
A121: 90 | C121: Sienu apmetuma ierīkošana ar Baumit MPI 25(b=10) (vai ekvivalentu) | D121: m2 | E121: =831*2 -> 1662
A122: 0 | C122: Sienu mūrēšana no keramzītbetona blokiem 150 mm t.sk. Palīgmateriāli, stiegrojums | D122: skat. BK daļas apjomus
A123: 0 | C123: NS 1.2
A124: 91 | C124: Sienu apmetuma ierīkošana ar Baumit MPI 25(b=10) (vai ekvivalentu) | D124: m2 | E124: =330.4*2 -> 660.8
A125: 0 | C125: Sienu mūrēšana no keramzītbetona blokiem 200 mm t.sk. Palīgmateriāli, stiegrojums | D125: skat. BK daļas apjomus
A126: 0 | C126: NS 1.3
A127: 92 | C127: Sienu apmetuma ierīkošana ar Baumit MPI 25(b=10) (vai ekvivalentu) | D127: m2 | E127: =1781*2 -> 3562
A128: 0 | C128: Sienu mūrēšana no keramzītbetona blokiem 300 mm t.sk. Palīgmateriāli, stiegrojums | D128: skat. BK daļas apjomus
A129: 0 | C129: NS 1.4
...

Sheet 1,4
G1: Lokālā tāme Nr. | H1: =kops1!B24 -> 1,4
A2: =C13 -> Pārsegums
C3: Būves nosaukums: | D3: =Koptame!C11 -> Pirmsskolas izglītības iestāde
C4: Objekta nosaukums: | D4: =Koptame!C12 -> Pirmsskolas izglītības iestādes jaunbūve
C5: Objekta adrese: | D5: =Koptame!C13 -> Baložu iela 33, Baloži, Ķekavas novads
C6: =Koptame!B14 -> Iepirkuma Id Nr. | D6: =Koptame!C14 -> ĶNP 2023/85
A7: =Koptame!B17 -> Tāme sastādīta 2024.gada tirgus cenās | O7: Tāmes izmaksas euro: | P7: =P33 -> 0
L9: =Koptame!D16 -> Tāme sastādīta:
A11: Nr.p.k. | B11: Kods | C11: Būvdarbu nosaukums | D11: Mērvienība | E11: Daudzums | F11: Vienības izmaksas | L11: Kopā uz visu apjomu
F12: Laika norma (c/h) | G12: Darba samaksas likme (euro/h) | H12: Darba alga (euro) | I12: Būvizstrādājumi (euro) | J12: Mehānismi (euro) | K12: Kopā (euro) | L12: Darbietilpība (c/h) | M12: Darba alga (euro) | N12: Būvizstrādājumi (euro) | O12: Mehānismi (euro) | P12: Summa (euro)
B13: 0 | C13: =kops1!C24 -> Pārsegums | F13: 0 | G13: 0 | H13: 0 | I13: 0 | J13: 0 | K13: =SUM(H13:J13) -> 0 | L13: =ROUND(F13*E13,2) -> 0 | M13: =ROUND(H13*E13,2) -> 0 | N13: =ROUND(I13*E13,2) -> 0 | O13: =ROUND(J13*E13,2) -> 0 | P13: =SUM(M13:O13) -> 0
A14: 0 | C14: Tērauda sijas 1. stāvs | H14: =ROUND(F14*G14,2) -> 0 | K14: =SUM(H14:J14) -> 0 | L14: =ROUND(F14*E14,2) -> 0 | M14: =ROUND(H14*E14,2) -> 0 | N14: =ROUND(I14*E14,2) -> 0 | O14: =ROUND(J14*E14,2) -> 0 | P14: =SUM(M14:O14) -> 0
A15: 1 | C15: Tērauda konstrukciju- izgatavošana , piegāde,montāža t.sk. Palīgmateriāli. Metāla konstrukcijas apstrādātas atbilstoši BK norādījumiem t.sk. Ugunsdrošais pārklājs | D15: t | E15: 1.66
C16: RUUKKI (vai ekvivalents) panelis 1. stāvs
A17: 2 | C17: Ruukki (vai ekvivalents) CS48-36-750/0.9 S235 paneļa montāža t.sk. Palīgmateriāli BK-05.2 | D17: gb | E17: 280
A18: 3 | C18: Tērauda konstrukciju- izgatavošana , piegāde,montāža t.sk. Palīgmateriāli. Metāla konstrukcijas apstrādātas atbilstoši BK norādījumiem t.sk. Ugunsdrošais pārklājs | D18: t | E18: 6.51
A19: 0 | C19: monolītā josla, sijas 1,2Stāvs
A20: 4 | C20: Inventāro veidņu uzstādīšana,eļļošana un nojaukšana ,noma | D20: m2 | E20: 1070
A21: 5 | C21: Armatūras sietu izgatavošana ,uzstādīšana,fiksatoru uzstādīšana . Armatūra B500B | D21: t | E21: =4.174+4.174 -> 8.348
A22: 6 | C22: Betona iestrādāšana konstrukcijās C30/37 XC1 novibrējot,betonu padod ar sūkni t.sk. Ieliekamās detaļas | D22: m3 | E22: =27.68+7.412+56.88+41.712 -> 133.684
A23: 0 | C23: Pārkare 1. stāvs
A24: 7 | C24: Tērauda konstrukciju- izgatavošana , piegāde,montāža t.sk. Palīgmateriāli. Metāla konstrukcijas apstrādātas atbilstoši BK norādījumiem t.sk. Ugunsdrošais pārklājs | D24: t | E24: =8.13+0.976 -> 9.106
A25: 0 | C25: BK-1,2stāvs
A26: 8 | C26: Saliekamā dzelzsbetona pārseguma paneļu h=320 mm montāža t.sk. Palīgmateriāli | D26: m2 | E26: =1110.49+1110.58 -> 2221.07
A27: 9 | C27: Inventāro veidņu uzstādīšana,eļļošana nojaukšana ,noma | D27: m2 | E27: 1780
A28: 10 | C28: Armatūras sietu izgatavošana ,uzstādīšana,fiksatoru uzstādīšana . Armatūra B500B | D28: t | E28: =35.85+35.766 -> 71.616
A29: 11 | C29: Betona iestrādāšana pārseguma konstrukcijās C30/37 XC1 novibrējot,betonu padod ar sūkni t.sk. Ieliekamās detaļas | D29: m3 | E29: =195.68+158.35 -> 354.03
A30: 0 | C30: 2. stāvs
A31: 12 | C31: Tērauda konstrukciju- izgatavošana , piegāde,montāža t.sk. Palīgmateriāli. Metāla konstrukcijas apstrādātas atbilstoši BK norādījumiem t.sk. Ugunsdrošais pārklājs | D31: t | E31: =3.4+0.408 -> 3.808
C33: Tiešās izmaksas kopā t.sk. darba devēja sociālais nodoklis(23,59%)
B35: Piezīmes:
A36: ='1,1'!A24:G24 -> Visas atsauces uz materiālu un izstrādājumu izgatavotaj firmām, kuras norādītas būvprojektā, liecina tikai par šo materiālu un izstrādājumu tehniskajiem parametriem un kvalitātes līmeni, to nomaiņa ir iespējama ar citiem tehniski un kvalitatīvi ekvivalentiem būvizstrādājumiem, iepriekš saskaņojot tos ar projekta autoriem un uzrādot atbilstības sertifikātus.
B40: Sastādīja: | L40: =Koptame!B41 -> Pārbaudīja:
C41: =Koptame!C36 -> 0 | M41: =Koptame!C42 -> 0
C42: =Koptame!C37 -> 0 | M42: =Koptame!C43 -> 0

Sheet 1,5
G1: Lokālā tāme Nr. | H1: =kops1!B25 -> 1,5
A2: =C13 -> Jumts
C3: Būves nosaukums: | D3: =Koptame!C11 -> Pirmsskolas izglītības iestāde
C4: Objekta nosaukums: | D4: =Koptame!C12 -> Pirmsskolas izglītības iestādes jaunbūve
C5: Objekta adrese: | D5: =Koptame!C13 -> Baložu iela 33, Baloži, Ķekavas novads
C6: =Koptame!B14 -> Iepirkuma Id Nr. | D6: =Koptame!C14 -> ĶNP 2023/85
A7: =Koptame!B17 -> Tāme sastādīta 2024.gada tirgus cenās | O7: Tāmes izmaksas euro: | P7: =P77 -> 0
L9: =Koptame!D16 -> Tāme sastādīta:
A11: Nr.p.k. | B11: Kods | C11: Būvdarbu nosaukums | D11: Mērvienība | E11: Daudzums | F11: Vienības izmaksas | L11: Kopā uz visu apjomu
F12: Laika norma (c/h) | G12: Darba samaksas likme (euro/h) | H12: Darba alga (euro) | I12: Būvizstrādājumi (euro) | J12: Mehānismi (euro) | K12: Kopā (euro) | L12: Darbietilpība (c/h) | M12: Darba alga (euro) | N12: Būvizstrādājumi (euro) | O12: Mehānismi (euro) | P12: Summa (euro)
B13: 0 | C13: =kops1!C25 -> Jumts | F13: 0 | G13: 0 | H13: 0 | I13: 0 | J13: 0 | K13: =SUM(H13:J13) -> 0 | L13: =ROUND(F13*E13,2) -> 0 | M13: =ROUND(H13*E13,2) -> 0 | N13: =ROUND(I13*E13,2) -> 0 | O13: =ROUND(J13*E13,2) -> 0 | P13: =SUM(M13:O13) -> 0
A14: 0 | C14: BK | H14: =ROUND(F14*G14,2) -> 0 | K14: =SUM(H14:J14) -> 0 | L14: =ROUND(F14*E14,2) -> 0 | M14: =ROUND(H14*E14,2) -> 0 | N14: =ROUND(I14*E14,2) -> 0 | O14: =ROUND(J14*E14,2) -> 0 | P14: =SUM(M14:O14) -> 0
A15: 1 | C15: Tērauda konstrukciju- izgatavošana , piegāde,montāža t.sk. Palīgmateriāli. Metāla konstrukcijas apstrādātas atbilstoši BK norādījumiem t.sk. Ugunsdrošais pārklājs | D15: t | E15: 39.54
A16: 2 | C16: Nesošo koka konstrukciju-koka sijas, mūrlatas, spāres izgatavošana un montāža sagatavotas atbilstoši BK norādījumiem t.sk. Palīgmateriāli. Kokmateriālu klase Apstrādātas ar antiseptiķi-antipirēnu | D16: m3 | E16: =21.24+63.73 -> 84.97
A17: 0 | C17: J 1.1
A18: 3 | C18: Latojuma ierīkošana. Latojums 50x50mm, stiprinājumi | D18: m2 | E18: 366.2
A19: 4 | C19: Difūzijas membrānas ieklāšana PAROC XMU 100 vai ekvivalents | D19: m2 | E19: 366.2
A20: 5 | C20: Vates iestrāde karkasā siltuma izolācijai. Siltuma izolācijas plāksnes 30 mm Paroc Cortex (vai ekvivalents) | D20: m2 | E20: 366.2
A21: 6 | C21: Vates iestrāde karkasā siltuma izolācijai. Siltuma izolācijas plāksnes 250 mm Paroc Ultra plus (vai ekvivalents) | D21: m2 | E21: 366.2
A22: 7 | C22: Tvaika izolācijas ieklāšana PAROC XMV 020 bas vai ekvivalents | D22: m2 | E22: 366.2
A23: 8 | C23: Latojuma ierīkošana. Latojums 50x50mm, stiprinājumi | D23: m2 | E23: 366.2
A24: 9 | C24: Vates iestrāde karkasā siltuma izolācijai. Siltuma izolācijas plāksnes 50 mm Paroc Ultra | D24: m2 | E24: 366.2
A25: 10 | C25: Knauf (vai ekvivalents) ģipškartona griestu karkass | D25: m2 | E25: 366.2
A26: 11 | C26: Fireboard (vai ekvivalents) plākšņu apšuvuma ierīkošana 2x15 mm , t.sk. Palīgmateriāli Mezgls AR 7.3;AR 7.5; AR 7.6 | D26: m2 | E26: 366.2
A27: 0 | C27: J 1.1a
A28: 12 | C28: Knauf (vai ekvivalents) ģipškartona metāla karkass | D28: m2 | E28: 401.4
A29: 13 | C29: Fireboard (vai ekvivalents) plākšņu apšuvuma ierīkošana 2x15 mm , t.sk. Palīgmateriāli Mezgls AR 7.3;AR 7.5; AR 7.6 | D29: m2 | E29: 401.4
A30: 14 | C30: Latojuma ierīkošana. Latojums 50x50mm, stiprinājumi | D30: m2 | E30: 401.4
A31: 15 | C31: Vates iestrāde karkasā siltuma izolācijai. Siltuma izolācijas plāksnes 50 mm Paroc Ultra (vai ekvivalents) | D31: m2 | E31: 401.4
A32: 16 | C32: Tvaika izolācijas ieklāšana PAROC XMV 020 bas vai ekvivalents | D32: m2 | E32: 401.4
A33: 17 | C33: Vates iestrāde karkasā siltuma izolācijai. Siltuma izolācijas plāksnes 250 mm Paroc Ultra plus (vai ekvivalents) | D33: m2 | E33: 401.4
A34: 18 | C34: Difūzijas membrānas ieklāšana PAROC XMU 100 vai ekvivalents | D34: m2 | E34: 401.4
A35: 19 | C35: Vates iestrāde karkasā siltuma izolācijai. Siltuma izolācijas plāksnes 30 mm Paroc Cortex (vai ekvivalents) | D35: m2 | E35: 401.4
A36: 20 | C36: Latojuma ierīkošana. Latojums 50x50mm, stiprinājumi | D36: m2 | E36: 401.4
A37: 21 | C37: Termokoksnes dēļu seguma 19 mm ieklāšana | D37: m2 | E37: 401.4
A38: 0 | C38: J 1.1c
A39: 22 | C39: Knauf (vai ekvivalents) ģipškartona metāla karkass | D39: m2 | E39: 692.4
A40: 23 | C40: Fireboard (vai ekvivalents) plākšņu apšuvuma ierīkošana 2x15 mm , t.sk. Palīgmateriāli Mezgls AR 7.3;AR 7.5; AR 7.6 | D40: m2 | E40: 692.4
A41: 24 | C41: Latojuma ierīkošana. Latojums 50x50mm, stiprinājumi | D41: m2 | E41: 692.4
A42: 25 | C42: Vates iestrāde karkasā siltuma izolācijai. Siltuma izolācijas plāksnes 50 mm Paroc Ultra (vai ekvivalents) | D42: m2 | E42: 692.4
A43: 26 | C43: Tvaika izolācijas ieklāšana PAROC XMV 020 bas vai ekvivalents | D43: m2 | E43: 692.4
A44: 27 | C44: Vates iestrāde karkasā siltuma izolācijai. Siltuma izolācijas plāksnes 250 mm Paroc Ultra plus (vai ekvivalents) | D44: m2 | E44: 692.4
A45: 28 | C45: Difūzijas membrānas ieklāšana PAROC XMU 100 vai ekvivalents | D45: m2 | E45: 692.4
A46: 29 | C46: Vates iestrāde karkasā siltuma izolācijai. Siltuma izolācijas plāksnes 30 mm Paroc Cortex (vai ekvivalents) | D46: m2 | E46: 692.4
A47: 30 | C47: Latojuma ierīkošana. Latojums 50x50mm, stiprinājumi | D47: m2 | E47: 692.4
A48: 0 | C48: J 1.2 aktu zāle
A49: 31 | C49: Karkasu apšūšana ar ģipškartonu . Ģipškartona plātne GKF 15 mm Knauf vai ekvivalents ; Knauf skrūves vai ekvivalents. Šuvju aizpildījums un aplīmēšana ar armējošu sietu | D49: m2 | E49: 219.2
A50: 32 | C50: Karkasu apšūšana ar ģipškartonu . Ģipškartona plātne GKF 15 mm Knauf vai ekvivalents ; Knauf skrūves vai ekvivalents. Šuvju aizpildījums un aplīmēšana ar armējošu sietu | D50: m2 | E50: 219.2
A51: 33 | C51: Metāla karkasa montāža | D51: m2 | E51: 219.2
A52: 34 | C52: Apakškonstrukcijas montāža | D52: m2 | E52: 219.2
A53: 35 | C53: Latojuma ierīkošana. Latojums 50x50mm, stiprinājumi | D53: m2 | E53: 219.2
A54: 36 | C54: Vates iestrāde karkasā siltuma izolācijai. Siltuma izolācijas plāksnes 50 mm Paroc Ultra (vai ekvivalents) | D54: m2 | E54: 219.2
A55: 37 | C55: Tvaika izolācijas ieklāšana PAROC XMV 020 bas vai ekvivalents | D55: m2 | E55: 219.2
A56: 38 | C56: Vates iestrāde karkasā siltuma izolācijai. Siltuma izolācijas plāksnes 200 mm Paroc Ultra plus (vai ekvivalents) | D56: m2 | E56: 219.2
A57: 39 | C57: Vates iestrāde karkasā siltuma izolācijai. Siltuma izolācijas plāksnes 100 mm Paroc Ultra plus (vai ekvivalents) | D57: m2 | E57: 219.2
A58: 40 | C58: Vates iestrāde karkasā siltuma izolācijai. Siltuma izolācijas plāksnes 30 mm Paroc Cortex | D58: m2 | E58: 219.2
A59: 41 | C59: Difūzijas membrānas ieklāšana PAROC XMU 100 vai ekvivalents | D59: m2 | E59: 219.2
A60: 42 | C60: Latojuma ierīkošana. Latojums 50x50mm, stiprinājumi | D60: m2 | E60: 219.2
A61: 0 | C61: J 1.3
A62: 43 | C62: Vates iestrāde karkasā siltuma izolācijai. Siltuma izolācijas plāksnes 30 mm Paroc Cortex (vai ekvivalents) | D62: m2 | E62: 2483
A63: 44 | C63: Difūzijas membrānas ieklāšana PAROC XMU 100 vai ekvivalents | D63: m2 | E63: 2483
A64: 45 | C64: Latojuma ierīkošana. Latojums 50x50mm, stiprinājumi | D64: m2 | E64: 2483
A65: 0 | C65: J 1.3-1
A66: 46 | C66: Koka spāru ierīkošana. 195x45mm, stiprinājumi | D66: m2 | E66: 52.1
A67: 47 | C67: FPO-PP jumta membrāna pastirpināta ar stiklašķiedru Bauder Thermofin F20 (vai ekvivalents) | D67: m2 | E67: 52.1
A68: 48 | C68: Karkasu apšūšana ar OSB-3 18 mm. t.sk. Stiprinājumi | D68: m2 | E68: 52.1
A69: 0 | C69: Jumta segums un papildelementi
A70: 49 | C70: Jumta seguma ieklāšana.Profilēts metāla skārds ,palīgmateriāli, papildelementi. Tērauda skārda profilēts jumta segums Ruukkifrigge (vai ekvivalents), atsevišķajā pozīcijā, kur ir 13° ar profilu RUUKKI Classic (vai ekvivalents). Tonis RR2H3 Antracīts | D70: m2 | E70: 3948.7
A71: 50 | C71: Jumta seguma apakšklāja ierīkošana | D71: m2 | E71: 2483
A72: 51 | C72: Notekrene 150x150 pa visu jumta parimetru. Komplekss risinājums ar jumta iesegumu, konstrukciju un notekcaurulēm. Tonis: RAL 7043.T.sk. Veidgabali | D72: m | E72: 214
A73: 52 | C73: Notekcaurules no jumta 150x150 mm T.sk. Veidgabali Komplekss risinājums ar renēm, piltuvēm un līkumiem, revīzijām. Tonis: RAL 7043. Caurules garums precīzējams, ņemot vēra reljefu.Revīzijas H=0,35 m no zemes. Tonis - RAL 7043 | D73: m | E73: 64.8
A74: 53 | C74: Sniega barjeras montāža | D74: m | E74: 220
A75: 54 | C75: Firmas "VERTIC" (Batiline Horizontālā drošības līnija) stiprināta pie jumta ar stabiem (2 stabi gala elementi un 5 caurejošie stabi) (vai ekvivalents). | D75: m | E75: 75
C77: Tiešās izmaksas kopā t.sk. darba devēja sociālais nodoklis(23,59%)
B79: Piezīmes:
A80: ='1,1'!A24:G24 -> Visas atsauces uz materiālu un izstrādājumu izgatavotaj firmām, kuras norādītas būvprojektā, liecina tikai par šo materiālu un izstrādājumu tehniskajiem parametriem un kvalitātes līmeni, to nomaiņa ir iespējama ar citiem tehniski un kvalitatīvi ekvivalentiem būvizstrādājumiem, iepriekš saskaņojot tos ar projekta autoriem un uzrādot atbilstības sertifikātus.
B84: Sastādīja: | L84: =Koptame!B41 -> Pārbaudīja:
C85: =Koptame!C36 -> 0 | M85: =Koptame!C42 -> 0
C86: =Koptame!C37 -> 0 | M86: =Koptame!C43 -> 0

Sheet 1,6
G1: Lokālā tāme Nr. | H1: =kops1!B26 -> 1,6
A2: =C13 -> Grīdas
C3: Būves nosaukums: | D3: =Koptame!C11 -> Pirmsskolas izglītības iestāde
C4: Objekta nosaukums: | D4: =Koptame!C12 -> Pirmsskolas izglītības iestādes jaunbūve
C5: Objekta adrese: | D5: =Koptame!C13 -> Baložu iela 33, Baloži, Ķekavas novads
C6: =Koptame!B14 -> Iepirkuma Id Nr. | D6: =Koptame!C14 -> ĶNP 2023/85
A7: =Koptame!B17 -> Tāme sastādīta 2024.gada tirgus cenās | O7: Tāmes izmaksas euro: | P7: =P91 -> 0
L9: =Koptame!D16 -> Tāme sastādīta:
A11: Nr.p.k. | B11: Kods | C11: Būvdarbu nosaukums | D11: Mērvienība | E11: Daudzums | F11: Vienības izmaksas | L11: Kopā uz visu apjomu
F12: Laika norma (c/h) | G12: Darba samaksas likme (euro/h) | H12: Darba alga (euro) | I12: Būvizstrādājumi (euro) | J12: Mehānismi (euro) | K12: Kopā (euro) | L12: Darbietilpība (c/h) | M12: Darba alga (euro) | N12: Būvizstrādājumi (euro) | O12: Mehānismi (euro) | P12: Summa (euro)
B13: 0 | C13: =kops1!C26 -> Grīdas | F13: 0 | G13: 0 | H13: 0 | I13: 0 | J13: 0 | K13: =SUM(H13:J13) -> 0 | L13: =ROUND(F13*E13,2) -> 0 | M13: =ROUND(H13*E13,2) -> 0 | N13: =ROUND(I13*E13,2) -> 0 | O13: =ROUND(J13*E13,2) -> 0 | P13: =SUM(M13:O13) -> 0
A14: 0 | C14: BK 1. stāva grīda | H14: =ROUND(F14*G14,2) -> 0 | K14: =SUM(H14:J14) -> 0 | L14: =ROUND(F14*E14,2) -> 0 | M14: =ROUND(H14*E14,2) -> 0 | N14: =ROUND(I14*E14,2) -> 0 | O14: =ROUND(J14*E14,2) -> 0 | P14: =SUM(M14:O14) -> 0
A15: 1 | C15: Inventāro veidņu uzstādīšana,eļļošana pamatiem un nojaukšana ,noma | D15: m2 | E15: =E19*8 -> 186
A16: 2 | C16: Betona iestrādāšana konstrukcijās C12/15 novibrējot,betonu padod ar sūkni | D16: m3 | E16: 175.25
A17: 3 | C17: Šķembu pamatojuma ierīkošana fr.0-45 mm,blīvā veidā ,novibrējot | D17: m3 | E17: =442.27 -> 442.27
A18: 4 | C18: Armatūras sietu izgatavošana ,uzstādīšana,fiksatoru uzstādīšana . Armatūra B500B | D18: t | E18: 1.345
A19: 5 | C19: Betona iestrādāšana grīdu konstrukcijās- C30/37 XC2 novibrējot,betonu padod ar sūkni | D19: m3 | E19: 23.25
A20: 0 | C20: G 1.1
A21: 6 | C21: Siltumizolācijas ierīkošana; Ekstrudētais putupolistirols XPS 100 mm vai ekvivalents | D21: m2 | E21: 2277.2
A22: 7 | C22: Filtrauduma ieklāšana | D22: m2 | E22: 2277.2
A23: 8 | C23: Betona kārtas ierīkošana 80 mm Betons C25 F4 atbilstoši LVS EN 13813 ar polipropilēna fibrām | D23: m2 | E23: 2277.2
A24: 0 | C24: P 1.1
A25: 9 | C25: Skaņas izolācijas ierīkošana piem. PAROC SSB1 50 mm vai ekvivalents | D25: m2 | E25: 1890.9
A26: 10 | C26: PVC Poliet.plēves iestrāde tvaika izolācijai | D26: m2 | E26: 1890.9
A27: 11 | C27: Betona kārtas ierīkošana 70 mm Betons C25 F4 atbilstoši LVS EN 13813 ar polipropilēna fibrām | D27: m2 | E27: 1890.9
A28: 0 | C28: P 1.1a
A29: 12 | C29: Skaņas izolācijas ierīkošana piem. PAROC SSB1 50 mm vai ekvivalents | D29: m2 | E29: 328.5
A30: 13 | C30: PVC Poliet.plēves iestrāde tvaika izolācijai | D30: m2 | E30: 328.5
A31: 14 | C31: Stiegrotas betona kārtas ierīkošana 70 mm Betons stiegrojums B500B | D31: m2 | E31: 328.5
A32: 15 | C32: Situmizolācija, piem., Paroc Ultra Plus(b=200)vai ekvivalents | D32: m2 | E32: 328.5
A33: 16 | C33: Skaņas izolācijas ierīkošana piem. PAROC WAS 35t 30 mm vai ekvivalents | D33: m2 | E33: 328.5
A34: 17 | C34: Apdares stiprinājuma T karkass montāža | D34: m2 | E34: 328.5
A35: 18 | C35: Fasādes apšuvuma plāksnes t.sk. stiprinājumi Equitone Natura 8 mm (vai ekvivalents). | D35: m2 | E35: 328.5
A36: 0 | C36: P 1.3
A37: 19 | C37: Hidroizolācijas ierīkošana | D37: m2 | E37: 1944.5
A38: 20 | C38: Siltumizolācijas ierīkošana; Putupolistirols 250 mm vai ekvivalents EPS Putupolistirols, 0,04W/mK, Spiedes stiprība>=200 kPa | D38: m2 | E38: 1944.5
A39: 21 | C39: PVC Poliet.plēves iestrāde tvaika izolācijai | D39: m2 | E39: 1944.5
A40: 22 | C40: Stiegrotas betona kārtas ierīkošana 50 mm Betons stiegrojums B500B | D40: m2 | E40: 1944.5
A41: 23 | C41: Pretputekļu pārklājums | D41: m2 | E41: 1944.5
A42: 0 | C42: 1. stāva grīdas apdare
A43: 24 | C43: Grīdu izlīdzināšana ar pašizlīdzinošo sastāvu Pašizlīdzinošā masa grīdām (piem., Baumit Nivello 10) ~3mm (vai ekvivalents) | D43: m2 | E43: =SUM(E44:E57,E63) -> 1956.5
A44: 25 | C44: GS-1.1 Homogēns dabigā linoleja grīdas segums "Forbo marmoleum fresco" "3260 leaf” (vai ekvivalents) , 2.5mm. 34/43 klase; Pretslīde R9 Tonis: S 3030-G40Y | D44: m2 | E44: 325.7
A45: 26 | C45: GS-1.2 Homogēns dabigā linoleja grīdas segums "Forbo marmoleum vivace" "3405 Granada" (vai ekvivalents), 2.5mm. 34/43 klase; Pretslīde R9 Tonis:S 5005-Y20R | D45: m2 | E45: 82.5
A46: 27 | C46: GS-1.3 Homogēns dabigā linoleja grīdas segums "Forbo marmoleum fresco" "3846 natural corn" (vai ekvivalents), 2.5mm. 34/43 klase; Pretslīde R9 Tonis: S 1030-Y10R | D46: m2 | E46: 73.2
A47: 28 | C47: GS-1.3-AKU Homogēns dabigā linoleja grīdas segums "Forbo marmoleum Decibel" "3846 natural corn"(vai ekvivalents), 3.5mm. 34/43 klase; Pretslīde R9; 18db Tonis: S 1030-Y10R | D47: m2 | E47: 110.4
A48: 29 | C48: GS-1.4 Homogēns dabigā linoleja grīdas segums "Forbo marmoleum real" "3120 rosato" (vai ekvivalents), 2.5mm. 34/43 klase; Pretslīde R9 Tonis: S 2010-Y20R | D48: m2 | E48: 418.5
A49: 30 | C49: GS-1.4-AKU Homogēns dabigā linoleja grīdas segums "Forbo marmoleum Decibel" "312035 rosato" (vai ekvivalents), 3.5mm. 34/43 klase; Pretslīde R9; 18db Tonis: S 2010- Y20R | D49: m2 | E49: 68.5
A50: 31 | C50: GS-1.5 Homogēns dabigā linoleja grīdas segums "Forbo marmoleum marbled all colors" "3055/33055/73055 fresco blue"(vai ekvivalents), 2.5mm. 34/43 klase; Pretslīde R9 Tonis: S 4020-B | D50: m2 | E50: 1.1
A51: 32 | C51: GS-1.6 Homogēns dabigā linoleja grīdas segums "Forbo marmoleum marbled all colors" "3272 plum" (vai ekvivalents), 2.5mm. 34/43 klase; Pretslīde R9 Tonis: S 6020-R10B | D51: m2 | E51: 1.1
A52: 33 | C52: GS-1.9 GS-1.1 Homogēns dabigā linoleja grīdassegums "Forbo marmoleum fresco" "3260 leaf" (vai ekvivalents), 2.5mm. 34/43 klase; Pretslīde R9 Tonis: S 3030-G40Y | D52: m2 | E52: 325.8
A53: 34 | C53: GS-2.1 Heterogēns vinila grīdas segums "Forbo eternal material" "41002 snow contrast" (vai ekvivalents), 2.0mm. 34/43 klase; Pretslīde R10 Tonis: S 1002-G50Y | D53: m2 | E53: 129
A54: 35 | C54: GS-3.1 Heterogēns vinila grīdas segums "Forbo sphera element" "50009 lead" (vai ekvivalents), 2.0mm. 34/43 klase; Pretslīde R9 Tonis: S 4502-B | D54: m2 | E54: 95.1
A55: 36 | C55: GS-4.1 Heterogēns vinila grīdas segums "Forbo surestep star" "176422 trout" (vai ekvivalents), 2.0mm. 34/43 klase; Pretslīde R10 Tonis: S 2005-R80B | D55: m2 | E55: 128.1
... A67: 48 | C67: Elastīga polistirola grīdlīste, 16x70mm, RAI7021 | D67: m | E67: 202.4
A68: 0 | C68: 2. stāva grīdas apdare
A69: 49 | C69: Grīdu izlīdzināšana ar pašizlīdzinošo sastāvu Pašizlīdzinošā masa grīdām (piem., Baumit (vai ekvivalents) Nivello 10) ~3mm | D69: m2 | E69: =SUM(E70:E82) -> 2007.8
A70: 50 | C70: GS-1.1 Homogēns dabigā linoleja grīdas segums "Forbo marmoleum fresco" "3260 leaf” (vai ekvivalents), 2.5mm. 34/43 klase; Pretslīde R9 Tonis: S 3030-G40Y | D70: m2 | E70: 462.1
A71: 51 | C71: GS-1.2 Homogēns dabigā linoleja grīdas segums"Forbo marmoleum vivace" "3405 Granada" (vai ekvivalents), 2.5mm. 34/43 klase; Pretslīde R9 Tonis: S 5005-Y20R | D71: m2 | E71: 326.3
A72: 52 | C72: GS-1.5 Homogēns dabigā linoleja grīdas segums "Forbo marmoleum marbled all colors" "3055/33055/73055 fresco blue" (vai ekvivalents), 2.5mm. 34/43 klase; Pretslīde R9 Tonis: S 4020-B | D72: m2 | E72: 352.2
A73: 53 | C73: GS-1.6 Homogēns dabigā linoleja grīdas segums "Forbo marmoleum marbled all colors" "3272 plum" (vai ekvivalents), 2.5mm. 34/43 klase; Pretslīde R9 Tonis: S 6020- R10B | D73: m2 | E73: 100.9
A74: 54 | C74: GS-1.7 Homogēns dabigā linoleja grīdas segums "Forbo marmoleum fresco" "3846 natural corn" (vai ekvivalents), 2.5mm. 34/43 klase; Pretslīde R9 Tonis: S 1030- Y10R | D74: m2 | E74: 1.6
A75: 55 | C75: GS-1.8 Homogēns dabigā linoleja grīdas segums "Forbo marmoleum fresco" "3846 natural corn" (vai ekvivalents), 2.5mm. 34/43 klase; Pretslīde R9 Tonis: S 1030- Y10R | D75: m2 | E75: 1.2
A76: 56 | C76: GS-1.9 Homogēns dabigā linoleja grīdas segums "Forbo marmoleum fresco" "3260 leaf” (vai ekvivalents), 2.5mm. 34/43 klase; Pretslīde R9 Tonis: S 3030-G40Y | D76: m2 | E76: 362.3
A77: 57 | C77: GS-2.1 Heterogēns vinila grīdas segums "Forbo eternal material" "41002 snow contrast" (vai ekvivalents), 2.0mm. 34/43 klase; Pretslīde R10 Tonis: S 1002-G50Y | D77: m2 | E77: 111.7
A78: 58 | C78: GS-3.1 Heterogēns vinila grīdas segums "Forbo sphera element" "50009 lead" (vai ekvivalents), 2.0mm. 34/43 klase; Pretslīde R9 Tonis: S 4502-B | D78: m2 | E78: 20.9
A79: 59 | C79: GS-4.1 Heterogēns vinila grīdas segums "Forbo surestep star" "176422 trout" (vai ekvivalents), 2.0mm. 34/43 klase; Pretslīde R10 Tonis: S 2005-R80B | D79: m2 | E79: 140.8
A80: 60 | C80: GS-6.1 Heterogēns polivinilhlorīda grīdas segums "Tarkett Omnisport Reference Multi-use" "Golden Maple" (vai ekvivalents), 6.2mm; Nodiluma slāņa biezums: 0.7mm; Paliekošais iespiedums:0.10mm; Triecienu absorbcijas līmenis: 25%; Tonis: koka imitācija - zelta kļava ; | D80: m2 | E80: 74.1
A81: 61 | C81: GS-6.2 Heterogēns polivinilhlorīda grīdas segums "Tarkett Omnisport Reference Multi-use" "Light Green" (vai ekvivalents), 6.2mm; Nodiluma slāņa biezums: 0.7mm; Paliekošais iespiedums:0.10mm; Triecienu absorbcijas līmenis: 25%; Tonis: gaiši zaļš | D81: m2 | E81: 30.2
... A86: 66 | C86: Elastīga polistirola grīdlīste, 16x70mm, RAI7021 | D86: m | E86: 305.41
A87: 0 | C87: Kāpņu grīdas apdare
A88: 67 | C88: Heterogēns vinila segums "Forbo Sarlon Complete Step" "637099 cement chalk, nose black" (vai ekvivalents), 3.35mm, 34/43 klase, R9, Bfl-s1 | D88: m2 | E88: 41
A89: 68 | C89: Heterogēns vinila segums "Forbo Sarlon Complete Step" "631208 uni light grey, nose lime" (vai ekvivalents), 3.35mm, 34/43 klase, R9, Bfl-s1 | D89: m2 | E89: 3
F90: 0 | G90: 0
C91: Tiešās izmaksas kopā t.sk. darba devēja sociālais nodoklis(23,59%)
B93: Piezīmes:
A94: ='1,1'!A24:G24 -> Visas atsauces uz materiālu un izstrādājumu izgatavotaj firmām, kuras norādītas būvprojektā, liecina tikai par šo materiālu un izstrādājumu tehniskajiem parametriem un kvalitātes līmeni, to nomaiņa ir iespējama ar citiem tehniski un kvalitatīvi ekvivalentiem būvizstrādājumiem, iepriekš saskaņojot tos ar projekta autoriem un uzrādot atbilstības sertifikātus.
B98: Sastādīja: | L98: =Koptame!B41 -> Pārbaudīja:
C99: =Koptame!C36 -> 0 | M99: =Koptame!C42 -> 0
C100: =Koptame!C37 -> 0 | M100: =Koptame!C43 -> 0

Sheet 1,7
G1: Lokālā tāme Nr. | H1: =kops1!B27 -> 1,7
A2: =C13 -> Kāpnes
C3: Būves nosaukums: | D3: =Koptame!C11 -> Pirmsskolas izglītības iestāde
C4: Objekta nosaukums: | D4: =Koptame!C12 -> Pirmsskolas izglītības iestādes jaunbūve
C5: Objekta adrese: | D5: =Koptame!C13 -> Baložu iela 33, Baloži, Ķekavas novads
C6: =Koptame!B14 -> Iepirkuma Id Nr. | D6: =Koptame!C14 -> ĶNP 2023/85
A7: =Koptame!B17 -> Tāme sastādīta 2024.gada tirgus cenās | O7: Tāmes izmaksas euro: | P7: =P25 -> 0
L9: =Koptame!D16 -> Tāme sastādīta:
A11: Nr.p.k. | B11: Kods | C11: Būvdarbu nosaukums | D11: Mērvienība | E11: Daudzums | F11: Vienības izmaksas | L11: Kopā uz visu apjomu
F12: Laika norma (c/h) | G12: Darba samaksas likme (euro/h) | H12: Darba alga (euro) | I12: Būvizstrādājumi (euro) | J12: Mehānismi (euro) | K12: Kopā (euro) | L12: Darbietilpība (c/h) | M12: Darba alga (euro) | N12: Būvizstrādājumi (euro) | O12: Mehānismi (euro) | P12: Summa (euro)
A13: 0 | C13: =kops1!C27 -> Kāpnes | H13: =ROUND(G13*F13,2) -> 0 | K13: =SUM(H13:J13) -> 0 | L13: =ROUND(F13*E13,2) -> 0 | M13: =ROUND(H13*E13,2) -> 0 | N13: =ROUND(I13*E13,2) -> 0 | O13: =ROUND(J13*E13,2) -> 0 | P13: =SUM(M13:O13) -> 0
A14: 1 | C14: Saliekamā dzelzsbetona konstrukciju kāpņu (asīs D-E - bk-13.1) izbūve KL3.1;Kl3.2;KL3.3;KP1.1 t.sk. Palīgmateriāli | D14: kpl | E14: 1
A15: 2 | C15: Saliekamā dzelzsbetona konstrukciju kāpņu (Kāpnes asīs K-L bk-13.2) izbūve KL2.1;KL2.2;KP2.1t.sk. Palīgmateriāli | D15: kpl | E15: 1
A16: 3 | C16: Saliekamā dzelzsbetona konstrukciju kāpņu (Kāpnes asīs S-T - bk-13.3) izbūve KL3.1;Kl3.2;KL3.3;KP3.1 t.sk. Palīgmateriāli | D16: kpl | E16: 1
A17: 4 | C17: Saliekamā dzelzsbetona konstrukciju kāpņu (Kāpnes gaitenī - bk-13.4) KL4.1; KL4.2;KP4.1izbūve t.sk. Palīgmateriāli | D17: kpl | E17: 1
A18: 0 | C18: Kāpņu grīdas apdare, apzīmējumi
A19: 5 | C19: Heterogēns vinila segums "Forbo Sarlon Complete Step" "637099 cement chalk, nose black" (vai ekvivalents), 3.35mm, 34/43 klase, R9, Bfl-s1 | D19: m2 | E19: =41+19+41+18.5+2.3 -> 121.8
A20: 6 | C20: Heterogēns vinila segums "Forbo Sarlon Complete Step" "631208 uni light grey, nose lime" (vai ekvivalents), 3.35mm, 34/43 klase, R9, Bfl-s1 | D20: m2 | E20: =3+3+3 -> 9
A21: 7 | C21: Kāpņu D5 pakāpienu apdare Lakots "Riga decor" (vai ekvivalents) bērza saplāksnis, 18mm Apdare: gaiša laka | D21: kpl | E21: 1
A22: 8 | C22: Stāva nr. taktilais apzīmējums | D22: kpl | E22: 1
A23: 9 | C23: Pirmā un pēdējā pakāpiena marķējums | D23: kpl | E23: 1
F24: =IFERROR(ROUND(H24/G24,2),0) -> 0 | G24: =IF(H24>0,3.75,0) -> 0
C25: Tiešās izmaksas kopā t.sk. darba devēja sociālais nodoklis(23,59%)
B27: Piezīmes:
A28: ='1,1'!A24:G24 -> Visas atsauces uz materiālu un izstrādājumu izgatavotaj firmām, kuras norādītas būvprojektā, liecina tikai par šo materiālu un izstrādājumu tehniskajiem parametriem un kvalitātes līmeni, to nomaiņa ir iespējama ar citiem tehniski un kvalitatīvi ekvivalentiem būvizstrādājumiem, iepriekš saskaņojot tos ar projekta autoriem un uzrādot atbilstības sertifikātus.
B32: Sastādīja: | L32: =Koptame!B41 -> Pārbaudīja:
C33: =Koptame!C36 -> 0 | M33: =Koptame!C42 -> 0
C34: =Koptame!C37 -> 0 | M34: =Koptame!C43 -> 0

Sheet 1,8
G1: Lokālā tāme Nr. | H1: =kops1!B28 -> 1,8
A2: =C13 -> Ailu aizpildījuma elementi
C3: Būves nosaukums: | D3: =Koptame!C11 -> Pirmsskolas izglītības iestāde
C4: Objekta nosaukums: | D4: =Koptame!C12 -> Pirmsskolas izglītības iestādes jaunbūve
C5: Objekta adrese: | D5: =Koptame!C13 -> Baložu iela 33, Baloži, Ķekavas novads
C6: =Koptame!B14 -> Iepirkuma Id Nr. | D6: =Koptame!C14 -> ĶNP 2023/85
A7: =Koptame!B17 -> Tāme sastādīta 2024.gada tirgus cenās | O7: Tāmes izmaksas euro: | P7: =P75 -> 0
L9: =Koptame!D16 -> Tāme sastādīta:
A11: Nr.p.k. | B11: Kods | C11: Būvdarbu nosaukums | D11: Mērvienība | E11: Daudzums | F11: Vienības izmaksas | L11: Kopā uz visu apjomu
F12: Laika norma (c/h) | G12: Darba samaksas likme (euro/h) | H12: Darba alga (euro) | I12: Būvizstrādājumi (euro) | J12: Mehānismi (euro) | K12: Kopā (euro) | L12: Darbietilpība (c/h) | M12: Darba alga (euro) | N12: Būvizstrādājumi (euro) | O12: Mehānismi (euro) | P12: Summa (euro)
C13: =kops1!C28 -> Ailu aizpildījuma elementi | F13: 0 | G13: 0 | K13: =SUM(H13:J13) -> 0 | L13: =ROUND(F13*E13,2) -> 0 | M13: =ROUND(H13*E13,2) -> 0 | N13: =ROUND(I13*E13,2) -> 0 | O13: =ROUND(J13*E13,2) -> 0 | P13: =SUM(M13:O13) -> 0
A14: 1 | C14: Logu montāža saskaņā ar AR-6.1 t.sk. Palodzes | D14: m2 | E14: 438.1
A15: 0 | C15: L-1 ( 1x2,6 m) ALU loga profils, 3 stiklu pakete, abpusēji tonī RAL 7021 t.sk. "Rullo" tipa žalūzijas.Sauli atstarojošs audums, "Allegro PearlLight Gray" krāsā | D15: gb. | E15: 4
A16: 0 | C16: L-2 ( 1,5x2,6 m) ALU loga profils, 3 stiklu pakete, abpusēji tonī RAL 7021 | D16: gb. | E16: 9
A17: 0 | C17: L-3 ( 1,5x2,6 m) ALU loga profils, 3 stiklu pakete, abpusēji tonī RAL 7021 t.sk. Vertikālās žalūzijas.Sauli atstarojošs audums, "Allegro PearlLight Gray" krāsā | D17: gb. | E17: 6
A18: 0 | C18: L-4 ( 4x2,6 m) ALU loga profils, 3 stiklu pakete, abpusēji tonī RAL 7021 t.sk. Vertikālās žalūzijas.Sauli atstarojošs audums, "Allegro PearlLight Gray" krāsā | D18: gb. | E18: 6
A19: 0 | C19: L-5 ( 1,2x2,6 m) ALU loga profils, 3 stiklu pakete, abpusēji tonī RAL 7021 | D19: gb. | E19: 3
A20: 0 | C20: L-6 ( 1,2x1 m) ALU loga profils, 3 stiklu pakete, abpusēji tonī RAL 7021 | D20: gb. | E20: 3
A21: 0 | C21: L-7 ( 1,5x1,6 m) ALU loga profils, 3 stiklu pakete, abpusēji tonī RAL 7021 | D21: gb. | E21: 2
A22: 0 | C22: L-8 ( 2,5x2,62 m) ALU loga profils, 3 stiklu pakete, abpusēji tonī RAL 7021 | D22: gb. | E22: 10
A23: 0 | C23: L-9 ( 3x2,62 m) ALU loga profils, 3 stiklu pakete, abpusēji tonī RAL 7021 | D23: gb. | E23: 7
A24: 0 | C24: L-10 ( 3x2,62 m) ALU loga profils, 3 stiklu pakete, abpusēji tonī RAL 7021 t.sk. Vertikālās žalūzijas.Sauli atstarojošs audums, "Allegro PearlLight Gray" krāsā | D24: gb. | E24: 3
A25: 0 | C25: L-11 ( 4x2,62 m) ALU loga profils, 3 stiklu pakete, abpusēji tonī RAL 7021 t.sk. Vertikālās žalūzijas.Sauli atstarojošs audums, "Allegro PearlLight Gray" krāsā | D25: gb. | E25: 6
... A28: 0 | C28: JL-1 ( 1x2 m) ALU loga profils, 3 stiklu pakete, abpusēji tonī RAL 7021 (Anthrazitgrau Ulti Matt_UD). | D28: gb. | E28: 4
A29: 0 | C29: Montāžas materiāli (blīvējošs materiāls, stiprinājumi, ailsānu apdare, palodzes u.c.) | D29: m2 | E29: =E14 -> 438.1
A30: 2 | C30: Loga montāža saskaņā ar AR-6.1 t.sk. Palīgmateriāli, stiprinājumi d=1,5 m L-21 ALU loga profils, 3 stiklu pakete, abpusēji tonī RAL 7021 (Anthrazitgrau Ulti Matt_UD) | D30: kpl | E30: 4
A31: 3 | C31: Loga montāža saskaņā ar AR-6.1 t.sk. Palīgmateriāli, stiprinājumi d=2,0 m L-22 ALU loga profils, 3 stiklu pakete, abpusēji tonī RAL 7021 (Anthrazitgrau Ulti Matt_UD) | D31: kpl | E31: 2
A32: 4 | C32: Loga montāža saskaņā ar AR-6.1 t.sk. Palīgmateriāli, stiprinājumi d=2,2 m L-23 ALU loga profils, 3 stiklu pakete, abpusēji tonī RAL 7021 (Anthrazitgrau Ulti Matt_UD) | D32: kpl | E32: 1
A33: 5 | C33: Loga montāža saskaņā ar AR-6.1 t.sk. Palīgmateriāli, stiprinājumi d=3,5 m L-24 ALU loga profils, 3 stiklu pakete, abpusēji tonī RAL 7021 (Anthrazitgrau Ulti Matt_UD) | D33: kpl | E33: 1
A34: 6 | C34: Vitrīnas montāža saskaņā ar AR-6.3 t.sk. Palīgmateriāli, stiprinājumi SV-1 ALU profils, 3 stiklu pakete, abpusēji tonī RAL 7021 (Anthrazitgrau Ulti Matt_UD). | D34: kpl | E34: 1
A35: 7 | C35: Vitrīnas montāža saskaņā ar AR-6.3 t.sk. Palīgmateriāli, stiprinājumi SV-2 ALU profils, 3 stiklu pakete, abpusēji tonī RAL 7021 (Anthrazitgrau Ulti Matt_UD). | D35: kpl | E35: 1
A36: 8 | C36: Ārdurvju montāža saskaņā ar AR-6.2 | D36: m2 | E36: 90.3
A37: 0 | C37: AD-101 ( 2,6x2,6 m) ALU profils, 3 stiklu pakete, abpusēji tonī RAL 7021(Anthrazitgrau Ulti Matt_UD) | D37: gb. | E37: 5
A38: 0 | C38: AD-102 ( 2,6x2,6 m) ALU profils, 3 stiklu pakete, abpusēji tonī RAL 7021(Anthrazitgrau Ulti Matt_UD) | D38: gb. | E38: 2
A39: 0 | C39: AD-103 ( 3x3 m) ALU profils, 3 stiklu pakete, abpusēji tonī RAL 7021(Anthrazitgrau Ulti Matt_UD) | D39: gb. | E39: 2
A40: 0 | C40: AD-104 ( 1,8x2,6 m) ALU profils, 3 stiklu pakete, abpusēji tonī RAL 7021(Anthrazitgrau Ulti Matt_UD) | D40: gb. | E40: 1
A41: 0 | C41: AD-105 ( 1x2,6 m) ALU profils, 3 stiklu pakete, abpusēji tonī RAL 7021(Anthrazitgrau Ulti Matt_UD) | D41: gb. | E41: 4
... A43: 0 | C43: AD-107 ( 0,9x2,6 m) ALU profils, 3 stiklu pakete, abpusēji tonī RAL 7021(Anthrazitgrau Ulti Matt_UD) | D43: gb. | E43: 2
A44: 0 | C44: Montāžas materiāli (blīvējošs materiāls, stiprinājumi, ailsānu apdare u.c.) | D44: m2 | E44: =E36 -> 90.3
A45: 9 | C45: Durvju montāža saskaņā ar AR-6.4 | D45: m2 | E45: =341.8+2.2 -> 344
A46: 0 | C46: D-101 ( 1,05x2,1 m) Priedes masīvkoka durvis, kārba un aplodas, apdare – lakots ozola finierējums. | D46: gb. | E46: 12
A47: 0 | C47: D-102 ( 1,05x2,1 m) Priedes masīvkoka durvis, kārba un aplodas, apdare – lakots ozola finierējums. | D47: gb. | E47: 6
A48: 0 | C48: D-103 ( 1,05x2,1 m) Priedes masīvkoka durvis, kārba un aplodas, apdare – lakots ozola finierējums. | D48: gb. | E48: 12
A49: 0 | C49: D-201 ( 1,05x2,1 m) Priedes masīvkoka durvis, kārba un aplodas, apdare – lakots ozola finierējums. | D49: gb. | E49: 1
A50: 0 | C50: D-202 ( 1,05x2,1 m) Priedes masīvkoka durvis, kārba un aplodas, apdare – lakots ozola finierējums. | D50: gb. | E50: 1
A51: 0 | C51: D-203 ( 1,05x2,1 m) Priedes masīvkoka durvis, kārba un aplodas, apdare – lakots ozola finierējums. | D51: gb. | E51: 1
A52: 0 | C52: D-302.1 ( 0,9x2,1 m) Priedes masīvkoka durvis, kārba un aplodas, apdare – lakots ozola finierējums. | D52: gb. | E52: 2
A53: 0 | C53: D-302.2 ( 0,9x2,1 m) Priedes masīvkoka durvis, kārba un aplodas, apdare – lakots ozola finierējums. | D53: gb. | E53: 7
A54: 0 | C54: D-303 ( 1,05x2,1 m) Priedes masīvkoka durvis, kārba un aplodas, apdare – lakots ozola finierējums. | D54: gb. | E54: 3
A55: 0 | C55: D-401 ( 1,05x2,1 m) Priedes masīvkoka durvis, kārba un aplodas, apdare – lakots ozola finierējums. | D55: gb. | E55: 7
A56: 0 | C56: D-402 ( 1,05x2,1 m) Priedes masīvkoka durvis, kārba un aplodas, apdare – lakots ozola finierējums. | D56: gb. | E56: 2
A57: 0 | C57: D-403 ( 2x2,1 m) Priedes masīvkoka durvis, kārba un aplodas, apdare – lakots ozola finierējums. | D57: gb. | E57: 1
... A72: 0 | C72: UD-901 ( 1,05x2,1 m) Metāla durvis ugunsdrošas,abpusēji krāsotas tonī RAL 7021 EI30 | D72: gb. | E72: 2
A73: 0 | C73: Montāžas materiāli (blīvējošs materiāls, stiprinājumi u.c.) | D73: m2 | E73: =E45 -> 344
F74: 0 | G74: 0
C75: Tiešās izmaksas kopā t.sk. darba devēja sociālais nodoklis(23,59%)
B77: Piezīmes:
A78: ='1,1'!A24:G24 -> Visas atsauces uz materiālu un izstrādājumu izgatavotaj firmām, kuras norādītas būvprojektā, liecina tikai par šo materiālu un izstrādājumu tehniskajiem parametriem un kvalitātes līmeni, to nomaiņa ir iespējama ar citiem tehniski un kvalitatīvi ekvivalentiem būvizstrādājumiem, iepriekš saskaņojot tos ar projekta autoriem un uzrādot atbilstības sertifikātus.
B82: Sastādīja: | L82: =Koptame!B41 -> Pārbaudīja:
C83: =Koptame!C36 -> 0 | M83: =Koptame!C42 -> 0
C84: =Koptame!C37 -> 0 | M84: =Koptame!C43 -> 0

Sheet 1,9
G1: Lokālā tāme Nr. | H1: =kops1!B29 -> 1,9
A2: =C13 -> Iekšējie apdares darbi
C3: Būves nosaukums: | D3: =Koptame!C11 -> Pirmsskolas izglītības iestāde
C4: Objekta nosaukums: | D4: =Koptame!C12 -> Pirmsskolas izglītības iestādes jaunbūve
C5: Objekta adrese: | D5: =Koptame!C13 -> Baložu iela 33, Baloži, Ķekavas novads
C6: =Koptame!B14 -> Iepirkuma Id Nr. | D6: =Koptame!C14 -> ĶNP 2023/85
A7: =Koptame!B17 -> Tāme sastādīta 2024.gada tirgus cenās | O7: Tāmes izmaksas euro: | P7: =P41 -> 0
L9: =Koptame!D16 -> Tāme sastādīta:
A11: Nr.p.k. | B11: Kods | C11: Būvdarbu nosaukums | D11: Mērvienība | E11: Daudzums | F11: Vienības izmaksas | L11: Kopā uz visu apjomu
F12: Laika norma (c/h) | G12: Darba samaksas likme (euro/h) | H12: Darba alga (euro) | I12: Būvizstrādājumi (euro) | J12: Mehānismi (euro) | K12: Kopā (euro) | L12: Darbietilpība (c/h) | M12: Darba alga (euro) | N12: Būvizstrādājumi (euro) | O12: Mehānismi (euro) | P12: Summa (euro)
B13: 0 | C13: =kops1!C29 -> Iekšējie apdares darbi | F13: 0 | G13: 0 | K13: =SUM(H13:J13) -> 0 | L13: =ROUND(F13*E13,2) -> 0 | M13: =ROUND(H13*E13,2) -> 0 | N13: =ROUND(I13*E13,2) -> 0 | O13: =ROUND(J13*E13,2) -> 0 | P13: =SUM(M13:O13) -> 0
A14: 0 | C14: Griesti | G14: 0 | H14: =ROUND(F14*G14,2) -> 0 | I14: 0 | J14: 0 | K14: =SUM(H14:J14) -> 0 | L14: =ROUND(F14*E14,2) -> 0 | M14: =ROUND(H14*E14,2) -> 0 | N14: =ROUND(I14*E14,2) -> 0 | O14: =ROUND(J14*E14,2) -> 0 | P14: =SUM(M14:O14) -> 0
A15: 0 | C15: 1. stāvs | H15: =ROUND(F15*G15,2) -> 0 | K15: =SUM(H15:J15) -> 0 | L15: =ROUND(F15*E15,2) -> 0 | M15: =ROUND(H15*E15,2) -> 0 | N15: =ROUND(I15*E15,2) -> 0 | O15: =ROUND(J15*E15,2) -> 0 | P15: =SUM(M15:O15) -> 0
A16: 1 | C16: PG-1.1 Ēveļskaidas plātņu (fibrolīta) akustiskās plātnes "CEWOOD" "CW-W25S-P5-1200x600-N” (vai ekvivalents), 25mm. P5G-T24 profils; Skaida: 1.0mm; Tonis: "N" Naturāla, krāsota t.sk. Palīgmateriāli, stiprinājumi, nesošais karkass | D16: m2 | E16: =698+797.7 -> 1495.7
A17: 2 | C17: PG-1.2 Ēveļskaidas plātņu (fibrolīta) akustiskās plātnes "CEWOOD" "CW-W25S-P5-1200x600-’ GP" (vai ekvivalents), 25mm. P5G-T24 profils; Skaida: 1.0mm; Tonis: "GP" Pelēka t.sk. Palīgmateriāli, stiprinājumi, nesošais karkass | D17: m2 | E17: =114.9+292.9 -> 407.8
A18: 3 | C18: PG-2.1 Pretputekļu pārklājums uz pārseguma paneļiem | D18: m2 | E18: =188+89.4 -> 277.4
A19: 4 | C19: PG-3.1 Ģipškartona plākšņu griesti (GKB), 12.5mm. Tonis: krāsots NCS 0603-Y90R t.sk. Metāla karkass | D19: m2 | E19: =62+56.7 -> 118.7
A20: 5 | C20: Griestu gruntēšana, špaktelēšana, slīpēšana , Vetonit vai ekvivalents špaktele, grunts | D20: m2 | E20: =62+56.1 -> 118.1
A21: 6 | C21: Sagatavotu griestu gruntēšana | D21: m2 | E21: =62+56.1 -> 118.1
A22: 7 | C22: Sagatavotu griestu krāsošana ar krāsām 2k. Griestu krāsa Tonis: krāsots NCS 0603-Y90R | D22: m2 | E22: =62+56.1 -> 118.1
A23: 8 | C23: PG-4.1 Gaisa caurlaidīgu griestu zona gaisa pieplūdei: ēveļskaidas plātņu (fibrolīta) akustiskās plātnes "CEWOOD" "CW-W25S-P5-1200x600-N" (vai ekvivalents), 25mm. P5G-T24 profils; Skaida: 1.0mm; Tonis: "N" Naturāla, krāsota t.sk. Palīgmateriāli, stiprinājumi, nesošais karkass | D23: m2 | E23: =77.8+77.8 -> 155.6
A24: 9 | C24: PG-5.1 PG-5.1 Gaisa necaurlaidīgu griestu zona:ēveļskaidas plātņu (fibrolīta) akustiskās plātnes "CEWOOD" "CW-W25SP5-1200x600-N" (vai ekvivalents), 25mm. P5G-T24 profils;Skaida: 1.0mm; Tonis: "N" Naturāla, krāsota. Virs plāksnēm paredzēt "SIGA Majcoat® 150" gaisa necaurlaidīgu membrānu ar "Siga Rissan 60" t.sk. Palīgmateriāli, stiprinājumi, nesošais karkass | D24: m2 | E24: =506.4+549.5 -> 1055.9
A25: 10 | C25: PG-1.1a Ēveļskaidas plātņu (fibrolīta) akustiskās plātnes "CEWOOD" "CWW25S-P5-1200x600-N" (vai ekvivalents), 25mm ar 50mm vati (30 kg/m3). P5G-T24 profils; Skaida: 1.0mm; Tonis: "N" Naturāla, krāsota t.sk. Palīgmateriāli, stiprinājumi, nesošais karkass | D25: m2 | E25: 407
A26: 0 | C26: Sienas
A27: 11 | C27: Sienu gruntēšana, špaktelēšana, slīpēšana t.sk. Ailu apmales. , Vetonit vai ekvivalents špaktele, grunts | D27: m2 | E27: =2680.6+2147.4 -> 4828
A28: 12 | C28: Sagatavotu sienu gruntēšana t.sk. Ailu apmales | D28: m2 | E28: =2680.6+2147.4 -> 4828
A29: 13 | C29: Sagatavotu sienu krāsošana ar tonētām krāsām 2k. krāsota , m, piemēram., Sakret (vai ekvivalents) KS-G 2 kārtās. NCS S 4005-R80 B t.sk. Ailu apmales | D29: m2 | E29: =2680.6+2147.4 -> 4828
A30: 14 | C30: Hidroizolācijas ierīkošana | D30: m2 | E30: =465.8+378.8 -> 844.6
A31: 15 | C31: Flīžu seguma ierīkošana Flīžu līme, šuvju mastika, palīgmateriāli Sienas flīze "ArcanaCeramica"Miscela Nacar (vai ekvivalents); 600x600x10mm | D31: m2 | E31: 119
A32: 16 | C32: Flīžu seguma ierīkošana Flīžu līme, šuvju mastika, palīgmateriāli Sienas flīze "ArcanaCeramica" Stracciatella Nacar (vai ekvivalents); 600x600x10mm | D32: m2 | E32: 49
A33: 17 | C33: Flīžu seguma ierīkošana Flīžu līme, šuvju mastika, palīgmateriāli Sienas flīze "ArcanaCeramica" Stracciatella Grafito (vai ekvivalents); 600x600x10mm; | D33: m2 | E33: 45.5
A34: 18 | C34: "CEWOOD" "Barcode panel" (vai ekvivalents); 1200x600x25mm; tonī: RAL7006 | D34: m2 | E34: =178+165 -> 343
A35: 19 | C35: "CEWOOD" "Barcode panel" (vai ekvivalents); 1200x600x25mm; tonī: RAL7006 t.sk. Vate 50 mm 30 kg/m3 | D35: m2 | E35: 110
C36: Bērnu tualetes kabīņu komplekts
A37: 20 | C37: Laminēta LKSP: biezums 24 mm; Profili: Anodēts alumīnijs, biezums 2 mm; Furnitūra: ASSAABLOY (vai ekvivalents); EN312:2003; Tonis: RAL2001 | D37: gb | E37: 1
A38: 21 | C38: Laminēta LKSP: biezums 24 mm; Profili: Anodēts alumīnijs, biezums 2 mm; Furnitūra: ASSAABLOY (vai ekvivalents); EN312:2003; Tonis: RAL2001 | D38: gb | E38: 5
A39: 22 | C39: Laminēta LKSP: biezums 24 mm; Profili: Anodēts alumīnijs, biezums 2 mm; Furnitūra: ASSAABLOY (vai ekvivalents); EN312:2003; Tonis: RAL2001 | D39: gb | E39: 1
A40: 23 | C40: Laminēta LKSP: biezums 24 mm; Profili: Anodēts alumīnijs, biezums 2 mm; Furnitūra: ASSAABLOY (vai ekvivalents); EN312:2003; Tonis: RAL2001 | D40: gb | E40: 5
C41: Tiešās izmaksas kopā t.sk. darba devēja sociālais nodoklis(23,59%)
B43: Piezīmes:
A44: ='1,1'!A24:G24 -> Visas atsauces uz materiālu un izstrādājumu izgatavotaj firmām, kuras norādītas būvprojektā, liecina tikai par šo materiālu un izstrādājumu tehniskajiem parametriem un kvalitātes līmeni, to nomaiņa ir iespējama ar citiem tehniski un kvalitatīvi ekvivalentiem būvizstrādājumiem, iepriekš saskaņojot tos ar projekta autoriem un uzrādot atbilstības sertifikātus.
B48: Sastādīja: | L48: =Koptame!B41 -> Pārbaudīja:
C49: =Koptame!C36 -> 0 | M49: =Koptame!C42 -> 0
C50: =Koptame!C37 -> 0 | M50: =Koptame!C43 -> 0

Sheet 1,10
G1: Lokālā tāme Nr. | H1: =kops1!B30 -> 1,10
A2: =C13 -> Ārējās apdares darbi
C3: Būves nosaukums: | D3: =Koptame!C11 -> Pirmsskolas izglītības iestāde
C4: Objekta nosaukums: | D4: =Koptame!C12 -> Pirmsskolas izglītības iestādes jaunbūve
C5: Objekta adrese: | D5: =Koptame!C13 -> Baložu iela 33, Baloži, Ķekavas novads
C6: =Koptame!B14 -> Iepirkuma Id Nr. | D6: =Koptame!C14 -> ĶNP 2023/85
A7: =Koptame!B17 -> Tāme sastādīta 2024.gada tirgus cenās | O7: Tāmes izmaksas euro: | P7: =P43 -> 0
L9: =Koptame!D16 -> Tāme sastādīta:
A11: Nr.p.k. | B11: Kods | C11: Būvdarbu nosaukums | D11: Mērvienība | E11: Daudzums | F11: Vienības izmaksas | L11: Kopā uz visu apjomu
F12: Laika norma (c/h) | G12: Darba samaksas likme (euro/h) | H12: Darba alga (euro) | I12: Būvizstrādājumi (euro) | J12: Mehānismi (euro) | K12: Kopā (euro) | L12: Darbietilpība (c/h) | M12: Darba alga (euro) | N12: Būvizstrādājumi (euro) | O12: Mehānismi (euro) | P12: Summa (euro)
B13: 0 | C13: =kops1!C30 -> Ārējās apdares darbi | F13: 0 | G13: 0 | K13: =SUM(H13:J13) -> 0 | L13: =ROUND(F13*E13,2) -> 0 | M13: =ROUND(H13*E13,2) -> 0 | N13: =ROUND(I13*E13,2) -> 0 | O13: =ROUND(J13*E13,2) -> 0 | P13: =SUM(M13:O13) -> 0
A14: 0 | C14: Fasādes sagatavošanas darbi | F14: 0 | G14: 0 | H14: =ROUND(F14*G14,2) -> 0 | I14: 0 | J14: 0 | K14: =SUM(H14:J14) -> 0 | L14: =ROUND(F14*E14,2) -> 0 | M14: =ROUND(H14*E14,2) -> 0 | N14: =ROUND(I14*E14,2) -> 0 | O14: =ROUND(J14*E14,2) -> 0 | P14: =SUM(M14:O14) -> 0
A15: 1 | C15: Logu, durvju aizlīmēšana ar plēvi | D15: m2 | E15: 650
A16: 2 | C16: Sastatņu uzstādīšana ,nojaukšana ieskaitot nomu(iekļaujot sastatņu aizsargsietu) | D16: m2 | E16: 2000
A17: 0 | C17: AS 1.0
A18: 3 | C18: Ekstrudēta putupolistirola uzstādīšana XPS 120 mm t.sk. Palīgmateriāli, stiprinājumi, līmjava Baumit Pro Contact) (vai ekvivalents) | D18: m2 | E18: 224.6
A19: 4 | C19: Armējošā sieta iestrāde fasādei-cokolam. Līmēšanas un armēšanas java Baumit Pro Contact) (vai ekvivalents), Stiklašķiedras siets fasādei. | D19: m2 | E19: 224.6
A20: 5 | C20: Sienas gruntēšana. ( zem dekoratīvā apmetuma) | D20: m2 | E20: 224.6
A21: 6 | C21: Apmetuma slāņa ieklāšana sienai tonēts Ārējā apdare - plānā apmetuma sistēma saskaņā ar sistēmas turētāja ETA | D21: m2 | E21: 224.6
A22: 0 | C22: AS 1.3
A23: 7 | C23: Apmetuma slāņa ieklāšana Ārējais apmetums | D23: m2 | E23: 535.4
A24: 8 | C24: Vates iestrāde karkasā siltuma izolācijai. Siltuma izolācijas plāksnes 200 mm Paroc Ultra plus (vai ekvivalents) | D24: m2 | E24: 535.4
A25: 9 | C25: Vates iestrāde karkasā siltuma izolācijai. Siltuma izolācijas plāksnes 30 mm Paroc WAS 35t (vai ekvivalents) | D25: m2 | E25: 535.4
A26: 10 | C26: Apakškonstrukcijas montāža- Z profils | D26: m2 | E26: 535.4
A27: 11 | C27: Apakškonstrukcijas montāža-koka latas 50 mm | D27: m2 | E27: 535.4
A28: 12 | C28: Termokoksnes dēļu seguma 19 mm ieklāšana Termokoks Luna (vai ekvivalents) SHP 19x117 Apstrādāts ar lineļļas krāsu | D28: m2 | E28: 534.3
A29: 0 | C29: AS 1.4
A30: 13 | C30: Apmetuma slāņa ieklāšana Ārējais apmetums | D30: m2 | E30: 247.1
A31: 14 | C31: Vates iestrāde karkasā siltuma izolācijai. Siltuma izolācijas plāksnes 200 mm Paroc Ultra plus (vai ekvivalents) | D31: m2 | E31: 247.1
A32: 15 | C32: Vates iestrāde karkasā siltuma izolācijai. Siltuma izolācijas plāksnes 30 mm Paroc (vai ekvivalents) WAS 35t | D32: m2 | E32: 247.1
A33: 16 | C33: Apakškonstrukcijas montāža | D33: m2 | E33: 247.1
A34: 17 | C34: Sienas seguma ieklāšana.Profilēts metāla skārds ,palīgmateriāli, papildelementi. Tērauda skārda profilēts segums Ruukkifrigge (vai ekvivalents) , tonis RR2H3 Antracīts analogs jumta segumam | D34: m2 | E34: 247.1
A35: 18 | C35: Sienas seguma apakšklāja ierīkošana | D35: m2 | E35: 247.1
A36: 0 | C36: AS 1.6
A37: 19 | C37: Siltumizolācijas uzstādīšana PAROC (vai ekvivalents) LINIO 15 (150 mm) t.sk. Palīgmateriāli, stiprinājumi, līmjava Baumit Pro Contact) (vai ekvivalents) | D37: m2 | E37: 14.8
A38: 20 | C38: Apmetuma slāņa ieklāšana tonēta Ārējā apdare - plānā apmetuma sistēma saskaņā ar sistēmas turētāja ETA | D38: m2 | E38: 14.8
A39: 0 | C39: AS 1.7
A40: 21 | C40: Siltumizolācijas uzstādīšana PAROC (vai ekvivalents) LINIO 15 (200 mm) t.sk. Palīgmateriāli, stiprinājumi, līmjava Baumit Pro Contact) (vai ekvivalents) | D40: m2 | E40: 313.3
A41: 22 | C41: Apmetuma slāņa ieklāšana tonēta Ārējā apdare - plānā apmetuma sistēma saskaņā ar sistēmas turētāja ETA | D41: m2 | E41: 313.3
F42: 0 | G42: 0
C43: Tiešās izmaksas kopā t.sk. darba devēja sociālais nodoklis(23,59%)
B45: Piezīmes:
A46: ='1,1'!A24:G24 -> Visas atsauces uz materiālu un izstrādājumu izgatavotaj firmām, kuras norādītas būvprojektā, liecina tikai par šo materiālu un izstrādājumu tehniskajiem parametriem un kvalitātes līmeni, to nomaiņa ir iespējama ar citiem tehniski un kvalitatīvi ekvivalentiem būvizstrādājumiem, iepriekš saskaņojot tos ar projekta autoriem un uzrādot atbilstības sertifikātus.
B50: Sastādīja: | L50: =Koptame!B41 -> Pārbaudīja:
C51: =Koptame!C36 -> 0 | M51: =Koptame!C42 -> 0
C52: =Koptame!C37 -> 0 | M52: =Koptame!C43 -> 0

Sheet 1,11
G1: Lokālā tāme Nr. | H1: =kops1!B31 -> 1,11
A2: =C13 -> Dažādi darbi
C3: Būves nosaukums: | D3: =Koptame!C11 -> Pirmsskolas izglītības iestāde
C4: Objekta nosaukums: | D4: =Koptame!C12 -> Pirmsskolas izglītības iestādes jaunbūve
C5: Objekta adrese: | D5: =Koptame!C13 -> Baložu iela 33, Baloži, Ķekavas novads
C6: =Koptame!B14 -> Iepirkuma Id Nr. | D6: =Koptame!C14 -> ĶNP 2023/85
A7: =Koptame!B17 -> Tāme sastādīta 2024.gada tirgus cenās | O7: Tāmes izmaksas euro: | P7: =P33 -> 0
L9: =Koptame!D16 -> Tāme sastādīta:
A11: Nr.p.k. | B11: Kods | C11: Būvdarbu nosaukums | D11: Mērvienība | E11: Daudzums | F11: Vienības izmaksas | L11: Kopā uz visu apjomu
F12: Laika norma (c/h) | G12: Darba samaksas likme (euro/h) | H12: Darba alga (euro) | I12: Būvizstrādājumi (euro) | J12: Mehānismi (euro) | K12: Kopā (euro) | L12: Darbietilpība (c/h) | M12: Darba alga (euro) | N12: Būvizstrādājumi (euro) | O12: Mehānismi (euro) | P12: Summa (euro)
B13: 0 | C13: =kops1!C31 -> Dažādi darbi | F13: 0 | G13: 0 | K13: =SUM(H13:J13) -> 0 | L13: =ROUND(F13*E13,2) -> 0 | M13: =ROUND(H13*E13,2) -> 0 | N13: =ROUND(I13*E13,2) -> 0 | O13: =ROUND(J13*E13,2) -> 0 | P13: =SUM(M13:O13) -> 0
A14: 0 | C14: Margas AR-6.20 | H14: =ROUND(F14*G14,2) -> 0 | K14: =SUM(H14:J14) -> 0 | L14: =ROUND(F14*E14,2) -> 0 | M14: =ROUND(H14*E14,2) -> 0 | N14: =ROUND(I14*E14,2) -> 0 | O14: =ROUND(J14*E14,2) -> 0 | P14: =SUM(M14:O14) -> 0
A15: 1 | C15: Margu montāža M1 saskaņā ar AR-6.20 t.sk. Palīgmateriāli | D15: m | E15: =4.7+40.52 -> 45.22
A16: 2 | C16: Margu montāža M2 saskaņā ar AR-6.20 t.sk. Palīgmateriāli | D16: m | E16: 50.04
A17: 3 | C17: Margu montāža M3 saskaņā ar AR-6.20 t.sk. Palīgmateriāli | D17: m | E17: 12.36
A18: 4 | C18: Margu montāža M4 saskaņā ar AR-6.20 t.sk. Palīgmateriāli | D18: m | E18: 9.36
A19: 5 | C19: Margu montāža M5 saskaņā ar AR-6.20 t.sk. Palīgmateriāli | D19: m | E19: 7.15
A20: 6 | C20: Margu montāža M6 saskaņā ar AR-6.20 t.sk. Palīgmateriāli | D20: m | E20: 8.32
A21: 7 | C21: Margu montāža M7 saskaņā ar AR-6.20 t.sk. Palīgmateriāli | D21: m | E21: 14.18
A22: 0 | C22: Akustisie aizkari AR-6.14
A23: 8 | C23: Akustiskie aizkari "FR-One Prodigy - Supra" (vai ekvivalents); Type G-150; 3000x6400mm; stiprināms pie griestiem; auduma tonis: S7020- B90G | D23: gb | E23: 2
A24: 9 | C24: Akustiskie aizkari "FR-One Prodigy - Supra" (vai ekvivalents); Type G-150; 2800x6400mm; stiprināms pie griestiem; auduma tonis: S7020-B90G | D24: gb | E24: 2
A25: 0
A26: 10 | C26: Pozīcija dzēsta
A27: 0 | C27: Mezglu rasējumi
A28: 11 | C28: KERDYN GREEN (vai ekvivalents) 120 mm tipa siltumizolācija, stiprinājuma veidu precizēt pēc konkrētā ražotāja rekomendācijām mezgls AR-7.1, AR-7.6 | D28: m2 | E28: 29.43
A29: 12 | C29: Šķiedrcementa plāksnes 2x8 mm apšuvuma ierīkošana t.sk. Palīgmateriāli Mezgls AR 7.3;AR 7.5; AR 7.6 | D29: m2 | E29: 450
A30: 13 | C30: Hidroizolācijas lentas montāža, t.sk. Palīgmateriāli AR-7.6; AR-7.7; AR-7.1 | D30: m2 | E30: 216
A31: 14 | C31: Skārda iekšmalas ailsānu apdarei montāža, t.sk. Palīgmateriāli | D31: m2 | E31: 240
F32: 0 | G32: 0
C33: Tiešās izmaksas kopā t.sk. darba devēja sociālais nodoklis(23,59%)
B35: Piezīmes:
A36: ='1,1'!A24:G24 -> Visas atsauces uz materiālu un izstrādājumu izgatavotaj firmām, kuras norādītas būvprojektā, liecina tikai par šo materiālu un izstrādājumu tehniskajiem parametriem un kvalitātes līmeni, to nomaiņa ir iespējama ar citiem tehniski un kvalitatīvi ekvivalentiem būvizstrādājumiem, iepriekš saskaņojot tos ar projekta autoriem un uzrādot atbilstības sertifikātus.
B40: Sastādīja: | L40: =Koptame!B41 -> Pārbaudīja:
C41: =Koptame!C36 -> 0 | M41: =Koptame!C42 -> 0
C42: =Koptame!C37 -> 0 | M42: =Koptame!C43 -> 0

Sheet kops2
A2: Kopsavilkuma aprēķins Nr. 2
A6: =Koptame!C22 -> Specializētie darbi-iekšējie tīkli, sistēmas
A8: Būves nosaukums: | C8: =Koptame!C11 -> Pirmsskolas izglītības iestāde
A9: Objekta nosaukums: | C9: =Koptame!C12 -> Pirmsskolas izglītības iestādes jaunbūve
A10: Objekta adrese: | C10: =Koptame!C13 -> Baložu iela 33, Baloži, Ķekavas novads
A11: =Koptame!B14 -> Iepirkuma Id Nr. | C11: =Koptame!C14 -> ĶNP 2023/85
F13: Par kopējo summu, euro | H13: =E41 -> 0
F14: Kopējā darbietilpība, c/h | H14: =I37 -> 0
H16: =Koptame!D16 -> Tāme sastādīta:
A18: Nr.p.k. | B18: Kods, tāmes Nr. | C18: Būvdarbu veids vai konstruktīvā elementa nosaukums | E18: Tāmes izmaksas (euro) | F18: Tai skaitā | I18: Darbietilpība (c/h)
F19: darba alga (euro) | G19: materiāli (euro) | H19: mehānismi (euro)
A21: 1 | B21: 2,1 | C21: Iekšējais ūdensvads
A22: 2 | B22: 2,2 | C22: Iekšējā kanalizācija
A23: 3 | B23: 2,3 | C23: Apkure
A24: 4 | B24: 2,4 | C24: Ventilācija
A25: 5 | B25: 2,5 | C25: Gaisa kondicionēšana
A26: 6 | B26: 2,6 | C26: Siltummezgls
A27: 7 | B27: 2,7 | C27: Elektroinstalācija
A28: 8 | B28: 2,8 | C28: Ugunsgrēka signalizācijas sistēma
A29: 9 | B29: 2,9 | C29: Piekļuves kontroles sistēma
A30: 10 | B30: 2,10 | C30: Elektronisko sakaru sistēma
A31: 11 | B31: 2,11 | C31: Videonovērošanas sistēma
A32: 12 | B32: 2,12 | C32: Apsardzes signalizācijas sistēma
... A36: 18 | B36: 2,18 | C36: Lifts
C37: Kopā
A38: Virsizdevumi | D38: =kops1!$D$34
C39: tai skaitā darba aizsardzība
A40: Peļņa | D40: =kops1!$D$36
C41: Kopā bez PVN
B44: Sastādīja:
C45: =Koptame!C36 -> 0
C46: =Koptame!C37 -> 0
B50: =Koptame!B41 -> Pārbaudīja:
C51: =Koptame!C42 -> 0
C52: =Koptame!C43 -> 0

Sheet 2,1
H1: Lokālā tāme Nr. | I1: =kops2!B21 -> 2,1
A2: =C13 -> Iekšējais ūdensvads
C3: Būves nosaukums: | E3: =Koptame!C11 -> Pirmsskolas izglītības iestāde
C4: Objekta nosaukums: | E4: =Koptame!C12 -> Pirmsskolas izglītības iestādes jaunbūve
C5: Objekta adrese: | E5: =Koptame!C13 -> Baložu iela 33, Baloži, Ķekavas novads
C6: =Koptame!B14 -> Iepirkuma Id Nr. | E6: =Koptame!C14 -> ĶNP 2023/85
A7: =Koptame!B17 -> Tāme sastādīta 2024.gada tirgus cenās | P7: Tāmes izmaksas euro: | Q7: =Q188 -> 0
M9: =Koptame!D16 -> Tāme sastādīta:
A11: Nr.p.k. | B11: Kods | C11: Būvdarbu nosaukums | E11: Mērvienība | F11: Daudzums | G11: Vienības izmaksas | M11: Kopā uz visu apjomu
G12: Laika norma (c/h) | H12: Darba samaksas likme (euro/h) | I12: Darba alga (euro) | J12: Būvizstrādājumi (euro) | K12: Mehānismi (euro) | L12: Kopā (euro) | M12: Darbietilpība (c/h) | N12: Darba alga (euro) | O12: Būvizstrādājumi (euro) | P12: Mehānismi (euro) | Q12: Summa (euro)
C13: =kops2!C21 -> Iekšējais ūdensvads | L13: =SUM(I13:K13) -> 0 | M13: =ROUND(G13*F13,2) -> 0 | N13: =ROUND(I13*F13,2) -> 0 | O13: =ROUND(J13*F13,2) -> 0 | P13: =ROUND(K13*F13,2) -> 0 | Q13: =SUM(N13:P13) -> 0
C14: Montāžas un palaišanas darbi
C15: Ūdensapgāde U1
A16: 1 | C16: Ķeta caurule DN100 PN10 | D16: 100 | E16: m | F16: 1
A17: 2 | C17: Daudzslāņu caurule OD16x2.0 PN10 | D17: 16 | E17: m | F17: 510
A18: 3 | C18: Daudzslāņu caurule OD20x2.25 PN10 | D18: 20 | E18: m | F18: 483
A19: 4 | C19: Daudzslāņu caurule OD25x2.5 PN10 | D19: 25 | E19: m | F19: 95
A20: 5 | C20: Daudzslāņu caurule OD32x3.0 PN10 | D20: 32 | E20: m | F20: 72
A21: 6 | C21: Daudzslāņu caurule OD40x4.0 PN10 | D21: 40 | E21: m | F21: 67
A22: 7 | C22: Daudzslāņu caurule OD50x4.5 PN10 | D22: 50 | E22: m | F22: 64
A23: 8 | C23: Daudzslāņu caurule OD63x6.0 PN10 | D23: 63 | E23: m | F23: 38
A24: 9 | C24: Elektromagnētiskais ventīlis DN50 PN16 | D24: 50 | E24: gb | F24: 1
A25: 10 | C25: Aukstā ūdens skaitītājs DN15 Qn=1.5 m3/h ar attālinātās nolasīšans iespēju (M-bus protokols) | D25: 15 | E25: gb | F25: 1
A26: 11 | C26: Karstā ūdens skaitītājs DN15 Qn=1.5 m3/h ar attālinātās nolasīšans iespēju (M-bus protokols) | D26: 15 | E26: gb | F26: 1
A27: 12 | C27: Elektrometināma īscaurule ar rotējošu atloku DN100 PN10 | D27: 100 | E27: gb | F27: 1
... A50: 35 | C50: Porgumijas izolācija 25 mm cauurlei OD63 | D50: 63 | E50: m | F50: 31
A51: 36 | C51: Atvērumu aizdares komplekts ar ugunsdrošiem materiāliem | E51: kpl | F51: 1
A52: 37 | C52: Presējamo kompozītmateriālu veidgabalu komplekts (spiediena klase PN10) | E52: kpl | F52: 1
A53: 38 | C53: Tērauda cauruļvadu veidgabalu komplekts | E53: kpl | F53: 1
A54: 39 | C54: Cauruļvadu stiprinājuma komplekts | E54: kpl | F54: 1
A55: 40 | C55: Izbūvētās ūdens apgādes sistēmas skalošana ar dzeramās kvalitātes ūdeni | E55: kpl | F55: 1
A56: 41 | C56: Ūdensavda spiediena pārbaude | E56: kpl | F56: 1
A57: 42 | C57: Montāžas palīgmateriālu komplekts | E57: kpl | F57: 1
A58: 43 | C58: Ugunsdzēsības ūdens apgāde U2
A59: 44 | C59: Cinkota tērauda caurule DN50 PN10 | D59: 50 | E59: m | F59: 102
A60: 45 | C60: Cinkots tērauda līkums DN50 PN10 | D60: 50 | E60: gb | F60: 20
A61: 46 | C61: Cinkots tērauda trejgabals DN50/50/50 PN10 | D61: 50 | E61: gb | F61: 8
A62: 47 | C62: Lodveida ventīlis DN50 PN25 | D62: 50 | E62: gb | F62: 1
A63: 48 | C63: Vienvirziena vārsts DN50 PN25 | D63: 50 | E63: gb | F63: 1
A64: 49 | C64: Manometrs ar spiediena krituma sensoru | E64: gb | F64: 1
A65: 50 | C65: Sūkņu vadība skapis 2. elektromagnētisko vārstu vadībai pēc spiediena krituma sensora | E65: gb | F65: 1
A66: 51 | C66: Ugusndzēsības krānu kaste, iebūvējama, aprīkota ar ugunsdzēsības krānu DN25, pusstingro šļūteni 30 m, regulējamu stobru 3 pizīcijas | D66: 25 | E66: gb | F66: 9
A67: 52 | C67: Atvērumu aizdares komplekts ar ugunsdrošiem materiāliem | E67: kpl | F67: 1
A68: 53 | C68: Cauruļvadu stiprinājuma komplekts | E68: kpl | F68: 1
A69: 54 | C69: Izbūvētās ugunsdzēsības sistēmas skalošana | E69: kpl | F69: 1
A70: 55 | C70: Ūdensvada spiediena pārbaude | E70: kpl | F70: 1
A71: 56 | C71: Montāžas palīgmateriālu komplekts | E71: kpl | F71: 1
C72: Sanitārtehniskās ierīces
A73: 57 | C73: Aqualine (vai ekvivalents) dušas paliknis, akrils ar pretslīdes virsmu 800x800x150 mm komplektā ar tehnoexport sifonu 40/50 mmx500mm Lux 60 un aqualine Aquasteel (vai ekvivalents) dušas jaucējkrānu ar dušas klausuli, tai skaitā stirpinājumi | E73: iekļauts AR specifikācijā
A74: 58 | C74: Aqualine (vai ekvivalents) dušas stūra paliknis, akrils ar pretslīdes virsmu komplektā ar tehnoexport sifonu 40/50 mmx500mm Lux 60 un aqualine Aquasteel (vai ekvivalents) dušas jaucējkrānu ar dušas klausuli, tai skaitā stirpinājumi | E74: iekļauts AR specifikācijā
A75: 59 | C75: Isvea Purita Sharp (vai ekvivalents) roku mazgātne ar stiprinājumu pie sienas/uz virsmas komplektā ar jaucējkrānu, sifonu un stiprinājumiem | E75: iekļauts AR specifikācijā
A76: 60 | C76: Vitra S20 Inva (vai ekvivalents) roku mazgātne cilvēkiem ar īpašām vajadzībām, Vitra Hygiene (vai ekvivalents) antibakteriāls pārklājums, balta, ar jaucējkrānu ar garo rokturi, sifonu un stiprinājumiem | E76: iekļauts AR specifikācijā
A77: 61 | C77: Isvea Purita Sharp (vai ekvivalents) roku m azgātne, stiprinama pie sienas/uz virsmas, balta ar jaucējkrānu, sifonu, stiprinājumiem | E77: iekļauts AR specifikācijā
A78: 62 | C78: Vitra S20 roku mazgātne, Vitra Hygiene (vai ekvivalents) antibakteriāls pārklājums, bez atbalsta kājas ar jaucējkrānu, sifonu, stirpinājumiem | E78: iekļauts AR specifikācijā
A79: 63 | C79: Isvea Purita Sharp (vai ekvivalents) roku m azgātne, stiprinama pie sienas/uz virsmas, balta ar jaucējkrānu, sifonu, stiprinājumiem | E79: iekļauts AR specifikācijā
A80: 64 | C80: Vitra Sento kids (vai ekvivalents) roku mazgātne, 125 cm, Vitra Hygiene (vai ekvivalents) antibakteriālais pārklājums, dekoratīvā kāja, jaucējkrāni ar iebūvētu termostatu, sifons, stiprinājumi | E80: iekļauts AR specifikācijā
A81: 65 | C81: Vitra Sento kids (vai ekvivalents) roku mazgātne, 125 cm, Vitra Hygiene (vai ekvivalents) antibakteriālais pārklājums, dekoratīvā kāja, sifons, stiprinājumi, stiprinājumi | E81: iekļauts AR specifikācijā
A82: 66 | C82: ABU Sanitar (vai ekvivalents) triecienizturīga, polipropilēna saimniecības izlietne ar stiprinājumiem un izplūdi, jaucējkrānu, sifonu un stiprinājumiem | E82: iekļauts AR specifikācijā
A83: 67 | C83: Vitra S20 (vai ekvivalents) wc pods, citerna 2,5/4L, nosegts, universāls izvads, pievads no apakšas, (duraplast) soft close sēdriņķis_x0002_vaks, Vitra Hygiene (vai ekvivalents) antibakteriāls pārklājums | E83: iekļauts AR specifikācijā
A84: 68 | C84: Vitra Zentrum (vai ekvivalents) WC brīvi stāvošs pods, 3/6 L, Rim-ex, (sduraplst) soft close sēdriņkis -vāks, daļēji nosegts, universāls izvads, pievads no apakšas. Vitra Hygiene (vai ekvivalents) antibakteriāls pārklājums | E84: iekļauts AR specifikācijā
... A87: 71 | C87: Jaucējkrāns ar iebūvētu termostatu, uzstādāms grupu santiārajos mezglos un ēdamzālē | E87: iekļauts AR specifikācijā
A88: 72 | C88: Bideta Hansagrohe 1jetS EcoSmart (vai ekvivalents) ar ūdens saimaisīšans termostatu, ar dušas turētāju un dušas cauruli 125 cm | E88: kpl | F88: 1
C89: Sanitārtehniskās ierīces AR
A90: 73 | C90: Bērnu pārtinamais galds "Babymedi", vertikāls, antibakteriāls; | E90: gb | F90: 6
A91: 74 | C91: atbilst EN 12221-1 un EN 12221-2
A92: 33
A93: 34 | C93: Dušas kabīnes komplekts ar dušas paliktni ar pretslīdes virsmu; | E93: gb | F93: 1
A94: 35 | C94: "CEPRI" stikls. Komplektā: "Aqualine Aquasteel" (vai ekvivalents) dušas
A95: 36 | C95: jaucējkrāns ar dušas klausuli, stiprinājumu, nerūsējošais
A96: 37 | C96: tērauds.
A97: 38
A98: 39 | C98: Iebūvēts dušas kabīnes komplekts ar dušas paliktni ar | E98: kpl | F98: 1
A99: 40 | C99: pretslīdes virsmu; "CEPRI" stikls. Komplektā: "Aqualine (vai ekvivalents)
A100: 41 | C100: Aquasteel" (vai ekvivalents) dušas jaucējkrāns ar dušas klausuli, stiprinājumu,
A101: 42 | C101: nerūsējošais tērauds.
A102: 43
A103: 44 | C103: "Aqualine" (vai ekvivalents) dušas stūra paliknis, akrila ar pretlīdes virsmu, | E103: kpl | F103: 12
A104: 45 | C104: pusaplis; tonis: balts. Komplektā: "Aqualine Aquasteel" (vai ekvivalents) dušas
A105: 46 | C105: jaucējkrāns ar dušas klausuli, stiprinājumu, nerūsējošais
A106: 47 | C106: tērauds.
A107: 48
A108: 49 | C108: "Aqualine Aquasteel" (vai ekvivalents) dušas jaucējkrāns ar dušas klausuli, | E108: kpl | F108: 12
A109: 50 | C109: stiprinājumu, nerūsējošais tērauds
A110: 51 | C110: Bidē duša "Vento Ultra" (vai ekvivalents), hromēta, stiprināma pie sienas | E110: kpl | F110: 1
A111: 52 | C111: "Isvea Purita Sharp" (vai ekvivalents) roku mazgātne, stiprināma pie sienas, | E111: kpl | F111: 5
A112: 53 | C112: balta. Komplektā: Jaucēkrāns CERAFFINE O, ar POP-UP (vai ekvivalents)
A113: 54 | C113: izplūdi, patēriņš 5l/min, hroms. Sifons DESIGN (vai ekvivalents) 11/4x32mm,
A114: 55 | C114: hroms
A115: 56
A116: 57 | C116: "Isvea Purita Sharp" (vai ekvivalents) roku mazgātne, stiprināma pie sienas, | E116: kpl | F116: 3
A117: 58 | C117: balta. Komplektā: Jaucēkrāns CERAFFINE O, ar POP-UP (vai ekvivalents)
A118: 59 | C118: izplūdi, patēriņš 5l/min, hroms. Sifons DESIGN 11/4x32mm, (vai ekvivalents)
A119: 60 | C119: hroms
A120: 61
A121: 62 | C121: "Isvea Purita Sharp" (vai ekvivalents) roku mazgātne, stiprināma pie sienas, | E121: kpl | F121: 14
A122: 63 | C122: balta. Komplektā: Jaucēkrāns CERAFFINE O, ar POP-UP (vai ekvivalents)
A123: 64 | C123: izplūdi, patēriņš 5l/min, hroms. Sifons DESIGN (vai ekvivalents) 11/4x32mm,
A124: 65 | C124: hroms
A125: 66
A126: 67 | C126: "Vitra S20 Inva" (vai ekvivalents) roku mazgātne cilvēkiem ar īpašām | E126: kpl | F126: 3
...

Sheet 2,2
H1: Lokālā tāme Nr. | I1: =kops2!B22 -> 2,2
A2: =C13 -> Iekšējā kanalizācija
C3: Būves nosaukums: | E3: =Koptame!C11 -> Pirmsskolas izglītības iestāde
C4: Objekta nosaukums: | E4: =Koptame!C12 -> Pirmsskolas izglītības iestādes jaunbūve
C5: Objekta adrese: | E5: =Koptame!C13 -> Baložu iela 33, Baloži, Ķekavas novads
C6: =Koptame!B14 -> Iepirkuma Id Nr. | E6: =Koptame!C14 -> ĶNP 2023/85
A7: =Koptame!B17 -> Tāme sastādīta 2024.gada tirgus cenās | P7: Tāmes izmaksas euro: | Q7: =Q39 -> 0
M9: =Koptame!D16 -> Tāme sastādīta:
A11: Nr.p.k. | B11: Kods | C11: Būvdarbu nosaukums | E11: Mērvienība | F11: Daudzums | G11: Vienības izmaksas | M11: Kopā uz visu apjomu
G12: Laika norma (c/h) | H12: Darba samaksas likme (euro/h) | I12: Darba alga (euro) | J12: Būvizstrādājumi (euro) | K12: Mehānismi (euro) | L12: Kopā (euro) | M12: Darbietilpība (c/h) | N12: Darba alga (euro) | O12: Būvizstrādājumi (euro) | P12: Mehānismi (euro) | Q12: Summa (euro)
B13: 0 | C13: =kops2!C22 -> Iekšējā kanalizācija | G13: 0 | H13: 0 | I13: 0 | J13: 0 | K13: 0 | L13: =SUM(I13:K13) -> 0 | M13: =ROUND(G13*F13,2) -> 0 | N13: =ROUND(I13*F13,2) -> 0 | O13: =ROUND(J13*F13,2) -> 0 | P13: =ROUND(K13*F13,2) -> 0 | Q13: =SUM(N13:P13) -> 0
C14: Montāžas un palaišanas darbi
C15: Saimnieciskā kanalizācija | L15: =SUM(I15:K15) -> 0 | M15: =ROUND(G15*F15,2) -> 0 | N15: =ROUND(I15*F15,2) -> 0 | O15: =ROUND(J15*F15,2) -> 0 | P15: =ROUND(K15*F15,2) -> 0 | Q15: =SUM(N15:P15) -> 0
A16: 1 | C16: PP pašteces kanalizācijas caurule | D16: 32 | E16: m | F16: 257
A17: 2 | C17: PP pašteces kanalizācijas caurule | D17: 50 | E17: m | F17: 167
A18: 3 | C18: PP pašteces kanalizācijas caurule | D18: 110 | E18: m | F18: 456
A19: 4 | C19: Klozetpoda pievienojums | D19: 110 | E19: gb | F19: 48
A20: 5 | C20: Sausā tipa traps ar vertikālu izvadu | D20: 50 | E20: gb | F20: 7
A21: 6 | C21: Sausā tipa traps ar vertikālu izvadu | D21: 100 | E21: gb | F21: 14
A22: 7 | C22: Nerūsējošā tērauda higiēnisks traps 500x500 vinila grīdām, izvadu DN100, sifonu, gružu sietu ar tilpumu 0,6l, nerūsējošā tērauda režģi, slodzes klase L15, atbilstoši LVS EN1253. | D22: 500x500 | E22: gb | F22: 3
A23: 8 | C23: Nerūsējošā tērauda higiēnisks traps 500x800 vinila grīdām, izvadu DN100, sifonu, gružu sietu ar tilpumu 0,6l, nerūsējošā tērauda režģi, slodzes klase L15, atbilstoši LVS EN1253. | D23: 500x800 | E23: gb | F23: 1
A24: 9 | C24: Nerūsējošā tērauda higiēnisks traps 400x400 vinila grīdām, izvadu DN100, sifonu, gružu sietu ar tilpumu 0,6l, nerūsējošā tērauda režģi, slodzes klase L15, atbilstoši LVS EN1253. | D24: 400x400 | E24: gb | F24: 1
A25: 10 | C25: Nerūsējošā tērauda traps ACO EG150, paredzēts vinila grīdas segumam, vetrtikālu izvadu DN100, sifonu, skrūvējamu nerūsējošā tērauda resti, slodzes klase K3, caurplūde 1,2 l/s. Atbilst LVS EN 1253 | D25: 170x170 | E25: gb | F25: 3
A26: 11 | C26: ACO TL nerūsējošā tērauda grīdas revīzijas (tīrīšanas) lūka Ø110 ar smaku drošu vāku 150x150mm, slodzes klase L15 | D26: 100 | E26: gb | F26: 22
A27: 12 | C27: Revīzija ar vāku | D27: 100 | E27: gb | F27: 13
A28: 13 | C28: Vakummvārsts DN110 | D28: 110 | E28: gb | F28: 2
A29: 14 | C29: VILPE (vai ekvivalents) Ø110P/500 SEWER VENTILATION PIPE WITH COWL | D29: 110 | E29: gb | F29: 4
A30: 15 | C30: Ārpus pārseguma uzstādāma ugusndrošā manžete | D30: 110 | E30: gb | F30: 10
A31: 16 | C31: Ārpus pārseguma uzstādāma ugusndrošā manžete | D31: 50 | E31: gb | F31: 18
A32: 17 | C32: Ārpus pārseguma uzstādāma ugusndrošā manžete | D32: 32 | E32: gb | F32: 4
A33: 18 | C33: Sifons Wavin (vai ekvivalents) HEPVO 32 mm | D33: 32 | E33: gb | F33: 19
A34: 19 | C34: Atvērumu aizdares komplekts ar ugunsdrošiem materiāliem | E34: gb | F34: 1
A35: 20 | C35: Cauruļvadu veidgabalu komplkets | E35: gb | F35: 1
A36: 21 | C36: Cauruļvadu stiprinājuma komplekts | E36: gb | F36: 1
A37: 22 | C37: Montāžas palīgmateriālu komplekts | E37: gb | F37: 1
C39: Tiešās izmaksas kopā, t.sk. darba devēja sociālais nodoklis(23,59%)
B41: Piezīmes:
A42: ='1,1'!A24:G24 -> Visas atsauces uz materiālu un izstrādājumu izgatavotaj firmām, kuras norādītas būvprojektā, liecina tikai par šo materiālu un izstrādājumu tehniskajiem parametriem un kvalitātes līmeni, to nomaiņa ir iespējama ar citiem tehniski un kvalitatīvi ekvivalentiem būvizstrādājumiem, iepriekš saskaņojot tos ar projekta autoriem un uzrādot atbilstības sertifikātus.
B46: Sastādīja: | M46: =Koptame!B41 -> Pārbaudīja:
C47: =Koptame!C36 -> 0 | N47: =Koptame!C42 -> 0
C48: =Koptame!C37 -> 0 | N48: =Koptame!C43 -> 0

Sheet 2,3
H1: Lokālā tāme Nr. | I1: =kops2!$B$23 -> 2,3
A2: =C13 -> Apkure
C3: Būves nosaukums: | E3: =Koptame!C11 -> Pirmsskolas izglītības iestāde
C4: Objekta nosaukums: | E4: =Koptame!C12 -> Pirmsskolas izglītības iestādes jaunbūve
C5: Objekta adrese: | E5: =Koptame!C13 -> Baložu iela 33, Baloži, Ķekavas novads
C6: =Koptame!B14 -> Iepirkuma Id Nr. | E6: =Koptame!C14 -> ĶNP 2023/85
A7: =Koptame!B17 -> Tāme sastādīta 2024.gada tirgus cenās | P7: Tāmes izmaksas euro: | Q7: =Q82 -> 0
M9: =Koptame!D16 -> Tāme sastādīta:
A11: Nr.p.k. | B11: Kods | C11: Būvdarbu nosaukums | E11: Mērvienība | F11: Daudzums | G11: Vienības izmaksas | M11: Kopā uz visu apjomu
G12: Laika norma (c/h) | H12: Darba samaksas likme (euro/h) | I12: Darba alga (euro) | J12: Būvizstrādājumi (euro) | K12: Mehānismi (euro) | L12: Kopā (euro) | M12: Darbietilpība (c/h) | N12: Darba alga (euro) | O12: Būvizstrādājumi (euro) | P12: Mehānismi (euro) | Q12: Summa (euro)
B13: 0 | C13: =kops2!C23 -> Apkure | G13: 0 | H13: 0 | I13: 0 | J13: 0 | K13: 0 | L13: =SUM(I13:K13) -> 0 | M13: =ROUND(G13*F13,2) -> 0 | N13: =ROUND(I13*F13,2) -> 0 | O13: =ROUND(J13*F13,2) -> 0 | P13: =ROUND(K13*F13,2) -> 0 | Q13: =SUM(N13:P13) -> 0
C14: Montāžas un palaišanas darbi
A15: 1 | C15: Daudzslāņu caurule MLC OD25x2.5 | D15: 25 | E15: m | F15: 57
A16: 2 | C16: Daudzslāņu caurule MLC OD32x3.0 | D16: 32 | E16: m | F16: 262
A17: 3 | C17: Daudzslāņu caurule MLC OD40x4.0 | D17: 40 | E17: m | F17: 39
A18: 4 | C18: Daudzslāņu caurule MLC OD50x4.5 | D18: 50 | E18: m | F18: 28
A19: 5 | C19: Daudzslāņu caurule MLC OD63x6.0 | D19: 63 | E19: m | F19: 204
A20: 6 | C20: Tērauda/oglekļa caurule DN100 | D20: 100 | E20: m | F20: 10
A21: 7 | C21: Silto grīdu caurule UNIPIPE (vai ekvivalents) OD16 | D21: 16 | E21: m | F21: 21290
A22: 8 | C22: Presējamo cauruļvadu veidgabalu kompkekts | E22: gb | F22: 1
A23: 9 | C23: Presējamo tērauda cauruļvadu veidgabalu komplekts | E23: gb | F23: 1
A24: 10 | C24: 3. loku sadales kolektors ar jaudu 187 kW | E24: gb | F24: 1
A25: 11 | C25: Nerūsējošā tērauda sadalītājs 1'' ar plūsmas mērītājiem, 6 cilpu | E25: gb | F25: 1
A26: 12 | C26: Nerūsējošā tērauda sadalītājs 1'' ar plūsmas mērītājiem, 7 cilpu | E26: gb | F26: 2
A27: 13 | C27: Nerūsējošā tērauda sadalītājs 1'' ar plūsmas mērītājiem, 8 cilpu | E27: gb | F27: 2
A28: 14 | C28: Nerūsējošā tērauda sadalītājs 1'' ar plūsmas mērītājiem, 9 cilpu | E28: gb | F28: 1
A29: 15 | C29: Nerūsējošā tērauda sadalītājs 1'' ar plūsmas mērītājiem, 10 cilpu | E29: gb | F29: 6
A30: 16 | C30: Nerūsējošā tērauda sadalītājs 1'' ar plūsmas mērītājiem, 11 cilpu | E30: gb | F30: 9
A31: 17 | C31: Nerūsējošā tērauda sadalītājs 1'' ar plūsmas mērītājiem, 12 cilpu | E31: gb | F31: 5
A32: 18 | C32: Sadalītāja skapis Uponor (vai ekvivalents) Vario IW, iebūvējams ar rāmi un druvīm, augstums 700 mm, platums 730 mm, skapja iebūves dziļums 110 mm, baltā krāsā | E32: gb | F32: 26
A33: 19 | C33: Kompresijas pievienojums, 16x2.0x3/4'' eirokonuss | E33: gb | F33: 264
A34: 20 | C34: Savienojuma modulis, specifikāciju skatīt VAS projekta sadaļā | E34: gb | F34: 1
A35: 21 | C35: Lodveida krāns 1'' ā.v.x1''i.v. | D35: 25 | E35: gb | F35: 52
A36: 22 | C36: Lodveida krāns DN15 | D36: 15 | E36: gb | F36: 20
A37: 23 | C37: Lodveida krāns DN25 | D37: 20 | E37: gb | F37: 20
A38: 24 | C38: Lodveida krāns DN50 | D38: 50 | E38: gb | F38: 6
A39: 25 | C39: Atgaisošanas un regulācijas vārsts | D39: 15 | E39: gb | F39: 52
A40: 26 | C40: Balansējošais vārsts Danfoss (vai ekvivalents) MSV-BD DN20 | D40: 20 | E40: gb | F40: 26
A41: 27 | C41: Līkuma veidnis 16 mm | E41: gb | F41: 264
A42: 28 | C42: Izpildmehānisms 24VDC, 30x1.5 i.v. Nerūsējošā tērauda sadalītājiem | E42: gb | F42: 132
A43: 29 | C43: Termo šuves profils, pašlīmējošs garums 2m, augstums 100mm, biezums 10mm | E43: gb | F43: 134
A44: 30 | C44: Telpas termostati, specifikāciju skatīt VAS sadaļā | E44: gb | F44: 1
A45: 31 | C45: Apmales lenta 150x8 mm; 50 m rullī | E45: gb | F45: 44
A46: 32 | C46: Cauruļu pozicinēšanas panelis x-net C-11 | E46: m2 | F46: 4318
A47: 33 | C47: Aizsargčaulu 20 mm komplekts | E47: gb | F47: 1
A48: 34 | C48: Porgumijas izolācija 19 mm | D48: 25 | E48: m | F48: 57
A49: 35 | C49: Porgumijas izolācija 19 mm | D49: 32 | E49: m | F49: 262
A50: 36 | C50: Porgumijas izolācija 19 mm | D50: 40 | E50: m | F50: 39
A51: 37 | C51: Porgumijas izolācija 19 mm | D51: 50 | E51: m | F51: 28
A52: 38 | C52: Porgumijas izolācija 19 mm | D52: 63 | E52: m | F52: 204
A53: 39 | C53: Porgumijas izolācija 19 mm | D53: 100 | E53: m | F53: 10
A54: 40 | C54: Cauruļvadu stiprinājuma komplekts | E54: kpl | F54: 1
A55: 41 | C55: Sistēmas skalošana | E55: kpl | F55: 1
A56: 42 | C56: Izbūvēto sistēmu spiediena pārbaude | E56: kpl | F56: 1
A57: 43 | C57: Caurumu izdare ar atbilstošiem ugunsdrošiem materiāliem | E57: kpl | F57: 1
A58: 44 | C58: Elektroapsaistes materiālu komplekts | E58: kpl | F58: 1
A59: 45 | C59: Montāžas palīgmateriālu komplekts | E59: kpl | F59: 1
A60: 46 | C60: Ventilācijas gaisa piesildes sistēma
A61: 47 | C61: Hidrauliskais komplekts PN1, PN2 sistēmai -- Cirkulācijas sūknis Stratos (vai ekvivalents) PICO 25/0.5-6, trejzaru vārsts ar izpildmehānismu DN20 (Kvs1.6) Dp=6.0 kPa, ūdens filtrs DN25, Lodveida ventīlis DN25 (5 gab), pretvārsts DN25, balasnēšanas vārsts Danfoss MSV-BD DN25 (2 gab), termoetrs T=0-100˚ (4gab), manometrs P=0-5 bar (5 gab), automātiskais atgaisotājs DN15, Drenāža DN15 | E61: gb | F61: 2
A62: 48 | C62: Hidrauliskais komplekts PN-3 sistēmai -- Cirkulācijas sūknis Stratos PICO (vai ekvivalents) 25/0.5-6, trejzaru vārsts ar izpildmehānismu DN20 (Kvs1.6) Dp=8.0 kPa, ūdens filtrs DN25, Lodveida ventīlis DN25 (5 gab), pretvārsts DN25, balasnēšanas vārsts Danfoss MSV-BD DN25 (2 gab), termoetrs T=0-100˚ (4gab), manometrs P=0-5 bar (5 gab), automātiskais atgaisotājs DN15, Drenāža DN15 | E62: gb | F62: 1
A63: 49 | C63: Hidrauliskais komplekts PN4 sistēmai -- Cirkulācijas sūknis Stratos (vai ekvivalents) PICO 25/0.5-6, trejzaru vārsts ar izpildmehānismu DN20 (Kvs4) Dp=3.8 kPa, ūdens filtrs DN25, Lodveida ventīlis DN25 (5 gab), pretvārsts DN25, balasnēšanas vārsts Danfoss MSV-BD DN25 (2 gab), termoetrs T=0-100˚ (4gab), manometrs P=0-5 bar (5 gab), automātiskais atgaisotājs DN15, Drenāža DN15 | E63: gb | F63: 1
A64: 50 | C64: Hidrauliskais komplekts PN5 sistēmai -- Cirkulācijas sūknis Stratos (vai ekvivalents) PICO (vai ekvivalents) 25/0.5-6, trejzaru vārsts ar izpildmehānismu DN25 (Kvs4.0) Dp=6.3 kPa, ūdens filtrs DN32, Lodveida ventīlis DN32 (5 gab), pretvārsts DN32, balasnēšanas vārsts Danfoss MSV-BD DN25 (2 gab), termoetrs T=0-100˚ (4gab), manometrs P=0-5 bar (5 gab), automātiskais atgaisotājs DN15, Drenāža DN15 | E64: gb | F64: 1
A65: 51 | C65: Cirkulācijas sūknis q=0.57 l/s H=11 m, ldoveida ventīlis DN25 - 7 gab., izplešānās trauks 25 litri, lodveida krāns DN15 ar kapi, drošības vārsts 3bar, DN15, tērauda caurue DN25, siltumizolācija | E65: gb | F65: 1
A66: 52 | C66: Daudzslāņu caurule MLC OD32x3.0 | D66: 32 | E66: m | F66: 45
A67: 53 | C67: Daudzslāņu caurule MLC OD40x4.0 | D67: 40 | E67: m | F67: 17
A68: 54 | C68: Daudzslāņu caurule MLC OD50x4.5 | D68: 50 | E68: m | F68: 53
A69: 55 | C69: Daudzslāņu caurule MLC OD63x6.0 | D69: 63 | E69: m | F69: 106
A70: 56 | C70: Presējamo cauruļvadu veidgabalu kompkekts | E70: gb | F70: 1
A71: 57 | C71: Porgumijas izolācija 19 mm | D71: 32 | E71: m | F71: 45
A72: 58 | C72: Porgumijas izolācija 19 mm | D72: 40 | E72: m | F72: 17
A73: 59 | C73: Porgumijas izolācija 19 mm | D73: 50 | E73: m | F73: 53
A74: 60 | C74: Porgumijas izolācija 19 mm | D74: 63 | E74: m | F74: 106
A75: 61 | C75: Cauruļvadu stiprinājuma komplekts | E75: kpl | F75: 1
A76: 62 | C76: Caurumu izdare ar atbilstošiem ugunsdrošiem materiāliem | E76: kpl | F76: 1
A77: 63 | C77: Sistēmas skalošana | E77: kpl | F77: 1
A78: 64 | C78: Izbūvēto sistēmu spiediena pārbaude | E78: kpl | F78: 1
A79: 65 | C79: Elektroapsaistes materiālu komplekts | E79: kpl | F79: 1
A80: 66 | C80: Montāžas palīgmateriālu komplekts | E80: kpl | F80: 1
C82: Tiešās izmaksas kopā, t.sk. darba devēja sociālais nodoklis(23,59%)
B84: Piezīmes:
A85: ='1,1'!A24:G24 -> Visas atsauces uz materiālu un izstrādājumu izgatavotaj firmām, kuras norādītas būvprojektā, liecina tikai par šo materiālu un izstrādājumu tehniskajiem parametriem un kvalitātes līmeni, to nomaiņa ir iespējama ar citiem tehniski un kvalitatīvi ekvivalentiem būvizstrādājumiem, iepriekš saskaņojot tos ar projekta autoriem un uzrādot atbilstības sertifikātus.
B89: Sastādīja: | M89: =Koptame!B41 -> Pārbaudīja:
C90: =Koptame!C36 -> 0 | N90: =Koptame!C42 -> 0
C91: =Koptame!C37 -> 0 | N91: =Koptame!C43 -> 0

Sheet 2,4
H1: Lokālā tāme Nr. | I1: =kops2!B24 -> 2,4
A2: =C13 -> Ventilācija
C3: Būves nosaukums: | E3: =Koptame!C11 -> Pirmsskolas izglītības iestāde
C4: Objekta nosaukums: | E4: =Koptame!C12 -> Pirmsskolas izglītības iestādes jaunbūve
C5: Objekta adrese: | E5: =Koptame!C13 -> Baložu iela 33, Baloži, Ķekavas novads
C6: =Koptame!B14 -> Iepirkuma Id Nr. | E6: =Koptame!C14 -> ĶNP 2023/85
A7: =Koptame!B17 -> Tāme sastādīta 2024.gada tirgus cenās | P7: Tāmes izmaksas euro: | Q7: =Q302 -> 0
M9: =Koptame!D16 -> Tāme sastādīta:
A11: Nr.p.k. | B11: Kods | C11: Būvdarbu nosaukums | E11: Mērvienība | F11: Daudzums | G11: Vienības izmaksas | M11: Kopā uz visu apjomu
G12: Laika norma (c/h) | H12: Darba samaksas likme (euro/h) | I12: Darba alga (euro) | J12: Būvizstrādājumi (euro) | K12: Mehānismi (euro) | L12: Kopā (euro) | M12: Darbietilpība (c/h) | N12: Darba alga (euro) | O12: Būvizstrādājumi (euro) | P12: Mehānismi (euro) | Q12: Summa (euro)
B13: 0 | C13: =kops2!C24 -> Ventilācija | G13: 0 | H13: 0 | I13: 0 | J13: 0 | K13: 0 | L13: =SUM(I13:K13) -> 0 | M13: =ROUND(G13*F13,2) -> 0 | N13: =ROUND(I13*F13,2) -> 0 | O13: =ROUND(J13*F13,2) -> 0 | P13: =ROUND(K13*F13,2) -> 0 | Q13: =SUM(N13:P13) -> 0
C14: Montāžas un palaišanas darbi
A15: 1 | C15: Gaisa vads | D15: 100 | E15: m | F15: 116
A16: 2 | C16: Gaisa vads | D16: 125 | E16: m | F16: 136
A17: 3 | C17: Gaisa vads | D17: 160 | E17: m | F17: 184
A18: 4 | C18: Gaisa vads | D18: 200 | E18: m | F18: 260
A19: 5 | C19: Gaisa vads | D19: 250 | E19: m | F19: 287
A20: 6 | C20: Gaisa vads | D20: 315 | E20: m | F20: 455
A21: 7 | C21: Gaisa vads | D21: 400 | E21: m | F21: 132
A22: 8 | C22: Gaisa vads | D22: 500 | E22: m | F22: 164
A23: 9 | C23: Gaisa vads | D23: 630 | E23: m | F23: 50
A24: 10 | C24: Gaisa vads | D24: 800x400 | E24: m | F24: 1
A25: 11 | C25: Gaisa vads | D25: 800x600 | E25: m | F25: 5
A26: 12 | C26: Gaisa vads | D26: 1000x400 | E26: m | F26: 18
A27: 13 | C27: Gaisa vads | D27: 1000x600 | E27: m | F27: 27
A28: 14 | C28: Gaisa vads | D28: 1200x400 | E28: m | F28: 36
A29: 15 | C29: Līkums-15 | D29: 315 | E29: gb | F29: 1
A30: 16 | C30: Līkums-15 | D30: 500 | E30: gb | F30: 1
A31: 17 | C31: Līkums-15 | D31: 600x800 | E31: gb | F31: 2
A32: 18 | C32: Līkums-30 | D32: 160 | E32: gb | F32: 1
A33: 19 | C33: Līkums-30 | D33: 630 | E33: gb | F33: 2
A34: 20 | C34: Līkums-45 | D34: 100 | E34: gb | F34: 4
A35: 21 | C35: Līkums-45 | D35: 125 | E35: gb | F35: 4
A36: 22 | C36: Līkums-45 | D36: 250 | E36: gb | F36: 2
A37: 23 | C37: Līkums-45 | D37: 400 | E37: gb | F37: 4
A38: 24 | C38: Līkums-45 | D38: 500 | E38: gb | F38: 4
A39: 25 | C39: Līkums-45 | D39: 630 | E39: gb | F39: 2
A40: 26 | C40: Līkums-60 | D40: 100 | E40: gb | F40: 2
A41: 27 | C41: Līkums-60 | D41: 315 | E41: gb | F41: 1
A42: 28 | C42: Līkums-90 | D42: 100 | E42: gb | F42: 47
A43: 29 | C43: Līkums-90 | D43: 125 | E43: gb | F43: 52
... A50: 36 | C50: Līkums-90 | D50: 630 | E50: gb | F50: 15
A51: 37 | C51: Līkums-90 | D51: 400x1000 | E51: gb | F51: 2
A52: 38 | C52: Līkums-90 | D52: 400x1200 | E52: gb | F52: 4
A53: 39 | C53: Līkums-90 | D53: 600x1000 | E53: gb | F53: 2
A54: 40 | C54: Līkums-90 | D54: 800x600 | E54: gb | F54: 1
A55: 41 | C55: Līkums-90 | D55: 1000x400 | E55: gb | F55: 2
A56: 42 | C56: Līkums-90 | D56: 1000x600 | E56: gb | F56: 2
A57: 43 | C57: Līkums-90 | D57: 1200x400 | E57: gb | F57: 4
A58: 44 | C58: Līkums-23 | D58: 600x800/400x800 | E58: gb | F58: 1
A59: 45 | C59: Līkums-02 | D59: 500 | E59: gb | F59: 1
A60: 46 | C60: Līkums-06 | D60: 315 | E60: gb | F60: 1
A61: 47 | C61: Līkums-09 | D61: 315 | E61: gb | F61: 1
A62: 48 | C62: Līkums-19 | D62: 500 | E62: gb | F62: 1
A63: 49 | C63: Līkums-24 | D63: 315 | E63: gb | F63: 1
A64: 50 | C64: Līkums-25 | D64: 400 | E64: gb | F64: 2
A65: 51 | C65: Līkums-33 | D65: 100 | E65: gb | F65: 1
A66: 52 | C66: Līkums-35 | D66: 630 | E66: gb | F66: 1
A67: 53 | C67: Līkums-36 | D67: 500 | E67: gb | F67: 2
A68: 54 | C68: Līkums-38 | D68: 400 | E68: gb | F68: 2
A69: 55 | C69: Līkums-38 | D69: 500 | E69: gb | F69: 2
A70: 56 | C70: Līkums-39 | D70: 500 | E70: gb | F70: 1
... A76: 62 | C76: Līkums-84 | D76: 250 | E76: gb | F76: 2
A77: 63 | C77: Līkums-23 | D77: 400x800 | E77: gb | F77: 1
A78: 64 | C78: Sānu pievienojums ar gumiju | D78: 100/100 | E78: gb | F78: 6
A79: 65 | C79: Sānu pievienojums ar gumiju | D79: 125/100 | E79: gb | F79: 6
A80: 66 | C80: Sānu pievienojums ar gumiju | D80: 125/125 | E80: gb | F80: 6
A81: 67 | C81: Sānu pievienojums ar gumiju | D81: 160/100 | E81: gb | F81: 4
A82: 68 | C82: Sānu pievienojums ar gumiju | D82: 160/125 | E82: gb | F82: 9
A83: 69 | C83: Sānu pievienojums ar gumiju | D83: 160/160 | E83: gb | F83: 10
A84: 70 | C84: Sānu pievienojums ar gumiju | D84: 200/100 | E84: gb | F84: 2
A85: 71 | C85: Sānu pievienojums ar gumiju | D85: 200/125 | E85: gb | F85: 7
A86: 72 | C86: Sānu pievienojums ar gumiju | D86: 200/160 | E86: gb | F86: 5
A87: 73 | C87: Sānu pievienojums ar gumiju | D87: 200/200 | E87: gb | F87: 16
A88: 74 | C88: Sānu pievienojums ar gumiju | D88: 250/100 | E88: gb | F88: 1
... A137: 123 | C137: Pāreja | D137: 160/100 | E137: gb | F137: 2
A138: 124 | C138: Gala noslēgs/tīrīšanas lūka | D138: 125 | E138: gb | F138: 2
A139: 125 | C139: Gala noslēgs/tīrīšanas lūka | D139: 250 | E139: gb | F139: 1
A140: 126 | C140: Gala noslēgs/tīrīšanas lūka | D140: 400 | E140: gb | F140: 2
A141: 127 | C141: Gala noslēgs/tīrīšanas lūka | D141: 500 | E141: gb | F141: 1
A142: 128 | C142: Gala noslēgs/tīrīšanas lūka | D142: 800x600 | E142: gb | F142: 2
A143: 129 | C143: Gala noslēgs/tīrīšanas lūka | D143: 1000x400 | E143: gb | F143: 2
A144: 130 | C144: Gala noslēgs/tīrīšanas lūka | D144: 1000x600 | E144: gb | F144: 4
A145: 131 | C145: Gala noslēgs/tīrīšanas lūka | D145: 1200x400 | E145: gb | F145: 4
A146: 132 | C146: Gaisa ieņemšanas reste | D146: 900x800 | E146: gb | F146: 2
A147: 133 | C147: Gaisa ieņemšanas reste | D147: 1000x800 | E147: gb | F147: 1
A148: 134 | C148: Gaisa ieņemšanas reste | D148: 1200x800 | E148: gb | F148: 1
A149: 135 | C149: Pieplūdes difuzors | D149: LCP-125+MBB-125-125-S - 4-way | E149: gb | F149: 9
A150: 136 | C150: Pieplūdes difuzors | D150: LCP-160+MBB-160-160-S - 4-way | E150: gb | F150: 12
A151: 137 | C151: Pieplūdes difuzors | D151: LCP-200+MBB-200-200-S - 4-way | E151: gb | F151: 5
A152: 138 | C152: Pieplūdes difuzors | D152: LCP-250+MBB-250-250-S - 4-way | E152: gb | F152: 3
A153: 139 | C153: Pieplūdes difuzors | D153: LCP-315+MBB-315-315-S - 4-way | E153: gb | F153: 4
... A207: 193 | C207: Vienvirziena vārsts | D207: Vienvirziena vārsts CARU 100 | E207: gb | F207: 2
A208: 194 | C208: Akmens vates izolācija 50 mm Parco Hvac Lamella Mat AluCoat (vai ekvivalents) | D208: 100 | E208: m | F208: 13
A209: 195 | C209: Akmens vates izolācija 50 mm Parco Hvac Lamella Mat AluCoat (vai ekvivalents) | D209: 160 | E209: m | F209: 1
A210: 196 | C210: Akmens vates izolācija 50 mm Parco Hvac Lamella Mat AluCoat (vai ekvivalents) | D210: 250 | E210: m | F210: 17
A211: 197 | C211: Akmens vates izolācija 50 mm Parco Hvac Lamella Mat AluCoat (vai ekvivalents) | D211: 315 | E211: m | F211: 145
A212: 198 | C212: Akmens vates izolācija 50 mm Parco Hvac Lamella Mat AluCoat (vai ekvivalents) | D212: 400 | E212: m | F212: 112
A213: 199 | C213: Akmens vates izolācija 50 mm Parco Hvac Lamella Mat AluCoat (vai ekvivalents) | D213: 500 | E213: m | F213: 76
A214: 200 | C214: Akmens vates izolācija 50 mm Parco Hvac Lamella Mat AluCoat (vai ekvivalents) | D214: 630 | E214: m | F214: 44
...

Sheet 2,5
G1: Lokālā tāme Nr. | H1: =kops2!B25 -> 2,5
A2: =C13 -> Gaisa kondicionēšana
C3: Būves nosaukums: | D3: =Koptame!C11 -> Pirmsskolas izglītības iestāde
C4: Objekta nosaukums: | D4: =Koptame!C12 -> Pirmsskolas izglītības iestādes jaunbūve
C5: Objekta adrese: | D5: =Koptame!C13 -> Baložu iela 33, Baloži, Ķekavas novads
C6: =Koptame!B14 -> Iepirkuma Id Nr. | D6: =Koptame!C14 -> ĶNP 2023/85
A7: =Koptame!B17 -> Tāme sastādīta 2024.gada tirgus cenās | O7: Tāmes izmaksas euro: | P7: =P50 -> 0
L9: =Koptame!D16 -> Tāme sastādīta:
A11: Nr.p.k. | B11: Kods | C11: Būvdarbu nosaukums | D11: Mērvienība | E11: Daudzums | F11: Vienības izmaksas | L11: Kopā uz visu apjomu
F12: Laika norma (c/h) | G12: Darba samaksas likme (euro/h) | H12: Darba alga (euro) | I12: Būvizstrādājumi (euro) | J12: Mehānismi (euro) | K12: Kopā (euro) | L12: Darbietilpība (c/h) | M12: Darba alga (euro) | N12: Būvizstrādājumi (euro) | O12: Mehānismi (euro) | P12: Summa (euro)
B13: 0 | C13: =kops2!C25 -> Gaisa kondicionēšana | F13: 0 | G13: 0 | H13: 0 | I13: 0 | J13: 0 | K13: =SUM(H13:J13) -> 0 | L13: =ROUND(F13*E13,2) -> 0 | M13: =ROUND(H13*E13,2) -> 0 | N13: =ROUND(I13*E13,2) -> 0 | O13: =ROUND(J13*E13,2) -> 0 | P13: =SUM(M13:O13) -> 0
C14: Montāžas un palaišanas darbi
A15: 1 | C15: Āra bloks Haier (vai ekvivalents) AV66IMVURA 180 kW | D15: kpl | E15: 1
A16: 2 | C16: Iekšas dzesēšanas griestu kasete Haier (vai ekvivalents) AB122MRERA ar vadība pulti un montāžas rāmi | D16: kpl | E16: 4
A17: 3 | C17: Iekšas dzesēšanas griestu kasete Haier (vai ekvivalents) AB092MRERA ar vadība pulti un montāžas rāmi | D17: kpl | E17: 36
A18: 4 | C18: Iekšas dzesēšanas sienas bloks Haier (vai ekvivalents) AS242MFERAC ar vadība pulti un montāžas rāmi | D18: kpl | E18: 3
A19: 5 | C19: Iekšas dzesēšanas sienas bloks Haier (vai ekvivalents) AS122MFERAC ar vadība pulti un montāžas rāmi | D19: kpl | E19: 2
A20: 6 | C20: Iekšas dzesēšanas sienas bloks Haier (vai ekvivalents) AS092MFERAC ar vadība pulti un montāžas rāmi | D20: kpl | E20: 3
A21: 7 | C21: Iekšas dzesēšanas sienas bloks Haier (vai ekvivalents) AS072MFERAC ar vadība pulti un montāžas rāmi | D21: kpl | E21: 10
A22: 8 | C22: Iekšas dzesēšanas iebūvējams bloks Haier (vai ekvivalents) AD242MSERA (H) ar vadība pulti un montāžas rāmi | D22: kpl | E22: 3
A23: 9 | C23: Vara caurule, Ø9.52/6.35mm (izolācijā) | D23: gb | E23: 50
A24: 10 | C24: Vara caurule, Ø12.7/6.35mm (izolācijā) | D24: gb | E24: 85
A25: 11 | C25: Vara caurule, Ø15.88x9.52mm (izolācijā) | D25: gb | E25: 111
A26: 12 | C26: Vara caurule, Ø19.05/9.52mm (izolācijā) | D26: gb | E26: 173
... A48: 34 | C48: Montāžas palīgmateriāli | D48: kpl | E48: 1
F49: 0 | G49: 0
C50: Tiešās izmaksas kopā, t.sk. darba devēja sociālais nodoklis(23,59%)
B52: Piezīmes:
A53: ='1,1'!A24:G24 -> Visas atsauces uz materiālu un izstrādājumu izgatavotaj firmām, kuras norādītas būvprojektā, liecina tikai par šo materiālu un izstrādājumu tehniskajiem parametriem un kvalitātes līmeni, to nomaiņa ir iespējama ar citiem tehniski un kvalitatīvi ekvivalentiem būvizstrādājumiem, iepriekš saskaņojot tos ar projekta autoriem un uzrādot atbilstības sertifikātus.
B57: Sastādīja: | L57: =Koptame!B41 -> Pārbaudīja:
C58: =Koptame!C36 -> 0 | M58: =Koptame!C42 -> 0
C59: =Koptame!C37 -> 0 | M59: =Koptame!C43 -> 0

Sheet 2,6
G1: Lokālā tāme Nr. | H1: =kops2!B26 -> 2,6
A2: =C13 -> Siltummezgls
C3: Būves nosaukums: | D3: =Koptame!C11 -> Pirmsskolas izglītības iestāde
C4: Objekta nosaukums: | D4: =Koptame!C12 -> Pirmsskolas izglītības iestādes jaunbūve
C5: Objekta adrese: | D5: =Koptame!C13 -> Baložu iela 33, Baloži, Ķekavas novads
C6: =Koptame!B14 -> Iepirkuma Id Nr. | D6: =Koptame!C14 -> ĶNP 2023/85
A7: =Koptame!B17 -> Tāme sastādīta 2024.gada tirgus cenās | O7: Tāmes izmaksas euro: | P7: =P76 -> 0
L9: =Koptame!D16 -> Tāme sastādīta:
A11: Nr.p.k. | B11: Kods | C11: Būvdarbu nosaukums | D11: Mērvienība | E11: Daudzums | F11: Vienības izmaksas | L11: Kopā uz visu apjomu
F12: Laika norma (c/h) | G12: Darba samaksas likme (euro/h) | H12: Darba alga (euro) | I12: Būvizstrādājumi (euro) | J12: Mehānismi (euro) | K12: Kopā (euro) | L12: Darbietilpība (c/h) | M12: Darba alga (euro) | N12: Būvizstrādājumi (euro) | O12: Mehānismi (euro) | P12: Summa (euro)
B13: 0 | C13: =kops2!C26 -> Siltummezgls | F13: 0 | G13: 0 | H13: 0 | I13: 0 | J13: 0 | K13: =SUM(H13:J13) -> 0 | L13: =ROUND(F13*E13,2) -> 0 | M13: =ROUND(H13*E13,2) -> 0 | N13: =ROUND(I13*E13,2) -> 0 | O13: =ROUND(J13*E13,2) -> 0 | P13: =SUM(M13:O13) -> 0
C14: Montāžas un palaišanas darbi
A15: 1 | C15: Apkures siltummainis 187 kW 80º-50º/40º-33º LC110-40L-2'' komplektā ar siltumizolāciju | D15: kpl | E15: 1
A16: 2 | C16: Ventilācijas siltummainis 73 kW 80º-50º/60º-40º LB31-40H-1'' komplektā ar siltumizolāciju | D16: kpl | E16: 1
A17: 3 | C17: Karstā ūdens siltummainis (75º-55º/55º-10º) LB31-60-1'' komplektā ar izolāciju 160 Kw | D17: kpl | E17: 1
A18: 4 | C18: Procesors Ouman C203 (vai ekvivalents) | D18: kpl | E18: 1
A19: 5 | C19: Siltumenerģijas skaitītājs: kalkulators Kamstrup Multical 403 (vai ekvivalents) ar autonomo barošanas elementu, plūsmas daļa Ultraflow 54 ar kabeli 1,5 m, divi temperatūras sensori Pt 500 ar kabeļu garumu 3,0m un čaulām 65mm, Qp=15.0 m3/h; 270 mm x DN50 atloki, PN 25 | D19: kpl | E19: 1
A20: 6 | C20: Elektroniskais apkures cirkulācijas sūknis q=16.19 m3/h; H=6.3 m DAB EVOPLUS B 150/280.50M (vai ekvivalents) | D20: gb | E20: 1
A21: 7 | C21: Elektroniskais apkures cirkulācijas sūknis q=3.18 m3/h; H=8.5 m DAB EVOPLUS B 120/250.40 M (vai ekvivalents) | D21: gb | E21: 1
A22: 8 | C22: Karstā ūdens cirkulācijas sūknis DAB EVOPLUS 60/180 SAN M q=2.1 m3/h; H=5.5 m (vai ekvivalents) | D22: gb | E22: 1
A23: 9 | C23: Izplešanās trauks V=80 l komplektā ar stiprinājumiem | D23: kpl | E23: 1
A24: 10 | C24: Izplešanās trauks V=200 l komplektā ar stiprinājumiem | D24: kpl | E24: 1
A25: 11 | C25: Sadales skapis ETI 24-mod./IP65 C-203 montāžai | D25: kpl | E25: 1
A26: 12 | C26: Ūdens temperatūras sensors (virsmas) TMS | D26: gb | E26: 5
... A74: 60 | C74: Montāžas palīgmateriāli | D74: kpl | E74: 1
C76: Tiešās izmaksas kopā, t.sk. darba devēja sociālais nodoklis(23,59%)
B78: Piezīmes:
A79: ='1,1'!A24:G24 -> Visas atsauces uz materiālu un izstrādājumu izgatavotaj firmām, kuras norādītas būvprojektā, liecina tikai par šo materiālu un izstrādājumu tehniskajiem parametriem un kvalitātes līmeni, to nomaiņa ir iespējama ar citiem tehniski un kvalitatīvi ekvivalentiem būvizstrādājumiem, iepriekš saskaņojot tos ar projekta autoriem un uzrādot atbilstības sertifikātus.
B83: Sastādīja: | L83: =Koptame!B41 -> Pārbaudīja:
C84: =Koptame!C36 -> 0 | M84: =Koptame!C42 -> 0
C85: =Koptame!C37 -> 0 | M85: =Koptame!C43 -> 0

Sheet 2,7
H1: Lokālā tāme Nr. | I1: =kops2!B27 -> 2,7
A2: =C13 -> Elektroinstalācija
C3: Būves nosaukums: | E3: =Koptame!C11 -> Pirmsskolas izglītības iestāde
C4: Objekta nosaukums: | E4: =Koptame!C12 -> Pirmsskolas izglītības iestādes jaunbūve
C5: Objekta adrese: | E5: =Koptame!C13 -> Baložu iela 33, Baloži, Ķekavas novads
C6: =Koptame!B14 -> Iepirkuma Id Nr. | E6: =Koptame!C14 -> ĶNP 2023/85
A7: =Koptame!B17 -> Tāme sastādīta 2024.gada tirgus cenās | P7: Tāmes izmaksas euro: | Q7: =Q158 -> 0
M9: =Koptame!D16 -> Tāme sastādīta:
A11: Nr.p.k. | B11: Kods | C11: Būvdarbu nosaukums | E11: Mērvienība | F11: Daudzums | G11: Vienības izmaksas | M11: Kopā uz visu apjomu
G12: Laika norma (c/h) | H12: Darba samaksas likme (euro/h) | I12: Darba alga (euro) | J12: Būvizstrādājumi (euro) | K12: Mehānismi (euro) | L12: Kopā (euro) | M12: Darbietilpība (c/h) | N12: Darba alga (euro) | O12: Būvizstrādājumi (euro) | P12: Mehānismi (euro) | Q12: Summa (euro)
A13: 0 | C13: =kops2!C27 -> Elektroinstalācija | I13: =ROUND(H13*G13,2) -> 0 | L13: =SUM(I13:K13) -> 0 | M13: =ROUND(G13*F13,2) -> 0 | N13: =ROUND(I13*F13,2) -> 0 | O13: =ROUND(J13*F13,2) -> 0 | P13: =ROUND(K13*F13,2) -> 0 | Q13: =SUM(N13:P13) -> 0
C14: Montāžas un palaišanas darbi
C15: Iekšējie elektroapgādes tīkli (EL) | G15: =IFERROR(ROUND(I15/H15,2),0) -> 0 | H15: =IF(I15>0,5,0) -> 0 | L15: =SUM(I15:K15) -> 0 | M15: =ROUND(G15*F15,2) -> 0 | N15: =ROUND(I15*F15,2) -> 0 | O15: =ROUND(J15*F15,2) -> 0 | P15: =ROUND(K15*F15,2) -> 0 | Q15: =SUM(N15:P15) -> 0
C16: El.sadalnes skapji | L16: =SUM(I16:K16) -> 0 | M16: =ROUND(G16*F16,2) -> 0 | N16: =ROUND(I16*F16,2) -> 0 | O16: =ROUND(J16*F16,2) -> 0 | P16: =ROUND(K16*F16,2) -> 0 | Q16: =SUM(N16:P16) -> 0
A17: 1 | C17: Sadalne GS1, komplektā ar GBS | D17: Schneider Electric (vai ekvivalents) | E17: gb | F17: 1
A18: 2 | C18: Sadalne GS2, komplektā ar 1SS1, 1AS1, TAS-1 | D18: Schneider Electric (vai ekvivalents) | E18: gb | F18: 1
A19: 3 | C19: Sadalne 2SS1 komplektā ar 2AS1 | D19: Schneider Electric (vai ekvivalents) | E19: gb | F19: 1
A20: 4 | C20: Sadalne VTS1 | D20: Schneider Electric (vai ekvivalents) | E20: gb | F20: 1
A21: 5 | C21: Sadalne VKS1 | D21: Schneider Electric (vai ekvivalents) | E21: gb | F21: 1
A22: 6 | C22: Sadalne VS1 | D22: Schneider Electric (vai ekvivalents) | E22: gb | F22: 1
A23: 7 | C23: Sadalne AVS | D23: Schneider Electric (vai ekvivalents) | E23: gb | F23: 1
A24: 8 | C24: Sadalne TAS-1 | D24: Schneider Electric (vai ekvivalents) | E24: gb | F24: 1
A25: 9 | C25: UPS 1050W/1500VA 230/230V 15min | D25: SMVS1500CAI, Schneider Electric (vai ekvivalents) | E25: gb | F25: 1
A26: 10 | C26: Montāžas izstrādājumi, stiprinājumi | E26: kpl | F26: 1
C27: Kabeļi
A28: 11 | C28: Kabelis ar alumīnija dzīslām 4x120AL/41Cu | D28: AMCMK | E28: m | F28: 155
A29: 12 | C29: Kabelis ar vara dzīslām 5x25 mm² | D29: NYM-J | E29: m | F29: 135
A30: 13 | C30: Kabelis ar vara dzīslām 5x16 mm² | D30: NYM-J | E30: m | F30: 65
A31: 14 | C31: Kabelis ar vara dzīslām 5x10 mm² | D31: NYM-J | E31: m | F31: 80
A32: 15 | C32: Kabelis ar vara dzīslām 5x6 mm² | D32: NYM-J | E32: m | F32: 265
A33: 16 | C33: Kabelis ar vara dzīslām 5x4 mm² | D33: NYM-J | E33: m | F33: 290
A34: 17 | C34: Kabelis ar vara dzīslām 5x2.5 mm² | D34: NYM-J | E34: m | F34: 55
A35: 18 | C35: Kabelis ar vara dzīslām 5x2.5 mm² | D35: NYY-J | E35: m | F35: 400
A36: 19 | C36: Kabelis ar vara dzīslām 3x2.5 mm² | D36: NYM-J | E36: m | F36: 10460
A37: 20 | C37: Kabelis ar vara dzīslām 3x1.5 mm² | D37: NYM-J | E37: m | F37: 15980
A38: 21 | C38: Kabelis ar vara dzīslām 2x1.5 mm² | D38: NYM-J | E38: m | F38: 450
A39: 22 | C39: Kabelis ar vara dzīslām 4x1.5 mm² | D39: NYM-J | E39: m | F39: 2010
... A46: 29 | C46: Kabeļu gala apd. 4mm²-35mm² | D46: EPKT 0015-L12 | E46: kpl | F46: 48
A47: 30 | C47: Montāžas izstrādājumi, stiprinājumi | E47: kpl | F47: 1
C48: Caurules un kanāli
A49: 31 | C49: PVC caurule, d=50mm, 320N | D49: EVOPIPES, EVOEL SL-0H (vai ekvivalents) | E49: m | F49: 30
A50: 32 | C50: PVC caurule, d=25mm, 320N | D50: EVOPIPES, EVOEL SL-0H (vai ekvivalents) | E50: m | F50: 150
A51: 33 | C51: PVC caurule, d=20mm, 320N | D51: EVOPIPES, EVOEL SL-0H (vai ekvivalents) | E51: m | F51: 5780
A52: 34 | C52: Montāžas izstrādājumi, stiprinājumi | E52: kpl | F52: 1
C53: Kabeļu nesošas sistēmas
A54: 35 | C54: Kabeļu trepe ar pagrieziena elementiem 600x60mm | D54: Obo Bettermann, LCIS 660 6 A4 (vai ekvivalents) | E54: m | F54: 85
A55: 36 | C55: Kabeļu trepe ar pagrieziena elementiem 400x60mm | D55: Obo Bettermann, LCIS 640 6 A4 (vai ekvivalents) | E55: m | F55: 140
A56: 37 | C56: Kabeļu trepe ar pagrieziena elementiem 200x60mm | D56: Obo Bettermann, LCIS 620 6 A4 (vai ekvivalents) | E56: m | F56: 75
A57: 38 | C57: Pārējie montāžas materiāli (skrūves, uzgriežņi, enkurdībeļi, utt.) | E57: kpl | F57: 1
A58: 39 | C58: Montāžas izstrādājumi, pagrieziena, nozarojuma un stiprinājuma elementi | E58: kpl | F58: 1
C59: Gaismekļi
A60: 40 | C60: LED gaismeklis, 26W 3250lm ( 129lm/W), IP65, balts, v/a | D60: LED LUKS, HATOR LED 1200 OP LED840 HE (vai ekvivalents) | E60: gb | F60: 52
A61: 41 | C61: LED gaismeklis, 27W 2499lm, TW 2700 - 5000K, IP20, balts, v/a | D61: LED LUKS, ILO 50 C 1196 HE 930 OP FO WHITE (vai ekvivalents) | E61: gb | F61: 82
A62: 42 | C62: LED gaismeklis, 8W 537lm, IP20, balts, v/a | D62: LED LUKS, IKAR R 127 HE 830 FO WHITE (vai ekvivalents) | E62: gb | F62: 233
A63: 43 | C63: LED gaismeklis, 35W 3233lm, TW 2700 - 5000K, IP20, balts, v/a | D63: LED LUKS, ILO 50 C 1546 HE 930 OP FO WHITE (vai ekvivalents) | E63: gb | F63: 237
A64: 44 | C64: LED gaismeklis, 6.5W 3000 K 58° 904lm, IP67, pelēks, z/a | D64: Ghidini Lighting SRL, Spia 135 (vai ekvivalents) | E64: gb | F64: 27
A65: 45 | C65: LED gaismeklis, 66W 4808lm, IP20, v/a | D65: LED LUKS, EOS SYS Circle 1500 60 degree DALI (vai ekvivalents) | E65: gb | F65: 114
A66: 46 | C66: LED gaismeklis, 53W 4997lm, TW 2700 - 5000K, IP20, balts, v/a | D66: LED LUKS, ILO 50 C 2386 HE 930 OP FO WHITE (vai ekvivalents) | E66: gb | F66: 106
A67: 47 | C67: LED gaismeklis, 19W 1705lm, TW 2700 to 5000K, IP20, balts, v/a | D67: LED LUKS, APOLLO 450 C LP 930 OP FO WHITE (vai ekvivalents) | E67: gb | F67: 23
A68: 48 | C68: LED gaismeklis, 84W 6390lm, IP20, balts, v/a | D68: LED LUKS, EOS C 1000 SKY 930 WHITE-W (vai ekvivalents) | E68: gb | F68: 52
A69: 49 | C69: LED gaismeklis, 63W 4744lm, IP20, balts, v/a | D69: LED LUKS, EOS C 650 SKY 930 WHITE-W (vai ekvivalents) | E69: gb | F69: 51
A70: 50 | C70: LED gaismeklis, 41W 3836lm, TW 2700 - 5000K, IP20, balts, v/a | D70: LED LUKS, APOLLO 680 C LP 930 OP FO WHITE (vai ekvivalents) | E70: gb | F70: 27
A71: 51 | C71: LED gaismeklis, 16W 1670lm, TW 2700 - 5000K, IP20, balts, v/a | D71: LED LUKS, ILO 50 C 706 HE 830 OP FO WHITE (vai ekvivalents) | E71: gb | F71: 8
... A80: 60 | C80: LED lenta, 21W/5m (4.2W/m), 2220 lm (115 lm/W), 3000K, IP67 | D80: LEDVANCE, LS P-500/930/5/IP67 (vai ekvivalents) | E80: kpl | F80: 26
A81: 61 | C81: Profils LED lentai | E81: m | F81: 246
A82: 62 | C82: DALI driver 60W/230V LED lentai IP65 | D82: LEDVANCE, DR DALI-PFM -60/220-240/1A4 (vai ekvivalents) | E82: gb | F82: 26
A83: 63 | C83: Kustības sensors 360 °, IP54, balts, v/a | D83: STEINEL, IS 345 (vai ekvivalents) | E83: gb | F83: 47
A84: 64 | C84: Ultraskanas sensors 360 °, 40kHz, IP20, balts, v/a | D84: STEINEL, US 360 (vai ekvivalents) | E84: gb | F84: 12
A85: 65 | C85: Evakuācijas gaismeklis, LED-2W, 60min., IP65, v/a | D85: TM TECHNOLOGIE, iTECH M2 (vai ekvivalents) | E85: gb | F85: 45
A86: 66 | C86: Evakuācijas gaismeklis, LED-5W, 60min., IP65, v/a | D86: TM TECHNOLOGIE, iTECH M5 (vai ekvivalents) | E86: gb | F86: 49
A87: 67 | C87: Evakuācijas gaismeklis, LED-2W, 60min., IP65, v/a | D87: TM TECHNOLOGIE, iTECH C1 (vai ekvivalents) | E87: gb | F87: 8
A88: 68 | C88: Evakuācijas gaismeklis "IZEJA", LED-2.5W, 60min., IP20 | D88: TM TECHNOLOGIE, TM.ONTEC G (vai ekvivalents) | E88: gb | F88: 81
A89: 69 | C89: OUTDOOR LED 3x1W LED 390 lm STANDARD IP66 1h | E89: gb | F89: 9
A90: 70 | C90: Montāžas izstrādājumi | E90: kpl | F90: 1
C91: Instalācijas materiāli
A92: 71 | C92: Kontaktligzda 1-viet, 230V, 16A, IP20, balts, z/a (grupiņu telpā), "bērnu aizsardzība" | D92: Efapel, APOLO 5000 BR, White (vai ekvivalents) | E92: gb | F92: 3
A93: 72 | C93: Kontaktligzda 1-viet, 230V, 16A, IP20, melns, z/a | D93: Efapel, APOLO 5000 PM, Matte Black (vai ekvivalents) | E93: gb | F93: 2
A94: 73 | C94: Kontaktligzda 2-viet, 230V, 16A, IP20, balts, z/a (grupiņu telpā), "bērnu aizsardzība" | D94: Efapel, APOLO 5000 BR, White (vai ekvivalents) | E94: gb | F94: 63
A95: 74 | C95: Kontaktligzda 2-viet, 230V, 16A, IP20, melns, z/a | D95: Efapel, APOLO 5000 PM, Matte Black (vai ekvivalents) | E95: gb | F95: 77
A96: 75 | C96: Kontaktligzda 3-viet, 230V, 16A, IP20, melns, z/a | D96: Efapel, APOLO 5000 PM, Matte Black (vai ekvivalents) | E96: gb | F96: 5
A97: 76 | C97: Kontaktligzda 4-viet, 230V, 16A, IP20, balts, z/a (grupiņu telpā), "bērnu aizsardzība" | D97: Efapel, APOLO 5000 BR, White (vai ekvivalents) | E97: gb | F97: 15
A98: 77 | C98: Kontaktligzda 4-viet, 230V, 16A, IP20, melns, z/a | D98: Efapel, APOLO 5000 PM, Matte Black (vai ekvivalents) | E98: gb | F98: 26
A99: 78 | C99: Kontaktligzda 1-viet, 230V, 16A, IP44, balts, z/a (grupiņu telpā), "bērnu aizsardzība" | D99: Efapel, APOLO 5000 BR, White (vai ekvivalents) | E99: gb | F99: 15
A100: 79 | C100: Kontaktligzda 1-viet, 230V, 16A, IP44, melns, z/a | D100: Efapel, APOLO 5000 PM, Matte Black (vai ekvivalents) | E100: gb | F100: 25
A101: 80 | C101: Kontaktligzda 2-viet, 230V, 16A, IP44, melns, z/a | D101: Efapel, APOLO 5000 PM, Matte Black (vai ekvivalents) | E101: gb | F101: 9
A102: 81 | C102: Kontaktligzda 3-viet, 230V, 16A, IP44, melns, z/a | D102: Efapel, APOLO 5000 PM, Matte Black (vai ekvivalents) | E102: gb | F102: 1
A103: 82 | C103: Kontaktligzda 1-viet, 230V, 16A, IP65, v/a | D103: Efapel, Waterproof 48 (vai ekvivalents) | E103: gb | F103: 2
... A125: 104 | C125: Spiedpoga 230V, 10A, IP20, melns, z/a | D125: Efapel, APOLO 5000 PM, Matte Black (vai ekvivalents) | E125: gb | F125: 7
A126: 105 | C126: El. Iekārtu pieslēgums | E126: gb | F126: 47
A127: 106 | C127: Uzstādīšanas kārba z/a | E127: gb | F127: 651
A128: 107 | C128: Nozarkārba v/a | E128: gb | F128: 50
A129: 107 | C129: Ugunsdroša aizdare, EI120 | D129: HILTI, CFS-S ACR + CFS-CT (vai ekvivalents) | E129: kpl | F129: 7
A130: 108 | C130: Montāžas izstrādājumi | E130: kpl | F130: 1
C131: Saules paneļu sistēma
A132: 109 | C132: Saules panelis TrinaSolar, VertexS (vai ekvivalents), SM-435 DE09R.08, 435W | E132: gb | F132: 254
A133: 110 | C133: Saules pan.invertors, Sungrow (vai ekvivalents), SG50CX-P2 (50kVA) | E133: gb | F133: 2
A134: 111 | C134: Datu reģistrators, Sungrow (vai ekvivalents), COM100E | E134: gb | F134: 1
A135: 112 | C135: Līdzstrāvas vads +, SOLAR (vai ekvivalents) PV H1Z2Z2-K 1x6, sarkans | E135: m | F135: 750
A136: 113 | C136: Līdzstrāvas vads -, SOLAR (vai ekvivalents) PV H1Z2Z2-K 1x6, melns | E136: m | F136: 750
A137: 114 | C137: Saules paneļu stiprinājuma sistēma DS-V1N | E137: kpl | F137: 1
...

Sheet 2,8
H1: Lokālā tāme Nr. | I1: =kops2!B28 -> 2,8
A2: =C13 -> Ugunsgrēka signalizācijas sistēma
C3: Būves nosaukums: | E3: =Koptame!C11 -> Pirmsskolas izglītības iestāde
C4: Objekta nosaukums: | E4: =Koptame!C12 -> Pirmsskolas izglītības iestādes jaunbūve
C5: Objekta adrese: | E5: =Koptame!C13 -> Baložu iela 33, Baloži, Ķekavas novads
C6: =Koptame!B14 -> Iepirkuma Id Nr. | E6: =Koptame!C14 -> ĶNP 2023/85
A7: =Koptame!B17 -> Tāme sastādīta 2024.gada tirgus cenās | P7: Tāmes izmaksas euro: | Q7: =Q38 -> 0
M9: =Koptame!D16 -> Tāme sastādīta:
A11: Nr.p.k. | B11: Kods | C11: Būvdarbu nosaukums | E11: Mērvienība | F11: Daudzums | G11: Vienības izmaksas | M11: Kopā uz visu apjomu
G12: Laika norma (c/h) | H12: Darba samaksas likme (euro/h) | I12: Darba alga (euro) | J12: Būvizstrādājumi (euro) | K12: Mehānismi (euro) | L12: Kopā (euro) | M12: Darbietilpība (c/h) | N12: Darba alga (euro) | O12: Būvizstrādājumi (euro) | P12: Mehānismi (euro) | Q12: Summa (euro)
C13: =kops2!C28 -> Ugunsgrēka signalizācijas sistēma | G13: 0 | H13: 0 | L13: =SUM(I13:K13) -> 0 | M13: =ROUND(G13*F13,2) -> 0 | N13: =ROUND(I13*F13,2) -> 0 | O13: =ROUND(J13*F13,2) -> 0 | P13: =ROUND(K13*F13,2) -> 0 | Q13: =SUM(N13:P13) -> 0
C14: Montāžas un palaišanas darbi
A15: 1 | C15: Kontroles panelis komplektā ar akumulatoriem | D15: Esmi Sense FDP252 (vai ekvivalents) | E15: kpl. | F15: 1
A16: 2 | C16: Cilpu modulis | D16: 2 cilpas | E16: gb. | F16: 2
A17: 3 | C17: Adrešu dūmu detektors | D17: EDI-20 (vai ekvivalents) | E17: gb. | F17: 261
A18: 4 | C18: Adrešu siltuma detektors | D18: EDI-50 (vai ekvivalents) | E18: gb. | F18: 47
A19: 5 | C19: Detektora bāze | D19: EBI-10 (vai ekvivalents) | E19: gb. | F19: 301
A20: 6 | C20: Detektora bāze ar izolatoru | E20: gb. | F20: 5
A21: 7 | C21: Rokas adreses trauksmes poga ar izolatoru | D21: EPP-20 (vai ekvivalents) | E21: kpl. | F21: 24
A22: 8 | C22: Rokas adreses trauksmes pogas bāze | D22: SR2G (vai ekvivalents) | E22: gb. | F22: 24
A23: 9 | C23: Vadības modulis | D23: EMI-311/240 (vai ekvivalents) | E23: kpl. | F23: 10
A24: 10 | C24: Ārējā adrešu sirēna | E24: kpl. | F24: 1
A25: 11 | C25: Staru detektors 50m | D25: 55000-268APO (50m) (vai ekvivalents) | E25: kpl. | F25: 3
A26: 12 | C26: Iznesamais LED indikators | D26: ERI-10 (vai ekvivalents) | E26: gb. | F26: 129
A27: 13 | C27: Skatlūkas | D27: Europlast VPL3030 300x300mm (vai ekvivalents) | E27: gb. | F27: 129
A28: 14 | C28: Kabelis detektoru pieslēgšana | D28: 2x1.0 (E30) Eurosafe (vai ekvivalents) | E28: m | F28: 2500
A29: 15 | C29: Kabelis el. barošana | D29: NHXN-FE180/E30 3x2.5mm2 (vai ekvivalents) | E29: m | F29: 20
A30: 16 | C30: Gofrētā caurule | D30: d25mm | E30: m | F30: 1000
A31: 17 | C31: Aizsargcaurule stāvvadam | D31: d50 mm | E31: m | F31: 10
A32: 18 | C32: Montāžas materiāli | E32: kpl. | F32: 1
A33: 19 | C33: Ugunsdrošs kabeļu turētājs | D33: OZM/OZMO. (WxLxH) 42x33x62mm. 0.7mm. E-90 (vai ekvivalents) | E33: gb. | F33: 4770
A34: 20 | C34: Ugunsdrošais stiprinājums | D34: UDFB8. E90, d 8mm (vai ekvivalents) | E34: gb. | F34: 200
A35: 21 | C35: Ugunsdrošās blīves kabeļiem | D35: Promastop IM CJ21 (vai ekvivalents) | E35: kpl. | F35: 1
A36: 22 | C36: Detektoru un kabeļu marķēšana | E36: kpl. | F36: 1
G37: 0 | H37: 0
C38: Tiešās izmaksas kopā, t.sk. darba devēja sociālais nodoklis(23,59%)
B40: Piezīmes:
A41: ='1,1'!A24:G24 -> Visas atsauces uz materiālu un izstrādājumu izgatavotaj firmām, kuras norādītas būvprojektā, liecina tikai par šo materiālu un izstrādājumu tehniskajiem parametriem un kvalitātes līmeni, to nomaiņa ir iespējama ar citiem tehniski un kvalitatīvi ekvivalentiem būvizstrādājumiem, iepriekš saskaņojot tos ar projekta autoriem un uzrādot atbilstības sertifikātus.
B45: Sastādīja: | M45: =Koptame!B41 -> Pārbaudīja:
C46: =Koptame!C36 -> 0 | N46: =Koptame!C42 -> 0
C47: =Koptame!C37 -> 0 | N47: =Koptame!C43 -> 0

Sheet 2,9
H1: Lokālā tāme Nr. | I1: =kops2!B29 -> 2,9
A2: =C13 -> Piekļuves kontroles sistēma
C3: Būves nosaukums: | E3: =Koptame!C11 -> Pirmsskolas izglītības iestāde
C4: Objekta nosaukums: | E4: =Koptame!C12 -> Pirmsskolas izglītības iestādes jaunbūve
C5: Objekta adrese: | E5: =Koptame!C13 -> Baložu iela 33, Baloži, Ķekavas novads
C6: =Koptame!B14 -> Iepirkuma Id Nr. | E6: =Koptame!C14 -> ĶNP 2023/85
A7: =Koptame!B17 -> Tāme sastādīta 2024.gada tirgus cenās | P7: Tāmes izmaksas euro: | Q7: =Q36 -> 0
M9: =Koptame!D16 -> Tāme sastādīta:
A11: Nr.p.k. | B11: Kods | C11: Būvdarbu nosaukums | E11: Mērvienība | F11: Daudzums | G11: Vienības izmaksas | M11: Kopā uz visu apjomu
G12: Laika norma (c/h) | H12: Darba samaksas likme (euro/h) | I12: Darba alga (euro) | J12: Būvizstrādājumi (euro) | K12: Mehānismi (euro) | L12: Kopā (euro) | M12: Darbietilpība (c/h) | N12: Darba alga (euro) | O12: Būvizstrādājumi (euro) | P12: Mehānismi (euro) | Q12: Summa (euro)
B13: 0 | C13: =kops2!C29 -> Piekļuves kontroles sistēma | G13: 0 | H13: 0 | L13: =SUM(I13:K13) -> 0 | M13: =ROUND(G13*F13,2) -> 0 | N13: =ROUND(I13*F13,2) -> 0 | O13: =ROUND(J13*F13,2) -> 0 | P13: =ROUND(K13*F13,2) -> 0 | Q13: =SUM(N13:P13) -> 0
C14: Montāžas un palaišanas darbi
A15: 1 | C15: Durvju kontrolieris | D15: INTG-996018PCB&K (vai ekvivalents) | E15: gb. | F15: 7
A16: 2 | C16: Durvju paplašinātājs | D16: INTG-996535PCB&K (vai ekvivalents) | E16: gb. | F16: 20
A17: 3 | C17: XL izmēra kaste ar barošanas bloku | D17: INTG-995203PEEU8 (vai ekvivalents) | E17: kpl. | F17: 7
A18: 4 | C18: Akumulatoru baterija | D18: 12V 17Ah | E18: kpl. | F18: 7
A19: 5 | C19: Karšu nolasītājs 13.56MHz/125KHz, EM Proximity | D19: HID SIGNO 20 iCLASS SE (vai ekvivalents) | E19: gb. | F19: 52
A20: 6 | C20: Karšu nolasītājs 13.56MHz/125KHz, EM Proximity | D20: HID SIGNO keypad 20 (vai ekvivalents) | E20: gb. | F20: 2
A21: 7 | C21: Durvju aizvērējs | D21: SD-C141S (vai ekvivalents) | E21: gb. | F21: 54
A22: 8 | C22: Magnēta kontakts | E22: gb. | F22: 61
A23: 9 | C23: Sprūds | E23: gb. | F23: 54
A24: 10 | C24: Kabelis iekšējai instalācijai | D24: UTP Kat.5e | E24: m | F24: 7000
A25: 11 | C25: Barošanas kabelis iekšējai instalācijai | D25: NYM-J 3x2.5 mm2 | E25: m | F25: 30
A26: 12 | C26: Gofreta caurule | D26: d20 mm | E26: m | F26: 60
A27: 13 | C27: Gofreta caurule ārdarbu | D27: d50 mm | E27: m | F27: 10
A28: 14 | C28: PVC caurule stāvvadam | D28: d50 mm | E28: m | F28: 10
A29: 15 | C29: Instalācijas materiāls | E29: kpl. | F29: 1
A30: 16 | C30: Licence | D30: INTG-996025 (vai ekvivalents) | E30: gb. | F30: 1
A31: 17 | C31: Durvju licence | D31: INTG-996940-30 (vai ekvivalents) | E31: gb. | F31: 2
A32: 18 | C32: Klienta aplikācija | D32: INTG-996911 (vai ekvivalents) | E32: gb. | F32: 1
A33: 19 | C33: pieņemšanas-kontroles iekārtu programmēšanu un datoru aplikācijas “INTEGRITI” (vai ekvivalents) konfigurēšanu | E33: kpl. | F33: 1
A34: 20 | C34: Izveidot iespēju pievienot un dzēst piekļuves kartes. | E34: kpl. | F34: 1
C36: Tiešās izmaksas kopā, t.sk. darba devēja sociālais nodoklis(23,59%)
B38: Piezīmes:
A39: ='1,1'!A24:G24 -> Visas atsauces uz materiālu un izstrādājumu izgatavotaj firmām, kuras norādītas būvprojektā, liecina tikai par šo materiālu un izstrādājumu tehniskajiem parametriem un kvalitātes līmeni, to nomaiņa ir iespējama ar citiem tehniski un kvalitatīvi ekvivalentiem būvizstrādājumiem, iepriekš saskaņojot tos ar projekta autoriem un uzrādot atbilstības sertifikātus.
B43: Sastādīja: | M43: =Koptame!B41 -> Pārbaudīja:
C44: =Koptame!C36 -> 0 | N44: =Koptame!C42 -> 0
C45: =Koptame!C37 -> 0 | N45: =Koptame!C43 -> 0

Sheet 2,10
H1: Lokālā tāme Nr. | I1: =kops2!B30 -> 2,10
A2: =C13 -> Elektronisko sakaru sistēma
C3: Būves nosaukums: | E3: =Koptame!C11 -> Pirmsskolas izglītības iestāde
C4: Objekta nosaukums: | E4: =Koptame!C12 -> Pirmsskolas izglītības iestādes jaunbūve
C5: Objekta adrese: | E5: =Koptame!C13 -> Baložu iela 33, Baloži, Ķekavas novads
C6: =Koptame!B14 -> Iepirkuma Id Nr. | E6: =Koptame!C14 -> ĶNP 2023/85
A7: =Koptame!B17 -> Tāme sastādīta 2024.gada tirgus cenās | P7: Tāmes izmaksas euro: | Q7: =Q44 -> 0
M9: =Koptame!D16 -> Tāme sastādīta:
A11: Nr.p.k. | B11: Kods | C11: Būvdarbu nosaukums | E11: Mērvienība | F11: Daudzums | G11: Vienības izmaksas | M11: Kopā uz visu apjomu
G12: Laika norma (c/h) | H12: Darba samaksas likme (euro/h) | I12: Darba alga (euro) | J12: Būvizstrādājumi (euro) | K12: Mehānismi (euro) | L12: Kopā (euro) | M12: Darbietilpība (c/h) | N12: Darba alga (euro) | O12: Būvizstrādājumi (euro) | P12: Mehānismi (euro) | Q12: Summa (euro)
B13: 0 | C13: =kops2!C30 -> Elektronisko sakaru sistēma | G13: 0 | H13: 0 | L13: =SUM(I13:K13) -> 0 | M13: =ROUND(G13*F13,2) -> 0 | N13: =ROUND(I13*F13,2) -> 0 | O13: =ROUND(J13*F13,2) -> 0 | P13: =ROUND(K13*F13,2) -> 0 | Q13: =SUM(N13:P13) -> 0
C14: Montāžas un palaišanas darbi
A15: 1 | C15: Servera un komutācijas statne ar sieta tipa durvīm | D15: 42U 1000x800mm | E15: kpl. | F15: 1
A16: 2 | C16: Ventilatoru bloks ar digitālo termostatu | D16: 19' 1U, 4 ventilatori | E16: kpl. | F16: 1
A17: 3 | C17: Zemējuma klemme komutācijas skapim | E17: kpl. | F17: 1
A18: 4 | C18: Skrūves - uzgriežņi | D18: M6 | E18: kpl. | F18: 1
A19: 5 | C19: EL rozešu bloks | D19: 8-vietīgā, 19' 1U | E19: kpl. | F19: 1
A20: 6 | C20: Optiskais patch panelis ar kaseti, adapteriem un pigteiliem priekš SM optiskā kabeļa 12 dzīslām | D20: 8p duplex rackmounted | E20: kpl. | F20: 1
A21: 7 | C21: Kabeļu organaizeris horizontālais | D21: 1U | E21: gb. | F21: 4
A22: 8 | C22: Optiskais patch kabelis | D22: SM SC-LC 1m | E22: gb. | F22: 1
A23: 9 | C23: Optiskais patch kabelis | D23: SM LC-LC 1m | E23: gb. | F23: 1
A24: 10 | C24: SFP modulis SM | E24: gb. | F24: 1
A25: 11 | C25: Patch panelis | D25: 24p Cat6 UTP | E25: gb. | F25: 4
A26: 12 | C26: Patch kabelis 1.0m | D26: Cat6 UTP 1m | E26: gb. | F26: =F31*2+F32+F33*2+4 -> 81
A27: 13 | C27: Centrālais ruteris | D27: 24 PoE output gigabit Ethernet router/switch with four 10Gbps SFP+ ports | E27: gb. | F27: 1
A28: 14 | C28: Komutators | D28: 48 porti Gigabit Ethernet switch , 2 SFP+ ports, 1U rackmount case | E28: gb. | F28: 1
A29: 15 | C29: Komutators | D29: 48 porti PoE | E29: gb. | F29: 1
A30: 16 | C30: WiFi piekļuves punkts | D30: 2.4/5GHz; 300-1000Mbit/s; A/B/G/N/AC | E30: gb. | F30: 3
A31: 17 | C31: Datu ligzda z/a 2xRJ45 | D31: Cat6 ar rāmi (saskaņot ar EL sadaļu) | E31: kpl. | F31: 23
A32: 18 | C32: Datu ligzda z/a 1xRJ45 | D32: Cat6 ar rāmi (saskaņot ar EL sadaļu) | E32: kpl. | F32: 3
A33: 19 | C33: Datu ligzda grīdas kārbā 2xRJ45 | D33: Cat6 ar rāmi (saskaņot ar EL sadaļu) | E33: kpl. | F33: 14
A34: 20 | C34: Nepārtrauktās barošanas bloks | D34: UPS APC Smart-UPS 1500VA LCD RM 1U 230V | E34: gb. | F34: 1
A35: 21 | C35: Kabelis | D35: UTP Cat6 LZSH | E35: m | F35: 5500
A36: 22 | C36: PVC caurule | D36: d20 | E36: m | F36: 500
A37: 23 | C37: PVC caurule stāvvadam | D37: d50 | E37: m | F37: 10
A38: 24 | C38: Kabeļu trepe | D38: C1-C2 200mm 3m E30 | E38: gb. | F38: 34
... A40: 26 | C40: Kabeļu trepes "T" veida savienojums | D40: 200mm E30 | E40: gb. | F40: 1
A41: 27 | C41: Montāžas un stiprināšanas materiāli | E41: kpl. | F41: 1
A42: 28 | C42: Ugunsdrošās blīves kabeļiem | D42: Promastop IM CJ21 | E42: kpl. | F42: 1
G43: 0 | H43: 0
C44: Tiešās izmaksas kopā, t.sk. darba devēja sociālais nodoklis(23,59%)
B46: Piezīmes:
A47: ='1,1'!A24:G24 -> Visas atsauces uz materiālu un izstrādājumu izgatavotaj firmām, kuras norādītas būvprojektā, liecina tikai par šo materiālu un izstrādājumu tehniskajiem parametriem un kvalitātes līmeni, to nomaiņa ir iespējama ar citiem tehniski un kvalitatīvi ekvivalentiem būvizstrādājumiem, iepriekš saskaņojot tos ar projekta autoriem un uzrādot atbilstības sertifikātus.
B51: Sastādīja: | M51: =Koptame!B41 -> Pārbaudīja:
C52: =Koptame!C36 -> 0 | N52: =Koptame!C42 -> 0
C53: =Koptame!C37 -> 0 | N53: =Koptame!C43 -> 0

Sheet 2,11
H1: Lokālā tāme Nr. | I1: =kops2!B31 -> 2,11
A2: =C13 -> Videonovērošanas sistēma
C3: Būves nosaukums: | E3: =Koptame!C11 -> Pirmsskolas izglītības iestāde
C4: Objekta nosaukums: | E4: =Koptame!C12 -> Pirmsskolas izglītības iestādes jaunbūve
C5: Objekta adrese: | E5: =Koptame!C13 -> Baložu iela 33, Baloži, Ķekavas novads
C6: =Koptame!B14 -> Iepirkuma Id Nr. | E6: =Koptame!C14 -> ĶNP 2023/85
A7: =Koptame!B17 -> Tāme sastādīta 2024.gada tirgus cenās | P7: Tāmes izmaksas euro: | Q7: =Q35 -> 0
M9: =Koptame!D16 -> Tāme sastādīta:
A11: Nr.p.k. | B11: Kods | C11: Būvdarbu nosaukums | E11: Mērvienība | F11: Daudzums | G11: Vienības izmaksas | M11: Kopā uz visu apjomu
G12: Laika norma (c/h) | H12: Darba samaksas likme (euro/h) | I12: Darba alga (euro) | J12: Būvizstrādājumi (euro) | K12: Mehānismi (euro) | L12: Kopā (euro) | M12: Darbietilpība (c/h) | N12: Darba alga (euro) | O12: Būvizstrādājumi (euro) | P12: Mehānismi (euro) | Q12: Summa (euro)
B13: 0 | C13: =kops2!C31 -> Videonovērošanas sistēma | G13: 0 | H13: 0 | L13: =SUM(I13:K13) -> 0 | M13: =ROUND(G13*F13,2) -> 0 | N13: =ROUND(I13*F13,2) -> 0 | O13: =ROUND(J13*F13,2) -> 0 | P13: =ROUND(K13*F13,2) -> 0 | Q13: =SUM(N13:P13) -> 0
C14: Montāžas un palaišanas darbi
A15: 1 | C15: IP videokamera ārtelpu bullet (vai ekvivalents) | D15: 4MPix, H.265, 2.8mm IR 30m | E15: gb. | F15: 17
A16: 2 | C16: IP videokamera iekštelpu dome (vai ekvivalents) | D16: 4MPix, H.265, 2.8mm IR 30m | E16: gb. | F16: 20
A17: 3 | C17: Sienas kronšteins kamerām | E17: gb. | F17: 17
A18: 4 | C18: Balsta kronšteins kamerām | E18: gb. | F18: 4
A19: 5 | C19: Komutators | D19: PoE 48p | E19: gb. | F19: 1
A20: 6 | C20: SFP modulis SM | E20: gb. | F20: 1
A21: 7 | C21: Tīkla videoreģistrators | D21: NVR 64 kanāli/PoE | E21: gb. | F21: 1
A22: 8 | C22: Cietie Diski HDD | D22: 2TB | E22: gb. | F22: 4
A23: 9 | C23: Pārsprieguma aizsarzība | D23: DT-LAN-CAT.6+ | E23: gb. | F23: =17*2 -> 34
A24: 10 | C24: Patch kabelis Cat6 U/UTP 1.5 m | D24: Cat6 UTP 1.5m | E24: gb. | F24: =F15+F16 -> 37
A25: 11 | C25: Optiskais patch kabelis | D25: SM LC-LC 3,0m | E25: gb. | F25: 1
A26: 12 | C26: Kabelis | D26: Cat6 4x2x0.5 LSZH (Low Smoke Zero Halogen) | E26: m | F26: 2500
A27: 13 | C27: Aizsargcaurule gofrētā | D27: d25 mm | E27: m | F27: 300
A28: 14 | C28: Aizsargcaurule stāvvadam | D28: PVC d50 mm | E28: m | F28: 10
A29: 15 | C29: Aizsargcaurule gofrētā ārdarbu | D29: d50 mm | E29: m | F29: =(54+19.6)*1.1 -> 80.96
A30: 16 | C30: Ugunsdrošās blīves kabeļiem | D30: Promastop IM CJ21 (vai ekvivalents) | E30: kpl. | F30: 1
A31: 17 | C31: Sistēmas programmēšana un palaišana | E31: kpl. | F31: 1
A32: 18 | C32: Instalācijas materiāli | E32: kpl. | F32: 1
A33: 19 | C33: Licences | E33: kpl. | F33: 1
G34: 0 | H34: 0
C35: Tiešās izmaksas kopā, t.sk. darba devēja sociālais nodoklis(23,59%)
B37: Piezīmes:
A38: ='1,1'!A24:G24 -> Visas atsauces uz materiālu un izstrādājumu izgatavotaj firmām, kuras norādītas būvprojektā, liecina tikai par šo materiālu un izstrādājumu tehniskajiem parametriem un kvalitātes līmeni, to nomaiņa ir iespējama ar citiem tehniski un kvalitatīvi ekvivalentiem būvizstrādājumiem, iepriekš saskaņojot tos ar projekta autoriem un uzrādot atbilstības sertifikātus.
B42: Sastādīja: | M42: =Koptame!B41 -> Pārbaudīja:
C43: =Koptame!C36 -> 0 | N43: =Koptame!C42 -> 0
C44: =Koptame!C37 -> 0 | N44: =Koptame!C43 -> 0

Sheet 2,12
H1: Lokālā tāme Nr. | I1: =kops2!B32 -> 2,12
A2: =C13 -> Apsardzes signalizācijas sistēma
C3: Būves nosaukums: | E3: =Koptame!C11 -> Pirmsskolas izglītības iestāde
C4: Objekta nosaukums: | E4: =Koptame!C12 -> Pirmsskolas izglītības iestādes jaunbūve
C5: Objekta adrese: | E5: =Koptame!C13 -> Baložu iela 33, Baloži, Ķekavas novads
C6: =Koptame!B14 -> Iepirkuma Id Nr. | E6: =Koptame!C14 -> ĶNP 2023/85
A7: =Koptame!B17 -> Tāme sastādīta 2024.gada tirgus cenās | P7: Tāmes izmaksas euro: | Q7: =Q33 -> 0
M9: =Koptame!D16 -> Tāme sastādīta:
A11: Nr.p.k. | B11: Kods | C11: Būvdarbu nosaukums | E11: Mērvienība | F11: Daudzums | G11: Vienības izmaksas | M11: Kopā uz visu apjomu
G12: Laika norma (c/h) | H12: Darba samaksas likme (euro/h) | I12: Darba alga (euro) | J12: Būvizstrādājumi (euro) | K12: Mehānismi (euro) | L12: Kopā (euro) | M12: Darbietilpība (c/h) | N12: Darba alga (euro) | O12: Būvizstrādājumi (euro) | P12: Mehānismi (euro) | Q12: Summa (euro)
C13: =kops2!C32 -> Apsardzes signalizācijas sistēma | G13: 0 | H13: 0 | L13: =SUM(I13:K13) -> 0 | M13: =ROUND(G13*F13,2) -> 0 | N13: =ROUND(I13*F13,2) -> 0 | O13: =ROUND(J13*F13,2) -> 0 | P13: =ROUND(K13*F13,2) -> 0 | Q13: =SUM(N13:P13) -> 0
C14: Montāžas un palaišanas darbi
A15: 1 | C15: Drosības kontrolieris metāla korpusā ar barošanas bloku | D15: INTG-996001EUPS (vai ekvivalents) | E15: gb. | F15: 1
A16: 2 | C16: 8-zonu paplašinātājs | D16: INTG-996005PCB & K (vai ekvivalents) | E16: gb. | F16: 4
A17: 3 | C17: UniBus paplašinātājs | D17: INTG-996500PCB & K (vai ekvivalents) | E17: gb. | F17: 14
A18: 4 | C18: XL izmēra kaste ar barošanas bloku | D18: INTG-995203PEEU8 (vai ekvivalents) | E18: gb. | F18: 4
A19: 5 | C19: Akumulatoru baterija | D19: 12V 17Ah | E19: gb. | F19: 4
A20: 6 | C20: Tastatūra | D20: INTG-995400 (vai ekvivalents) | E20: gb. | F20: 2
A21: 7 | C21: Kustības detektors ar kronšteinu | D21: RXC-ST (vai ekvivalents) | E21: gb. | F21: 67
A22: 8 | C22: Magnēta kontakts | D22: MET-200AR (vai ekvivalents) | E22: gb. | F22: 23
A23: 9 | C23: Stikla plīšanas detektors | E23: gb. | F23: 63
A24: 10 | C24: CLOE tīkla modulis | D24: IR-995093 (vai ekvivalents) | E24: gb. | F24: 2
A25: 11 | C25: Kabelis | D25: UTP CAT5e 4x2x0.5 | E25: m | F25: =81+35 -> 116
A26: 12 | C26: Kabelis | D26: CQR 6x0,22 | E26: m | F26: 9500
A27: 13 | C27: Gofrēta caurule | D27: D=20 mm | E27: m | F27: 100
A28: 14 | C28: Gludsienu caurule stāvvadam | D28: PVC d50 | E28: m | F28: 10
A29: 15 | C29: Instalācijas materiāls | E29: kpl. | F29: 1
A30: 16 | C30: Licence Extra Client (vai ekvivalents) | D30: INTG-996911 | E30: kpl. | F30: 1
A31: 17 | C31: pieņemšanas-kontroles iekārtu programmēšanu un datoru aplikācijas “INTEGRITI” (vai ekvivalents) konfigurēšanu | E31: kpl. | F31: 1
G32: 0 | H32: 0
C33: Tiešās izmaksas kopā, t.sk. darba devēja sociālais nodoklis(23,59%)
B35: Piezīmes:
A36: ='1,1'!A24:G24 -> Visas atsauces uz materiālu un izstrādājumu izgatavotaj firmām, kuras norādītas būvprojektā, liecina tikai par šo materiālu un izstrādājumu tehniskajiem parametriem un kvalitātes līmeni, to nomaiņa ir iespējama ar citiem tehniski un kvalitatīvi ekvivalentiem būvizstrādājumiem, iepriekš saskaņojot tos ar projekta autoriem un uzrādot atbilstības sertifikātus.
B40: Sastādīja: | M40: =Koptame!B41 -> Pārbaudīja:
C41: =Koptame!C36 -> 0 | N41: =Koptame!C42 -> 0
C42: =Koptame!C37 -> 0 | N42: =Koptame!C43 -> 0

Sheet 2,13
H1: Lokālā tāme Nr. | I1: =kops2!B33 -> 2,13
A2: =C13 -> Centralizētā izziņošanas sistēma
C3: Būves nosaukums: | E3: =Koptame!C11 -> Pirmsskolas izglītības iestāde
C4: Objekta nosaukums: | E4: =Koptame!C12 -> Pirmsskolas izglītības iestādes jaunbūve
C5: Objekta adrese: | E5: =Koptame!C13 -> Baložu iela 33, Baloži, Ķekavas novads
C6: =Koptame!B14 -> Iepirkuma Id Nr. | E6: =Koptame!C14 -> ĶNP 2023/85
A7: =Koptame!B17 -> Tāme sastādīta 2024.gada tirgus cenās | P7: Tāmes izmaksas euro: | Q7: =Q40 -> 0
M9: =Koptame!D16 -> Tāme sastādīta:
A11: Nr.p.k. | B11: Kods | C11: Būvdarbu nosaukums | E11: Mērvienība | F11: Daudzums | G11: Vienības izmaksas | M11: Kopā uz visu apjomu
G12: Laika norma (c/h) | H12: Darba samaksas likme (euro/h) | I12: Darba alga (euro) | J12: Būvizstrādājumi (euro) | K12: Mehānismi (euro) | L12: Kopā (euro) | M12: Darbietilpība (c/h) | N12: Darba alga (euro) | O12: Būvizstrādājumi (euro) | P12: Mehānismi (euro) | Q12: Summa (euro)
C13: =kops2!C33 -> Centralizētā izziņošanas sistēma | L13: =SUM(I13:K13) -> 0 | M13: =ROUND(G13*F13,2) -> 0 | N13: =ROUND(I13*F13,2) -> 0 | O13: =ROUND(J13*F13,2) -> 0 | P13: =ROUND(K13*F13,2) -> 0 | Q13: =SUM(N13:P13) -> 0
C14: Montāžas un palaišanas darbi
A15: 1 | C15: Servera un komutācijas statne ar metāla durvīm un slēdzi | D15: 42U 1000x800mm | E15: kpl. | F15: 1
A16: 2 | C16: Ventilatoru panelis ar termostatu | E16: kpl. | F16: 1
A17: 3 | C17: 19' plaukts | E17: gb. | F17: 3
A18: 4 | C18: Akumulatoru ladēšanas iekārtas | D18: PLN-24CH12 (vai ekvivalents) | E18: kpl. | F18: 1
A19: 5 | C19: Akumulatoru baterija 12V 70A/h | D19: Bosch (vai ekvivalents) | E19: gb. | F19: 2
A20: 6 | C20: Kabineta tipa skaļrunis (20 / 10 / 5 / 2.5 W) | D20: LB1-UM20E-L (vai ekvivalents) | E20: kpl. | F20: =35+8+11 -> 54
A21: 7 | C21: Griestu skaļrunis( 6 / 3 / 1.5 / 0.75 W); piekārtie griesti | D21: LBC3086/41 (vai ekvivalents) | E21: kpl. | F21: 99
A22: 8 | C22: Griestu skaļruņa ugunsdrošs korpuss | D22: LBC3081/02 (vai ekvivalents) | E22: gb. | F22: =F21 -> 99
A23: 9 | C23: Barošanas kabelis | D23: 3x2.5 FE180/E30 | E23: m | F23: 50
A24: 10 | C24: Kabelis (Mikrofonu stacijas pieslēgšanai) | D24: UTP Kat. 5e E30 | E24: m | F24: 90
A25: 11 | C25: Aizsargcaurule/gofrētā LSZH d25 mm | E25: m | F25: 500
A26: 12 | C26: Ugunsdrošais pildījums | D26: (java GVS Fire Stop ) (vai ekvivalents) | E26: kpl. | F26: 1
A27: 13 | C27: Instalācijas materiāli | E27: kpl. | F27: 1
A28: 14 | C28: Audio izziņošanas sistēmas kontrolieris | D28: LBB 1990/00 | E28: gb. | F28: 1
A29: 15 | C29: Audio izziņošanas sistēmas maršrutētājs | D29: LBB 1992/00 | E29: gb. | F29: 2
A30: 16 | C30: Pastiprinātājs | D30: LBB 1935/20 | E30: gb. | F30: 3
A31: 17 | C31: Balss signalizācijas zvanu stacija | D31: LBB 1956/00 | E31: gb. | F31: 1
A32: 18 | C32: Balss trauksmes ziņojumu klaviatūra | D32: LBB 1957/000 | E32: gb. | F32: 2
A33: 19 | C33: Līnijas gala iekārtas | D33: PVA-1WEOL | E33: gb. | F33: 12
A34: 20 | C34: Ugunsizturīgs kabelis | D34: 1x2x1.0 (E30) | E34: m | F34: =(2444+110*2+35*2+8*2)*1.1 -> 3025
A35: 21 | C35: Zemējuma kopne grīdas komutācijas skapim | E35: kpl. | F35: 1
A36: 22 | C36: Rozešu bloks x8 ar slēdzi 230V 19" 1U | E36: gb. | F36: 1
A37: 23 | C37: Aizsargcaurule cietā PVC d25 mm | D37: FRANKISCHE, isofix-EL-F 320N (vai ekvivalents) | E37: m | F37: 400
A38: 24 | C38: Aizsargcaurule stāvvadam | D38: PVC d50 | E38: m | F38: 20
C40: Tiešās izmaksas kopā, t.sk. darba devēja sociālais nodoklis(23,59%)
B42: Piezīmes:
A43: ='1,1'!A24:G24 -> Visas atsauces uz materiālu un izstrādājumu izgatavotaj firmām, kuras norādītas būvprojektā, liecina tikai par šo materiālu un izstrādājumu tehniskajiem parametriem un kvalitātes līmeni, to nomaiņa ir iespējama ar citiem tehniski un kvalitatīvi ekvivalentiem būvizstrādājumiem, iepriekš saskaņojot tos ar projekta autoriem un uzrādot atbilstības sertifikātus.
B47: Sastādīja: | M47: =Koptame!B41 -> Pārbaudīja:
C48: =Koptame!C36 -> 0 | N48: =Koptame!C42 -> 0
C49: =Koptame!C37 -> 0 | N49: =Koptame!C43 -> 0

Sheet 2,14
H1: Lokālā tāme Nr. | I1: =kops2!B34 -> 2,14
A2: =C13 -> Dūmu aizsardzība
C3: Būves nosaukums: | E3: =Koptame!C11 -> Pirmsskolas izglītības iestāde
C4: Objekta nosaukums: | E4: =Koptame!C12 -> Pirmsskolas izglītības iestādes jaunbūve
C5: Objekta adrese: | E5: =Koptame!C13 -> Baložu iela 33, Baloži, Ķekavas novads
C6: =Koptame!B14 -> Iepirkuma Id Nr. | E6: =Koptame!C14 -> ĶNP 2023/85
A7: =Koptame!B17 -> Tāme sastādīta 2024.gada tirgus cenās | P7: Tāmes izmaksas euro: | Q7: =Q27 -> 0
M9: =Koptame!D16 -> Tāme sastādīta:
A11: Nr.p.k. | B11: Kods | C11: Būvdarbu nosaukums | E11: Mērvienība | F11: Daudzums | G11: Vienības izmaksas | M11: Kopā uz visu apjomu
G12: Laika norma (c/h) | H12: Darba samaksas likme (euro/h) | I12: Darba alga (euro) | J12: Būvizstrādājumi (euro) | K12: Mehānismi (euro) | L12: Kopā (euro) | M12: Darbietilpība (c/h) | N12: Darba alga (euro) | O12: Būvizstrādājumi (euro) | P12: Mehānismi (euro) | Q12: Summa (euro)
C13: =kops2!C34 -> Dūmu aizsardzība | L13: =SUM(I13:K13) -> 0 | M13: =ROUND(G13*F13,2) -> 0 | N13: =ROUND(I13*F13,2) -> 0 | O13: =ROUND(J13*F13,2) -> 0 | P13: =ROUND(K13*F13,2) -> 0 | Q13: =SUM(N13:P13) -> 0
C14: Montāžas un palaišanas darbi
A15: 1 | C15: Divu - sešu zonu vadības panelis | D15: ACTULUX SVL 48V 10A (vai ekvivalents) | E15: gb. | F15: 1
A16: 2 | C16: Vienas zonas paplašinātājs | D16: ACTULUX SVL Group Board (vai ekvivalents) | E16: gb. | F16: 1
A17: 3 | C17: Trauksmes pogas | D17: Actulux Smoke vent IP 40 (vai ekvivalents) | E17: gb. | F17: 11
A18: 4 | C18: Dūmu lūku automātikas piedziņa | D18: Actulux HCV 500/1000 (vai ekvivalents) | E18: gb. | F18: 3
A19: 5 | C19: Elektriskais logu atvērējs | D19: 48 V DC HCV 500 mN | E19: gb. | F19: 3
A20: 6 | C20: Barošanas kabelis | D20: E30 3x1,5 | E20: m | F20: 90
A21: 7 | C21: Kabelis piedziņu un aizvērēju savienošanai | D21: (N)HXH-J E30 2x2.5 RE | E21: m | F21: 340
A22: 8 | C22: Kabelis pogu savienošanai | D22: E30 8x0,5 | E22: m | F22: 290
A23: 9 | C23: Ugunsdrošie blīvējumi | D23: Hilti EI 30 (vai ekvivalents) | E23: kpl. | F23: 1
A24: 10 | C24: Ugunsdrošie stiprinājumi E90 | D24: UDFB8. E90, d 8mm | E24: gb. | F24: =(F21+F22)*3 -> 1890
A25: 11 | C25: Caurule stāvvadam | D25: PVC d50 | E25: m | F25: 30
C27: Tiešās izmaksas kopā, t.sk. darba devēja sociālais nodoklis(23,59%)
B29: Piezīmes:
A30: ='1,1'!A24:G24 -> Visas atsauces uz materiālu un izstrādājumu izgatavotaj firmām, kuras norādītas būvprojektā, liecina tikai par šo materiālu un izstrādājumu tehniskajiem parametriem un kvalitātes līmeni, to nomaiņa ir iespējama ar citiem tehniski un kvalitatīvi ekvivalentiem būvizstrādājumiem, iepriekš saskaņojot tos ar projekta autoriem un uzrādot atbilstības sertifikātus.
B34: Sastādīja: | M34: =Koptame!B41 -> Pārbaudīja:
C35: =Koptame!C36 -> 0 | N35: =Koptame!C42 -> 0
C36: =Koptame!C37 -> 0 | N36: =Koptame!C43 -> 0

Sheet 2,17
H1: Lokālā tāme Nr. | I1: 2.17
A2: =C13 -> Vadības automātikas sistēma
C3: Būves nosaukums: | E3: =Koptame!C11 -> Pirmsskolas izglītības iestāde
C4: Objekta nosaukums: | E4: =Koptame!C12 -> Pirmsskolas izglītības iestādes jaunbūve
C5: Objekta adrese: | E5: =Koptame!C13 -> Baložu iela 33, Baloži, Ķekavas novads
C6: =Koptame!B14 -> Iepirkuma Id Nr. | E6: =Koptame!C14 -> ĶNP 2023/85
A7: =Koptame!B17 -> Tāme sastādīta 2024.gada tirgus cenās | P7: Tāmes izmaksas euro: | Q7: =Q80 -> 0
M9: =Koptame!D16 -> Tāme sastādīta:
A11: Nr.p.k. | B11: Kods | C11: Būvdarbu nosaukums | E11: Mērvienība | F11: Daudzums | G11: Vienības izmaksas | M11: Kopā uz visu apjomu
G12: Laika norma (c/h) | H12: Darba samaksas likme (euro/h) | I12: Darba alga (euro) | J12: Būvizstrādājumi (euro) | K12: Mehānismi (euro) | L12: Kopā (euro) | M12: Darbietilpība (c/h) | N12: Darba alga (euro) | O12: Būvizstrādājumi (euro) | P12: Mehānismi (euro) | Q12: Summa (euro)
B13: 0 | C13: =kops2!C35 -> Vadības automātikas sistēma | G13: 0 | H13: 0 | L13: =SUM(I13:K13) -> 0 | M13: =ROUND(G13*F13,2) -> 0 | N13: =ROUND(I13*F13,2) -> 0 | O13: =ROUND(J13*F13,2) -> 0 | P13: =ROUND(K13*F13,2) -> 0 | Q13: =SUM(N13:P13) -> 0
C14: Ēkas vadības un automatizācijas sistēma ESS-VAS | G14: =IFERROR(ROUND(I14/H14,2),0) -> 0 | H14: =IF(I14>0,5,0) -> 0 | L14: =SUM(I14:K14) -> 0 | M14: =ROUND(G14*F14,2) -> 0 | N14: =ROUND(I14*F14,2) -> 0 | O14: =ROUND(J14*F14,2) -> 0 | P14: =ROUND(K14*F14,2) -> 0 | Q14: =SUM(N14:P14) -> 0
C15: VADĪBAS SADALNE VAS-G | L15: =SUM(I15:K15) -> 0 | M15: =ROUND(G15*F15,2) -> 0 | N15: =ROUND(I15*F15,2) -> 0 | O15: =ROUND(J15*F15,2) -> 0 | P15: =ROUND(K15*F15,2) -> 0 | Q15: =SUM(N15:P15) -> 0
A16: 1 | C16: Automātikas vadības skapis 2000x1000x400mm ar plati un montāžas piederumiem (ievadplate, kabeļu kanāli, DIN sliedes, montāžas vadi, klemmes, ievadslēdzis, aizsardzības automātslēdži, rozetes, kabeļu uzgaļi utt.) | D16: NSYSM2010402DP (vai ekvivalents) | E16: gb | F16: 1
A17: 2 | C17: Skapja pamatne 200x1000mm | D17: NSYSPF10200 + NSYSPS4200 (vai ekvivalents) | E17: gb | F17: 1
A18: 3 | C18: Ventilators 300m3/h, 268x248x116mm, 230V AC, IP54 | D18: NSYCVF300M230PF (vai ekvivalents) | E18: gb | F18: 1
A19: 4 | C19: Termostats, 0…60°C | D19: NSYCCOTHO (vai ekvivalents) | E19: gb | F19: 1
A20: 5 | C20: Ventilācijas reste | D20: NSYCAG223LFHD (vai ekvivalents) | E20: gb | F20: 1
A21: 6 | C21: Aizsardzības slēdži, releji, drošinātāju, spailes un citi papildmateriāli | E21: kpl | F21: 1
A22: 7 | C22: Industriālais Ethernet komutators, 8x10/100 Mbps PoE porti + 2x100/1000Mbps Uplink + 1xSFP ports | D22: PFS3111-8ET-96-F vai ekvivalents | E22: gb | F22: 2
A23: 8 | C23: Barošanas bloks 240W 24V 10A, VAV vārstiem | D23: 1469490000 (vai ekvivalents) | E23: gb | F23: 1
A24: 9 | C24: Barošanas bloks 240W 24V 10A, vadības pultīm | D24: 1469490000 (vai ekvivalents) | E24: gb | F24: 1
A25: 10 | C25: Barošanas bloks 120W 24V 5A, sadalnes iekārtām | D25: 1469480000 (vai ekvivalents) | E25: gb | F25: 1
A26: 11 | C26: Globālais kontrolieris: WiFi, (2) izolētas RS-485 ar izvēles novirzi un izbeigšanu, (2) 10/100MB Ethernet porti; 16 Universālās ieejas, 4 Digitālās ieejas, 8 Digitālās izejas, 8 Analogās izejas ; 1GB DDR3 SDRAM ; 24V DC barošanas avots | D26: iSMACONTROLLI-B-MAC36NL-RS (vai ekvivalents) | E26: gb | F26: 1
A27: 12 | C27: Globālā kontroliera SD atmiņas karte | D27: iSMA-B-SD-NL (vai ekvivalents) | E27: gb | F27: 1
A28: 13 | C28: Modbus data punkti, licence iSMA-B-MAC kontrolieriem - 1250 Niagara proxy punkti | D28: iSMA-B-MAC-L-1250 (vai ekvivalents) | E28: gb | F28: 1
A29: 14 | C29: Integrācijas modulis ar 1 izolētu RS-485 portiem, konvertē datus no Modbus RTU/ASCII uz atbilstošiem TCP/IP protokoliem (Modbus TCP/IP un MBus TCP/IP) u ISMA-B-MG-IP ļauj apkalpot līdz 128 Modbus RTU/ASCII ierīcēm ar unikālu adresi, kas savienota ar RS485 portu, u Integrācija ar Niagara 4.3+ un MAC36NL-RS. | D29: iSMACONTROLLI-B-MG-IP (vai ekvivalents) | E29: gb | F29: 1
A30: 15 | C30: IO modulis, universāls ar Modbus RTU/ASCII vai BACnet MSTP kommunikāciju, integrācija ar Niagara 4.3+ un MAC 36 | D30: iSMACONTROLLI-B-MIX38IP (vai ekvivalents) | E30: gb | F30: 13
A31: 16 | C31: Procesu vizualizācijas programnodrošinājums HELVAR apgaismojuma vadībai; | D31: 435 BACnet Gateway (vai ekvivalents) | E31: gb | F31: 1
A32: 17 | C32: 910 kontrolieris apgaismojuma vadībai DALI | D32: 910 Router (vai ekvivalents) | E32: gb | F32: 2
A33: 18 | C33: DALI līniju pastiprinātājs 405 | D33: 405 DALI Repeater (vai ekvivalents) | E33: gb | F33: 2
... A36: 21 | C36: Procesu vizualizācijas programnodrošinājums Niagara Supervisor v4.8 vai jaunāk; HTML5 un Java lietotāja interfeiss (UI); JavaScript datu saskarnes bibliotēka (BajaScript); ar export licenci uz CSV/MyCSV; 5 WEB lietotāji, | D36: Niagara Supervisor, Tridium (vai ekvivalents) | E36: kpl | F36: 1
A37: 22 | C37: Iekārtu marķējumi | E37: kpl | F37: 1
A38: 23 | C38: Sistēmas ieregulēšana, palaišana | E38: kpl | F38: 1
A39: 24 | C39: Kotroliera programēšanas darbi | E39: kpl | F39: 1
A40: 25 | C40: Palīgmateriāli skapja montāžai objektā | E40: kpl | F40: 1
A41: 26 | C41: Izpilddokumentācijas un lietošanas instrukcijas sagatavošana (latviešu un angļu valodā), iekļaujot programmatūras piekļuves kodus. Elektroniski - Word, Excel, DWG, PDF | E41: kpl | F41: 1
A42: 27 | C42: SISTĒMU VIZUALIZĀCIJA
A43: 28 | C43: Bāzes vizualizācija | E43: kpl | F43: 1
A44: 29 | C44: Mikroklimata vizualizācija | E44: kpl | F44: 1
A45: 30 | C45: Apgaismojuma vizualizācija | E45: kpl | F45: 1
A46: 31 | C46: Pieslēgto AVK iekārtu vizualizācija | E46: kpl | F46: 1
A47: 32 | C47: Ventiekārtu vizualizācija | E47: kpl | F47: 1
A48: 33 | C48: Skaitītāju vizualizācija | E48: kpl | F48: 1
A49: 34 | C49: VAV vārstu vizualizācija | E49: kpl | F49: 1
A50: 35 | C50: IEKĀRTAS UN INTEGRĀCIJA
A51: 36 | C51: Temperatūras devēji | D51: RF/E-20 (vai ekvivalents) | E51: gb | F51: 61
A52: 37 | C52: Klimata vadības pults iSMA-TP-C-DISP | D52: TP-C-DISP-B (vai ekvivalents) | E52: gb | F52: 49
A53: 38 | C53: Temperatūras devēju pieslēgšana un integrēšana | E53: gb | F53: 61
A54: 39 | C54: Klimata vādibas pulšu pieslēgšana un integrēšana | E54: gb | F54: 49
A55: 40 | C55: UK skaitītaju pieslēgšana un integrēšana(M-BUS) | E55: gb | F55: 2
A56: 41 | C56: Modbus RTU (vai ekvivalents) sistēmas konfigurācija | E56: kpl | F56: 16
A57: 42 | C57: Modbus TCP/IP (vai ekvivalents) sistēmas konfigurācija | E57: kpl | F57: 1
A58: 43 | C58: VAV vārstu pieslēgšana un integrācija(Modbus RTU) (vai ekvivalents) | E58: gb | F58: 65
A59: 44 | C59: Apkures kolektoru pieslēgšana, integrācija(DO-24VDC) | E59: gb | F59: 25
A60: 45 | C60: PN iekārtu pieslēgšana un integrācija(Bacnet) (vai ekvivalents) | E60: gb | F60: 5
A61: 46 | C61: DALI kontrolieru integrācija(Bacnet) (vai ekvivalents) | E61: gb | F61: 2
A62: 47 | C62: KABEĻI, PALĪGMATERIĀLI, IZBŪVES DOKUMENTĀCIJA
A63: 48 | C63: Kabelis | D63: YSLY-JZ 7x0.75 | E63: m | F63: 3670
A64: 49 | C64: Kabelis | D64: YSLY-JZ 5x0.75 | E64: m | F64: 1100
A65: 50 | C65: Kabelis | D65: LiYCY 2x0.75 | E65: m | F65: 6900
A66: 51 | C66: Kabelis | D66: YnTKSYekw 2x2x0.8 | E66: m | F66: 2460
A67: 52 | C67: Kabelis | D67: YSLY-JZ 3x1.5 | E67: m | F67: 1270
A68: 53 | C68: Kabelis | D68: LiYCY 2x1.5 | E68: m | F68: 1050
A69: 54 | C69: Kabelis | D69: LiYCY 3x0.75 | E69: m | F69: 30
A70: 55 | C70: Kabelis | D70: YSLY-JZ 5x1.5 | E70: m | F70: 210
A71: 56 | C71: Kabelis | D71: NYM-J 9x1.5 | E71: m | F71: 20
A72: 57 | C72: Kabelis | D72: CAT6 U/FTP | E72: m | F72: 10
A73: 58 | C73: PVC cietās un Gofrētās caurules d=16..32mm | E73: kpl | F73: 1
A74: 59 | C74: Cauruļu stiprinājumi, savienojumi, pagrieziena elementi | E74: kpl | F74: 1
A75: 60 | C75: Nozarkārbas | E75: kpl | F75: 1
A76: 61 | C76: Palīgmateriāli | E76: kpl | F76: 1
A77: 62 | C77: Marķēšanas materiāli | E77: kpl | F77: 1
A78: 63 | C78: Ugunsdrošā aizpildījuma/blīvējuma komplekts | E78: kpl | F78: 1
G79: 0 | H79: 0
C80: Tiešās izmaksas kopā, t.sk. darba devēja sociālais nodoklis(23,59%)
B82: Piezīmes:
A83: ='1,1'!A24:G24 -> Visas atsauces uz materiālu un izstrādājumu izgatavotaj firmām, kuras norādītas būvprojektā, liecina tikai par šo materiālu un izstrādājumu tehniskajiem parametriem un kvalitātes līmeni, to nomaiņa ir iespējama ar citiem tehniski un kvalitatīvi ekvivalentiem būvizstrādājumiem, iepriekš saskaņojot tos ar projekta autoriem un uzrādot atbilstības sertifikātus.
B87: Sastādīja: | M87: =Koptame!B41 -> Pārbaudīja:
C88: =Koptame!C36 -> 0 | N88: =Koptame!C42 -> 0
C89: =Koptame!C37 -> 0 | N89: =Koptame!C43 -> 0

Sheet 2,18
G1: Lokālā tāme Nr. | H1: 2,18
A2: =C13 -> Lifts
C3: Būves nosaukums: | D3: =Koptame!C11 -> Pirmsskolas izglītības iestāde
C4: Objekta nosaukums: | D4: =Koptame!C12 -> Pirmsskolas izglītības iestādes jaunbūve
C5: Objekta adrese: | D5: =Koptame!C13 -> Baložu iela 33, Baloži, Ķekavas novads
C6: =Koptame!B14 -> Iepirkuma Id Nr. | D6: =Koptame!C14 -> ĶNP 2023/85
A7: =Koptame!B17 -> Tāme sastādīta 2024.gada tirgus cenās | O7: Tāmes izmaksas euro: | P7: =P17 -> 0
L9: =Koptame!D16 -> Tāme sastādīta:
A11: Nr.p.k. | B11: Kods | C11: Būvdarbu nosaukums | D11: Mērvienība | E11: Daudzums | F11: Vienības izmaksas | L11: Kopā uz visu apjomu
F12: Laika norma (c/h) | G12: Darba samaksas likme (euro/h) | H12: Darba alga (euro) | I12: Būvizstrādājumi (euro) | J12: Mehānismi (euro) | K12: Kopā (euro) | L12: Darbietilpība (c/h) | M12: Darba alga (euro) | N12: Būvizstrādājumi (euro) | O12: Mehānismi (euro) | P12: Summa (euro)
C13: =kops2!C36 -> Lifts | K13: =SUM(H13:J13) -> 0 | L13: =ROUND(F13*E13,2) -> 0 | M13: =ROUND(H13*E13,2) -> 0 | N13: =ROUND(I13*E13,2) -> 0 | O13: =ROUND(J13*E13,2) -> 0 | P13: =SUM(M13:O13) -> 0
C14: Montāžas un palaišanas darbi
A15: 1 | C15: KONE Mono300DX ® 630 kg / 8 personas, 2 pieturas Elektriska, trošu, bezreduktora sinhronais motors EcoDisc® NMX07 ar apgriezienu skaita bezpakāpju regulēšanu (frekvenču regulēšana), 180 starti stundā/200 000 starti gadā vai ekvivalents | D15: kpl | E15: 2
C17: Tiešās izmaksas kopā, t.sk. darba devēja sociālais nodoklis(23,59%)
B19: Piezīmes:
A20: ='1,1'!A24:G24 -> Visas atsauces uz materiālu un izstrādājumu izgatavotaj firmām, kuras norādītas būvprojektā, liecina tikai par šo materiālu un izstrādājumu tehniskajiem parametriem un kvalitātes līmeni, to nomaiņa ir iespējama ar citiem tehniski un kvalitatīvi ekvivalentiem būvizstrādājumiem, iepriekš saskaņojot tos ar projekta autoriem un uzrādot atbilstības sertifikātus.
B24: Sastādīja: | L24: =Koptame!B41 -> Pārbaudīja:
C25: =Koptame!C36 -> 0 | M25: =Koptame!C42 -> 0
C26: =Koptame!C37 -> 0 | M26: =Koptame!C43 -> 0

Sheet kops3
A2: Kopsavilkuma aprēķins Nr. 3
A6: =Koptame!C23 -> Specializētie darbi-ārējie tīkli, sistēmas
A8: Būves nosaukums: | C8: =Koptame!C11 -> Pirmsskolas izglītības iestāde
A9: Objekta nosaukums: | C9: =Koptame!C12 -> Pirmsskolas izglītības iestādes jaunbūve
A10: Objekta adrese: | C10: =Koptame!C13 -> Baložu iela 33, Baloži, Ķekavas novads
A11: =Koptame!B14 -> Iepirkuma Id Nr. | C11: =Koptame!C14 -> ĶNP 2023/85
F13: Par kopējo summu, euro | H13: =E31 -> 0
F14: Kopējā darbietilpība, c/h | H14: =I27 -> 0
H16: =Koptame!D16 -> Tāme sastādīta:
A18: Nr.p.k. | B18: Kods, tāmes Nr. | C18: Būvdarbu veids vai konstruktīvā elementa nosaukums | E18: Tāmes izmaksas (euro) | F18: Tai skaitā | I18: Darbietilpība (c/h)
F19: darba alga (euro) | G19: materiāli (euro) | H19: mehānismi (euro)
A21: 1 | B21: 3,1 | C21: Ārējais ūdensvads
A22: 2 | B22: 3,2 | C22: Ārējā kanalizācija
A23: 3 | B23: 3,3 | C23: Ārējie elektromontāžas darbi
A24: 4 | B24: 3,4 | C24: Ārējie siltumtīkli
A25: 5 | B25: 3,5 | C25: Ārējie vājstrāvas tīkli
C27: Kopā
A28: Virsizdevumi | D28: =kops1!$D$34
C29: tai skaitā darba aizsardzība
A30: Peļņa | D30: =kops1!$D$36
C31: Kopā bez PVN
B34: Sastādīja:
C35: =Koptame!C36 -> 0
C36: =Koptame!C37 -> 0
B40: =Koptame!B41 -> Pārbaudīja:
C41: =Koptame!C42 -> 0
C42: =Koptame!C43 -> 0

Sheet 3,1
G1: Lokālā tāme Nr. | H1: =kops3!B21 -> 3,1
A2: =C13 -> Ārējais ūdensvads
C3: Būves nosaukums: | D3: =Koptame!C11 -> Pirmsskolas izglītības iestāde
C4: Objekta nosaukums: | D4: =Koptame!C12 -> Pirmsskolas izglītības iestādes jaunbūve
C5: Objekta adrese: | D5: =Koptame!C13 -> Baložu iela 33, Baloži, Ķekavas novads
C6: =Koptame!B14 -> Iepirkuma Id Nr. | D6: =Koptame!C14 -> ĶNP 2023/85
A7: =Koptame!B17 -> Tāme sastādīta 2024.gada tirgus cenās | O7: Tāmes izmaksas euro: | P7: =P56 -> 0
L9: =Koptame!D16 -> Tāme sastādīta:
A11: Nr.p.k. | B11: Kods | C11: Būvdarbu nosaukums | D11: Mērvienība | E11: Daudzums | F11: Vienības izmaksas | L11: Kopā uz visu apjomu
F12: Laika norma (c/h) | G12: Darba samaksas likme (euro/h) | H12: Darba alga (euro) | I12: Būvizstrādājumi (euro) | J12: Mehānismi (euro) | K12: Kopā (euro) | L12: Darbietilpība (c/h) | M12: Darba alga (euro) | N12: Būvizstrādājumi (euro) | O12: Mehānismi (euro) | P12: Summa (euro)
C13: =kops3!C21 -> Ārējais ūdensvads | K13: =SUM(H13:J13) -> 0 | L13: =ROUND(F13*E13,2) -> 0 | M13: =ROUND(H13*E13,2) -> 0 | N13: =ROUND(I13*E13,2) -> 0 | O13: =ROUND(J13*E13,2) -> 0 | P13: =SUM(M13:O13) -> 0
C14: Dzeramā ūdens ūdensvads Ū-1 | F14: =IFERROR(ROUND(H14/G14,2),0) -> 0 | G14: =IF(H14>0,5,0) -> 0 | K14: =SUM(H14:J14) -> 0 | L14: =ROUND(F14*E14,2) -> 0 | M14: =ROUND(H14*E14,2) -> 0 | N14: =ROUND(I14*E14,2) -> 0 | O14: =ROUND(J14*E14,2) -> 0 | P14: =SUM(M14:O14) -> 0
A15: 1 | C15: EVOAQUA VISION (vai ekvivalents) OD110 PN10. Ietverot grunts rakšanu, aizbēršanu, liekās grunts transportu uz atbērtni un tās montāža | D15: m | E15: 146
A16: 2 | C16: Īscaurule DN200 ar rotējošu atloku PN10 | D16: gb | E16: 2
A17: 3 | C17: Atloku trejgabals DN250/100/250 PN10 | D17: gb | E17: 1
A18: 4 | C18: Ķīļveida atloku aizbīdnis DN100 PN10 | D18: gb | E18: 1
A19: 5 | C19: Izjaucams atloku savienojums DN100 PN16 | D19: gb | E19: 2
A20: 6 | C20: Betonēts balsts 0,04m³ | D20: gb | E20: 1
A21: 7 | C21: Apakšzemes plastmasas stacionārā tipa aizbīdņu kape D160 ar atbalsta gredzenu (ceļiem bez cietā seguma), fiksēta augstuma aizbīdņa atslēgstieni | D21: kpl | E21: 1
A22: 8 | C22: Tranšeju rakšana /aizbēršana | D22: m3 | E22: 315
A23: 9 | C23: Smilts apbērums virs cauruļvadiem | D23: m3 | E23: 52
A24: 10 | C24: Vairogi tranšeju sienu nostiprināšanai | D24: m | E24: 146
A25: 11 | C25: Smilts pamatnes ierīkošana zem cauruļvadiem h=0.20*l*1.0 | D25: m3 | E25: 35
A26: 12 | C26: Šķērsojumi ar esošajām, turpmāk ekspluatācijā izmantojamām, cauruļvadu un kabeļu inženierkomunikācijām, t.s. to atšurfēšanu | D26: vietas | E26: 4
... A33: 19 | C33: Montāžas palīgmateriāli | D33: kpl | E33: 1
A34: 20 | C34: Ūdens uzskaites aka Ū-1
A35: 21 | C35: Cinkota tērauda caurule DN 32 PN16 | D35: m | E35: 2
A36: 22 | C36: Vītnes pāreja PE OD63/DN32 PN16 | D36: gb | E36: 2
A37: 23 | C37: Elektrometināma sedlu uzlika OD110/63 PN16 | D37: gb | E37: 2
A38: 24 | C38: Elektrometināms līkums OD63 PN16 | D38: gb | E38: 2
A39: 25 | C39: Ventīlis DN32 PN40 | D39: gb | E39: 2
A40: 26 | C40: Ventīlis DN25 PN40 | D40: gb | E40: 1
A41: 27 | C41: Vienvirziena vārsts DN32 PN10 | D41: gb | E41: 1
A42: 28 | C42: Daudzplūsmu (R>160) ūdens skaitītājs ar skrūvēm Q3=10m3/h DN32 , L=260 mm | D42: gb | E42: 1
A43: 29 | C43: Krustgabals DN25/DN32 PN10 | D43: gb | E43: 1
A44: 30 | C44: Elektromagnētiskais aizbīdnis DN100 ar rokratu PN10 | D44: gb | E44: 1
A45: 31 | C45: Manometrs 1/2’’ | D45: gb | E45: 1
A46: 32 | C46: Dzelzsbetona groda aka ID1500 ar iestrādātu gropi, pārsedzi, pamatu, balstiem (h=0.20m), kāpnēm un hidroizolāciju. | D46: kpl | E46: 1
... A49: 35 | C49: Montāžas palīgmateriāli | D49: kpl | E49: 1
A50: 36 | C50: Ceļa seguma atjaunošana Sila ielā (Brauktuve ar nesaistīta minerālmateriāla segumu)
A51: 37 | C51: Minerālmateriālu maisījums 0/32s, h=0.18m | D51: m² | E51: 3.3
A52: 38 | C52: Salturīgās kārtas minerālmateriāli nestspējai ≥60 Mpa, h=0.30m | D52: m² | E52: 3.3
A53: 39 | C53: Zālāja atjaunošana
A54: 40 | C54: Augu zeme, zālāju sēkla un mēslojums, h=0.15 m | D54: m² | E54: 23
F55: 0 | G55: 0
C56: Tiešās izmaksas kopā, t.sk. darba devēja sociālais nodoklis(23,59%)
B58: Piezīmes:
A59: ='2,1'!A191:H191 -> Visas atsauces uz materiālu un izstrādājumu izgatavotaj firmām, kuras norādītas būvprojektā, liecina tikai par šo materiālu un izstrādājumu tehniskajiem parametriem un kvalitātes līmeni, to nomaiņa ir iespējama ar citiem tehniski un kvalitatīvi ekvivalentiem būvizstrādājumiem, iepriekš saskaņojot tos ar projekta autoriem un uzrādot atbilstības sertifikātus.
A60: ='2,1'!$A$192 -> 0
B63: Sastādīja: | L63: =Koptame!B41 -> Pārbaudīja:
C64: =Koptame!C36 -> 0 | M64: =Koptame!C42 -> 0
C65: =Koptame!C37 -> 0 | M65: =Koptame!C43 -> 0

Sheet 3,2
G1: Lokālā tāme Nr. | H1: =kops3!B22 -> 3,2
A2: =C13 -> Ārējā kanalizācija
C3: Būves nosaukums: | D3: =Koptame!C11 -> Pirmsskolas izglītības iestāde
C4: Objekta nosaukums: | D4: =Koptame!C12 -> Pirmsskolas izglītības iestādes jaunbūve
C5: Objekta adrese: | D5: =Koptame!C13 -> Baložu iela 33, Baloži, Ķekavas novads
C6: =Koptame!B14 -> Iepirkuma Id Nr. | D6: =Koptame!C14 -> ĶNP 2023/85
A7: =Koptame!B17 -> Tāme sastādīta 2024.gada tirgus cenās | O7: Tāmes izmaksas euro: | P7: =P47 -> 0
L9: =Koptame!D16 -> Tāme sastādīta:
A11: Nr.p.k. | B11: Kods | C11: Būvdarbu nosaukums | D11: Mērvienība | E11: Daudzums | F11: Vienības izmaksas | L11: Kopā uz visu apjomu
F12: Laika norma (c/h) | G12: Darba samaksas likme (euro/h) | H12: Darba alga (euro) | I12: Būvizstrādājumi (euro) | J12: Mehānismi (euro) | K12: Kopā (euro) | L12: Darbietilpība (c/h) | M12: Darba alga (euro) | N12: Būvizstrādājumi (euro) | O12: Mehānismi (euro) | P12: Summa (euro)
B13: 0 | C13: =kops3!C22 -> Ārējā kanalizācija | F13: 0 | G13: 0 | H13: 0 | I13: 0 | J13: 0 | K13: =SUM(H13:J13) -> 0 | L13: =ROUND(F13*E13,2) -> 0 | M13: =ROUND(H13*E13,2) -> 0 | N13: =ROUND(I13*E13,2) -> 0 | O13: =ROUND(J13*E13,2) -> 0 | P13: =SUM(M13:O13) -> 0
C14: Saimnieciski-fekālā kanalizācija K-1 | K14: =SUM(H14:J14) -> 0 | L14: =ROUND(F14*E14,2) -> 0 | M14: =ROUND(H14*E14,2) -> 0 | N14: =ROUND(I14*E14,2) -> 0 | O14: =ROUND(J14*E14,2) -> 0 | P14: =SUM(M14:O14) -> 0
A15: 1 | C15: Plastmasas kanalizācijas aka DN 400/315 mm komplektā ar teleskopisko kātu un vāku (uzstādīšanai bruģakmens segumā) | D15: kpl | E15: 9
A16: 2 | C16: Plastmasas kanalizācijas aka DN 400/315 mm (K1-9) komplektā ar teleskopisko kātu, tekni un vāku (uzstādīšanai bruģakmens segumā), teknes galā uzstādīt korķi perspektīvajam pieslēgumam | D16: kpl | E16: 1
A17: 3 | C17: Plastmasas kanalizācijas aka DN 400/315 mm komplektā ar teleskopisko kātu un vāku (uzstādīšanai zaļajā zonā) | D17: kpl | E17: 1
A18: 4 | C18: RIGID (vai ekvivalents) multi PP kanalizācijas caurule OD110 SN8. Ietverot grunts rakšanu, aizbēršanu, liekās grunts transportu uz atbērtni un tās montāža | D18: m | E18: 33
A19: 5 | C19: RIGID (vai ekvivalents) multi PP kanalizācijas caurule OD160 SN8. Ietverot grunts rakšanu, aizbēršanu, liekās grunts transportu uz atbērtni un tās montāža | D19: m | E19: 30
A20: 6 | C20: RIGID (vai ekvivalents) multi PP kanalizācijas caurule OD200 SN8. Ietverot grunts rakšanu, aizbēršanu, liekās grunts transportu uz atbērtni un tās montāža | D20: m | E20: 145
A21: 7 | C21: Smilts apbērums virs cauruļvadiem | D21: m3 | E21: 104
A22: 8 | C22: Smilts pamatnes ierīkošana zem cauruļvadiem h=0.20*l*1.0 | D22: m3 | E22: 42
A23: 9 | C23: Tauku atdalītājs ACO Lipumax P-B NS 8.5/860 (vai ekvivalents), saskaņā ar LVS EN1825. Polietilēna tauku atdalītāja tvertne ar integrētu nosēduma tvertni. Tauku uztveršanas tilpums 360L. Iekārtas kopējais tilpums 1900 L. Iegremdēta ievada, un izvada caurule. Komplektā ar D400 slodzes klases augšdaļu. Vāks ar smakas drošu blīvējumu. Tauku līmeņu devējs. | D23: kpl | E23: 1
A24: 10 | C24: TV inspekcija un hermētiskuma pārbaude | D24: m | E24: 207
A25: 11 | C25: Vairogi tranšeju sienu nostiprināšanai | D25: m | E25: 207
A26: 12 | C26: Gruntsūdens līmeņa pazemināšana | D26: m | E26: 145
... A28: 14 | C28: Montāžas palīgmateriāli | D28: kpl | E28: 1
C29: Lietus ūdens sistēma
A30: 1 | C30: RIGID (vai ekvivalents) MULTI PP-B SN8 OD250. Ietverot grunts rakšanu, aizbēršanu, liekās grunts transportu uz atbērtni un tās montāža | D30: m | E30: 41
A31: 2 | C31: EVODRAIN (vai ekvivalents) HARD PP OD250 ar 360 grādu perforāciju SN8, tai skaitā ģeotekstila filtrs. Ietverot grunts rakšanu, aizbēršanu, liekās grunts transportu uz atbērtni un tās montāža | D31: m | E31: 204
A32: 3 | C32: RIGID (vai ekvivalents) MULTI PP-B SN8 OD160. Ietverot grunts rakšanu, aizbēršanu, liekās grunts transportu uz atbērtni un tās montāža | D32: m | E32: 45
A33: 4 | C33: EVODRAIN (vai ekvivalents) HARD PP OD160 ar 360 grādu perforāciju SN8, tai skaitā ģeotekstila filtrs. Ietverot grunts rakšanu, aizbēršanu, liekās grunts transportu uz atbērtni un tās montāža | D33: m | E33: 33
A34: 5 | C34: RIGID (vai ekvivalents) MULTI PP-B SN8 OD110. Ūdensnoteku pievienošanai lietus kanalizācijai | D34: m | E34: 15
A35: 6 | C35: ACO (vai ekvivalents) Europoint gūlija ar čuguna režģi 252x252. Slodzes klase B125, horizontāls izads DN100, komplektā ar gružu grozu, atbilstoši LVS EN 124 | D35: kpl | E35: 14
A36: 7 | C36: Plastmasas kanalizācijas aka DN 400/315 mm komplektā ar teleskopisko kātu un vāku (uzstādīšanai bruģakmens segumā) | D36: kpl | E36: 7
A37: 8 | C37: Plastmasas kanalizācijas aka DN 400/315 mm komplektā ar teleskopisko kātu un vāku (uzstādīšanai zaļajā zonā) | D37: kpl | E37: 2
A38: 9 | C38: Rūpnieciski izgatavota lietus ūdens tvertne GRAF CRATA (vai ekvivalents) 3750 litri ar plastmaas vāku, sūkni un laistīšanas pieslēgumu | D38: kpl | E38: 1
A39: 10 | C39: Vairogi tranšeju sienu nostiprināšanai | D39: m | E39: 362
A40: 11 | C40: Smilts apbērums virs cauruļvadiem | D40: m3 | E40: 211
A41: 12 | C41: Smilts pamatnes ierīkošana zem cauruļvadiem un akām 20 cm biezumā | D41: m3 | E41: 80
... A45: 16 | C45: Montāžas palīgmateriāli | D45: kpl | E45: 1
C47: Tiešās izmaksas kopā, t.sk. darba devēja sociālais nodoklis(23,59%)
B49: Piezīmes:
A50: ='3,1'!A59:G59 -> Visas atsauces uz materiālu un izstrādājumu izgatavotaj firmām, kuras norādītas būvprojektā, liecina tikai par šo materiālu un izstrādājumu tehniskajiem parametriem un kvalitātes līmeni, to nomaiņa ir iespējama ar citiem tehniski un kvalitatīvi ekvivalentiem būvizstrādājumiem, iepriekš saskaņojot tos ar projekta autoriem un uzrādot atbilstības sertifikātus.
A51: ='3,1'!$A$60 -> 0
B54: ='3,1'!B63 -> Sastādīja: | L54: ='3,1'!L63 -> Pārbaudīja:
C55: ='3,1'!C64 -> 0 | M55: ='3,1'!M64 -> 0
C56: ='3,1'!C65 -> 0 | M56: ='3,1'!M65 -> 0
B57: ='3,1'!B66 -> 0 | C57: ='3,1'!C66 -> 0 | M57: ='3,1'!M66 -> 0 | N57: ='3,1'!N66 -> 0

Sheet 3,3
H1: Lokālā tāme Nr. | I1: =kops3!$B$23 -> 3,3
A2: =C13 -> Ārējie elektromontāžas darbi
C3: Būves nosaukums: | E3: =Koptame!C11 -> Pirmsskolas izglītības iestāde
C4: Objekta nosaukums: | E4: =Koptame!C12 -> Pirmsskolas izglītības iestādes jaunbūve
C5: Objekta adrese: | E5: =Koptame!C13 -> Baložu iela 33, Baloži, Ķekavas novads
C6: =Koptame!B14 -> Iepirkuma Id Nr. | E6: =Koptame!C14 -> ĶNP 2023/85
A7: =Koptame!B17 -> Tāme sastādīta 2024.gada tirgus cenās | P7: Tāmes izmaksas euro: | Q7: =Q58 -> 0
M9: =Koptame!D16 -> Tāme sastādīta:
A11: Nr.p.k. | B11: Kods | C11: Būvdarbu nosaukums | E11: Mērvienība | F11: Daudzums | G11: Vienības izmaksas | M11: Kopā uz visu apjomu
G12: Laika norma (c/h) | H12: Darba samaksas likme (euro/h) | I12: Darba alga (euro) | J12: Būvizstrādājumi (euro) | K12: Mehānismi (euro) | L12: Kopā (euro) | M12: Darbietilpība (c/h) | N12: Darba alga (euro) | O12: Būvizstrādājumi (euro) | P12: Mehānismi (euro) | Q12: Summa (euro)
B13: 0 | C13: =kops3!C23 -> Ārējie elektromontāžas darbi | G13: 0 | H13: 0 | I13: 0 | J13: 0 | K13: 0 | L13: =SUM(I13:K13) -> 0 | M13: =ROUND(G13*F13,2) -> 0 | N13: =ROUND(I13*F13,2) -> 0 | O13: =ROUND(J13*F13,2) -> 0 | P13: =ROUND(K13*F13,2) -> 0 | Q13: =SUM(N13:P13) -> 0
C14: Ārējie elektroapgādes tīkli (ELT) | L14: =SUM(I14:K14) -> 0 | M14: =ROUND(G14*F14,2) -> 0 | N14: =ROUND(I14*F14,2) -> 0 | O14: =ROUND(J14*F14,2) -> 0 | P14: =ROUND(K14*F14,2) -> 0 | Q14: =SUM(N14:P14) -> 0
C15: Kabeļi | L15: =SUM(I15:K15) -> 0 | M15: =ROUND(G15*F15,2) -> 0 | N15: =ROUND(I15*F15,2) -> 0 | O15: =ROUND(J15*F15,2) -> 0 | P15: =ROUND(K15*F15,2) -> 0 | Q15: =SUM(N15:P15) -> 0
A16: 1 | C16: Kabelis ar alumīnija dzīslām 4x240mm² | D16: AXMK | E16: m | F16: 460
A17: 2 | C17: Kabelis ar vara dzīslām 5x10mm² | D17: NYY-J | E17: m | F17: 90
A18: 3 | C18: Kabelis ar vara dzīslām 5x6mm² | D18: NYY-J | E18: m | F18: 1775
A19: 4 | C19: Kabelis ar vara dzīslām 5x4mm² | D19: NYY-J | E19: m | F19: 230
A20: 5 | C20: Kabelis ar vara dzīslām 5x2.5mm² | D20: NYY-J | E20: m | F20: 160
A21: 6 | C21: Kabelis ar vara dzīslām 5x1.5mm² | D21: NYY-J | E21: m | F21: 15
A22: 7 | C22: Kabelis ar vara dzīslām 3x2.5mm² | D22: NYY-J | E22: m | F22: 115
A23: 8 | C23: Kabelis ar vara dzīslām 3x1.5mm² | D23: NYY-J | E23: m | F23: 885
A24: 9 | C24: Kabeļu gala apd. 185mm²-240mm² | D24: EPKT-0063-L12 | E24: kpl | F24: 4
A25: 10 | C25: Kabeļu gala apd. 4mm²-35mm² | D25: EPKT 0015-L12 | E25: kpl | F25: 144
A26: 11 | C26: Y-veida nozaruzmava ar spailēm | D26: Y1, Cellpack | E26: kpl | F26: 1
A27: 12 | C27: Tranšejas rakšana | E27: m | F27: 1885
A28: 13 | C28: Brīdinājuma lente | E28: m | F28: 1885
A29: 14 | C29: Montāžas izstrādājumu palīgmateriālu komplekts (kārbas, klemmes, kronšteini, ķēdes un citi stiprināšanas elementi) | E29: kpl | F29: 1
C30: Caurules
A31: 15 | C31: Aizsargcaurule, PEØ50mm, 750N | E31: m | F31: 300
A32: 16 | C32: Aizsargcaurule, PEØ110mm, 750N | E32: m | F32: 160
A33: 17 | C33: Aizsargcaurule, PVC 20mm | E33: m | F33: 265
A34: 18 | C34: Cauruļu palīgmateriāli (līkumi, savienojumi, stipr. utt.) | E34: kpl | F34: 1
A35: 19 | C35: Montāžas izstrādājumi, stiprinājumi | E35: kpl | F35: 1
C36: Apgaismojums
A37: 20 | C37: Teritorijas gaismeklis LapwingSide (vai ekvivalents) entry 50W 64LEDs, LPC 050 730 L05AB064_Bin-N6_TH, 7662Lm Midnight dimming funkcija | D37: VIZULO (vai ekvivalents) | E37: gb | F37: 20
A38: 21 | C38: Gaismeklis MaxiSpia (vai ekvivalents) Flat, LED 15W, 504Lm. Montāža pie nojumes griestiem | E38: gb | F38: 16
A39: 22 | C39: Teritorijas gaismeklis Blackbird (vai ekvivalents) Mushroom 30 W 16 BBM 030 730 L35 BG016_Bin-N6_TH, 3517Lm Midnight dimming funkcija | D39: VIZULO (vai ekvivalents) | E39: gb | F39: 48
A40: 23 | C40: Metāla stabs ar pamatni, melns, ar automātslēdžiem un tranzītspailēm SV 15.11, h=6.0m virs zemes | E40: kpl | F40: 18
A41: 24 | C41: Metāla stabs ar pamatni, melns, ar automātslēdžiem un tranzītspailēm SV 15.11, h=4.0m virs zemes | E41: kpl | F41: 48
A42: 25 | C42: Montāžas izstrādājumi, stiprinājumi | E42: kpl | F42: 1
C43: Instalācijas materiāli
A44: 26 | C44: El.sadalne NS* | D44: Schneider Electro (vai ekvivalents) | E44: gb | F44: 4
A45: 27 | C45: Elektroauto uzlādes stacija 400V/22kW | E45: gb | F45: 2
A46: 28 | C46: Kontaktligzda 1-viet, 230V, 16A, IP44, v/a | E46: gb | F46: 4
A47: 29 | C47: Slēdzis 10A, 230V, IP44, v/a | E47: gb | F47: 4
C48: Zemējums
A49: 30 | C49: Plakandzelzs 5052 30x3,5mm FT | E49: kpl | F49: 270
A50: 31 | C50: Pievienojums zemejuma kontūram 2760/20 20mm 8-10/FL40 FT | E50: kpl | F50: 12
A51: 32 | C51: Apaļdzelzs RD-10 | E51: kpl | F51: 60
A52: 33 | C52: Savienojuma klemme 256/ADIN40 max, FL40 FT | E52: kpl | F52: 5
A53: 34 | C53: Palīgmateriāli | E53: kpl | F53: 1
C54: Citi darbi
A55: 35 | C55: Vadu marķējums | E55: kpl | F55: 1
A56: 36 | C56: Palīgmateriāli | E56: kpl | F56: 1
C58: Tiešās izmaksas kopā, t.sk. darba devēja sociālais nodoklis(23,59%)
B60: Piezīmes:
A61: ='1,1'!A24:G24 -> Visas atsauces uz materiālu un izstrādājumu izgatavotaj firmām, kuras norādītas būvprojektā, liecina tikai par šo materiālu un izstrādājumu tehniskajiem parametriem un kvalitātes līmeni, to nomaiņa ir iespējama ar citiem tehniski un kvalitatīvi ekvivalentiem būvizstrādājumiem, iepriekš saskaņojot tos ar projekta autoriem un uzrādot atbilstības sertifikātus.
B65: Sastādīja: | M65: =Koptame!B41 -> Pārbaudīja:
C66: =Koptame!C36 -> 0 | N66: =Koptame!C42 -> 0
C67: =Koptame!C37 -> 0 | N67: =Koptame!C43 -> 0
A68: ='3,2'!A57 -> 0 | B68: ='3,2'!B57 -> 0 | C68: ='3,2'!C57 -> 0 | E68: ='3,2'!D57 -> 0 | F68: ='3,2'!E57 -> 0 | G68: ='3,2'!F57 -> 0 | H68: ='3,2'!G57 -> 0 | I68: ='3,2'!H57 -> 0 | J68: ='3,2'!I57 -> 0 | K68: ='3,2'!J57 -> 0 | L68: ='3,2'!K57 -> 0 | N68: ='3,2'!M57 -> 0 | O68: ='3,2'!N57 -> 0 | P68: ='3,2'!O57 -> 0 | Q68: ='3,2'!P57 -> 0

Sheet 3,4
G1: Lokālā tāme Nr. | H1: =kops3!B24 -> 3,4
A2: =C13 -> Ārējie siltumtīkli
C3: Būves nosaukums: | D3: =Koptame!C11 -> Pirmsskolas izglītības iestāde
C4: Objekta nosaukums: | D4: =Koptame!C12 -> Pirmsskolas izglītības iestādes jaunbūve
C5: Objekta adrese: | D5: =Koptame!C13 -> Baložu iela 33, Baloži, Ķekavas novads
C6: =Koptame!B14 -> Iepirkuma Id Nr. | D6: =Koptame!C14 -> ĶNP 2023/85
A7: =Koptame!B17 -> Tāme sastādīta 2024.gada tirgus cenās | O7: Tāmes izmaksas euro: | P7: =P41 -> 0
L9: =Koptame!D16 -> Tāme sastādīta:
A11: Nr.p.k. | B11: Kods | C11: Būvdarbu nosaukums | D11: Mērvienība | E11: Daudzums | F11: Vienības izmaksas | L11: Kopā uz visu apjomu
F12: Laika norma (c/h) | G12: Darba samaksas likme (euro/h) | H12: Darba alga (euro) | I12: Būvizstrādājumi (euro) | J12: Mehānismi (euro) | K12: Kopā (euro) | L12: Darbietilpība (c/h) | M12: Darba alga (euro) | N12: Būvizstrādājumi (euro) | O12: Mehānismi (euro) | P12: Summa (euro)
B13: 0 | C13: =kops3!C24 -> Ārējie siltumtīkli | F13: 0 | G13: 0 | H13: 0 | I13: 0 | J13: 0 | K13: =SUM(H13:J13) -> 0 | L13: =ROUND(F13*E13,2) -> 0 | M13: =ROUND(H13*E13,2) -> 0 | N13: =ROUND(I13*E13,2) -> 0 | O13: =ROUND(J13*E13,2) -> 0 | P13: =SUM(M13:O13) -> 0
A14: 1 | C14: Rūpnieciski izgatavota lokanā siltumtrase RK FibreFlex D110/162 10 bar, maksimālā temperatūra 95˚ C | D14: m | E14: 280
A15: 2 | C15: Pieslēgums pie esošās siltumtrase DN140/202 | D15: kpl | E15: 1
A16: 3 | C16: Rūpnieciski izolēts parpendikulārais tērauda trejgabals DN125/225 ar atzaru DN100/200 (L1=1200 mm, L2=1000 mm) | D16: gb | E16: 1
A17: 4 | C17: Rūpnieciski izolēts parpendikulārais tērauda trejgabals DN125/225 ar atzaru DN100/200 (L1=1200 mm, L2=1310 mm) | D17: gb | E17: 1
A18: 5 | C18: Kompresijas viedgabals ar metināmu galu komplektā ar kompresijas uzmavu FFP140/DN125ar metināmu galu | D18: gb | E18: 4
A19: 6 | C19: Pārējas termonosēdošas uzmavas ar putu komplektiem - reduction shrink joint Ø-225-202mm (L=700mm) | D19: gb | E19: 4
A20: 7 | C20: Rūpnieciski izolēts noslēgvārsts DN100/200 (L=1500 H=560 mm) | D20: gb | E20: 2
A21: 8 | C21: Termonosēdošās uzmavas ar putu komplektiem Ø-202mm (L=700mm) | D21: gb | E21: 2
A22: 9 | C22: Kompresijas viedgabals ar metināmu galu komplektā ar kompresijas uzmavu FFP110/DN100 ar metināmu galu | D22: gb | E22: 2
A23: 10 | C23: Pārējas termonosēdošas uzmavas ar putu komplektiem - reduction shrink joint Ø-202-162mm (L=700mm) | D23: gb | E23: 2
A24: 11 | C24: Siltumrases ievads ēkā | D24: kpl | E24: 1
A25: 12 | C25: Vertikāls tērauda ievada līkums 90˚ DN100/200 1000x1000 mm | D25: gb | E25: 2
... A33: 20 | C33: Montāžas palīgmateriāli | D33: kpl | E33: 1
A34: 21 | C34: Montāžas/demontāžas darbi (kopā visām sistēmām)
A35: 22 | C35: Tranšejas izveide, sagatavošana un aizbēršana | D35: kpl | E35: 1
A36: 23 | C36: Siltumtrases ievada mezgla montāža | D36: gb | E36: 2
A37: 24 | C37: Spiediena pārbaude | D37: kpl | E37: 1
A38: 25 | C38: Zālāja seguma atjaunošana/demontāža
A39: 26 | C39: Zālāja sēšana, tai skaitā zālāja sēkla, auglīgais slānis 0.15 m | D39: m2 | E39: 27
C41: Tiešās izmaksas kopā, t.sk. darba devēja sociālais nodoklis(23,59%)
B43: Piezīmes:
A44: ='3,1'!A59:G59 -> Visas atsauces uz materiālu un izstrādājumu izgatavotaj firmām, kuras norādītas būvprojektā, liecina tikai par šo materiālu un izstrādājumu tehniskajiem parametriem un kvalitātes līmeni, to nomaiņa ir iespējama ar citiem tehniski un kvalitatīvi ekvivalentiem būvizstrādājumiem, iepriekš saskaņojot tos ar projekta autoriem un uzrādot atbilstības sertifikātus.
A45: ='3,1'!$A$60 -> 0
B48: ='3,3'!B65 -> Sastādīja: | L48: ='3,3'!M65 -> Pārbaudīja:
C49: ='3,3'!C66 -> 0 | M49: ='3,3'!N66 -> 0
C50: ='3,3'!C67 -> 0 | M50: ='3,3'!N67 -> 0

Sheet 3,5
H1: Lokālā tāme Nr. | I1: =kops3!B25 -> 3,5
A2: =C13 -> Ārējie vājstrāvas tīkli
C3: Būves nosaukums: | E3: =Koptame!C11 -> Pirmsskolas izglītības iestāde
C4: Objekta nosaukums: | E4: =Koptame!C12 -> Pirmsskolas izglītības iestādes jaunbūve
C5: Objekta adrese: | E5: =Koptame!C13 -> Baložu iela 33, Baloži, Ķekavas novads
C6: =Koptame!B14 -> Iepirkuma Id Nr. | E6: =Koptame!C14 -> ĶNP 2023/85
A7: =Koptame!B17 -> Tāme sastādīta 2024.gada tirgus cenās | P7: Tāmes izmaksas euro: | Q7: =Q43 -> 0
M9: =Koptame!D16 -> Tāme sastādīta:
A11: Nr.p.k. | B11: Kods | C11: Būvdarbu nosaukums | E11: Mērvienība | F11: Daudzums | G11: Vienības izmaksas | M11: Kopā uz visu apjomu
G12: Laika norma (c/h) | H12: Darba samaksas likme (euro/h) | I12: Darba alga (euro) | J12: Būvizstrādājumi (euro) | K12: Mehānismi (euro) | L12: Kopā (euro) | M12: Darbietilpība (c/h) | N12: Darba alga (euro) | O12: Būvizstrādājumi (euro) | P12: Mehānismi (euro) | Q12: Summa (euro)
B13: 0 | C13: =kops3!C25 -> Ārējie vājstrāvas tīkli | G13: 0 | H13: 0 | I13: 0 | J13: 0 | K13: 0 | L13: =SUM(I13:K13) -> 0 | M13: =ROUND(G13*F13,2) -> 0 | N13: =ROUND(I13*F13,2) -> 0 | O13: =ROUND(J13*F13,2) -> 0 | P13: =ROUND(K13*F13,2) -> 0 | Q13: =SUM(N13:P13) -> 0
C14: Būvizstrādājumu izmaksas | G14: =IFERROR(ROUND(I14/H14,2),0) -> 0 | H14: =IF(I14>0,5,0) -> 0 | L14: =SUM(I14:K14) -> 0 | M14: =ROUND(G14*F14,2) -> 0 | N14: =ROUND(I14*F14,2) -> 0 | O14: =ROUND(J14*F14,2) -> 0 | P14: =ROUND(K14*F14,2) -> 0 | Q14: =SUM(N14:P14) -> 0
A15: 1 | C15: Kabeļu kanalizācijas caurule | D15: 100x6000 | E15: gb. | F15: 7
A16: 2 | C16: Kabeļu kanalizācijas caurule | D16: 50x6000 | E16: gb. | F16: 7
A17: 3 | C17: Caurules līkums | D17: 100/90 | E17: gb. | F17: 1
A18: 4 | C18: Caurules līkums | D18: 50/45 | E18: gb. | F18: 1
A19: 5 | C19: Plastmasas aka KP-PEH-800x650mm ar kv.pam. | D19: KP-PEH 800x650 (vai ekvivalents) | E19: kpl. | F19: 1
A20: 6 | C20: Dībelis saitītēm 10x43(JST) | E20: 100gb. | F20: 0.3
A21: 7 | C21: Kab. kanalizācijas akas vāks (max. slodze 12,5 t) | E21: kpl. | F21: 1
A22: 8 | C22: Silikons N, neitrāls hermēt.310ml | E22: gb. | F22: 1
A23: 9 | C23: Atloks dzelzsb. gredz. pilnai fiksācijai | E23: gb. | F23: =F19*3 -> 3
A24: 10 | C24: Kabeļu akas dzelzbetona riņķis | E24: kpl. | F24: =F19*2 -> 2
A25: 11 | C25: Kabeļu cauruļu blīvēšanas materiāls 16 A | E25: gb. | F25: 1
A26: 12 | C26: Salizturīga smilts komunikāciju ”spilvenam” | E26: m3 | F26: =14*6*0.5*0.15 -> 6.3
A27: 13 | C27: Strēmelēs plīstošā brīdin. lenta | D27: 50mmx500m | E27: rullis | F27: 1
A28: 14 | C28: Virve kabeļa ievilkšanai | D28: 6mm/500m | E28: gab. | F28: 1
A29: 15 | C29: Gofrētā caurule iekštelpām | D29: d40 | E29: m | F29: 60
A30: 16 | C30: Montāžas materiāli | D30: cauruļu savienojumi, naglas utt. | E30: kpl. | F30: 1
C31: Darbu izmaksas
A32: 1 | C32: Kabeļu kanalizācijas celtniecība, ja cauruļu skaits blokā: 1 | E32: kan/m | F32: =82 -> 82
A33: 2 | C33: Kabeļu kanalizācijas cauruļu ieguldīšana tranšejā | E33: m | F33: =F32 -> 82
A34: 3 | C34: Kabeļu akas PEH uzstādīšana | E34: kompl. | F34: 1
A35: 4 | C35: Ievada izveidošana ēkā | E35: gb. | F35: 1
A36: 5 | C36: Iekštelpas stāvvada izbūvēšana | E36: m | F36: 1
A37: 6 | C37: Tranšejas rakšana (ar rokām) | E37: m | F37: =32+9 -> 41
A38: 7 | C38: Stāvvada izveidošana | E38: gb. | F38: 1
A39: 8 | C39: Rakšanas atļaujas noformēšana un noslēgšana, izpilddokumentācijas noformēšana | E39: kpl. | F39: 1
A40: 9 | C40: Digitālas izpilddokumentācijas izgatavošana objektam ar komunikāciju ģeogrāfisku piesaistīšanu | E40: kpl. | F40: 1
A41: 10 | C41: Papilddarbi | E41: kpl. | F41: 1
C43: Tiešās izmaksas kopā, t.sk. darba devēja sociālais nodoklis(23,59%)
B45: Piezīmes:
A46: ='3,1'!A59:G59 -> Visas atsauces uz materiālu un izstrādājumu izgatavotaj firmām, kuras norādītas būvprojektā, liecina tikai par šo materiālu un izstrādājumu tehniskajiem parametriem un kvalitātes līmeni, to nomaiņa ir iespējama ar citiem tehniski un kvalitatīvi ekvivalentiem būvizstrādājumiem, iepriekš saskaņojot tos ar projekta autoriem un uzrādot atbilstības sertifikātus.
A47: ='3,1'!$A$60 -> 0
B50: ='3,3'!B65 -> Sastādīja: | M50: ='3,3'!M65 -> Pārbaudīja:
C51: ='3,3'!C66 -> 0 | N51: ='3,3'!N66 -> 0
C52: ='3,3'!C67 -> 0 | N52: ='3,3'!N67 -> 0

Sheet kops4
A2: Kopsavilkuma aprēķins Nr. 4
A6: =Koptame!C24 -> Teritorijas labiekārtošana
A8: Būves nosaukums: | C8: =Koptame!C11 -> Pirmsskolas izglītības iestāde
A9: Objekta nosaukums: | C9: =Koptame!C12 -> Pirmsskolas izglītības iestādes jaunbūve
A10: Objekta adrese: | C10: =Koptame!C13 -> Baložu iela 33, Baloži, Ķekavas novads
A11: =Koptame!B14 -> Iepirkuma Id Nr. | C11: =Koptame!C14 -> ĶNP 2023/85
F13: Par kopējo summu, euro
F14: Kopējā darbietilpība, c/h
H16: =Koptame!D16 -> Tāme sastādīta:
A18: Nr.p.k. | B18: Kods, tāmes Nr. | C18: Būvdarbu veids vai konstruktīvā elementa nosaukums | E18: Tāmes izmaksas (euro) | F18: Tai skaitā | I18: Darbietilpība (c/h)
F19: darba alga (euro) | G19: materiāli (euro) | H19: mehānismi (euro)
A21: 1 | B21: 4,1 | C21: Teritorijas labiekārtošana
C23: Kopā
A24: Virsizdevumi | D24: =kops1!$D$34
C25: tai skaitā darba aizsardzība
A26: Peļņa | D26: =kops1!$D$36
C27: Kopā bez PVN
B30: Sastādīja:
C31: =Koptame!C36 -> 0
C32: =Koptame!C37 -> 0
B36: =Koptame!B41 -> Pārbaudīja:
C37: =Koptame!C42 -> 0
C38: =Koptame!C43 -> 0

Sheet 4,1
G1: Lokālā tāme Nr. | H1: =kops4!B21 -> 4,1
A2: =C13 -> Teritorijas labiekārtošana
C3: Būves nosaukums: | D3: =Koptame!C11 -> Pirmsskolas izglītības iestāde
C4: Objekta nosaukums: | D4: =Koptame!C12 -> Pirmsskolas izglītības iestādes jaunbūve
C5: Objekta adrese: | D5: =Koptame!C13 -> Baložu iela 33, Baloži, Ķekavas novads
C6: =Koptame!B14 -> Iepirkuma Id Nr. | D6: =Koptame!C14 -> ĶNP 2023/85
A7: =Koptame!B17 -> Tāme sastādīta 2024.gada tirgus cenās | O7: Tāmes izmaksas euro: | P7: =P158 -> 0
L9: =Koptame!D16 -> Tāme sastādīta:
A11: Nr.p.k. | B11: Kods | C11: Būvdarbu nosaukums | D11: Mērvienība | E11: Daudzums | F11: Vienības izmaksas | L11: Kopā uz visu apjomu
F12: Laika norma (c/h) | G12: Darba samaksas likme (euro/h) | H12: Darba alga (euro) | I12: Būvizstrādājumi (euro) | J12: Mehānismi (euro) | K12: Kopā (euro) | L12: Darbietilpība (c/h) | M12: Darba alga (euro) | N12: Būvizstrādājumi (euro) | O12: Mehānismi (euro) | P12: Summa (euro)
C13: =kops4!C21 -> Teritorijas labiekārtošana | K13: =SUM(H13:J13) -> 0 | L13: =ROUND(F13*E13,2) -> 0 | M13: =ROUND(H13*E13,2) -> 0 | N13: =ROUND(I13*E13,2) -> 0 | O13: =ROUND(J13*E13,2) -> 0 | P13: =SUM(M13:O13) -> 0
C14: Sagatavošanas darbi | K14: =SUM(H14:J14) -> 0 | L14: =ROUND(F14*E14,2) -> 0 | M14: =ROUND(H14*E14,2) -> 0 | N14: =ROUND(I14*E14,2) -> 0 | O14: =ROUND(J14*E14,2) -> 0 | P14: =SUM(M14:O14) -> 0
A15: 1 | C15: Objekta nospraušana un nostiprināšana dabā | D15: kpl | E15: 1
A16: 2 | C16: Celmu laušana t.sk. būvgružu izvešana, utilizēšana | D16: gb | E16: 548
C17: Zemes klātne
A18: 3 | C18: Gultnes sagatavošana ceļiem un laukumiem,lieko grunti aizvedot uz atbērtni | D18: m2 | E18: =E22+E29+E36+E42+E43+E51+E54+E56+E55 -> 10102.2
A19: 4 | C19: Laukumu planēšana, blietēšana | D19: m2 | E19: =E18 -> 10102.2
C20: Ceļi un segumi
C21: Brauktuve-betona bruģakmens
A22: 5 | C22: Ģeotekstila NW15 ieklāšana | D22: m2 | E22: 2812
A23: 6 | C23: Salizturīga smilts slāņa izbūve h min=40 cm | D23: m2 | E23: 2812
A24: 7 | C24: Nesaistīta minerālmateriāla maisījuma kārtas izbūve 0/45 h=12cm | D24: m2 | E24: 2812
A25: 8 | C25: Nesaistīta minerālmateriāla maisījuma kārtas izbūve 0/63 h=18cm | D25: m2 | E25: 2812
A26: 9 | C26: Vidēju rupjas smilts izlīdzinošā kārtas ierīkošana h=5cm | D26: m2 | E26: 2812
A27: 10 | C27: Betona bruģakmens seguma izbūve 80 mm | D27: m2 | E27: 2812
C28: Brauktuve-laukakmeņu bruģakmens
A29: 11 | C29: Ģeotekstila NW15 ieklāšana | D29: m2 | E29: 108
A30: 12 | C30: Salizturīga smilts slāņa izbūve h min=40 cm | D30: m2 | E30: 108
A31: 13 | C31: Nesaistīta minerālmateriāla maisījuma kārtas izbūve 0/45 h=14cm | D31: m2 | E31: 108
A32: 14 | C32: Nesaistīta minerālmateriāla maisījuma kārtas izbūve 0/56 h=14cm | D32: m2 | E32: 108
A33: 15 | C33: Rupjas smilts spilvena ierīkošana h=15cm | D33: m2 | E33: 108
A34: 16 | C34: Laukakmeņu bruģakmens seguma izbūve 15-20cm | D34: m2 | E34: 108
C35: Ietves
A36: 17 | C36: Salizturīga smilts slāņa izbūve h min=30 cm | D36: m2 | E36: 2098
A37: 18 | C37: Nesaistīta minerālmateriāla maisījuma kārtas izbūve 0/45 h=15cm | D37: m2 | E37: 2098
A38: 19 | C38: Minerālmateriāla maisījuma kārtas ierīkošana h=3cm | D38: m2 | E38: 2098
A39: 20 | C39: Betona bruģakmens seguma izbūve 80 mm 200x100 | D39: m2 | E39: 1848
A40: 21 | C40: Betona bruģakmens seguma izbūve 80 mm 150x150 | D40: m2 | E40: 250
C41: Zāliens-ievalce
A42: 22 | C42: Zālāji ar melnzemes kārtu ierīkošana saskaņā ar GP-TS daļu uz 20cm auglīgas augsnes | D42: m2 | E42: 1744
A43: 23 | C43: Zālāji ar melnzemes kārtu ierīkošana saskaņā ar GP-TS daļu uz 20cm auglīgas augsnes ievalcēm | D43: m2 | E43: 369
C44: Betona apmales u.c. | E44: 0
A45: 24 | C45: Ietves betona apmaļu BR100.20.8 mm uzstādīšana uz betona pamatnes | D45: m | E45: 594
A46: 25 | C46: Betona apmales BR100.30.15 uzstādīšana uz betona pamatnes | D46: m | E46: 192
A47: 26 | C47: Ietves betona apmaļu Ielas apmales BR100.30.15 ar horizizontālo apzīmējumu 931 uzstādīšana uz betona pamatnes | D47: m | E47: 118
A48: 27 | C48: Ietves betona apmaļu Ielas apmales Proj. ceļa apmales 100.30.15 (izcelta 10cm) ar 20 cm atstarpēm starp bortakmeņiem uzstādīšana uz betona pamatnes | D48: m | E48: 238
A49: 28 | C49: Betona apmales Ielas pazeminātās apmales BR100.30.15 (iebūvēt ar kantainajiem stūriem uz augšu) Betons C30/37 uzstādīšana uz betona pamatnes | D49: m | E49: 139
A50: 29 | C50: Betona apmales Ielas pazeminātās apmales Proj. ceļu slīpā apmale - BR_L100.30.15, betons C30/37 uzstādīšana uz betona pamatnes | D50: m | E50: 6
A51: 30 | C51: Reljefa betona bruģakmens pelēks/dzeltens betona bruģakmens izmērs: 200x100x60 no sia "BRIKERS" (vai ekvivalents).Betons C30/37 | D51: m2 | E51: 5.2
A52: 31 | C52: Atdures barjera stāvvietām No SIA "PLASTENA" (vai ekvivalents) | D52: gb | E52: 90
C53: Gumijas segums | E53: 0
A54: 32 | C54: EPDM (vai ekvivalents) lietās gumijas seguma izbūve t.sk. Apakšslāņi 50 mm | D54: m2 | E54: =1020+716 -> 1736
A55: 33 | C55: EPDM (vai ekvivalents) lietās gumijas seguma izbūve t.sk. Apakšslāņi 80 mm | D55: m2 | E55: =701+301 -> 1002
A56: 34 | C56: Gumijas mulča starp laukumiņiem t.sk. Apakšslāņi | D56: m2 | E56: 228
C57: Apzaļumošana
A58: 35 | C58: Kokauga stāda bedres sagatavošana . rakšana, sagatavošana ar augsni | D58: m3 | E58: =177*0.5 -> 88.5
A59: 36 | C59: Koka stādīšana. Tunberga bārbele "Bagataelle",šķirne, apdobes mulčēšana saskaņā ar TS-4 t.sk mulča 10 cm | D59: gb. | E59: 100
A60: 37 | C60: Koka stādīšana..Kokveida hortenzija,šķirne "Anabelle", apdobes mulčēšana saskaņā ar TS-4 t.sk mulča 10 cm | D60: gb. | E60: 27
A61: 38 | C61: Koka stādīšana. Kalnu priede Winter Gold, šķirne 3 virpotu impregnētu koka balstu nostiprināšana, apdobes mulčēšana saskaņā ar TS-4 t.sk mulča 10 cm | D61: gb. | E61: 50
C62: Prettrokšņu barjera
A63: 39 | C63: Pretrokšņu barjeras uzstādīšana.Prettrokšņu 9dB paneļi HB 10 / 3,5 WAVEline abpusēji, DB 100 NBF Pamatne | D63: m | E63: 145
C64: Aprīkojums
A65: 40 | C65: Ceļa zīmes uzstādīšana- lielās t.sk. Ceļazīmes metāla staba uzstādīšana | D65: gb | E65: 11
A66: 41 | C66: Ceļa zīmes uzstādīšana- papildzīmes t.sk. Ceļazīmes metāla staba uzstādīšana | D66: gb | E66: 2
A67: 42 | C67: masīvas tropu dzelzskoka (vai ekvivalents- lapegle) gulšņu detaļas izmērā 300 mm x 300 mm tiek izmantotas Hardwood kolekcijas solu sēdvirsmās. Pēc izvēles pieejama LED apgaismojuma instalācija. Metāliskās virsmas ar pulverkrāsojumu "SAHARA PROTECT". Augstums - 500mm Platums - 300mm Atzveltenes garums - diapazonā no 5m, Sēdvietas garums 6 m. Hardwood sols - ODK058-23 (vai ekvovalents) | D67: gb | E67: 92
A68: 43 | C68: Metāla konstrukcijas 3mm un 8mm tēraura metāls ar pulverkrāsojumu "SAHARA PROTECT" Augstums 1000mm Diametrs 410mm Aprīkots ar pelnutrauku Atkritumu urna - ODK101 | D68: gb | E68: 26
A69: 44 | C69: Tērauda velostatīvs aprīkots ar augstas izturības koka elementiem. Velosipēdu statīvu konstrukcija ļauj velosipēdus nostiprināt ar troses vai ķēdes slēdzeni. Ar pulverkrāsojumu "SAHARA PROTECT" Augstums 900mm Platums 80mm Garums 1000mm Velostātīvs - ODK087 | D69: gb | E69: 57
A70: 45 | C70: Stiklašķiedras 12m balts karoga masts uz tērauda pamatnes ar eņģi. Komplektā ar nerūsējošā tērauda uzgali, slēdzeni, uzgriezni karoga pacelšanai, betona pamatu (H=1.2m, D=0.5m); izplatītājs SIA “Mix Max | D70: gb | E70: 4
A71: 46 | C71: E-1 Smilšu kaste - Robina RB1331 | D71: kpl | E71: 5
A72: 47 | C72: E-2 Rotaļu laukuma aprīkojums - Robina RB1245 | D72: kpl | E72: 3
A73: 48 | C73: E-3Rotaļu laukuma aprīkojums - Robina RB1242 | D73: kpl | E73: 1
A74: 49 | C74: E-4 Rotaļu laukuma aprīkojums - Robina RB1246 | D74: kpl | E74: 1
A75: 50 | C75: E-5 Rotaļu laukuma aprīkojums - Robina RB1203 | D75: kpl | E75: 2
A76: 51 | C76: E-6 Rotaļu laukuma aprīkojums - Robina RB1207 | D76: kpl | E76: 2
... A98: 73 | C98: Metāla paneļu vienviru vārti - Bekafor Essential swing gate (vai ekvivalents) Vērtne 1000x1500 mm, vārtu rāmis - 40x40 mm, Vārtu stabi - 60x60 mm (kopā 4 gab.), paneļu aizpildījums - Nylofor 3D (vai ekvivalents) light panelis, aprīkot ar elektrosprūdu ar pieejas kontroli, eņģes ar atvērumu - 90 grādos, izbūvēt kopā ar metāla paneļu žogu. Tonis - RAL 7016 (saskaņot AU kārtībā) | D98: gb | E98: 2
C99: Rotaļu nojumes
C100: BK
A101: 74 | C101: Inventāro veidņu uzstādīšana,eļļošana pamatiem un nojaukšana ,noma | D101: m2 | E101: 640
A102: 75 | C102: Šķembu pamatojuma ierīkošana fr.0-45 mm,blīvā veidā ,novibrējot | D102: m3 | E102: =14.1*4 -> 56.4
A103: 76 | C103: Armatūras sietu izgatavošana ,uzstādīšana,fiksatoru uzstādīšana . Armatūra B500B | D103: t | E103: =(1.6335+0.157)*4 -> 7.162
A104: 77 | C104: Betona iestrādāšana pamatu konstrukcijās-pamati C30/37 XC4 XF3 novibrējot,betonu padod ar sūkni | D104: m3 | E104: =22.43*4 -> 89.72
A105: 78 | C105: Nesošo koka konstrukciju-koka sijas, mūrlatas, spāres izgatavošana un montāža sagatavotas atbilstoši BK norādījumiem t.sk. Palīgmateriāli. Kokmateriālu klase Apstrādātas ar antiseptiķi-antipirēnu | D105: m3 | E105: =5.824*4 -> 23.296
A106: 79 | C106: Tērauda konstrukciju- izgatavošana , piegāde,montāža t.sk. Palīgmateriāli. Metāla konstrukcijas apstrādātas atbilstoši BK norādījumiem t.sk. Ugunsdrošais pārklājs | D106: t | E106: =(0.18538+0.527+0.477)*4 -> 4.75752
A107: 80 | C107: Būvkaluma Rothoblaas montāža | D107: gb | E107: 224
A108: 81 | C108: OSB seguma t=18 mm montāža | D108: m2 | E108: 359.72
C109: AR
A110: 82 | C110: FASĀDE - koka dēļu apšuvums Termokoks "Luna SHP" (vai ekvivalents) 19x117 | D110: m2 | E110: =34.6*4 -> 138.4
A111: 83 | C111: Caurspīdīgs polikarbonāts ar aizsardzību pret mehāniskiem bojājumiem un UV aizsardzību, 4mm biezs | D111: m2 | E111: =41.4*4 -> 165.6
A112: 84 | C112: FASĀDE - koka NCS S 9000-N,statņi, eļļoti | D112: gb | E112: =52*4 -> 208
A113: 85 | C113: Skārda nosegelementi / Tērauda elementu krāsa | D113: m | E113: =32*4 -> 128
A114: 86 | C114: SIENA - koka dēļu apšuvums, caurspīdīgi eļļots | D114: m2 | E114: =27.3*4 -> 109.2
A115: 87 | C115: Vienslāņu virsgaismas akrila kupols "M1N"; iekšējais kupola izmērs 2200x2200; caurspīdīgs. gaismas caurlaidība 92%; UV aizsardzība | D115: gb | E115: =1*4 -> 4
A116: 88 | C116: Jumta segums - PVC membrāna, 2mm | D116: m2 | E116: =89.93*4 -> 359.72
A117: 89 | C117: Jumta seguma apakšklāja ierīkošana | D117: m2 | E117: =89.93*4 -> 359.72
A118: 90 | C118: Notekrenes montāža.T.sk. Veidgabali | D118: m | E118: =33*4 -> 132
A119: 91 | C119: Notekcaurules montāža T.sk. Veidgabali | D119: m | E119: =3.2*3*4 -> 38.4
A120: 92 | C120: Nojumes mēbeles
A121: 93 | C121: Galds. Izgatavots no bērza masīvkoka, apdarē izmantota laka uz ūdens bāzes, bez alergēniem. Galda stūri noapaļoti. 600x500x1200mm | D121: gb | E121: =9*4 -> 36
A122: 94 | C122: Bērnudārza krēsls. Krēsls izgatavots no lakota dižskabārža saplākšņa (biezums: 6 mm) un koka profila rāmja (izm. 22 x 45 mm) | D122: gb | E122: =30*4 -> 120
A123: 95 | C123: Sols. Izgatavots no bērza masīvkoka, apdarē izmantota laka uz ūdens bāzes, bez alergēniem. 350x400x1100mm | D123: gb | E123: =9*4 -> 36
...
