Workbook
Name A: '[1]2'!$A$1
Name P: #REF!
Name P: #REF!
Name P: #REF!
Name P: #REF!
Name P: #REF!
Name P: #REF!
Name P: #REF!
Name P: #REF!
Name P: #REF!
Name P: #REF!
Name P: #REF!
Name P: #REF!
Name P: #REF!
Name P: #REF!
Name P: #REF!
Name P: #REF!
Name P: #REF!
Name P: #REF!
Name P: #REF!
Name P: #REF!
Name P: #REF!
Name P: #REF!
Name P: #REF!
Name P: #REF!
Name P: #REF!
Name P: #REF!
Name P: #REF!
Name P: #REF!
Name P: #REF!
Name P: #REF!
Name P: #REF!
Name P: #REF!
Name P: #REF!
Name P: #REF!
Name P: #REF!
Name P: #REF!
Name P: #REF!
Name P: #REF!

Sheet Koptame
D2: APSTIPRINU
D3: ________________________________________
D4: (pasūtītāja paraksts un tā atšifrējums)
D6: Z.v.
D7: ______.gada ____.____________
B9: Būvniecības koptāme
B11: Būves nosaukums: | C11: Pirmsskolas izglītības iestāde
B12: Objekta nosaukums: | C12: Pirmsskolas izglītības iestādes jaunbūve
B13: Objekta adrese: | C13: Baložu iela 33, Baloži, Ķekavas novads
B14: Iepirkuma Id Nr. | C14: ĶNP 2023/85
D16: Tāme sastādīta:
B17: Tāme sastādīta 2024.gada tirgus cenās
B18: Kopsav.tāmes Nr | C18: Objekta nosaukums | D18: Objekta izmaksas (euro)
B21: 1 | C21: Vispārējie būvdarbi
B22: 2 | C22: Specializētie darbi-iekšējie tīkli, sistēmas
B23: 3 | C23: Specializētie darbi-ārējie tīkli, sistēmas
B24: 4 | C24: Teritorijas labiekārtošana
C25: Kopā( bez PVN)
C30: PVN 21 %
B35: Sastādīja:
B41: Pārbaudīja:

Sheet kops1
A2: Kopsavilkuma aprēķins Nr. 1
A6: =Koptame!C21 -> Vispārējie būvdarbi
A8: Būves nosaukums: | C8: =Koptame!C11 -> Pirmsskolas izglītības iestāde
A9: Objekta nosaukums: | C9: =Koptame!C12 -> Pirmsskolas izglītības iestādes jaunbūve
A10: Objekta adrese: | C10: =Koptame!C13 -> Baložu iela 33, Baloži, Ķekavas novads
A11: =Koptame!B14 -> Iepirkuma Id Nr. | C11: ĶNP 2023/85
F13: Par kopējo summu, euro | H13: =E37 -> 0
F14: Kopējā darbietilpība, c/h | H14: =I33 -> 0
H15: =H14+kops2!H14+kops3!H14+kops4!H14 -> 0
H16: =Koptame!D16 -> Tāme sastādīta:
A18: Nr.p.k. | B18: Kods, tāmes Nr. | C18: Būvdarbu veids vai konstruktīvā elementa nosaukums | E18: Tāmes izmaksas (euro) | F18: Tai skaitā | I18: Darbietilpība (c/h)
F19: darba alga (euro) | G19: būvizstrādājumi (euro) | H19: mehānismi (euro)
A21: 1 | B21: 1,1 | C21: Zemes darbi
A22: 2 | B22: 1,2 | C22: Pamati
A23: 3 | B23: 1,3 | C23: Sienas
A24: 4 | B24: 1,4 | C24: Pārsegums
A25: 5 | B25: 1,5 | C25: Jumts
A26: 6 | B26: 1,6 | C26: Grīdas
A27: 7 | B27: 1,7 | C27: Kāpnes
A28: 8 | B28: 1,8 | C28: Ailu aizpildījuma elementi
A29: 9 | B29: 1,9 | C29: Iekšējie apdares darbi
A30: 10 | B30: 1,10 | C30: Ārējās apdares darbi
A31: 11 | B31: 1,11 | C31: Dažādi darbi
C33: Kopā
A34: Virsizdevumi
C35: tai skaitā darba aizsardzība
A36: Peļņa
C37: Kopā bez PVN
B40: Sastādīja:
C41: =Koptame!C36 -> 0
C42: =Koptame!C37 -> 0
B46: =Koptame!B41 -> Pārbaudīja:
C47: =Koptame!C42 -> 0
C48: =Koptame!C43 -> 0

Sheet 1,1
G1: Lokālā tāme Nr. | H1: =kops1!B21 -> 1,1
A2: =C13 -> Zemes darbi
C3: Būves nosaukums: | D3: =Koptame!C11 -> Pirmsskolas izglītības iestāde
C4: Objekta nosaukums: | D4: =Koptame!C12 -> Pirmsskolas izglītības iestādes jaunbūve
C5: Objekta adrese: | D5: =Koptame!C13 -> Baložu iela 33, Baloži, Ķekavas novads
C6: =Koptame!B14 -> Iepirkuma Id Nr. | D6: =Koptame!C14 -> ĶNP 2023/85
A7: =Koptame!B17 -> Tāme sastādīta 2024.gada tirgus cenās | O7: Tāmes izmaksas euro: | P7: =P21 -> 0
L9: =Koptame!D16 -> Tāme sastādīta:
A11: Nr.p.k. | B11: Kods | C11: Būvdarbu nosaukums | D11: Mērvienība | E11: Daudzums | F11: Vienības izmaksas | L11: Kopā uz visu apjomu
F12: Laika norma (c/h) | G12: Darba samaksas likme (euro/h) | H12: Darba alga (euro) | I12: Būvizstrādājumi (euro) | J12: Mehānismi (euro) | K12: Kopā (euro) | L12: Darbietilpība (c/h) | M12: Darba alga (euro) | N12: Būvizstrādājumi (euro) | O12: Mehānismi (euro) | P12: Summa (euro)
C13: =kops1!C21 -> Zemes darbi | K13: =SUM(H13:J13) -> 0 | L13: =ROUND(F13*E13,2) -> 0 | M13: =ROUND(H13*E13,2) -> 0 | N13: =ROUND(I13*E13,2) -> 0 | O13: =ROUND(J13*E13,2) -> 0 | P13: =SUM(M13:O13) -> 0
A14: 1 | C14: Gruntsūdens līmeņa pazemināšana (Nepieciešamību precizēt būvniecības laikā!) | D14: kpl | E14: 1
A15: 2 | C15: Grunts rakšana ar mehanizēti, iekraujot grunti automašīnā-pašizgāzējā pamatu izbūvei | D15: m3 | E15: =3072+1151-E16 -> 3801
A16: 3 | C16: Grunts izstrāde roku darbā pamatu izbūvei | D16: m3 | E16: 422
A17: 4 | C17: Būvbedres un tranšejas aizbēršana mehanizēti ar pievesto smilti pamatiem | D17: m3 | E17: =2047-E18 -> 1842
A18: 5 | C18: Būvbedres un tranšejas aizbēršana ar rokām ar pievesto smilti pamatiem | D18: m3 | E18: 205
A19: 6 | C19: Liekās grunts izvešana | D19: m3 | E19: =E15+E16 -> 4223
F20: 0 | G20: 0
C21: Tiešās izmaksas kopā t.sk. darba devēja sociālais nodoklis(23,59%)
C23: Piezīmes:
A24: Visas atsauces uz materiālu un izstrādājumu izgatavotaj firmām, kuras norādītas būvprojektā, liecina tikai par šo materiālu un izstrādājumu tehniskajiem parametriem un kvalitātes līmeni, to nomaiņa ir iespējama ar citiem tehniski un kvalitatīvi ekvivalentiem būvizstrādājumiem, iepriekš saskaņojot tos ar projekta autoriem un uzrādot atbilstības sertifikātus.
B28: Sastādīja: | L28: =Koptame!B41 -> Pārbaudīja:
C29: =Koptame!C36 -> 0 | M29: =Koptame!C42 -> 0
C30: =Koptame!C37 -> 0 | M30: =Koptame!C43 -> 0

Sheet 1,2
G1: Lokālā tāme Nr. | H1: =kops1!B22 -> 1,2
A2: =C13 -> Pamati
C3: Būves nosaukums: | D3: =Koptame!C11 -> Pirmsskolas izglītības iestāde
C4: Objekta nosaukums: | D4: =Koptame!C12 -> Pirmsskolas izglītības iestādes jaunbūve
C5: Objekta adrese: | D5: =Koptame!C13 -> Baložu iela 33, Baloži, Ķekavas novads
C6: =Koptame!B14 -> Iepirkuma Id Nr. | D6: =Koptame!C14 -> ĶNP 2023/85
A7: =Koptame!B17 -> Tāme sastādīta 2024.gada tirgus cenās | O7: Tāmes izmaksas euro: | P7: =P28 -> 0
L9: =Koptame!D16 -> Tāme sastādīta:
A11: Nr.p.k. | B11: Kods | C11: Būvdarbu nosaukums | D11: Mērvienība | E11: Daudzums | F11: Vienības izmaksas | L11: Kopā uz visu apjomu
F12: Laika norma (c/h) | G12: Darba samaksas likme (euro/h) | H12: Darba alga (euro) | I12: Būvizstrādājumi (euro) | J12: Mehānismi (euro) | K12: Kopā (euro) | L12: Darbietilpība (c/h) | M12: Darba alga (euro) | N12: Būvizstrādājumi (euro) | O12: Mehānismi (euro) | P12: Summa (euro)
B13: 0 | C13: =kops1!C22 -> Pamati | F13: 0 | G13: 0 | H13: 0 | I13: 0 | J13: 0 | K13: =SUM(H13:J13) -> 0 | L13: =ROUND(F13*E13,2) -> 0 | M13: =ROUND(H13*E13,2) -> 0 | N13: =ROUND(I13*E13,2) -> 0 | O13: =ROUND(J13*E13,2) -> 0 | P13: =SUM(M13:O13) -> 0
A14: 0 | C14: Pamati BK-02.01 | H14: =ROUND(F14*G14,2) -> 0 | K14: =SUM(H14:J14) -> 0 | L14: =ROUND(F14*E14,2) -> 0 | M14: =ROUND(H14*E14,2) -> 0 | N14: =ROUND(I14*E14,2) -> 0 | O14: =ROUND(J14*E14,2) -> 0 | P14: =SUM(M14:O14) -> 0
A15: 1 | C15: Inventāro veidņu uzstādīšana,eļļošana pamatiem un nojaukšana ,noma | D15: m2 | E15: 5387.12
A16: 2 | C16: Betona iestrādāšana pamatu konstrukcijās-pamati C12/15 XC1 novibrējot,betonu padod ar sūkni | D16: m3 | E16: 65.48
A17: 3 | C17: Šķembu pamatojuma ierīkošana fr.20-40 mm,blīvā veidā ,novibrējot | D17: m3 | E17: 286.02
A18: 4 | C18: Armatūras sietu izgatavošana ,uzstādīšana,fiksatoru uzstādīšana . Armatūra B500B | D18: t | E18: 82.935
A19: 5 | C19: Betona iestrādāšana pamatu konstrukcijās-pamati C30/37 XC2 novibrējot,betonu padod ar sūkni | D19: m3 | E19: 672.35
A20: 6 | C20: Sienu mūrēšana no FIBO (vai ekvivalents) 3MPa blokiem 150 mm t.sk. Palīgmateriāli, mūrjava , stiegrojums | D20: m3 | E20: 5.39
A21: 6 | C21: Sienu mūrēšana no FIBO 3MPa blokiem t.sk. Palīgmateriāli, mūrjava , stiegrojums | D21: m3 | E21: 0.49
A22: 7 | C22: Armatūras sietu izgatavošana ,uzstādīšana,fiksatoru uzstādīšana . Armatūra B500B Stiegrojuma izvadi BK-02.4 | D22: t | E22: 16.809
A23: 8 | C23: Ieliekamo detaļu montāža. Peikko HPM 16P | D23: gb | E23: 8
A24: 9 | C24: Ieliekamo detaļu montāža. Peikko HPM 16P | D24: gb | E24: 12
A25: 10 | C25: Ieliekamo detaļu montāža. Peikko HPM 30L | D25: gb | E25: 8
A26: 11 | C26: Ieliekamo detaļu montāža. HILTI (vai ekvivalents)HIT HY 200 vai analogs + M16 8.8 | E26: 5
C28: Tiešās izmaksas kopā t.sk. darba devēja sociālais nodoklis(23,59%)
B30: ='1,1'!C23 -> Piezīmes:
A31: ='1,1'!A24:G24 -> Visas atsauces uz materiālu un izstrādājumu izgatavotaj firmām, kuras norādītas būvprojektā, liecina tikai par šo materiālu un izstrādājumu tehniskajiem parametriem un kvalitātes līmeni, to nomaiņa ir iespējama ar citiem tehniski un kvalitatīvi ekvivalentiem būvizstrādājumiem, iepriekš saskaņojot tos ar projekta autoriem un uzrādot atbilstības sertifikātus.
B35: Sastādīja: | L35: =Koptame!B41 -> Pārbaudīja:
C36: =Koptame!C36 -> 0 | M36: =Koptame!C42 -> 0
C37: =Koptame!C37 -> 0 | M37: =Koptame!C43 -> 0

Sheet 1,3
G1: Lokālā tāme Nr. | H1: =kops1!$B$23 -> 1,3
A2: =C13 -> Sienas
C3: Būves nosaukums: | D3: =Koptame!C11 -> Pirmsskolas izglītības iestāde
C4: Objekta nosaukums: | D4: =Koptame!C12 -> Pirmsskolas izglītības iestādes jaunbūve
C5: Objekta adrese: | D5: =Koptame!C13 -> Baložu iela 33, Baloži, Ķekavas novads
C6: =Koptame!B14 -> Iepirkuma Id Nr. | D6: =Koptame!C14 -> ĶNP 2023/85
A7: =Koptame!B17 -> Tāme sastādīta 2024.gada tirgus cenās | O7: Tāmes izmaksas euro: | P7: =P166 -> 0
L9: =Koptame!D16 -> Tāme sastādīta:
A11: Nr.p.k. | B11: Kods | C11: Būvdarbu nosaukums | D11: Mērvienība | E11: Daudzums | F11: Vienības izmaksas | L11: Kopā uz visu apjomu
F12: Laika norma (c/h) | G12: Darba samaksas likme (euro/h) | H12: Darba alga (euro) | I12: Būvizstrādājumi (euro) | J12: Mehānismi (euro) | K12: Kopā (euro) | L12: Darbietilpība (c/h) | M12: Darba alga (euro) | N12: Būvizstrādājumi (euro) | O12: Mehānismi (euro) | P12: Summa (euro)
B13: 0 | C13: =kops1!C23 -> Sienas | F13: 0 | G13: 0 | H13: 0 | I13: 0 | J13: 0 | K13: =SUM(H13:J13) -> 0 | L13: =ROUND(F13*E13,2) -> 0 | M13: =ROUND(H13*E13,2) -> 0 | N13: =ROUND(I13*E13,2) -> 0 | O13: =ROUND(J13*E13,2) -> 0 | P13: =SUM(M13:O13) -> 0
A14: 0 | C14: 1,2, bēniņi stāvs | H14: =ROUND(F14*G14,2) -> 0 | K14: =SUM(H14:J14) -> 0 | L14: =ROUND(F14*E14,2) -> 0 | M14: =ROUND(H14*E14,2) -> 0 | N14: =ROUND(I14*E14,2) -> 0 | O14: =ROUND(J14*E14,2) -> 0 | P14: =SUM(M14:O14) -> 0
A15: 1 | C15: Sienu mūrēšana no FIBO (vai ekvivalents) 5MPa blokiem 300 mm t.sk. Palīgmateriāli, mūrjava , stiegrojums | D15: m3 | E15: =386.43+227.84+205.31 -> 819.58
A16: 2 | C16: Sienu mūrēšana no FIBO (vai ekvivalents) 3MPa blokiem t.sk. Palīgmateriāli, mūrjava , stiegrojums | D16: m3 | E16: =33.9+67.49 -> 101.39
A17: 3 | C17: Sienu mūrēšana no FIBO (vai ekvivalents) 3MPa blokiem 150 mm t.sk. Palīgmateriāli, mūrjava , stiegrojums | D17: m3 | E17: =74.44+60.22 -> 134.66
A18: 4 | C18: Sienu mūrēšana no dobiem betona blokiem 190 mm t.sk. Palīgmateriāli, mūrjava , stiegrojums | D18: m3 | E18: 7.67
A19: 0 | C19: Pārsedzes 1 stāvs
A20: 5 | C20: DzP1 pārsedzes ierīkošana | D20: gb | E20: 6
A21: 6 | C21: DzP2 pārsedzes ierīkošana | D21: gb | E21: 1
A22: 7 | C22: DzP4 pārsedzes ierīkošana | D22: gb | E22: 1
A23: 8 | C23: DzP2 pārsedzes ierīkošana | D23: gb | E23: 7
A24: 9 | C24: DzP2 pārsedzes ierīkošana | D24: gb | E24: 2
A25: 10 | C25: DzP2 pārsedzes ierīkošana | D25: gb | E25: 2
A26: 11 | C26: DzP3 pārsedzes ierīkošana | D26: gb | E26: 2
A27: 12 | C27: DzP3 pārsedzes ierīkošana | D27: gb | E27: 1
A28: 13 | C28: DzP3 pārsedzes ierīkošana | D28: gb | E28: 13
A29: 14 | C29: FP3 pārsedzes ierīkošana | D29: gb | E29: 7
A30: 15 | C30: FP2 pārsedzes ierīkošana | D30: gb | E30: 19
A31: 16 | C31: FP2 pārsedzes ierīkošana | D31: gb | E31: 14
A32: 17 | C32: FP1 pārsedzes ierīkošana | D32: gb | E32: 3
A33: 18 | C33: FP1 pārsedzes ierīkošana | D33: gb | E33: 4
A34: 19 | C34: FP1 pārsedzes ierīkošana | D34: gb | E34: 2
... A51: 36 | C51: MsP3 aila monolītā sienā ierīkošana | D51: gb | E51: 2
A52: 0 | C52: Pārsedzes 2 stāvs
A53: 37 | C53: DzP1 pārsedzes ierīkošana | D53: gb | E53: 1
A54: 38 | C54: DzP5 pārsedzes ierīkošana | D54: gb | E54: 1
A55: 39 | C55: DzP3 pārsedzes ierīkošana | D55: gb | E55: 1
A56: 40 | C56: DzP3 pārsedzes ierīkošana | D56: gb | E56: 1
A57: 41 | C57: FP2 pārsedzes ierīkošana | D57: gb | E57: 16
A58: 42 | C58: FP1 pārsedzes ierīkošana | D58: gb | E58: 4
...

Sheet 1,4
G1: Lokālā tāme Nr. | H1: =kops1!B24 -> 1,4
A2: =C13 -> Pārsegums
C3: Būves nosaukums: | D3: =Koptame!C11 -> Pirmsskolas izglītības iestāde
C4: Objekta nosaukums: | D4: =Koptame!C12 -> Pirmsskolas izglītības iestādes jaunbūve
C5: Objekta adrese: | D5: =Koptame!C13 -> Baložu iela 33, Baloži, Ķekavas novads
C6: =Koptame!B14 -> Iepirkuma Id Nr. | D6: =Koptame!C14 -> ĶNP 2023/85
A7: =Koptame!B17 -> Tāme sastādīta 2024.gada tirgus cenās | O7: Tāmes izmaksas euro: | P7: =P33 -> 0
L9: =Koptame!D16 -> Tāme sastādīta:
A11: Nr.p.k. | B11: Kods | C11: Būvdarbu nosaukums | D11: Mērvienība | E11: Daudzums | F11: Vienības izmaksas | L11: Kopā uz visu apjomu
F12: Laika norma (c/h) | G12: Darba samaksas likme (euro/h) | H12: Darba alga (euro) | I12: Būvizstrādājumi (euro) | J12: Mehānismi (euro) | K12: Kopā (euro) | L12: Darbietilpība (c/h) | M12: Darba alga (euro) | N12: Būvizstrādājumi (euro) | O12: Mehānismi (euro) | P12: Summa (euro)
B13: 0 | C13: =kops1!C24 -> Pārsegums | F13: 0 | G13: 0 | H13: 0 | I13: 0 | J13: 0 | K13: =SUM(H13:J13) -> 0 | L13: =ROUND(F13*E13,2) -> 0 | M13: =ROUND(H13*E13,2) -> 0 | N13: =ROUND(I13*E13,2) -> 0 | O13: =ROUND(J13*E13,2) -> 0 | P13: =SUM(M13:O13) -> 0
A14: 0 | C14: Tērauda sijas 1. stāvs | H14: =ROUND(F14*G14,2) -> 0 | K14: =SUM(H14:J14) -> 0 | L14: =ROUND(F14*E14,2) -> 0 | M14: =ROUND(H14*E14,2) -> 0 | N14: =ROUND(I14*E14,2) -> 0 | O14: =ROUND(J14*E14,2) -> 0 | P14: =SUM(M14:O14) -> 0
A15: 1 | C15: Tērauda konstrukciju- izgatavošana , piegāde,montāža t.sk. Palīgmateriāli. Metāla konstrukcijas apstrādātas atbilstoši BK norādījumiem t.sk. Ugunsdrošais pārklājs | D15: t | E15: 1.66
C16: RUUKKI (vai ekvivalents) panelis 1. stāvs
A17: 2 | C17: Ruukki (vai ekvivalents) CS48-36-750/0.9 S235 paneļa montāža t.sk. Palīgmateriāli BK-05.2 | D17: gb | E17: 280
A18: 3 | C18: Tērauda konstrukciju- izgatavošana , piegāde,montāža t.sk. Palīgmateriāli. Metāla konstrukcijas apstrādātas atbilstoši BK norādījumiem t.sk. Ugunsdrošais pārklājs | D18: t | E18: 6.51
A19: 0 | C19: monolītā josla, sijas 1,2Stāvs
A20: 4 | C20: Inventāro veidņu uzstādīšana,eļļošana un nojaukšana ,noma | D20: m2 | E20: 1070
A21: 5 | C21: Armatūras sietu izgatavošana ,uzstādīšana,fiksatoru uzstādīšana . Armatūra B500B | D21: t | E21: =4.174+4.174 -> 8.348
A22: 6 | C22: Betona iestrādāšana konstrukcijās C30/37 XC1 novibrējot,betonu padod ar sūkni t.sk. Ieliekamās detaļas | D22: m3 | E22: =27.68+7.412+56.88+41.712 -> 133.684
A23: 0 | C23: Pārkare 1. stāvs
A24: 7 | C24: Tērauda konstrukciju- izgatavošana , piegāde,montāža t.sk. Palīgmateriāli. Metāla konstrukcijas apstrādātas atbilstoši BK norādījumiem t.sk. Ugunsdrošais pārklājs | D24: t | E24: =8.13+0.976 -> 9.106
A25: 0 | C25: BK-1,2stāvs
A26: 8 | C26: Saliekamā dzelzsbetona pārseguma paneļu h=320 mm montāža t.sk. Palīgmateriāli | D26: m2 | E26: =1110.49+1110.58 -> 2221.07
A27: 9 | C27: Inventāro veidņu uzstādīšana,eļļošana nojaukšana ,noma | D27: m2 | E27: 1780
A28: 10 | C28: Armatūras sietu izgatavošana ,uzstādīšana,fiksatoru uzstādīšana . Armatūra B500B | D28: t | E28: =35.85+35.766 -> 71.616
A29: 11 | C29: Betona iestrādāšana pārseguma konstrukcijās C30/37 XC1 novibrējot,betonu padod ar sūkni t.sk. Ieliekamās detaļas | D29: m3 | E29: =195.68+158.35 -> 354.03
A30: 0 | C30: 2. stāvs
A31: 12 | C31: Tērauda konstrukciju- izgatavošana , piegāde,montāža t.sk. Palīgmateriāli. Metāla konstrukcijas apstrādātas atbilstoši BK norādījumiem t.sk. Ugunsdrošais pārklājs | D31: t | E31: =3.4+0.408 -> 3.808
C33: Tiešās izmaksas kopā t.sk. darba devēja sociālais nodoklis(23,59%)
B35: Piezīmes:
A36: ='1,1'!A24:G24 -> Visas atsauces uz materiālu un izstrādājumu izgatavotaj firmām, kuras norādītas būvprojektā, liecina tikai par šo materiālu un izstrādājumu tehniskajiem parametriem un kvalitātes līmeni, to nomaiņa ir iespējama ar citiem tehniski un kvalitatīvi ekvivalentiem būvizstrādājumiem, iepriekš saskaņojot tos ar projekta autoriem un uzrādot atbilstības sertifikātus.
B40: Sastādīja: | L40: =Koptame!B41 -> Pārbaudīja:
C41: =Koptame!C36 -> 0 | M41: =Koptame!C42 -> 0
C42: =Koptame!C37 -> 0 | M42: =Koptame!C43 -> 0

Sheet 1,5
G1: Lokālā tāme Nr. | H1: =kops1!B25 -> 1,5
A2: =C13 -> Jumts
C3: Būves nosaukums: | D3: =Koptame!C11 -> Pirmsskolas izglītības iestāde
C4: Objekta nosaukums: | D4: =Koptame!C12 -> Pirmsskolas izglītības iestādes jaunbūve
C5: Objekta adrese: | D5: =Koptame!C13 -> Baložu iela 33, Baloži, Ķekavas novads
C6: =Koptame!B14 -> Iepirkuma Id Nr. | D6: =Koptame!C14 -> ĶNP 2023/85
A7: =Koptame!B17 -> Tāme sastādīta 2024.gada tirgus cenās | O7: Tāmes izmaksas euro: | P7: =P77 -> 0
L9: =Koptame!D16 -> Tāme sastādīta:
A11: Nr.p.k. | B11: Kods | C11: Būvdarbu nosaukums | D11: Mērvienība | E11: Daudzums | F11: Vienības izmaksas | L11: Kopā uz visu apjomu
F12: Laika norma (c/h) | G12: Darba samaksas likme (euro/h) | H12: Darba alga (euro) | I12: Būvizstrādājumi (euro) | J12: Mehānismi (euro) | K12: Kopā (euro) | L12: Darbietilpība (c/h) | M12: Darba alga (euro) | N12: Būvizstrādājumi (euro) | O12: Mehānismi (euro) | P12: Summa (euro)
B13: 0 | C13: =kops1!C25 -> Jumts | F13: 0 | G13: 0 | H13: 0 | I13: 0 | J13: 0 | K13: =SUM(H13:J13) -> 0 | L13: =ROUND(F13*E13,2) -> 0 | M13: =ROUND(H13*E13,2) -> 0 | N13: =ROUND(I13*E13,2) -> 0 | O13: =ROUND(J13*E13,2) -> 0 | P13: =SUM(M13:O13) -> 0
A14: 0 | C14: BK | H14: =ROUND(F14*G14,2) -> 0 | K14: =SUM(H14:J14) -> 0 | L14: =ROUND(F14*E14,2) -> 0 | M14: =ROUND(H14*E14,2) -> 0 | N14: =ROUND(I14*E14,2) -> 0 | O14: =ROUND(J14*E14,2) -> 0 | P14: =SUM(M14:O14) -> 0
A15: 1 | C15: Tērauda konstrukciju- izgatavošana , piegāde,montāža t.sk. Palīgmateriāli. Metāla konstrukcijas apstrādātas atbilstoši BK norādījumiem t.sk. Ugunsdrošais pārklājs | D15: t | E15: 39.54
A16: 2 | C16: Nesošo koka konstrukciju-koka sijas, mūrlatas, spāres izgatavošana un montāža sagatavotas atbilstoši BK norādījumiem t.sk. Palīgmateriāli. Kokmateriālu klase Apstrādātas ar antiseptiķi-antipirēnu | D16: m3 | E16: =21.24+63.73 -> 84.97
A17: 0 | C17: J 1.1
A18: 3 | C18: Latojuma ierīkošana. Latojums 50x50mm, stiprinājumi | D18: m2 | E18: 366.2
A19: 4 | C19: Difūzijas membrānas ieklāšana PAROC XMU 100 vai ekvivalents | D19: m2 | E19: 366.2
A20: 5 | C20: Vates iestrāde karkasā siltuma izolācijai. Siltuma izolācijas plāksnes 30 mm Paroc Cortex (vai ekvivalents) | D20: m2 | E20: 366.2
A21: 6 | C21: Vates iestrāde karkasā siltuma izolācijai. Siltuma izolācijas plāksnes 250 mm Paroc Ultra plus (vai ekvivalents) | D21: m2 | E21: 366.2
A22: 7 | C22: Tvaika izolācijas ieklāšana PAROC XMV 020 bas vai ekvivalents | D22: m2 | E22: 366.2
A23: 8 | C23: Latojuma ierīkošana. Latojums 50x50mm, stiprinājumi | D23: m2 | E23: 366.2
A24: 9 | C24: Vates iestrāde karkasā siltuma izolācijai. Siltuma izolācijas plāksnes 50 mm Paroc Ultra | D24: m2 | E24: 366.2
A25: 10 | C25: Knauf (vai ekvivalents) ģipškartona griestu karkass | D25: m2 | E25: 366.2
A26: 11 | C26: Fireboard (vai ekvivalents) plākšņu apšuvuma ierīkošana 2x15 mm , t.sk. Palīgmateriāli Mezgls AR 7.3;AR 7.5; AR 7.6 | D26: m2 | E26: 366.2
A27: 0 | C27: J 1.1a
A28: 12 | C28: Knauf (vai ekvivalents) ģipškartona metāla karkass | D28: m2 | E28: 401.4
A29: 13 | C29: Fireboard (vai ekvivalents) plākšņu apšuvuma ierīkošana 2x15 mm , t.sk. Palīgmateriāli Mezgls AR 7.3;AR 7.5; AR 7.6 | D29: m2 | E29: 401.4
A30: 14 | C30: Latojuma ierīkošana. Latojums 50x50mm, stiprinājumi | D30: m2 | E30: 401.4
A31: 15 | C31: Vates iestrāde karkasā siltuma izolācijai. Siltuma izolācijas plāksnes 50 mm Paroc Ultra (vai ekvivalents) | D31: m2 | E31: 401.4
A32: 16 | C32: Tvaika izolācijas ieklāšana PAROC XMV 020 bas vai ekvivalents | D32: m2 | E32: 401.4
A33: 17 | C33: Vates iestrāde karkasā siltuma izolācijai. Siltuma izolācijas plāksnes 250 mm Paroc Ultra plus (vai ekvivalents) | D33: m2 | E33: 401.4
A34: 18 | C34: Difūzijas membrānas ieklāšana PAROC XMU 100 vai ekvivalents | D34: m2 | E34: 401.4
A35: 19 | C35: Vates iestrāde karkasā siltuma izolācijai. Siltuma izolācijas plāksnes 30 mm Paroc Cortex (vai ekvivalents) | D35: m2 | E35: 401.4
A36: 20 | C36: Latojuma ierīkošana. Latojums 50x50mm, stiprinājumi | D36: m2 | E36: 401.4
A37: 21 | C37: Termokoksnes dēļu seguma 19 mm ieklāšana | D37: m2 | E37: 401.4
A38: 0 | C38: J 1.1c
A39: 22 | C39: Knauf (vai ekvivalents) ģipškartona metāla karkass | D39: m2 | E39: 692.4
A40: 23 | C40: Fireboard (vai ekvivalents) plākšņu apšuvuma ierīkošana 2x15 mm , t.sk. Palīgmateriāli Mezgls AR 7.3;AR 7.5; AR 7.6 | D40: m2 | E40: 692.4
A41: 24 | C41: Latojuma ierīkošana. Latojums 50x50mm, stiprinājumi | D41: m2 | E41: 692.4
A42: 25 | C42: Vates iestrāde karkasā siltuma izolācijai. Siltuma izolācijas plāksnes 50 mm Paroc Ultra (vai ekvivalents) | D42: m2 | E42: 692.4
...

Sheet 1,6
G1: Lokālā tāme Nr. | H1: =kops1!B26 -> 1,6
A2: =C13 -> Grīdas
C3: Būves nosaukums: | D3: =Koptame!C11 -> Pirmsskolas izglītības iestāde
C4: Objekta nosaukums: | D4: =Koptame!C12 -> Pirmsskolas izglītības iestādes jaunbūve
C5: Objekta adrese: | D5: =Koptame!C13 -> Baložu iela 33, Baloži, Ķekavas novads
C6: =Koptame!B14 -> Iepirkuma Id Nr. | D6: =Koptame!C14 -> ĶNP 2023/85
A7: =Koptame!B17 -> Tāme sastādīta 2024.gada tirgus cenās | O7: Tāmes izmaksas euro: | P7: =P91 -> 0
L9: =Koptame!D16 -> Tāme sastādīta:
A11: Nr.p.k. | B11: Kods | C11: Būvdarbu nosaukums | D11: Mērvienība | E11: Daudzums | F11: Vienības izmaksas | L11: Kopā uz visu apjomu
F12: Laika norma (c/h) | G12: Darba samaksas likme (euro/h) | H12: Darba alga (euro) | I12: Būvizstrādājumi (euro) | J12: Mehānismi (euro) | K12: Kopā (euro) | L12: Darbietilpība (c/h) | M12: Darba alga (euro) | N12: Būvizstrādājumi (euro) | O12: Mehānismi (euro) | P12: Summa (euro)
B13: 0 | C13: =kops1!C26 -> Grīdas | F13: 0 | G13: 0 | H13: 0 | I13: 0 | J13: 0 | K13: =SUM(H13:J13) -> 0 | L13: =ROUND(F13*E13,2) -> 0 | M13: =ROUND(H13*E13,2) -> 0 | N13: =ROUND(I13*E13,2) -> 0 | O13: =ROUND(J13*E13,2) -> 0 | P13: =SUM(M13:O13) -> 0
A14: 0 | C14: BK 1. stāva grīda | H14: =ROUND(F14*G14,2) -> 0 | K14: =SUM(H14:J14) -> 0 | L14: =ROUND(F14*E14,2) -> 0 | M14: =ROUND(H14*E14,2) -> 0 | N14: =ROUND(I14*E14,2) -> 0 | O14: =ROUND(J14*E14,2) -> 0 | P14: =SUM(M14:O14) -> 0
A15: 1 | C15: Inventāro veidņu uzstādīšana,eļļošana pamatiem un nojaukšana ,noma | D15: m2 | E15: =E19*8 -> 186
A16: 2 | C16: Betona iestrādāšana konstrukcijās C12/15 novibrējot,betonu padod ar sūkni | D16: m3 | E16: 175.25
A17: 3 | C17: Šķembu pamatojuma ierīkošana fr.0-45 mm,blīvā veidā ,novibrējot | D17: m3 | E17: =442.27 -> 442.27
A18: 4 | C18: Armatūras sietu izgatavošana ,uzstādīšana,fiksatoru uzstādīšana . Armatūra B500B | D18: t | E18: 1.345
A19: 5 | C19: Betona iestrādāšana grīdu konstrukcijās- C30/37 XC2 novibrējot,betonu padod ar sūkni | D19: m3 | E19: 23.25
A20: 0 | C20: G 1.1
A21: 6 | C21: Siltumizolācijas ierīkošana; Ekstrudētais putupolistirols XPS 100 mm vai ekvivalents | D21: m2 | E21: 2277.2
A22: 7 | C22: Filtrauduma ieklāšana | D22: m2 | E22: 2277.2
A23: 8 | C23: Betona kārtas ierīkošana 80 mm Betons C25 F4 atbilstoši LVS EN 13813 ar polipropilēna fibrām | D23: m2 | E23: 2277.2
A24: 0 | C24: P 1.1
A25: 9 | C25: Skaņas izolācijas ierīkošana piem. PAROC SSB1 50 mm vai ekvivalents | D25: m2 | E25: 1890.9
A26: 10 | C26: PVC Poliet.plēves iestrāde tvaika izolācijai | D26: m2 | E26: 1890.9
A27: 11 | C27: Betona kārtas ierīkošana 70 mm Betons C25 F4 atbilstoši LVS EN 13813 ar polipropilēna fibrām | D27: m2 | E27: 1890.9
A28: 0 | C28: P 1.1a
A29: 12 | C29: Skaņas izolācijas ierīkošana piem. PAROC SSB1 50 mm vai ekvivalents | D29: m2 | E29: 328.5
A30: 13 | C30: PVC Poliet.plēves iestrāde tvaika izolācijai | D30: m2 | E30: 328.5
A31: 14 | C31: Stiegrotas betona kārtas ierīkošana 70 mm Betons stiegrojums B500B | D31: m2 | E31: 328.5
A32: 15 | C32: Situmizolācija, piem., Paroc Ultra Plus(b=200)vai ekvivalents | D32: m2 | E32: 328.5
A33: 16 | C33: Skaņas izolācijas ierīkošana piem. PAROC WAS 35t 30 mm vai ekvivalents | D33: m2 | E33: 328.5
A34: 17 | C34: Apdares stiprinājuma T karkass montāža | D34: m2 | E34: 328.5
A35: 18 | C35: Fasādes apšuvuma plāksnes t.sk. stiprinājumi Equitone Natura 8 mm (vai ekvivalents). | D35: m2 | E35: 328.5
A36: 0 | C36: P 1.3
A37: 19 | C37: Hidroizolācijas ierīkošana | D37: m2 | E37: 1944.5
A38: 20 | C38: Siltumizolācijas ierīkošana; Putupolistirols 250 mm vai ekvivalents EPS Putupolistirols, 0,04W/mK, Spiedes stiprība>=200 kPa | D38: m2 | E38: 1944.5
A39: 21 | C39: PVC Poliet.plēves iestrāde tvaika izolācijai | D39: m2 | E39: 1944.5
A40: 22 | C40: Stiegrotas betona kārtas ierīkošana 50 mm Betons stiegrojums B500B | D40: m2 | E40: 1944.5
A41: 23 | C41: Pretputekļu pārklājums | D41: m2 | E41: 1944.5
A42: 0 | C42: 1. stāva grīdas apdare
...

Sheet 1,7
G1: Lokālā tāme Nr. | H1: =kops1!B27 -> 1,7
A2: =C13 -> Kāpnes
C3: Būves nosaukums: | D3: =Koptame!C11 -> Pirmsskolas izglītības iestāde
C4: Objekta nosaukums: | D4: =Koptame!C12 -> Pirmsskolas izglītības iestādes jaunbūve
C5: Objekta adrese: | D5: =Koptame!C13 -> Baložu iela 33, Baloži, Ķekavas novads
C6: =Koptame!B14 -> Iepirkuma Id Nr. | D6: =Koptame!C14 -> ĶNP 2023/85
A7: =Koptame!B17 -> Tāme sastādīta 2024.gada tirgus cenās | O7: Tāmes izmaksas euro: | P7: =P25 -> 0
L9: =Koptame!D16 -> Tāme sastādīta:
A11: Nr.p.k. | B11: Kods | C11: Būvdarbu nosaukums | D11: Mērvienība | E11: Daudzums | F11: Vienības izmaksas | L11: Kopā uz visu apjomu
F12: Laika norma (c/h) | G12: Darba samaksas likme (euro/h) | H12: Darba alga (euro) | I12: Būvizstrādājumi (euro) | J12: Mehānismi (euro) | K12: Kopā (euro) | L12: Darbietilpība (c/h) | M12: Darba alga (euro) | N12: Būvizstrādājumi (euro) | O12: Mehānismi (euro) | P12: Summa (euro)
A13: 0 | C13: =kops1!C27 -> Kāpnes | H13: =ROUND(G13*F13,2) -> 0 | K13: =SUM(H13:J13) -> 0 | L13: =ROUND(F13*E13,2) -> 0 | M13: =ROUND(H13*E13,2) -> 0 | N13: =ROUND(I13*E13,2) -> 0 | O13: =ROUND(J13*E13,2) -> 0 | P13: =SUM(M13:O13) -> 0
A14: 1 | C14: Saliekamā dzelzsbetona konstrukciju kāpņu (asīs D-E - bk-13.1) izbūve KL3.1;Kl3.2;KL3.3;KP1.1 t.sk. Palīgmateriāli | D14: kpl | E14: 1
A15: 2 | C15: Saliekamā dzelzsbetona konstrukciju kāpņu (Kāpnes asīs K-L bk-13.2) izbūve KL2.1;KL2.2;KP2.1t.sk. Palīgmateriāli | D15: kpl | E15: 1
A16: 3 | C16: Saliekamā dzelzsbetona konstrukciju kāpņu (Kāpnes asīs S-T - bk-13.3) izbūve KL3.1;Kl3.2;KL3.3;KP3.1 t.sk. Palīgmateriāli | D16: kpl | E16: 1
A17: 4 | C17: Saliekamā dzelzsbetona konstrukciju kāpņu (Kāpnes gaitenī - bk-13.4) KL4.1; KL4.2;KP4.1izbūve t.sk. Palīgmateriāli | D17: kpl | E17: 1
A18: 0 | C18: Kāpņu grīdas apdare, apzīmējumi
A19: 5 | C19: Heterogēns vinila segums "Forbo Sarlon Complete Step" "637099 cement chalk, nose black" (vai ekvivalents), 3.35mm, 34/43 klase, R9, Bfl-s1 | D19: m2 | E19: =41+19+41+18.5+2.3 -> 121.8
A20: 6 | C20: Heterogēns vinila segums "Forbo Sarlon Complete Step" "631208 uni light grey, nose lime" (vai ekvivalents), 3.35mm, 34/43 klase, R9, Bfl-s1 | D20: m2 | E20: =3+3+3 -> 9
A21: 7 | C21: Kāpņu D5 pakāpienu apdare Lakots "Riga decor" (vai ekvivalents) bērza saplāksnis, 18mm Apdare: gaiša laka | D21: kpl | E21: 1
A22: 8 | C22: Stāva nr. taktilais apzīmējums | D22: kpl | E22: 1
A23: 9 | C23: Pirmā un pēdējā pakāpiena marķējums | D23: kpl | E23: 1
F24: =IFERROR(ROUND(H24/G24,2),0) -> 0 | G24: =IF(H24>0,3.75,0) -> 0
C25: Tiešās izmaksas kopā t.sk. darba devēja sociālais nodoklis(23,59%)
B27: Piezīmes:
A28: ='1,1'!A24:G24 -> Visas atsauces uz materiālu un izstrādājumu izgatavotaj firmām, kuras norādītas būvprojektā, liecina tikai par šo materiālu un izstrādājumu tehniskajiem parametriem un kvalitātes līmeni, to nomaiņa ir iespējama ar citiem tehniski un kvalitatīvi ekvivalentiem būvizstrādājumiem, iepriekš saskaņojot tos ar projekta autoriem un uzrādot atbilstības sertifikātus.
B32: Sastādīja: | L32: =Koptame!B41 -> Pārbaudīja:
C33: =Koptame!C36 -> 0 | M33: =Koptame!C42 -> 0
C34: =Koptame!C37 -> 0 | M34: =Koptame!C43 -> 0

Sheet 1,8
G1: Lokālā tāme Nr. | H1: =kops1!B28 -> 1,8
A2: =C13 -> Ailu aizpildījuma elementi
C3: Būves nosaukums: | D3: =Koptame!C11 -> Pirmsskolas izglītības iestāde
C4: Objekta nosaukums: | D4: =Koptame!C12 -> Pirmsskolas izglītības iestādes jaunbūve
C5: Objekta adrese: | D5: =Koptame!C13 -> Baložu iela 33, Baloži, Ķekavas novads
C6: =Koptame!B14 -> Iepirkuma Id Nr. | D6: =Koptame!C14 -> ĶNP 2023/85
A7: =Koptame!B17 -> Tāme sastādīta 2024.gada tirgus cenās | O7: Tāmes izmaksas euro: | P7: =P75 -> 0
L9: =Koptame!D16 -> Tāme sastādīta:
A11: Nr.p.k. | B11: Kods | C11: Būvdarbu nosaukums | D11: Mērvienība | E11: Daudzums | F11: Vienības izmaksas | L11: Kopā uz visu apjomu
F12: Laika norma (c/h) | G12: Darba samaksas likme (euro/h) | H12: Darba alga (euro) | I12: Būvizstrādājumi (euro) | J12: Mehānismi (euro) | K12: Kopā (euro) | L12: Darbietilpība (c/h) | M12: Darba alga (euro) | N12: Būvizstrādājumi (euro) | O12: Mehānismi (euro) | P12: Summa (euro)
C13: =kops1!C28 -> Ailu aizpildījuma elementi | F13: 0 | G13: 0 | K13: =SUM(H13:J13) -> 0 | L13: =ROUND(F13*E13,2) -> 0 | M13: =ROUND(H13*E13,2) -> 0 | N13: =ROUND(I13*E13,2) -> 0 | O13: =ROUND(J13*E13,2) -> 0 | P13: =SUM(M13:O13) -> 0
A14: 1 | C14: Logu montāža saskaņā ar AR-6.1 t.sk. Palodzes | D14: m2 | E14: 438.1
A15: 0 | C15: L-1 ( 1x2,6 m) ALU loga profils, 3 stiklu pakete, abpusēji tonī RAL 7021 t.sk. "Rullo" tipa žalūzijas.Sauli atstarojošs audums, "Allegro PearlLight Gray" krāsā | D15: gb. | E15: 4
A16: 0 | C16: L-2 ( 1,5x2,6 m) ALU loga profils, 3 stiklu pakete, abpusēji tonī RAL 7021 | D16: gb. | E16: 9
A17: 0 | C17: L-3 ( 1,5x2,6 m) ALU loga profils, 3 stiklu pakete, abpusēji tonī RAL 7021 t.sk. Vertikālās žalūzijas.Sauli atstarojošs audums, "Allegro PearlLight Gray" krāsā | D17: gb. | E17: 6
A18: 0 | C18: L-4 ( 4x2,6 m) ALU loga profils, 3 stiklu pakete, abpusēji tonī RAL 7021 t.sk. Vertikālās žalūzijas.Sauli atstarojošs audums, "Allegro PearlLight Gray" krāsā | D18: gb. | E18: 6
A19: 0 | C19: L-5 ( 1,2x2,6 m) ALU loga profils, 3 stiklu pakete, abpusēji tonī RAL 7021 | D19: gb. | E19: 3
A20: 0 | C20: L-6 ( 1,2x1 m) ALU loga profils, 3 stiklu pakete, abpusēji tonī RAL 7021 | D20: gb. | E20: 3
A21: 0 | C21: L-7 ( 1,5x1,6 m) ALU loga profils, 3 stiklu pakete, abpusēji tonī RAL 7021 | D21: gb. | E21: 2
A22: 0 | C22: L-8 ( 2,5x2,62 m) ALU loga profils, 3 stiklu pakete, abpusēji tonī RAL 7021 | D22: gb. | E22: 10
A23: 0 | C23: L-9 ( 3x2,62 m) ALU loga profils, 3 stiklu pakete, abpusēji tonī RAL 7021 | D23: gb. | E23: 7
A24: 0 | C24: L-10 ( 3x2,62 m) ALU loga profils, 3 stiklu pakete, abpusēji tonī RAL 7021 t.sk. Vertikālās žalūzijas.Sauli atstarojošs audums, "Allegro PearlLight Gray" krāsā | D24: gb. | E24: 3
A25: 0 | C25: L-11 ( 4x2,62 m) ALU loga profils, 3 stiklu pakete, abpusēji tonī RAL 7021 t.sk. Vertikālās žalūzijas.Sauli atstarojošs audums, "Allegro PearlLight Gray" krāsā | D25: gb. | E25: 6
... A28: 0 | C28: JL-1 ( 1x2 m) ALU loga profils, 3 stiklu pakete, abpusēji tonī RAL 7021 (Anthrazitgrau Ulti Matt_UD). | D28: gb. | E28: 4
A29: 0 | C29: Montāžas materiāli (blīvējošs materiāls, stiprinājumi, ailsānu apdare, palodzes u.c.) | D29: m2 | E29: =E14 -> 438.1
A30: 2 | C30: Loga montāža saskaņā ar AR-6.1 t.sk. Palīgmateriāli, stiprinājumi d=1,5 m L-21 ALU loga profils, 3 stiklu pakete, abpusēji tonī RAL 7021 (Anthrazitgrau Ulti Matt_UD) | D30: kpl | E30: 4
A31: 3 | C31: Loga montāža saskaņā ar AR-6.1 t.sk. Palīgmateriāli, stiprinājumi d=2,0 m L-22 ALU loga profils, 3 stiklu pakete, abpusēji tonī RAL 7021 (Anthrazitgrau Ulti Matt_UD) | D31: kpl | E31: 2
A32: 4 | C32: Loga montāža saskaņā ar AR-6.1 t.sk. Palīgmateriāli, stiprinājumi d=2,2 m L-23 ALU loga profils, 3 stiklu pakete, abpusēji tonī RAL 7021 (Anthrazitgrau Ulti Matt_UD) | D32: kpl | E32: 1
A33: 5 | C33: Loga montāža saskaņā ar AR-6.1 t.sk. Palīgmateriāli, stiprinājumi d=3,5 m L-24 ALU loga profils, 3 stiklu pakete, abpusēji tonī RAL 7021 (Anthrazitgrau Ulti Matt_UD) | D33: kpl | E33: 1
A34: 6 | C34: Vitrīnas montāža saskaņā ar AR-6.3 t.sk. Palīgmateriāli, stiprinājumi SV-1 ALU profils, 3 stiklu pakete, abpusēji tonī RAL 7021 (Anthrazitgrau Ulti Matt_UD). | D34: kpl | E34: 1
A35: 7 | C35: Vitrīnas montāža saskaņā ar AR-6.3 t.sk. Palīgmateriāli, stiprinājumi SV-2 ALU profils, 3 stiklu pakete, abpusēji tonī RAL 7021 (Anthrazitgrau Ulti Matt_UD). | D35: kpl | E35: 1
A36: 8 | C36: Ārdurvju montāža saskaņā ar AR-6.2 | D36: m2 | E36: 90.3
A37: 0 | C37: AD-101 ( 2,6x2,6 m) ALU profils, 3 stiklu pakete, abpusēji tonī RAL 7021(Anthrazitgrau Ulti Matt_UD) | D37: gb. | E37: 5
A38: 0 | C38: AD-102 ( 2,6x2,6 m) ALU profils, 3 stiklu pakete, abpusēji tonī RAL 7021(Anthrazitgrau Ulti Matt_UD) | D38: gb. | E38: 2
A39: 0 | C39: AD-103 ( 3x3 m) ALU profils, 3 stiklu pakete, abpusēji tonī RAL 7021(Anthrazitgrau Ulti Matt_UD) | D39: gb. | E39: 2
A40: 0 | C40: AD-104 ( 1,8x2,6 m) ALU profils, 3 stiklu pakete, abpusēji tonī RAL 7021(Anthrazitgrau Ulti Matt_UD) | D40: gb. | E40: 1
A41: 0 | C41: AD-105 ( 1x2,6 m) ALU profils, 3 stiklu pakete, abpusēji tonī RAL 7021(Anthrazitgrau Ulti Matt_UD) | D41: gb. | E41: 4
... A43: 0 | C43: AD-107 ( 0,9x2,6 m) ALU profils, 3 stiklu pakete, abpusēji tonī RAL 7021(Anthrazitgrau Ulti Matt_UD) | D43: gb. | E43: 2
A44: 0 | C44: Montāžas materiāli (blīvējošs materiāls, stiprinājumi, ailsānu apdare u.c.) | D44: m2 | E44: =E36 -> 90.3
A45: 9 | C45: Durvju montāža saskaņā ar AR-6.4 | D45: m2 | E45: =341.8+2.2 -> 344
...

Sheet 1,9
G1: Lokālā tāme Nr. | H1: =kops1!B29 -> 1,9
A2: =C13 -> Iekšējie apdares darbi
C3: Būves nosaukums: | D3: =Koptame!C11 -> Pirmsskolas izglītības iestāde
C4: Objekta nosaukums: | D4: =Koptame!C12 -> Pirmsskolas izglītības iestādes jaunbūve
C5: Objekta adrese: | D5: =Koptame!C13 -> Baložu iela 33, Baloži, Ķekavas novads
C6: =Koptame!B14 -> Iepirkuma Id Nr. | D6: =Koptame!C14 -> ĶNP 2023/85
A7: =Koptame!B17 -> Tāme sastādīta 2024.gada tirgus cenās | O7: Tāmes izmaksas euro: | P7: =P41 -> 0
L9: =Koptame!D16 -> Tāme sastādīta:
A11: Nr.p.k. | B11: Kods | C11: Būvdarbu nosaukums | D11: Mērvienība | E11: Daudzums | F11: Vienības izmaksas | L11: Kopā uz visu apjomu
F12: Laika norma (c/h) | G12: Darba samaksas likme (euro/h) | H12: Darba alga (euro) | I12: Būvizstrādājumi (euro) | J12: Mehānismi (euro) | K12: Kopā (euro) | L12: Darbietilpība (c/h) | M12: Darba alga (euro) | N12: Būvizstrādājumi (euro) | O12: Mehānismi (euro) | P12: Summa (euro)
B13: 0 | C13: =kops1!C29 -> Iekšējie apdares darbi | F13: 0 | G13: 0 | K13: =SUM(H13:J13) -> 0 | L13: =ROUND(F13*E13,2) -> 0 | M13: =ROUND(H13*E13,2) -> 0 | N13: =ROUND(I13*E13,2) -> 0 | O13: =ROUND(J13*E13,2) -> 0 | P13: =SUM(M13:O13) -> 0
A14: 0 | C14: Griesti | G14: 0 | H14: =ROUND(F14*G14,2) -> 0 | I14: 0 | J14: 0 | K14: =SUM(H14:J14) -> 0 | L14: =ROUND(F14*E14,2) -> 0 | M14: =ROUND(H14*E14,2) -> 0 | N14: =ROUND(I14*E14,2) -> 0 | O14: =ROUND(J14*E14,2) -> 0 | P14: =SUM(M14:O14) -> 0
A15: 0 | C15: 1. stāvs | H15: =ROUND(F15*G15,2) -> 0 | K15: =SUM(H15:J15) -> 0 | L15: =ROUND(F15*E15,2) -> 0 | M15: =ROUND(H15*E15,2) -> 0 | N15: =ROUND(I15*E15,2) -> 0 | O15: =ROUND(J15*E15,2) -> 0 | P15: =SUM(M15:O15) -> 0
A16: 1 | C16: PG-1.1 Ēveļskaidas plātņu (fibrolīta) akustiskās plātnes "CEWOOD" "CW-W25S-P5-1200x600-N” (vai ekvivalents), 25mm. P5G-T24 profils; Skaida: 1.0mm; Tonis: "N" Naturāla, krāsota t.sk. Palīgmateriāli, stiprinājumi, nesošais karkass | D16: m2 | E16: =698+797.7 -> 1495.7
A17: 2 | C17: PG-1.2 Ēveļskaidas plātņu (fibrolīta) akustiskās plātnes "CEWOOD" "CW-W25S-P5-1200x600-’ GP" (vai ekvivalents), 25mm. P5G-T24 profils; Skaida: 1.0mm; Tonis: "GP" Pelēka t.sk. Palīgmateriāli, stiprinājumi, nesošais karkass | D17: m2 | E17: =114.9+292.9 -> 407.8
A18: 3 | C18: PG-2.1 Pretputekļu pārklājums uz pārseguma paneļiem | D18: m2 | E18: =188+89.4 -> 277.4
A19: 4 | C19: PG-3.1 Ģipškartona plākšņu griesti (GKB), 12.5mm. Tonis: krāsots NCS 0603-Y90R t.sk. Metāla karkass | D19: m2 | E19: =62+56.7 -> 118.7
A20: 5 | C20: Griestu gruntēšana, špaktelēšana, slīpēšana , Vetonit vai ekvivalents špaktele, grunts | D20: m2 | E20: =62+56.1 -> 118.1
A21: 6 | C21: Sagatavotu griestu gruntēšana | D21: m2 | E21: =62+56.1 -> 118.1
A22: 7 | C22: Sagatavotu griestu krāsošana ar krāsām 2k. Griestu krāsa Tonis: krāsots NCS 0603-Y90R | D22: m2 | E22: =62+56.1 -> 118.1
A23: 8 | C23: PG-4.1 Gaisa caurlaidīgu griestu zona gaisa pieplūdei: ēveļskaidas plātņu (fibrolīta) akustiskās plātnes "CEWOOD" "CW-W25S-P5-1200x600-N" (vai ekvivalents), 25mm. P5G-T24 profils; Skaida: 1.0mm; Tonis: "N" Naturāla, krāsota t.sk. Palīgmateriāli, stiprinājumi, nesošais karkass | D23: m2 | E23: =77.8+77.8 -> 155.6
A24: 9 | C24: PG-5.1 PG-5.1 Gaisa necaurlaidīgu griestu zona:ēveļskaidas plātņu (fibrolīta) akustiskās plātnes "CEWOOD" "CW-W25SP5-1200x600-N" (vai ekvivalents), 25mm. P5G-T24 profils;Skaida: 1.0mm; Tonis: "N" Naturāla, krāsota. Virs plāksnēm paredzēt "SIGA Majcoat® 150" gaisa necaurlaidīgu membrānu ar "Siga Rissan 60" t.sk. Palīgmateriāli, stiprinājumi, nesošais karkass | D24: m2 | E24: =506.4+549.5 -> 1055.9
A25: 10 | C25: PG-1.1a Ēveļskaidas plātņu (fibrolīta) akustiskās plātnes "CEWOOD" "CWW25S-P5-1200x600-N" (vai ekvivalents), 25mm ar 50mm vati (30 kg/m3). P5G-T24 profils; Skaida: 1.0mm; Tonis: "N" Naturāla, krāsota t.sk. Palīgmateriāli, stiprinājumi, nesošais karkass | D25: m2 | E25: 407
A26: 0 | C26: Sienas
A27: 11 | C27: Sienu gruntēšana, špaktelēšana, slīpēšana t.sk. Ailu apmales. , Vetonit vai ekvivalents špaktele, grunts | D27: m2 | E27: =2680.6+2147.4 -> 4828
A28: 12 | C28: Sagatavotu sienu gruntēšana t.sk. Ailu apmales | D28: m2 | E28: =2680.6+2147.4 -> 4828
A29: 13 | C29: Sagatavotu sienu krāsošana ar tonētām krāsām 2k. krāsota , m, piemēram., Sakret (vai ekvivalents) KS-G 2 kārtās. NCS S 4005-R80 B t.sk. Ailu apmales | D29: m2 | E29: =2680.6+2147.4 -> 4828
A30: 14 | C30: Hidroizolācijas ierīkošana | D30: m2 | E30: =465.8+378.8 -> 844.6
A31: 15 | C31: Flīžu seguma ierīkošana Flīžu līme, šuvju mastika, palīgmateriāli Sienas flīze "ArcanaCeramica"Miscela Nacar (vai ekvivalents); 600x600x10mm | D31: m2 | E31: 119
A32: 16 | C32: Flīžu seguma ierīkošana Flīžu līme, šuvju mastika, palīgmateriāli Sienas flīze "ArcanaCeramica" Stracciatella Nacar (vai ekvivalents); 600x600x10mm | D32: m2 | E32: 49
A33: 17 | C33: Flīžu seguma ierīkošana Flīžu līme, šuvju mastika, palīgmateriāli Sienas flīze "ArcanaCeramica" Stracciatella Grafito (vai ekvivalents); 600x600x10mm; | D33: m2 | E33: 45.5
A34: 18 | C34: "CEWOOD" "Barcode panel" (vai ekvivalents); 1200x600x25mm; tonī: RAL7006 | D34: m2 | E34: =178+165 -> 343
A35: 19 | C35: "CEWOOD" "Barcode panel" (vai ekvivalents); 1200x600x25mm; tonī: RAL7006 t.sk. Vate 50 mm 30 kg/m3 | D35: m2 | E35: 110
C36: Bērnu tualetes kabīņu komplekts
A37: 20 | C37: Laminēta LKSP: biezums 24 mm; Profili: Anodēts alumīnijs, biezums 2 mm; Furnitūra: ASSAABLOY (vai ekvivalents); EN312:2003; Tonis: RAL2001 | D37: gb | E37: 1
A38: 21 | C38: Laminēta LKSP: biezums 24 mm; Profili: Anodēts alumīnijs, biezums 2 mm; Furnitūra: ASSAABLOY (vai ekvivalents); EN312:2003; Tonis: RAL2001 | D38: gb | E38: 5
A39: 22 | C39: Laminēta LKSP: biezums 24 mm; Profili: Anodēts alumīnijs, biezums 2 mm; Furnitūra: ASSAABLOY (vai ekvivalents); EN312:2003; Tonis: RAL2001 | D39: gb | E39: 1
A40: 23 | C40: Laminēta LKSP: biezums 24 mm; Profili: Anodēts alumīnijs, biezums 2 mm; Furnitūra: ASSAABLOY (vai ekvivalents); EN312:2003; Tonis: RAL2001 | D40: gb | E40: 5
C41: Tiešās izmaksas kopā t.sk. darba devēja sociālais nodoklis(23,59%)
B43: Piezīmes:
...

Sheet 1,10
G1: Lokālā tāme Nr. | H1: =kops1!B30 -> 1,10
A2: =C13 -> Ārējās apdares darbi
C3: Būves nosaukums: | D3: =Koptame!C11 -> Pirmsskolas izglītības iestāde
C4: Objekta nosaukums: | D4: =Koptame!C12 -> Pirmsskolas izglītības iestādes jaunbūve
C5: Objekta adrese: | D5: =Koptame!C13 -> Baložu iela 33, Baloži, Ķekavas novads
C6: =Koptame!B14 -> Iepirkuma Id Nr. | D6: =Koptame!C14 -> ĶNP 2023/85
A7: =Koptame!B17 -> Tāme sastādīta 2024.gada tirgus cenās | O7: Tāmes izmaksas euro: | P7: =P43 -> 0
L9: =Koptame!D16 -> Tāme sastādīta:
A11: Nr.p.k. | B11: Kods | C11: Būvdarbu nosaukums | D11: Mērvienība | E11: Daudzums | F11: Vienības izmaksas | L11: Kopā uz visu apjomu
F12: Laika norma (c/h) | G12: Darba samaksas likme (euro/h) | H12: Darba alga (euro) | I12: Būvizstrādājumi (euro) | J12: Mehānismi (euro) | K12: Kopā (euro) | L12: Darbietilpība (c/h) | M12: Darba alga (euro) | N12: Būvizstrādājumi (euro) | O12: Mehānismi (euro) | P12: Summa (euro)
B13: 0 | C13: =kops1!C30 -> Ārējās apdares darbi | F13: 0 | G13: 0 | K13: =SUM(H13:J13) -> 0 | L13: =ROUND(F13*E13,2) -> 0 | M13: =ROUND(H13*E13,2) -> 0 | N13: =ROUND(I13*E13,2) -> 0 | O13: =ROUND(J13*E13,2) -> 0 | P13: =SUM(M13:O13) -> 0
A14: 0 | C14: Fasādes sagatavošanas darbi | F14: 0 | G14: 0 | H14: =ROUND(F14*G14,2) -> 0 | I14: 0 | J14: 0 | K14: =SUM(H14:J14) -> 0 | L14: =ROUND(F14*E14,2) -> 0 | M14: =ROUND(H14*E14,2) -> 0 | N14: =ROUND(I14*E14,2) -> 0 | O14: =ROUND(J14*E14,2) -> 0 | P14: =SUM(M14:O14) -> 0
A15: 1 | C15: Logu, durvju aizlīmēšana ar plēvi | D15: m2 | E15: 650
A16: 2 | C16: Sastatņu uzstādīšana ,nojaukšana ieskaitot nomu(iekļaujot sastatņu aizsargsietu) | D16: m2 | E16: 2000
A17: 0 | C17: AS 1.0
A18: 3 | C18: Ekstrudēta putupolistirola uzstādīšana XPS 120 mm t.sk. Palīgmateriāli, stiprinājumi, līmjava Baumit Pro Contact) (vai ekvivalents) | D18: m2 | E18: 224.6
A19: 4 | C19: Armējošā sieta iestrāde fasādei-cokolam. Līmēšanas un armēšanas java Baumit Pro Contact) (vai ekvivalents), Stiklašķiedras siets fasādei. | D19: m2 | E19: 224.6
A20: 5 | C20: Sienas gruntēšana. ( zem dekoratīvā apmetuma) | D20: m2 | E20: 224.6
A21: 6 | C21: Apmetuma slāņa ieklāšana sienai tonēts Ārējā apdare - plānā apmetuma sistēma saskaņā ar sistēmas turētāja ETA | D21: m2 | E21: 224.6
A22: 0 | C22: AS 1.3
A23: 7 | C23: Apmetuma slāņa ieklāšana Ārējais apmetums | D23: m2 | E23: 535.4
A24: 8 | C24: Vates iestrāde karkasā siltuma izolācijai. Siltuma izolācijas plāksnes 200 mm Paroc Ultra plus (vai ekvivalents) | D24: m2 | E24: 535.4
A25: 9 | C25: Vates iestrāde karkasā siltuma izolācijai. Siltuma izolācijas plāksnes 30 mm Paroc WAS 35t (vai ekvivalents) | D25: m2 | E25: 535.4
A26: 10 | C26: Apakškonstrukcijas montāža- Z profils | D26: m2 | E26: 535.4
A27: 11 | C27: Apakškonstrukcijas montāža-koka latas 50 mm | D27: m2 | E27: 535.4
A28: 12 | C28: Termokoksnes dēļu seguma 19 mm ieklāšana Termokoks Luna (vai ekvivalents) SHP 19x117 Apstrādāts ar lineļļas krāsu | D28: m2 | E28: 534.3
A29: 0 | C29: AS 1.4
A30: 13 | C30: Apmetuma slāņa ieklāšana Ārējais apmetums | D30: m2 | E30: 247.1
A31: 14 | C31: Vates iestrāde karkasā siltuma izolācijai. Siltuma izolācijas plāksnes 200 mm Paroc Ultra plus (vai ekvivalents) | D31: m2 | E31: 247.1
A32: 15 | C32: Vates iestrāde karkasā siltuma izolācijai. Siltuma izolācijas plāksnes 30 mm Paroc (vai ekvivalents) WAS 35t | D32: m2 | E32: 247.1
A33: 16 | C33: Apakškonstrukcijas montāža | D33: m2 | E33: 247.1
A34: 17 | C34: Sienas seguma ieklāšana.Profilēts metāla skārds ,palīgmateriāli, papildelementi. Tērauda skārda profilēts segums Ruukkifrigge (vai ekvivalents) , tonis RR2H3 Antracīts analogs jumta segumam | D34: m2 | E34: 247.1
A35: 18 | C35: Sienas seguma apakšklāja ierīkošana | D35: m2 | E35: 247.1
A36: 0 | C36: AS 1.6
A37: 19 | C37: Siltumizolācijas uzstādīšana PAROC (vai ekvivalents) LINIO 15 (150 mm) t.sk. Palīgmateriāli, stiprinājumi, līmjava Baumit Pro Contact) (vai ekvivalents) | D37: m2 | E37: 14.8
A38: 20 | C38: Apmetuma slāņa ieklāšana tonēta Ārējā apdare - plānā apmetuma sistēma saskaņā ar sistēmas turētāja ETA | D38: m2 | E38: 14.8
A39: 0 | C39: AS 1.7
A40: 21 | C40: Siltumizolācijas uzstādīšana PAROC (vai ekvivalents) LINIO 15 (200 mm) t.sk. Palīgmateriāli, stiprinājumi, līmjava Baumit Pro Contact) (vai ekvivalents) | D40: m2 | E40: 313.3
A41: 22 | C41: Apmetuma slāņa ieklāšana tonēta Ārējā apdare - plānā apmetuma sistēma saskaņā ar sistēmas turētāja ETA | D41: m2 | E41: 313.3
F42: 0 | G42: 0
...

Sheet 1,11
G1: Lokālā tāme Nr. | H1: =kops1!B31 -> 1,11
A2: =C13 -> Dažādi darbi
C3: Būves nosaukums: | D3: =Koptame!C11 -> Pirmsskolas izglītības iestāde
C4: Objekta nosaukums: | D4: =Koptame!C12 -> Pirmsskolas izglītības iestādes jaunbūve
C5: Objekta adrese: | D5: =Koptame!C13 -> Baložu iela 33, Baloži, Ķekavas novads
C6: =Koptame!B14 -> Iepirkuma Id Nr. | D6: =Koptame!C14 -> ĶNP 2023/85
A7: =Koptame!B17 -> Tāme sastādīta 2024.gada tirgus cenās | O7: Tāmes izmaksas euro: | P7: =P33 -> 0
L9: =Koptame!D16 -> Tāme sastādīta:
A11: Nr.p.k. | B11: Kods | C11: Būvdarbu nosaukums | D11: Mērvienība | E11: Daudzums | F11: Vienības izmaksas | L11: Kopā uz visu apjomu
F12: Laika norma (c/h) | G12: Darba samaksas likme (euro/h) | H12: Darba alga (euro) | I12: Būvizstrādājumi (euro) | J12: Mehānismi (euro) | K12: Kopā (euro) | L12: Darbietilpība (c/h) | M12: Darba alga (euro) | N12: Būvizstrādājumi (euro) | O12: Mehānismi (euro) | P12: Summa (euro)
B13: 0 | C13: =kops1!C31 -> Dažādi darbi | F13: 0 | G13: 0 | K13: =SUM(H13:J13) -> 0 | L13: =ROUND(F13*E13,2) -> 0 | M13: =ROUND(H13*E13,2) -> 0 | N13: =ROUND(I13*E13,2) -> 0 | O13: =ROUND(J13*E13,2) -> 0 | P13: =SUM(M13:O13) -> 0
A14: 0 | C14: Margas AR-6.20 | H14: =ROUND(F14*G14,2) -> 0 | K14: =SUM(H14:J14) -> 0 | L14: =ROUND(F14*E14,2) -> 0 | M14: =ROUND(H14*E14,2) -> 0 | N14: =ROUND(I14*E14,2) -> 0 | O14: =ROUND(J14*E14,2) -> 0 | P14: =SUM(M14:O14) -> 0
A15: 1 | C15: Margu montāža M1 saskaņā ar AR-6.20 t.sk. Palīgmateriāli | D15: m | E15: =4.7+40.52 -> 45.22
A16: 2 | C16: Margu montāža M2 saskaņā ar AR-6.20 t.sk. Palīgmateriāli | D16: m | E16: 50.04
A17: 3 | C17: Margu montāža M3 saskaņā ar AR-6.20 t.sk. Palīgmateriāli | D17: m | E17: 12.36
A18: 4 | C18: Margu montāža M4 saskaņā ar AR-6.20 t.sk. Palīgmateriāli | D18: m | E18: 9.36
A19: 5 | C19: Margu montāža M5 saskaņā ar AR-6.20 t.sk. Palīgmateriāli | D19: m | E19: 7.15
A20: 6 | C20: Margu montāža M6 saskaņā ar AR-6.20 t.sk. Palīgmateriāli | D20: m | E20: 8.32
A21: 7 | C21: Margu montāža M7 saskaņā ar AR-6.20 t.sk. Palīgmateriāli | D21: m | E21: 14.18
A22: 0 | C22: Akustisie aizkari AR-6.14
A23: 8 | C23: Akustiskie aizkari "FR-One Prodigy - Supra" (vai ekvivalents); Type G-150; 3000x6400mm; stiprināms pie griestiem; auduma tonis: S7020- B90G | D23: gb | E23: 2
A24: 9 | C24: Akustiskie aizkari "FR-One Prodigy - Supra" (vai ekvivalents); Type G-150; 2800x6400mm; stiprināms pie griestiem; auduma tonis: S7020-B90G | D24: gb | E24: 2
A25: 0
A26: 10 | C26: Pozīcija dzēsta
A27: 0 | C27: Mezglu rasējumi
A28: 11 | C28: KERDYN GREEN (vai ekvivalents) 120 mm tipa siltumizolācija, stiprinājuma veidu precizēt pēc konkrētā ražotāja rekomendācijām mezgls AR-7.1, AR-7.6 | D28: m2 | E28: 29.43
A29: 12 | C29: Šķiedrcementa plāksnes 2x8 mm apšuvuma ierīkošana t.sk. Palīgmateriāli Mezgls AR 7.3;AR 7.5; AR 7.6 | D29: m2 | E29: 450
A30: 13 | C30: Hidroizolācijas lentas montāža, t.sk. Palīgmateriāli AR-7.6; AR-7.7; AR-7.1 | D30: m2 | E30: 216
A31: 14 | C31: Skārda iekšmalas ailsānu apdarei montāža, t.sk. Palīgmateriāli | D31: m2 | E31: 240
F32: 0 | G32: 0
C33: Tiešās izmaksas kopā t.sk. darba devēja sociālais nodoklis(23,59%)
B35: Piezīmes:
A36: ='1,1'!A24:G24 -> Visas atsauces uz materiālu un izstrādājumu izgatavotaj firmām, kuras norādītas būvprojektā, liecina tikai par šo materiālu un izstrādājumu tehniskajiem parametriem un kvalitātes līmeni, to nomaiņa ir iespējama ar citiem tehniski un kvalitatīvi ekvivalentiem būvizstrādājumiem, iepriekš saskaņojot tos ar projekta autoriem un uzrādot atbilstības sertifikātus.
B40: Sastādīja: | L40: =Koptame!B41 -> Pārbaudīja:
C41: =Koptame!C36 -> 0 | M41: =Koptame!C42 -> 0
C42: =Koptame!C37 -> 0 | M42: =Koptame!C43 -> 0

Sheet kops2
A2: Kopsavilkuma aprēķins Nr. 2
A6: =Koptame!C22 -> Specializētie darbi-iekšējie tīkli, sistēmas
A8: Būves nosaukums: | C8: =Koptame!C11 -> Pirmsskolas izglītības iestāde
A9: Objekta nosaukums: | C9: =Koptame!C12 -> Pirmsskolas izglītības iestādes jaunbūve
A10: Objekta adrese: | C10: =Koptame!C13 -> Baložu iela 33, Baloži, Ķekavas novads
A11: =Koptame!B14 -> Iepirkuma Id Nr. | C11: =Koptame!C14 -> ĶNP 2023/85
F13: Par kopējo summu, euro | H13: =E41 -> 0
F14: Kopējā darbietilpība, c/h | H14: =I37 -> 0
H16: =Koptame!D16 -> Tāme sastādīta:
A18: Nr.p.k. | B18: Kods, tāmes Nr. | C18: Būvdarbu veids vai konstruktīvā elementa nosaukums | E18: Tāmes izmaksas (euro) | F18: Tai skaitā | I18: Darbietilpība (c/h)
F19: darba alga (euro) | G19: materiāli (euro) | H19: mehānismi (euro)
A21: 1 | B21: 2,1 | C21: Iekšējais ūdensvads
A22: 2 | B22: 2,2 | C22: Iekšējā kanalizācija
A23: 3 | B23: 2,3 | C23: Apkure
A24: 4 | B24: 2,4 | C24: Ventilācija
A25: 5 | B25: 2,5 | C25: Gaisa kondicionēšana
A26: 6 | B26: 2,6 | C26: Siltummezgls
A27: 7 | B27: 2,7 | C27: Elektroinstalācija
A28: 8 | B28: 2,8 | C28: Ugunsgrēka signalizācijas sistēma
A29: 9 | B29: 2,9 | C29: Piekļuves kontroles sistēma
A30: 10 | B30: 2,10 | C30: Elektronisko sakaru sistēma
A31: 11 | B31: 2,11 | C31: Videonovērošanas sistēma
A32: 12 | B32: 2,12 | C32: Apsardzes signalizācijas sistēma
... A36: 18 | B36: 2,18 | C36: Lifts
C37: Kopā
A38: Virsizdevumi | D38: =kops1!$D$34
C39: tai skaitā darba aizsardzība
A40: Peļņa | D40: =kops1!$D$36
C41: Kopā bez PVN
B44: Sastādīja:
C45: =Koptame!C36 -> 0
C46: =Koptame!C37 -> 0
B50: =Koptame!B41 -> Pārbaudīja:
C51: =Koptame!C42 -> 0
C52: =Koptame!C43 -> 0

Sheet 2,1
H1: Lokālā tāme Nr. | I1: =kops2!B21 -> 2,1
A2: =C13 -> Iekšējais ūdensvads
C3: Būves nosaukums: | E3: =Koptame!C11 -> Pirmsskolas izglītības iestāde
C4: Objekta nosaukums: | E4: =Koptame!C12 -> Pirmsskolas izglītības iestādes jaunbūve
C5: Objekta adrese: | E5: =Koptame!C13 -> Baložu iela 33, Baloži, Ķekavas novads
C6: =Koptame!B14 -> Iepirkuma Id Nr. | E6: =Koptame!C14 -> ĶNP 2023/85
A7: =Koptame!B17 -> Tāme sastādīta 2024.gada tirgus cenās | P7: Tāmes izmaksas euro: | Q7: =Q188 -> 0
M9: =Koptame!D16 -> Tāme sastādīta:
A11: Nr.p.k. | B11: Kods | C11: Būvdarbu nosaukums | E11: Mērvienība | F11: Daudzums | G11: Vienības izmaksas | M11: Kopā uz visu apjomu
G12: Laika norma (c/h) | H12: Darba samaksas likme (euro/h) | I12: Darba alga (euro) | J12: Būvizstrādājumi (euro) | K12: Mehānismi (euro) | L12: Kopā (euro) | M12: Darbietilpība (c/h) | N12: Darba alga (euro) | O12: Būvizstrādājumi (euro) | P12: Mehānismi (euro) | Q12: Summa (euro)
C13: =kops2!C21 -> Iekšējais ūdensvads | L13: =SUM(I13:K13) -> 0 | M13: =ROUND(G13*F13,2) -> 0 | N13: =ROUND(I13*F13,2) -> 0 | O13: =ROUND(J13*F13,2) -> 0 | P13: =ROUND(K13*F13,2) -> 0 | Q13: =SUM(N13:P13) -> 0
C14: Montāžas un palaišanas darbi
C15: Ūdensapgāde U1
A16: 1 | C16: Ķeta caurule DN100 PN10 | D16: 100 | E16: m | F16: 1
A17: 2 | C17: Daudzslāņu caurule OD16x2.0 PN10 | D17: 16 | E17: m | F17: 510
A18: 3 | C18: Daudzslāņu caurule OD20x2.25 PN10 | D18: 20 | E18: m | F18: 483
A19: 4 | C19: Daudzslāņu caurule OD25x2.5 PN10 | D19: 25 | E19: m | F19: 95
A20: 5 | C20: Daudzslāņu caurule OD32x3.0 PN10 | D20: 32 | E20: m | F20: 72
A21: 6 | C21: Daudzslāņu caurule OD40x4.0 PN10 | D21: 40 | E21: m | F21: 67
A22: 7 | C22: Daudzslāņu caurule OD50x4.5 PN10 | D22: 50 | E22: m | F22: 64
A23: 8 | C23: Daudzslāņu caurule OD63x6.0 PN10 | D23: 63 | E23: m | F23: 38
A24: 9 | C24: Elektromagnētiskais ventīlis DN50 PN16 | D24: 50 | E24: gb | F24: 1
A25: 10 | C25: Aukstā ūdens skaitītājs DN15 Qn=1.5 m3/h ar attālinātās nolasīšans iespēju (M-bus protokols) | D25: 15 | E25: gb | F25: 1
A26: 11 | C26: Karstā ūdens skaitītājs DN15 Qn=1.5 m3/h ar attālinātās nolasīšans iespēju (M-bus protokols) | D26: 15 | E26: gb | F26: 1
A27: 12 | C27: Elektrometināma īscaurule ar rotējošu atloku DN100 PN10 | D27: 100 | E27: gb | F27: 1
... A50: 35 | C50: Porgumijas izolācija 25 mm cauurlei OD63 | D50: 63 | E50: m | F50: 31
A51: 36 | C51: Atvērumu aizdares komplekts ar ugunsdrošiem materiāliem | E51: kpl | F51: 1
A52: 37 | C52: Presējamo kompozītmateriālu veidgabalu komplekts (spiediena klase PN10) | E52: kpl | F52: 1
A53: 38 | C53: Tērauda cauruļvadu veidgabalu komplekts | E53: kpl | F53: 1
A54: 39 | C54: Cauruļvadu stiprinājuma komplekts | E54: kpl | F54: 1
A55: 40 | C55: Izbūvētās ūdens apgādes sistēmas skalošana ar dzeramās kvalitātes ūdeni | E55: kpl | F55: 1
A56: 41 | C56: Ūdensavda spiediena pārbaude | E56: kpl | F56: 1
A57: 42 | C57: Montāžas palīgmateriālu komplekts | E57: kpl | F57: 1
A58: 43 | C58: Ugunsdzēsības ūdens apgāde U2
A59: 44 | C59: Cinkota tērauda caurule DN50 PN10 | D59: 50 | E59: m | F59: 102
A60: 45 | C60: Cinkots tērauda līkums DN50 PN10 | D60: 50 | E60: gb | F60: 20
A61: 46 | C61: Cinkots tērauda trejgabals DN50/50/50 PN10 | D61: 50 | E61: gb | F61: 8
A62: 47 | C62: Lodveida ventīlis DN50 PN25 | D62: 50 | E62: gb | F62: 1
A63: 48 | C63: Vienvirziena vārsts DN50 PN25 | D63: 50 | E63: gb | F63: 1
A64: 49 | C64: Manometrs ar spiediena krituma sensoru | E64: gb | F64: 1
...

Sheet 2,2
H1: Lokālā tāme Nr. | I1: =kops2!B22 -> 2,2
A2: =C13 -> Iekšējā kanalizācija
C3: Būves nosaukums: | E3: =Koptame!C11 -> Pirmsskolas izglītības iestāde
C4: Objekta nosaukums: | E4: =Koptame!C12 -> Pirmsskolas izglītības iestādes jaunbūve
C5: Objekta adrese: | E5: =Koptame!C13 -> Baložu iela 33, Baloži, Ķekavas novads
C6: =Koptame!B14 -> Iepirkuma Id Nr. | E6: =Koptame!C14 -> ĶNP 2023/85
A7: =Koptame!B17 -> Tāme sastādīta 2024.gada tirgus cenās | P7: Tāmes izmaksas euro: | Q7: =Q39 -> 0
M9: =Koptame!D16 -> Tāme sastādīta:
A11: Nr.p.k. | B11: Kods | C11: Būvdarbu nosaukums | E11: Mērvienība | F11: Daudzums | G11: Vienības izmaksas | M11: Kopā uz visu apjomu
G12: Laika norma (c/h) | H12: Darba samaksas likme (euro/h) | I12: Darba alga (euro) | J12: Būvizstrādājumi (euro) | K12: Mehānismi (euro) | L12: Kopā (euro) | M12: Darbietilpība (c/h) | N12: Darba alga (euro) | O12: Būvizstrādājumi (euro) | P12: Mehānismi (euro) | Q12: Summa (euro)
B13: 0 | C13: =kops2!C22 -> Iekšējā kanalizācija | G13: 0 | H13: 0 | I13: 0 | J13: 0 | K13: 0 | L13: =SUM(I13:K13) -> 0 | M13: =ROUND(G13*F13,2) -> 0 | N13: =ROUND(I13*F13,2) -> 0 | O13: =ROUND(J13*F13,2) -> 0 | P13: =ROUND(K13*F13,2) -> 0 | Q13: =SUM(N13:P13) -> 0
C14: Montāžas un palaišanas darbi
C15: Saimnieciskā kanalizācija | L15: =SUM(I15:K15) -> 0 | M15: =ROUND(G15*F15,2) -> 0 | N15: =ROUND(I15*F15,2) -> 0 | O15: =ROUND(J15*F15,2) -> 0 | P15: =ROUND(K15*F15,2) -> 0 | Q15: =SUM(N15:P15) -> 0
A16: 1 | C16: PP pašteces kanalizācijas caurule | D16: 32 | E16: m | F16: 257
A17: 2 | C17: PP pašteces kanalizācijas caurule | D17: 50 | E17: m | F17: 167
A18: 3 | C18: PP pašteces kanalizācijas caurule | D18: 110 | E18: m | F18: 456
A19: 4 | C19: Klozetpoda pievienojums | D19: 110 | E19: gb | F19: 48
A20: 5 | C20: Sausā tipa traps ar vertikālu izvadu | D20: 50 | E20: gb | F20: 7
A21: 6 | C21: Sausā tipa traps ar vertikālu izvadu | D21: 100 | E21: gb | F21: 14
A22: 7 | C22: Nerūsējošā tērauda higiēnisks traps 500x500 vinila grīdām, izvadu DN100, sifonu, gružu sietu ar tilpumu 0,6l, nerūsējošā tērauda režģi, slodzes klase L15, atbilstoši LVS EN1253. | D22: 500x500 | E22: gb | F22: 3
A23: 8 | C23: Nerūsējošā tērauda higiēnisks traps 500x800 vinila grīdām, izvadu DN100, sifonu, gružu sietu ar tilpumu 0,6l, nerūsējošā tērauda režģi, slodzes klase L15, atbilstoši LVS EN1253. | D23: 500x800 | E23: gb | F23: 1
A24: 9 | C24: Nerūsējošā tērauda higiēnisks traps 400x400 vinila grīdām, izvadu DN100, sifonu, gružu sietu ar tilpumu 0,6l, nerūsējošā tērauda režģi, slodzes klase L15, atbilstoši LVS EN1253. | D24: 400x400 | E24: gb | F24: 1
A25: 10 | C25: Nerūsējošā tērauda traps ACO EG150, paredzēts vinila grīdas segumam, vetrtikālu izvadu DN100, sifonu, skrūvējamu nerūsējošā tērauda resti, slodzes klase K3, caurplūde 1,2 l/s. Atbilst LVS EN 1253 | D25: 170x170 | E25: gb | F25: 3
A26: 11 | C26: ACO TL nerūsējošā tērauda grīdas revīzijas (tīrīšanas) lūka Ø110 ar smaku drošu vāku 150x150mm, slodzes klase L15 | D26: 100 | E26: gb | F26: 22
A27: 12 | C27: Revīzija ar vāku | D27: 100 | E27: gb | F27: 13
A28: 13 | C28: Vakummvārsts DN110 | D28: 110 | E28: gb | F28: 2
A29: 14 | C29: VILPE (vai ekvivalents) Ø110P/500 SEWER VENTILATION PIPE WITH COWL | D29: 110 | E29: gb | F29: 4
A30: 15 | C30: Ārpus pārseguma uzstādāma ugusndrošā manžete | D30: 110 | E30: gb | F30: 10
A31: 16 | C31: Ārpus pārseguma uzstādāma ugusndrošā manžete | D31: 50 | E31: gb | F31: 18
A32: 17 | C32: Ārpus pārseguma uzstādāma ugusndrošā manžete | D32: 32 | E32: gb | F32: 4
A33: 18 | C33: Sifons Wavin (vai ekvivalents) HEPVO 32 mm | D33: 32 | E33: gb | F33: 19
A34: 19 | C34: Atvērumu aizdares komplekts ar ugunsdrošiem materiāliem | E34: gb | F34: 1
A35: 20 | C35: Cauruļvadu veidgabalu komplkets | E35: gb | F35: 1
A36: 21 | C36: Cauruļvadu stiprinājuma komplekts | E36: gb | F36: 1
A37: 22 | C37: Montāžas palīgmateriālu komplekts | E37: gb | F37: 1
C39: Tiešās izmaksas kopā, t.sk. darba devēja sociālais nodoklis(23,59%)
B41: Piezīmes:
A42: ='1,1'!A24:G24 -> Visas atsauces uz materiālu un izstrādājumu izgatavotaj firmām, kuras norādītas būvprojektā, liecina tikai par šo materiālu un izstrādājumu tehniskajiem parametriem un kvalitātes līmeni, to nomaiņa ir iespējama ar citiem tehniski un kvalitatīvi ekvivalentiem būvizstrādājumiem, iepriekš saskaņojot tos ar projekta autoriem un uzrādot atbilstības sertifikātus.
B46: Sastādīja: | M46: =Koptame!B41 -> Pārbaudīja:
C47: =Koptame!C36 -> 0 | N47: =Koptame!C42 -> 0
...

Sheet 2,3
H1: Lokālā tāme Nr. | I1: =kops2!$B$23 -> 2,3
A2: =C13 -> Apkure
C3: Būves nosaukums: | E3: =Koptame!C11 -> Pirmsskolas izglītības iestāde
C4: Objekta nosaukums: | E4: =Koptame!C12 -> Pirmsskolas izglītības iestādes jaunbūve
C5: Objekta adrese: | E5: =Koptame!C13 -> Baložu iela 33, Baloži, Ķekavas novads
C6: =Koptame!B14 -> Iepirkuma Id Nr. | E6: =Koptame!C14 -> ĶNP 2023/85
A7: =Koptame!B17 -> Tāme sastādīta 2024.gada tirgus cenās | P7: Tāmes izmaksas euro: | Q7: =Q82 -> 0
M9: =Koptame!D16 -> Tāme sastādīta:
A11: Nr.p.k. | B11: Kods | C11: Būvdarbu nosaukums | E11: Mērvienība | F11: Daudzums | G11: Vienības izmaksas | M11: Kopā uz visu apjomu
G12: Laika norma (c/h) | H12: Darba samaksas likme (euro/h) | I12: Darba alga (euro) | J12: Būvizstrādājumi (euro) | K12: Mehānismi (euro) | L12: Kopā (euro) | M12: Darbietilpība (c/h) | N12: Darba alga (euro) | O12: Būvizstrādājumi (euro) | P12: Mehānismi (euro) | Q12: Summa (euro)
B13: 0 | C13: =kops2!C23 -> Apkure | G13: 0 | H13: 0 | I13: 0 | J13: 0 | K13: 0 | L13: =SUM(I13:K13) -> 0 | M13: =ROUND(G13*F13,2) -> 0 | N13: =ROUND(I13*F13,2) -> 0 | O13: =ROUND(J13*F13,2) -> 0 | P13: =ROUND(K13*F13,2) -> 0 | Q13: =SUM(N13:P13) -> 0
C14: Montāžas un palaišanas darbi
A15: 1 | C15: Daudzslāņu caurule MLC OD25x2.5 | D15: 25 | E15: m | F15: 57
A16: 2 | C16: Daudzslāņu caurule MLC OD32x3.0 | D16: 32 | E16: m | F16: 262
A17: 3 | C17: Daudzslāņu caurule MLC OD40x4.0 | D17: 40 | E17: m | F17: 39
A18: 4 | C18: Daudzslāņu caurule MLC OD50x4.5 | D18: 50 | E18: m | F18: 28
A19: 5 | C19: Daudzslāņu caurule MLC OD63x6.0 | D19: 63 | E19: m | F19: 204
A20: 6 | C20: Tērauda/oglekļa caurule DN100 | D20: 100 | E20: m | F20: 10
A21: 7 | C21: Silto grīdu caurule UNIPIPE (vai ekvivalents) OD16 | D21: 16 | E21: m | F21: 21290
A22: 8 | C22: Presējamo cauruļvadu veidgabalu kompkekts | E22: gb | F22: 1
A23: 9 | C23: Presējamo tērauda cauruļvadu veidgabalu komplekts | E23: gb | F23: 1
A24: 10 | C24: 3. loku sadales kolektors ar jaudu 187 kW | E24: gb | F24: 1
A25: 11 | C25: Nerūsējošā tērauda sadalītājs 1'' ar plūsmas mērītājiem, 6 cilpu | E25: gb | F25: 1
A26: 12 | C26: Nerūsējošā tērauda sadalītājs 1'' ar plūsmas mērītājiem, 7 cilpu | E26: gb | F26: 2
A27: 13 | C27: Nerūsējošā tērauda sadalītājs 1'' ar plūsmas mērītājiem, 8 cilpu | E27: gb | F27: 2
A28: 14 | C28: Nerūsējošā tērauda sadalītājs 1'' ar plūsmas mērītājiem, 9 cilpu | E28: gb | F28: 1
A29: 15 | C29: Nerūsējošā tērauda sadalītājs 1'' ar plūsmas mērītājiem, 10 cilpu | E29: gb | F29: 6
A30: 16 | C30: Nerūsējošā tērauda sadalītājs 1'' ar plūsmas mērītājiem, 11 cilpu | E30: gb | F30: 9
A31: 17 | C31: Nerūsējošā tērauda sadalītājs 1'' ar plūsmas mērītājiem, 12 cilpu | E31: gb | F31: 5
