Workbook
Name likme: KT!$E$23

Sheet KT
C2: APSTIPRINU_________________________________
C3: (pasūtītāja paraksts un tā atšifrējums)
C4: Z.V.
C5: 2024.gada ___.______________
A7: Būvniecības koptāme
A9: Objekta nosaukums: | B9: Salaspils pilsētas centrālās daļas satiksmes infrastruktūras pārbūve un pilsētas galvenā laukuma izveide 1.kārta
A11: Būves nosaukums:
A12: Objekta adrese: | B12: Līvzemes iela, Vītolu iela, Mazā vītolu iela, Rīgas iela, Salaspils
A13: Pasūtījuma nr.:
A15: Nr.p.k. | B15: Objekta nosaukums | C15: Objekta izmaksas (euro)
A16: 1 | B16: =B9 -> Salaspils pilsētas centrālās daļas satiksmes infrastruktūras pārbūve un pilsētas galvenā laukuma izveide 1.kārta | C16: =KA!E30 -> #VALUE!
B19: Kopā | C19: =SUM(C16:C18) -> #VALUE!
A21: PVN (21%) | C21: =ROUND(C19*21%,2) -> #VALUE!
A24: Sastādīja: | C24: =C28 -> 2024. gada ____________
A25: (paraksts un tā atšifrējums, datums)
A28: Pārbaudīja: | C28: 2024. gada ____________
A29: (paraksts un tā atšifrējums, datums)
A30: Sertifikāta Nr.:

Sheet KA
A2: Kopsavilkuma aprēķins nr.1
A3: =C6 -> Salaspils pilsētas centrālās daļas satiksmes infrastruktūras pārbūve un pilsētas galvenā laukuma izveide 1.kārta
A4: (būvdarbu veids vai konstruktīvā elementa nosaukums)
A6: Objekta nosaukums: | C6: =KT!B9 -> Salaspils pilsētas centrālās daļas satiksmes infrastruktūras pārbūve un pilsētas galvenā laukuma izveide 1.kārta
A7: Būves nosaukums:
A8: Objekta adrese: | C8: =KT!B12 -> Līvzemes iela, Vītolu iela, Mazā vītolu iela, Rīgas iela, Salaspils
A9: Pasūtījuma nr.:
C10: Par kopējo summu (euro) | E10: =E30 -> #VALUE!
C11: Kopējā darbietilpība (c/h) | E11: =SUM(I14:I23) -> 0
A12: Nr.p.k. | B12: kods, tāmes nr. | C12: Būvdarbu veids vai konstruktīvā elementa nosaukums | E12: Tāmes izmaksas | F12: Tai skaitā | I12: Darbietilpība (c/h)
F13: Darba alga | G13: Būvizstrādājumi | H13: Mehānismi
A15: 1 | B15: 1.1 | C15: AR - Arhitektūras daļa | E15: =SUM(F15:H15) -> 0 | F15: ='1,1'!M86 -> 0 | G15: ='1,1'!N86 -> 0 | H15: ='1,1'!O86 -> 0 | I15: ='1,1'!L86 -> 0
A16: 2 | B16: 1.2 | C16: BK - Būvkonstrukciju daļa | E16: =SUM(F16:H16) -> 0 | F16: ='1,2'!M56 -> 0 | G16: ='1,2'!N56 -> 0 | H16: ='1,2'!O56 -> 0 | I16: ='1,2'!L56 -> 0
A17: 3 | B17: 1.3 | C17: ELT-A - Apgaismojums, abonenta tīkli | E17: =SUM(F17:H17) -> 0 | F17: ='1,3'!M184 -> 0 | G17: ='1,3'!N184 -> 0 | H17: ='1,3'!O184 -> 0 | I17: ='1,3'!L184 -> 0
A18: 4 | B18: 1.4 | C18: EST-K - Elektrisko sakaru sistēmas (ārējās) | E18: =SUM(F18:H18) -> 0 | F18: ='1,4'!M151 -> 0 | G18: ='1,4'!N151 -> 0 | H18: ='1,4'!O151 -> 0 | I18: ='1,4'!L151 -> 0
A19: 5 | B19: 1.5 | C19: ESS-VN - Videonovērošana | E19: =SUM(F19:H19) -> 0 | F19: ='1,5'!M102 -> 0 | G19: ='1,5'!N102 -> 0 | H19: ='1,5'!O102 -> 0 | I19: ='1,5'!L102 -> 0
A20: 6 | B20: 1.6 | C20: LKT - Lietus ūdens kanalizācijas tīkli | E20: =SUM(F20:H20) -> 0 | F20: ='1,6'!M48 -> 0 | G20: ='1,6'!N48 -> 0 | H20: ='1,6'!O48 -> 0 | I20: ='1,6'!L48 -> 0
A21: 7 | B21: 1.7 | C21: UKT - Ūdensapgāde un kanalizācija (ārējā) | E21: =SUM(F21:H21) -> 0 | F21: ='1,7'!M79 -> 0 | G21: ='1,7'!N79 -> 0 | H21: ='1,7'!O79 -> 0 | I21: ='1,7'!L79 -> 0
A22: 8 | B22: 1.8 | C22: TS-CD - Ceļa darbi | E22: =SUM(F22:H22) -> 0 | F22: ='1,8'!M202 -> 0 | G22: ='1,8'!N202 -> 0 | H22: ='1,8'!O202 -> 0 | I22: ='1,8'!L202 -> 0
A23: 9 | B23: 1.9 | C23: TS-L - Labiekārtojums | E23: =SUM(F23:H23) -> 0 | F23: ='1,9'!M220 -> 0 | G23: ='1,9'!N220 -> 0 | H23: ='1,9'!O220 -> 0 | I23: ='1,9'!L220 -> 0
A24: 10 | B24: 1.1 | C24: ELT-ST- Esošo elektroapgādes tīklu pārbūve Rīgas un Līvzemes ielās, Salaspilī | E24: =SUM(F24:H24) -> 0 | F24: ='1,10'!M239 -> 0 | G24: ='1,10'!N239 -> 0 | H24: ='1,10'!O239 -> 0 | I24: ='1,10'!L239 -> 0
A25: 11 | B25: 1.11 | C25: ELT-ST- Jauns elektroapgādes pieslēgums Līvzemes iela 8, Salaspilī | E25: =SUM(F25:H25) -> 0 | F25: ='1,11'!M97 -> 0 | G25: ='1,11'!N97 -> 0 | H25: ='1,11'!O97 -> 0 | I25: ='1,11'!L97 -> 0
A26: Kopā | E26: =SUM(E15:E25) -> 0
A27: Virsizdevumi | D27: % | E27: =ROUND(E26*D27,2) -> #VALUE!
A28: t.sk. Darba aizsardzība | D28: % | E28: =ROUND(E27*D28,2) -> #VALUE!
A29: Peļņa | D29: % | E29: =ROUND(E26*D29,2) -> #VALUE!
A30: Pavisam kopā | E30: =SUM(E26,E27,E29) -> #VALUE!
A32: =KT!A24 -> Sastādīja: | E32: =KT!C28 -> 2024. gada ____________
A33: (paraksts un tā atšifrējums, datums)
A36: =KT!A28 -> Pārbaudīja: | E36: =KT!C28 -> 2024. gada ____________
A37: (paraksts un tā atšifrējums, datums)
A38: =KT!A30 -> Sertifikāta Nr.:

Sheet 1,1
A2: Lokālā tāme Nr.1,1
A3: AR - arhitektūras daļa
A4: (būvdarbu veids vai konstruktīvā elementa nosaukums)
A6: Objekta nosaukums: | C6: =KT!B9 -> Salaspils pilsētas centrālās daļas satiksmes infrastruktūras pārbūve un pilsētas galvenā laukuma izveide 1.kārta
A7: Būves nosaukums:
A8: Objekta adrese: | C8: =KT!B12 -> Līvzemes iela, Vītolu iela, Mazā vītolu iela, Rīgas iela, Salaspils
A9: Pasūtījuma nr.:
A11: Tāme sastādīta 2024. gada tirgus cenās, pamatojoties uz būvprojekta rasējumiem | M11: Tāmes izmaksas: | O11: =P86 -> 0 | P11: EUR
N12: Tāme sastādīta | O12: =KT!C28 -> 2024. gada ____________
A14: Nr.p.k. | B14: Kods | C14: Būvdarbu nosaukums | D14: Mērvienība | E14: Daudzums | F14: Vienības izmaksas | L14: Kopā uz visu apjomu
F15: Laika norma (c/h) | G15: Darba samaksas likme (euro/h) | H15: Darba alga | I15: Būvizstrādājumi | J15: Mehānismi | K15: KOPĀ | L15: Darbietilpība (c/h) | M15: Darba alga | N15: Būvizstrādājumi | O15: Mehānismi | P15: Summa
A16: Arhitektūras daļas darbi
A17: Ēkas fasādes atjaunošana Līvzemes ielā 4A
A18: 1 | C18: Esošās fasādes un cokola apdares attīrīšana un lokālu bojājumu labošana ar remontjavu, pamatnes gruntēšana | D18: m2 | E18: 198.8
A19: 2 | C19: Ķieģeļu mūra krāsošana divās kārtas (krāsa uz ūdens bāzes, segtspēja 250 ml/m2, pilnīgi matēta spīduma pakāpe). | D19: m2 | E19: 185.6
A20: 3 | C20: Cokola krāsošana divās kārtās (krāsa uz ūdens bāzes cokoliem, matēta, ūdens absorbcija W < 0,1 kg/(m2*h0,5)). | D20: m2 | E20: 13.2
A21: 4 | C21: Metāla elementu attīrīšana, krāsošana | D21: m2 | E21: 19
A22: 5 | C22: Uzjumteņa skārda lāseņa demontāža, jauna uzlikšana | D22: tek.m. | E22: =1.4+1.4+2.9 -> 5.7
A23: 6 | C23: Lietus ūdens tekņu demontāža, jauna uzlikšana | D23: tek.m. | E23: =18.3+18.3 -> 36.6
A24: 7 | C24: Lietus ūdens noteku demontāža, jauna uzlikšana | D24: tek.m. | E24: =4.1+4.1 -> 8.2
A25: Gājēju tilta novietošana
A26: 9 | C26: Gājēju tilta "Solo Bridges" transportēšana uz objektu | D26: gab. | E26: 1
A27: 10 | C27: Gājēju tilta "Solo Bridges" novietošana | D27: gab. | E27: 1
A28: 11 | C28: Gājēju tilts "Solo Bridges" 9,9m x 2m (platums kopā ar margām - 2,14m). Konstrukcija: BRG-CON-Arched-1200-TH. Cinkotas tērauda nesošo profilu konstrukcijas tilts ar nelielu arku. Maksimālā lietderīgā slodze - 5kN/m², punktveida slodze - 7kN uz 10x10cm laukuma. Tilta galos horizontālas tērauda plāksnes ar caurumiem priekš enkurojumiem (vienā galā iegarenas formas). Ieteicamais balstīšanas veids - ar ķīmiskajiem enkuriem stiprināt uz stiegrbetona pamatiem. Segums: BRG-Solideck70 ar Ridge-Alter. Cumaru cietkoksnes latu (70x70mm) klājs, katrā otrajā latā iestrādāta pretslīdes josla. Margas: BRG-HR-D5-ST. Koka latu reliņi, nerūsējošā tērauda apaļcaurules ∅48mm lenteris | D28: kompl. | E28: 1
A29: Teritorijas elementi Līvzemes ielā 1
A30: 13 | C30: Žoga demontāža | D30: tek.m. | E30: 41.2
A31: 14 | C31: Žoga uzstādīšana | D31: tek.m. | E31: 43.1
A32: 15 | C32: Žoga betona pamati | D32: gab. | E32: 19
A33: 16 | C33: Žoga metāla stabi, kvadrātcaurule 100x100mm, h=2,5m, ar augšas nosegelementu, ar metinātu armatūru pie pamatnes | D33: gab. | E33: 16
A34: 17 | C34: Žoga metāla stabi, kvadrātcaurule 100x100mm, h=2,5m, ar augšas nosegelementu, ar metinātu armatūru pie pamatnes, ar eņģu vietām | D34: gab. | E34: 3
A35: 18 | C35: Žoga metāla vairogi 2500x1500mm, cinkoti, apstrādāti ar RILAK pretkorozijas krāsu, ar to stiprināšanai nepieciešamajām detaļām (marka projektā - V25), piemēram SIA Jumburgs "Metinātais metāla vairogs Nr.1" | D35: gab. | E35: 14
A36: 19 | C36: Žoga metāla vairogi 900x1500mm, cinkoti, apstrādāti ar RILAK pretkorozijas krāsu, ar to stiprināšanai nepieciešamajām detaļām (marka projektā - V09), piemēram saīsināts SIA Jumburgs "Metinātais metāla vairogs Nr.1" | D36: gab. | E36: 1
A37: 20 | C37: Žoga metāla vairogi 1200x1500mm, cinkoti, apstrādāti ar RILAK pretkorozijas krāsu, ar to stiprināšanai nepieciešamajām detaļām (marka projektā - V12), piemēram saīsināts SIA Jumburgs "Metinātais metāla vairogs Nr.1" | D37: gab. | E37: 1
A38: 21 | C38: Žoga divviru vārti autotransportam, metāla, cinkoti un krāsoti, stiprinās uz vārtu stabos iestrādātajām eņģu vietām, ar iebūvētu slēdzeni, komplektācijā iekļaujama visa montāžai nepieciešamā furnitūra, kopējais platums starp stabiem - 3,15m, augstums - 1,5m (marka projektā - VA315), vizuālais risinājums analogs saīsinātam SIA Jumburgs "Metinātais metāla vairogs Nr.1" | D38: gab. | E38: 1
A39: 22 | C39: Žoga vienviru gājēju vārti, metāla, cinkoti un krāsoti, stiprinās uz vārtu stabos iestrādātajām eņģu vietām, ar iebūvētu slēdzeni, komplektācijā iekļaujama visa montāžai nepieciešamā furnitūra, kopējais platums starp stabiem - 1,05m, augstums - 1,5m (marka projektā - VG105), vizuālais risinājums analogs saīsinātam SIA Jumburgs "Metinātais metāla vairogs Nr.1" | D39: gab. | E39: 1
A40: Teritorijas elementi Līvzemes ielā 2
A41: 24 | C41: Žoga uzstādīšana | D41: tek.m. | E41: 22.6
A42: 25 | C42: Žoga betona pamati | D42: gab. | E42: 11
A43: 26 | C43: Žoga metāla stabi, kvadrātcaurule 100x100mm, h=2,5m, ar augšas nosegelementu, ar metinātu armatūru pie pamatnes | D43: gab. | E43: 9
A44: 27 | C44: Žoga metāla stabi, kvadrātcaurule 100x100mm, h=2,5m, ar augšas nosegelementu, ar metinātu armatūru pie pamatnes, ar eņģu vietām | D44: gab. | E44: 2
...

Sheet 1,2
A2: Lokālā tāme Nr.1,2
A3: BK - Būvkonstrukcijas
A4: (būvdarbu veids vai konstruktīvā elementa nosaukums)
A6: Objekta nosaukums: | C6: =KT!B9 -> Salaspils pilsētas centrālās daļas satiksmes infrastruktūras pārbūve un pilsētas galvenā laukuma izveide 1.kārta
A7: Būves nosaukums:
A8: Objekta adrese: | C8: =KT!B12 -> Līvzemes iela, Vītolu iela, Mazā vītolu iela, Rīgas iela, Salaspils
A9: Pasūtījuma nr.:
A11: Tāme sastādīta 2024. gada tirgus cenās, pamatojoties uz būvprojekta rasējumiem | M11: Tāmes izmaksas: | O11: =P56 -> 0 | P11: EUR
N12: Tāme sastādīta | O12: =KT!C28 -> 2024. gada ____________
A14: Nr.p.k. | B14: Kods | C14: Būvdarbu nosaukums | D14: Mērvienība | E14: Daudzums | F14: Vienības izmaksas | L14: Kopā uz visu apjomu
F15: Laika norma (c/h) | G15: Darba samaksas likme (euro/h) | H15: Darba alga | I15: Būvizstrādājumi | J15: Mehānismi | K15: KOPĀ | L15: Darbietilpība (c/h) | M15: Darba alga | N15: Būvizstrādājumi | O15: Mehānismi | P15: Summa
A16: Tērauda apjomi, plātnes
A17: 20 | C17: CP P-3 12x50 | D17: t | E17: 0.018
A18: 21 | C18: CP P-4 20x20 | D18: t | E18: 0.011
A19: 22 | C19: CP P-6 120x300 | D19: t | E19: 0.054
A20: 23 | C20: CP P-7 120x500 | D20: t | E20: 0.09
A21: 24 | C21: CP P-8 100x580 | D21: t | E21: 0.568
A22: 25 | C22: CP P-9 120x280 | D22: t | E22: 0.051
A23: Tērauda apjomi, sijas, kolonnas
A24: 27 | C24: TP L 150x15 S355 | D24: t | E24: 0.15
A25: 28 | C25: CP SHS 50x5 | D25: t | E25: 0.36
A26: Caurules elektrības ievadam
A27: 30 | C27: Caurule elektrības ievadam Ø20 L=1 | D27: gab. | E27: 4
A28: Bultas
A29: 32 | C29: CP Ø20 8.8 L=125 | D29: gab. | E29: 208
A30: Kokmateriāla apjomi, horizontāli elementi
A31: 34 | C31: GL24 120x50x5600 | D31: m3 | E31: 0.03
A32: 35 | C32: GL24 120x70x8400 | D32: m3 | E32: 0.07
A33: 36 | C33: GL24 120x120x6700 | D33: m3 | E33: 0.1
A34: Kokmateriāla apjomi, vertikālie elementi
A35: 38 | C35: GL24 50x120 | D35: m3 | E35: 0.37
A36: 39 | C36: GL24 70x120 | D36: m3 | E36: 0.33
A37: 40 | C37: GL24 120x120 | D37: m3 | E37: 0.72
A38: Stiegru specifikācija
A39: 42 | C39: CP B500B 8mm | D39: t | E39: 0.023
A40: 43 | C40: CP B500B 10mm | D40: t | E40: 0.102
A41: 44 | C41: CP B500B 12mm | D41: t | E41: 0.103
A42: 45 | C42: CP B500B 20mm | D42: t | E42: 0.278
A43: 46 | C43: TP B500B 10mm | D43: t | E43: 0.127
A44: 47 | C44: TP B500B 12mm | D44: t | E44: 0.354
...

Sheet 1,3
A2: Lokālā tāme Nr.1,3
A3: ELT-A - Apgaismojums, abonenta tīkli
A4: (būvdarbu veids vai konstruktīvā elementa nosaukums)
A6: Objekta nosaukums: | C6: =KT!B9 -> Salaspils pilsētas centrālās daļas satiksmes infrastruktūras pārbūve un pilsētas galvenā laukuma izveide 1.kārta
A7: Būves nosaukums:
A8: Objekta adrese: | C8: =KT!B12 -> Līvzemes iela, Vītolu iela, Mazā vītolu iela, Rīgas iela, Salaspils
A9: Pasūtījuma nr.:
A11: Tāme sastādīta 2024. gada tirgus cenās, pamatojoties uz būvprojekta rasējumiem | M11: Tāmes izmaksas: | O11: =P184 -> 0 | P11: EUR
N12: Tāme sastādīta | O12: =KT!C28 -> 2024. gada ____________
A14: Nr.p.k. | B14: Kods | C14: Būvdarbu nosaukums | D14: Mērvienība | E14: Daudzums | F14: Vienības izmaksas | L14: Kopā uz visu apjomu
F15: Laika norma (c/h) | G15: Darba samaksas likme (euro/h) | H15: Darba alga | I15: Būvizstrādājumi | J15: Mehānismi | K15: KOPĀ | L15: Darbietilpība (c/h) | M15: Darba alga | N15: Būvizstrādājumi | O15: Mehānismi | P15: Summa
A16: Materiāli - apgaismojums
A17: 1 | C17: Kabelis 1kV, četrdzīslu AXPK-4x16 (ar 5% rezervi) | D17: m | E17: 1117 | F17: 0 | G17: 0 | H17: =ROUND(F17*G17,2) -> 0 | J17: 0 | K17: =SUM(H17:J17) -> 0 | L17: =ROUND(E17*F17,2) -> 0 | M17: =ROUND(E17*H17,2) -> 0 | N17: =ROUND(E17*I17,2) -> 0 | O17: =ROUND(E17*J17,2) -> 0 | P17: =SUM(M17:O17) -> 0
A18: 2 | C18: Kabelis 1kV, trīsdzīslu NYY-J-3x1,5 (apgaismojumam balstā) | D18: m | E18: 356 | F18: 0 | G18: 0 | H18: =ROUND(F18*G18,2) -> 0 | J18: 0 | K18: =SUM(H18:J18) -> 0 | L18: =ROUND(E18*F18,2) -> 0 | M18: =ROUND(E18*H18,2) -> 0 | N18: =ROUND(E18*I18,2) -> 0 | O18: =ROUND(E18*J18,2) -> 0 | P18: =SUM(M18:O18) -> 0
A19: 3 | C19: Kabelis 1kV, trīsdzīslu NYY-J-3x1,5 (vārtu motīvā) | D19: m | E19: 110 | F19: 0 | G19: 0 | H19: =ROUND(F19*G19,2) -> 0 | J19: 0 | K19: =SUM(H19:J19) -> 0 | L19: =ROUND(E19*F19,2) -> 0 | M19: =ROUND(E19*H19,2) -> 0 | N19: =ROUND(E19*I19,2) -> 0 | O19: =ROUND(E19*J19,2) -> 0 | P19: =SUM(M19:O19) -> 0
A20: 4 | C20: Kabelis 1kV, trīsdzīslu NYY-J-3x2,5 (stends) | D20: m | E20: 20 | F20: 0 | G20: 0 | H20: =ROUND(F20*G20,2) -> 0 | J20: 0 | K20: =SUM(H20:J20) -> 0 | L20: =ROUND(E20*F20,2) -> 0 | M20: =ROUND(E20*H20,2) -> 0 | N20: =ROUND(E20*I20,2) -> 0 | O20: =ROUND(E20*J20,2) -> 0 | P20: =SUM(M20:O20) -> 0
A21: 5 | C21: Kabeļa gala apdare četrdzīslu plastmasas kabelim EPKT-0015 (4-35mm2) | D21: kompl. | E21: 90 | F21: 0 | G21: 0 | H21: =ROUND(F21*G21,2) -> 0 | J21: 0 | K21: =SUM(H21:J21) -> 0 | L21: =ROUND(E21*F21,2) -> 0 | M21: =ROUND(E21*H21,2) -> 0 | N21: =ROUND(E21*I21,2) -> 0 | O21: =ROUND(E21*J21,2) -> 0 | P21: =SUM(M21:O21) -> 0
A22: 6 | C22: Kabeļa gala apdare trīsdzīslu plastmasas kabelim SEH03 (1.5-16mm2) | D22: kompl. | E22: 14 | F22: 0 | G22: 0 | H22: =ROUND(F22*G22,2) -> 0 | J22: 0 | K22: =SUM(H22:J22) -> 0 | L22: =ROUND(E22*F22,2) -> 0 | M22: =ROUND(E22*H22,2) -> 0 | N22: =ROUND(E22*I22,2) -> 0 | O22: =ROUND(E22*J22,2) -> 0 | P22: =SUM(M22:O22) -> 0
A23: 7 | C23: Nozarošanas spaiļu komplekts SV-15 tipa | D23: kompl. | E23: 68 | F23: 0 | G23: 0 | H23: =ROUND(F23*G23,2) -> 0 | J23: 0 | K23: =SUM(H23:J23) -> 0 | L23: =ROUND(E23*F23,2) -> 0 | M23: =ROUND(E23*H23,2) -> 0 | N23: =ROUND(E23*I23,2) -> 0 | O23: =ROUND(E23*J23,2) -> 0 | P23: =SUM(M23:O23) -> 0
A24: 8 | C24: Automātslēdzis, C6A, 230V | D24: gab. | E24: 68 | F24: 0 | G24: 0 | H24: =ROUND(F24*G24,2) -> 0 | J24: 0 | K24: =SUM(H24:J24) -> 0 | L24: =ROUND(E24*F24,2) -> 0 | M24: =ROUND(E24*H24,2) -> 0 | N24: =ROUND(E24*I24,2) -> 0 | O24: =ROUND(E24*J24,2) -> 0 | P24: =SUM(M24:O24) -> 0
A25: 9 | C25: Automātslēdzis, C10A, 230V | D25: gab. | E25: 14 | F25: 0 | G25: 0 | H25: =ROUND(F25*G25,2) -> 0 | J25: 0 | K25: =SUM(H25:J25) -> 0 | L25: =ROUND(E25*F25,2) -> 0 | M25: =ROUND(E25*H25,2) -> 0 | N25: =ROUND(E25*I25,2) -> 0 | O25: =ROUND(E25*J25,2) -> 0 | P25: =SUM(M25:O25) -> 0
A26: 10 | C26: Automātslēdža stiprināšanas kronšteins - sliede | D26: gab. | E26: 68 | F26: 0 | G26: 0 | H26: =ROUND(F26*G26,2) -> 0 | J26: 0 | K26: =SUM(H26:J26) -> 0 | L26: =ROUND(E26*F26,2) -> 0 | M26: =ROUND(E26*H26,2) -> 0 | N26: =ROUND(E26*I26,2) -> 0 | O26: =ROUND(E26*J26,2) -> 0 | P26: =SUM(M26:O26) -> 0
A27: 11 | C27: Rozete stiprināšanai uz staba ~230V 10A, IP67, komplektā ar stiprinājumiem | D27: kompl. | E27: 14 | F27: 0 | G27: 0 | H27: =ROUND(F27*G27,2) -> 0 | J27: 0 | K27: =SUM(H27:J27) -> 0 | L27: =ROUND(E27*F27,2) -> 0 | M27: =ROUND(E27*H27,2) -> 0 | N27: =ROUND(E27*I27,2) -> 0 | O27: =ROUND(E27*J27,2) -> 0 | P27: =SUM(M27:O27) -> 0
A28: 12 | C28: Gumijas blīve 4-10mm koniskam stabam | D28: gab. | E28: 43 | F28: 0 | G28: 0 | H28: =ROUND(F28*G28,2) -> 0 | J28: 0 | K28: =SUM(H28:J28) -> 0 | L28: =ROUND(E28*F28,2) -> 0 | M28: =ROUND(E28*H28,2) -> 0 | N28: =ROUND(E28*I28,2) -> 0 | O28: =ROUND(E28*J28,2) -> 0 | P28: =SUM(M28:O28) -> 0
... A89: 73 | C89: Montāžas palīgmateriāli | D89: kompl. | E89: 1 | F89: 0 | G89: 0 | H89: =ROUND(F89*G89,2) -> 0 | J89: 0 | K89: =SUM(H89:J89) -> 0 | L89: =ROUND(E89*F89,2) -> 0 | M89: =ROUND(E89*H89,2) -> 0 | N89: =ROUND(E89*I89,2) -> 0 | O89: =ROUND(E89*J89,2) -> 0 | P89: =SUM(M89:O89) -> 0
A90: Darbi - apgaismojums
A91: 75 | C91: Bedres rakšana un aizbēršana apgaismojuma sadalei | D91: gab. | E91: 4
A92: 76 | C92: Tranšejas rakšana un aizbēršana ar blietēšanu 1-2 kabeļiem (1-2 caurulēm) | D92: m | E92: 1155
A93: 77 | C93: Tranšejas rakšana un aizbēršana ar blietēšanu 1-2 kabeļiem (demont. kabeļiem) | D93: m | E93: 105
A94: 78 | C94: Plastmasas caurules guldīšana gatavā tranšejā | D94: m | E94: 1155
A95: 79 | C95: Kabeļa brīdinājuma lentas ieklāšana | D95: m | E95: 1155
A96: 80 | C96: ZS kabeļa līdz 35 mm2 ievēršana proj. caurulē | D96: m | E96: 1155
A97: 81 | C97: ZS sausā kabeļa līdz 35 mm2 gala apdare | D97: gab. | E97: 104
A98: 82 | C98: Kabelis pa celtniecības konstrukcijām (stabā) | D98: m | E98: 356
A99: 83 | C99: Bedres rakšana apgaismes balstam | D99: gab. | E99: 43
A100: 84 | C100: Apgaismošanas balsta montāža | D100: gab. | E100: 43
A101: 85 | C101: Apgaismošanas balsta betona pamata montāža | D101: gab. | E101: 43
A102: 86 | C102: Rozetes montāža uz staba | D102: kompl. | E102: 14
... A118: 102 | C118: Būvgružu utilizācija | D118: m3 | E118: 16.71
A119: Materiāli - abonenta tīkli
...

Sheet 1,4
A2: Lokālā tāme Nr.1,4
A3: EST - Elektrisko sakaru sistēmas (ārējās)
A4: (būvdarbu veids vai konstruktīvā elementa nosaukums)
A6: Objekta nosaukums: | C6: =KT!B9 -> Salaspils pilsētas centrālās daļas satiksmes infrastruktūras pārbūve un pilsētas galvenā laukuma izveide 1.kārta
A7: Būves nosaukums:
A8: Objekta adrese: | C8: =KT!B12 -> Līvzemes iela, Vītolu iela, Mazā vītolu iela, Rīgas iela, Salaspils
A9: Pasūtījuma nr.:
A11: Tāme sastādīta 2024. gada tirgus cenās, pamatojoties uz būvprojekta rasējumiem | M11: Tāmes izmaksas: | O11: =P151 -> 0 | P11: EUR
N12: Tāme sastādīta | O12: =KT!C28 -> 2024. gada ____________
A14: Nr.p.k. | B14: Kods | C14: Būvdarbu nosaukums | D14: Mērvienība | E14: Daudzums | F14: Vienības izmaksas | L14: Kopā uz visu apjomu
F15: Laika norma (c/h) | G15: Darba samaksas likme (euro/h) | H15: Darba alga | I15: Būvizstrādājumi | J15: Mehānismi | K15: KOPĀ | L15: Darbietilpība (c/h) | M15: Darba alga | N15: Būvizstrādājumi | O15: Mehānismi | P15: Summa
A16: 1.kārta Pašvaldība
A17: Demontāžas darbi
A18: 1 | C18: SIA "TET" kabeļu demontāža gruntī | D18: m | E18: 200 | K18: =SUM(H18:J18) -> 0 | L18: =ROUND(E18*F18,2) -> 0 | M18: =ROUND(E18*H18,2) -> 0 | N18: =ROUND(E18*I18,2) -> 0 | O18: =ROUND(E18*J18,2) -> 0 | P18: =SUM(M18:O18) -> 0
A19: 2 | C19: SIA "TET" kabeļu demontāža skapī | D19: pāris | E19: 22 | K19: =SUM(H19:J19) -> 0 | L19: =ROUND(E19*F19,2) -> 0 | M19: =ROUND(E19*H19,2) -> 0 | N19: =ROUND(E19*I19,2) -> 0 | O19: =ROUND(E19*J19,2) -> 0 | P19: =SUM(M19:O19) -> 0
A20: 3 | C20: SIA "TET" kabeļu kanālu demontāža | D20: m | E20: 185 | K20: =SUM(H20:J20) -> 0 | L20: =ROUND(E20*F20,2) -> 0 | M20: =ROUND(E20*H20,2) -> 0 | N20: =ROUND(E20*I20,2) -> 0 | O20: =ROUND(E20*J20,2) -> 0 | P20: =SUM(M20:O20) -> 0
A21: 4 | C21: Esoša kabeļa izvilkšana no kanāliem ( vara kabelis) | D21: m | E21: 47 | K21: =SUM(H21:J21) -> 0 | L21: =ROUND(E21*F21,2) -> 0 | M21: =ROUND(E21*H21,2) -> 0 | N21: =ROUND(E21*I21,2) -> 0 | O21: =ROUND(E21*J21,2) -> 0 | P21: =SUM(M21:O21) -> 0
A22: 5 | C22: Esoša kabeļa izvilkšana no kanāliem ( optiskais kabelis) | D22: m | E22: 850 | K22: =SUM(H22:J22) -> 0 | L22: =ROUND(E22*F22,2) -> 0 | M22: =ROUND(E22*H22,2) -> 0 | N22: =ROUND(E22*I22,2) -> 0 | O22: =ROUND(E22*J22,2) -> 0 | P22: =SUM(M22:O22) -> 0
A23: 6 | C23: esošas uzmavas demontāža līdz 20 x2 | D23: gb | E23: 1 | K23: =SUM(H23:J23) -> 0 | L23: =ROUND(E23*F23,2) -> 0 | M23: =ROUND(E23*H23,2) -> 0 | N23: =ROUND(E23*I23,2) -> 0 | O23: =ROUND(E23*J23,2) -> 0 | P23: =SUM(M23:O23) -> 0
A24: Kabeļu kanalizācijas izbūve
A25: 8 | C25: Tranšejas rakšana un aizbēršana, platums 0.5m (daļēji ar rokām) | D25: m | E25: 288 | K25: =SUM(H25:J25) -> 0 | L25: =ROUND(E25*F25,2) -> 0 | M25: =ROUND(E25*H25,2) -> 0 | N25: =ROUND(E25*I25,2) -> 0 | O25: =ROUND(E25*J25,2) -> 0 | P25: =SUM(M25:O25) -> 0
A26: 9 | C26: Kabeļu kanalizācijas cauruļu ieguldīšana tranšejā | D26: m | E26: 537 | K26: =SUM(H26:J26) -> 0 | L26: =ROUND(E26*F26,2) -> 0 | M26: =ROUND(E26*H26,2) -> 0 | N26: =ROUND(E26*I26,2) -> 0 | O26: =ROUND(E26*J26,2) -> 0 | P26: =SUM(M26:O26) -> 0
A27: 10 | C27: Esošo komunikāciju bridinājumu lentas atjaunošana ( Baltcom tīkli) | D27: m | E27: 19 | K27: =SUM(H27:J27) -> 0 | L27: =ROUND(E27*F27,2) -> 0 | M27: =ROUND(E27*H27,2) -> 0 | N27: =ROUND(E27*I27,2) -> 0 | O27: =ROUND(E27*J27,2) -> 0 | P27: =SUM(M27:O27) -> 0
A28: 11 | C28: Esošo komunikāciju aizsardzība ar dalitām aizargcaurulēm (TET tīkli) | D28: m | E28: 20 | K28: =SUM(H28:J28) -> 0 | L28: =ROUND(E28*F28,2) -> 0 | M28: =ROUND(E28*H28,2) -> 0 | N28: =ROUND(E28*I28,2) -> 0 | O28: =ROUND(E28*J28,2) -> 0 | P28: =SUM(M28:O28) -> 0
A29: 12 | C29: Kabeļu akas PEH (800x650) uzstādīšana (TET tīkli) | D29: gb | E29: 1 | K29: =SUM(H29:J29) -> 0 | L29: =ROUND(E29*F29,2) -> 0 | M29: =ROUND(E29*H29,2) -> 0 | N29: =ROUND(E29*I29,2) -> 0 | O29: =ROUND(E29*J29,2) -> 0 | P29: =SUM(M29:O29) -> 0
A30: 13 | C30: Kabeļu akas PEH (500x600) uzstādīšana (TET tīkli) | D30: gb | E30: 1 | K30: =SUM(H30:J30) -> 0 | L30: =ROUND(E30*F30,2) -> 0 | M30: =ROUND(E30*H30,2) -> 0 | N30: =ROUND(E30*I30,2) -> 0 | O30: =ROUND(E30*J30,2) -> 0 | P30: =SUM(M30:O30) -> 0
A31: 14 | C31: Kabeļu akas PEH (800x650) uzstādīšana (abon. tīkli) | D31: gb | E31: 3 | K31: =SUM(H31:J31) -> 0 | L31: =ROUND(E31*F31,2) -> 0 | M31: =ROUND(E31*H31,2) -> 0 | N31: =ROUND(E31*I31,2) -> 0 | O31: =ROUND(E31*J31,2) -> 0 | P31: =SUM(M31:O31) -> 0
A32: 15 | C32: Kabeļu kanalizācijas ievada uz apgaismojuma balstu ierīkošana | D32: gb | E32: 3 | K32: =SUM(H32:J32) -> 0 | L32: =ROUND(E32*F32,2) -> 0 | M32: =ROUND(E32*H32,2) -> 0 | N32: =ROUND(E32*I32,2) -> 0 | O32: =ROUND(E32*J32,2) -> 0 | P32: =SUM(M32:O32) -> 0
A33: 16 | C33: Buksiera ievilkšana | D33: m | E33: 547 | K33: =SUM(H33:J33) -> 0 | L33: =ROUND(E33*F33,2) -> 0 | M33: =ROUND(E33*H33,2) -> 0 | N33: =ROUND(E33*I33,2) -> 0 | O33: =ROUND(E33*J33,2) -> 0 | P33: =SUM(M33:O33) -> 0
A34: 17 | C34: Brīdīnājuma lentas ieguldīšana | D34: m | E34: 308 | K34: =SUM(H34:J34) -> 0 | L34: =ROUND(E34*F34,2) -> 0 | M34: =ROUND(E34*H34,2) -> 0 | N34: =ROUND(E34*I34,2) -> 0 | O34: =ROUND(E34*J34,2) -> 0 | P34: =SUM(M34:O34) -> 0
A35: 18 | C35: Esošo komunikāciju atšurfēšana | D35: gb | E35: 13 | K35: =SUM(H35:J35) -> 0 | L35: =ROUND(E35*F35,2) -> 0 | M35: =ROUND(E35*H35,2) -> 0 | N35: =ROUND(E35*I35,2) -> 0 | O35: =ROUND(E35*J35,2) -> 0 | P35: =SUM(M35:O35) -> 0
A36: 19 | C36: Darbu veikšanas projekta izstrāde | D36: gb | E36: 1 | K36: =SUM(H36:J36) -> 0 | L36: =ROUND(E36*F36,2) -> 0 | M36: =ROUND(E36*H36,2) -> 0 | N36: =ROUND(E36*I36,2) -> 0 | O36: =ROUND(E36*J36,2) -> 0 | P36: =SUM(M36:O36) -> 0
... A43: 26 | C43: Transporta izdevumi | D43: gb | E43: 1 | K43: =SUM(H43:J43) -> 0 | L43: =ROUND(E43*F43,2) -> 0 | M43: =ROUND(E43*H43,2) -> 0 | N43: =ROUND(E43*I43,2) -> 0 | O43: =ROUND(E43*J43,2) -> 0 | P43: =SUM(M43:O43) -> 0
A44: Vara kabeļi
A45: 28 | C45: Vara kabeļu ieguldīšana kab. kan., tilpums virs 100x2 | D45: m | E45: 53 | K45: =SUM(H45:J45) -> 0 | L45: =ROUND(E45*F45,2) -> 0 | M45: =ROUND(E45*H45,2) -> 0 | N45: =ROUND(E45*I45,2) -> 0 | O45: =ROUND(E45*J45,2) -> 0 | P45: =SUM(M45:O45) -> 0
A46: 29 | C46: Vara kabeļu ieguldīšana kab. kan., tilpums līdz 100x2 (ieskaitot) | D46: m | E46: 230 | K46: =SUM(H46:J46) -> 0 | L46: =ROUND(E46*F46,2) -> 0 | M46: =ROUND(E46*H46,2) -> 0 | N46: =ROUND(E46*I46,2) -> 0 | O46: =ROUND(E46*J46,2) -> 0 | P46: =SUM(M46:O46) -> 0
A47: 30 | C47: Sagatavošanas darbi kabeļa ievilkšanai brīvā, jaunizbūvētā kabeļu kanalizācijā | D47: m | E47: 288 | K47: =SUM(H47:J47) -> 0 | L47: =ROUND(E47*F47,2) -> 0 | M47: =ROUND(E47*H47,2) -> 0 | N47: =ROUND(E47*I47,2) -> 0 | O47: =ROUND(E47*J47,2) -> 0 | P47: =SUM(M47:O47) -> 0
A48: 31 | C48: Kabeļu montāža sadales skapjos, ieskaitot moduļu uzstādīšanu | D48: 100 pāri | E48: 0.4 | K48: =SUM(H48:J48) -> 0 | L48: =ROUND(E48*F48,2) -> 0 | M48: =ROUND(E48*H48,2) -> 0 | N48: =ROUND(E48*I48,2) -> 0 | O48: =ROUND(E48*J48,2) -> 0 | P48: =SUM(M48:O48) -> 0
A49: 32 | C49: Maģistrālo kabeļu pāru montāža paralēlā uzmavā, kabeļa tilpums 400x2, izmantojot 10x2 savienošanas moduli, ieskaitot kabeļu atzarojumus | D49: uzmava | E49: 2 | K49: =SUM(H49:J49) -> 0 | L49: =ROUND(E49*F49,2) -> 0 | M49: =ROUND(E49*H49,2) -> 0 | N49: =ROUND(E49*I49,2) -> 0 | O49: =ROUND(E49*J49,2) -> 0 | P49: =SUM(M49:O49) -> 0
A50: 33 | C50: Maģistrālo kabeļu uzmavas montāža, kabeļiem ar kopējo tilpumu virs 100x2, kabeļu skaits līdz 3 kabeļiem | D50: uzmava | E50: 2 | K50: =SUM(H50:J50) -> 0 | L50: =ROUND(E50*F50,2) -> 0 | M50: =ROUND(E50*H50,2) -> 0 | N50: =ROUND(E50*I50,2) -> 0 | O50: =ROUND(E50*J50,2) -> 0 | P50: =SUM(M50:O50) -> 0
...

Sheet 1,5
A2: Lokālā tāme Nr.1,5
A3: ESS-VN - Videonovērošana
A4: (būvdarbu veids vai konstruktīvā elementa nosaukums)
A6: Objekta nosaukums: | C6: =KT!B9 -> Salaspils pilsētas centrālās daļas satiksmes infrastruktūras pārbūve un pilsētas galvenā laukuma izveide 1.kārta
A7: Būves nosaukums:
A8: Objekta adrese: | C8: =KT!B12 -> Līvzemes iela, Vītolu iela, Mazā vītolu iela, Rīgas iela, Salaspils
A9: Pasūtījuma nr.:
A11: Tāme sastādīta 2024. gada tirgus cenās, pamatojoties uz būvprojekta rasējumiem | M11: Tāmes izmaksas: | O11: =P102 -> 0 | P11: EUR
N12: Tāme sastādīta | O12: =KT!C28 -> 2024. gada ____________
A14: Nr.p.k. | B14: Kods | C14: Būvdarbu nosaukums | D14: Mērvienība | E14: Daudzums | F14: Vienības izmaksas | L14: Kopā uz visu apjomu
F15: Laika norma (c/h) | G15: Darba samaksas likme (euro/h) | H15: Darba alga | I15: Būvizstrādājumi | J15: Mehānismi | K15: KOPĀ | L15: Darbietilpība (c/h) | M15: Darba alga | N15: Būvizstrādājumi | O15: Mehānismi | P15: Summa
A16: Pašvaldība
A17: Darbi
A18: 1 | C18: Sadales kastes montāža uz staba (pie VK-2, VK-5, VK-6) | D18: gab. | E18: 3 | K18: =SUM(H18:J18) -> 0 | L18: =ROUND(E18*F18,2) -> 0 | M18: =ROUND(E18*H18,2) -> 0 | N18: =ROUND(E18*I18,2) -> 0 | O18: =ROUND(E18*J18,2) -> 0 | P18: =SUM(M18:O18) -> 0
A19: 2 | C19: Kabeļu komutācija pie videokāmaras | D19: gab. | E19: 3 | K19: =SUM(H19:J19) -> 0 | L19: =ROUND(E19*F19,2) -> 0 | M19: =ROUND(E19*H19,2) -> 0 | N19: =ROUND(E19*I19,2) -> 0 | O19: =ROUND(E19*J19,2) -> 0 | P19: =SUM(M19:O19) -> 0
A20: 3 | C20: Optiskās šķiedras metināšana/savienojums | D20: gab. | E20: 4 | K20: =SUM(H20:J20) -> 0 | L20: =ROUND(E20*F20,2) -> 0 | M20: =ROUND(E20*H20,2) -> 0 | N20: =ROUND(E20*I20,2) -> 0 | O20: =ROUND(E20*J20,2) -> 0 | P20: =SUM(M20:O20) -> 0
A21: 4 | C21: Optisko šķiedru merījumi (pasportizācija un reflektogramma 1310, 1550 nm) | D21: gab. | E21: 4 | K21: =SUM(H21:J21) -> 0 | L21: =ROUND(E21*F21,2) -> 0 | M21: =ROUND(E21*H21,2) -> 0 | N21: =ROUND(E21*I21,2) -> 0 | O21: =ROUND(E21*J21,2) -> 0 | P21: =SUM(M21:O21) -> 0
A22: 5 | C22: Videokameru uzstadīšana un pieslēgšana ( kopā ar montāžs kārbu un iekārtām) | D22: kompl. | E22: 3 | K22: =SUM(H22:J22) -> 0 | L22: =ROUND(E22*F22,2) -> 0 | M22: =ROUND(E22*H22,2) -> 0 | N22: =ROUND(E22*I22,2) -> 0 | O22: =ROUND(E22*J22,2) -> 0 | P22: =SUM(M22:O22) -> 0
A23: 6 | C23: Mobilā interneta iekārtas uzstādīšana un pieslēgšana | D23: gab. | E23: 2 | K23: =SUM(H23:J23) -> 0 | L23: =ROUND(E23*F23,2) -> 0 | M23: =ROUND(E23*H23,2) -> 0 | N23: =ROUND(E23*I23,2) -> 0 | O23: =ROUND(E23*J23,2) -> 0 | P23: =SUM(M23:O23) -> 0
A24: 7 | C24: Videokameru uz staba zemējuma montāža (ar materiāliem) | D24: gab. | E24: 3 | K24: =SUM(H24:J24) -> 0 | L24: =ROUND(E24*F24,2) -> 0 | M24: =ROUND(E24*H24,2) -> 0 | N24: =ROUND(E24*I24,2) -> 0 | O24: =ROUND(E24*J24,2) -> 0 | P24: =SUM(M24:O24) -> 0
A25: 8 | C25: Zemējuma vada ieguldīšana | D25: m | E25: 60 | K25: =SUM(H25:J25) -> 0 | L25: =ROUND(E25*F25,2) -> 0 | M25: =ROUND(E25*H25,2) -> 0 | N25: =ROUND(E25*I25,2) -> 0 | O25: =ROUND(E25*J25,2) -> 0 | P25: =SUM(M25:O25) -> 0
A26: 9 | C26: Zemējuma vads pie staba | D26: m | E26: 15 | K26: =SUM(H26:J26) -> 0 | L26: =ROUND(E26*F26,2) -> 0 | M26: =ROUND(E26*H26,2) -> 0 | N26: =ROUND(E26*I26,2) -> 0 | O26: =ROUND(E26*J26,2) -> 0 | P26: =SUM(M26:O26) -> 0
A27: 10 | C27: Tīkla iekārtu konfigurācija | D27: obj. | E27: 1 | K27: =SUM(H27:J27) -> 0 | L27: =ROUND(E27*F27,2) -> 0 | M27: =ROUND(E27*H27,2) -> 0 | N27: =ROUND(E27*I27,2) -> 0 | O27: =ROUND(E27*J27,2) -> 0 | P27: =SUM(M27:O27) -> 0
A28: 11 | C28: Kabeļu ieguldīšana kabeļu kanalizācijā | D28: m | E28: 50 | K28: =SUM(H28:J28) -> 0 | L28: =ROUND(E28*F28,2) -> 0 | M28: =ROUND(E28*H28,2) -> 0 | N28: =ROUND(E28*I28,2) -> 0 | O28: =ROUND(E28*J28,2) -> 0 | P28: =SUM(M28:O28) -> 0
A29: 12 | C29: Kabeļu momontāža uz staba | D29: m | E29: 10 | K29: =SUM(H29:J29) -> 0 | L29: =ROUND(E29*F29,2) -> 0 | M29: =ROUND(E29*H29,2) -> 0 | N29: =ROUND(E29*I29,2) -> 0 | O29: =ROUND(E29*J29,2) -> 0 | P29: =SUM(M29:O29) -> 0
A30: 13 | C30: Izpilddokumentāciju sagatavošana | D30: tīkls | E30: 1 | K30: =SUM(H30:J30) -> 0 | L30: =ROUND(E30*F30,2) -> 0 | M30: =ROUND(E30*H30,2) -> 0 | N30: =ROUND(E30*I30,2) -> 0 | O30: =ROUND(E30*J30,2) -> 0 | P30: =SUM(M30:O30) -> 0
A31: Materiāli
A32: Videonovērošanas kameras
A33: 16 | C33: AXIS P3737-PLE Network Camera (panoramic 360°) | D33: gab. | E33: 2 | F33: 0 | G33: 0 | H33: =ROUND(F33*G33,2) -> 0 | J33: 0 | K33: =SUM(H33:J33) -> 0 | L33: =ROUND(E33*F33,2) -> 0 | M33: =ROUND(E33*H33,2) -> 0 | N33: =ROUND(E33*I33,2) -> 0 | O33: =ROUND(E33*J33,2) -> 0 | P33: =SUM(M33:O33) -> 0
A34: 17 | C34: AXIS P3827-PVE Panoramic Camera (panoramic 180°) | D34: gab. | E34: 1 | F34: 0 | G34: 0 | H34: =ROUND(F34*G34,2) -> 0 | J34: 0 | K34: =SUM(H34:J34) -> 0 | L34: =ROUND(E34*F34,2) -> 0 | M34: =ROUND(E34*H34,2) -> 0 | N34: =ROUND(E34*I34,2) -> 0 | O34: =ROUND(E34*J34,2) -> 0 | P34: =SUM(M34:O34) -> 0
A35: 18 | C35: AXIS TQ3802-E Cover Weathershield | D35: gab. | E35: 1 | F35: 0 | G35: 0 | H35: =ROUND(F35*G35,2) -> 0 | J35: 0 | K35: =SUM(H35:J35) -> 0 | L35: =ROUND(E35*F35,2) -> 0 | M35: =ROUND(E35*H35,2) -> 0 | N35: =ROUND(E35*I35,2) -> 0 | O35: =ROUND(E35*J35,2) -> 0 | P35: =SUM(M35:O35) -> 0
A36: 19 | C36: AXIS T94N01D Pendant Kit | D36: gab. | E36: 2 | F36: 0 | G36: 0 | H36: =ROUND(F36*G36,2) -> 0 | J36: 0 | K36: =SUM(H36:J36) -> 0 | L36: =ROUND(E36*F36,2) -> 0 | M36: =ROUND(E36*H36,2) -> 0 | N36: =ROUND(E36*I36,2) -> 0 | O36: =ROUND(E36*J36,2) -> 0 | P36: =SUM(M36:O36) -> 0
A37: 20 | C37: AXIS T91H61 Wall Mount | D37: gab. | E37: 1 | F37: 0 | G37: 0 | H37: =ROUND(F37*G37,2) -> 0 | J37: 0 | K37: =SUM(H37:J37) -> 0 | L37: =ROUND(E37*F37,2) -> 0 | M37: =ROUND(E37*H37,2) -> 0 | N37: =ROUND(E37*I37,2) -> 0 | O37: =ROUND(E37*J37,2) -> 0 | P37: =SUM(M37:O37) -> 0
A38: 21 | C38: AXIS T91B67 Pole Mount | D38: gab. | E38: 1 | F38: 0 | G38: 0 | H38: =ROUND(F38*G38,2) -> 0 | J38: 0 | K38: =SUM(H38:J38) -> 0 | L38: =ROUND(E38*F38,2) -> 0 | M38: =ROUND(E38*H38,2) -> 0 | N38: =ROUND(E38*I38,2) -> 0 | O38: =ROUND(E38*J38,2) -> 0 | P38: =SUM(M38:O38) -> 0
A39: 22 | C39: AXIS T91B57 Pole Mount | D39: gab. | E39: 1 | F39: 0 | G39: 0 | H39: =ROUND(F39*G39,2) -> 0 | J39: 0 | K39: =SUM(H39:J39) -> 0 | L39: =ROUND(E39*F39,2) -> 0 | M39: =ROUND(E39*H39,2) -> 0 | N39: =ROUND(E39*I39,2) -> 0 | O39: =ROUND(E39*J39,2) -> 0 | P39: =SUM(M39:O39) -> 0
A40: 23 | C40: AXIS T91B47 Pole Mount | D40: gab. | E40: 1 | F40: 0 | G40: 0 | H40: =ROUND(F40*G40,2) -> 0 | J40: 0 | K40: =SUM(H40:J40) -> 0 | L40: =ROUND(E40*F40,2) -> 0 | M40: =ROUND(E40*H40,2) -> 0 | N40: =ROUND(E40*I40,2) -> 0 | O40: =ROUND(E40*J40,2) -> 0 | P40: =SUM(M40:O40) -> 0
A41: 24 | C41: AXIS Surveillance Card 64 GB | D41: gab. | E41: 3 | F41: 0 | G41: 0 | H41: =ROUND(F41*G41,2) -> 0 | J41: 0 | K41: =SUM(H41:J41) -> 0 | L41: =ROUND(E41*F41,2) -> 0 | M41: =ROUND(E41*H41,2) -> 0 | N41: =ROUND(E41*I41,2) -> 0 | O41: =ROUND(E41*J41,2) -> 0 | P41: =SUM(M41:O41) -> 0
A42: Mobilā interneta iekārta
A43: 26 | C43: (RBSXTR&R11e-LTE6) SXT LTE6 kit | D43: kompl. | E43: 2 | F43: 0 | G43: 0 | H43: =ROUND(F43*G43,2) -> 0 | J43: 0 | K43: =SUM(H43:J43) -> 0 | L43: =ROUND(E43*F43,2) -> 0 | M43: =ROUND(E43*H43,2) -> 0 | N43: =ROUND(E43*I43,2) -> 0 | O43: =ROUND(E43*J43,2) -> 0 | P43: =SUM(M43:O43) -> 0
A44: Komutācija pie videonovērošanas
...

Sheet 1,6
A2: Lokālā tāme Nr.1,6
A3: LKT - Lietus ūdens kanalizācijas tīkli
A4: (būvdarbu veids vai konstruktīvā elementa nosaukums)
A6: Objekta nosaukums: | C6: =KT!B9 -> Salaspils pilsētas centrālās daļas satiksmes infrastruktūras pārbūve un pilsētas galvenā laukuma izveide 1.kārta
A7: Būves nosaukums:
A8: Objekta adrese: | C8: =KT!B12 -> Līvzemes iela, Vītolu iela, Mazā vītolu iela, Rīgas iela, Salaspils
A9: Pasūtījuma nr.:
A11: Tāme sastādīta 2024. gada tirgus cenās, pamatojoties uz būvprojekta rasējumiem | M11: Tāmes izmaksas: | O11: =P48 -> 0 | P11: EUR
N12: Tāme sastādīta | O12: =KT!C28 -> 2024. gada ____________
A14: Nr.p.k. | B14: Kods | C14: Būvdarbu nosaukums | D14: Mērvienība | E14: Daudzums | F14: Vienības izmaksas | L14: Kopā uz visu apjomu
F15: Laika norma (c/h) | G15: Darba samaksas likme (euro/h) | H15: Darba alga | I15: Būvizstrādājumi | J15: Mehānismi | K15: KOPĀ | L15: Darbietilpība (c/h) | M15: Darba alga | N15: Būvizstrādājumi | O15: Mehānismi | P15: Summa
A17: 1 | C17: Būvbedres rakšana, ieskaitot komunikāciju šurfēšanu pirms būvdarbiem un roku darbu komunikāciju šķērsojumos, aizvedot uz būvuzņēmēja atbērtni | D17: m³ | E17: 1315.88 | K17: =SUM(H17:J17) -> 0 | L17: =ROUND(E17*F17,2) -> 0 | M17: =ROUND(E17*H17,2) -> 0 | N17: =ROUND(E17*I17,2) -> 0 | O17: =ROUND(E17*J17,2) -> 0 | P17: =SUM(M17:O17) -> 0
A18: 2 | C18: Ūdens pazemināšanas iekārtu pielietošana, sausas būvbedres nodrošināšanai | D18: m | E18: 330.9 | K18: =SUM(H18:J18) -> 0 | L18: =ROUND(E18*F18,2) -> 0 | M18: =ROUND(E18*H18,2) -> 0 | N18: =ROUND(E18*I18,2) -> 0 | O18: =ROUND(E18*J18,2) -> 0 | P18: =SUM(M18:O18) -> 0
A19: 3 | C19: Būvbedres nostiprināšana pielietojot vairogus | D19: m2 | E19: 1654.5 | K19: =SUM(H19:J19) -> 0 | L19: =ROUND(E19*F19,2) -> 0 | M19: =ROUND(E19*H19,2) -> 0 | N19: =ROUND(E19*I19,2) -> 0 | O19: =ROUND(E19*J19,2) -> 0 | P19: =SUM(M19:O19) -> 0
A20: 4 | C20: Būvbedres aizbēršana ar pievestu grunti | D20: m³ | E20: 1108.71 | K20: =SUM(H20:J20) -> 0 | L20: =ROUND(E20*F20,2) -> 0 | M20: =ROUND(E20*H20,2) -> 0 | N20: =ROUND(E20*I20,2) -> 0 | O20: =ROUND(E20*J20,2) -> 0 | P20: =SUM(M20:O20) -> 0
A21: 5 | C21: Aku un gūliju demontāža | D21: gb. | E21: 4 | K21: =SUM(H21:J21) -> 0 | L21: =ROUND(E21*F21,2) -> 0 | M21: =ROUND(E21*H21,2) -> 0 | N21: =ROUND(E21*I21,2) -> 0 | O21: =ROUND(E21*J21,2) -> 0 | P21: =SUM(M21:O21) -> 0
A22: 6 | C22: Cauruļvadu demontāža | D22: m | E22: 194 | K22: =SUM(H22:J22) -> 0 | L22: =ROUND(E22*F22,2) -> 0 | M22: =ROUND(E22*H22,2) -> 0 | N22: =ROUND(E22*I22,2) -> 0 | O22: =ROUND(E22*J22,2) -> 0 | P22: =SUM(M22:O22) -> 0
A23: 7 | C23: Smilts pamatnes ierīkošana un apbērums | D23: m³ | E23: 157.91 | K23: =SUM(H23:J23) -> 0 | L23: =ROUND(E23*F23,2) -> 0 | M23: =ROUND(E23*H23,2) -> 0 | N23: =ROUND(E23*I23,2) -> 0 | O23: =ROUND(E23*J23,2) -> 0 | P23: =SUM(M23:O23) -> 0
A24: 8 | C24: Caurteka- cauruļu arka HCPA Helcor DN1200x1800 mm montāža | D24: m | E24: 14 | K24: =SUM(H24:J24) -> 0 | L24: =ROUND(E24*F24,2) -> 0 | M24: =ROUND(E24*H24,2) -> 0 | N24: =ROUND(E24*I24,2) -> 0 | O24: =ROUND(E24*J24,2) -> 0 | P24: =SUM(M24:O24) -> 0
A25: 9 | C25: PP Caurteka DN1000 SN8 montāža | D25: m | E25: 6 | K25: =SUM(H25:J25) -> 0 | L25: =ROUND(E25*F25,2) -> 0 | M25: =ROUND(E25*H25,2) -> 0 | N25: =ROUND(E25*I25,2) -> 0 | O25: =ROUND(E25*J25,2) -> 0 | P25: =SUM(M25:O25) -> 0
A26: 10 | C26: Kanalizācijas caurules PP RIGID OD 500 izbūve | D26: m | E26: 25.4 | K26: =SUM(H26:J26) -> 0 | L26: =ROUND(E26*F26,2) -> 0 | M26: =ROUND(E26*H26,2) -> 0 | N26: =ROUND(E26*I26,2) -> 0 | O26: =ROUND(E26*J26,2) -> 0 | P26: =SUM(M26:O26) -> 0
A27: 11 | C27: Kanalizācijas caurules PP RIGID OD 315 izbūve | D27: m | E27: 127.5 | K27: =SUM(H27:J27) -> 0 | L27: =ROUND(E27*F27,2) -> 0 | M27: =ROUND(E27*H27,2) -> 0 | N27: =ROUND(E27*I27,2) -> 0 | O27: =ROUND(E27*J27,2) -> 0 | P27: =SUM(M27:O27) -> 0
A28: 12 | C28: Kanalizācijas caurules PP RIGID OD 250 izbūve | D28: m | E28: 65 | K28: =SUM(H28:J28) -> 0 | L28: =ROUND(E28*F28,2) -> 0 | M28: =ROUND(E28*H28,2) -> 0 | N28: =ROUND(E28*I28,2) -> 0 | O28: =ROUND(E28*J28,2) -> 0 | P28: =SUM(M28:O28) -> 0
... A46: 30 | C46: Dokumentāciju sagatavošana | D46: kompl. | E46: 1 | K46: =SUM(H46:J46) -> 0 | L46: =ROUND(E46*F46,2) -> 0 | M46: =ROUND(E46*H46,2) -> 0 | N46: =ROUND(E46*I46,2) -> 0 | O46: =ROUND(E46*J46,2) -> 0 | P46: =SUM(M46:O46) -> 0
A48: Tiešās izmaksas kopā, t.sk. Darba dēvēja sociālais nodoklis (23,59%) | L48: =SUM(L17:L47) -> 0 | M48: =SUM(M17:M47) -> 0 | N48: =SUM(N17:N47) -> 0 | O48: =SUM(O17:O47) -> 0 | P48: =SUM(P17:P47) -> 0
A50: =KT!A24 -> Sastādīja: | D50: =KT!C28 -> 2024. gada ____________
A51: (paraksts un tā atšifrējums, datums)
A54: =KT!A28 -> Pārbaudīja: | D54: =KT!C28 -> 2024. gada ____________
A55: (paraksts un tā atšifrējums, datums)
A56: =KT!A30 -> Sertifikāta Nr.:

Sheet 1,7
A2: Lokālā tāme Nr.1,7
A3: UKT - Ūdensapgāde un kanalizācija (ārējā)
A4: (būvdarbu veids vai konstruktīvā elementa nosaukums)
A6: Objekta nosaukums: | C6: =KT!B9 -> Salaspils pilsētas centrālās daļas satiksmes infrastruktūras pārbūve un pilsētas galvenā laukuma izveide 1.kārta
A7: Būves nosaukums:
A8: Objekta adrese: | C8: =KT!B12 -> Līvzemes iela, Vītolu iela, Mazā vītolu iela, Rīgas iela, Salaspils
A9: Pasūtījuma nr.:
A11: Tāme sastādīta 2024. gada tirgus cenās, pamatojoties uz būvprojekta rasējumiem | M11: Tāmes izmaksas: | O11: =P79 -> 0 | P11: EUR
N12: Tāme sastādīta | O12: =KT!C28 -> 2024. gada ____________
A14: Nr.p.k. | B14: Kods | C14: Būvdarbu nosaukums | D14: Mērvienība | E14: Daudzums | F14: Vienības izmaksas | L14: Kopā uz visu apjomu
F15: Laika norma (c/h) | G15: Darba samaksas likme (euro/h) | H15: Darba alga | I15: Būvizstrādājumi | J15: Mehānismi | K15: KOPĀ | L15: Darbietilpība (c/h) | M15: Darba alga | N15: Būvizstrādājumi | O15: Mehānismi | P15: Summa
A16: Ūdensvada tīkli
A17: 1 | C17: Aku, kapīšu un pazemes hidrantu demontāža | D17: kompl. | E17: 8 | K17: =SUM(H17:J17) -> 0 | L17: =ROUND(E17*F17,2) -> 0 | M17: =ROUND(E17*H17,2) -> 0 | N17: =ROUND(E17*I17,2) -> 0 | O17: =ROUND(E17*J17,2) -> 0 | P17: =SUM(M17:O17) -> 0
A18: 2 | C18: Cauruļvadu demontāža | D18: m | E18: 183 | K18: =SUM(H18:J18) -> 0 | L18: =ROUND(E18*F18,2) -> 0 | M18: =ROUND(E18*H18,2) -> 0 | N18: =ROUND(E18*I18,2) -> 0 | O18: =ROUND(E18*J18,2) -> 0 | P18: =SUM(M18:O18) -> 0
A19: 3 | C19: Būvbedres rakšana, ieskaitot komunikāciju šurfēšanu pirms būvdarbiem un roku darbu komunikāciju šķērsojumos, aizvedot uz būvuzņēmēja atbērtni, (ja liek vairogus tranšejas apakšas platums ir vismaz 1,5m) | D19: m³ | E19: 503.88 | K19: =SUM(H19:J19) -> 0 | L19: =ROUND(E19*F19,2) -> 0 | M19: =ROUND(E19*H19,2) -> 0 | N19: =ROUND(E19*I19,2) -> 0 | O19: =ROUND(E19*J19,2) -> 0 | P19: =SUM(M19:O19) -> 0
A20: 4 | C20: Būvbedres nostiprināšana pielietojot vairogus | D20: m2 | E20: 592.8 | K20: =SUM(H20:J20) -> 0 | L20: =ROUND(E20*F20,2) -> 0 | M20: =ROUND(E20*H20,2) -> 0 | N20: =ROUND(E20*I20,2) -> 0 | O20: =ROUND(E20*J20,2) -> 0 | P20: =SUM(M20:O20) -> 0
A21: 5 | C21: Ūdens pazemināšanas iekārtu pielietošana, sausas būvbedres nodrošināšanai | D21: m | E21: 197.6 | K21: =SUM(H21:J21) -> 0 | L21: =ROUND(E21*F21,2) -> 0 | M21: =ROUND(E21*H21,2) -> 0 | N21: =ROUND(E21*I21,2) -> 0 | O21: =ROUND(E21*J21,2) -> 0 | P21: =SUM(M21:O21) -> 0
A22: 6 | C22: Būvbedres aizbēršana ar pievestu grunti | D22: m³ | E22: 123.72 | K22: =SUM(H22:J22) -> 0 | L22: =ROUND(E22*F22,2) -> 0 | M22: =ROUND(E22*H22,2) -> 0 | N22: =ROUND(E22*I22,2) -> 0 | O22: =ROUND(E22*J22,2) -> 0 | P22: =SUM(M22:O22) -> 0
A23: 7 | C23: Smilts pamatnes ierīkošana un apbērums | D23: m³ | E23: 59.28 | K23: =SUM(H23:J23) -> 0 | L23: =ROUND(E23*F23,2) -> 0 | M23: =ROUND(E23*H23,2) -> 0 | N23: =ROUND(E23*I23,2) -> 0 | O23: =ROUND(E23*J23,2) -> 0 | P23: =SUM(M23:O23) -> 0
A24: 8 | C24: Spiedvada PE100-RC caurule PN16, OD32 montāža | D24: m | E24: 20.5 | K24: =SUM(H24:J24) -> 0 | L24: =ROUND(E24*F24,2) -> 0 | M24: =ROUND(E24*H24,2) -> 0 | N24: =ROUND(E24*I24,2) -> 0 | O24: =ROUND(E24*J24,2) -> 0 | P24: =SUM(M24:O24) -> 0
A25: 9 | C25: Spiedvada PE100-RC caurule PN10, OD50 montāža | D25: m | E25: 27 | K25: =SUM(H25:J25) -> 0 | L25: =ROUND(E25*F25,2) -> 0 | M25: =ROUND(E25*H25,2) -> 0 | N25: =ROUND(E25*I25,2) -> 0 | O25: =ROUND(E25*J25,2) -> 0 | P25: =SUM(M25:O25) -> 0
A26: 10 | C26: Spiedvada PE100-RC caurule PN10, OD63 montāža | D26: m | E26: 100.4 | K26: =SUM(H26:J26) -> 0 | L26: =ROUND(E26*F26,2) -> 0 | M26: =ROUND(E26*H26,2) -> 0 | N26: =ROUND(E26*I26,2) -> 0 | O26: =ROUND(E26*J26,2) -> 0 | P26: =SUM(M26:O26) -> 0
A27: 11 | C27: Spiedvada PE100-RC caurule PN10, OD110 montāža | D27: m | E27: 49.7 | K27: =SUM(H27:J27) -> 0 | L27: =ROUND(E27*F27,2) -> 0 | M27: =ROUND(E27*H27,2) -> 0 | N27: =ROUND(E27*I27,2) -> 0 | O27: =ROUND(E27*J27,2) -> 0 | P27: =SUM(M27:O27) -> 0
A28: 12 | C28: Universālais atloku adapters, DCI DN 100 montāža | D28: kompl. | E28: 2 | K28: =SUM(H28:J28) -> 0 | L28: =ROUND(E28*F28,2) -> 0 | M28: =ROUND(E28*H28,2) -> 0 | N28: =ROUND(E28*I28,2) -> 0 | O28: =ROUND(E28*J28,2) -> 0 | P28: =SUM(M28:O28) -> 0
... A56: 40 | C56: Izpilddokumentācija un tehniskie mērijumi | D56: kompl. | E56: 1 | K56: =SUM(H56:J56) -> 0 | L56: =ROUND(E56*F56,2) -> 0 | M56: =ROUND(E56*H56,2) -> 0 | N56: =ROUND(E56*I56,2) -> 0 | O56: =ROUND(E56*J56,2) -> 0 | P56: =SUM(M56:O56) -> 0
A57: Kanalizācijas tīkli
A58: 42 | C58: Kanalizācijas cauruļu demontāža | D58: m | E58: 130 | K58: =SUM(H58:J58) -> 0 | L58: =ROUND(E58*F58,2) -> 0 | M58: =ROUND(E58*H58,2) -> 0 | N58: =ROUND(E58*I58,2) -> 0 | O58: =ROUND(E58*J58,2) -> 0 | P58: =SUM(M58:O58) -> 0
A59: 43 | C59: Aku demontāža | D59: kompl | E59: 7 | K59: =SUM(H59:J59) -> 0 | L59: =ROUND(E59*F59,2) -> 0 | M59: =ROUND(E59*H59,2) -> 0 | N59: =ROUND(E59*I59,2) -> 0 | O59: =ROUND(E59*J59,2) -> 0 | P59: =SUM(M59:O59) -> 0
A60: 44 | C60: Būvbedres rakšana, ieskaitot komunikāciju šurfēšanu pirms būvdarbiem un roku darbu komunikāciju šķērsojumos, aizvedot uz būvuzņēmēja atbērtni, (ja liek vairogus tranšejas apakšas platums ir vismaz 1,5m) | D60: m³ | E60: 717.3 | K60: =SUM(H60:J60) -> 0 | L60: =ROUND(E60*F60,2) -> 0 | M60: =ROUND(E60*H60,2) -> 0 | N60: =ROUND(E60*I60,2) -> 0 | O60: =ROUND(E60*J60,2) -> 0 | P60: =SUM(M60:O60) -> 0
A61: 45 | C61: Ūdens pazemināšanas iekārtu pielietošana, sausas būvbedres nodrošināšanai | D61: m | E61: 159.4 | K61: =SUM(H61:J61) -> 0 | L61: =ROUND(E61*F61,2) -> 0 | M61: =ROUND(E61*H61,2) -> 0 | N61: =ROUND(E61*I61,2) -> 0 | O61: =ROUND(E61*J61,2) -> 0 | P61: =SUM(M61:O61) -> 0
A62: 46 | C62: Būvbedres nostiprināšana pielietojot vairogus | D62: m2 | E62: 956.4 | K62: =SUM(H62:J62) -> 0 | L62: =ROUND(E62*F62,2) -> 0 | M62: =ROUND(E62*H62,2) -> 0 | N62: =ROUND(E62*I62,2) -> 0 | O62: =ROUND(E62*J62,2) -> 0 | P62: =SUM(M62:O62) -> 0
A63: 47 | C63: Tranšejas aizbēršana ar pievesto grunti | D63: m³ | E63: 645.57 | K63: =SUM(H63:J63) -> 0 | L63: =ROUND(E63*F63,2) -> 0 | M63: =ROUND(E63*H63,2) -> 0 | N63: =ROUND(E63*I63,2) -> 0 | O63: =ROUND(E63*J63,2) -> 0 | P63: =SUM(M63:O63) -> 0
A64: 48 | C64: Smilts pamatnes ierīkošana un apbērums | D64: m³ | E64: 71.73 | K64: =SUM(H64:J64) -> 0 | L64: =ROUND(E64*F64,2) -> 0 | M64: =ROUND(E64*H64,2) -> 0 | N64: =ROUND(E64*I64,2) -> 0 | O64: =ROUND(E64*J64,2) -> 0 | P64: =SUM(M64:O64) -> 0
A65: 49 | C65: Kanalizācijas caurules PVC OD 100, SN8 izbūve | D65: m | E65: 24 | K65: =SUM(H65:J65) -> 0 | L65: =ROUND(E65*F65,2) -> 0 | M65: =ROUND(E65*H65,2) -> 0 | N65: =ROUND(E65*I65,2) -> 0 | O65: =ROUND(E65*J65,2) -> 0 | P65: =SUM(M65:O65) -> 0
A66: 50 | C66: Kanalizācijas caurules PVC OD 160, SN8 izbūve | D66: m | E66: 76.6 | K66: =SUM(H66:J66) -> 0 | L66: =ROUND(E66*F66,2) -> 0 | M66: =ROUND(E66*H66,2) -> 0 | N66: =ROUND(E66*I66,2) -> 0 | O66: =ROUND(E66*J66,2) -> 0 | P66: =SUM(M66:O66) -> 0
A67: 51 | C67: Kanalizācijas caurules PVC OD 200, SN8 izbūve | D67: m | E67: 58.8 | K67: =SUM(H67:J67) -> 0 | L67: =ROUND(E67*F67,2) -> 0 | M67: =ROUND(E67*H67,2) -> 0 | N67: =ROUND(E67*I67,2) -> 0 | O67: =ROUND(E67*J67,2) -> 0 | P67: =SUM(M67:O67) -> 0
A68: 52 | C68: Kanalizācijas akas dzelzsbetona DN 1000 izbūve; h=2.01-2.50 m | D68: kompl. | E68: 4 | K68: =SUM(H68:J68) -> 0 | L68: =ROUND(E68*F68,2) -> 0 | M68: =ROUND(E68*H68,2) -> 0 | N68: =ROUND(E68*I68,2) -> 0 | O68: =ROUND(E68*J68,2) -> 0 | P68: =SUM(M68:O68) -> 0
A69: 53 | C69: Kanalizācijas akas dzelzsbetona DN 1000 izbūve; h=1.01-1.50 m | D69: kompl. | E69: 1 | K69: =SUM(H69:J69) -> 0 | L69: =ROUND(E69*F69,2) -> 0 | M69: =ROUND(E69*H69,2) -> 0 | N69: =ROUND(E69*I69,2) -> 0 | O69: =ROUND(E69*J69,2) -> 0 | P69: =SUM(M69:O69) -> 0
... A77: 61 | C77: Izpilddokumentācija un tehniskie mērijumi | D77: kompl. | E77: 1 | K77: =SUM(H77:J77) -> 0 | L77: =ROUND(E77*F77,2) -> 0 | M77: =ROUND(E77*H77,2) -> 0 | N77: =ROUND(E77*I77,2) -> 0 | O77: =ROUND(E77*J77,2) -> 0 | P77: =SUM(M77:O77) -> 0
A79: Tiešās izmaksas kopā, t.sk. Darba dēvēja sociālais nodoklis (23,59%) | L79: =SUM(L17:L78) -> 0 | M79: =SUM(M17:M78) -> 0 | N79: =SUM(N17:N78) -> 0 | O79: =SUM(O17:O78) -> 0 | P79: =SUM(P17:P78) -> 0
...

Sheet 1,8
A2: Lokālā tāme Nr.1,8
A3: TS-CD - Ceļa darbi
A4: (būvdarbu veids vai konstruktīvā elementa nosaukums)
A6: Objekta nosaukums: | C6: =KT!B9 -> Salaspils pilsētas centrālās daļas satiksmes infrastruktūras pārbūve un pilsētas galvenā laukuma izveide 1.kārta
A7: Būves nosaukums:
A8: Objekta adrese: | C8: =KT!B12 -> Līvzemes iela, Vītolu iela, Mazā vītolu iela, Rīgas iela, Salaspils
A9: Pasūtījuma nr.:
A11: Tāme sastādīta 2024. gada tirgus cenās, pamatojoties uz būvprojekta rasējumiem | M11: Tāmes izmaksas: | O11: =P202 -> 0 | P11: EUR
N12: Tāme sastādīta | O12: =KT!C28 -> 2024. gada ____________
A14: Nr.p.k. | B14: Kods | C14: Būvdarbu nosaukums | D14: Mērvienība | E14: Daudzums | F14: Vienības izmaksas | L14: Kopā uz visu apjomu
F15: Laika norma (c/h) | G15: Darba samaksas likme (euro/h) | H15: Darba alga | I15: Būvizstrādājumi | J15: Mehānismi | K15: KOPĀ | L15: Darbietilpība (c/h) | M15: Darba alga | N15: Būvizstrādājumi | O15: Mehānismi | P15: Summa
A16: Pašvaldības zemes
A17: Ceļu izbūves darbi
A18: Dažādi darbi
A19: 1 | C19: Ietves bruģa seguma uz šķembu pamata (H = 15 cm) demontāža un aizvešana uz atbērtni | D19: m2 | E19: 311.1 | K19: =SUM(H19:J19) -> 0 | L19: =ROUND(E19*F19,2) -> 0 | M19: =ROUND(E19*H19,2) -> 0 | N19: =ROUND(E19*I19,2) -> 0 | O19: =ROUND(E19*J19,2) -> 0 | P19: =SUM(M19:O19) -> 0
A20: 2 | C20: Ietves asfalta seguma uz šķembu pamata (H = 15 cm) demontāža un aizvešana uz atbērtni | D20: m2 | E20: 650 | K20: =SUM(H20:J20) -> 0 | L20: =ROUND(E20*F20,2) -> 0 | M20: =ROUND(E20*H20,2) -> 0 | N20: =ROUND(E20*I20,2) -> 0 | O20: =ROUND(E20*J20,2) -> 0 | P20: =SUM(M20:O20) -> 0
A21: 3 | C21: Asfalta seguma uz šķembu pamata (H = 30 cm) demontāža un aizvešana uz atbērtni | D21: m2 | E21: 1936.7 | K21: =SUM(H21:J21) -> 0 | L21: =ROUND(E21*F21,2) -> 0 | M21: =ROUND(E21*H21,2) -> 0 | N21: =ROUND(E21*I21,2) -> 0 | O21: =ROUND(E21*J21,2) -> 0 | P21: =SUM(M21:O21) -> 0
A22: 4 | C22: Betona un betona plātņu seguma uz šķembu pamata (H=30 cm) demontāža un aizvešana uz atbērtni | D22: m2 | E22: 14.1 | K22: =SUM(H22:J22) -> 0 | L22: =ROUND(E22*F22,2) -> 0 | M22: =ROUND(E22*H22,2) -> 0 | N22: =ROUND(E22*I22,2) -> 0 | O22: =ROUND(E22*J22,2) -> 0 | P22: =SUM(M22:O22) -> 0
A23: 5 | C23: Betona pamatu/atbasta sienu demontāža un aizvešana uz atbērtni | D23: m2 | E23: 15 | K23: =SUM(H23:J23) -> 0 | L23: =ROUND(E23*F23,2) -> 0 | M23: =ROUND(E23*H23,2) -> 0 | N23: =ROUND(E23*I23,2) -> 0 | O23: =ROUND(E23*J23,2) -> 0 | P23: =SUM(M23:O23) -> 0
A24: 6 | C24: Brauktuves betona apmaļu demontāža un aizvešana uz atbērtni | D24: m | E24: 506.5 | K24: =SUM(H24:J24) -> 0 | L24: =ROUND(E24*F24,2) -> 0 | M24: =ROUND(E24*H24,2) -> 0 | N24: =ROUND(E24*I24,2) -> 0 | O24: =ROUND(E24*J24,2) -> 0 | P24: =SUM(M24:O24) -> 0
A25: 7 | C25: Ietves betona apmaļu demontāža un aizvešana uz atbērtni | D25: m | E25: 754 | K25: =SUM(H25:J25) -> 0 | L25: =ROUND(E25*F25,2) -> 0 | M25: =ROUND(E25*H25,2) -> 0 | N25: =ROUND(E25*I25,2) -> 0 | O25: =ROUND(E25*J25,2) -> 0 | P25: =SUM(M25:O25) -> 0
A26: 8 | C26: Esošu sadzīves kanalizācijas un ūdensvada kapju un aku vāku regulēšana atbilstoši proj.seguma virsmas atzīmēm | D26: gab. | E26: 28 | K26: =SUM(H26:J26) -> 0 | L26: =ROUND(E26*F26,2) -> 0 | M26: =ROUND(E26*H26,2) -> 0 | N26: =ROUND(E26*I26,2) -> 0 | O26: =ROUND(E26*J26,2) -> 0 | P26: =SUM(M26:O26) -> 0
A27: 9 | C27: Esošu TET sakaru kanalizācijas aku vāku regulēšana atbilstoši proj.seguma virsmas atzīmēm | D27: gab. | E27: 3 | K27: =SUM(H27:J27) -> 0 | L27: =ROUND(E27*F27,2) -> 0 | M27: =ROUND(E27*H27,2) -> 0 | N27: =ROUND(E27*I27,2) -> 0 | O27: =ROUND(E27*J27,2) -> 0 | P27: =SUM(M27:O27) -> 0
A28: 10 | C28: Nedarbojoša ūdensvada (d100) demontāža un aizvešana. Demontēto tīklu galu noslēgšana. Tranšejas aizbēršana pa kārtām noblīvējot. | D28: m | E28: 13.6 | K28: =SUM(H28:J28) -> 0 | L28: =ROUND(E28*F28,2) -> 0 | M28: =ROUND(E28*H28,2) -> 0 | N28: =ROUND(E28*I28,2) -> 0 | O28: =ROUND(E28*J28,2) -> 0 | P28: =SUM(M28:O28) -> 0
A29: 11 | C29: Nedarbojošas siltumtrases (2d89/160) demontāža un aizvešana. Demontēto tīklu galu noslēgšana.Tranšejas aizbēršana pa kārtām noblīvējot. | D29: m | E29: 32.72 | K29: =SUM(H29:J29) -> 0 | L29: =ROUND(E29*F29,2) -> 0 | M29: =ROUND(E29*H29,2) -> 0 | N29: =ROUND(E29*I29,2) -> 0 | O29: =ROUND(E29*J29,2) -> 0 | P29: =SUM(M29:O29) -> 0
A30: 12 | C30: Metāla margu demontāža pandusam (pie Līvzemes 8 ēkas) un aizvešana | D30: m | E30: 20 | K30: =SUM(H30:J30) -> 0 | L30: =ROUND(E30*F30,2) -> 0 | M30: =ROUND(E30*H30,2) -> 0 | N30: =ROUND(E30*I30,2) -> 0 | O30: =ROUND(E30*J30,2) -> 0 | P30: =SUM(M30:O30) -> 0
... A51: 33 | C51: Nedarbojošu sadzīves kanalizācijas aku demontāža. Demontēto tīklu galu noslēgšana. Tranšejas aizbēršana pa kārtām noblīvējot. Demontējamie inženierkomunikāciju aku ķeta (čuguna) vāki un rāmji nododami PSIA “Valgums-S” Zviedru ielā 7, Salaspilī. | D51: gab. | E51: 3 | K51: =SUM(H51:J51) -> 0 | L51: =ROUND(E51*F51,2) -> 0 | M51: =ROUND(E51*H51,2) -> 0 | N51: =ROUND(E51*I51,2) -> 0 | O51: =ROUND(E51*J51,2) -> 0 | P51: =SUM(M51:O51) -> 0
A52: Zemes klātne
A53: 35 | C53: Zemes klātnes ierakuma būvniecība un aizvešana uz atbērtni | D53: m3 | E53: 2963.35 | K53: =SUM(H53:J53) -> 0 | L53: =ROUND(E53*F53,2) -> 0 | M53: =ROUND(E53*H53,2) -> 0 | N53: =ROUND(E53*I53,2) -> 0 | O53: =ROUND(E53*J53,2) -> 0 | P53: =SUM(M53:O53) -> 0
A54: 36 | C54: Zemes klātnes uzbēruma būvniecība no pievestas grunts | D54: m3 | E54: 456.45 | K54: =SUM(H54:J54) -> 0 | L54: =ROUND(E54*F54,2) -> 0 | M54: =ROUND(E54*H54,2) -> 0 | N54: =ROUND(E54*I54,2) -> 0 | O54: =ROUND(E54*J54,2) -> 0 | P54: =SUM(M54:O54) -> 0
A55: 37 | C55: Augsnes virskārtas noņemšana (H=15cm). Būvniecības stadijā Izvērtēt iespēju izmantot atkārtoti. | D55: m2 | E55: 5675.1 | K55: =SUM(H55:J55) -> 0 | L55: =ROUND(E55*F55,2) -> 0 | M55: =ROUND(E55*H55,2) -> 0 | N55: =ROUND(E55*I55,2) -> 0 | O55: =ROUND(E55*J55,2) -> 0 | P55: =SUM(M55:O55) -> 0
A56: 38 | C56: Dūņu slāņa (h~1.4m) pilnīga nomaiņa pret atbilstošas nestspējas grunti | D56: m2 | E56: 1450 | K56: =SUM(H56:J56) -> 0 | L56: =ROUND(E56*F56,2) -> 0 | M56: =ROUND(E56*H56,2) -> 0 | N56: =ROUND(E56*I56,2) -> 0 | O56: =ROUND(E56*J56,2) -> 0 | P56: =SUM(M56:O56) -> 0
A57: Ar saistvielām nesaistītas konstruktīvās kārtas
A58: 40 | C58: Salizturīgās kārtas ( Nestspēja 90 Mpa) būvniecība zem brauktuvēm | D58: m3 | E58: 1441.1 | K58: =SUM(H58:J58) -> 0 | L58: =ROUND(E58*F58,2) -> 0 | M58: =ROUND(E58*H58,2) -> 0 | N58: =ROUND(E58*I58,2) -> 0 | O58: =ROUND(E58*J58,2) -> 0 | P58: =SUM(M58:O58) -> 0
A59: 41 | C59: Salizturīgās kārtas ( Nestspēja 60 Mpa) būvniecība zem ietvēm | D59: m3 | E59: 835.38 | K59: =SUM(H59:J59) -> 0 | L59: =ROUND(E59*F59,2) -> 0 | M59: =ROUND(E59*H59,2) -> 0 | N59: =ROUND(E59*I59,2) -> 0 | O59: =ROUND(E59*J59,2) -> 0 | P59: =SUM(M59:O59) -> 0
A60: 42 | C60: Minerālmateriālu maisījums, 2/5 (h=3cm) (brauktuves) | D60: m3 | E60: 79.9 | K60: =SUM(H60:J60) -> 0 | L60: =ROUND(E60*F60,2) -> 0 | M60: =ROUND(E60*H60,2) -> 0 | N60: =ROUND(E60*I60,2) -> 0 | O60: =ROUND(E60*J60,2) -> 0 | P60: =SUM(M60:O60) -> 0
A61: 43 | C61: Minerālmateriālu maisījums, 2/5 (h=4cm) (ietves) | D61: m3 | E61: 62.6 | K61: =SUM(H61:J61) -> 0 | L61: =ROUND(E61*F61,2) -> 0 | M61: =ROUND(E61*H61,2) -> 0 | N61: =ROUND(E61*I61,2) -> 0 | O61: =ROUND(E61*J61,2) -> 0 | P61: =SUM(M61:O61) -> 0
A62: 44 | C62: Minerālmateriālu maisījums 0/45, N-II klase (h=15cm) (brauktuvēs) | D62: m3 | E62: 386.8 | K62: =SUM(H62:J62) -> 0 | L62: =ROUND(E62*F62,2) -> 0 | M62: =ROUND(E62*H62,2) -> 0 | N62: =ROUND(E62*I62,2) -> 0 | O62: =ROUND(E62*J62,2) -> 0 | P62: =SUM(M62:O62) -> 0
A63: 45 | C63: Minerālmateriālu maisījums 0/45, N-II klase (h=12cm) (brauktuvēs) | D63: m3 | E63: 1.7 | K63: =SUM(H63:J63) -> 0 | L63: =ROUND(E63*F63,2) -> 0 | M63: =ROUND(E63*H63,2) -> 0 | N63: =ROUND(E63*I63,2) -> 0 | O63: =ROUND(E63*J63,2) -> 0 | P63: =SUM(M63:O63) -> 0
A64: 46 | C64: Minerālmateriālu maisījums 0/45, N-II klase (hvid=5cm) (brauktuvēs) | D64: m3 | E64: 3.5 | K64: =SUM(H64:J64) -> 0 | L64: =ROUND(E64*F64,2) -> 0 | M64: =ROUND(E64*H64,2) -> 0 | N64: =ROUND(E64*I64,2) -> 0 | O64: =ROUND(E64*J64,2) -> 0 | P64: =SUM(M64:O64) -> 0
...

Sheet 1,9
A2: Lokālā tāme Nr.1,9
A3: TS-L - Labiekārtojums
A4: (būvdarbu veids vai konstruktīvā elementa nosaukums)
A6: Objekta nosaukums: | C6: =KT!B9 -> Salaspils pilsētas centrālās daļas satiksmes infrastruktūras pārbūve un pilsētas galvenā laukuma izveide 1.kārta
A7: Būves nosaukums:
A8: Objekta adrese: | C8: =KT!B12 -> Līvzemes iela, Vītolu iela, Mazā vītolu iela, Rīgas iela, Salaspils
A9: Pasūtījuma nr.:
A11: Tāme sastādīta 2024. gada tirgus cenās, pamatojoties uz būvprojekta rasējumiem | M11: Tāmes izmaksas: | O11: =P220 -> 0 | P11: EUR
N12: Tāme sastādīta | O12: =KT!C28 -> 2024. gada ____________
A14: Nr.p.k. | B14: Kods | C14: Būvdarbu nosaukums | D14: Mērvienība | E14: Daudzums | F14: Vienības izmaksas | L14: Kopā uz visu apjomu
F15: Laika norma (c/h) | G15: Darba samaksas likme (euro/h) | H15: Darba alga | I15: Būvizstrādājumi | J15: Mehānismi | K15: KOPĀ | L15: Darbietilpība (c/h) | M15: Darba alga | N15: Būvizstrādājumi | O15: Mehānismi | P15: Summa
A16: Pašvaldības zemes
A17: Labiekārtojuma darbi
A18: Sagatavošanas darbi
A19: 1 | C19: Koku zāģēšana, celmu frēzēšana un aizvešana uz atbērtni | D19: gab. | E19: 19 | K19: =SUM(H19:J19) -> 0 | L19: =ROUND(E19*F19,2) -> 0 | M19: =ROUND(E19*H19,2) -> 0 | N19: =ROUND(E19*I19,2) -> 0 | O19: =ROUND(E19*J19,2) -> 0 | P19: =SUM(M19:O19) -> 0
A20: 2 | C20: Krūmu zāģēšana, celmu frēzēšana un aizvešana uz atbērtni | D20: gab. | E20: 15 | K20: =SUM(H20:J20) -> 0 | L20: =ROUND(E20*F20,2) -> 0 | M20: =ROUND(E20*H20,2) -> 0 | N20: =ROUND(E20*I20,2) -> 0 | O20: =ROUND(E20*J20,2) -> 0 | P20: =SUM(M20:O20) -> 0
A21: 3 | C21: Dzīvžoga zāģēšana, celmu frēzēšana un aizvešana uz atbērtni | D21: m | E21: 90.8 | K21: =SUM(H21:J21) -> 0 | L21: =ROUND(E21*F21,2) -> 0 | M21: =ROUND(E21*H21,2) -> 0 | N21: =ROUND(E21*I21,2) -> 0 | O21: =ROUND(E21*J21,2) -> 0 | P21: =SUM(M21:O21) -> 0
A22: 4 | C22: Atkritumu urnas demotāža, saglabājot iespēju to uzstādīt atkārtoti un nogādāšana uz pasūtītāja norādītu atbērtni 15km rādiusā | D22: gab. | E22: 2 | K22: =SUM(H22:J22) -> 0 | L22: =ROUND(E22*F22,2) -> 0 | M22: =ROUND(E22*H22,2) -> 0 | N22: =ROUND(E22*I22,2) -> 0 | O22: =ROUND(E22*J22,2) -> 0 | P22: =SUM(M22:O22) -> 0
A23: 5 | C23: Autobusa pieturas demotāža un utilizācija | D23: gab. | E23: 1 | K23: =SUM(H23:J23) -> 0 | L23: =ROUND(E23*F23,2) -> 0 | M23: =ROUND(E23*H23,2) -> 0 | N23: =ROUND(E23*I23,2) -> 0 | O23: =ROUND(E23*J23,2) -> 0 | P23: =SUM(M23:O23) -> 0
A24: 6 | C24: Reklamas stenda demotāža un utilizācija | D24: gab. | E24: 1 | K24: =SUM(H24:J24) -> 0 | L24: =ROUND(E24*F24,2) -> 0 | M24: =ROUND(E24*H24,2) -> 0 | N24: =ROUND(E24*I24,2) -> 0 | O24: =ROUND(E24*J24,2) -> 0 | P24: =SUM(M24:O24) -> 0
A25: 7 | C25: Paredzēt saglabājamo augu saudzīgu saglabāšana dobes korekcijā. Sakaskaņot AU kārtā ar pasūtītāju un ainavu arhitektu! | D25: m2 | E25: 95.5 | K25: =SUM(H25:J25) -> 0 | L25: =ROUND(E25*F25,2) -> 0 | M25: =ROUND(E25*H25,2) -> 0 | N25: =ROUND(E25*I25,2) -> 0 | O25: =ROUND(E25*J25,2) -> 0 | P25: =SUM(M25:O25) -> 0
A26: Apstādījumu segumi
A27: 8 | C27: Z1 - Zāliens un izbūve Izplatītājs: SIA "KRASTMALI SEKLAS" vai analogs Produkta nosaukums: Zāliena maisījums Zaļais vai analogs Maisījuma sastāvs: sarkanā auzene (Festuca Rubra L.) 50%, ganību airenes (Lolium perenne L.) 20%, pļavas skarenes (Poa Pratensis L.) 30%. Izsējas norma: 35g/m2 vai analogs 1. Esošo augsni noņemt un novietot atbērtnē; 2. Pirms auglīgās augsnes izmantošanas, veikt mehānisku izsijāšanu; 3. Izsijāto augsni izmantot zāliena ierīkošanā 15cm dziļumā; Izbūvē lietot auglīgas, smilti un mālu saturošas, bet ūdens caurlaidīgas, nepieciešamās barības vielas saturošas augsnes, kas atbilst šādiem parametriem - P2O5 120–300 mg/kg; K2O 120–300 mg/kg; Organiskā viela 5–15 %; pHKCl 6,0–7,5. Augsnes virskārtā nedrīkst būt svešķermeņi lielāki par 2 cm (akmeņi, velēnas, augsnes gabali, saknes, citi atkritumi). Virsmas līmeņa pārbaude - pie celiņa malas sagatavotai augsnes virsmai (norullētai) jābūt par 2cm zemākai par celiņa virsmu ( nopļautam zālienam jābūt vienā līmenī ar celiņu). Sablīvējuma pārbaude - staigājot pa sagatavotu (apsētu) augsni, pēda nedrīkst iegrimt dziļāk par 0,5cm; Līdzenuma pārbaude - uzliekot horizontāli 4m garu latu jebkurā virzienā lielākā sprauga zem tās nedrīkst būt lielāka par 2cm; Zālienu pieņem ekspluatācijā ne ātrāk kā pēc 1. nopļaušanas. | D27: m2 | E27: 2895.25 | K27: =SUM(H27:J27) -> 0 | L27: =ROUND(E27*F27,2) -> 0 | M27: =ROUND(E27*H27,2) -> 0 | N27: =ROUND(E27*I27,2) -> 0 | O27: =ROUND(E27*J27,2) -> 0 | P27: =SUM(M27:O27) -> 0
