Workbook
Name likme: KT!$E$23

Sheet KT
C2: APSTIPRINU_________________________________
C3: (pasūtītāja paraksts un tā atšifrējums)
C4: Z.V.
C5: 2024.gada ___.______________
A7: Būvniecības koptāme
A9: Objekta nosaukums: | B9: Salaspils pilsētas centrālās daļas satiksmes infrastruktūras pārbūve un pilsētas galvenā laukuma izveide 1.kārta
A11: Būves nosaukums:
A12: Objekta adrese: | B12: Līvzemes iela, Vītolu iela, Mazā vītolu iela, Rīgas iela, Salaspils
A13: Pasūtījuma nr.:
A15: Nr.p.k. | B15: Objekta nosaukums | C15: Objekta izmaksas (euro)
A16: 1 | B16: =B9 -> Salaspils pilsētas centrālās daļas satiksmes infrastruktūras pārbūve un pilsētas galvenā laukuma izveide 1.kārta | C16: =KA!E30 -> #VALUE!
B19: Kopā | C19: =SUM(C16:C18) -> #VALUE!
A21: PVN (21%) | C21: =ROUND(C19*21%,2) -> #VALUE!
A24: Sastādīja: | C24: =C28 -> 2024. gada ____________
A25: (paraksts un tā atšifrējums, datums)
A28: Pārbaudīja: | C28: 2024. gada ____________
A29: (paraksts un tā atšifrējums, datums)
A30: Sertifikāta Nr.:

Sheet KA
A2: Kopsavilkuma aprēķins nr.1
A3: =C6 -> Salaspils pilsētas centrālās daļas satiksmes infrastruktūras pārbūve un pilsētas galvenā laukuma izveide 1.kārta
A4: (būvdarbu veids vai konstruktīvā elementa nosaukums)
A6: Objekta nosaukums: | C6: =KT!B9 -> Salaspils pilsētas centrālās daļas satiksmes infrastruktūras pārbūve un pilsētas galvenā laukuma izveide 1.kārta
A7: Būves nosaukums:
A8: Objekta adrese: | C8: =KT!B12 -> Līvzemes iela, Vītolu iela, Mazā vītolu iela, Rīgas iela, Salaspils
A9: Pasūtījuma nr.:
C10: Par kopējo summu (euro) | E10: =E30 -> #VALUE!
C11: Kopējā darbietilpība (c/h) | E11: =SUM(I14:I23) -> 0
A12: Nr.p.k. | B12: kods, tāmes nr. | C12: Būvdarbu veids vai konstruktīvā elementa nosaukums | E12: Tāmes izmaksas | F12: Tai skaitā | I12: Darbietilpība (c/h)
F13: Darba alga | G13: Būvizstrādājumi | H13: Mehānismi
A15: 1 | B15: 1.1 | C15: AR - Arhitektūras daļa | E15: =SUM(F15:H15) -> 0 | F15: ='1,1'!M86 -> 0 | G15: ='1,1'!N86 -> 0 | H15: ='1,1'!O86 -> 0 | I15: ='1,1'!L86 -> 0
A16: 2 | B16: 1.2 | C16: BK - Būvkonstrukciju daļa | E16: =SUM(F16:H16) -> 0 | F16: ='1,2'!M56 -> 0 | G16: ='1,2'!N56 -> 0 | H16: ='1,2'!O56 -> 0 | I16: ='1,2'!L56 -> 0
A17: 3 | B17: 1.3 | C17: ELT-A - Apgaismojums, abonenta tīkli | E17: =SUM(F17:H17) -> 0 | F17: ='1,3'!M184 -> 0 | G17: ='1,3'!N184 -> 0 | H17: ='1,3'!O184 -> 0 | I17: ='1,3'!L184 -> 0
A18: 4 | B18: 1.4 | C18: EST-K - Elektrisko sakaru sistēmas (ārējās) | E18: =SUM(F18:H18) -> 0 | F18: ='1,4'!M151 -> 0 | G18: ='1,4'!N151 -> 0 | H18: ='1,4'!O151 -> 0 | I18: ='1,4'!L151 -> 0
A19: 5 | B19: 1.5 | C19: ESS-VN - Videonovērošana | E19: =SUM(F19:H19) -> 0 | F19: ='1,5'!M102 -> 0 | G19: ='1,5'!N102 -> 0 | H19: ='1,5'!O102 -> 0 | I19: ='1,5'!L102 -> 0
A20: 6 | B20: 1.6 | C20: LKT - Lietus ūdens kanalizācijas tīkli | E20: =SUM(F20:H20) -> 0 | F20: ='1,6'!M48 -> 0 | G20: ='1,6'!N48 -> 0 | H20: ='1,6'!O48 -> 0 | I20: ='1,6'!L48 -> 0
A21: 7 | B21: 1.7 | C21: UKT - Ūdensapgāde un kanalizācija (ārējā) | E21: =SUM(F21:H21) -> 0 | F21: ='1,7'!M79 -> 0 | G21: ='1,7'!N79 -> 0 | H21: ='1,7'!O79 -> 0 | I21: ='1,7'!L79 -> 0
A22: 8 | B22: 1.8 | C22: TS-CD - Ceļa darbi | E22: =SUM(F22:H22) -> 0 | F22: ='1,8'!M202 -> 0 | G22: ='1,8'!N202 -> 0 | H22: ='1,8'!O202 -> 0 | I22: ='1,8'!L202 -> 0
A23: 9 | B23: 1.9 | C23: TS-L - Labiekārtojums | E23: =SUM(F23:H23) -> 0 | F23: ='1,9'!M220 -> 0 | G23: ='1,9'!N220 -> 0 | H23: ='1,9'!O220 -> 0 | I23: ='1,9'!L220 -> 0
A24: 10 | B24: 1.1 | C24: ELT-ST- Esošo elektroapgādes tīklu pārbūve Rīgas un Līvzemes ielās, Salaspilī | E24: =SUM(F24:H24) -> 0 | F24: ='1,10'!M239 -> 0 | G24: ='1,10'!N239 -> 0 | H24: ='1,10'!O239 -> 0 | I24: ='1,10'!L239 -> 0
A25: 11 | B25: 1.11 | C25: ELT-ST- Jauns elektroapgādes pieslēgums Līvzemes iela 8, Salaspilī | E25: =SUM(F25:H25) -> 0 | F25: ='1,11'!M97 -> 0 | G25: ='1,11'!N97 -> 0 | H25: ='1,11'!O97 -> 0 | I25: ='1,11'!L97 -> 0
A26: Kopā | E26: =SUM(E15:E25) -> 0
A27: Virsizdevumi | D27: % | E27: =ROUND(E26*D27,2) -> #VALUE!
A28: t.sk. Darba aizsardzība | D28: % | E28: =ROUND(E27*D28,2) -> #VALUE!
A29: Peļņa | D29: % | E29: =ROUND(E26*D29,2) -> #VALUE!
A30: Pavisam kopā | E30: =SUM(E26,E27,E29) -> #VALUE!
A32: =KT!A24 -> Sastādīja: | E32: =KT!C28 -> 2024. gada ____________
A33: (paraksts un tā atšifrējums, datums)
A36: =KT!A28 -> Pārbaudīja: | E36: =KT!C28 -> 2024. gada ____________
A37: (paraksts un tā atšifrējums, datums)
A38: =KT!A30 -> Sertifikāta Nr.:

Sheet 1,1
A2: Lokālā tāme Nr.1,1
A3: AR - arhitektūras daļa
A4: (būvdarbu veids vai konstruktīvā elementa nosaukums)
A6: Objekta nosaukums: | C6: =KT!B9 -> Salaspils pilsētas centrālās daļas satiksmes infrastruktūras pārbūve un pilsētas galvenā laukuma izveide 1.kārta
A7: Būves nosaukums:
A8: Objekta adrese: | C8: =KT!B12 -> Līvzemes iela, Vītolu iela, Mazā vītolu iela, Rīgas iela, Salaspils
A9: Pasūtījuma nr.:
A11: Tāme sastādīta 2024. gada tirgus cenās, pamatojoties uz būvprojekta rasējumiem | M11: Tāmes izmaksas: | O11: =P86 -> 0 | P11: EUR
N12: Tāme sastādīta | O12: =KT!C28 -> 2024. gada ____________
A14: Nr.p.k. | B14: Kods | C14: Būvdarbu nosaukums | D14: Mērvienība | E14: Daudzums | F14: Vienības izmaksas | L14: Kopā uz visu apjomu
F15: Laika norma (c/h) | G15: Darba samaksas likme (euro/h) | H15: Darba alga | I15: Būvizstrādājumi | J15: Mehānismi | K15: KOPĀ | L15: Darbietilpība (c/h) | M15: Darba alga | N15: Būvizstrādājumi | O15: Mehānismi | P15: Summa
A16: Arhitektūras daļas darbi
A17: Ēkas fasādes atjaunošana Līvzemes ielā 4A
A18: 1 | C18: Esošās fasādes un cokola apdares attīrīšana un lokālu bojājumu labošana ar remontjavu, pamatnes gruntēšana | D18: m2 | E18: 198.8
A19: 2 | C19: Ķieģeļu mūra krāsošana divās kārtas (krāsa uz ūdens bāzes, segtspēja 250 ml/m2, pilnīgi matēta spīduma pakāpe). | D19: m2 | E19: 185.6
A20: 3 | C20: Cokola krāsošana divās kārtās (krāsa uz ūdens bāzes cokoliem, matēta, ūdens absorbcija W < 0,1 kg/(m2*h0,5)). | D20: m2 | E20: 13.2
A21: 4 | C21: Metāla elementu attīrīšana, krāsošana | D21: m2 | E21: 19
A22: 5 | C22: Uzjumteņa skārda lāseņa demontāža, jauna uzlikšana | D22: tek.m. | E22: =1.4+1.4+2.9 -> 5.7
A23: 6 | C23: Lietus ūdens tekņu demontāža, jauna uzlikšana | D23: tek.m. | E23: =18.3+18.3 -> 36.6
A24: 7 | C24: Lietus ūdens noteku demontāža, jauna uzlikšana | D24: tek.m. | E24: =4.1+4.1 -> 8.2
A25: Gājēju tilta novietošana
A26: 9 | C26: Gājēju tilta "Solo Bridges" transportēšana uz objektu | D26: gab. | E26: 1
A27: 10 | C27: Gājēju tilta "Solo Bridges" novietošana | D27: gab. | E27: 1
A28: 11 | C28: Gājēju tilts "Solo Bridges" 9,9m x 2m (platums kopā ar margām - 2,14m). Konstrukcija: BRG-CON-Arched-1200-TH. Cinkotas tērauda nesošo profilu konstrukcijas tilts ar nelielu arku. Maksimālā lietderīgā slodze - 5kN/m², punktveida slodze - 7kN uz 10x10cm laukuma. Tilta galos horizontālas tērauda plāksnes ar caurumiem priekš enkurojumiem (vienā galā iegarenas formas). Ieteicamais balstīšanas veids - ar ķīmiskajiem enkuriem stiprināt uz stiegrbetona pamatiem. Segums: BRG-Solideck70 ar Ridge-Alter. Cumaru cietkoksnes latu (70x70mm) klājs, katrā otrajā latā iestrādāta pretslīdes josla. Margas: BRG-HR-D5-ST. Koka latu reliņi, nerūsējošā tērauda apaļcaurules ∅48mm lenteris | D28: kompl. | E28: 1
A29: Teritorijas elementi Līvzemes ielā 1
A30: 13 | C30: Žoga demontāža | D30: tek.m. | E30: 41.2
A31: 14 | C31: Žoga uzstādīšana | D31: tek.m. | E31: 43.1
A32: 15 | C32: Žoga betona pamati | D32: gab. | E32: 19
A33: 16 | C33: Žoga metāla stabi, kvadrātcaurule 100x100mm, h=2,5m, ar augšas nosegelementu, ar metinātu armatūru pie pamatnes | D33: gab. | E33: 16
A34: 17 | C34: Žoga metāla stabi, kvadrātcaurule 100x100mm, h=2,5m, ar augšas nosegelementu, ar metinātu armatūru pie pamatnes, ar eņģu vietām | D34: gab. | E34: 3
A35: 18 | C35: Žoga metāla vairogi 2500x1500mm, cinkoti, apstrādāti ar RILAK pretkorozijas krāsu, ar to stiprināšanai nepieciešamajām detaļām (marka projektā - V25), piemēram SIA Jumburgs "Metinātais metāla vairogs Nr.1" | D35: gab. | E35: 14
A36: 19 | C36: Žoga metāla vairogi 900x1500mm, cinkoti, apstrādāti ar RILAK pretkorozijas krāsu, ar to stiprināšanai nepieciešamajām detaļām (marka projektā - V09), piemēram saīsināts SIA Jumburgs "Metinātais metāla vairogs Nr.1" | D36: gab. | E36: 1
A37: 20 | C37: Žoga metāla vairogi 1200x1500mm, cinkoti, apstrādāti ar RILAK pretkorozijas krāsu, ar to stiprināšanai nepieciešamajām detaļām (marka projektā - V12), piemēram saīsināts SIA Jumburgs "Metinātais metāla vairogs Nr.1" | D37: gab. | E37: 1
A38: 21 | C38: Žoga divviru vārti autotransportam, metāla, cinkoti un krāsoti, stiprinās uz vārtu stabos iestrādātajām eņģu vietām, ar iebūvētu slēdzeni, komplektācijā iekļaujama visa montāžai nepieciešamā furnitūra, kopējais platums starp stabiem - 3,15m, augstums - 1,5m (marka projektā - VA315), vizuālais risinājums analogs saīsinātam SIA Jumburgs "Metinātais metāla vairogs Nr.1" | D38: gab. | E38: 1
A39: 22 | C39: Žoga vienviru gājēju vārti, metāla, cinkoti un krāsoti, stiprinās uz vārtu stabos iestrādātajām eņģu vietām, ar iebūvētu slēdzeni, komplektācijā iekļaujama visa montāžai nepieciešamā furnitūra, kopējais platums starp stabiem - 1,05m, augstums - 1,5m (marka projektā - VG105), vizuālais risinājums analogs saīsinātam SIA Jumburgs "Metinātais metāla vairogs Nr.1" | D39: gab. | E39: 1
A40: Teritorijas elementi Līvzemes ielā 2
A41: 24 | C41: Žoga uzstādīšana | D41: tek.m. | E41: 22.6
A42: 25 | C42: Žoga betona pamati | D42: gab. | E42: 11
A43: 26 | C43: Žoga metāla stabi, kvadrātcaurule 100x100mm, h=2,5m, ar augšas nosegelementu, ar metinātu armatūru pie pamatnes | D43: gab. | E43: 9
A44: 27 | C44: Žoga metāla stabi, kvadrātcaurule 100x100mm, h=2,5m, ar augšas nosegelementu, ar metinātu armatūru pie pamatnes, ar eņģu vietām | D44: gab. | E44: 2
A45: 28 | C45: Betonēts pamats ar ieliekamajiem metāla elementiem, paredzēts bīdāmo vārtu uzstādīšanai | D45: gab. | E45: 1
A46: 29 | C46: Bīdāmo vārtu metāla konstrukcija, cinkota un krāsota, komplektācijā iekļaujama visa montāžai un darbībai nepieciešamā furnitūra | D46: gab. | E46: 1
A47: 30 | C47: Žoga vairogi 2500x1500mm, vairogs: koka latas (6gab. 70x30x1500mm un 17gab. 45x30x1200mm) skrūvētas pie cinkotiem un krāsotiem metāla stieņiem (2gab. 50x10x2500mm vai līdzvērtīgi), komplektācijā iekļaujamas to stiprināšanai nepieciešamās detaļas (marka projektā - KV25) | D47: gab. | E47: 6
A48: 31 | C48: Žoga vairogi 1750x1500mm, vairogs: koka latas (4gab. 70x30x1500mm un 12gab. 45x30x1200mm) skrūvētas pie cinkotiem un krāsotiem metāla stieņiem (2gab. 50x10x1750mm vai līdzvērtīgi), komplektācijā iekļaujamas to stiprināšanai nepieciešamās detaļas (marka projektā - KV175) | D48: gab. | E48: 1
A49: 32 | C49: Žoga vairogi 900x1500mm, vairogs: koka latas (2gab. 70x30x1500mm un 6gab. 45x30x1200mm) skrūvētas pie cinkotiem un krāsotiem metāla stieņiem (2gab. 50x10x900mm vai līdzvērtīgi), komplektācijā iekļaujamas to stiprināšanai nepieciešamās detaļas (marka projektā - KV09 vai KV09*) | D49: gab. | E49: 2
A50: 33 | C50: Žoga bīdāmo vārtu vairogs: koka latas (6gab. 70x30x1500mm un 12gab. 45x30x1200mm) skrūvētas pie cinkotiem un krāsotiem metāla elementiem, komplektācijā iekļaujama visa montāžai nepieciešamā furnitūra, kopējais platums starp stabiem - 1,9m, augstums - 1,5m (marka projektā - BV19) | D50: gab. | E50: 1
A51: 34 | C51: Žoga vienviru gājēju vārti: koka latas (3gab. 70x30x1500mm un 6gab. 45x30x1200mm) skrūvētas pie cinkotiem un krāsotiem metāla elementiem, stiprinās uz vārtu stabos iestrādātajām eņģu vietām, ar iebūvētu slēdzeni, komplektācijā iekļaujama visa montāžai nepieciešamā furnitūra, kopējais platums starp stabiem - 1,1m, augstums - 1,5m (marka projektā - VG11) | D51: gab. | E51: 1
A52: Teritorijas elementi Līvzemes ielā 3
A53: 36 | C53: Žoga demontāža | D53: tek.m. | E53: 20.7
A54: 37 | C54: Žoga uzstādīšana | D54: tek.m. | E54: 14.15
A55: 38 | C55: Žoga betona pamati | D55: gab. | E55: 14
A56: 39 | C56: Žoga metāla stabi, kvadrātcaurule 100x100mm, h=2,5m, ar augšas nosegelementu, ar metinātu armatūru pie pamatnes | D56: gab. | E56: 10
A57: 40 | C57: Žoga metāla stabi, kvadrātcaurule 100x100mm, h=2,5m, ar augšas nosegelementu, ar metinātu armatūru pie pamatnes, ar eņģu vietām | D57: gab. | E57: 4
A58: 41 | C58: Žoga metāla vairogi 2500x1500mm, cinkoti, apstrādāti ar RILAK pretkorozijas krāsu, ar to stiprināšanai nepieciešamajām detaļām (marka projektā - V25), piemēram SIA Jumburgs "Metinātais metāla vairogs Nr.1" | D58: gab. | E58: 5
A59: 42 | C59: Žoga metāla vairogi 900x1500mm, cinkoti, apstrādāti ar RILAK pretkorozijas krāsu, ar to stiprināšanai nepieciešamajām detaļām (marka projektā - V09 vai V09*), piemēram saīsināts SIA Jumburgs "Metinātais metāla vairogs Nr.1" | D59: gab. | E59: 5
A60: 43 | C60: Žoga metāla vairogi 1400x1500mm, cinkoti, apstrādāti ar RILAK pretkorozijas krāsu, ar to stiprināšanai nepieciešamajām detaļām (marka projektā - V14), piemēram saīsināts SIA Jumburgs "Metinātais metāla vairogs Nr.1" | D60: gab. | E60: 1
A61: 44 | C61: Žoga divviru vārti autotransportam, metāla, cinkoti un krāsoti, stiprinās uz vārtu stabos iestrādātajām eņģu vietām, ar iebūvētu slēdzeni, komplektācijā iekļaujama visa montāžai nepieciešamā furnitūra, kopējais platums starp stabiem - 3,4m, augstums - 1,5m (marka projektā - VA34), vizuālais risinājums analogs saīsinātam SIA Jumburgs "Metinātais metāla vairogs Nr.1" | D61: gab. | E61: 1
A62: 45 | C62: Žoga vienviru gājēju vārti, metāla, cinkoti un krāsoti, stiprinās uz vārtu stabos iestrādātajām eņģu vietām, ar iebūvētu slēdzeni, komplektācijā iekļaujama visa montāžai nepieciešamā furnitūra, kopējais platums starp stabiem - 1,05m, augstums - 1,5m (marka projektā - VG105*), vizuālais risinājums analogs saīsinātam SIA Jumburgs "Metinātais metāla vairogs Nr.1" | D62: gab. | E62: 1
A63: Teritorijas elementi Līvzemes ielā 6
A64: 47 | C64: Žoga demontāža | D64: tek.m. | E64: 161.2
A65: 48 | C65: Žoga uzstādīšana | D65: tek.m. | E65: 162.6
A66: 49 | C66: Žoga betona pamati | D66: gab. | E66: 68
A67: 50 | C67: Žoga metāla stabi, kvadrātcaurule 100x100mm, h=2,5m, ar augšas nosegelementu, ar metinātu armatūru pie pamatnes | D67: gab. | E67: 65
A68: 51 | C68: Žoga metāla stabi, kvadrātcaurule 100x100mm, h=2,5m, ar augšas nosegelementu, ar metinātu armatūru pie pamatnes, ar eņģu vietām | D68: gab. | E68: 3
A69: 52 | C69: Žoga metāla vairogi 2500x1500mm, cinkoti, apstrādāti ar RILAK pretkorozijas krāsu, ar to stiprināšanai nepieciešamajām detaļām (marka projektā - V25), piemēram SIA Jumburgs "Metinātais metāla vairogs Nr.1" | D69: gab. | E69: 51
A70: 53 | C70: Žoga metāla vairogi 2200x1500mm, cinkoti, apstrādāti ar RILAK pretkorozijas krāsu, ar to stiprināšanai nepieciešamajām detaļām (marka projektā - V22 vai V22*), piemēram saīsināts SIA Jumburgs "Metinātais metāla vairogs Nr.1" | D70: gab. | E70: 2
A71: 54 | C71: Žoga metāla vairogi 1800x1500mm, cinkoti, apstrādāti ar RILAK pretkorozijas krāsu, ar to stiprināšanai nepieciešamajām detaļām (marka projektā - V18), piemēram saīsināts SIA Jumburgs "Metinātais metāla vairogs Nr.1" | D71: gab. | E71: 1
A72: 55 | C72: Žoga metāla vairogi 1700x1500mm, cinkoti, apstrādāti ar RILAK pretkorozijas krāsu, ar to stiprināšanai nepieciešamajām detaļām (marka projektā - V17), piemēram saīsināts SIA Jumburgs "Metinātais metāla vairogs Nr.1" | D72: gab. | E72: 5
A73: 56 | C73: Žoga metāla vairogi 1500x1500mm, cinkoti, apstrādāti ar RILAK pretkorozijas krāsu, ar to stiprināšanai nepieciešamajām detaļām (marka projektā - V15), piemēram saīsināts SIA Jumburgs "Metinātais metāla vairogs Nr.1" | D73: gab. | E73: 1
A74: 57 | C74: Žoga metāla vairogi 1400x1500mm, cinkoti, apstrādāti ar RILAK pretkorozijas krāsu, ar to stiprināšanai nepieciešamajām detaļām (marka projektā - V14), piemēram saīsināts SIA Jumburgs "Metinātais metāla vairogs Nr.1" | D74: gab. | E74: 4
A75: 58 | C75: Žoga metāla vairogi 1200x1500mm, cinkoti, apstrādāti ar RILAK pretkorozijas krāsu, ar to stiprināšanai nepieciešamajām detaļām (marka projektā - V12), piemēram saīsināts SIA Jumburgs "Metinātais metāla vairogs Nr.1" | D75: gab. | E75: 1
... A78: 61 | C78: Žoga vienviru gājēju vārti, metāla, cinkoti un krāsoti, stiprinās uz vārtu stabos iestrādātajām eņģu vietām, ar iebūvētu slēdzeni, komplektācijā iekļaujama visa montāžai nepieciešamā furnitūra, kopējais platums starp stabiem - 1,05m, augstums - 1,5m (marka projektā - VG105*), vizuālais risinājums analogs saīsinātam SIA Jumburgs "Metinātais metāla vairogs Nr.1" | D78: gab. | E78: 1
A79: Teritorijas elementi - pīļu dīķa caurtekas vārtu motīvs un margas
A80: 63 | C80: Žoga demontāža | D80: tek.m. | E80: 9
A81: 64 | C81: Caurtekas vārtu motīva stabu uzstādīšana | D81: gab. | E81: 4
A82: 65 | C82: Caurtekas vārtu motīva stabi. Konstruktīvo risinājumu un nesošo elementu specfikāciju, apjomus skatīt BK daļā. Apgaismojuma un elektroapgādes elementu specfikāciju, apjomus skatīt ELT daļā. Apdares elementi: koka uzlikas 120x60x2880mm ar iezāģējumiem un iedziļinatām skrūvju vietām (4gab.); koka uzlikas 120x60x2880mm ar iezāģējumiem, iedziļinatām skrūvju vietām un iefrēzētu joslu (4gab.); lejasdaļas koka elements 450x450x120mm ar iezāģējumiem un iedziļinātām skrūvju vietām; augšdaļas koka elements 356x356x120mm ar iezāģējumiem, iefrēzējumiem un skrūvju vietām; augšdaļas līmēta koka perimetrālā uzlika 120x35mm ar iedziļinātām skrūvju vietām; noņemams krāsots metāla jumtiņš 490x490mm ar metāla distanceriem; metāla bultas (M12), L=120mm, ar paplāksnēm un uzgriežņiem (12gab.); metāla bultas (M12), L=450mm, ar paplāksnēm un uzgriežņiem (4gab.) | D82: kompl. | E82: 4
A83: 66 | C83: Caurtekas koka margu (h=900mm) uzstādīšana. Vizuālo risinājumu skatīt lapā AR-V-01. Konstruktīvo risinājumu un elementu specfikāciju, apjomus skatīt BK daļā | D83: gab. | E83: 34
A84: 67 | C84: Caurtekas koka margu (h=1100mm) uzstādīšana. Vizuālo risinājumu skatīt lapā AR-V-01. Konstruktīvo risinājumu un elementu specfikāciju, apjomus skatīt BK daļā | D84: gab. | E84: 18
A86: Tiešās izmaksas kopā, t.sk. Darba dēvēja sociālais nodoklis (23,59%) | L86: =SUM(L18:L85) -> 0 | M86: =SUM(M18:M85) -> 0 | N86: =SUM(N18:N85) -> 0 | O86: =SUM(O18:O85) -> 0 | P86: =SUM(P18:P85) -> 0
A88: =KT!A24 -> Sastādīja: | D88: =KT!C28 -> 2024. gada ____________
A89: (paraksts un tā atšifrējums, datums)
A92: =KT!A28 -> Pārbaudīja: | D92: =KT!C28 -> 2024. gada ____________
A93: (paraksts un tā atšifrējums, datums)
A94: =KT!A30 -> Sertifikāta Nr.:

Sheet 1,2
A2: Lokālā tāme Nr.1,2
A3: BK - Būvkonstrukcijas
A4: (būvdarbu veids vai konstruktīvā elementa nosaukums)
A6: Objekta nosaukums: | C6: =KT!B9 -> Salaspils pilsētas centrālās daļas satiksmes infrastruktūras pārbūve un pilsētas galvenā laukuma izveide 1.kārta
A7: Būves nosaukums:
A8: Objekta adrese: | C8: =KT!B12 -> Līvzemes iela, Vītolu iela, Mazā vītolu iela, Rīgas iela, Salaspils
A9: Pasūtījuma nr.:
A11: Tāme sastādīta 2024. gada tirgus cenās, pamatojoties uz būvprojekta rasējumiem | M11: Tāmes izmaksas: | O11: =P56 -> 0 | P11: EUR
N12: Tāme sastādīta | O12: =KT!C28 -> 2024. gada ____________
A14: Nr.p.k. | B14: Kods | C14: Būvdarbu nosaukums | D14: Mērvienība | E14: Daudzums | F14: Vienības izmaksas | L14: Kopā uz visu apjomu
F15: Laika norma (c/h) | G15: Darba samaksas likme (euro/h) | H15: Darba alga | I15: Būvizstrādājumi | J15: Mehānismi | K15: KOPĀ | L15: Darbietilpība (c/h) | M15: Darba alga | N15: Būvizstrādājumi | O15: Mehānismi | P15: Summa
A16: Tērauda apjomi, plātnes
A17: 20 | C17: CP P-3 12x50 | D17: t | E17: 0.018
A18: 21 | C18: CP P-4 20x20 | D18: t | E18: 0.011
A19: 22 | C19: CP P-6 120x300 | D19: t | E19: 0.054
A20: 23 | C20: CP P-7 120x500 | D20: t | E20: 0.09
A21: 24 | C21: CP P-8 100x580 | D21: t | E21: 0.568
A22: 25 | C22: CP P-9 120x280 | D22: t | E22: 0.051
A23: Tērauda apjomi, sijas, kolonnas
A24: 27 | C24: TP L 150x15 S355 | D24: t | E24: 0.15
A25: 28 | C25: CP SHS 50x5 | D25: t | E25: 0.36
A26: Caurules elektrības ievadam
A27: 30 | C27: Caurule elektrības ievadam Ø20 L=1 | D27: gab. | E27: 4
A28: Bultas
A29: 32 | C29: CP Ø20 8.8 L=125 | D29: gab. | E29: 208
A30: Kokmateriāla apjomi, horizontāli elementi
A31: 34 | C31: GL24 120x50x5600 | D31: m3 | E31: 0.03
A32: 35 | C32: GL24 120x70x8400 | D32: m3 | E32: 0.07
A33: 36 | C33: GL24 120x120x6700 | D33: m3 | E33: 0.1
A34: Kokmateriāla apjomi, vertikālie elementi
A35: 38 | C35: GL24 50x120 | D35: m3 | E35: 0.37
A36: 39 | C36: GL24 70x120 | D36: m3 | E36: 0.33
A37: 40 | C37: GL24 120x120 | D37: m3 | E37: 0.72
A38: Stiegru specifikācija
A39: 42 | C39: CP B500B 8mm | D39: t | E39: 0.023
A40: 43 | C40: CP B500B 10mm | D40: t | E40: 0.102
A41: 44 | C41: CP B500B 12mm | D41: t | E41: 0.103
A42: 45 | C42: CP B500B 20mm | D42: t | E42: 0.278
A43: 46 | C43: TP B500B 10mm | D43: t | E43: 0.127
A44: 47 | C44: TP B500B 12mm | D44: t | E44: 0.354
A45: Nesaistītas minerālo materiālu dolomīta šķembas
A46: 49 | C46: CP Blietētas dolomīta šķembas (0/32pn) | D46: m3 | E46: 3
A47: 50 | C47: TP Blietētas dolomīta šķembas (0/32pn) | D47: m3 | E47: 7
A48: Betona sienas
A49: 52 | C49: TP C30/37 XC1 XF1 | D49: m3 | E49: 1.75
A50: Betona pāļi
A51: 54 | C51: CP C30/37 XC1 XF1 | D51: m3 | E51: 0.7
A52: Betona plātne
A53: 56 | C53: CP C30/37 XC1 XF1 | D53: m3 | E53: 3.74
A54: 57 | C54: TP C30/37 XC1 XF1 | D54: m3 | E54: 2.95
A56: Tiešās izmaksas kopā, t.sk. Darba dēvēja sociālais nodoklis (23,59%) | L56: =SUM(L16:L55) -> 0 | M56: =SUM(M16:M55) -> 0 | N56: =SUM(N16:N55) -> 0 | O56: =SUM(O16:O55) -> 0 | P56: =SUM(P16:P55) -> 0
A58: =KT!A24 -> Sastādīja: | D58: =KT!C28 -> 2024. gada ____________
A59: (paraksts un tā atšifrējums, datums)
A62: =KT!A28 -> Pārbaudīja: | D62: =KT!C28 -> 2024. gada ____________
A63: (paraksts un tā atšifrējums, datums)
A64: =KT!A30 -> Sertifikāta Nr.:

Sheet 1,3
A2: Lokālā tāme Nr.1,3
A3: ELT-A - Apgaismojums, abonenta tīkli
A4: (būvdarbu veids vai konstruktīvā elementa nosaukums)
A6: Objekta nosaukums: | C6: =KT!B9 -> Salaspils pilsētas centrālās daļas satiksmes infrastruktūras pārbūve un pilsētas galvenā laukuma izveide 1.kārta
A7: Būves nosaukums:
A8: Objekta adrese: | C8: =KT!B12 -> Līvzemes iela, Vītolu iela, Mazā vītolu iela, Rīgas iela, Salaspils
A9: Pasūtījuma nr.:
A11: Tāme sastādīta 2024. gada tirgus cenās, pamatojoties uz būvprojekta rasējumiem | M11: Tāmes izmaksas: | O11: =P184 -> 0 | P11: EUR
N12: Tāme sastādīta | O12: =KT!C28 -> 2024. gada ____________
A14: Nr.p.k. | B14: Kods | C14: Būvdarbu nosaukums | D14: Mērvienība | E14: Daudzums | F14: Vienības izmaksas | L14: Kopā uz visu apjomu
F15: Laika norma (c/h) | G15: Darba samaksas likme (euro/h) | H15: Darba alga | I15: Būvizstrādājumi | J15: Mehānismi | K15: KOPĀ | L15: Darbietilpība (c/h) | M15: Darba alga | N15: Būvizstrādājumi | O15: Mehānismi | P15: Summa
A16: Materiāli - apgaismojums
A17: 1 | C17: Kabelis 1kV, četrdzīslu AXPK-4x16 (ar 5% rezervi) | D17: m | E17: 1117 | F17: 0 | G17: 0 | H17: =ROUND(F17*G17,2) -> 0 | J17: 0 | K17: =SUM(H17:J17) -> 0 | L17: =ROUND(E17*F17,2) -> 0 | M17: =ROUND(E17*H17,2) -> 0 | N17: =ROUND(E17*I17,2) -> 0 | O17: =ROUND(E17*J17,2) -> 0 | P17: =SUM(M17:O17) -> 0
A18: 2 | C18: Kabelis 1kV, trīsdzīslu NYY-J-3x1,5 (apgaismojumam balstā) | D18: m | E18: 356 | F18: 0 | G18: 0 | H18: =ROUND(F18*G18,2) -> 0 | J18: 0 | K18: =SUM(H18:J18) -> 0 | L18: =ROUND(E18*F18,2) -> 0 | M18: =ROUND(E18*H18,2) -> 0 | N18: =ROUND(E18*I18,2) -> 0 | O18: =ROUND(E18*J18,2) -> 0 | P18: =SUM(M18:O18) -> 0
A19: 3 | C19: Kabelis 1kV, trīsdzīslu NYY-J-3x1,5 (vārtu motīvā) | D19: m | E19: 110 | F19: 0 | G19: 0 | H19: =ROUND(F19*G19,2) -> 0 | J19: 0 | K19: =SUM(H19:J19) -> 0 | L19: =ROUND(E19*F19,2) -> 0 | M19: =ROUND(E19*H19,2) -> 0 | N19: =ROUND(E19*I19,2) -> 0 | O19: =ROUND(E19*J19,2) -> 0 | P19: =SUM(M19:O19) -> 0
A20: 4 | C20: Kabelis 1kV, trīsdzīslu NYY-J-3x2,5 (stends) | D20: m | E20: 20 | F20: 0 | G20: 0 | H20: =ROUND(F20*G20,2) -> 0 | J20: 0 | K20: =SUM(H20:J20) -> 0 | L20: =ROUND(E20*F20,2) -> 0 | M20: =ROUND(E20*H20,2) -> 0 | N20: =ROUND(E20*I20,2) -> 0 | O20: =ROUND(E20*J20,2) -> 0 | P20: =SUM(M20:O20) -> 0
A21: 5 | C21: Kabeļa gala apdare četrdzīslu plastmasas kabelim EPKT-0015 (4-35mm2) | D21: kompl. | E21: 90 | F21: 0 | G21: 0 | H21: =ROUND(F21*G21,2) -> 0 | J21: 0 | K21: =SUM(H21:J21) -> 0 | L21: =ROUND(E21*F21,2) -> 0 | M21: =ROUND(E21*H21,2) -> 0 | N21: =ROUND(E21*I21,2) -> 0 | O21: =ROUND(E21*J21,2) -> 0 | P21: =SUM(M21:O21) -> 0
A22: 6 | C22: Kabeļa gala apdare trīsdzīslu plastmasas kabelim SEH03 (1.5-16mm2) | D22: kompl. | E22: 14 | F22: 0 | G22: 0 | H22: =ROUND(F22*G22,2) -> 0 | J22: 0 | K22: =SUM(H22:J22) -> 0 | L22: =ROUND(E22*F22,2) -> 0 | M22: =ROUND(E22*H22,2) -> 0 | N22: =ROUND(E22*I22,2) -> 0 | O22: =ROUND(E22*J22,2) -> 0 | P22: =SUM(M22:O22) -> 0
A23: 7 | C23: Nozarošanas spaiļu komplekts SV-15 tipa | D23: kompl. | E23: 68 | F23: 0 | G23: 0 | H23: =ROUND(F23*G23,2) -> 0 | J23: 0 | K23: =SUM(H23:J23) -> 0 | L23: =ROUND(E23*F23,2) -> 0 | M23: =ROUND(E23*H23,2) -> 0 | N23: =ROUND(E23*I23,2) -> 0 | O23: =ROUND(E23*J23,2) -> 0 | P23: =SUM(M23:O23) -> 0
A24: 8 | C24: Automātslēdzis, C6A, 230V | D24: gab. | E24: 68 | F24: 0 | G24: 0 | H24: =ROUND(F24*G24,2) -> 0 | J24: 0 | K24: =SUM(H24:J24) -> 0 | L24: =ROUND(E24*F24,2) -> 0 | M24: =ROUND(E24*H24,2) -> 0 | N24: =ROUND(E24*I24,2) -> 0 | O24: =ROUND(E24*J24,2) -> 0 | P24: =SUM(M24:O24) -> 0
A25: 9 | C25: Automātslēdzis, C10A, 230V | D25: gab. | E25: 14 | F25: 0 | G25: 0 | H25: =ROUND(F25*G25,2) -> 0 | J25: 0 | K25: =SUM(H25:J25) -> 0 | L25: =ROUND(E25*F25,2) -> 0 | M25: =ROUND(E25*H25,2) -> 0 | N25: =ROUND(E25*I25,2) -> 0 | O25: =ROUND(E25*J25,2) -> 0 | P25: =SUM(M25:O25) -> 0
A26: 10 | C26: Automātslēdža stiprināšanas kronšteins - sliede | D26: gab. | E26: 68 | F26: 0 | G26: 0 | H26: =ROUND(F26*G26,2) -> 0 | J26: 0 | K26: =SUM(H26:J26) -> 0 | L26: =ROUND(E26*F26,2) -> 0 | M26: =ROUND(E26*H26,2) -> 0 | N26: =ROUND(E26*I26,2) -> 0 | O26: =ROUND(E26*J26,2) -> 0 | P26: =SUM(M26:O26) -> 0
A27: 11 | C27: Rozete stiprināšanai uz staba ~230V 10A, IP67, komplektā ar stiprinājumiem | D27: kompl. | E27: 14 | F27: 0 | G27: 0 | H27: =ROUND(F27*G27,2) -> 0 | J27: 0 | K27: =SUM(H27:J27) -> 0 | L27: =ROUND(E27*F27,2) -> 0 | M27: =ROUND(E27*H27,2) -> 0 | N27: =ROUND(E27*I27,2) -> 0 | O27: =ROUND(E27*J27,2) -> 0 | P27: =SUM(M27:O27) -> 0
A28: 12 | C28: Gumijas blīve 4-10mm koniskam stabam | D28: gab. | E28: 43 | F28: 0 | G28: 0 | H28: =ROUND(F28*G28,2) -> 0 | J28: 0 | K28: =SUM(H28:J28) -> 0 | L28: =ROUND(E28*F28,2) -> 0 | M28: =ROUND(E28*H28,2) -> 0 | N28: =ROUND(E28*I28,2) -> 0 | O28: =ROUND(E28*J28,2) -> 0 | P28: =SUM(M28:O28) -> 0
... A89: 73 | C89: Montāžas palīgmateriāli | D89: kompl. | E89: 1 | F89: 0 | G89: 0 | H89: =ROUND(F89*G89,2) -> 0 | J89: 0 | K89: =SUM(H89:J89) -> 0 | L89: =ROUND(E89*F89,2) -> 0 | M89: =ROUND(E89*H89,2) -> 0 | N89: =ROUND(E89*I89,2) -> 0 | O89: =ROUND(E89*J89,2) -> 0 | P89: =SUM(M89:O89) -> 0
A90: Darbi - apgaismojums
A91: 75 | C91: Bedres rakšana un aizbēršana apgaismojuma sadalei | D91: gab. | E91: 4
A92: 76 | C92: Tranšejas rakšana un aizbēršana ar blietēšanu 1-2 kabeļiem (1-2 caurulēm) | D92: m | E92: 1155
A93: 77 | C93: Tranšejas rakšana un aizbēršana ar blietēšanu 1-2 kabeļiem (demont. kabeļiem) | D93: m | E93: 105
A94: 78 | C94: Plastmasas caurules guldīšana gatavā tranšejā | D94: m | E94: 1155
A95: 79 | C95: Kabeļa brīdinājuma lentas ieklāšana | D95: m | E95: 1155
A96: 80 | C96: ZS kabeļa līdz 35 mm2 ievēršana proj. caurulē | D96: m | E96: 1155
A97: 81 | C97: ZS sausā kabeļa līdz 35 mm2 gala apdare | D97: gab. | E97: 104
A98: 82 | C98: Kabelis pa celtniecības konstrukcijām (stabā) | D98: m | E98: 356
A99: 83 | C99: Bedres rakšana apgaismes balstam | D99: gab. | E99: 43
A100: 84 | C100: Apgaismošanas balsta montāža | D100: gab. | E100: 43
A101: 85 | C101: Apgaismošanas balsta betona pamata montāža | D101: gab. | E101: 43
A102: 86 | C102: Rozetes montāža uz staba | D102: kompl. | E102: 14
... A118: 102 | C118: Būvgružu utilizācija | D118: m3 | E118: 16.71
A119: Materiāli - abonenta tīkli
A120: 104 | C120: Kabelis 1kV, četrdzīslu AXPK-4x50 (ar 5% rezervi) | D120: m | E120: 184 | F120: 0 | G120: 0 | H120: =ROUND(F120*G120,2) -> 0 | J120: 0 | K120: =SUM(H120:J120) -> 0 | L120: =ROUND(E120*F120,2) -> 0 | M120: =ROUND(E120*H120,2) -> 0 | N120: =ROUND(E120*I120,2) -> 0 | O120: =ROUND(E120*J120,2) -> 0 | P120: =SUM(M120:O120) -> 0
A121: 105 | C121: Kabelis 1kV, četrdzīslu AXPK-4x240 (ar 5% rezervi) | D121: m | E121: 37 | F121: 0 | G121: 0 | H121: =ROUND(F121*G121,2) -> 0 | J121: 0 | K121: =SUM(H121:J121) -> 0 | L121: =ROUND(E121*F121,2) -> 0 | M121: =ROUND(E121*H121,2) -> 0 | N121: =ROUND(E121*I121,2) -> 0 | O121: =ROUND(E121*J121,2) -> 0 | P121: =SUM(M121:O121) -> 0
A122: 106 | C122: Kabelis 1kV, trīsdzīslu NYY-J-3x1,5 | D122: m | E122: 31 | F122: 0 | G122: 0 | H122: =ROUND(F122*G122,2) -> 0 | J122: 0 | K122: =SUM(H122:J122) -> 0 | L122: =ROUND(E122*F122,2) -> 0 | M122: =ROUND(E122*H122,2) -> 0 | N122: =ROUND(E122*I122,2) -> 0 | O122: =ROUND(E122*J122,2) -> 0 | P122: =SUM(M122:O122) -> 0
A123: 107 | C123: Kabelis 1kV, trīsdzīslu NYY-J-3x2,5 | D123: m | E123: 15 | F123: 0 | G123: 0 | H123: =ROUND(F123*G123,2) -> 0 | J123: 0 | K123: =SUM(H123:J123) -> 0 | L123: =ROUND(E123*F123,2) -> 0 | M123: =ROUND(E123*H123,2) -> 0 | N123: =ROUND(E123*I123,2) -> 0 | O123: =ROUND(E123*J123,2) -> 0 | P123: =SUM(M123:O123) -> 0
A124: 108 | C124: Kabelis 1kV, trīsdzīslu NYY-J-3x4 | D124: m | E124: 505 | F124: 0 | G124: 0 | H124: =ROUND(F124*G124,2) -> 0 | J124: 0 | K124: =SUM(H124:J124) -> 0 | L124: =ROUND(E124*F124,2) -> 0 | M124: =ROUND(E124*H124,2) -> 0 | N124: =ROUND(E124*I124,2) -> 0 | O124: =ROUND(E124*J124,2) -> 0 | P124: =SUM(M124:O124) -> 0
A125: 109 | C125: Kabelis 1kV, piecdzīslu NYY-J-5x4 | D125: m | E125: 200 | F125: 0 | G125: 0 | H125: =ROUND(F125*G125,2) -> 0 | J125: 0 | K125: =SUM(H125:J125) -> 0 | L125: =ROUND(E125*F125,2) -> 0 | M125: =ROUND(E125*H125,2) -> 0 | N125: =ROUND(E125*I125,2) -> 0 | O125: =ROUND(E125*J125,2) -> 0 | P125: =SUM(M125:O125) -> 0
A126: 108 | C126: Kabelis 1kV, piecdzīslu NYY-J-5x6 | D126: m | E126: 132 | F126: 0 | G126: 0 | H126: =ROUND(F126*G126,2) -> 0 | J126: 0 | K126: =SUM(H126:J126) -> 0 | L126: =ROUND(E126*F126,2) -> 0 | M126: =ROUND(E126*H126,2) -> 0 | N126: =ROUND(E126*I126,2) -> 0 | O126: =ROUND(E126*J126,2) -> 0 | P126: =SUM(M126:O126) -> 0
A127: 109 | C127: Kabelis 1kV, piecdzīslu NYY-J-5x10 | D127: m | E127: 75 | F127: 0 | G127: 0 | H127: =ROUND(F127*G127,2) -> 0 | J127: 0 | K127: =SUM(H127:J127) -> 0 | L127: =ROUND(E127*F127,2) -> 0 | M127: =ROUND(E127*H127,2) -> 0 | N127: =ROUND(E127*I127,2) -> 0 | O127: =ROUND(E127*J127,2) -> 0 | P127: =SUM(M127:O127) -> 0
A128: 110 | C128: Kabelis 1kV, piecdzīslu NYY-J-5x16 | D128: m | E128: 20 | F128: 0 | G128: 0 | H128: =ROUND(F128*G128,2) -> 0 | J128: 0 | K128: =SUM(H128:J128) -> 0 | L128: =ROUND(E128*F128,2) -> 0 | M128: =ROUND(E128*H128,2) -> 0 | N128: =ROUND(E128*I128,2) -> 0 | O128: =ROUND(E128*J128,2) -> 0 | P128: =SUM(M128:O128) -> 0
A129: 111 | C129: Kabeļa gala apdare četrdzīslu plastmasas kabelim EPKT-0063 (185-240mm2) | D129: kompl. | E129: 2 | F129: 0 | G129: 0 | H129: =ROUND(F129*G129,2) -> 0 | J129: 0 | K129: =SUM(H129:J129) -> 0 | L129: =ROUND(E129*F129,2) -> 0 | M129: =ROUND(E129*H129,2) -> 0 | N129: =ROUND(E129*I129,2) -> 0 | O129: =ROUND(E129*J129,2) -> 0 | P129: =SUM(M129:O129) -> 0
A130: 112 | C130: Kabeļa gala apdare četrdzīslu plastmasas kabelim EPKT-0031 (25-70mm2) | D130: kompl. | E130: 2 | F130: 0 | G130: 0 | H130: =ROUND(F130*G130,2) -> 0 | J130: 0 | K130: =SUM(H130:J130) -> 0 | L130: =ROUND(E130*F130,2) -> 0 | M130: =ROUND(E130*H130,2) -> 0 | N130: =ROUND(E130*I130,2) -> 0 | O130: =ROUND(E130*J130,2) -> 0 | P130: =SUM(M130:O130) -> 0
A131: 113 | C131: Kabeļa gala apdare trīsdzīslu plastmasas kabelim SEH03 (1.5-16mm2) | D131: kompl. | E131: 28 | F131: 0 | G131: 0 | H131: =ROUND(F131*G131,2) -> 0 | J131: 0 | K131: =SUM(H131:J131) -> 0 | L131: =ROUND(E131*F131,2) -> 0 | M131: =ROUND(E131*H131,2) -> 0 | N131: =ROUND(E131*I131,2) -> 0 | O131: =ROUND(E131*J131,2) -> 0 | P131: =SUM(M131:O131) -> 0
... A155: 137 | C155: Montāžas palīgmateriāli | D155: kompl. | E155: 1 | F155: 0 | G155: 0 | H155: =ROUND(F155*G155,2) -> 0 | J155: 0 | K155: =SUM(H155:J155) -> 0 | L155: =ROUND(E155*F155,2) -> 0 | M155: =ROUND(E155*H155,2) -> 0 | N155: =ROUND(E155*I155,2) -> 0 | O155: =ROUND(E155*J155,2) -> 0 | P155: =SUM(M155:O155) -> 0
A156: Darbi - abonenta tīkli
A157: 139 | C157: Bedres rakšana un aizbēršana el. sadalei | D157: gab. | E157: 3 | L157: =ROUND(E157*F157,2) -> 0 | M157: =ROUND(E157*H157,2) -> 0 | N157: =ROUND(E157*I157,2) -> 0 | O157: =ROUND(E157*J157,2) -> 0 | P157: =SUM(M157:O157) -> 0
A158: 140 | C158: Tranšejas rakšana un aizbēršana ar blietēšanu 1-2 kabeļiem (1-2 caurulēm) | D158: m | E158: 1120 | L158: =ROUND(E158*F158,2) -> 0 | M158: =ROUND(E158*H158,2) -> 0 | N158: =ROUND(E158*I158,2) -> 0 | O158: =ROUND(E158*J158,2) -> 0 | P158: =SUM(M158:O158) -> 0
A159: 141 | C159: Tranšejas rakšana un aizbēršana ar blietēšanu 1-2 kabeļiem (demont. kabeļiem) | D159: m | E159: 158 | L159: =ROUND(E159*F159,2) -> 0 | M159: =ROUND(E159*H159,2) -> 0 | N159: =ROUND(E159*I159,2) -> 0 | O159: =ROUND(E159*J159,2) -> 0 | P159: =SUM(M159:O159) -> 0
A160: 142 | C160: Plastmasas caurules guldīšana gatavā tranšejā | D160: m | E160: 1150 | L160: =ROUND(E160*F160,2) -> 0 | M160: =ROUND(E160*H160,2) -> 0 | N160: =ROUND(E160*I160,2) -> 0 | O160: =ROUND(E160*J160,2) -> 0 | P160: =SUM(M160:O160) -> 0
A161: 143 | C161: Kabeļa brīdinājuma lentas ieklāšana | D161: m | E161: 1150 | L161: =ROUND(E161*F161,2) -> 0 | M161: =ROUND(E161*H161,2) -> 0 | N161: =ROUND(E161*I161,2) -> 0 | O161: =ROUND(E161*J161,2) -> 0 | P161: =SUM(M161:O161) -> 0
A162: 144 | C162: ZS kabeļa 50-240 mm2 ievēršana proj. caurulē | D162: m | E162: 180 | L162: =ROUND(E162*F162,2) -> 0 | M162: =ROUND(E162*H162,2) -> 0 | N162: =ROUND(E162*I162,2) -> 0 | O162: =ROUND(E162*J162,2) -> 0 | P162: =SUM(M162:O162) -> 0
A163: 145 | C163: ZS kabeļa līdz 35 mm2 ievēršana proj. caurulē | D163: m | E163: 988 | L163: =ROUND(E163*F163,2) -> 0 | M163: =ROUND(E163*H163,2) -> 0 | N163: =ROUND(E163*I163,2) -> 0 | O163: =ROUND(E163*J163,2) -> 0 | P163: =SUM(M163:O163) -> 0
A164: 146 | C164: ZS sausā kabeļa līdz 35 mm2 gala apdare | D164: gab. | E164: 44 | L164: =ROUND(E164*F164,2) -> 0 | M164: =ROUND(E164*H164,2) -> 0 | N164: =ROUND(E164*I164,2) -> 0 | O164: =ROUND(E164*J164,2) -> 0 | P164: =SUM(M164:O164) -> 0
A165: 147 | C165: ZS sausā kabeļa 50-240 mm2 gala apdare | D165: gab. | E165: 4 | L165: =ROUND(E165*F165,2) -> 0 | M165: =ROUND(E165*H165,2) -> 0 | N165: =ROUND(E165*I165,2) -> 0 | O165: =ROUND(E165*J165,2) -> 0 | P165: =SUM(M165:O165) -> 0
A166: 148 | C166: Kabelis pa celtniecības konstrukcijām (stabā) | D166: m | E166: 24 | L166: =ROUND(E166*F166,2) -> 0 | M166: =ROUND(E166*H166,2) -> 0 | N166: =ROUND(E166*I166,2) -> 0 | O166: =ROUND(E166*J166,2) -> 0 | P166: =SUM(M166:O166) -> 0
A167: 149 | C167: Sadalnes pamata montāža gatavā bedrē | D167: gab. | E167: 3 | L167: =ROUND(E167*F167,2) -> 0 | M167: =ROUND(E167*H167,2) -> 0 | N167: =ROUND(E167*I167,2) -> 0 | O167: =ROUND(E167*J167,2) -> 0 | P167: =SUM(M167:O167) -> 0
A168: 150 | C168: Sadalnes montāža | D168: gab. | E168: 4 | L168: =ROUND(E168*F168,2) -> 0 | M168: =ROUND(E168*H168,2) -> 0 | N168: =ROUND(E168*I168,2) -> 0 | O168: =ROUND(E168*J168,2) -> 0 | P168: =SUM(M168:O168) -> 0
... A173: 155 | C173: Būvgružu utilizācija | D173: m3 | E173: 7.2 | L173: =ROUND(E173*F173,2) -> 0 | M173: =ROUND(E173*H173,2) -> 0 | N173: =ROUND(E173*I173,2) -> 0 | O173: =ROUND(E173*J173,2) -> 0 | P173: =SUM(M173:O173) -> 0
A174: Darbi - kopsavilkums
A175: 157 | C175: Trases nospraušana | D175: objekts | E175: 1 | L175: =ROUND(E175*F175,2) -> 0 | M175: =ROUND(E175*H175,2) -> 0 | N175: =ROUND(E175*I175,2) -> 0 | O175: =ROUND(E175*J175,2) -> 0 | P175: =SUM(M175:O175) -> 0
A176: 158 | C176: Elektropārvades līnijas ģeodēziskā kontrolkartēšana | D176: objekts | E176: 1 | L176: =ROUND(E176*F176,2) -> 0 | M176: =ROUND(E176*H176,2) -> 0 | N176: =ROUND(E176*I176,2) -> 0 | O176: =ROUND(E176*J176,2) -> 0 | P176: =SUM(M176:O176) -> 0
A177: 159 | C177: Rakšanas atļaujas saņemšana | D177: objekts | E177: 1 | L177: =ROUND(E177*F177,2) -> 0 | M177: =ROUND(E177*H177,2) -> 0 | N177: =ROUND(E177*I177,2) -> 0 | O177: =ROUND(E177*J177,2) -> 0 | P177: =SUM(M177:O177) -> 0
A178: 160 | C178: Transporta un gājēju kustības organizēšana | D178: objekts | E178: 1 | L178: =ROUND(E178*F178,2) -> 0 | M178: =ROUND(E178*H178,2) -> 0 | N178: =ROUND(E178*I178,2) -> 0 | O178: =ROUND(E178*J178,2) -> 0 | P178: =SUM(M178:O178) -> 0
A179: 161 | C179: Transporta izdevumi | D179: objekts | E179: 1 | L179: =ROUND(E179*F179,2) -> 0 | M179: =ROUND(E179*H179,2) -> 0 | N179: =ROUND(E179*I179,2) -> 0 | O179: =ROUND(E179*J179,2) -> 0 | P179: =SUM(M179:O179) -> 0
A180: 162 | C180: Tehniskās dokumentācijas izgatavošana | D180: objekts | E180: 1 | L180: =ROUND(E180*F180,2) -> 0 | M180: =ROUND(E180*H180,2) -> 0 | N180: =ROUND(E180*I180,2) -> 0 | O180: =ROUND(E180*J180,2) -> 0 | P180: =SUM(M180:O180) -> 0
A181: 163 | C181: Demontēto materiālu nogādāšana uz noliktavu | D181: objekts | E181: 1 | L181: =ROUND(E181*F181,2) -> 0 | M181: =ROUND(E181*H181,2) -> 0 | N181: =ROUND(E181*I181,2) -> 0 | O181: =ROUND(E181*J181,2) -> 0 | P181: =SUM(M181:O181) -> 0
A182: 164 | C182: Objekta sagatavošana nodošanai-pieņemšanai ekspluatācijā | D182: objekts | E182: 1 | L182: =ROUND(E182*F182,2) -> 0 | M182: =ROUND(E182*H182,2) -> 0 | N182: =ROUND(E182*I182,2) -> 0 | O182: =ROUND(E182*J182,2) -> 0 | P182: =SUM(M182:O182) -> 0
A184: Tiešās izmaksas kopā, t.sk. Darba dēvēja sociālais nodoklis (23,59%) | L184: =SUM(L17:L183) -> 0 | M184: =SUM(M17:M183) -> 0 | N184: =SUM(N17:N183) -> 0 | O184: =SUM(O17:O183) -> 0 | P184: =SUM(P17:P183) -> 0
A186: =KT!A24 -> Sastādīja: | D186: =KT!C28 -> 2024. gada ____________
A187: (paraksts un tā atšifrējums, datums)
A190: =KT!A28 -> Pārbaudīja: | D190: =KT!C28 -> 2024. gada ____________
A191: (paraksts un tā atšifrējums, datums)
A192: =KT!A30 -> Sertifikāta Nr.:

Sheet 1,4
A2: Lokālā tāme Nr.1,4
A3: EST - Elektrisko sakaru sistēmas (ārējās)
A4: (būvdarbu veids vai konstruktīvā elementa nosaukums)
A6: Objekta nosaukums: | C6: =KT!B9 -> Salaspils pilsētas centrālās daļas satiksmes infrastruktūras pārbūve un pilsētas galvenā laukuma izveide 1.kārta
A7: Būves nosaukums:
A8: Objekta adrese: | C8: =KT!B12 -> Līvzemes iela, Vītolu iela, Mazā vītolu iela, Rīgas iela, Salaspils
A9: Pasūtījuma nr.:
A11: Tāme sastādīta 2024. gada tirgus cenās, pamatojoties uz būvprojekta rasējumiem | M11: Tāmes izmaksas: | O11: =P151 -> 0 | P11: EUR
N12: Tāme sastādīta | O12: =KT!C28 -> 2024. gada ____________
A14: Nr.p.k. | B14: Kods | C14: Būvdarbu nosaukums | D14: Mērvienība | E14: Daudzums | F14: Vienības izmaksas | L14: Kopā uz visu apjomu
F15: Laika norma (c/h) | G15: Darba samaksas likme (euro/h) | H15: Darba alga | I15: Būvizstrādājumi | J15: Mehānismi | K15: KOPĀ | L15: Darbietilpība (c/h) | M15: Darba alga | N15: Būvizstrādājumi | O15: Mehānismi | P15: Summa
A16: 1.kārta Pašvaldība
A17: Demontāžas darbi
A18: 1 | C18: SIA "TET" kabeļu demontāža gruntī | D18: m | E18: 200 | K18: =SUM(H18:J18) -> 0 | L18: =ROUND(E18*F18,2) -> 0 | M18: =ROUND(E18*H18,2) -> 0 | N18: =ROUND(E18*I18,2) -> 0 | O18: =ROUND(E18*J18,2) -> 0 | P18: =SUM(M18:O18) -> 0
A19: 2 | C19: SIA "TET" kabeļu demontāža skapī | D19: pāris | E19: 22 | K19: =SUM(H19:J19) -> 0 | L19: =ROUND(E19*F19,2) -> 0 | M19: =ROUND(E19*H19,2) -> 0 | N19: =ROUND(E19*I19,2) -> 0 | O19: =ROUND(E19*J19,2) -> 0 | P19: =SUM(M19:O19) -> 0
A20: 3 | C20: SIA "TET" kabeļu kanālu demontāža | D20: m | E20: 185 | K20: =SUM(H20:J20) -> 0 | L20: =ROUND(E20*F20,2) -> 0 | M20: =ROUND(E20*H20,2) -> 0 | N20: =ROUND(E20*I20,2) -> 0 | O20: =ROUND(E20*J20,2) -> 0 | P20: =SUM(M20:O20) -> 0
A21: 4 | C21: Esoša kabeļa izvilkšana no kanāliem ( vara kabelis) | D21: m | E21: 47 | K21: =SUM(H21:J21) -> 0 | L21: =ROUND(E21*F21,2) -> 0 | M21: =ROUND(E21*H21,2) -> 0 | N21: =ROUND(E21*I21,2) -> 0 | O21: =ROUND(E21*J21,2) -> 0 | P21: =SUM(M21:O21) -> 0
A22: 5 | C22: Esoša kabeļa izvilkšana no kanāliem ( optiskais kabelis) | D22: m | E22: 850 | K22: =SUM(H22:J22) -> 0 | L22: =ROUND(E22*F22,2) -> 0 | M22: =ROUND(E22*H22,2) -> 0 | N22: =ROUND(E22*I22,2) -> 0 | O22: =ROUND(E22*J22,2) -> 0 | P22: =SUM(M22:O22) -> 0
A23: 6 | C23: esošas uzmavas demontāža līdz 20 x2 | D23: gb | E23: 1 | K23: =SUM(H23:J23) -> 0 | L23: =ROUND(E23*F23,2) -> 0 | M23: =ROUND(E23*H23,2) -> 0 | N23: =ROUND(E23*I23,2) -> 0 | O23: =ROUND(E23*J23,2) -> 0 | P23: =SUM(M23:O23) -> 0
A24: Kabeļu kanalizācijas izbūve
A25: 8 | C25: Tranšejas rakšana un aizbēršana, platums 0.5m (daļēji ar rokām) | D25: m | E25: 288 | K25: =SUM(H25:J25) -> 0 | L25: =ROUND(E25*F25,2) -> 0 | M25: =ROUND(E25*H25,2) -> 0 | N25: =ROUND(E25*I25,2) -> 0 | O25: =ROUND(E25*J25,2) -> 0 | P25: =SUM(M25:O25) -> 0
A26: 9 | C26: Kabeļu kanalizācijas cauruļu ieguldīšana tranšejā | D26: m | E26: 537 | K26: =SUM(H26:J26) -> 0 | L26: =ROUND(E26*F26,2) -> 0 | M26: =ROUND(E26*H26,2) -> 0 | N26: =ROUND(E26*I26,2) -> 0 | O26: =ROUND(E26*J26,2) -> 0 | P26: =SUM(M26:O26) -> 0
A27: 10 | C27: Esošo komunikāciju bridinājumu lentas atjaunošana ( Baltcom tīkli) | D27: m | E27: 19 | K27: =SUM(H27:J27) -> 0 | L27: =ROUND(E27*F27,2) -> 0 | M27: =ROUND(E27*H27,2) -> 0 | N27: =ROUND(E27*I27,2) -> 0 | O27: =ROUND(E27*J27,2) -> 0 | P27: =SUM(M27:O27) -> 0
A28: 11 | C28: Esošo komunikāciju aizsardzība ar dalitām aizargcaurulēm (TET tīkli) | D28: m | E28: 20 | K28: =SUM(H28:J28) -> 0 | L28: =ROUND(E28*F28,2) -> 0 | M28: =ROUND(E28*H28,2) -> 0 | N28: =ROUND(E28*I28,2) -> 0 | O28: =ROUND(E28*J28,2) -> 0 | P28: =SUM(M28:O28) -> 0
A29: 12 | C29: Kabeļu akas PEH (800x650) uzstādīšana (TET tīkli) | D29: gb | E29: 1 | K29: =SUM(H29:J29) -> 0 | L29: =ROUND(E29*F29,2) -> 0 | M29: =ROUND(E29*H29,2) -> 0 | N29: =ROUND(E29*I29,2) -> 0 | O29: =ROUND(E29*J29,2) -> 0 | P29: =SUM(M29:O29) -> 0
A30: 13 | C30: Kabeļu akas PEH (500x600) uzstādīšana (TET tīkli) | D30: gb | E30: 1 | K30: =SUM(H30:J30) -> 0 | L30: =ROUND(E30*F30,2) -> 0 | M30: =ROUND(E30*H30,2) -> 0 | N30: =ROUND(E30*I30,2) -> 0 | O30: =ROUND(E30*J30,2) -> 0 | P30: =SUM(M30:O30) -> 0
A31: 14 | C31: Kabeļu akas PEH (800x650) uzstādīšana (abon. tīkli) | D31: gb | E31: 3 | K31: =SUM(H31:J31) -> 0 | L31: =ROUND(E31*F31,2) -> 0 | M31: =ROUND(E31*H31,2) -> 0 | N31: =ROUND(E31*I31,2) -> 0 | O31: =ROUND(E31*J31,2) -> 0 | P31: =SUM(M31:O31) -> 0
A32: 15 | C32: Kabeļu kanalizācijas ievada uz apgaismojuma balstu ierīkošana | D32: gb | E32: 3 | K32: =SUM(H32:J32) -> 0 | L32: =ROUND(E32*F32,2) -> 0 | M32: =ROUND(E32*H32,2) -> 0 | N32: =ROUND(E32*I32,2) -> 0 | O32: =ROUND(E32*J32,2) -> 0 | P32: =SUM(M32:O32) -> 0
A33: 16 | C33: Buksiera ievilkšana | D33: m | E33: 547 | K33: =SUM(H33:J33) -> 0 | L33: =ROUND(E33*F33,2) -> 0 | M33: =ROUND(E33*H33,2) -> 0 | N33: =ROUND(E33*I33,2) -> 0 | O33: =ROUND(E33*J33,2) -> 0 | P33: =SUM(M33:O33) -> 0
A34: 17 | C34: Brīdīnājuma lentas ieguldīšana | D34: m | E34: 308 | K34: =SUM(H34:J34) -> 0 | L34: =ROUND(E34*F34,2) -> 0 | M34: =ROUND(E34*H34,2) -> 0 | N34: =ROUND(E34*I34,2) -> 0 | O34: =ROUND(E34*J34,2) -> 0 | P34: =SUM(M34:O34) -> 0
A35: 18 | C35: Esošo komunikāciju atšurfēšana | D35: gb | E35: 13 | K35: =SUM(H35:J35) -> 0 | L35: =ROUND(E35*F35,2) -> 0 | M35: =ROUND(E35*H35,2) -> 0 | N35: =ROUND(E35*I35,2) -> 0 | O35: =ROUND(E35*J35,2) -> 0 | P35: =SUM(M35:O35) -> 0
A36: 19 | C36: Darbu veikšanas projekta izstrāde | D36: gb | E36: 1 | K36: =SUM(H36:J36) -> 0 | L36: =ROUND(E36*F36,2) -> 0 | M36: =ROUND(E36*H36,2) -> 0 | N36: =ROUND(E36*I36,2) -> 0 | O36: =ROUND(E36*J36,2) -> 0 | P36: =SUM(M36:O36) -> 0
... A43: 26 | C43: Transporta izdevumi | D43: gb | E43: 1 | K43: =SUM(H43:J43) -> 0 | L43: =ROUND(E43*F43,2) -> 0 | M43: =ROUND(E43*H43,2) -> 0 | N43: =ROUND(E43*I43,2) -> 0 | O43: =ROUND(E43*J43,2) -> 0 | P43: =SUM(M43:O43) -> 0
A44: Vara kabeļi
A45: 28 | C45: Vara kabeļu ieguldīšana kab. kan., tilpums virs 100x2 | D45: m | E45: 53 | K45: =SUM(H45:J45) -> 0 | L45: =ROUND(E45*F45,2) -> 0 | M45: =ROUND(E45*H45,2) -> 0 | N45: =ROUND(E45*I45,2) -> 0 | O45: =ROUND(E45*J45,2) -> 0 | P45: =SUM(M45:O45) -> 0
A46: 29 | C46: Vara kabeļu ieguldīšana kab. kan., tilpums līdz 100x2 (ieskaitot) | D46: m | E46: 230 | K46: =SUM(H46:J46) -> 0 | L46: =ROUND(E46*F46,2) -> 0 | M46: =ROUND(E46*H46,2) -> 0 | N46: =ROUND(E46*I46,2) -> 0 | O46: =ROUND(E46*J46,2) -> 0 | P46: =SUM(M46:O46) -> 0
A47: 30 | C47: Sagatavošanas darbi kabeļa ievilkšanai brīvā, jaunizbūvētā kabeļu kanalizācijā | D47: m | E47: 288 | K47: =SUM(H47:J47) -> 0 | L47: =ROUND(E47*F47,2) -> 0 | M47: =ROUND(E47*H47,2) -> 0 | N47: =ROUND(E47*I47,2) -> 0 | O47: =ROUND(E47*J47,2) -> 0 | P47: =SUM(M47:O47) -> 0
A48: 31 | C48: Kabeļu montāža sadales skapjos, ieskaitot moduļu uzstādīšanu | D48: 100 pāri | E48: 0.4 | K48: =SUM(H48:J48) -> 0 | L48: =ROUND(E48*F48,2) -> 0 | M48: =ROUND(E48*H48,2) -> 0 | N48: =ROUND(E48*I48,2) -> 0 | O48: =ROUND(E48*J48,2) -> 0 | P48: =SUM(M48:O48) -> 0
A49: 32 | C49: Maģistrālo kabeļu pāru montāža paralēlā uzmavā, kabeļa tilpums 400x2, izmantojot 10x2 savienošanas moduli, ieskaitot kabeļu atzarojumus | D49: uzmava | E49: 2 | K49: =SUM(H49:J49) -> 0 | L49: =ROUND(E49*F49,2) -> 0 | M49: =ROUND(E49*H49,2) -> 0 | N49: =ROUND(E49*I49,2) -> 0 | O49: =ROUND(E49*J49,2) -> 0 | P49: =SUM(M49:O49) -> 0
A50: 33 | C50: Maģistrālo kabeļu uzmavas montāža, kabeļiem ar kopējo tilpumu virs 100x2, kabeļu skaits līdz 3 kabeļiem | D50: uzmava | E50: 2 | K50: =SUM(H50:J50) -> 0 | L50: =ROUND(E50*F50,2) -> 0 | M50: =ROUND(E50*H50,2) -> 0 | N50: =ROUND(E50*I50,2) -> 0 | O50: =ROUND(E50*J50,2) -> 0 | P50: =SUM(M50:O50) -> 0
A51: 34 | C51: Sadales tīkla kabeļa pāru montāža paralēlā uzmavā, kabeļa tilpums 50x2, ieskaitot kabeļu atzarojumus | D51: uzmava | E51: 5 | K51: =SUM(H51:J51) -> 0 | L51: =ROUND(E51*F51,2) -> 0 | M51: =ROUND(E51*H51,2) -> 0 | N51: =ROUND(E51*I51,2) -> 0 | O51: =ROUND(E51*J51,2) -> 0 | P51: =SUM(M51:O51) -> 0
A52: 35 | C52: Sadales tīkla kabeļa uzmavas montāža, kabeļiem ar kopējo tilpumu līdz 100x2, kabeļu skaits līdz 2 kabeļiem | D52: uzmava | E52: 5 | K52: =SUM(H52:J52) -> 0 | L52: =ROUND(E52*F52,2) -> 0 | M52: =ROUND(E52*H52,2) -> 0 | N52: =ROUND(E52*I52,2) -> 0 | O52: =ROUND(E52*J52,2) -> 0 | P52: =SUM(M52:O52) -> 0
A53: 36 | C53: Tet kabeļu pārslēgšanas darbu plānošana, atļauju saņemšana, nodošana | D53: gab. | E53: 1 | K53: =SUM(H53:J53) -> 0 | L53: =ROUND(E53*F53,2) -> 0 | M53: =ROUND(E53*H53,2) -> 0 | N53: =ROUND(E53*I53,2) -> 0 | O53: =ROUND(E53*J53,2) -> 0 | P53: =SUM(M53:O53) -> 0
A54: 37 | C54: Sagatavošanas darbi SIA "Tet" tīkla pārbuvei/pārslēgšanai* | D54: c./st. | E54: 183 | K54: =SUM(H54:J54) -> 0 | L54: =ROUND(E54*F54,2) -> 0 | M54: =ROUND(E54*H54,2) -> 0 | N54: =ROUND(E54*I54,2) -> 0 | O54: =ROUND(E54*J54,2) -> 0 | P54: =SUM(M54:O54) -> 0
A55: 38 | C55: Vara kabeļu mērijumi | D55: pāris | E55: 39 | K55: =SUM(H55:J55) -> 0 | L55: =ROUND(E55*F55,2) -> 0 | M55: =ROUND(E55*H55,2) -> 0 | N55: =ROUND(E55*I55,2) -> 0 | O55: =ROUND(E55*J55,2) -> 0 | P55: =SUM(M55:O55) -> 0
A56: 39 | C56: Izpilddokumentāciju sagatavošana | D56: objekts | E56: 1 | K56: =SUM(H56:J56) -> 0 | L56: =ROUND(E56*F56,2) -> 0 | M56: =ROUND(E56*H56,2) -> 0 | N56: =ROUND(E56*I56,2) -> 0 | O56: =ROUND(E56*J56,2) -> 0 | P56: =SUM(M56:O56) -> 0
A57: Optiskie kabeļi
A58: 41 | C58: Optiskā kabeļa iepūšana kabeļu kanalizācijas caurulē | D58: m | E58: 810 | K58: =SUM(H58:J58) -> 0 | L58: =ROUND(E58*F58,2) -> 0 | M58: =ROUND(E58*H58,2) -> 0 | N58: =ROUND(E58*I58,2) -> 0 | O58: =ROUND(E58*J58,2) -> 0 | P58: =SUM(M58:O58) -> 0
A59: 42 | C59: Uzmavas uzstādīšana un 2 optisko kabeļu iestrāde uzmavā (XOK tipa uzmava) | D59: uzmava | E59: 3 | K59: =SUM(H59:J59) -> 0 | L59: =ROUND(E59*F59,2) -> 0 | M59: =ROUND(E59*H59,2) -> 0 | N59: =ROUND(E59*I59,2) -> 0 | O59: =ROUND(E59*J59,2) -> 0 | P59: =SUM(M59:O59) -> 0
A60: 43 | C60: Jauna 12F, 24F optiskā kabeļa pievienošana esošajai uzmavai | D60: kabelis | E60: 1 | K60: =SUM(H60:J60) -> 0 | L60: =ROUND(E60*F60,2) -> 0 | M60: =ROUND(E60*H60,2) -> 0 | N60: =ROUND(E60*I60,2) -> 0 | O60: =ROUND(E60*J60,2) -> 0 | P60: =SUM(M60:O60) -> 0
A61: 44 | C61: Jauna 48F, 96F, 144F optiskā kabeļa pievienošana esošajai uzmavai | D61: kabelis | E61: 2 | K61: =SUM(H61:J61) -> 0 | L61: =ROUND(E61*F61,2) -> 0 | M61: =ROUND(E61*H61,2) -> 0 | N61: =ROUND(E61*I61,2) -> 0 | O61: =ROUND(E61*J61,2) -> 0 | P61: =SUM(M61:O61) -> 0
A62: 45 | C62: Optiskā kabeļa šķiedru metināšana, montāžas kvalitātes kontrole pēc montāžas pabeigšanas (jaunieguldīts kabelis) 1. šķiedra | D62: metinājums | E62: 6 | K62: =SUM(H62:J62) -> 0 | L62: =ROUND(E62*F62,2) -> 0 | M62: =ROUND(E62*H62,2) -> 0 | N62: =ROUND(E62*I62,2) -> 0 | O62: =ROUND(E62*J62,2) -> 0 | P62: =SUM(M62:O62) -> 0
A63: 46 | C63: Optiskā kabeļa šķiedru metināšana, montāžas kvalitātes kontrole pēc montāžas pabeigšanas (jaunieguldīts kabelis) katra nākošā šķiedra* | D63: metinājums | E63: 426 | K63: =SUM(H63:J63) -> 0 | L63: =ROUND(E63*F63,2) -> 0 | M63: =ROUND(E63*H63,2) -> 0 | N63: =ROUND(E63*I63,2) -> 0 | O63: =ROUND(E63*J63,2) -> 0 | P63: =SUM(M63:O63) -> 0
A64: 47 | C64: Optiskā kabeļa uzmavas montāža un kabeļa mērījumi, 24 dzīslu optiskais kabelis (uzmava) | D64: uzmava | E64: 2 | K64: =SUM(H64:J64) -> 0 | L64: =ROUND(E64*F64,2) -> 0 | M64: =ROUND(E64*H64,2) -> 0 | N64: =ROUND(E64*I64,2) -> 0 | O64: =ROUND(E64*J64,2) -> 0 | P64: =SUM(M64:O64) -> 0
A65: 48 | C65: Optiskā kabeļa uzmavas montāža un kabeļa mērījumi, 96 dzīslu optiskais kabelis (uzmava) | D65: uzmava | E65: 4 | K65: =SUM(H65:J65) -> 0 | L65: =ROUND(E65*F65,2) -> 0 | M65: =ROUND(E65*H65,2) -> 0 | N65: =ROUND(E65*I65,2) -> 0 | O65: =ROUND(E65*J65,2) -> 0 | P65: =SUM(M65:O65) -> 0
A66: Materiāli
A67: Abonentu kabeļu kanalizācija
A68: 51 | C68: Kab.kanaliz.caurule 100x6000 (450N) | D68: m | E68: 15 | K68: =SUM(H68:J68) -> 0 | L68: =ROUND(E68*F68,2) -> 0 | M68: =ROUND(E68*H68,2) -> 0 | N68: =ROUND(E68*I68,2) -> 0 | O68: =ROUND(E68*J68,2) -> 0 | P68: =SUM(M68:O68) -> 0
A69: 52 | C69: Kab.kanaliz.caurule 50mm (450N) | D69: m | E69: 69 | K69: =SUM(H69:J69) -> 0 | L69: =ROUND(E69*F69,2) -> 0 | M69: =ROUND(E69*H69,2) -> 0 | N69: =ROUND(E69*I69,2) -> 0 | O69: =ROUND(E69*J69,2) -> 0 | P69: =SUM(M69:O69) -> 0
A70: 53 | C70: Kab.kanaliz.caurule 100x6000 (750N) | D70: m | E70: 75 | K70: =SUM(H70:J70) -> 0 | L70: =ROUND(E70*F70,2) -> 0 | M70: =ROUND(E70*H70,2) -> 0 | N70: =ROUND(E70*I70,2) -> 0 | O70: =ROUND(E70*J70,2) -> 0 | P70: =SUM(M70:O70) -> 0
A71: 54 | C71: Kab.kanaliz.caurule 50mm (750N) | D71: m | E71: 57 | K71: =SUM(H71:J71) -> 0 | L71: =ROUND(E71*F71,2) -> 0 | M71: =ROUND(E71*H71,2) -> 0 | N71: =ROUND(E71*I71,2) -> 0 | O71: =ROUND(E71*J71,2) -> 0 | P71: =SUM(M71:O71) -> 0
A72: 55 | C72: Caurules noslēdzoš. gals 100 | D72: gb | E72: 6 | K72: =SUM(H72:J72) -> 0 | L72: =ROUND(E72*F72,2) -> 0 | M72: =ROUND(E72*H72,2) -> 0 | N72: =ROUND(E72*I72,2) -> 0 | O72: =ROUND(E72*J72,2) -> 0 | P72: =SUM(M72:O72) -> 0
A73: 56 | C73: Caurules noslēdzoš. gals 50 | D73: gb | E73: 8 | K73: =SUM(H73:J73) -> 0 | L73: =ROUND(E73*F73,2) -> 0 | M73: =ROUND(E73*H73,2) -> 0 | N73: =ROUND(E73*I73,2) -> 0 | O73: =ROUND(E73*J73,2) -> 0 | P73: =SUM(M73:O73) -> 0
A74: 57 | C74: Pagrieziena modulis 100/122 | D74: gb | E74: 2 | K74: =SUM(H74:J74) -> 0 | L74: =ROUND(E74*F74,2) -> 0 | M74: =ROUND(E74*H74,2) -> 0 | N74: =ROUND(E74*I74,2) -> 0 | O74: =ROUND(E74*J74,2) -> 0 | P74: =SUM(M74:O74) -> 0
A75: 58 | C75: Pagrieziena modulis 100/90 | D75: gb | E75: 3 | K75: =SUM(H75:J75) -> 0 | L75: =ROUND(E75*F75,2) -> 0 | M75: =ROUND(E75*H75,2) -> 0 | N75: =ROUND(E75*I75,2) -> 0 | O75: =ROUND(E75*J75,2) -> 0 | P75: =SUM(M75:O75) -> 0
A76: 59 | C76: Plastmasas aka PEH 800x650 ar pamatni | D76: gb | E76: 3 | K76: =SUM(H76:J76) -> 0 | L76: =ROUND(E76*F76,2) -> 0 | M76: =ROUND(E76*H76,2) -> 0 | N76: =ROUND(E76*I76,2) -> 0 | O76: =ROUND(E76*J76,2) -> 0 | P76: =SUM(M76:O76) -> 0
A77: 60 | C77: Atloks Nr.1 dzelzsbetona gredzena stiprinašanai | D77: gb | E77: 9 | K77: =SUM(H77:J77) -> 0 | L77: =ROUND(E77*F77,2) -> 0 | M77: =ROUND(E77*H77,2) -> 0 | N77: =ROUND(E77*I77,2) -> 0 | O77: =ROUND(E77*J77,2) -> 0 | P77: =SUM(M77:O77) -> 0
A78: 61 | C78: Silikons N, neitrāls hermēt. 310ml | D78: gb | E78: 3 | K78: =SUM(H78:J78) -> 0 | L78: =ROUND(E78*F78,2) -> 0 | M78: =ROUND(E78*H78,2) -> 0 | N78: =ROUND(E78*I78,2) -> 0 | O78: =ROUND(E78*J78,2) -> 0 | P78: =SUM(M78:O78) -> 0
A79: 62 | C79: Akas lūka (slodze līdz 12.5 t), peldošs | D79: gb | E79: 3 | K79: =SUM(H79:J79) -> 0 | L79: =ROUND(E79*F79,2) -> 0 | M79: =ROUND(E79*H79,2) -> 0 | N79: =ROUND(E79*I79,2) -> 0 | O79: =ROUND(E79*J79,2) -> 0 | P79: =SUM(M79:O79) -> 0
... A83: 66 | C83: Montāžas materiāli | D83: kpl | E83: 1 | K83: =SUM(H83:J83) -> 0 | L83: =ROUND(E83*F83,2) -> 0 | M83: =ROUND(E83*H83,2) -> 0 | N83: =ROUND(E83*I83,2) -> 0 | O83: =ROUND(E83*J83,2) -> 0 | P83: =SUM(M83:O83) -> 0
A84: TET kabeļu kanalizācijas
A85: 68 | C85: Caurule PVC d.100mm, 450N | D85: m | E85: 45 | K85: =SUM(H85:J85) -> 0 | L85: =ROUND(E85*F85,2) -> 0 | M85: =ROUND(E85*H85,2) -> 0 | N85: =ROUND(E85*I85,2) -> 0 | O85: =ROUND(E85*J85,2) -> 0 | P85: =SUM(M85:O85) -> 0
A86: 69 | C86: Caurule PVC d.100mm, 750N | D86: m | E86: 240 | K86: =SUM(H86:J86) -> 0 | L86: =ROUND(E86*F86,2) -> 0 | M86: =ROUND(E86*H86,2) -> 0 | N86: =ROUND(E86*I86,2) -> 0 | O86: =ROUND(E86*J86,2) -> 0 | P86: =SUM(M86:O86) -> 0
A87: 70 | C87: Kab.kanaliz.caurule 50 mm, 750N | D87: m | E87: 30 | K87: =SUM(H87:J87) -> 0 | L87: =ROUND(E87*F87,2) -> 0 | M87: =ROUND(E87*H87,2) -> 0 | N87: =ROUND(E87*I87,2) -> 0 | O87: =ROUND(E87*J87,2) -> 0 | P87: =SUM(M87:O87) -> 0
A88: 71 | C88: dalītā aizsargcaurule d 110mm, 750N (EVOCAB SPLIT N 750) | D88: m | E88: 20 | K88: =SUM(H88:J88) -> 0 | L88: =ROUND(E88*F88,2) -> 0 | M88: =ROUND(E88*H88,2) -> 0 | N88: =ROUND(E88*I88,2) -> 0 | O88: =ROUND(E88*J88,2) -> 0 | P88: =SUM(M88:O88) -> 0
A89: 72 | C89: Pagrieziena modulis 100/90 | D89: gb | E89: 3 | K89: =SUM(H89:J89) -> 0 | L89: =ROUND(E89*F89,2) -> 0 | M89: =ROUND(E89*H89,2) -> 0 | N89: =ROUND(E89*I89,2) -> 0 | O89: =ROUND(E89*J89,2) -> 0 | P89: =SUM(M89:O89) -> 0
A90: 73 | C90: Pagrieziena modulis 100/122 | D90: gb | E90: 8 | K90: =SUM(H90:J90) -> 0 | L90: =ROUND(E90*F90,2) -> 0 | M90: =ROUND(E90*H90,2) -> 0 | N90: =ROUND(E90*I90,2) -> 0 | O90: =ROUND(E90*J90,2) -> 0 | P90: =SUM(M90:O90) -> 0
A91: 74 | C91: Caurules noslēdzoš. gals UTP 100 | D91: gb | E91: 6 | K91: =SUM(H91:J91) -> 0 | L91: =ROUND(E91*F91,2) -> 0 | M91: =ROUND(E91*H91,2) -> 0 | N91: =ROUND(E91*I91,2) -> 0 | O91: =ROUND(E91*J91,2) -> 0 | P91: =SUM(M91:O91) -> 0
A92: 75 | C92: Caurules noslēdzoš. gals UTP 50 | D92: gb | E92: 2 | K92: =SUM(H92:J92) -> 0 | L92: =ROUND(E92*F92,2) -> 0 | M92: =ROUND(E92*H92,2) -> 0 | N92: =ROUND(E92*I92,2) -> 0 | O92: =ROUND(E92*J92,2) -> 0 | P92: =SUM(M92:O92) -> 0
A93: 76 | C93: Plastmasas aka PEH 800x650 ar pamatni | D93: gb | E93: 1 | K93: =SUM(H93:J93) -> 0 | L93: =ROUND(E93*F93,2) -> 0 | M93: =ROUND(E93*H93,2) -> 0 | N93: =ROUND(E93*I93,2) -> 0 | O93: =ROUND(E93*J93,2) -> 0 | P93: =SUM(M93:O93) -> 0
A94: 77 | C94: Plastmasas aka PEH 500x600 ar pamatni | D94: gb | E94: 1 | K94: =SUM(H94:J94) -> 0 | L94: =ROUND(E94*F94,2) -> 0 | M94: =ROUND(E94*H94,2) -> 0 | N94: =ROUND(E94*I94,2) -> 0 | O94: =ROUND(E94*J94,2) -> 0 | P94: =SUM(M94:O94) -> 0
A95: 78 | C95: Silikons N, neitrāls hermēt. 310ml | D95: gb | E95: 2 | K95: =SUM(H95:J95) -> 0 | L95: =ROUND(E95*F95,2) -> 0 | M95: =ROUND(E95*H95,2) -> 0 | N95: =ROUND(E95*I95,2) -> 0 | O95: =ROUND(E95*J95,2) -> 0 | P95: =SUM(M95:O95) -> 0
A96: 79 | C96: Akas lūka (slodze līdz 12.5 t), peldošs | D96: gb | E96: 2 | K96: =SUM(H96:J96) -> 0 | L96: =ROUND(E96*F96,2) -> 0 | M96: =ROUND(E96*H96,2) -> 0 | N96: =ROUND(E96*I96,2) -> 0 | O96: =ROUND(E96*J96,2) -> 0 | P96: =SUM(M96:O96) -> 0
... A101: 84 | C101: Montāžas materiāli | D101: kpl | E101: 1 | K101: =SUM(H101:J101) -> 0 | L101: =ROUND(E101*F101,2) -> 0 | M101: =ROUND(E101*H101,2) -> 0 | N101: =ROUND(E101*I101,2) -> 0 | O101: =ROUND(E101*J101,2) -> 0 | P101: =SUM(M101:O101) -> 0
A102: SIA "TET" kabeļu pārslēgšana
A103: 86 | C103: Pazemes kab.400x2x0,5, želeja pildījums | D103: m | E103: 53 | K103: =SUM(H103:J103) -> 0 | L103: =ROUND(E103*F103,2) -> 0 | M103: =ROUND(E103*H103,2) -> 0 | N103: =ROUND(E103*I103,2) -> 0 | O103: =ROUND(E103*J103,2) -> 0 | P103: =SUM(M103:O103) -> 0
A104: 87 | C104: Pazemes kab.20x2x0,5, želeja pildījums | D104: m | E104: 5 | K104: =SUM(H104:J104) -> 0 | L104: =ROUND(E104*F104,2) -> 0 | M104: =ROUND(E104*H104,2) -> 0 | N104: =ROUND(E104*I104,2) -> 0 | O104: =ROUND(E104*J104,2) -> 0 | P104: =SUM(M104:O104) -> 0
A105: 88 | C105: Pazemes kab.10x2x0,5, želeja pildījums | D105: m | E105: 50 | K105: =SUM(H105:J105) -> 0 | L105: =ROUND(E105*F105,2) -> 0 | M105: =ROUND(E105*H105,2) -> 0 | N105: =ROUND(E105*I105,2) -> 0 | O105: =ROUND(E105*J105,2) -> 0 | P105: =SUM(M105:O105) -> 0
A106: 89 | C106: Pazemes kab.3x2x0,5, želeja pildījums | D106: m | E106: 175 | K106: =SUM(H106:J106) -> 0 | L106: =ROUND(E106*F106,2) -> 0 | M106: =ROUND(E106*H106,2) -> 0 | N106: =ROUND(E106*I106,2) -> 0 | O106: =ROUND(E106*J106,2) -> 0 | P106: =SUM(M106:O106) -> 0
A107: 90 | C107: Kabeļa gals | D107: gb | E107: 1 | K107: =SUM(H107:J107) -> 0 | L107: =ROUND(E107*F107,2) -> 0 | M107: =ROUND(E107*H107,2) -> 0 | N107: =ROUND(E107*I107,2) -> 0 | O107: =ROUND(E107*J107,2) -> 0 | P107: =SUM(M107:O107) -> 0
A108: 91 | C108: Kabeļu marķēšanas uzlīmes | D108: gb | E108: 50 | K108: =SUM(H108:J108) -> 0 | L108: =ROUND(E108*F108,2) -> 0 | M108: =ROUND(E108*H108,2) -> 0 | N108: =ROUND(E108*I108,2) -> 0 | O108: =ROUND(E108*J108,2) -> 0 | P108: =SUM(M108:O108) -> 0
A109: 92 | C109: Uzmavas komplekts (Nitto) JCSA 140 | D109: gb | E109: 5 | K109: =SUM(H109:J109) -> 0 | L109: =ROUND(E109*F109,2) -> 0 | M109: =ROUND(E109*H109,2) -> 0 | N109: =ROUND(E109*I109,2) -> 0 | O109: =ROUND(E109*J109,2) -> 0 | P109: =SUM(M109:O109) -> 0
A110: 93 | C110: Uzmavas komplekts XAGA 550, 92/25-500** | D110: gb | E110: 2 | K110: =SUM(H110:J110) -> 0 | L110: =ROUND(E110*F110,2) -> 0 | M110: =ROUND(E110*H110,2) -> 0 | N110: =ROUND(E110*I110,2) -> 0 | O110: =ROUND(E110*J110,2) -> 0 | P110: =SUM(M110:O110) -> 0
A111: 94 | C111: 10 pāru savienojuma mod.(želejas pild.) | D111: gb | E111: 80 | K111: =SUM(H111:J111) -> 0 | L111: =ROUND(E111*F111,2) -> 0 | M111: =ROUND(E111*H111,2) -> 0 | N111: =ROUND(E111*I111,2) -> 0 | O111: =ROUND(E111*J111,2) -> 0 | P111: =SUM(M111:O111) -> 0
A112: 95 | C112: 10 p. Paral.piesl. papildus modulis | D112: gb | E112: 80 | K112: =SUM(H112:J112) -> 0 | L112: =ROUND(E112*F112,2) -> 0 | M112: =ROUND(E112*H112,2) -> 0 | N112: =ROUND(E112*I112,2) -> 0 | O112: =ROUND(E112*J112,2) -> 0 | P112: =SUM(M112:O112) -> 0
A113: 96 | C113: Kabeļu dzīslu savienotājs 8C | D113: gb | E113: 39 | K113: =SUM(H113:J113) -> 0 | L113: =ROUND(E113*F113,2) -> 0 | M113: =ROUND(E113*H113,2) -> 0 | N113: =ROUND(E113*I113,2) -> 0 | O113: =ROUND(E113*J113,2) -> 0 | P113: =SUM(M113:O113) -> 0
A114: 97 | C114: Kab.sav.lenta EZWrap 2176,kab.sav.aptīš. | D114: rullis | E114: 7 | K114: =SUM(H114:J114) -> 0 | L114: =ROUND(E114*F114,2) -> 0 | M114: =ROUND(E114*H114,2) -> 0 | N114: =ROUND(E114*I114,2) -> 0 | O114: =ROUND(E114*J114,2) -> 0 | P114: =SUM(M114:O114) -> 0
... A118: 101 | C118: Krosējamais vads 2x0.5 | D118: m | E118: 20 | K118: =SUM(H118:J118) -> 0 | L118: =ROUND(E118*F118,2) -> 0 | M118: =ROUND(E118*H118,2) -> 0 | N118: =ROUND(E118*I118,2) -> 0 | O118: =ROUND(E118*J118,2) -> 0 | P118: =SUM(M118:O118) -> 0
A119: SIA TET kabeļu pārslēgšana (optiskie kabeļi)
A120: 103 | C120: Opt.pazemes kab.24F FYOVD2PMU 2x12xSML | D120: m | E120: 390 | K120: =SUM(H120:J120) -> 0 | L120: =ROUND(E120*F120,2) -> 0 | M120: =ROUND(E120*H120,2) -> 0 | N120: =ROUND(E120*I120,2) -> 0 | O120: =ROUND(E120*J120,2) -> 0 | P120: =SUM(M120:O120) -> 0
...

Sheet 1,5
A2: Lokālā tāme Nr.1,5
A3: ESS-VN - Videonovērošana
A4: (būvdarbu veids vai konstruktīvā elementa nosaukums)
A6: Objekta nosaukums: | C6: =KT!B9 -> Salaspils pilsētas centrālās daļas satiksmes infrastruktūras pārbūve un pilsētas galvenā laukuma izveide 1.kārta
A7: Būves nosaukums:
A8: Objekta adrese: | C8: =KT!B12 -> Līvzemes iela, Vītolu iela, Mazā vītolu iela, Rīgas iela, Salaspils
A9: Pasūtījuma nr.:
A11: Tāme sastādīta 2024. gada tirgus cenās, pamatojoties uz būvprojekta rasējumiem | M11: Tāmes izmaksas: | O11: =P102 -> 0 | P11: EUR
N12: Tāme sastādīta | O12: =KT!C28 -> 2024. gada ____________
A14: Nr.p.k. | B14: Kods | C14: Būvdarbu nosaukums | D14: Mērvienība | E14: Daudzums | F14: Vienības izmaksas | L14: Kopā uz visu apjomu
F15: Laika norma (c/h) | G15: Darba samaksas likme (euro/h) | H15: Darba alga | I15: Būvizstrādājumi | J15: Mehānismi | K15: KOPĀ | L15: Darbietilpība (c/h) | M15: Darba alga | N15: Būvizstrādājumi | O15: Mehānismi | P15: Summa
A16: Pašvaldība
A17: Darbi
A18: 1 | C18: Sadales kastes montāža uz staba (pie VK-2, VK-5, VK-6) | D18: gab. | E18: 3 | K18: =SUM(H18:J18) -> 0 | L18: =ROUND(E18*F18,2) -> 0 | M18: =ROUND(E18*H18,2) -> 0 | N18: =ROUND(E18*I18,2) -> 0 | O18: =ROUND(E18*J18,2) -> 0 | P18: =SUM(M18:O18) -> 0
A19: 2 | C19: Kabeļu komutācija pie videokāmaras | D19: gab. | E19: 3 | K19: =SUM(H19:J19) -> 0 | L19: =ROUND(E19*F19,2) -> 0 | M19: =ROUND(E19*H19,2) -> 0 | N19: =ROUND(E19*I19,2) -> 0 | O19: =ROUND(E19*J19,2) -> 0 | P19: =SUM(M19:O19) -> 0
A20: 3 | C20: Optiskās šķiedras metināšana/savienojums | D20: gab. | E20: 4 | K20: =SUM(H20:J20) -> 0 | L20: =ROUND(E20*F20,2) -> 0 | M20: =ROUND(E20*H20,2) -> 0 | N20: =ROUND(E20*I20,2) -> 0 | O20: =ROUND(E20*J20,2) -> 0 | P20: =SUM(M20:O20) -> 0
A21: 4 | C21: Optisko šķiedru merījumi (pasportizācija un reflektogramma 1310, 1550 nm) | D21: gab. | E21: 4 | K21: =SUM(H21:J21) -> 0 | L21: =ROUND(E21*F21,2) -> 0 | M21: =ROUND(E21*H21,2) -> 0 | N21: =ROUND(E21*I21,2) -> 0 | O21: =ROUND(E21*J21,2) -> 0 | P21: =SUM(M21:O21) -> 0
A22: 5 | C22: Videokameru uzstadīšana un pieslēgšana ( kopā ar montāžs kārbu un iekārtām) | D22: kompl. | E22: 3 | K22: =SUM(H22:J22) -> 0 | L22: =ROUND(E22*F22,2) -> 0 | M22: =ROUND(E22*H22,2) -> 0 | N22: =ROUND(E22*I22,2) -> 0 | O22: =ROUND(E22*J22,2) -> 0 | P22: =SUM(M22:O22) -> 0
A23: 6 | C23: Mobilā interneta iekārtas uzstādīšana un pieslēgšana | D23: gab. | E23: 2 | K23: =SUM(H23:J23) -> 0 | L23: =ROUND(E23*F23,2) -> 0 | M23: =ROUND(E23*H23,2) -> 0 | N23: =ROUND(E23*I23,2) -> 0 | O23: =ROUND(E23*J23,2) -> 0 | P23: =SUM(M23:O23) -> 0
A24: 7 | C24: Videokameru uz staba zemējuma montāža (ar materiāliem) | D24: gab. | E24: 3 | K24: =SUM(H24:J24) -> 0 | L24: =ROUND(E24*F24,2) -> 0 | M24: =ROUND(E24*H24,2) -> 0 | N24: =ROUND(E24*I24,2) -> 0 | O24: =ROUND(E24*J24,2) -> 0 | P24: =SUM(M24:O24) -> 0
A25: 8 | C25: Zemējuma vada ieguldīšana | D25: m | E25: 60 | K25: =SUM(H25:J25) -> 0 | L25: =ROUND(E25*F25,2) -> 0 | M25: =ROUND(E25*H25,2) -> 0 | N25: =ROUND(E25*I25,2) -> 0 | O25: =ROUND(E25*J25,2) -> 0 | P25: =SUM(M25:O25) -> 0
A26: 9 | C26: Zemējuma vads pie staba | D26: m | E26: 15 | K26: =SUM(H26:J26) -> 0 | L26: =ROUND(E26*F26,2) -> 0 | M26: =ROUND(E26*H26,2) -> 0 | N26: =ROUND(E26*I26,2) -> 0 | O26: =ROUND(E26*J26,2) -> 0 | P26: =SUM(M26:O26) -> 0
A27: 10 | C27: Tīkla iekārtu konfigurācija | D27: obj. | E27: 1 | K27: =SUM(H27:J27) -> 0 | L27: =ROUND(E27*F27,2) -> 0 | M27: =ROUND(E27*H27,2) -> 0 | N27: =ROUND(E27*I27,2) -> 0 | O27: =ROUND(E27*J27,2) -> 0 | P27: =SUM(M27:O27) -> 0
A28: 11 | C28: Kabeļu ieguldīšana kabeļu kanalizācijā | D28: m | E28: 50 | K28: =SUM(H28:J28) -> 0 | L28: =ROUND(E28*F28,2) -> 0 | M28: =ROUND(E28*H28,2) -> 0 | N28: =ROUND(E28*I28,2) -> 0 | O28: =ROUND(E28*J28,2) -> 0 | P28: =SUM(M28:O28) -> 0
A29: 12 | C29: Kabeļu momontāža uz staba | D29: m | E29: 10 | K29: =SUM(H29:J29) -> 0 | L29: =ROUND(E29*F29,2) -> 0 | M29: =ROUND(E29*H29,2) -> 0 | N29: =ROUND(E29*I29,2) -> 0 | O29: =ROUND(E29*J29,2) -> 0 | P29: =SUM(M29:O29) -> 0
A30: 13 | C30: Izpilddokumentāciju sagatavošana | D30: tīkls | E30: 1 | K30: =SUM(H30:J30) -> 0 | L30: =ROUND(E30*F30,2) -> 0 | M30: =ROUND(E30*H30,2) -> 0 | N30: =ROUND(E30*I30,2) -> 0 | O30: =ROUND(E30*J30,2) -> 0 | P30: =SUM(M30:O30) -> 0
A31: Materiāli
A32: Videonovērošanas kameras
A33: 16 | C33: AXIS P3737-PLE Network Camera (panoramic 360°) | D33: gab. | E33: 2 | F33: 0 | G33: 0 | H33: =ROUND(F33*G33,2) -> 0 | J33: 0 | K33: =SUM(H33:J33) -> 0 | L33: =ROUND(E33*F33,2) -> 0 | M33: =ROUND(E33*H33,2) -> 0 | N33: =ROUND(E33*I33,2) -> 0 | O33: =ROUND(E33*J33,2) -> 0 | P33: =SUM(M33:O33) -> 0
A34: 17 | C34: AXIS P3827-PVE Panoramic Camera (panoramic 180°) | D34: gab. | E34: 1 | F34: 0 | G34: 0 | H34: =ROUND(F34*G34,2) -> 0 | J34: 0 | K34: =SUM(H34:J34) -> 0 | L34: =ROUND(E34*F34,2) -> 0 | M34: =ROUND(E34*H34,2) -> 0 | N34: =ROUND(E34*I34,2) -> 0 | O34: =ROUND(E34*J34,2) -> 0 | P34: =SUM(M34:O34) -> 0
A35: 18 | C35: AXIS TQ3802-E Cover Weathershield | D35: gab. | E35: 1 | F35: 0 | G35: 0 | H35: =ROUND(F35*G35,2) -> 0 | J35: 0 | K35: =SUM(H35:J35) -> 0 | L35: =ROUND(E35*F35,2) -> 0 | M35: =ROUND(E35*H35,2) -> 0 | N35: =ROUND(E35*I35,2) -> 0 | O35: =ROUND(E35*J35,2) -> 0 | P35: =SUM(M35:O35) -> 0
A36: 19 | C36: AXIS T94N01D Pendant Kit | D36: gab. | E36: 2 | F36: 0 | G36: 0 | H36: =ROUND(F36*G36,2) -> 0 | J36: 0 | K36: =SUM(H36:J36) -> 0 | L36: =ROUND(E36*F36,2) -> 0 | M36: =ROUND(E36*H36,2) -> 0 | N36: =ROUND(E36*I36,2) -> 0 | O36: =ROUND(E36*J36,2) -> 0 | P36: =SUM(M36:O36) -> 0
A37: 20 | C37: AXIS T91H61 Wall Mount | D37: gab. | E37: 1 | F37: 0 | G37: 0 | H37: =ROUND(F37*G37,2) -> 0 | J37: 0 | K37: =SUM(H37:J37) -> 0 | L37: =ROUND(E37*F37,2) -> 0 | M37: =ROUND(E37*H37,2) -> 0 | N37: =ROUND(E37*I37,2) -> 0 | O37: =ROUND(E37*J37,2) -> 0 | P37: =SUM(M37:O37) -> 0
A38: 21 | C38: AXIS T91B67 Pole Mount | D38: gab. | E38: 1 | F38: 0 | G38: 0 | H38: =ROUND(F38*G38,2) -> 0 | J38: 0 | K38: =SUM(H38:J38) -> 0 | L38: =ROUND(E38*F38,2) -> 0 | M38: =ROUND(E38*H38,2) -> 0 | N38: =ROUND(E38*I38,2) -> 0 | O38: =ROUND(E38*J38,2) -> 0 | P38: =SUM(M38:O38) -> 0
A39: 22 | C39: AXIS T91B57 Pole Mount | D39: gab. | E39: 1 | F39: 0 | G39: 0 | H39: =ROUND(F39*G39,2) -> 0 | J39: 0 | K39: =SUM(H39:J39) -> 0 | L39: =ROUND(E39*F39,2) -> 0 | M39: =ROUND(E39*H39,2) -> 0 | N39: =ROUND(E39*I39,2) -> 0 | O39: =ROUND(E39*J39,2) -> 0 | P39: =SUM(M39:O39) -> 0
A40: 23 | C40: AXIS T91B47 Pole Mount | D40: gab. | E40: 1 | F40: 0 | G40: 0 | H40: =ROUND(F40*G40,2) -> 0 | J40: 0 | K40: =SUM(H40:J40) -> 0 | L40: =ROUND(E40*F40,2) -> 0 | M40: =ROUND(E40*H40,2) -> 0 | N40: =ROUND(E40*I40,2) -> 0 | O40: =ROUND(E40*J40,2) -> 0 | P40: =SUM(M40:O40) -> 0
A41: 24 | C41: AXIS Surveillance Card 64 GB | D41: gab. | E41: 3 | F41: 0 | G41: 0 | H41: =ROUND(F41*G41,2) -> 0 | J41: 0 | K41: =SUM(H41:J41) -> 0 | L41: =ROUND(E41*F41,2) -> 0 | M41: =ROUND(E41*H41,2) -> 0 | N41: =ROUND(E41*I41,2) -> 0 | O41: =ROUND(E41*J41,2) -> 0 | P41: =SUM(M41:O41) -> 0
A42: Mobilā interneta iekārta
A43: 26 | C43: (RBSXTR&R11e-LTE6) SXT LTE6 kit | D43: kompl. | E43: 2 | F43: 0 | G43: 0 | H43: =ROUND(F43*G43,2) -> 0 | J43: 0 | K43: =SUM(H43:J43) -> 0 | L43: =ROUND(E43*F43,2) -> 0 | M43: =ROUND(E43*H43,2) -> 0 | N43: =ROUND(E43*I43,2) -> 0 | O43: =ROUND(E43*J43,2) -> 0 | P43: =SUM(M43:O43) -> 0
A44: Komutācija pie videonovērošanas
A45: 28 | C45: AXIS T8154 60 W SFP Midspan | D45: gab. | E45: 1 | F45: 0 | G45: 0 | H45: =ROUND(F45*G45,2) -> 0 | J45: 0 | K45: =SUM(H45:J45) -> 0 | L45: =ROUND(E45*F45,2) -> 0 | M45: =ROUND(E45*H45,2) -> 0 | N45: =ROUND(E45*I45,2) -> 0 | O45: =ROUND(E45*J45,2) -> 0 | P45: =SUM(M45:O45) -> 0
A46: 54 | C46: AXIS T8611 SFP Module LC.LX | D46: gab. | E46: 1 | F46: 0 | G46: 0 | H46: =ROUND(F46*G46,2) -> 0 | J46: 0 | K46: =SUM(H46:J46) -> 0 | L46: =ROUND(E46*F46,2) -> 0 | M46: =ROUND(E46*H46,2) -> 0 | N46: =ROUND(E46*I46,2) -> 0 | O46: =ROUND(E46*J46,2) -> 0 | P46: =SUM(M46:O46) -> 0
A47: 55 | C47: Optiskais pievienošanas vads SC 0,9/-/1/3.5 SM 0.5.m (pigtail) | D47: gab | E47: 2 | F47: 0 | G47: 0 | H47: =ROUND(F47*G47,2) -> 0 | J47: 0 | K47: =SUM(H47:J47) -> 0 | L47: =ROUND(E47*F47,2) -> 0 | M47: =ROUND(E47*H47,2) -> 0 | N47: =ROUND(E47*I47,2) -> 0 | O47: =ROUND(E47*J47,2) -> 0 | P47: =SUM(M47:O47) -> 0
A48: 56 | C48: Optiskais patch kabelis OS2 LC/SC Duplex SM 9/125, 1m | D48: gab | E48: 1 | F48: 0 | G48: 0 | H48: =ROUND(F48*G48,2) -> 0 | J48: 0 | K48: =SUM(H48:J48) -> 0 | L48: =ROUND(E48*F48,2) -> 0 | M48: =ROUND(E48*H48,2) -> 0 | N48: =ROUND(E48*I48,2) -> 0 | O48: =ROUND(E48*J48,2) -> 0 | P48: =SUM(M48:O48) -> 0
A49: 57 | C49: Patch kabelis Cat6 U/UTP 0.5 m | D49: gab | E49: 1 | F49: 0 | G49: 0 | H49: =ROUND(F49*G49,2) -> 0 | J49: 0 | K49: =SUM(H49:J49) -> 0 | L49: =ROUND(E49*F49,2) -> 0 | M49: =ROUND(E49*H49,2) -> 0 | N49: =ROUND(E49*I49,2) -> 0 | O49: =ROUND(E49*J49,2) -> 0 | P49: =SUM(M49:O49) -> 0
A50: 58 | C50: TH-003 – FTTH Optiska komutācijas kārba, līdz 2 dzīslu savienojumiem | D50: gab. | E50: 1 | F50: 0 | G50: 0 | H50: =ROUND(F50*G50,2) -> 0 | J50: 0 | K50: =SUM(H50:J50) -> 0 | L50: =ROUND(E50*F50,2) -> 0 | M50: =ROUND(E50*H50,2) -> 0 | N50: =ROUND(E50*I50,2) -> 0 | O50: =ROUND(E50*J50,2) -> 0 | P50: =SUM(M50:O50) -> 0
A51: 59 | C51: Montāžas kaste IP 65 (250x250x115 mm) ar stiprinājumu pie staba | D51: gab. | E51: 3 | F51: 0 | G51: 0 | H51: =ROUND(F51*G51,2) -> 0 | J51: 0 | K51: =SUM(H51:J51) -> 0 | L51: =ROUND(E51*F51,2) -> 0 | M51: =ROUND(E51*H51,2) -> 0 | N51: =ROUND(E51*I51,2) -> 0 | O51: =ROUND(E51*J51,2) -> 0 | P51: =SUM(M51:O51) -> 0
A52: 60 | C52: Din sliede 0.2 m | D52: gab. | E52: 3 | F52: 0 | G52: 0 | H52: =ROUND(F52*G52,2) -> 0 | J52: 0 | K52: =SUM(H52:J52) -> 0 | L52: =ROUND(E52*F52,2) -> 0 | M52: =ROUND(E52*H52,2) -> 0 | N52: =ROUND(E52*I52,2) -> 0 | O52: =ROUND(E52*J52,2) -> 0 | P52: =SUM(M52:O52) -> 0
A53: 61 | C53: Rozete IP 65 (45.2x85x65mm) | D53: gab. | E53: 3 | F53: 0 | G53: 0 | H53: =ROUND(F53*G53,2) -> 0 | J53: 0 | K53: =SUM(H53:J53) -> 0 | L53: =ROUND(E53*F53,2) -> 0 | M53: =ROUND(E53*H53,2) -> 0 | N53: =ROUND(E53*I53,2) -> 0 | O53: =ROUND(E53*J53,2) -> 0 | P53: =SUM(M53:O53) -> 0
A54: 62 | C54: pārsprieguma aizsardzības ierīce ( OVR T2-T3 1N 20-275 P QS) | D54: gab. | E54: 3 | F54: 0 | G54: 0 | H54: =ROUND(F54*G54,2) -> 0 | J54: 0 | K54: =SUM(H54:J54) -> 0 | L54: =ROUND(E54*F54,2) -> 0 | M54: =ROUND(E54*H54,2) -> 0 | N54: =ROUND(E54*I54,2) -> 0 | O54: =ROUND(E54*J54,2) -> 0 | P54: =SUM(M54:O54) -> 0
A55: Iekārtu licenses
A56: 64 | C56: XPCODL XProtect Corporate Device License (Precizēt!)* | D56: gab | E56: 3 | F56: 0 | G56: 0 | H56: =ROUND(F56*G56,2) -> 0 | J56: 0 | K56: =SUM(H56:J56) -> 0 | L56: =ROUND(E56*F56,2) -> 0 | M56: =ROUND(E56*H56,2) -> 0 | N56: =ROUND(E56*I56,2) -> 0 | O56: =ROUND(E56*J56,2) -> 0 | P56: =SUM(M56:O56) -> 0
A57: 65 | C57: YXPCODL One year Care Plus for XProtect Corporate Device License (Precizēt!)* | D57: gab | E57: 3 | F57: 0 | G57: 0 | H57: =ROUND(F57*G57,2) -> 0 | J57: 0 | K57: =SUM(H57:J57) -> 0 | L57: =ROUND(E57*F57,2) -> 0 | M57: =ROUND(E57*H57,2) -> 0 | N57: =ROUND(E57*I57,2) -> 0 | O57: =ROUND(E57*J57,2) -> 0 | P57: =SUM(M57:O57) -> 0
A58: Kabeļi
A59: 67 | C59: Optiskais kabelis 4 dz. SM (ārējais) | D59: m | E59: 54 | F59: 0 | G59: 0 | H59: =ROUND(F59*G59,2) -> 0 | J59: 0 | K59: =SUM(H59:J59) -> 0 | L59: =ROUND(E59*F59,2) -> 0 | M59: =ROUND(E59*H59,2) -> 0 | N59: =ROUND(E59*I59,2) -> 0 | O59: =ROUND(E59*J59,2) -> 0 | P59: =SUM(M59:O59) -> 0
A60: 68 | C60: F/UTP kabelis 4x2x0.5 Cat 6 (ārējais) | D60: m | E60: 6 | F60: 0 | G60: 0 | H60: =ROUND(F60*G60,2) -> 0 | J60: 0 | K60: =SUM(H60:J60) -> 0 | L60: =ROUND(E60*F60,2) -> 0 | M60: =ROUND(E60*H60,2) -> 0 | N60: =ROUND(E60*I60,2) -> 0 | O60: =ROUND(E60*J60,2) -> 0 | P60: =SUM(M60:O60) -> 0
A61: 69 | C61: Zemējuma vads 16/7 | D61: m | E61: 75 | F61: 0 | G61: 0 | H61: =ROUND(F61*G61,2) -> 0 | J61: 0 | K61: =SUM(H61:J61) -> 0 | L61: =ROUND(E61*F61,2) -> 0 | M61: =ROUND(E61*H61,2) -> 0 | N61: =ROUND(E61*I61,2) -> 0 | O61: =ROUND(E61*J61,2) -> 0 | P61: =SUM(M61:O61) -> 0
A62: Caurules
A63: 71 | C63: Papildus montāžas materiāli | D63: kompl. | E63: 1 | F63: 0 | G63: 0 | H63: =ROUND(F63*G63,2) -> 0 | J63: 0 | K63: =SUM(H63:J63) -> 0 | L63: =ROUND(E63*F63,2) -> 0 | M63: =ROUND(E63*H63,2) -> 0 | N63: =ROUND(E63*I63,2) -> 0 | O63: =ROUND(E63*J63,2) -> 0 | P63: =SUM(M63:O63) -> 0
A64: Privātīpašums
A65: Darbi
A66: 73 | C66: Sadales skapja uzstādīšana iekštelpās | D66: gab. | E66: 1 | K66: =SUM(H66:J66) -> 0 | L66: =ROUND(E66*F66,2) -> 0 | M66: =ROUND(E66*H66,2) -> 0 | N66: =ROUND(E66*I66,2) -> 0 | O66: =ROUND(E66*J66,2) -> 0 | P66: =SUM(M66:O66) -> 0
A67: 74 | C67: Kabeļu komutācija skapī VSK-1 | D67: skapis | E67: 1 | K67: =SUM(H67:J67) -> 0 | L67: =ROUND(E67*F67,2) -> 0 | M67: =ROUND(E67*H67,2) -> 0 | N67: =ROUND(E67*I67,2) -> 0 | O67: =ROUND(E67*J67,2) -> 0 | P67: =SUM(M67:O67) -> 0
A68: 75 | C68: ODF montāža ( 24 vietas) | D68: gab. | E68: 1 | K68: =SUM(H68:J68) -> 0 | L68: =ROUND(E68*F68,2) -> 0 | M68: =ROUND(E68*H68,2) -> 0 | N68: =ROUND(E68*I68,2) -> 0 | O68: =ROUND(E68*J68,2) -> 0 | P68: =SUM(M68:O68) -> 0
A69: 76 | C69: Optiskās šķiedras metināšana/savienojums | D69: gab. | E69: 2 | K69: =SUM(H69:J69) -> 0 | L69: =ROUND(E69*F69,2) -> 0 | M69: =ROUND(E69*H69,2) -> 0 | N69: =ROUND(E69*I69,2) -> 0 | O69: =ROUND(E69*J69,2) -> 0 | P69: =SUM(M69:O69) -> 0
A70: 77 | C70: Optisko šķiedru merījumi (pasportizācija un reflektogramma 1310, 1550 nm) | D70: gab. | E70: 2 | K70: =SUM(H70:J70) -> 0 | L70: =ROUND(E70*F70,2) -> 0 | M70: =ROUND(E70*H70,2) -> 0 | N70: =ROUND(E70*I70,2) -> 0 | O70: =ROUND(E70*J70,2) -> 0 | P70: =SUM(M70:O70) -> 0
A71: 78 | C71: Komutatoru uzstādīšana ( VSK-1 skapī) | D71: gab. | E71: 1 | K71: =SUM(H71:J71) -> 0 | L71: =ROUND(E71*F71,2) -> 0 | M71: =ROUND(E71*H71,2) -> 0 | N71: =ROUND(E71*I71,2) -> 0 | O71: =ROUND(E71*J71,2) -> 0 | P71: =SUM(M71:O71) -> 0
A72: 79 | C72: Kabeļu ieguldīšana kabeļu kanalizācijā | D72: m | E72: 10 | K72: =SUM(H72:J72) -> 0 | L72: =ROUND(E72*F72,2) -> 0 | M72: =ROUND(E72*H72,2) -> 0 | N72: =ROUND(E72*I72,2) -> 0 | O72: =ROUND(E72*J72,2) -> 0 | P72: =SUM(M72:O72) -> 0
A73: 80 | C73: Kabeļu montāža iekštelpās (pa sienu no ievada līdz skapim) | D73: m | E73: 20 | K73: =SUM(H73:J73) -> 0 | L73: =ROUND(E73*F73,2) -> 0 | M73: =ROUND(E73*H73,2) -> 0 | N73: =ROUND(E73*I73,2) -> 0 | O73: =ROUND(E73*J73,2) -> 0 | P73: =SUM(M73:O73) -> 0
A74: 81 | C74: Kabeļu montāža pie ēkas ārsienas (kabeļu kanālā) | D74: m | E74: 6 | K74: =SUM(H74:J74) -> 0 | L74: =ROUND(E74*F74,2) -> 0 | M74: =ROUND(E74*H74,2) -> 0 | N74: =ROUND(E74*I74,2) -> 0 | O74: =ROUND(E74*J74,2) -> 0 | P74: =SUM(M74:O74) -> 0
A75: 82 | C75: Metāla kanāla stiprināšana pie ēkas ārsienas | D75: m | E75: 6 | K75: =SUM(H75:J75) -> 0 | L75: =ROUND(E75*F75,2) -> 0 | M75: =ROUND(E75*H75,2) -> 0 | N75: =ROUND(E75*I75,2) -> 0 | O75: =ROUND(E75*J75,2) -> 0 | P75: =SUM(M75:O75) -> 0
A76: 83 | C76: Ievada ierīkošana ( caurumu urbšana) | D76: gab. | E76: 1 | K76: =SUM(H76:J76) -> 0 | L76: =ROUND(E76*F76,2) -> 0 | M76: =ROUND(E76*H76,2) -> 0 | N76: =ROUND(E76*I76,2) -> 0 | O76: =ROUND(E76*J76,2) -> 0 | P76: =SUM(M76:O76) -> 0
A77: Skapji un skapju komplektācija
A78: Skapis VSK-1
A79: 86 | C79: Telekomunikāciju skapis 19" - 12U, ((470x600x540 mm) ar stikla durvīm (iekštelpu) | D79: gab. | E79: 1 | K79: =SUM(H79:J79) -> 0 | L79: =ROUND(E79*F79,2) -> 0 | M79: =ROUND(E79*H79,2) -> 0 | N79: =ROUND(E79*I79,2) -> 0 | O79: =ROUND(E79*J79,2) -> 0 | P79: =SUM(M79:O79) -> 0
A80: 87 | C80: vadu savācējs 1U | D80: gab. | E80: 2 | K80: =SUM(H80:J80) -> 0 | L80: =ROUND(E80*F80,2) -> 0 | M80: =ROUND(E80*H80,2) -> 0 | N80: =ROUND(E80*I80,2) -> 0 | O80: =ROUND(E80*J80,2) -> 0 | P80: =SUM(M80:O80) -> 0
A81: 88 | C81: Barošanas panelis 19" (8 ligzdas ar slēdzi) | D81: gab. | E81: 1 | K81: =SUM(H81:J81) -> 0 | L81: =ROUND(E81*F81,2) -> 0 | M81: =ROUND(E81*H81,2) -> 0 | N81: =ROUND(E81*I81,2) -> 0 | O81: =ROUND(E81*J81,2) -> 0 | P81: =SUM(M81:O81) -> 0
A82: 89 | C82: Ventilātoru panelis 2 vietīga ar termoregulātoru | D82: gab. | E82: 1 | K82: =SUM(H82:J82) -> 0 | L82: =ROUND(E82*F82,2) -> 0 | M82: =ROUND(E82*H82,2) -> 0 | N82: =ROUND(E82*I82,2) -> 0 | O82: =ROUND(E82*J82,2) -> 0 | P82: =SUM(M82:O82) -> 0
A83: 90 | C83: Montāžas materiāli (skrūves, saites utt.) | D83: kompl. | E83: 1 | K83: =SUM(H83:J83) -> 0 | L83: =ROUND(E83*F83,2) -> 0 | M83: =ROUND(E83*H83,2) -> 0 | N83: =ROUND(E83*I83,2) -> 0 | O83: =ROUND(E83*J83,2) -> 0 | P83: =SUM(M83:O83) -> 0
A84: 91 | C84: Zemējuma komplekts POT10 | D84: kompl. | E84: 1 | K84: =SUM(H84:J84) -> 0 | L84: =ROUND(E84*F84,2) -> 0 | M84: =ROUND(E84*H84,2) -> 0 | N84: =ROUND(E84*I84,2) -> 0 | O84: =ROUND(E84*J84,2) -> 0 | P84: =SUM(M84:O84) -> 0
A85: 92 | C85: Komutators Cisco CBS350-24S-4G ( vai ekvivalents) | D85: gab. | E85: 1 | K85: =SUM(H85:J85) -> 0 | L85: =ROUND(E85*F85,2) -> 0 | M85: =ROUND(E85*H85,2) -> 0 | N85: =ROUND(E85*I85,2) -> 0 | O85: =ROUND(E85*J85,2) -> 0 | P85: =SUM(M85:O85) -> 0
A86: 93 | C86: MicroOptics - SFP (mini-GBIC) transceiver module (equivalent to: Cisco MGBLX1) - GigE - 1000Base-LX - LC single-mode - up to 10 km - 1310 nm | D86: gab. | E86: 1 | K86: =SUM(H86:J86) -> 0 | L86: =ROUND(E86*F86,2) -> 0 | M86: =ROUND(E86*H86,2) -> 0 | N86: =ROUND(E86*I86,2) -> 0 | O86: =ROUND(E86*J86,2) -> 0 | P86: =SUM(M86:O86) -> 0
A87: 94 | C87: FO komutācijas panelis 24 SC duplex 1U | D87: gab | E87: 1 | K87: =SUM(H87:J87) -> 0 | L87: =ROUND(E87*F87,2) -> 0 | M87: =ROUND(E87*H87,2) -> 0 | N87: =ROUND(E87*I87,2) -> 0 | O87: =ROUND(E87*J87,2) -> 0 | P87: =SUM(M87:O87) -> 0
A88: 95 | C88: Metinājuma kaste 12 šķiedras | D88: gab | E88: 2 | K88: =SUM(H88:J88) -> 0 | L88: =ROUND(E88*F88,2) -> 0 | M88: =ROUND(E88*H88,2) -> 0 | N88: =ROUND(E88*I88,2) -> 0 | O88: =ROUND(E88*J88,2) -> 0 | P88: =SUM(M88:O88) -> 0
A89: 96 | C89: Patch kabelis Cat6 U/UTP 3.0 m | D89: gab | E89: 1 | K89: =SUM(H89:J89) -> 0 | L89: =ROUND(E89*F89,2) -> 0 | M89: =ROUND(E89*H89,2) -> 0 | N89: =ROUND(E89*I89,2) -> 0 | O89: =ROUND(E89*J89,2) -> 0 | P89: =SUM(M89:O89) -> 0
A90: 97 | C90: Adapteri SC/SC duplex | D90: gab | E90: 2 | K90: =SUM(H90:J90) -> 0 | L90: =ROUND(E90*F90,2) -> 0 | M90: =ROUND(E90*H90,2) -> 0 | N90: =ROUND(E90*I90,2) -> 0 | O90: =ROUND(E90*J90,2) -> 0 | P90: =SUM(M90:O90) -> 0
... A93: 100 | C93: Šķ. savien. aizsardzības trubiņa SMOUV-1120-01 (60mm) | D93: gab | E93: 5 | K93: =SUM(H93:J93) -> 0 | L93: =ROUND(E93*F93,2) -> 0 | M93: =ROUND(E93*H93,2) -> 0 | N93: =ROUND(E93*I93,2) -> 0 | O93: =ROUND(E93*J93,2) -> 0 | P93: =SUM(M93:O93) -> 0
A94: Kabeļi
A95: 102 | C95: Optiskais kabelis 4 dz. SM (ārējais) | D95: m | E95: 36 | F95: 0 | G95: 0 | H95: =ROUND(F95*G95,2) -> 0 | J95: 0 | K95: =SUM(H95:J95) -> 0 | L95: =ROUND(E95*F95,2) -> 0 | M95: =ROUND(E95*H95,2) -> 0 | N95: =ROUND(E95*I95,2) -> 0 | O95: =ROUND(E95*J95,2) -> 0 | P95: =SUM(M95:O95) -> 0
A96: Caurules
A97: 104 | C97: Kanāls metāla, tips LKM 40060, 44x60x2000 | D97: m | E97: 5 | F97: 0 | G97: 0 | H97: =ROUND(F97*G97,2) -> 0 | J97: 0 | K97: =SUM(H97:J97) -> 0 | L97: =ROUND(E97*F97,2) -> 0 | M97: =ROUND(E97*H97,2) -> 0 | N97: =ROUND(E97*I97,2) -> 0 | O97: =ROUND(E97*J97,2) -> 0 | P97: =SUM(M97:O97) -> 0
A98: 105 | C98: PVC caurule d 40 mm | D98: m | E98: 1 | F98: 0 | G98: 0 | H98: =ROUND(F98*G98,2) -> 0 | J98: 0 | K98: =SUM(H98:J98) -> 0 | L98: =ROUND(E98*F98,2) -> 0 | M98: =ROUND(E98*H98,2) -> 0 | N98: =ROUND(E98*I98,2) -> 0 | O98: =ROUND(E98*J98,2) -> 0 | P98: =SUM(M98:O98) -> 0
A99: 106 | C99: Caurule lokanā 40 mm | D99: m | E99: 20 | F99: 0 | G99: 0 | H99: =ROUND(F99*G99,2) -> 0 | J99: 0 | K99: =SUM(H99:J99) -> 0 | L99: =ROUND(E99*F99,2) -> 0 | M99: =ROUND(E99*H99,2) -> 0 | N99: =ROUND(E99*I99,2) -> 0 | O99: =ROUND(E99*J99,2) -> 0 | P99: =SUM(M99:O99) -> 0
A100: 107 | C100: Sienas aizdares materiāli | D100: gab. | E100: 2 | F100: 0 | G100: 0 | H100: =ROUND(F100*G100,2) -> 0 | J100: 0 | K100: =SUM(H100:J100) -> 0 | L100: =ROUND(E100*F100,2) -> 0 | M100: =ROUND(E100*H100,2) -> 0 | N100: =ROUND(E100*I100,2) -> 0 | O100: =ROUND(E100*J100,2) -> 0 | P100: =SUM(M100:O100) -> 0
A102: Tiešās izmaksas kopā, t.sk. Darba dēvēja sociālais nodoklis (23,59%) | L102: =SUM(L18:L101) -> 0 | M102: =SUM(M18:M101) -> 0 | N102: =SUM(N18:N101) -> 0 | O102: =SUM(O18:O101) -> 0 | P102: =SUM(P18:P101) -> 0
C104: Piezīmes: | D104: 1. Iekārtu licenses cenas norādītas aptuvenas, tiks precizētas pie Pašvaldības policijas pārvaldes
D105: 2. Metāla kanāla, tips LKM 40060, 44x60x2000 metrāža tiks precizēta montāžas laikā. Tāmē iekļauti 500m šī materiāla
A108: =KT!A24 -> Sastādīja: | D108: =KT!C28 -> 2024. gada ____________
A109: (paraksts un tā atšifrējums, datums)
A112: =KT!A28 -> Pārbaudīja: | D112: =KT!C28 -> 2024. gada ____________
...

Sheet 1,6
A2: Lokālā tāme Nr.1,6
A3: LKT - Lietus ūdens kanalizācijas tīkli
A4: (būvdarbu veids vai konstruktīvā elementa nosaukums)
A6: Objekta nosaukums: | C6: =KT!B9 -> Salaspils pilsētas centrālās daļas satiksmes infrastruktūras pārbūve un pilsētas galvenā laukuma izveide 1.kārta
A7: Būves nosaukums:
A8: Objekta adrese: | C8: =KT!B12 -> Līvzemes iela, Vītolu iela, Mazā vītolu iela, Rīgas iela, Salaspils
A9: Pasūtījuma nr.:
A11: Tāme sastādīta 2024. gada tirgus cenās, pamatojoties uz būvprojekta rasējumiem | M11: Tāmes izmaksas: | O11: =P48 -> 0 | P11: EUR
N12: Tāme sastādīta | O12: =KT!C28 -> 2024. gada ____________
A14: Nr.p.k. | B14: Kods | C14: Būvdarbu nosaukums | D14: Mērvienība | E14: Daudzums | F14: Vienības izmaksas | L14: Kopā uz visu apjomu
F15: Laika norma (c/h) | G15: Darba samaksas likme (euro/h) | H15: Darba alga | I15: Būvizstrādājumi | J15: Mehānismi | K15: KOPĀ | L15: Darbietilpība (c/h) | M15: Darba alga | N15: Būvizstrādājumi | O15: Mehānismi | P15: Summa
A17: 1 | C17: Būvbedres rakšana, ieskaitot komunikāciju šurfēšanu pirms būvdarbiem un roku darbu komunikāciju šķērsojumos, aizvedot uz būvuzņēmēja atbērtni | D17: m³ | E17: 1315.88 | K17: =SUM(H17:J17) -> 0 | L17: =ROUND(E17*F17,2) -> 0 | M17: =ROUND(E17*H17,2) -> 0 | N17: =ROUND(E17*I17,2) -> 0 | O17: =ROUND(E17*J17,2) -> 0 | P17: =SUM(M17:O17) -> 0
A18: 2 | C18: Ūdens pazemināšanas iekārtu pielietošana, sausas būvbedres nodrošināšanai | D18: m | E18: 330.9 | K18: =SUM(H18:J18) -> 0 | L18: =ROUND(E18*F18,2) -> 0 | M18: =ROUND(E18*H18,2) -> 0 | N18: =ROUND(E18*I18,2) -> 0 | O18: =ROUND(E18*J18,2) -> 0 | P18: =SUM(M18:O18) -> 0
A19: 3 | C19: Būvbedres nostiprināšana pielietojot vairogus | D19: m2 | E19: 1654.5 | K19: =SUM(H19:J19) -> 0 | L19: =ROUND(E19*F19,2) -> 0 | M19: =ROUND(E19*H19,2) -> 0 | N19: =ROUND(E19*I19,2) -> 0 | O19: =ROUND(E19*J19,2) -> 0 | P19: =SUM(M19:O19) -> 0
A20: 4 | C20: Būvbedres aizbēršana ar pievestu grunti | D20: m³ | E20: 1108.71 | K20: =SUM(H20:J20) -> 0 | L20: =ROUND(E20*F20,2) -> 0 | M20: =ROUND(E20*H20,2) -> 0 | N20: =ROUND(E20*I20,2) -> 0 | O20: =ROUND(E20*J20,2) -> 0 | P20: =SUM(M20:O20) -> 0
A21: 5 | C21: Aku un gūliju demontāža | D21: gb. | E21: 4 | K21: =SUM(H21:J21) -> 0 | L21: =ROUND(E21*F21,2) -> 0 | M21: =ROUND(E21*H21,2) -> 0 | N21: =ROUND(E21*I21,2) -> 0 | O21: =ROUND(E21*J21,2) -> 0 | P21: =SUM(M21:O21) -> 0
A22: 6 | C22: Cauruļvadu demontāža | D22: m | E22: 194 | K22: =SUM(H22:J22) -> 0 | L22: =ROUND(E22*F22,2) -> 0 | M22: =ROUND(E22*H22,2) -> 0 | N22: =ROUND(E22*I22,2) -> 0 | O22: =ROUND(E22*J22,2) -> 0 | P22: =SUM(M22:O22) -> 0
A23: 7 | C23: Smilts pamatnes ierīkošana un apbērums | D23: m³ | E23: 157.91 | K23: =SUM(H23:J23) -> 0 | L23: =ROUND(E23*F23,2) -> 0 | M23: =ROUND(E23*H23,2) -> 0 | N23: =ROUND(E23*I23,2) -> 0 | O23: =ROUND(E23*J23,2) -> 0 | P23: =SUM(M23:O23) -> 0
A24: 8 | C24: Caurteka- cauruļu arka HCPA Helcor DN1200x1800 mm montāža | D24: m | E24: 14 | K24: =SUM(H24:J24) -> 0 | L24: =ROUND(E24*F24,2) -> 0 | M24: =ROUND(E24*H24,2) -> 0 | N24: =ROUND(E24*I24,2) -> 0 | O24: =ROUND(E24*J24,2) -> 0 | P24: =SUM(M24:O24) -> 0
A25: 9 | C25: PP Caurteka DN1000 SN8 montāža | D25: m | E25: 6 | K25: =SUM(H25:J25) -> 0 | L25: =ROUND(E25*F25,2) -> 0 | M25: =ROUND(E25*H25,2) -> 0 | N25: =ROUND(E25*I25,2) -> 0 | O25: =ROUND(E25*J25,2) -> 0 | P25: =SUM(M25:O25) -> 0
A26: 10 | C26: Kanalizācijas caurules PP RIGID OD 500 izbūve | D26: m | E26: 25.4 | K26: =SUM(H26:J26) -> 0 | L26: =ROUND(E26*F26,2) -> 0 | M26: =ROUND(E26*H26,2) -> 0 | N26: =ROUND(E26*I26,2) -> 0 | O26: =ROUND(E26*J26,2) -> 0 | P26: =SUM(M26:O26) -> 0
A27: 11 | C27: Kanalizācijas caurules PP RIGID OD 315 izbūve | D27: m | E27: 127.5 | K27: =SUM(H27:J27) -> 0 | L27: =ROUND(E27*F27,2) -> 0 | M27: =ROUND(E27*H27,2) -> 0 | N27: =ROUND(E27*I27,2) -> 0 | O27: =ROUND(E27*J27,2) -> 0 | P27: =SUM(M27:O27) -> 0
A28: 12 | C28: Kanalizācijas caurules PP RIGID OD 250 izbūve | D28: m | E28: 65 | K28: =SUM(H28:J28) -> 0 | L28: =ROUND(E28*F28,2) -> 0 | M28: =ROUND(E28*H28,2) -> 0 | N28: =ROUND(E28*I28,2) -> 0 | O28: =ROUND(E28*J28,2) -> 0 | P28: =SUM(M28:O28) -> 0
... A46: 30 | C46: Dokumentāciju sagatavošana | D46: kompl. | E46: 1 | K46: =SUM(H46:J46) -> 0 | L46: =ROUND(E46*F46,2) -> 0 | M46: =ROUND(E46*H46,2) -> 0 | N46: =ROUND(E46*I46,2) -> 0 | O46: =ROUND(E46*J46,2) -> 0 | P46: =SUM(M46:O46) -> 0
A48: Tiešās izmaksas kopā, t.sk. Darba dēvēja sociālais nodoklis (23,59%) | L48: =SUM(L17:L47) -> 0 | M48: =SUM(M17:M47) -> 0 | N48: =SUM(N17:N47) -> 0 | O48: =SUM(O17:O47) -> 0 | P48: =SUM(P17:P47) -> 0
A50: =KT!A24 -> Sastādīja: | D50: =KT!C28 -> 2024. gada ____________
A51: (paraksts un tā atšifrējums, datums)
A54: =KT!A28 -> Pārbaudīja: | D54: =KT!C28 -> 2024. gada ____________
A55: (paraksts un tā atšifrējums, datums)
A56: =KT!A30 -> Sertifikāta Nr.:

Sheet 1,7
A2: Lokālā tāme Nr.1,7
A3: UKT - Ūdensapgāde un kanalizācija (ārējā)
A4: (būvdarbu veids vai konstruktīvā elementa nosaukums)
A6: Objekta nosaukums: | C6: =KT!B9 -> Salaspils pilsētas centrālās daļas satiksmes infrastruktūras pārbūve un pilsētas galvenā laukuma izveide 1.kārta
A7: Būves nosaukums:
A8: Objekta adrese: | C8: =KT!B12 -> Līvzemes iela, Vītolu iela, Mazā vītolu iela, Rīgas iela, Salaspils
A9: Pasūtījuma nr.:
A11: Tāme sastādīta 2024. gada tirgus cenās, pamatojoties uz būvprojekta rasējumiem | M11: Tāmes izmaksas: | O11: =P79 -> 0 | P11: EUR
N12: Tāme sastādīta | O12: =KT!C28 -> 2024. gada ____________
A14: Nr.p.k. | B14: Kods | C14: Būvdarbu nosaukums | D14: Mērvienība | E14: Daudzums | F14: Vienības izmaksas | L14: Kopā uz visu apjomu
F15: Laika norma (c/h) | G15: Darba samaksas likme (euro/h) | H15: Darba alga | I15: Būvizstrādājumi | J15: Mehānismi | K15: KOPĀ | L15: Darbietilpība (c/h) | M15: Darba alga | N15: Būvizstrādājumi | O15: Mehānismi | P15: Summa
A16: Ūdensvada tīkli
A17: 1 | C17: Aku, kapīšu un pazemes hidrantu demontāža | D17: kompl. | E17: 8 | K17: =SUM(H17:J17) -> 0 | L17: =ROUND(E17*F17,2) -> 0 | M17: =ROUND(E17*H17,2) -> 0 | N17: =ROUND(E17*I17,2) -> 0 | O17: =ROUND(E17*J17,2) -> 0 | P17: =SUM(M17:O17) -> 0
A18: 2 | C18: Cauruļvadu demontāža | D18: m | E18: 183 | K18: =SUM(H18:J18) -> 0 | L18: =ROUND(E18*F18,2) -> 0 | M18: =ROUND(E18*H18,2) -> 0 | N18: =ROUND(E18*I18,2) -> 0 | O18: =ROUND(E18*J18,2) -> 0 | P18: =SUM(M18:O18) -> 0
A19: 3 | C19: Būvbedres rakšana, ieskaitot komunikāciju šurfēšanu pirms būvdarbiem un roku darbu komunikāciju šķērsojumos, aizvedot uz būvuzņēmēja atbērtni, (ja liek vairogus tranšejas apakšas platums ir vismaz 1,5m) | D19: m³ | E19: 503.88 | K19: =SUM(H19:J19) -> 0 | L19: =ROUND(E19*F19,2) -> 0 | M19: =ROUND(E19*H19,2) -> 0 | N19: =ROUND(E19*I19,2) -> 0 | O19: =ROUND(E19*J19,2) -> 0 | P19: =SUM(M19:O19) -> 0
A20: 4 | C20: Būvbedres nostiprināšana pielietojot vairogus | D20: m2 | E20: 592.8 | K20: =SUM(H20:J20) -> 0 | L20: =ROUND(E20*F20,2) -> 0 | M20: =ROUND(E20*H20,2) -> 0 | N20: =ROUND(E20*I20,2) -> 0 | O20: =ROUND(E20*J20,2) -> 0 | P20: =SUM(M20:O20) -> 0
A21: 5 | C21: Ūdens pazemināšanas iekārtu pielietošana, sausas būvbedres nodrošināšanai | D21: m | E21: 197.6 | K21: =SUM(H21:J21) -> 0 | L21: =ROUND(E21*F21,2) -> 0 | M21: =ROUND(E21*H21,2) -> 0 | N21: =ROUND(E21*I21,2) -> 0 | O21: =ROUND(E21*J21,2) -> 0 | P21: =SUM(M21:O21) -> 0
A22: 6 | C22: Būvbedres aizbēršana ar pievestu grunti | D22: m³ | E22: 123.72 | K22: =SUM(H22:J22) -> 0 | L22: =ROUND(E22*F22,2) -> 0 | M22: =ROUND(E22*H22,2) -> 0 | N22: =ROUND(E22*I22,2) -> 0 | O22: =ROUND(E22*J22,2) -> 0 | P22: =SUM(M22:O22) -> 0
A23: 7 | C23: Smilts pamatnes ierīkošana un apbērums | D23: m³ | E23: 59.28 | K23: =SUM(H23:J23) -> 0 | L23: =ROUND(E23*F23,2) -> 0 | M23: =ROUND(E23*H23,2) -> 0 | N23: =ROUND(E23*I23,2) -> 0 | O23: =ROUND(E23*J23,2) -> 0 | P23: =SUM(M23:O23) -> 0
A24: 8 | C24: Spiedvada PE100-RC caurule PN16, OD32 montāža | D24: m | E24: 20.5 | K24: =SUM(H24:J24) -> 0 | L24: =ROUND(E24*F24,2) -> 0 | M24: =ROUND(E24*H24,2) -> 0 | N24: =ROUND(E24*I24,2) -> 0 | O24: =ROUND(E24*J24,2) -> 0 | P24: =SUM(M24:O24) -> 0
A25: 9 | C25: Spiedvada PE100-RC caurule PN10, OD50 montāža | D25: m | E25: 27 | K25: =SUM(H25:J25) -> 0 | L25: =ROUND(E25*F25,2) -> 0 | M25: =ROUND(E25*H25,2) -> 0 | N25: =ROUND(E25*I25,2) -> 0 | O25: =ROUND(E25*J25,2) -> 0 | P25: =SUM(M25:O25) -> 0
A26: 10 | C26: Spiedvada PE100-RC caurule PN10, OD63 montāža | D26: m | E26: 100.4 | K26: =SUM(H26:J26) -> 0 | L26: =ROUND(E26*F26,2) -> 0 | M26: =ROUND(E26*H26,2) -> 0 | N26: =ROUND(E26*I26,2) -> 0 | O26: =ROUND(E26*J26,2) -> 0 | P26: =SUM(M26:O26) -> 0
A27: 11 | C27: Spiedvada PE100-RC caurule PN10, OD110 montāža | D27: m | E27: 49.7 | K27: =SUM(H27:J27) -> 0 | L27: =ROUND(E27*F27,2) -> 0 | M27: =ROUND(E27*H27,2) -> 0 | N27: =ROUND(E27*I27,2) -> 0 | O27: =ROUND(E27*J27,2) -> 0 | P27: =SUM(M27:O27) -> 0
A28: 12 | C28: Universālais atloku adapters, DCI DN 100 montāža | D28: kompl. | E28: 2 | K28: =SUM(H28:J28) -> 0 | L28: =ROUND(E28*F28,2) -> 0 | M28: =ROUND(E28*H28,2) -> 0 | N28: =ROUND(E28*I28,2) -> 0 | O28: =ROUND(E28*J28,2) -> 0 | P28: =SUM(M28:O28) -> 0
... A56: 40 | C56: Izpilddokumentācija un tehniskie mērijumi | D56: kompl. | E56: 1 | K56: =SUM(H56:J56) -> 0 | L56: =ROUND(E56*F56,2) -> 0 | M56: =ROUND(E56*H56,2) -> 0 | N56: =ROUND(E56*I56,2) -> 0 | O56: =ROUND(E56*J56,2) -> 0 | P56: =SUM(M56:O56) -> 0
A57: Kanalizācijas tīkli
A58: 42 | C58: Kanalizācijas cauruļu demontāža | D58: m | E58: 130 | K58: =SUM(H58:J58) -> 0 | L58: =ROUND(E58*F58,2) -> 0 | M58: =ROUND(E58*H58,2) -> 0 | N58: =ROUND(E58*I58,2) -> 0 | O58: =ROUND(E58*J58,2) -> 0 | P58: =SUM(M58:O58) -> 0
A59: 43 | C59: Aku demontāža | D59: kompl | E59: 7 | K59: =SUM(H59:J59) -> 0 | L59: =ROUND(E59*F59,2) -> 0 | M59: =ROUND(E59*H59,2) -> 0 | N59: =ROUND(E59*I59,2) -> 0 | O59: =ROUND(E59*J59,2) -> 0 | P59: =SUM(M59:O59) -> 0
A60: 44 | C60: Būvbedres rakšana, ieskaitot komunikāciju šurfēšanu pirms būvdarbiem un roku darbu komunikāciju šķērsojumos, aizvedot uz būvuzņēmēja atbērtni, (ja liek vairogus tranšejas apakšas platums ir vismaz 1,5m) | D60: m³ | E60: 717.3 | K60: =SUM(H60:J60) -> 0 | L60: =ROUND(E60*F60,2) -> 0 | M60: =ROUND(E60*H60,2) -> 0 | N60: =ROUND(E60*I60,2) -> 0 | O60: =ROUND(E60*J60,2) -> 0 | P60: =SUM(M60:O60) -> 0
A61: 45 | C61: Ūdens pazemināšanas iekārtu pielietošana, sausas būvbedres nodrošināšanai | D61: m | E61: 159.4 | K61: =SUM(H61:J61) -> 0 | L61: =ROUND(E61*F61,2) -> 0 | M61: =ROUND(E61*H61,2) -> 0 | N61: =ROUND(E61*I61,2) -> 0 | O61: =ROUND(E61*J61,2) -> 0 | P61: =SUM(M61:O61) -> 0
A62: 46 | C62: Būvbedres nostiprināšana pielietojot vairogus | D62: m2 | E62: 956.4 | K62: =SUM(H62:J62) -> 0 | L62: =ROUND(E62*F62,2) -> 0 | M62: =ROUND(E62*H62,2) -> 0 | N62: =ROUND(E62*I62,2) -> 0 | O62: =ROUND(E62*J62,2) -> 0 | P62: =SUM(M62:O62) -> 0
A63: 47 | C63: Tranšejas aizbēršana ar pievesto grunti | D63: m³ | E63: 645.57 | K63: =SUM(H63:J63) -> 0 | L63: =ROUND(E63*F63,2) -> 0 | M63: =ROUND(E63*H63,2) -> 0 | N63: =ROUND(E63*I63,2) -> 0 | O63: =ROUND(E63*J63,2) -> 0 | P63: =SUM(M63:O63) -> 0
A64: 48 | C64: Smilts pamatnes ierīkošana un apbērums | D64: m³ | E64: 71.73 | K64: =SUM(H64:J64) -> 0 | L64: =ROUND(E64*F64,2) -> 0 | M64: =ROUND(E64*H64,2) -> 0 | N64: =ROUND(E64*I64,2) -> 0 | O64: =ROUND(E64*J64,2) -> 0 | P64: =SUM(M64:O64) -> 0
A65: 49 | C65: Kanalizācijas caurules PVC OD 100, SN8 izbūve | D65: m | E65: 24 | K65: =SUM(H65:J65) -> 0 | L65: =ROUND(E65*F65,2) -> 0 | M65: =ROUND(E65*H65,2) -> 0 | N65: =ROUND(E65*I65,2) -> 0 | O65: =ROUND(E65*J65,2) -> 0 | P65: =SUM(M65:O65) -> 0
A66: 50 | C66: Kanalizācijas caurules PVC OD 160, SN8 izbūve | D66: m | E66: 76.6 | K66: =SUM(H66:J66) -> 0 | L66: =ROUND(E66*F66,2) -> 0 | M66: =ROUND(E66*H66,2) -> 0 | N66: =ROUND(E66*I66,2) -> 0 | O66: =ROUND(E66*J66,2) -> 0 | P66: =SUM(M66:O66) -> 0
A67: 51 | C67: Kanalizācijas caurules PVC OD 200, SN8 izbūve | D67: m | E67: 58.8 | K67: =SUM(H67:J67) -> 0 | L67: =ROUND(E67*F67,2) -> 0 | M67: =ROUND(E67*H67,2) -> 0 | N67: =ROUND(E67*I67,2) -> 0 | O67: =ROUND(E67*J67,2) -> 0 | P67: =SUM(M67:O67) -> 0
A68: 52 | C68: Kanalizācijas akas dzelzsbetona DN 1000 izbūve; h=2.01-2.50 m | D68: kompl. | E68: 4 | K68: =SUM(H68:J68) -> 0 | L68: =ROUND(E68*F68,2) -> 0 | M68: =ROUND(E68*H68,2) -> 0 | N68: =ROUND(E68*I68,2) -> 0 | O68: =ROUND(E68*J68,2) -> 0 | P68: =SUM(M68:O68) -> 0
A69: 53 | C69: Kanalizācijas akas dzelzsbetona DN 1000 izbūve; h=1.01-1.50 m | D69: kompl. | E69: 1 | K69: =SUM(H69:J69) -> 0 | L69: =ROUND(E69*F69,2) -> 0 | M69: =ROUND(E69*H69,2) -> 0 | N69: =ROUND(E69*I69,2) -> 0 | O69: =ROUND(E69*J69,2) -> 0 | P69: =SUM(M69:O69) -> 0
... A77: 61 | C77: Izpilddokumentācija un tehniskie mērijumi | D77: kompl. | E77: 1 | K77: =SUM(H77:J77) -> 0 | L77: =ROUND(E77*F77,2) -> 0 | M77: =ROUND(E77*H77,2) -> 0 | N77: =ROUND(E77*I77,2) -> 0 | O77: =ROUND(E77*J77,2) -> 0 | P77: =SUM(M77:O77) -> 0
A79: Tiešās izmaksas kopā, t.sk. Darba dēvēja sociālais nodoklis (23,59%) | L79: =SUM(L17:L78) -> 0 | M79: =SUM(M17:M78) -> 0 | N79: =SUM(N17:N78) -> 0 | O79: =SUM(O17:O78) -> 0 | P79: =SUM(P17:P78) -> 0
A81: =KT!A24 -> Sastādīja: | D81: =KT!C28 -> 2024. gada ____________
A82: (paraksts un tā atšifrējums, datums)
A85: =KT!A28 -> Pārbaudīja: | D85: =KT!C28 -> 2024. gada ____________
A86: (paraksts un tā atšifrējums, datums)
A87: =KT!A30 -> Sertifikāta Nr.:

Sheet 1,8
A2: Lokālā tāme Nr.1,8
A3: TS-CD - Ceļa darbi
A4: (būvdarbu veids vai konstruktīvā elementa nosaukums)
A6: Objekta nosaukums: | C6: =KT!B9 -> Salaspils pilsētas centrālās daļas satiksmes infrastruktūras pārbūve un pilsētas galvenā laukuma izveide 1.kārta
A7: Būves nosaukums:
A8: Objekta adrese: | C8: =KT!B12 -> Līvzemes iela, Vītolu iela, Mazā vītolu iela, Rīgas iela, Salaspils
A9: Pasūtījuma nr.:
A11: Tāme sastādīta 2024. gada tirgus cenās, pamatojoties uz būvprojekta rasējumiem | M11: Tāmes izmaksas: | O11: =P202 -> 0 | P11: EUR
N12: Tāme sastādīta | O12: =KT!C28 -> 2024. gada ____________
A14: Nr.p.k. | B14: Kods | C14: Būvdarbu nosaukums | D14: Mērvienība | E14: Daudzums | F14: Vienības izmaksas | L14: Kopā uz visu apjomu
F15: Laika norma (c/h) | G15: Darba samaksas likme (euro/h) | H15: Darba alga | I15: Būvizstrādājumi | J15: Mehānismi | K15: KOPĀ | L15: Darbietilpība (c/h) | M15: Darba alga | N15: Būvizstrādājumi | O15: Mehānismi | P15: Summa
A16: Pašvaldības zemes
A17: Ceļu izbūves darbi
A18: Dažādi darbi
A19: 1 | C19: Ietves bruģa seguma uz šķembu pamata (H = 15 cm) demontāža un aizvešana uz atbērtni | D19: m2 | E19: 311.1 | K19: =SUM(H19:J19) -> 0 | L19: =ROUND(E19*F19,2) -> 0 | M19: =ROUND(E19*H19,2) -> 0 | N19: =ROUND(E19*I19,2) -> 0 | O19: =ROUND(E19*J19,2) -> 0 | P19: =SUM(M19:O19) -> 0
A20: 2 | C20: Ietves asfalta seguma uz šķembu pamata (H = 15 cm) demontāža un aizvešana uz atbērtni | D20: m2 | E20: 650 | K20: =SUM(H20:J20) -> 0 | L20: =ROUND(E20*F20,2) -> 0 | M20: =ROUND(E20*H20,2) -> 0 | N20: =ROUND(E20*I20,2) -> 0 | O20: =ROUND(E20*J20,2) -> 0 | P20: =SUM(M20:O20) -> 0
A21: 3 | C21: Asfalta seguma uz šķembu pamata (H = 30 cm) demontāža un aizvešana uz atbērtni | D21: m2 | E21: 1936.7 | K21: =SUM(H21:J21) -> 0 | L21: =ROUND(E21*F21,2) -> 0 | M21: =ROUND(E21*H21,2) -> 0 | N21: =ROUND(E21*I21,2) -> 0 | O21: =ROUND(E21*J21,2) -> 0 | P21: =SUM(M21:O21) -> 0
A22: 4 | C22: Betona un betona plātņu seguma uz šķembu pamata (H=30 cm) demontāža un aizvešana uz atbērtni | D22: m2 | E22: 14.1 | K22: =SUM(H22:J22) -> 0 | L22: =ROUND(E22*F22,2) -> 0 | M22: =ROUND(E22*H22,2) -> 0 | N22: =ROUND(E22*I22,2) -> 0 | O22: =ROUND(E22*J22,2) -> 0 | P22: =SUM(M22:O22) -> 0
A23: 5 | C23: Betona pamatu/atbasta sienu demontāža un aizvešana uz atbērtni | D23: m2 | E23: 15 | K23: =SUM(H23:J23) -> 0 | L23: =ROUND(E23*F23,2) -> 0 | M23: =ROUND(E23*H23,2) -> 0 | N23: =ROUND(E23*I23,2) -> 0 | O23: =ROUND(E23*J23,2) -> 0 | P23: =SUM(M23:O23) -> 0
A24: 6 | C24: Brauktuves betona apmaļu demontāža un aizvešana uz atbērtni | D24: m | E24: 506.5 | K24: =SUM(H24:J24) -> 0 | L24: =ROUND(E24*F24,2) -> 0 | M24: =ROUND(E24*H24,2) -> 0 | N24: =ROUND(E24*I24,2) -> 0 | O24: =ROUND(E24*J24,2) -> 0 | P24: =SUM(M24:O24) -> 0
A25: 7 | C25: Ietves betona apmaļu demontāža un aizvešana uz atbērtni | D25: m | E25: 754 | K25: =SUM(H25:J25) -> 0 | L25: =ROUND(E25*F25,2) -> 0 | M25: =ROUND(E25*H25,2) -> 0 | N25: =ROUND(E25*I25,2) -> 0 | O25: =ROUND(E25*J25,2) -> 0 | P25: =SUM(M25:O25) -> 0
A26: 8 | C26: Esošu sadzīves kanalizācijas un ūdensvada kapju un aku vāku regulēšana atbilstoši proj.seguma virsmas atzīmēm | D26: gab. | E26: 28 | K26: =SUM(H26:J26) -> 0 | L26: =ROUND(E26*F26,2) -> 0 | M26: =ROUND(E26*H26,2) -> 0 | N26: =ROUND(E26*I26,2) -> 0 | O26: =ROUND(E26*J26,2) -> 0 | P26: =SUM(M26:O26) -> 0
A27: 9 | C27: Esošu TET sakaru kanalizācijas aku vāku regulēšana atbilstoši proj.seguma virsmas atzīmēm | D27: gab. | E27: 3 | K27: =SUM(H27:J27) -> 0 | L27: =ROUND(E27*F27,2) -> 0 | M27: =ROUND(E27*H27,2) -> 0 | N27: =ROUND(E27*I27,2) -> 0 | O27: =ROUND(E27*J27,2) -> 0 | P27: =SUM(M27:O27) -> 0
A28: 10 | C28: Nedarbojoša ūdensvada (d100) demontāža un aizvešana. Demontēto tīklu galu noslēgšana. Tranšejas aizbēršana pa kārtām noblīvējot. | D28: m | E28: 13.6 | K28: =SUM(H28:J28) -> 0 | L28: =ROUND(E28*F28,2) -> 0 | M28: =ROUND(E28*H28,2) -> 0 | N28: =ROUND(E28*I28,2) -> 0 | O28: =ROUND(E28*J28,2) -> 0 | P28: =SUM(M28:O28) -> 0
A29: 11 | C29: Nedarbojošas siltumtrases (2d89/160) demontāža un aizvešana. Demontēto tīklu galu noslēgšana.Tranšejas aizbēršana pa kārtām noblīvējot. | D29: m | E29: 32.72 | K29: =SUM(H29:J29) -> 0 | L29: =ROUND(E29*F29,2) -> 0 | M29: =ROUND(E29*H29,2) -> 0 | N29: =ROUND(E29*I29,2) -> 0 | O29: =ROUND(E29*J29,2) -> 0 | P29: =SUM(M29:O29) -> 0
A30: 12 | C30: Metāla margu demontāža pandusam (pie Līvzemes 8 ēkas) un aizvešana | D30: m | E30: 20 | K30: =SUM(H30:J30) -> 0 | L30: =ROUND(E30*F30,2) -> 0 | M30: =ROUND(E30*H30,2) -> 0 | N30: =ROUND(E30*I30,2) -> 0 | O30: =ROUND(E30*J30,2) -> 0 | P30: =SUM(M30:O30) -> 0
... A51: 33 | C51: Nedarbojošu sadzīves kanalizācijas aku demontāža. Demontēto tīklu galu noslēgšana. Tranšejas aizbēršana pa kārtām noblīvējot. Demontējamie inženierkomunikāciju aku ķeta (čuguna) vāki un rāmji nododami PSIA “Valgums-S” Zviedru ielā 7, Salaspilī. | D51: gab. | E51: 3 | K51: =SUM(H51:J51) -> 0 | L51: =ROUND(E51*F51,2) -> 0 | M51: =ROUND(E51*H51,2) -> 0 | N51: =ROUND(E51*I51,2) -> 0 | O51: =ROUND(E51*J51,2) -> 0 | P51: =SUM(M51:O51) -> 0
A52: Zemes klātne
A53: 35 | C53: Zemes klātnes ierakuma būvniecība un aizvešana uz atbērtni | D53: m3 | E53: 2963.35 | K53: =SUM(H53:J53) -> 0 | L53: =ROUND(E53*F53,2) -> 0 | M53: =ROUND(E53*H53,2) -> 0 | N53: =ROUND(E53*I53,2) -> 0 | O53: =ROUND(E53*J53,2) -> 0 | P53: =SUM(M53:O53) -> 0
A54: 36 | C54: Zemes klātnes uzbēruma būvniecība no pievestas grunts | D54: m3 | E54: 456.45 | K54: =SUM(H54:J54) -> 0 | L54: =ROUND(E54*F54,2) -> 0 | M54: =ROUND(E54*H54,2) -> 0 | N54: =ROUND(E54*I54,2) -> 0 | O54: =ROUND(E54*J54,2) -> 0 | P54: =SUM(M54:O54) -> 0
A55: 37 | C55: Augsnes virskārtas noņemšana (H=15cm). Būvniecības stadijā Izvērtēt iespēju izmantot atkārtoti. | D55: m2 | E55: 5675.1 | K55: =SUM(H55:J55) -> 0 | L55: =ROUND(E55*F55,2) -> 0 | M55: =ROUND(E55*H55,2) -> 0 | N55: =ROUND(E55*I55,2) -> 0 | O55: =ROUND(E55*J55,2) -> 0 | P55: =SUM(M55:O55) -> 0
A56: 38 | C56: Dūņu slāņa (h~1.4m) pilnīga nomaiņa pret atbilstošas nestspējas grunti | D56: m2 | E56: 1450 | K56: =SUM(H56:J56) -> 0 | L56: =ROUND(E56*F56,2) -> 0 | M56: =ROUND(E56*H56,2) -> 0 | N56: =ROUND(E56*I56,2) -> 0 | O56: =ROUND(E56*J56,2) -> 0 | P56: =SUM(M56:O56) -> 0
A57: Ar saistvielām nesaistītas konstruktīvās kārtas
A58: 40 | C58: Salizturīgās kārtas ( Nestspēja 90 Mpa) būvniecība zem brauktuvēm | D58: m3 | E58: 1441.1 | K58: =SUM(H58:J58) -> 0 | L58: =ROUND(E58*F58,2) -> 0 | M58: =ROUND(E58*H58,2) -> 0 | N58: =ROUND(E58*I58,2) -> 0 | O58: =ROUND(E58*J58,2) -> 0 | P58: =SUM(M58:O58) -> 0
A59: 41 | C59: Salizturīgās kārtas ( Nestspēja 60 Mpa) būvniecība zem ietvēm | D59: m3 | E59: 835.38 | K59: =SUM(H59:J59) -> 0 | L59: =ROUND(E59*F59,2) -> 0 | M59: =ROUND(E59*H59,2) -> 0 | N59: =ROUND(E59*I59,2) -> 0 | O59: =ROUND(E59*J59,2) -> 0 | P59: =SUM(M59:O59) -> 0
A60: 42 | C60: Minerālmateriālu maisījums, 2/5 (h=3cm) (brauktuves) | D60: m3 | E60: 79.9 | K60: =SUM(H60:J60) -> 0 | L60: =ROUND(E60*F60,2) -> 0 | M60: =ROUND(E60*H60,2) -> 0 | N60: =ROUND(E60*I60,2) -> 0 | O60: =ROUND(E60*J60,2) -> 0 | P60: =SUM(M60:O60) -> 0
A61: 43 | C61: Minerālmateriālu maisījums, 2/5 (h=4cm) (ietves) | D61: m3 | E61: 62.6 | K61: =SUM(H61:J61) -> 0 | L61: =ROUND(E61*F61,2) -> 0 | M61: =ROUND(E61*H61,2) -> 0 | N61: =ROUND(E61*I61,2) -> 0 | O61: =ROUND(E61*J61,2) -> 0 | P61: =SUM(M61:O61) -> 0
A62: 44 | C62: Minerālmateriālu maisījums 0/45, N-II klase (h=15cm) (brauktuvēs) | D62: m3 | E62: 386.8 | K62: =SUM(H62:J62) -> 0 | L62: =ROUND(E62*F62,2) -> 0 | M62: =ROUND(E62*H62,2) -> 0 | N62: =ROUND(E62*I62,2) -> 0 | O62: =ROUND(E62*J62,2) -> 0 | P62: =SUM(M62:O62) -> 0
A63: 45 | C63: Minerālmateriālu maisījums 0/45, N-II klase (h=12cm) (brauktuvēs) | D63: m3 | E63: 1.7 | K63: =SUM(H63:J63) -> 0 | L63: =ROUND(E63*F63,2) -> 0 | M63: =ROUND(E63*H63,2) -> 0 | N63: =ROUND(E63*I63,2) -> 0 | O63: =ROUND(E63*J63,2) -> 0 | P63: =SUM(M63:O63) -> 0
A64: 46 | C64: Minerālmateriālu maisījums 0/45, N-II klase (hvid=5cm) (brauktuvēs) | D64: m3 | E64: 3.5 | K64: =SUM(H64:J64) -> 0 | L64: =ROUND(E64*F64,2) -> 0 | M64: =ROUND(E64*H64,2) -> 0 | N64: =ROUND(E64*I64,2) -> 0 | O64: =ROUND(E64*J64,2) -> 0 | P64: =SUM(M64:O64) -> 0
A65: 47 | C65: Minerālmateriālu maisījums 0/56, N-III klase (h=15cm) (brauktuvēs) | D65: m3 | E65: 400.5 | K65: =SUM(H65:J65) -> 0 | L65: =ROUND(E65*F65,2) -> 0 | M65: =ROUND(E65*H65,2) -> 0 | N65: =ROUND(E65*I65,2) -> 0 | O65: =ROUND(E65*J65,2) -> 0 | P65: =SUM(M65:O65) -> 0
A66: 48 | C66: Minerālmateriālu maisījums 0/45, N-III klase (h=15cm) (ietvēs) | D66: m3 | E66: 234.8 | K66: =SUM(H66:J66) -> 0 | L66: =ROUND(E66*F66,2) -> 0 | M66: =ROUND(E66*H66,2) -> 0 | N66: =ROUND(E66*I66,2) -> 0 | O66: =ROUND(E66*J66,2) -> 0 | P66: =SUM(M66:O66) -> 0
A67: 49 | C67: Minerālmateriālu maisījums 0/32, N-III klase (h=20cm) (ietvēs) | D67: m3 | E67: 161.1 | K67: =SUM(H67:J67) -> 0 | L67: =ROUND(E67*F67,2) -> 0 | M67: =ROUND(E67*H67,2) -> 0 | N67: =ROUND(E67*I67,2) -> 0 | O67: =ROUND(E67*J67,2) -> 0 | P67: =SUM(M67:O67) -> 0
A68: 50 | C68: Minerālmateriālu maisījums 0/56, N-IV klase (h=20cm) (stiprinātam zālienam) | D68: m3 | E68: 49.1 | K68: =SUM(H68:J68) -> 0 | L68: =ROUND(E68*F68,2) -> 0 | M68: =ROUND(E68*H68,2) -> 0 | N68: =ROUND(E68*I68,2) -> 0 | O68: =ROUND(E68*J68,2) -> 0 | P68: =SUM(M68:O68) -> 0
A69: 51 | C69: Vidēji rupjgraudaina smilts | D69: m3 | E69: 43.3 | K69: =SUM(H69:J69) -> 0 | L69: =ROUND(E69*F69,2) -> 0 | M69: =ROUND(E69*H69,2) -> 0 | N69: =ROUND(E69*I69,2) -> 0 | O69: =ROUND(E69*J69,2) -> 0 | P69: =SUM(M69:O69) -> 0
... A75: 57 | C75: Auglīgā augsne 50% + min.materiāla maisījums (fr.0/45) N-III klase 50% (h=15cm), sk. arī zemes klātnes pozīciju 2.3 | D75: m2 | E75: 236.2 | K75: =SUM(H75:J75) -> 0 | L75: =ROUND(E75*F75,2) -> 0 | M75: =ROUND(E75*H75,2) -> 0 | N75: =ROUND(E75*I75,2) -> 0 | O75: =ROUND(E75*J75,2) -> 0 | P75: =SUM(M75:O75) -> 0
A76: Ar saistvielām saistītas konstruktīvās kārtas
A77: 59 | C77: Karstais asfalts AC 11 surf, 50/70 S-II klase - 4cm | D77: m2 | E77: 23.2 | K77: =SUM(H77:J77) -> 0 | L77: =ROUND(E77*F77,2) -> 0 | M77: =ROUND(E77*H77,2) -> 0 | N77: =ROUND(E77*I77,2) -> 0 | O77: =ROUND(E77*J77,2) -> 0 | P77: =SUM(M77:O77) -> 0
A78: 60 | C78: Bitumena emulsijas gruntējums | D78: m2 | E78: 23.2 | K78: =SUM(H78:J78) -> 0 | L78: =ROUND(E78*F78,2) -> 0 | M78: =ROUND(E78*H78,2) -> 0 | N78: =ROUND(E78*I78,2) -> 0 | O78: =ROUND(E78*J78,2) -> 0 | P78: =SUM(M78:O78) -> 0
A79: 61 | C79: Mehāniski saistīta minerālmat. maisījuma virskārta HanseGrand Original (fr.0/5), bēšs granīts - 4cm | D79: m2 | E79: 774.9 | K79: =SUM(H79:J79) -> 0 | L79: =ROUND(E79*F79,2) -> 0 | M79: =ROUND(E79*H79,2) -> 0 | N79: =ROUND(E79*I79,2) -> 0 | O79: =ROUND(E79*J79,2) -> 0 | P79: =SUM(M79:O79) -> 0
A80: 62 | C80: Mehāniski saistīta minerālmat. maisījuma pamatkārta HanseGrand Minerall (fr.0/16) - 6cm | D80: m2 | E80: 829.1 | K80: =SUM(H80:J80) -> 0 | L80: =ROUND(E80*F80,2) -> 0 | M80: =ROUND(E80*H80,2) -> 0 | N80: =ROUND(E80*I80,2) -> 0 | O80: =ROUND(E80*J80,2) -> 0 | P80: =SUM(M80:O80) -> 0
A81: Satiksmes aprīkojums
A82: 64 | C82: Betona ielas apmale uz betona C30/37 pamata ar uzstādīšanu Izmēri: 1000x150x300 (mm) | D82: m | E82: 233.4 | K82: =SUM(H82:J82) -> 0 | L82: =ROUND(E82*F82,2) -> 0 | M82: =ROUND(E82*H82,2) -> 0 | N82: =ROUND(E82*I82,2) -> 0 | O82: =ROUND(E82*J82,2) -> 0 | P82: =SUM(M82:O82) -> 0
A83: 65 | C83: Betona ielas apmale uz betona C30/37 pamata ar uzstādīšanu Izmēri: 1000x150x300L (mm) (Labā) | D83: m | E83: 3 | K83: =SUM(H83:J83) -> 0 | L83: =ROUND(E83*F83,2) -> 0 | M83: =ROUND(E83*H83,2) -> 0 | N83: =ROUND(E83*I83,2) -> 0 | O83: =ROUND(E83*J83,2) -> 0 | P83: =SUM(M83:O83) -> 0
A84: 66 | C84: Betona ielas apmale uz betona C30/37 pamata ar uzstādīšanu Izmēri: 1000x150x300K (mm) (Kreisā) | D84: m | E84: 6 | K84: =SUM(H84:J84) -> 0 | L84: =ROUND(E84*F84,2) -> 0 | M84: =ROUND(E84*H84,2) -> 0 | N84: =ROUND(E84*I84,2) -> 0 | O84: =ROUND(E84*J84,2) -> 0 | P84: =SUM(M84:O84) -> 0
A85: 67 | C85: Betona ielas apmale uz betona C30/37 pamata ar uzstādīšanu Izmēri: 1000x150x220 (mm) | D85: m | E85: 388.2 | K85: =SUM(H85:J85) -> 0 | L85: =ROUND(E85*F85,2) -> 0 | M85: =ROUND(E85*H85,2) -> 0 | N85: =ROUND(E85*I85,2) -> 0 | O85: =ROUND(E85*J85,2) -> 0 | P85: =SUM(M85:O85) -> 0
A86: 68 | C86: Granīta ielas apmale uz betona C30/37 pamata ar uzstādīšanu Izmēri: 1000x150x220 (mm) (Tonis: Gabra vai Tansky -tonis saskaņojams AU kārtībā ar pasūtītāju un TS-L daļas izstrādātāju) | D86: m | E86: 112.9 | K86: =SUM(H86:J86) -> 0 | L86: =ROUND(E86*F86,2) -> 0 | M86: =ROUND(E86*H86,2) -> 0 | N86: =ROUND(E86*I86,2) -> 0 | O86: =ROUND(E86*J86,2) -> 0 | P86: =SUM(M86:O86) -> 0
A87: 69 | C87: Ietves apmale uz betona C30/37 pamata ar uzstādīšanu Izmēri: 1000x80x200 (mm) | D87: m | E87: 1070 | K87: =SUM(H87:J87) -> 0 | L87: =ROUND(E87*F87,2) -> 0 | M87: =ROUND(E87*H87,2) -> 0 | N87: =ROUND(E87*I87,2) -> 0 | O87: =ROUND(E87*J87,2) -> 0 | P87: =SUM(M87:O87) -> 0
A88: 70 | C88: Kinely AluExcel L profila alumīnija apmale (vai analogs), h=4cm, kopā ar tērauda spirālveida fiksācijas mietiem un ar uzstādīšanu | D88: m | E88: 414.2 | K88: =SUM(H88:J88) -> 0 | L88: =ROUND(E88*F88,2) -> 0 | M88: =ROUND(E88*H88,2) -> 0 | N88: =ROUND(E88*I88,2) -> 0 | O88: =ROUND(E88*J88,2) -> 0 | P88: =SUM(M88:O88) -> 0
A89: 71 | C89: Ceļa zīmes pārvietojamas t.sk. balsts ja nepieciešams | K89: =SUM(H89:J89) -> 0 | L89: =ROUND(E89*F89,2) -> 0 | M89: =ROUND(E89*H89,2) -> 0 | N89: =ROUND(E89*I89,2) -> 0 | O89: =ROUND(E89*J89,2) -> 0 | P89: =SUM(M89:O89) -> 0
A90: 72 | C90: 4. grupas zīmes | D90: gab. | E90: 1 | K90: =SUM(H90:J90) -> 0 | L90: =ROUND(E90*F90,2) -> 0 | M90: =ROUND(E90*H90,2) -> 0 | N90: =ROUND(E90*I90,2) -> 0 | O90: =ROUND(E90*J90,2) -> 0 | P90: =SUM(M90:O90) -> 0
A92: 74 | C92: Balstu pārvietošana ar informācijas norādēm/ielu nosaukumiem | D92: gab. | E92: 4 | K92: =SUM(H92:J92) -> 0 | L92: =ROUND(E92*F92,2) -> 0 | M92: =ROUND(E92*H92,2) -> 0 | N92: =ROUND(E92*I92,2) -> 0 | O92: =ROUND(E92*J92,2) -> 0 | P92: =SUM(M92:O92) -> 0
A93: 75 | C93: Ceļa zīmes demontējamas t.sk. balsts ja nepieciešams. Demontētās zīmes nododamas pašvalībai. | K93: =SUM(H93:J93) -> 0 | L93: =ROUND(E93*F93,2) -> 0 | M93: =ROUND(E93*H93,2) -> 0 | N93: =ROUND(E93*I93,2) -> 0 | O93: =ROUND(E93*J93,2) -> 0 | P93: =SUM(M93:O93) -> 0
A94: 76 | C94: 2. grupas zīmes | D94: gab. | E94: 1 | K94: =SUM(H94:J94) -> 0 | L94: =ROUND(E94*F94,2) -> 0 | M94: =ROUND(E94*H94,2) -> 0 | N94: =ROUND(E94*I94,2) -> 0 | O94: =ROUND(E94*J94,2) -> 0 | P94: =SUM(M94:O94) -> 0
A95: 77 | C95: 3. grupas zīmes | D95: gab. | E95: 2 | K95: =SUM(H95:J95) -> 0 | L95: =ROUND(E95*F95,2) -> 0 | M95: =ROUND(E95*H95,2) -> 0 | N95: =ROUND(E95*I95,2) -> 0 | O95: =ROUND(E95*J95,2) -> 0 | P95: =SUM(M95:O95) -> 0
A96: 78 | C96: 4. grupas zīmes | D96: gab. | E96: 3 | K96: =SUM(H96:J96) -> 0 | L96: =ROUND(E96*F96,2) -> 0 | M96: =ROUND(E96*H96,2) -> 0 | N96: =ROUND(E96*I96,2) -> 0 | O96: =ROUND(E96*J96,2) -> 0 | P96: =SUM(M96:O96) -> 0
A97: 79 | C97: 5. grupas zīmes | D97: gab. | E97: 4 | K97: =SUM(H97:J97) -> 0 | L97: =ROUND(E97*F97,2) -> 0 | M97: =ROUND(E97*H97,2) -> 0 | N97: =ROUND(E97*I97,2) -> 0 | O97: =ROUND(E97*J97,2) -> 0 | P97: =SUM(M97:O97) -> 0
A98: 80 | C98: 8. grupas zīmes | D98: gab. | E98: 6 | K98: =SUM(H98:J98) -> 0 | L98: =ROUND(E98*F98,2) -> 0 | M98: =ROUND(E98*H98,2) -> 0 | N98: =ROUND(E98*I98,2) -> 0 | O98: =ROUND(E98*J98,2) -> 0 | P98: =SUM(M98:O98) -> 0
A100: 82 | C100: Ceļa zīmes projektējamās | D100: gab. | K100: =SUM(H100:J100) -> 0 | L100: =ROUND(E100*F100,2) -> 0 | M100: =ROUND(E100*H100,2) -> 0 | N100: =ROUND(E100*I100,2) -> 0 | O100: =ROUND(E100*J100,2) -> 0 | P100: =SUM(M100:O100) -> 0
A101: 83 | C101: 2. grupas zīmes | K101: =SUM(H101:J101) -> 0 | L101: =ROUND(E101*F101,2) -> 0 | M101: =ROUND(E101*H101,2) -> 0 | N101: =ROUND(E101*I101,2) -> 0 | O101: =ROUND(E101*J101,2) -> 0 | P101: =SUM(M101:O101) -> 0
A102: 84 | C102: 206 | D102: gab. | E102: 4 | K102: =SUM(H102:J102) -> 0 | L102: =ROUND(E102*F102,2) -> 0 | M102: =ROUND(E102*H102,2) -> 0 | N102: =ROUND(E102*I102,2) -> 0 | O102: =ROUND(E102*J102,2) -> 0 | P102: =SUM(M102:O102) -> 0
A103: 85 | C103: 3. grupas zīmes | K103: =SUM(H103:J103) -> 0 | L103: =ROUND(E103*F103,2) -> 0 | M103: =ROUND(E103*H103,2) -> 0 | N103: =ROUND(E103*I103,2) -> 0 | O103: =ROUND(E103*J103,2) -> 0 | P103: =SUM(M103:O103) -> 0
A104: 86 | C104: 301 (izliekta) | D104: gab. | E104: 4 | K104: =SUM(H104:J104) -> 0 | L104: =ROUND(E104*F104,2) -> 0 | M104: =ROUND(E104*H104,2) -> 0 | N104: =ROUND(E104*I104,2) -> 0 | O104: =ROUND(E104*J104,2) -> 0 | P104: =SUM(M104:O104) -> 0
A105: 87 | C105: 302 | D105: gab. | E105: 1 | K105: =SUM(H105:J105) -> 0 | L105: =ROUND(E105*F105,2) -> 0 | M105: =ROUND(E105*H105,2) -> 0 | N105: =ROUND(E105*I105,2) -> 0 | O105: =ROUND(E105*J105,2) -> 0 | P105: =SUM(M105:O105) -> 0
A106: 88 | C106: 326 | D106: gab. | E106: 3 | K106: =SUM(H106:J106) -> 0 | L106: =ROUND(E106*F106,2) -> 0 | M106: =ROUND(E106*H106,2) -> 0 | N106: =ROUND(E106*I106,2) -> 0 | O106: =ROUND(E106*J106,2) -> 0 | P106: =SUM(M106:O106) -> 0
A107: 89 | C107: 4. grupas zīmes | K107: 0 | L107: =ROUND(E107*F107,2) -> 0 | M107: =ROUND(E107*H107,2) -> 0 | N107: =ROUND(E107*I107,2) -> 0 | O107: =ROUND(E107*J107,2) -> 0 | P107: =SUM(M107:O107) -> 0
A108: 90 | C108: 402 | D108: gab. | E108: 1 | K108: =SUM(H108:J108) -> 0 | L108: =ROUND(E108*F108,2) -> 0 | M108: =ROUND(E108*H108,2) -> 0 | N108: =ROUND(E108*I108,2) -> 0 | O108: =ROUND(E108*J108,2) -> 0 | P108: =SUM(M108:O108) -> 0
A109: 91 | C109: 417 | D109: gab. | E109: 3 | K109: =SUM(H109:J109) -> 0 | L109: =ROUND(E109*F109,2) -> 0 | M109: =ROUND(E109*H109,2) -> 0 | N109: =ROUND(E109*I109,2) -> 0 | O109: =ROUND(E109*J109,2) -> 0 | P109: =SUM(M109:O109) -> 0
A110: 92 | C110: 418 | D110: gab. | E110: 2 | K110: =SUM(H110:J110) -> 0 | L110: =ROUND(E110*F110,2) -> 0 | M110: =ROUND(E110*H110,2) -> 0 | N110: =ROUND(E110*I110,2) -> 0 | O110: =ROUND(E110*J110,2) -> 0 | P110: =SUM(M110:O110) -> 0
A111: 93 | C111: 419 | D111: gab. | E111: 1 | K111: =SUM(H111:J111) -> 0 | L111: =ROUND(E111*F111,2) -> 0 | M111: =ROUND(E111*H111,2) -> 0 | N111: =ROUND(E111*I111,2) -> 0 | O111: =ROUND(E111*J111,2) -> 0 | P111: =SUM(M111:O111) -> 0
A112: 94 | C112: 420 | D112: gab. | E112: 1 | K112: =SUM(H112:J112) -> 0 | L112: =ROUND(E112*F112,2) -> 0 | M112: =ROUND(E112*H112,2) -> 0 | N112: =ROUND(E112*I112,2) -> 0 | O112: =ROUND(E112*J112,2) -> 0 | P112: =SUM(M112:O112) -> 0
A113: 95 | C113: 421 | D113: gab. | E113: 2 | K113: =SUM(H113:J113) -> 0 | L113: =ROUND(E113*F113,2) -> 0 | M113: =ROUND(E113*H113,2) -> 0 | N113: =ROUND(E113*I113,2) -> 0 | O113: =ROUND(E113*J113,2) -> 0 | P113: =SUM(M113:O113) -> 0
A114: 96 | C114: 422 | D114: gab. | E114: 1 | K114: =SUM(H114:J114) -> 0 | L114: =ROUND(E114*F114,2) -> 0 | M114: =ROUND(E114*H114,2) -> 0 | N114: =ROUND(E114*I114,2) -> 0 | O114: =ROUND(E114*J114,2) -> 0 | P114: =SUM(M114:O114) -> 0
A115: 97 | C115: 5. grupas zīmes | K115: =SUM(H115:J115) -> 0 | L115: =ROUND(E115*F115,2) -> 0 | M115: =ROUND(E115*H115,2) -> 0 | N115: =ROUND(E115*I115,2) -> 0 | O115: =ROUND(E115*J115,2) -> 0 | P115: =SUM(M115:O115) -> 0
A116: 98 | C116: 501 | D116: gab. | E116: 1 | K116: =SUM(H116:J116) -> 0 | L116: =ROUND(E116*F116,2) -> 0 | M116: =ROUND(E116*H116,2) -> 0 | N116: =ROUND(E116*I116,2) -> 0 | O116: =ROUND(E116*J116,2) -> 0 | P116: =SUM(M116:O116) -> 0
A117: 99 | C117: 537 | D117: gab. | E117: 1 | K117: =SUM(H117:J117) -> 0 | L117: =ROUND(E117*F117,2) -> 0 | M117: =ROUND(E117*H117,2) -> 0 | N117: =ROUND(E117*I117,2) -> 0 | O117: =ROUND(E117*J117,2) -> 0 | P117: =SUM(M117:O117) -> 0
A118: 100 | C118: 7. grupas zīmes | K118: =SUM(H118:J118) -> 0 | L118: =ROUND(E118*F118,2) -> 0 | M118: =ROUND(E118*H118,2) -> 0 | N118: =ROUND(E118*I118,2) -> 0 | O118: =ROUND(E118*J118,2) -> 0 | P118: =SUM(M118:O118) -> 0
A119: 101 | C119: 711 | D119: gab. | E119: 2 | K119: =SUM(H119:J119) -> 0 | L119: =ROUND(E119*F119,2) -> 0 | M119: =ROUND(E119*H119,2) -> 0 | N119: =ROUND(E119*I119,2) -> 0 | O119: =ROUND(E119*J119,2) -> 0 | P119: =SUM(M119:O119) -> 0
A120: 102 | C120: 712 | D120: gab. | E120: 1 | K120: =SUM(H120:J120) -> 0 | L120: =ROUND(E120*F120,2) -> 0 | M120: =ROUND(E120*H120,2) -> 0 | N120: =ROUND(E120*I120,2) -> 0 | O120: =ROUND(E120*J120,2) -> 0 | P120: =SUM(M120:O120) -> 0
A121: 103 | C121: 8. grupas zīmes | K121: =SUM(H121:J121) -> 0 | L121: =ROUND(E121*F121,2) -> 0 | M121: =ROUND(E121*H121,2) -> 0 | N121: =ROUND(E121*I121,2) -> 0 | O121: =ROUND(E121*J121,2) -> 0 | P121: =SUM(M121:O121) -> 0
A122: 104 | C122: 805(5m-5m) | D122: gab. | E122: 1 | K122: =SUM(H122:J122) -> 0 | L122: =ROUND(E122*F122,2) -> 0 | M122: =ROUND(E122*H122,2) -> 0 | N122: =ROUND(E122*I122,2) -> 0 | O122: =ROUND(E122*J122,2) -> 0 | P122: =SUM(M122:O122) -> 0
A124: 106 | C124: 860 | D124: gab. | E124: 1 | K124: =SUM(H124:J124) -> 0 | L124: =ROUND(E124*F124,2) -> 0 | M124: =ROUND(E124*H124,2) -> 0 | N124: =ROUND(E124*I124,2) -> 0 | O124: =ROUND(E124*J124,2) -> 0 | P124: =SUM(M124:O124) -> 0
A125: 107 | C125: 9. grupas zīmes | K125: =SUM(H125:J125) -> 0 | L125: =ROUND(E125*F125,2) -> 0 | M125: =ROUND(E125*H125,2) -> 0 | N125: =ROUND(E125*I125,2) -> 0 | O125: =ROUND(E125*J125,2) -> 0 | P125: =SUM(M125:O125) -> 0
A126: 108 | C126: 906 (250mm plata) | D126: gab. | E126: 1 | K126: =SUM(H126:J126) -> 0 | L126: =ROUND(E126*F126,2) -> 0 | M126: =ROUND(E126*H126,2) -> 0 | N126: =ROUND(E126*I126,2) -> 0 | O126: =ROUND(E126*J126,2) -> 0 | P126: =SUM(M126:O126) -> 0
A127: 109 | C127: Kopā projektējamas zīmes | D127: gab. | K127: =SUM(H127:J127) -> 0 | L127: =ROUND(E127*F127,2) -> 0 | M127: =ROUND(E127*H127,2) -> 0 | N127: =ROUND(E127*I127,2) -> 0 | O127: =ROUND(E127*J127,2) -> 0 | P127: =SUM(M127:O127) -> 0
A128: 110 | C128: Ceļa zīmju balsti | D128: gab. | E128: 20 | K128: =SUM(H128:J128) -> 0 | L128: =ROUND(E128*F128,2) -> 0 | M128: =ROUND(E128*H128,2) -> 0 | N128: =ROUND(E128*I128,2) -> 0 | O128: =ROUND(E128*J128,2) -> 0 | P128: =SUM(M128:O128) -> 0
A129: 111 | C129: Ceļa zīmju stiprinājumi pie apgaismes stabiem | D129: gab. | E129: 1 | K129: =SUM(H129:J129) -> 0 | L129: =ROUND(E129*F129,2) -> 0 | M129: =ROUND(E129*H129,2) -> 0 | N129: =ROUND(E129*I129,2) -> 0 | O129: =ROUND(E129*J129,2) -> 0 | P129: =SUM(M129:O129) -> 0
A130: 112 | C130: Gājēju barjeras uzstādīšana (līdzvērtīga esošai) | D130: m | E130: 4.1 | K130: =SUM(H130:J130) -> 0 | L130: =ROUND(E130*F130,2) -> 0 | M130: =ROUND(E130*H130,2) -> 0 | N130: =ROUND(E130*I130,2) -> 0 | O130: =ROUND(E130*J130,2) -> 0 | P130: =SUM(M130:O130) -> 0
C131: Horizontālā marķējuma ieklāšana ar termoplastu | K131: =SUM(H131:J131) -> 0 | L131: =ROUND(E131*F131,2) -> 0 | M131: =ROUND(E131*H131,2) -> 0 | N131: =ROUND(E131*I131,2) -> 0 | O131: =ROUND(E131*J131,2) -> 0 | P131: =SUM(M131:O131) -> 0
A132: 115 | C132: 957 | D132: gab. | E132: 4 | K132: =SUM(H132:J132) -> 0 | L132: =ROUND(E132*F132,2) -> 0 | M132: =ROUND(E132*H132,2) -> 0 | N132: =ROUND(E132*I132,2) -> 0 | O132: =ROUND(E132*J132,2) -> 0 | P132: =SUM(M132:O132) -> 0
...

Sheet 1,9
A2: Lokālā tāme Nr.1,9
A3: TS-L - Labiekārtojums
A4: (būvdarbu veids vai konstruktīvā elementa nosaukums)
A6: Objekta nosaukums: | C6: =KT!B9 -> Salaspils pilsētas centrālās daļas satiksmes infrastruktūras pārbūve un pilsētas galvenā laukuma izveide 1.kārta
A7: Būves nosaukums:
A8: Objekta adrese: | C8: =KT!B12 -> Līvzemes iela, Vītolu iela, Mazā vītolu iela, Rīgas iela, Salaspils
A9: Pasūtījuma nr.:
A11: Tāme sastādīta 2024. gada tirgus cenās, pamatojoties uz būvprojekta rasējumiem | M11: Tāmes izmaksas: | O11: =P220 -> 0 | P11: EUR
N12: Tāme sastādīta | O12: =KT!C28 -> 2024. gada ____________
A14: Nr.p.k. | B14: Kods | C14: Būvdarbu nosaukums | D14: Mērvienība | E14: Daudzums | F14: Vienības izmaksas | L14: Kopā uz visu apjomu
F15: Laika norma (c/h) | G15: Darba samaksas likme (euro/h) | H15: Darba alga | I15: Būvizstrādājumi | J15: Mehānismi | K15: KOPĀ | L15: Darbietilpība (c/h) | M15: Darba alga | N15: Būvizstrādājumi | O15: Mehānismi | P15: Summa
A16: Pašvaldības zemes
A17: Labiekārtojuma darbi
A18: Sagatavošanas darbi
A19: 1 | C19: Koku zāģēšana, celmu frēzēšana un aizvešana uz atbērtni | D19: gab. | E19: 19 | K19: =SUM(H19:J19) -> 0 | L19: =ROUND(E19*F19,2) -> 0 | M19: =ROUND(E19*H19,2) -> 0 | N19: =ROUND(E19*I19,2) -> 0 | O19: =ROUND(E19*J19,2) -> 0 | P19: =SUM(M19:O19) -> 0
A20: 2 | C20: Krūmu zāģēšana, celmu frēzēšana un aizvešana uz atbērtni | D20: gab. | E20: 15 | K20: =SUM(H20:J20) -> 0 | L20: =ROUND(E20*F20,2) -> 0 | M20: =ROUND(E20*H20,2) -> 0 | N20: =ROUND(E20*I20,2) -> 0 | O20: =ROUND(E20*J20,2) -> 0 | P20: =SUM(M20:O20) -> 0
A21: 3 | C21: Dzīvžoga zāģēšana, celmu frēzēšana un aizvešana uz atbērtni | D21: m | E21: 90.8 | K21: =SUM(H21:J21) -> 0 | L21: =ROUND(E21*F21,2) -> 0 | M21: =ROUND(E21*H21,2) -> 0 | N21: =ROUND(E21*I21,2) -> 0 | O21: =ROUND(E21*J21,2) -> 0 | P21: =SUM(M21:O21) -> 0
A22: 4 | C22: Atkritumu urnas demotāža, saglabājot iespēju to uzstādīt atkārtoti un nogādāšana uz pasūtītāja norādītu atbērtni 15km rādiusā | D22: gab. | E22: 2 | K22: =SUM(H22:J22) -> 0 | L22: =ROUND(E22*F22,2) -> 0 | M22: =ROUND(E22*H22,2) -> 0 | N22: =ROUND(E22*I22,2) -> 0 | O22: =ROUND(E22*J22,2) -> 0 | P22: =SUM(M22:O22) -> 0
A23: 5 | C23: Autobusa pieturas demotāža un utilizācija | D23: gab. | E23: 1 | K23: =SUM(H23:J23) -> 0 | L23: =ROUND(E23*F23,2) -> 0 | M23: =ROUND(E23*H23,2) -> 0 | N23: =ROUND(E23*I23,2) -> 0 | O23: =ROUND(E23*J23,2) -> 0 | P23: =SUM(M23:O23) -> 0
A24: 6 | C24: Reklamas stenda demotāža un utilizācija | D24: gab. | E24: 1 | K24: =SUM(H24:J24) -> 0 | L24: =ROUND(E24*F24,2) -> 0 | M24: =ROUND(E24*H24,2) -> 0 | N24: =ROUND(E24*I24,2) -> 0 | O24: =ROUND(E24*J24,2) -> 0 | P24: =SUM(M24:O24) -> 0
A25: 7 | C25: Paredzēt saglabājamo augu saudzīgu saglabāšana dobes korekcijā. Sakaskaņot AU kārtā ar pasūtītāju un ainavu arhitektu! | D25: m2 | E25: 95.5 | K25: =SUM(H25:J25) -> 0 | L25: =ROUND(E25*F25,2) -> 0 | M25: =ROUND(E25*H25,2) -> 0 | N25: =ROUND(E25*I25,2) -> 0 | O25: =ROUND(E25*J25,2) -> 0 | P25: =SUM(M25:O25) -> 0
A26: Apstādījumu segumi
A27: 8 | C27: Z1 - Zāliens un izbūve Izplatītājs: SIA "KRASTMALI SEKLAS" vai analogs Produkta nosaukums: Zāliena maisījums Zaļais vai analogs Maisījuma sastāvs: sarkanā auzene (Festuca Rubra L.) 50%, ganību airenes (Lolium perenne L.) 20%, pļavas skarenes (Poa Pratensis L.) 30%. Izsējas norma: 35g/m2 vai analogs 1. Esošo augsni noņemt un novietot atbērtnē; 2. Pirms auglīgās augsnes izmantošanas, veikt mehānisku izsijāšanu; 3. Izsijāto augsni izmantot zāliena ierīkošanā 15cm dziļumā; Izbūvē lietot auglīgas, smilti un mālu saturošas, bet ūdens caurlaidīgas, nepieciešamās barības vielas saturošas augsnes, kas atbilst šādiem parametriem - P2O5 120–300 mg/kg; K2O 120–300 mg/kg; Organiskā viela 5–15 %; pHKCl 6,0–7,5. Augsnes virskārtā nedrīkst būt svešķermeņi lielāki par 2 cm (akmeņi, velēnas, augsnes gabali, saknes, citi atkritumi). Virsmas līmeņa pārbaude - pie celiņa malas sagatavotai augsnes virsmai (norullētai) jābūt par 2cm zemākai par celiņa virsmu ( nopļautam zālienam jābūt vienā līmenī ar celiņu). Sablīvējuma pārbaude - staigājot pa sagatavotu (apsētu) augsni, pēda nedrīkst iegrimt dziļāk par 0,5cm; Līdzenuma pārbaude - uzliekot horizontāli 4m garu latu jebkurā virzienā lielākā sprauga zem tās nedrīkst būt lielāka par 2cm; Zālienu pieņem ekspluatācijā ne ātrāk kā pēc 1. nopļaušanas. | D27: m2 | E27: 2895.25 | K27: =SUM(H27:J27) -> 0 | L27: =ROUND(E27*F27,2) -> 0 | M27: =ROUND(E27*H27,2) -> 0 | N27: =ROUND(E27*I27,2) -> 0 | O27: =ROUND(E27*J27,2) -> 0 | P27: =SUM(M27:O27) -> 0
A28: 9 | C28: Z2 - Stiprināts zāliens un izbūve Izplatītājs: SIA "KRASTMALI SEKLAS" vai analogs Produkta nosaukums: Zāliena maisījums Zaļais vai analogs Maisījuma sastāvs: sarkanā auzene (Festuca Rubra L.) 50%, ganību airenes (Lolium perenne L.) 20%, pļavas skarenes (Poa Pratensis L.) 30%. Izsējas norma: 35g/m2 vai analogs 1. Esošo augsni noņemt un novietot atbērtnē; 2. Pirms auglīgās augsnes izmantošanas, veikt mehānisku izsijāšanu; 3. Izsijāto augsni izmantot zāliena ierīkošanā 5cm dziļumā; 4. Jaukts auglīgās augsnes un šķembu slānis 10cm dziļumā; Izbūvē lietot auglīgas, smilti un mālu saturošas, bet ūdens caurlaidīgas, nepieciešamās barības vielas saturošas augsnes, kas atbilst šādiem parametriem - P2O5 120–300 mg/kg; K2O 120–300 mg/kg; Organiskā viela 5–15 %; pHKCl 6,0–7,5. Augsnes virskārtā nedrīkst būt svešķermeņi lielāki par 2 cm (akmeņi, velēnas, augsnes gabali, saknes, citi atkritumi). Virsmas līmeņa pārbaude - pie celiņa malas sagatavotai augsnes virsmai (norullētai) jābūt par 2cm zemākai par celiņa virsmu ( nopļautam zālienam jābūt vienā līmenī ar celiņu). Sablīvējuma pārbaude - staigājot pa sagatavotu (apsētu) augsni, pēda nedrīkst iegrimt dziļāk par 0,5cm; Līdzenuma pārbaude - uzliekot horizontāli 4m garu latu jebkurā virzienā lielākā sprauga zem tās nedrīkst būt lielāka par 2cm; Zālienu pieņem ekspluatācijā ne ātrāk kā pēc 1. nopļaušanas. Piezīmes: Šķembu pamatnes konstrukciju skatīt TS-CD daļā. | D28: m2 | E28: 236.25 | K28: =SUM(H28:J28) -> 0 | L28: =ROUND(E28*F28,2) -> 0 | M28: =ROUND(E28*H28,2) -> 0 | N28: =ROUND(E28*I28,2) -> 0 | O28: =ROUND(E28*J28,2) -> 0 | P28: =SUM(M28:O28) -> 0
A29: 10 | C29: DS1 - Augsne dekoratīvajiem stādījumiem - krūmi un ziemcietes un izbūve 1. Stādvietas sagatavo vienlaidus 0,5 m dziļumā; 2. Aizpilda ar auglīgo augsni Izbūvē lietot auglīgas, smilti un mālu saturošas, bet ūdens caurlaidīgas, nepieciešamās barības vielas saturošas augsnes, kas atbilst šādiem parametriem - P2O5 130–280 mg/kg; K2O 170–280 mg/kg; Organiskā viela 15–25 %; pHKCl 5,5–6,5. Augsnes virskārtā nedrīkst būt svešķermeņi lielāki par 2 cm (akmeņi, velēnas, augsnes gabali, saknes, citi atkritumi). | D29: m2 | E29: =SUM(1005.18-(9*1.76)) -> 989.34 | K29: =SUM(H29:J29) -> 0 | L29: =ROUND(E29*F29,2) -> 0 | M29: =ROUND(E29*H29,2) -> 0 | N29: =ROUND(E29*I29,2) -> 0 | O29: =ROUND(E29*J29,2) -> 0 | P29: =SUM(M29:O29) -> 0
A30: 11 | C30: DS1 / DS2 / DS3 - Augsne dekoratīvajiem stādījumiem - koki un izbūve 1. Stādvietas kokiem sagatavo rokot atsevišķi 1,5 m diametrā un 1 m dziļumā; 2. Aizpilda ar auglīgo augsni Izbūvē lietot auglīgas, smilti un mālu saturošas, bet ūdens caurlaidīgas, nepieciešamās barības vielas saturošas augsnes, kas atbilst šādiem parametriem - P2O5 130–280 mg/kg; K2O 170–280 mg/kg; Organiskā viela 15–25 %; pHKCl 5,5–6,5. Augsnes virskārtā nedrīkst būt svešķermeņi lielāki par 2 cm (akmeņi, velēnas, augsnes gabali, saknes, citi atkritumi). | D30: m2 | E30: =SUM(1.76*20+51.82) -> 87.02 | K30: =SUM(H30:J30) -> 0 | L30: =ROUND(E30*F30,2) -> 0 | M30: =ROUND(E30*H30,2) -> 0 | N30: =ROUND(E30*I30,2) -> 0 | O30: =ROUND(E30*J30,2) -> 0 | P30: =SUM(M30:O30) -> 0
A31: 12 | C31: DS1 / DS2 - Mulčējums - priežu mizu mulča un ģeotekstils un izbūve Materials: Priežu mizu mulča Vidējas frakcijas Biezums: 60mm Atdalošs, ūdens caurlaidīgs, neausts ģeotekstils melnā krāsā. | D31: m2 | E31: 1013.85 | K31: =SUM(H31:J31) -> 0 | L31: =ROUND(E31*F31,2) -> 0 | M31: =ROUND(E31*H31,2) -> 0 | N31: =ROUND(E31*I31,2) -> 0 | O31: =ROUND(E31*J31,2) -> 0 | P31: =SUM(M31:O31) -> 0
A32: 13 | C32: DS3 - Mulčējums - oļu mulča un ģeotekstils un izbūve Materials: Skaloti upes oļi Krāsa: dabīga Frakcija: 16-32 Biezums: 60mm Atdalošs, ūdens caurlaidīgs, neausts ģeotekstils melnā krāsā. | D32: m2 | E32: 24.66 | K32: =SUM(H32:J32) -> 0 | L32: =ROUND(E32*F32,2) -> 0 | M32: =ROUND(E32*H32,2) -> 0 | N32: =ROUND(E32*I32,2) -> 0 | O32: =ROUND(E32*J32,2) -> 0 | P32: =SUM(M32:O32) -> 0
A33: 14 | C33: PA - Plastmasas apmale un izbūve Ražotājs: EKO-BORD system (ekobord.pl) vai analogs. Produkta kods: Eko-bord UNI Krāsa: Dark graphite Izmērs: 45x1000x80mm | D33: m | E33: 201.33 | K33: =SUM(H33:J33) -> 0 | L33: =ROUND(E33*F33,2) -> 0 | M33: =ROUND(E33*H33,2) -> 0 | N33: =ROUND(E33*I33,2) -> 0 | O33: =ROUND(E33*J33,2) -> 0 | P33: =SUM(M33:O33) -> 0
A34: 15 | C34: Augsnes analīžu veikšana (Ph, organiskās vielas, kālija un fosfora noteikšana) pirms dekoratīvo stādījumu darbu uzsākšanas, t.sk. apstādījumu, koku un zāliena ierīkošanai izmantojamai augsnei | D34: gab. | E34: 3 | K34: =SUM(H34:J34) -> 0 | L34: =ROUND(E34*F34,2) -> 0 | M34: =ROUND(E34*H34,2) -> 0 | N34: =ROUND(E34*I34,2) -> 0 | O34: =ROUND(E34*J34,2) -> 0 | P34: =SUM(M34:O34) -> 0
A35: 16 | C35: Augsnes analīžu veikšana (Ph, organiskās vielas, kālija un fosfora noteikšana) pirms objekta nodošanas ekspluatācijā, t.sk. apstādījumu, koku un zāliena ierīkošanai izmantojamai augsnei | D35: gab. | E35: 3 | K35: =SUM(H35:J35) -> 0 | L35: =ROUND(E35*F35,2) -> 0 | M35: =ROUND(E35*H35,2) -> 0 | N35: =ROUND(E35*I35,2) -> 0 | O35: =ROUND(E35*J35,2) -> 0 | P35: =SUM(M35:O35) -> 0
A36: Segumi
A37: 18 | C37: BM1 - Betona bruģakmens laukumam - mix1 un izbūve Ražotājs:SIA “BRIKERS LATVIJA” vai analogs Produkta kods:BERMUDA CLASSIC Izmēri: 200×200×200×80mm, ar fāzi Piezīmes: Konstrukciju skatīt TS-CD daļā. Detalizāciju skatīt: SAC_TS-L_005 90% - Krāsa: balta - light Virsmas apstrāde: gluda, 10% - Krāsa: balta - light Virsmas apstrāde: Signature 50% Granito Bianco + 50% Bianco Carrara | D37: m2 | E37: 142.95 | K37: =SUM(H37:J37) -> 0 | L37: =ROUND(E37*F37,2) -> 0 | M37: =ROUND(E37*H37,2) -> 0 | N37: =ROUND(E37*I37,2) -> 0 | O37: =ROUND(E37*J37,2) -> 0 | P37: =SUM(M37:O37) -> 0
A38: 19 | C38: BM2 - Betona bruģakmens laukumam - mix2 un izbūve Ražotājs:SIA “BRIKERS LATVIJA” vai analogs Produkta kods:BERMUDA CLASSIC Izmēri: 200×200×200×80mm, ar fāzi Piezīmes: Konstrukciju skatīt TS-CD daļā. Detalizāciju skatīt: SAC_TS-L_005 85% - Krāsa: balta - light Virsmas apstrāde:gluda 10% - Krāsa: balta - light Virsmas apstrāde: Signature 50% Granito Bianco + 50% Bianco Carrara 2% - Krāsa: pelēka Virsmas apstrāde: gluda 3% - Krāsa: pelēka Virsmas apstrāde: Signature Granito Grigio | D38: m2 | E38: 389.35 | K38: =SUM(H38:J38) -> 0 | L38: =ROUND(E38*F38,2) -> 0 | M38: =ROUND(E38*H38,2) -> 0 | N38: =ROUND(E38*I38,2) -> 0 | O38: =ROUND(E38*J38,2) -> 0 | P38: =SUM(M38:O38) -> 0
A39: 20 | C39: BM4 - Betona bruģakmens brauktuvei - mix4 un izbūve Ražotājs:SIA “BRIKERS LATVIJA” vai analogs Produkta kods:BERMUDA CLASSIC Izmēri: 200×200×200×80mm, ar fāzi Piezīmes: Konstrukciju skatīt TS-CD daļā. Detalizāciju skatīt: SAC_TS-L_005 90% - Krāsa: pelēka Virsmas apstrāde: gluda 10% - Krāsa: pelēka Virsmas apstrāde: Signature Granito Grigio | D39: m2 | E39: 594.97 | K39: =SUM(H39:J39) -> 0 | L39: =ROUND(E39*F39,2) -> 0 | M39: =ROUND(E39*H39,2) -> 0 | N39: =ROUND(E39*I39,2) -> 0 | O39: =ROUND(E39*J39,2) -> 0 | P39: =SUM(M39:O39) -> 0
A40: 21 | C40: BB1 - Betona bruģakmens ietvēm - mix5 un izbūve Ražotājs:SIA “BRIKERS LATVIJA” vai analogs Produkta kods:DEKOR150 MODERN Izmēri: 150×150×80mm, ar fāzi Piezīmes: Konstrukciju skatīt TS-CD daļā. Detalizāciju skatīt: SAC_TS-L_005 90% - Krāsa: melna Virsmas apstrāde: skalota 10% - Krāsa: pelēka Virsmas apstrāde: gluda | D40: m2 | E40: 318.76 | K40: =SUM(H40:J40) -> 0 | L40: =ROUND(E40*F40,2) -> 0 | M40: =ROUND(E40*H40,2) -> 0 | N40: =ROUND(E40*I40,2) -> 0 | O40: =ROUND(E40*J40,2) -> 0 | P40: =SUM(M40:O40) -> 0
A41: 22 | C41: BB2 - Betona bruģakmens brauktuvei un izbūve Ražotājs:SIA “BRIKERS LATVIJA” vai analogs Produkta kods:DEKOR150 MODERN Krāsa: pelēka Virsmas apstrāde: gluda, ar fāzi. Izmēri: 150×150×80mm. Piezīmes: Konstrukciju skatīt TS-CD daļā. | D41: m2 | E41: 1775.07 | K41: =SUM(H41:J41) -> 0 | L41: =ROUND(E41*F41,2) -> 0 | M41: =ROUND(E41*H41,2) -> 0 | N41: =ROUND(E41*I41,2) -> 0 | O41: =ROUND(E41*J41,2) -> 0 | P41: =SUM(M41:O41) -> 0
A42: 23 | C42: BB3 - Betona bruģakmens ietvei un izbūve Ražotājs:SIA “BRIKERS LATVIJA” vai analogs Produkta kods: DEKOR 240 C Krāsa: pelēka Virsmas apstrāde: gluda, be fāzes. Izmēri: 160 x 240 x 80mm. Piezīmes: Konstrukciju skatīt TS-CD daļā. | D42: m2 | E42: 481.3 | K42: =SUM(H42:J42) -> 0 | L42: =ROUND(E42*F42,2) -> 0 | M42: =ROUND(E42*H42,2) -> 0 | N42: =ROUND(E42*I42,2) -> 0 | O42: =ROUND(E42*J42,2) -> 0 | P42: =SUM(M42:O42) -> 0
A43: 24 | C43: BB4 - Betona bruģakmens ietvei - perimetrs un izbūve Ražotājs:SIA “BRIKERS LATVIJA” vai analogs Produkta kods: PRIZMA 8 C Krāsa: pelēka Virsmas apstrāde: gluda, bez fāzes. Izmēri: 200 x100 x80mm. Piezīmes: Konstrukciju skatīt TS-CD daļā. | D43: m2 | E43: 73.7 | K43: =SUM(H43:J43) -> 0 | L43: =ROUND(E43*F43,2) -> 0 | M43: =ROUND(E43*H43,2) -> 0 | N43: =ROUND(E43*I43,2) -> 0 | O43: =ROUND(E43*J43,2) -> 0 | P43: =SUM(M43:O43) -> 0
A44: 25 | C44: BB5 - Taktilais betona bruģakmens un izbūve Ražotājs:SIA “BRIKERS LATVIJA” vai analogs Produkta kods: PRIZMA 8 PUMPAS Krāsa: balta Virsmas apstrāde: reljefaina virsma. Izmēri: 200x100x80mm. Piezīmes: Konstrukciju skatīt TS-CD daļā. | D44: m2 | E44: 31.54 | K44: =SUM(H44:J44) -> 0 | L44: =ROUND(E44*F44,2) -> 0 | M44: =ROUND(E44*H44,2) -> 0 | N44: =ROUND(E44*I44,2) -> 0 | O44: =ROUND(E44*J44,2) -> 0 | P44: =SUM(M44:O44) -> 0
A45: 26 | C45: BB6 - Betona bruģakmens velo joslai un izbūve Ražotājs: SIA “BRIKERS LATVIJA” vai analogs Produkta kods: DEKOR 240 C Krāsa: colourmix Mercury Virsmas apstrāde: gluda, bez fāzes. Izmēri: 160 x 240 x 80mm. Piezīmes: Konstrukciju skatīt TS-CD daļā. | D45: m2 | E45: 209.52 | K45: =SUM(H45:J45) -> 0 | L45: =ROUND(E45*F45,2) -> 0 | M45: =ROUND(E45*H45,2) -> 0 | N45: =ROUND(E45*I45,2) -> 0 | O45: =ROUND(E45*J45,2) -> 0 | P45: =SUM(M45:O45) -> 0
A46: 27 | C46: BB7 - Betona bruģakmens velo joslai - perimetrs un izbūve Ražotājs:SIA “BRIKERS LATVIJA” vai analogs Produkta kods: PRIZMA 8 C Krāsa: colourmix Mercury Virsmas apstrāde: gluda, bez fāzes. Izmēri: 200 x100 x80mm. Piezīmes: Konstrukciju skatīt TS-CD daļā. | D46: m2 | E46: 29.9 | K46: =SUM(H46:J46) -> 0 | L46: =ROUND(E46*F46,2) -> 0 | M46: =ROUND(E46*H46,2) -> 0 | N46: =ROUND(E46*I46,2) -> 0 | O46: =ROUND(E46*J46,2) -> 0 | P46: =SUM(M46:O46) -> 0
A47: 28 | C47: BB8 - Betona bruģakmens stāvvietām - marķējums un izbūve Ražotājs:SIA “BRIKERS LATVIJA” vai analogs Produkta kods: PRIZMA 8 C Krāsa: White Pearl Virsmas apstrāde: Brikers Signature, be fāzes. Izmēri: 200 x100 x80mm. Piezīmes: Konstrukciju skatīt TS-CD daļā. | D47: m2 | E47: 24.39 | K47: =SUM(H47:J47) -> 0 | L47: =ROUND(E47*F47,2) -> 0 | M47: =ROUND(E47*H47,2) -> 0 | N47: =ROUND(E47*I47,2) -> 0 | O47: =ROUND(E47*J47,2) -> 0 | P47: =SUM(M47:O47) -> 0
A48: 29 | C48: BP1 - Betona bruģakmens pārejām un uzbrauktuvēm - marķējums un izbūve Ražotājs:SIA “BRIKERS LATVIJA” vai analogs Produkta kods: PRIZMA 8 Krāsa: White Pearl Virsmas apstrāde: Brikers Signature, ar fāzi. Izmēri: 200 x100 x80mm. Piezīmes: Konstrukciju skatīt TS-CD daļā. | D48: m2 | E48: 4 | K48: =SUM(H48:J48) -> 0 | L48: =ROUND(E48*F48,2) -> 0 | M48: =ROUND(E48*H48,2) -> 0 | N48: =ROUND(E48*I48,2) -> 0 | O48: =ROUND(E48*J48,2) -> 0 | P48: =SUM(M48:O48) -> 0
... A65: 69 | C65: SIA "Easy Pave" seguma paraugs Seguma specifikāciju skatīt TS-CD Dažādu seguma toņu paraugi Piezīmes: Segumu materiālus saskaņot ar ainavu arhitektu un pasūtītāju! | D65: gab. | E65: 1 | K65: =SUM(H65:J65) -> 0 | L65: =ROUND(E65*F65,2) -> 0 | M65: =ROUND(E65*H65,2) -> 0 | N65: =ROUND(E65*I65,2) -> 0 | O65: =ROUND(E65*J65,2) -> 0 | P65: =SUM(M65:O65) -> 0
A66: Labiekārtojuma elementi
A67: 73 | C67: K1.S1 - Sols ar atzveltni un izbūve Ražotājs: SIA "Odukalns design" vai analogs Produkta kods: Hardwood sols - ODK058-3 Izmērs: augstums 770mm; platums 650mm; garums 3000mm.* Krāsa: Koka tonis - dabīgs. Metāls - (RAL6013) Materiāls: metāla konstrukcija -tērauda metāls gruntēts ar cinku saturošu pulverkrāsu - gruntskrāsu "Primax Protect" un pulverkrāsots ar "Sahara protect" tehnoloģiju (īpaša noturība pret mehāniskiem bojājumiem).Koka konstrukcija - FSC sertificēti tropu dzelzskoka gulšņi. 100% pārstrādāti. Montāža: Skrūvējams pie iepriekš sagatavotas betona pamatnes, atbilstoši ražotāja rekomendācijām. Piezīmes: Pirms elementu pasūtīšanas metāla detaļu krāsu paraugus saskaņot ar ainavu arhitektu un pasūtītāju (RAL6013) (RAL 1000) (RAL 1020)! | D67: gab. | E67: 2 | K67: =SUM(H67:J67) -> 0 | L67: =ROUND(E67*F67,2) -> 0 | M67: =ROUND(E67*H67,2) -> 0 | N67: =ROUND(E67*I67,2) -> 0 | O67: =ROUND(E67*J67,2) -> 0 | P67: =SUM(M67:O67) -> 0
A68: 74 | C68: K1.S1USB - Sols ar atzveltni un USB uzlādes vietu un izbūve Ražotājs: SIA "Odukalns design" vai analogs Produkta kods: Hardwood sols ar USB uzlādes vietām - ODK058-3 USB uzlādes elemenra kods: ODK058-26 Izmērs: augstums 770mm; platums 650mm; garums 3000mm.* Krāsa: Koka tonis - dabīgs. Metāls - (RAL6013) Materiāls: metāla konstrukcija -tērauda metāls gruntēts ar cinku saturošu pulverkrāsu - gruntskrāsu "Primax Protect" un pulverkrāsots ar "Sahara protect" tehnoloģiju (īpaša noturība pret mehāniskiem bojājumiem).Koka konstrukcija - FSC sertificēti tropu dzelzskoka gulšņi. 100% pārstrādāti. Montāža: Skrūvējams pie iepriekš sagatavotas betona pamatnes, atbilstoši ražotāja rekomendācijām. Piezīmes: Pirms elementu pasūtīšanas metāla detaļu krāsu paraugus saskaņot ar ainavu arhitektu un pasūtītāju (RAL6013) (RAL 1000) (RAL 1020)! | D68: gab. | E68: 1 | K68: =SUM(H68:J68) -> 0 | L68: =ROUND(E68*F68,2) -> 0 | M68: =ROUND(E68*H68,2) -> 0 | N68: =ROUND(E68*I68,2) -> 0 | O68: =ROUND(E68*J68,2) -> 0 | P68: =SUM(M68:O68) -> 0
A69: 81 | C69: K1.S2 - Modulāra mēbeļu sistēma liela un izbūve MEET ME! modulāra mēbeļu sistēma pilsētvidei Komplekts lielais: 3,55x4,05x1,15 m* Materiāls: Materiāls: metāla konstrukcija -tērauda metāls gruntēts ar cinku saturošu pulverkrāsu - gruntskrāsu "Primax Protect" un pulverkrāsots ar "Sahara protect" tehnoloģiju (īpaša noturība pret mehāniskiem bojājumiem).Koka konstrukcija - FSC sertificēti tropu dzelzskoka gulšņi. 100% pārstrādāti. Krāsa: Koka tonis - dabīgs. Metāls - (RAL 3020). Dizainere: Ligita Breģe Izgatavojams pēc pasūtījuma. Ražotājs: SIA "Odukalns design" vai analogs Piezīmes: Tehnisko risinājumu, mezglus un stiprinājumus saskaņot ar elementa dizaineri AU kārtā. | D69: gab. | E69: 1 | K69: =SUM(H69:J69) -> 0 | L69: =ROUND(E69*F69,2) -> 0 | M69: =ROUND(E69*H69,2) -> 0 | N69: =ROUND(E69*I69,2) -> 0 | O69: =ROUND(E69*J69,2) -> 0 | P69: =SUM(M69:O69) -> 0
A70: 82 | C70: K1.S3 - Modulāra mēbeļu sistēma maza un izbūve MEET ME! modulāra mēbeļu sistēma pilsētvidei Komplekts mazais: 1,50x1,50x1,15m* Materiāls: metāla konstrukcija -tērauda metāls gruntēts ar cinku saturošu pulverkrāsu - gruntskrāsu "Primax Protect" un pulverkrāsots ar "Sahara protect" tehnoloģiju (īpaša noturība pret mehāniskiem bojājumiem).Koka konstrukcija - FSC sertificēti tropu dzelzskoka gulšņi. 100% pārstrādāti. Krāsa: Koka tonis - dabīgs. Metāls - (RAL 3020). Dizainere: Ligita Breģe Izgatavojams pēc pasūtījuma. Ražotājs: SIA "Odukalns design" vai analogs Piezīmes: Tehnisko risinājumu, mezglus un stiprinājumus saskaņot ar elementa dizaineri AU kārtā. | D70: gab. | E70: 1 | K70: =SUM(H70:J70) -> 0 | L70: =ROUND(E70*F70,2) -> 0 | M70: =ROUND(E70*H70,2) -> 0 | N70: =ROUND(E70*I70,2) -> 0 | O70: =ROUND(E70*J70,2) -> 0 | P70: =SUM(M70:O70) -> 0
A71: 83 | C71: K1.S4.1 - Vienvietīgais sols bez atzveltnes un izbūve Ražotājs: SIA "Odukalns design" vai analogs Produkta kods: Hardwood sols - ODK058-25 Krāsa: Koka tonis - dabīgs. Metāls - (RAL6013) Izmērs: augstums 450mm; platums 600mm; garums 600mm * Materiāls: metāla konstrukcija -tērauda metāls gruntēts ar cinku saturošu pulverkrāsu - gruntskrāsu "Primax Protect" un pulverkrāsots ar "Sahara protect" tehnoloģiju (īpaša noturība pret mehāniskiem bojājumiem).Koka konstrukcija - FSC sertificēti tropu dzelzskoka gulšņi. 100% pārstrādāti. Montāža: Skrūvējams pie iepriekš sagatavotas betona pamatnes, atbilstoši ražotāja rekomendācijām. Piezīmes: Pirms elementu pasūtīšanas metāla detaļu krāsu paraugus saskaņot ar ainavu arhitektu un pasūtītāju (RAL6013) (RAL 1000) (RAL 1020)! | D71: gab. | E71: 5 | K71: =SUM(H71:J71) -> 0 | L71: =ROUND(E71*F71,2) -> 0 | M71: =ROUND(E71*H71,2) -> 0 | N71: =ROUND(E71*I71,2) -> 0 | O71: =ROUND(E71*J71,2) -> 0 | P71: =SUM(M71:O71) -> 0
A72: 85 | C72: K1.S5 - Sols ar atzveltni un izbūve Ražotājs: "Mmcité" (mmcite.com) vai analogs Produkta kods: LWD150 Materiāls: konstrukcija un kājas - tērauds; virsmas pārklājums - cinkots un krāsots; sēdvirsma un atzvelte - tropu cietkoksnes dēļiem (jatoba). Krāsa: gaiši pelēks metāls (RAL 7032); koks - neapstrādāta jatoba tropu cietkoksne. Izmērs: augstums 790mm; platums 590mm; garums 3000mm* Montāža: ar ķīmiskiem enkuriem pie iepriekš sagatavotas betona pamatnes (200x240x800mm) zem bruģakmens, atbilstoši ražotāja rekomendācijām. Piezīmes: Pirms elementu pasūtīšanas metāla detaļu krāsu paraugus saskaņot ar ainavu arhitektu un pasūtītāju (RAL 7032) (RAL 9002)! | D72: gab. | E72: 2 | K72: =SUM(H72:J72) -> 0 | L72: =ROUND(E72*F72,2) -> 0 | M72: =ROUND(E72*H72,2) -> 0 | N72: =ROUND(E72*I72,2) -> 0 | O72: =ROUND(E72*J72,2) -> 0 | P72: =SUM(M72:O72) -> 0
A73: 86 | C73: K1.S6 - Sols bez atzveltnes un izbūve Ražotājs: "Mmcité" (mmcite.com) vai analogs Produkta kods: LWD200 Materiāls: konstrukcija un kājas - tērauds; virsmas pārklājums - cinkots un krāsots; sēdvirsma un atzvelte - tropu cietkoksnes dēļiem (jatoba). Krāsa: gaiši pelēks metāls (RAL 7032); koks - neapstrādāta jatoba tropu cietkoksne. Izmērs: augstums 430mm; platums 530mm; garums 4500mm* Montāža: ar ķīmiskiem enkuriem pie iepriekš sagatavotas betona pamatnes (200x240x800mm) zem bruģakmens, atbilstoši ražotāja rekomendācijām. Piezīmes: Pirms elementu pasūtīšanas metāla detaļu krāsu paraugus saskaņot ar ainavu arhitektu un pasūtītāju (RAL 7032) (RAL 9002)! | D73: gab. | E73: 1 | K73: =SUM(H73:J73) -> 0 | L73: =ROUND(E73*F73,2) -> 0 | M73: =ROUND(E73*H73,2) -> 0 | N73: =ROUND(E73*I73,2) -> 0 | O73: =ROUND(E73*J73,2) -> 0 | P73: =SUM(M73:O73) -> 0
A74: 92 | C74: K1.AU1 - Atkritumu urna un izbūve Ražotājs: "Mmcité" (mmcite.com) vai analogs Produkta kods: NNK365 - ar lietus pārsegu, pelnu trauku Materiāls: konstrukcija - tērauds, virsmas pārklājums - cinkots un pulverkrāsots, virsma matēta. Krāsa: gaiši pelēks metāls (RAL6013) Izmērs/ size: H=1050mm, G=920mm, P=680mm * Montāža : ar ķīmiskiem enkuriem pie iepriekš sagatavotas betona pamatnes. (800x200x250mm) zem grants seguma vai bruģa virskārtas, atbilstoši ražotāja rekomendācijām. Piezīme: Atkritumu konteiners ar lietus pārsegu un pelnu trauku. Atkritumu konteinera tilpums 50l. Pirms elementu pasūtīšanas metāla detaļu krāsu paraugus saskaņot ar ainavu arhitektu un pasūtītāju (RAL6013) (RAL 1000) (RAL 1020)! | D74: gab. | E74: 1 | K74: =SUM(H74:J74) -> 0 | L74: =ROUND(E74*F74,2) -> 0 | M74: =ROUND(E74*H74,2) -> 0 | N74: =ROUND(E74*I74,2) -> 0 | O74: =ROUND(E74*J74,2) -> 0 | P74: =SUM(M74:O74) -> 0
A75: 93 | C75: K1.AU2 - Atkritumu urnas šķirojamajiem atkritumiem un izbūve Ražotājs: "Mmcité" (mmcite.com) vai analogs Produkta kods: NNK365 - ar lietus pārsegu, bez pelnu trauka Materiāls: konstrukcija - tērauds, virsmas pārklājums - cinkots un pulverkrāsots, virsma matēta. Krāsa: gaiši pelēks metāls (RAL6013) Izmērs/ size: H=1050mm, G=920mm, P=680mm * Montāža : ar ķīmiskiem enkuriem pie iepriekš sagatavotas betona pamatnes. (800x200x250mm) zem bruģa seguma virskārtas, atbilstoši ražotāja rekomendācijām. Piezīme: Atkritumu konteiners ar lietus pārsegu. Atkritumu konteinera tilpums 50l. Šķirošanas piktogrammu uzlīmes pēc pašvaldības dizaina vadlīnijām. Pirms elementu pasūtīšanas metāla detaļu krāsu paraugus saskaņot ar ainavu arhitektu un pasūtītāju (RAL6013) (RAL 1000) (RAL 1020)! | D75: gab. | E75: 3 | K75: =SUM(H75:J75) -> 0 | L75: =ROUND(E75*F75,2) -> 0 | M75: =ROUND(E75*H75,2) -> 0 | N75: =ROUND(E75*I75,2) -> 0 | O75: =ROUND(E75*J75,2) -> 0 | P75: =SUM(M75:O75) -> 0
A76: 94 | C76: K1.AU3 - Atkritumu urna un izbūve Ražotājs: "Mmcité" (mmcite.com) vai analogs Produkta kods: NNK365 - ar lietus pārsegu, pelnu trauku Materiāls: konstrukcija - tērauds, virsmas pārklājums - cinkots un pulverkrāsots, virsma matēta. Krāsa: gaiši pelēks metāls (RAL 7032) Izmērs/ size: H=1050mm, G=920mm, P=680mm* Montāža : ar ķīmiskiem enkuriem pie iepriekš sagatavotas betona pamatnes. (800x200x250mm) zem grants seguma vai bruģa virskārtas, atbilstoši ražotāja rekomendācijām. Piezīme: Atkritumu konteiners ar lietus pārsegu un pelnu trauku. Atkritumu konteinera tilpums 50l. Pirms elementu pasūtīšanas metāla detaļu krāsu paraugus saskaņot ar ainavu arhitektu un pasūtītāju (RAL 7032) (RAL 9002)! | D76: gab. | E76: 3 | K76: =SUM(H76:J76) -> 0 | L76: =ROUND(E76*F76,2) -> 0 | M76: =ROUND(E76*H76,2) -> 0 | N76: =ROUND(E76*I76,2) -> 0 | O76: =ROUND(E76*J76,2) -> 0 | P76: =SUM(M76:O76) -> 0
A77: 95 | C77: K1.AU4 - Atkritumu urna un izbūve Ražotājs: "Mmcité" (mmcite.com) vai analogs Produkta kods: NNK365 - ar lietus pārsegu, bez pelnu trauka Materiāls: konstrukcija - tērauds, virsmas pārklājums - cinkots un pulverkrāsots, virsma matēta. Krāsa: gaiši pelēks metāls (RAL6013) Izmērs/ size: H=1050mm, G=920mm, P=680mm* Montāža : ar ķīmiskiem enkuriem pie iepriekš sagatavotas betona pamatnes. (800x200x250mm) zem grants seguma vai bruģa virskārtas, atbilstoši ražotāja rekomendācijām. Piezīme: Atkritumu konteiners ar lietus pārsegu. Atkritumu konteinera tilpums 50l. Pirms elementu pasūtīšanas metāla detaļu krāsu paraugus saskaņot ar ainavu arhitektu un pasūtītāju (RAL6013) (RAL 1000) (RAL 1020)! | D77: gab. | E77: 1 | K77: =SUM(H77:J77) -> 0 | L77: =ROUND(E77*F77,2) -> 0 | M77: =ROUND(E77*H77,2) -> 0 | N77: =ROUND(E77*I77,2) -> 0 | O77: =ROUND(E77*J77,2) -> 0 | P77: =SUM(M77:O77) -> 0
A78: 100 | C78: K1.AU5 - Atkritumu urna un izbūve Ražotājs: "Mmcité" (mmcite.com) vai analogs Produkta kods: MIU-B616p - ar lietus pārsegu, ar pelnu trauka un rāmis paredzēts atkritumu maisu nostiprināšanai Materiāls: konstrukcija - tērauds, virsmas pārklājums - cinkots un pulverkrāsots, virsma matēta. Krāsa: Metāla detaļām antracīta pelēks metāls (RAL7016), koka tonis - tropiskais koks ar beici āra apstākļiem (oiled robinia). Izmērs/ size: H=955mm, G=500mm, P=295mm* Montāža : ar ķīmiskiem enkuriem pie iepriekš sagatavotas betona pamatnes. (600x350x300mm) zem grants seguma vai bruģa virskārtas, atbilstoši ražotāja rekomendācijām. Piezīme: Atkritumu konteiners ar lietus pārsegu. Atkritumu konteinera tilpums 45l. Pirms elementu pasūtīšanas metāla detaļu krāsu paraugus saskaņot ar ainavu arhitektu un pasūtītāju! | D78: gab. | E78: 1 | K78: =SUM(H78:J78) -> 0 | L78: =ROUND(E78*F78,2) -> 0 | M78: =ROUND(E78*H78,2) -> 0 | N78: =ROUND(E78*I78,2) -> 0 | O78: =ROUND(E78*J78,2) -> 0 | P78: =SUM(M78:O78) -> 0
... A95: 124 | C95: "Odukalns design" krāsu paraugs metāla detāļām. Katram tonim atsevišķš paraugs. Krāsas: (RAL6013) (RAL 1000) (RAL 1020) (RAL 7032) (RAL9002) (RAL 3020) Piezīmes: Metāla detaļu krāsu paraugus saskaņot ar ainavu arhitektu un pasūtītāju! | D95: gab. | E95: 6 | K95: =SUM(H95:J95) -> 0 | L95: =ROUND(E95*F95,2) -> 0 | M95: =ROUND(E95*H95,2) -> 0 | N95: =ROUND(E95*I95,2) -> 0 | O95: =ROUND(E95*J95,2) -> 0 | P95: =SUM(M95:O95) -> 0
A96: Apstādījumu elementi
A97: 127 | C97: Proj. koku irigācijas sistēma un izbūve Ražotājs: GREENMAX B.V. (greenmax.eu) vai analogs Izplatītājs: SIA “HAVE A TREE” Produkta kods: GreenMax AquaMax Irrigation System | D97: gab. | E97: 24 | K97: =SUM(H97:J97) -> 0 | L97: =ROUND(E97*F97,2) -> 0 | M97: =ROUND(E97*H97,2) -> 0 | N97: =ROUND(E97*I97,2) -> 0 | O97: =ROUND(E97*J97,2) -> 0 | P97: =SUM(M97:O97) -> 0
A98: 128 | C98: Proj. koku enkurošanas sistēma - dekoratīvo stādījumu zonā un izbūve Ražotājs: GREENMAX B.V. (greenmax.eu) vai analogs Izplatītājs: SIA “HAVE A TREE” Produkta kods: GreenMax Root Ball Anchoring system Materiāls: Sakņu kamola aizsargpaklājs 3 gab. siksnas ar enkuriem; 1 siksnu spriegotājs | D98: gab. | E98: 9 | K98: =SUM(H98:J98) -> 0 | L98: =ROUND(E98*F98,2) -> 0 | M98: =ROUND(E98*H98,2) -> 0 | N98: =ROUND(E98*I98,2) -> 0 | O98: =ROUND(E98*J98,2) -> 0 | P98: =SUM(M98:O98) -> 0
A99: 129 | C99: KS - Proj. koku stiprināšanas komplekts - zāliena zonā un izbūve 3 gab impregnēti koka mieti (D=6cm, vid H=2-2.5 m (2/3 no koku augstuma) 3 gab impregnētas koka latas (koka mietu savstarpējai sastiprināšanai augšējā daļā)(L=0.5m) 3 gab Poliamīda koku piesiešanas lenta (stiprina pie mietiem) (P=5cm) | D99: gab. | E99: 15 | K99: =SUM(H99:J99) -> 0 | L99: =ROUND(E99*F99,2) -> 0 | M99: =ROUND(E99*H99,2) -> 0 | N99: =ROUND(E99*I99,2) -> 0 | O99: =ROUND(E99*J99,2) -> 0 | P99: =SUM(M99:O99) -> 0
A100: 130 | C100: KS - Proj. koku stumbra aizsardzība - zāliena zonā un izbūve Koku stumbra aizsardzība TreeSave Materiāls: plastmasa Krāsa: tumši zāļš | D100: gab. | E100: 15 | K100: =SUM(H100:J100) -> 0 | L100: =ROUND(E100*F100,2) -> 0 | M100: =ROUND(E100*H100,2) -> 0 | N100: =ROUND(E100*I100,2) -> 0 | O100: =ROUND(E100*J100,2) -> 0 | P100: =SUM(M100:O100) -> 0
A101: 131 | C101: VB - Vertikāla sakņu barjera un izbūve Ražotājs: GREENMAX B.V. (greenmax.eu) vai analogs Izplatītājs: SIA “HAVE A TREE” Produkta kods: RootBlock WB/BB 50/1 Materiāls: Augsta blīvuma polietilēns (HDPE) biezums 1 mm, augstums 5000 mm | D101: m | E101: 39.6 | K101: =SUM(H101:J101) -> 0 | L101: =ROUND(E101*F101,2) -> 0 | M101: =ROUND(E101*H101,2) -> 0 | N101: =ROUND(E101*I101,2) -> 0 | O101: =ROUND(E101*J101,2) -> 0 | P101: =SUM(M101:O101) -> 0
A102: 132 | C102: HB - Horizontāla sakņu barjera un izbūve Ražotājs: GREENMAX B.V. (greenmax.eu) vai analogs Izplatītājs: SIA “HAVE A TREE” Produkta kods: RootBlock WB/BB 50/1 Materiāls: Augsta blīvuma polietilēns (HDPE) biezums 1 mm, augstums 5000 mm | D102: m | E102: 82.6 | K102: =SUM(H102:J102) -> 0 | L102: =ROUND(E102*F102,2) -> 0 | M102: =ROUND(E102*H102,2) -> 0 | N102: =ROUND(E102*I102,2) -> 0 | O102: =ROUND(E102*J102,2) -> 0 | P102: =SUM(M102:O102) -> 0
A103: Skuju koki
A104: 134 | C104: Pinus peuce/ Maķedonijas priede/ Stāda h=350-400 cm; platums 200- 250 cm; Stāds pārstādīts vismaz 6x/ K / Kupls vainags, zarojums sākas vismaz 30 cm virs zemes. | D104: gab. | E104: 3 | K104: =SUM(H104:J104) -> 0 | L104: =ROUND(E104*F104,2) -> 0 | M104: =ROUND(E104*H104,2) -> 0 | N104: =ROUND(E104*I104,2) -> 0 | O104: =ROUND(E104*J104,2) -> 0 | P104: =SUM(M104:O104) -> 0
A105: Lapu koki
A106: 136 | C106: Acer rubrum/ Sarkanā kļava / Stāda h=450-500 cm; platums 150- 200 cm; Kailstumbrs 200-220cm; Strumbra apk. 20-25cm; Stāds pārstādīts vismaz 4x/ K / Kupls un simetrisks vainags. Paredzēts stādīšanai auto stāvvietā. | D106: gab. | E106: 4 | K106: =SUM(H106:J106) -> 0 | L106: =ROUND(E106*F106,2) -> 0 | M106: =ROUND(E106*H106,2) -> 0 | N106: =ROUND(E106*I106,2) -> 0 | O106: =ROUND(E106*J106,2) -> 0 | P106: =SUM(M106:O106) -> 0
A107: 137 | C107: Aesculus carnea 'Briotii'/ Sārtā zirgkastaņa, šķirne / Stāda h=350-400 cm; platums 150- 200 cm; Kailstumbrs 180-200cm; Strumbra apk. 18-20cm; Stāds pārstādīts vismaz 4x/ K / Kupls un simetrisks vainags. | D107: gab. | E107: 2 | K107: =SUM(H107:J107) -> 0 | L107: =ROUND(E107*F107,2) -> 0 | M107: =ROUND(E107*H107,2) -> 0 | N107: =ROUND(E107*I107,2) -> 0 | O107: =ROUND(E107*J107,2) -> 0 | P107: =SUM(M107:O107) -> 0
A108: 138 | C108: Betula utilis var. jacquemontii 'Doorenbos'/ Baltmizas Himalaju bērza varietāte, šķirne / Stāda h=450-500 cm; platums 150- 200 cm; Stāds pārstādīts vismaz 4x/ K / Daudzstumbra forma ar 3-6 galvenajiem stumbriem. Kupls un simetrisks vainags. Zarojums sākas vismaz 50 cm virs zemes. | D108: gab. | E108: 1 | K108: =SUM(H108:J108) -> 0 | L108: =ROUND(E108*F108,2) -> 0 | M108: =ROUND(E108*H108,2) -> 0 | N108: =ROUND(E108*I108,2) -> 0 | O108: =ROUND(E108*J108,2) -> 0 | P108: =SUM(M108:O108) -> 0
A109: 139 | C109: Catalpa bignonioides/ Ceriņlapu katalpa / Stāda h=350-400 cm; platums 100- 150 cm; Strumbra apk. 18-20cm; Stāds pārstādīts vismaz 3x/ K / Kupls un simetrisks vainags. | D109: gab. | E109: 1 | K109: =SUM(H109:J109) -> 0 | L109: =ROUND(E109*F109,2) -> 0 | M109: =ROUND(E109*H109,2) -> 0 | N109: =ROUND(E109*I109,2) -> 0 | O109: =ROUND(E109*J109,2) -> 0 | P109: =SUM(M109:O109) -> 0
A110: 140 | C110: Cercidiphyllum japonicum/ Japānas katsura / Stāda h=250-300 cm; platums 100- 150 cm; Stāds pārstādīts vismaz 4x/ K / Daudzstumbra forma ar 6-10 galvenajiem stumbriem. Kupls un simetrisks vainags. Zarojums sākas vismaz 50 cm virs zemes. | D110: gab. | E110: 2 | K110: =SUM(H110:J110) -> 0 | L110: =ROUND(E110*F110,2) -> 0 | M110: =ROUND(E110*H110,2) -> 0 | N110: =ROUND(E110*I110,2) -> 0 | O110: =ROUND(E110*J110,2) -> 0 | P110: =SUM(M110:O110) -> 0
A111: 141 | C111: Cornus kousa var. Chinensis/ Ķīnas grimonis, varietāte / Stāda h=250-300 cm; platums 100- 150 cm; Stāds pārstādīts vismaz 5x/ K / Daudzstumbra forma ar 3-6 galvenajiem stumbriem. Kupls un simetrisks vainags. Zarojums sākas vismaz 50 cm virs zemes. | D111: gab. | E111: 1 | K111: =SUM(H111:J111) -> 0 | L111: =ROUND(E111*F111,2) -> 0 | M111: =ROUND(E111*H111,2) -> 0 | N111: =ROUND(E111*I111,2) -> 0 | O111: =ROUND(E111*J111,2) -> 0 | P111: =SUM(M111:O111) -> 0
A112: 142 | C112: Fraxinus excelsior/ Parastais osis / Stāda h=350-400 cm; platums 150- 200 cm; Kailstumbrs 180-200cm; Strumbra apk. 18-20cm; Stāds pārstādīts vismaz 3x / K / Kupls un simetrisks vainags. Paredzēts stādīšanai gar ielu. | D112: gab. | E112: 1 | K112: =SUM(H112:J112) -> 0 | L112: =ROUND(E112*F112,2) -> 0 | M112: =ROUND(E112*H112,2) -> 0 | N112: =ROUND(E112*I112,2) -> 0 | O112: =ROUND(E112*J112,2) -> 0 | P112: =SUM(M112:O112) -> 0
A113: 144 | C113: Prunus maackii 'Amber Beauty'/ Māka ieva, šķirne / Stāda h=350-400 cm; platums 150- 200 cm; Stāds pārstādīts vismaz 4x/ K / Daudzstumbra forma ar 3-4 galvenajiem stumbriem. Kupls un simetrisks vainags. Zarojums sākas vismaz 50 cm virs zemes. | D113: gab. | E113: 1 | K113: =SUM(H113:J113) -> 0 | L113: =ROUND(E113*F113,2) -> 0 | M113: =ROUND(E113*H113,2) -> 0 | N113: =ROUND(E113*I113,2) -> 0 | O113: =ROUND(E113*J113,2) -> 0 | P113: =SUM(M113:O113) -> 0
A114: 145 | C114: Quercus palustris/ Purva ozols / Stāda h=350-400 cm; platums 150- 200 cm; Kailstumbrs 180-200cm; Strumbra apk. 18-20cm; Stāds pārstādīts vismaz 3x / K / Kupls un simetrisks vainags. | D114: gab. | E114: 1 | K114: =SUM(H114:J114) -> 0 | L114: =ROUND(E114*F114,2) -> 0 | M114: =ROUND(E114*H114,2) -> 0 | N114: =ROUND(E114*I114,2) -> 0 | O114: =ROUND(E114*J114,2) -> 0 | P114: =SUM(M114:O114) -> 0
A115: 146 | C115: Salix × sepulcralis var. Chrysocoma/ Nokarenais zeltzaru vītols, varietāte / Stāda h=350-400 cm; platums 150- 200 cm; Kailstumbrs 180-200cm; Strumbra apk. 18-20cm; Stāds pārstādīts vismaz 3x / K / Kupls, simetrisks, nokarens vainags. Paredzēts stādīšanai gar dīķi. | D115: gab. | E115: 1 | K115: =SUM(H115:J115) -> 0 | L115: =ROUND(E115*F115,2) -> 0 | M115: =ROUND(E115*H115,2) -> 0 | N115: =ROUND(E115*I115,2) -> 0 | O115: =ROUND(E115*J115,2) -> 0 | P115: =SUM(M115:O115) -> 0
A116: 147 | C116: Salix alba 'Liempde'/ Baltais vītols, šķirne / Stāda h=350-400 cm; platums 150- 200 cm; Kailstumbrs 180-200cm; Strumbra apk. 18-20cm; Stāds pārstādīts vismaz 3x / K / Kupls un simetrisks vainags. Paredzēts stādīšanai strap auto stāvvietām. | D116: gab. | E116: 1 | K116: =SUM(H116:J116) -> 0 | L116: =ROUND(E116*F116,2) -> 0 | M116: =ROUND(E116*H116,2) -> 0 | N116: =ROUND(E116*I116,2) -> 0 | O116: =ROUND(E116*J116,2) -> 0 | P116: =SUM(M116:O116) -> 0
A117: 150 | C117: Tilia intermedia/ Holandes liepa / Stāda h=450-500 cm; platums 150- 200 cm; Kailstumbrs 200-220cm; Strumbra apk. 20-25cm; Stāds pārstādīts vismaz 4x / K / Kupls un simetrisks vainags. Paredzēts stādīšanai gar ielu. | D117: gab. | E117: 5 | K117: =SUM(H117:J117) -> 0 | L117: =ROUND(E117*F117,2) -> 0 | M117: =ROUND(E117*H117,2) -> 0 | N117: =ROUND(E117*I117,2) -> 0 | O117: =ROUND(E117*J117,2) -> 0 | P117: =SUM(M117:O117) -> 0
A118: Skuju krūmi
A119: 153 | C119: Pinus mugo var. Pumilio / Zemā kalnu priede / Stāda h=80-100cm platums 80-100cm. Stāds pārstādīts vismaz 5x. / K / Labi veidots, simetrisks vainags. | D119: gab. | E119: 57 | K119: =SUM(H119:J119) -> 0 | L119: =ROUND(E119*F119,2) -> 0 | M119: =ROUND(E119*H119,2) -> 0 | N119: =ROUND(E119*I119,2) -> 0 | O119: =ROUND(E119*J119,2) -> 0 | P119: =SUM(M119:O119) -> 0
A120: Lapu krūmi
A121: 155 | C121: Cornus sericea 'Flaviramea' / Atvašu grimonis, šķirne / Stāda h=80-100cm; b=labi zarots; min. zaru skaits 8-10 gab. / C5 / | D121: gab. | E121: 5 | K121: =SUM(H121:J121) -> 0 | L121: =ROUND(E121*F121,2) -> 0 | M121: =ROUND(E121*H121,2) -> 0 | N121: =ROUND(E121*I121,2) -> 0 | O121: =ROUND(E121*J121,2) -> 0 | P121: =SUM(M121:O121) -> 0
A122: 156 | C122: Cotoneaster dammeri 'Jürgl' / Dammera klintene, šķirne / Stāda h=20cm; b=labi zarots; min. zaru skaits 4-6 gab. / C5 / | D122: gab. | E122: 8 | K122: =SUM(H122:J122) -> 0 | L122: =ROUND(E122*F122,2) -> 0 | M122: =ROUND(E122*H122,2) -> 0 | N122: =ROUND(E122*I122,2) -> 0 | O122: =ROUND(E122*J122,2) -> 0 | P122: =SUM(M122:O122) -> 0
A123: 157 | C123: Forsythia × intermedia / Vidējā forsītija / Stāda h=60-80cm; b=labi zarots; min. zaru skaits 8-10gab. / C10 / Izteiksmīgs un liels krūms ar labi veidotu vainagu. | D123: gab. | E123: 37 | K123: =SUM(H123:J123) -> 0 | L123: =ROUND(E123*F123,2) -> 0 | M123: =ROUND(E123*H123,2) -> 0 | N123: =ROUND(E123*I123,2) -> 0 | O123: =ROUND(E123*J123,2) -> 0 | P123: =SUM(M123:O123) -> 0
A124: 158 | C124: Hydrangea arborescens 'Hayes Starburst' / Kokveida hortenzija, šķirne / Stāda h=60-80cm; b=labi zarots; min. zaru skaits 8-10gab. / C5 / | D124: gab. | E124: 5 | K124: =SUM(H124:J124) -> 0 | L124: =ROUND(E124*F124,2) -> 0 | M124: =ROUND(E124*H124,2) -> 0 | N124: =ROUND(E124*I124,2) -> 0 | O124: =ROUND(E124*J124,2) -> 0 | P124: =SUM(M124:O124) -> 0
A125: 159 | C125: Salix purpurea f. gracilis / Purpura kārkls, forma / Stāda h=60-80cm; b=labi zarots; min. zaru skaits 10-20gab. / C5 / | D125: gab. | E125: 34 | K125: =SUM(H125:J125) -> 0 | L125: =ROUND(E125*F125,2) -> 0 | M125: =ROUND(E125*H125,2) -> 0 | N125: =ROUND(E125*I125,2) -> 0 | O125: =ROUND(E125*J125,2) -> 0 | P125: =SUM(M125:O125) -> 0
A126: 161 | C126: Spiraea japonica 'Albiflora' / Japānas spireja, šķirne / Stāda h=30cm; b=labi zarots; min. zaru skaits 8-10 gab. / C5 / | D126: gab. | E126: 37 | K126: =SUM(H126:J126) -> 0 | L126: =ROUND(E126*F126,2) -> 0 | M126: =ROUND(E126*H126,2) -> 0 | N126: =ROUND(E126*I126,2) -> 0 | O126: =ROUND(E126*J126,2) -> 0 | P126: =SUM(M126:O126) -> 0
A127: 162 | C127: Spiraea nipponica / Niponas spireja / Stāda h=40-60cm; b=labi zarots; min. zaru skaits 8-10 gab. / C5 / | D127: gab. | E127: 44 | K127: =SUM(H127:J127) -> 0 | L127: =ROUND(E127*F127,2) -> 0 | M127: =ROUND(E127*H127,2) -> 0 | N127: =ROUND(E127*I127,2) -> 0 | O127: =ROUND(E127*J127,2) -> 0 | P127: =SUM(M127:O127) -> 0
A128: 163 | C128: Symphoricarpos × chenaultii 'Hancock' / Šeno sniegoga, šķirne / Stāda h=30cm; b=labi zarots; min. zaru skaits 10-20 gab. / C5 / | D128: gab. | E128: 47 | K128: =SUM(H128:J128) -> 0 | L128: =ROUND(E128*F128,2) -> 0 | M128: =ROUND(E128*H128,2) -> 0 | N128: =ROUND(E128*I128,2) -> 0 | O128: =ROUND(E128*J128,2) -> 0 | P128: =SUM(M128:O128) -> 0
A129: 164 | C129: Syringa amurensis / Amūras ceriņš / Stāda h=150-200cm; b=labi zarots; min. zaru skaits 8-10 gab. / K / Izteiksmīgs un liels krūms ar labi veidotu vainagu. | D129: gab. | E129: 8 | K129: =SUM(H129:J129) -> 0 | L129: =ROUND(E129*F129,2) -> 0 | M129: =ROUND(E129*H129,2) -> 0 | N129: =ROUND(E129*I129,2) -> 0 | O129: =ROUND(E129*J129,2) -> 0 | P129: =SUM(M129:O129) -> 0
A130: 165 | C130: Syringa josikaea / Ungārijas ceriņš / Stāda h=150-200cm; b=labi zarots; min. zaru skaits 8-10 gab. / K / Izteiksmīgs un liels krūms ar labi veidotu vainagu. | D130: gab. | E130: 13 | K130: =SUM(H130:J130) -> 0 | L130: =ROUND(E130*F130,2) -> 0 | M130: =ROUND(E130*H130,2) -> 0 | N130: =ROUND(E130*I130,2) -> 0 | O130: =ROUND(E130*J130,2) -> 0 | P130: =SUM(M130:O130) -> 0
A131: 166 | C131: Syringa meyeri 'Palibin' / Meijera ceriņš, šķirne / Stāda h=60-80cm; b=labi zarots; min. zaru skaits 4-6gab. / C5 / | D131: gab. | E131: 16 | K131: =SUM(H131:J131) -> 0 | L131: =ROUND(E131*F131,2) -> 0 | M131: =ROUND(E131*H131,2) -> 0 | N131: =ROUND(E131*I131,2) -> 0 | O131: =ROUND(E131*J131,2) -> 0 | P131: =SUM(M131:O131) -> 0
A132: 167 | C132: Syringa vulgaris 'Mazais Princis' / Parastais ceriņš, šķirne / Stāda h=80-100cm; b=labi zarots; min. zaru skaits 8-10 gab. / C5/C7 / Var aizvietot ar Syringa vulgaris 'Alba Grandiflora' (pieauguša auga augstums līdz 2, 2.5m, ziedu krāsa:balta), vai 'Krasavitsa Moskvy' (vidēji liels) | D132: gab. | E132: 3 | K132: =SUM(H132:J132) -> 0 | L132: =ROUND(E132*F132,2) -> 0 | M132: =ROUND(E132*H132,2) -> 0 | N132: =ROUND(E132*I132,2) -> 0 | O132: =ROUND(E132*J132,2) -> 0 | P132: =SUM(M132:O132) -> 0
A133: Ziemcietes un graudzāles
A134: 169 | C134: Alchemilla mollis / Mīkstais rasaskrēsliņš / P9 | D134: gab. | E134: 161 | F134: 0 | G134: 0 | H134: =ROUND(F134*G134,2) -> 0 | J134: 0 | K134: =SUM(H134:J134) -> 0 | L134: =ROUND(E134*F134,2) -> 0 | M134: =ROUND(E134*H134,2) -> 0 | N134: =ROUND(E134*I134,2) -> 0 | O134: =ROUND(E134*J134,2) -> 0 | P134: =SUM(M134:O134) -> 0
A135: 170 | C135: Anemone sylvestris / Daugavas vizbulis / P9 | D135: gab. | E135: 60 | F135: 0 | G135: 0 | H135: =ROUND(F135*G135,2) -> 0 | J135: 0 | K135: =SUM(H135:J135) -> 0 | L135: =ROUND(E135*F135,2) -> 0 | M135: =ROUND(E135*H135,2) -> 0 | N135: =ROUND(E135*I135,2) -> 0 | O135: =ROUND(E135*J135,2) -> 0 | P135: =SUM(M135:O135) -> 0
A136: 171 | C136: Aster amellus 'Blue King' / Virsāju ziemastere, šķirne / C1 | D136: gab. | E136: 58 | F136: 0 | G136: 0 | H136: =ROUND(F136*G136,2) -> 0 | J136: 0 | K136: =SUM(H136:J136) -> 0 | L136: =ROUND(E136*F136,2) -> 0 | M136: =ROUND(E136*H136,2) -> 0 | N136: =ROUND(E136*I136,2) -> 0 | O136: =ROUND(E136*J136,2) -> 0 | P136: =SUM(M136:O136) -> 0
...

Sheet 1,10
A2: Lokālā tāme Nr.1,10
A3: =KA!C24 -> ELT-ST- Esošo elektroapgādes tīklu pārbūve Rīgas un Līvzemes ielās, Salaspilī
A4: (būvdarbu veids vai konstruktīvā elementa nosaukums)
A6: Objekta nosaukums: | C6: =KA!C24 -> ELT-ST- Esošo elektroapgādes tīklu pārbūve Rīgas un Līvzemes ielās, Salaspilī
A7: Būves nosaukums:
A8: Objekta adrese: | C8: =[1]KT!B11 -> Salaspils
A9: Pasūtījuma nr.:
A11: Tāme sastādīta 2024. gada tirgus cenās, pamatojoties uz būvprojekta rasējumiem | M11: Tāmes izmaksas: | O11: =P239 -> 0 | P11: EUR
N12: Tāme sastādīta | O12: =KT!C28 -> 2024. gada ____________
A14: Nr.p.k. | B14: Kods | C14: Būvdarbu nosaukums | D14: Mērvienība | E14: Daudzums | F14: Vienības izmaksas | L14: Kopā uz visu apjomu
F15: Laika norma (c/h) | G15: Darba samaksas likme (euro/h) | H15: Darba alga | I15: Būvizstrādājumi | J15: Mehānismi | K15: KOPĀ | L15: Darbietilpība (c/h) | M15: Darba alga | N15: Būvizstrādājumi | O15: Mehānismi | P15: Summa
A16: TP pārbūve (B041, pēc TN Nr.30AT00-04/TN-49154)
A17: Darbu izmaksas
A18: 1 | C18: Transformatora ZS kabeļu saites montāža līdz četriem 240- 300 mm2 viendzīslu kabeļiem - esošie kabeli | D18: tek.m | E18: 40 | K18: =SUM(H18:J18) -> 0 | L18: =ROUND(E18*F18,2) -> 0 | M18: =ROUND(E18*H18,2) -> 0 | N18: =ROUND(E18*I18,2) -> 0 | O18: =ROUND(E18*J18,2) -> 0 | P18: =SUM(M18:O18) -> 0
A19: 2 | C19: VS balsta horizontālās vai vert. traverses montāža | D19: gb | E19: 1 | K19: =SUM(H19:J19) -> 0 | L19: =ROUND(E19*F19,2) -> 0 | M19: =ROUND(E19*H19,2) -> 0 | N19: =ROUND(E19*I19,2) -> 0 | O19: =ROUND(E19*J19,2) -> 0 | P19: =SUM(M19:O19) -> 0
A20: 3 | C20: VS balsta atsaites montāža | D20: gb | E20: 2 | K20: =SUM(H20:J20) -> 0 | L20: =ROUND(E20*F20,2) -> 0 | M20: =ROUND(E20*H20,2) -> 0 | N20: =ROUND(E20*I20,2) -> 0 | O20: =ROUND(E20*J20,2) -> 0 | P20: =SUM(M20:O20) -> 0
A21: 4 | C21: PAS (SAX) vada montāža | D21: v.v/km | E21: 0.018 | K21: =SUM(H21:J21) -> 0 | L21: =ROUND(E21*F21,2) -> 0 | M21: =ROUND(E21*H21,2) -> 0 | N21: =ROUND(E21*I21,2) -> 0 | O21: =ROUND(E21*J21,2) -> 0 | P21: =SUM(M21:O21) -> 0
A22: 5 | C22: Atsaites pieslegšana esošam zemējuma vadam | D22: kpl | E22: 2 | K22: =SUM(H22:J22) -> 0 | L22: =ROUND(E22*F22,2) -> 0 | M22: =ROUND(E22*H22,2) -> 0 | N22: =ROUND(E22*I22,2) -> 0 | O22: =ROUND(E22*J22,2) -> 0 | P22: =SUM(M22:O22) -> 0
A23: Materiālu izmaksas
A24: 7 | C24: Traversa gala balstam, horizontāla, attālums starp vadiem 1250mm | D24: gb | E24: 1 | K24: =SUM(H24:J24) -> 0 | L24: =ROUND(E24*F24,2) -> 0 | M24: =ROUND(E24*H24,2) -> 0 | N24: =ROUND(E24*I24,2) -> 0 | O24: =ROUND(E24*J24,2) -> 0 | P24: =SUM(M24:O24) -> 0
A25: 8 | C25: Piekarizolators, kompozītais, 24kV | D25: gb | E25: 3 | K25: =SUM(H25:J25) -> 0 | L25: =ROUND(E25*F25,2) -> 0 | M25: =ROUND(E25*H25,2) -> 0 | N25: =ROUND(E25*I25,2) -> 0 | O25: =ROUND(E25*J25,2) -> 0 | P25: =SUM(M25:O25) -> 0
A26: 9 | C26: Nozarspaile AL 16-95/AL 16-95 mm2, 1-20kV | D26: gb | E26: 3 | K26: =SUM(H26:J26) -> 0 | L26: =ROUND(E26*F26,2) -> 0 | M26: =ROUND(E26*H26,2) -> 0 | N26: =ROUND(E26*I26,2) -> 0 | O26: =ROUND(E26*J26,2) -> 0 | P26: =SUM(M26:O26) -> 0
A27: 10 | C27: Spaile, kopņu 16-70mm2 Al | D27: gb | E27: 3 | K27: =SUM(H27:J27) -> 0 | L27: =ROUND(E27*F27,2) -> 0 | M27: =ROUND(E27*H27,2) -> 0 | N27: =ROUND(E27*I27,2) -> 0 | O27: =ROUND(E27*J27,2) -> 0 | P27: =SUM(M27:O27) -> 0
A28: 11 | C28: Stieple alumīnija, atlaidināta 16mm2 | D28: m | E28: 16 | K28: =SUM(H28:J28) -> 0 | L28: =ROUND(E28*F28,2) -> 0 | M28: =ROUND(E28*H28,2) -> 0 | N28: =ROUND(E28*I28,2) -> 0 | O28: =ROUND(E28*J28,2) -> 0 | P28: =SUM(M28:O28) -> 0
A29: 12 | C29: Vads, pārklāts, CCST70 | D29: m | E29: 18 | K29: =SUM(H29:J29) -> 0 | L29: =ROUND(E29*F29,2) -> 0 | M29: =ROUND(E29*H29,2) -> 0 | N29: =ROUND(E29*I29,2) -> 0 | O29: =ROUND(E29*J29,2) -> 0 | P29: =SUM(M29:O29) -> 0
A30: 13 | C30: Atsaites komplekts ar izolatoru, troses garums 16.5m | D30: kpl | E30: 2 | K30: =SUM(H30:J30) -> 0 | L30: =ROUND(E30*F30,2) -> 0 | M30: =ROUND(E30*H30,2) -> 0 | N30: =ROUND(E30*I30,2) -> 0 | O30: =ROUND(E30*J30,2) -> 0 | P30: =SUM(M30:O30) -> 0
A31: 14 | C31: Nozarspaile AL 16-95/AL 16-95 mm2, 1-20kV | D31: gb | E31: 2 | K31: =SUM(H31:J31) -> 0 | L31: =ROUND(E31*F31,2) -> 0 | M31: =ROUND(E31*H31,2) -> 0 | N31: =ROUND(E31*I31,2) -> 0 | O31: =ROUND(E31*J31,2) -> 0 | P31: =SUM(M31:O31) -> 0
A32: 15 | C32: Enkura komplekts, stienis un enkurs | D32: gb | E32: 2 | K32: =SUM(H32:J32) -> 0 | L32: =ROUND(E32*F32,2) -> 0 | M32: =ROUND(E32*H32,2) -> 0 | N32: =ROUND(E32*I32,2) -> 0 | O32: =ROUND(E32*J32,2) -> 0 | P32: =SUM(M32:O32) -> 0
A33: 16 | C33: Atsaites zemējuma komplekts | D33: kpl | E33: 2 | K33: =SUM(H33:J33) -> 0 | L33: =ROUND(E33*F33,2) -> 0 | M33: =ROUND(E33*H33,2) -> 0 | N33: =ROUND(E33*I33,2) -> 0 | O33: =ROUND(E33*J33,2) -> 0 | P33: =SUM(M33:O33) -> 0
A34: 20kV GVL izbūve (B041, pēc TN Nr.30AT00-04/TN-49154)
A35: Darbu izmaksas
A36: 19 | C36: Tranšeja horizontālam zemēšanas kontūram | D36: m | E36: 27 | K36: =SUM(H36:J36) -> 0 | L36: =ROUND(E36*F36,2) -> 0 | M36: =ROUND(E36*H36,2) -> 0 | N36: =ROUND(E36*I36,2) -> 0 | O36: =ROUND(E36*J36,2) -> 0 | P36: =SUM(M36:O36) -> 0
A37: 20 | C37: Teritorijas labiekārtošana | D37: m2 | E37: 5 | K37: =SUM(H37:J37) -> 0 | L37: =ROUND(E37*F37,2) -> 0 | M37: =ROUND(E37*H37,2) -> 0 | N37: =ROUND(E37*I37,2) -> 0 | O37: =ROUND(E37*J37,2) -> 0 | P37: =SUM(M37:O37) -> 0
A38: 21 | C38: GL atdalītāja montāža | D38: gb | E38: 1 | K38: =SUM(H38:J38) -> 0 | L38: =ROUND(E38*F38,2) -> 0 | M38: =ROUND(E38*H38,2) -> 0 | N38: =ROUND(E38*I38,2) -> 0 | O38: =ROUND(E38*J38,2) -> 0 | P38: =SUM(M38:O38) -> 0
A39: 22 | C39: Horizontālā zemētāja montāža tranšejā | D39: m | E39: 27 | K39: =SUM(H39:J39) -> 0 | L39: =ROUND(E39*F39,2) -> 0 | M39: =ROUND(E39*H39,2) -> 0 | N39: =ROUND(E39*I39,2) -> 0 | O39: =ROUND(E39*J39,2) -> 0 | P39: =SUM(M39:O39) -> 0
A40: 23 | C40: Vertikālā zemētāja dziļumā līdz 5 m montāža | D40: gb | E40: 4 | K40: =SUM(H40:J40) -> 0 | L40: =ROUND(E40*F40,2) -> 0 | M40: =ROUND(E40*H40,2) -> 0 | N40: =ROUND(E40*I40,2) -> 0 | O40: =ROUND(E40*J40,2) -> 0 | P40: =SUM(M40:O40) -> 0
A41: Darbu izmaksas (demontāžas darbi)
A42: 25 | C42: VS starpbalsta (I-balsta) demontāža | D42: gb | E42: 1 | K42: =SUM(H42:J42) -> 0 | L42: =ROUND(E42*F42,2) -> 0 | M42: =ROUND(E42*H42,2) -> 0 | N42: =ROUND(E42*I42,2) -> 0 | O42: =ROUND(E42*J42,2) -> 0 | P42: =SUM(M42:O42) -> 0
A43: 26 | C43: VS A-veida balsta demontāža | D43: gb | E43: 1 | K43: =SUM(H43:J43) -> 0 | L43: =ROUND(E43*F43,2) -> 0 | M43: =ROUND(E43*H43,2) -> 0 | N43: =ROUND(E43*I43,2) -> 0 | O43: =ROUND(E43*J43,2) -> 0 | P43: =SUM(M43:O43) -> 0
A44: 27 | C44: VS enkurbalsta (3-kāju) demontāža | D44: gb | E44: 1 | K44: =SUM(H44:J44) -> 0 | L44: =ROUND(E44*F44,2) -> 0 | M44: =ROUND(E44*H44,2) -> 0 | N44: =ROUND(E44*I44,2) -> 0 | O44: =ROUND(E44*J44,2) -> 0 | P44: =SUM(M44:O44) -> 0
A45: 28 | C45: VS dzelzbetona pastaba demontāža | D45: gb | E45: 3 | K45: =SUM(H45:J45) -> 0 | L45: =ROUND(E45*F45,2) -> 0 | M45: =ROUND(E45*H45,2) -> 0 | N45: =ROUND(E45*I45,2) -> 0 | O45: =ROUND(E45*J45,2) -> 0 | P45: =SUM(M45:O45) -> 0
A46: 29 | C46: VS vadu demontāža | D46: v.v/km | E46: 0.528 | K46: =SUM(H46:J46) -> 0 | L46: =ROUND(E46*F46,2) -> 0 | M46: =ROUND(E46*H46,2) -> 0 | N46: =ROUND(E46*I46,2) -> 0 | O46: =ROUND(E46*J46,2) -> 0 | P46: =SUM(M46:O46) -> 0
A47: 30 | C47: VS pārejas vadu demontāža abos balstos | D47: vads | E47: 3 | K47: =SUM(H47:J47) -> 0 | L47: =ROUND(E47*F47,2) -> 0 | M47: =ROUND(E47*H47,2) -> 0 | N47: =ROUND(E47*I47,2) -> 0 | O47: =ROUND(E47*J47,2) -> 0 | P47: =SUM(M47:O47) -> 0
A48: Materiālu izmaksas
A49: 32 | C49: Atdalītājs, slodzes ar 3 izolatoriem uz fāzi, ar vienu zemēšanas nazi kustīgā kontakta pusē, uzstadīšanai vienstatņa balstā, vertikāls nažu novietojums, viena ienākošā līnija, SA21-3-1Z-VGV-A | D49: gb | E49: 1 | K49: =SUM(H49:J49) -> 0 | L49: =ROUND(E49*F49,2) -> 0 | M49: =ROUND(E49*H49,2) -> 0 | N49: =ROUND(E49*I49,2) -> 0 | O49: =ROUND(E49*J49,2) -> 0 | P49: =SUM(M49:O49) -> 0
A50: 33 | C50: Piekarizolators, kompozītais, 24kV | D50: gb | E50: 3 | K50: =SUM(H50:J50) -> 0 | L50: =ROUND(E50*F50,2) -> 0 | M50: =ROUND(E50*H50,2) -> 0 | N50: =ROUND(E50*I50,2) -> 0 | O50: =ROUND(E50*J50,2) -> 0 | P50: =SUM(M50:O50) -> 0
A51: 34 | C51: Tapizolators porcelāna, SDI vītne, tiešai montāžai uz tapas, 24 kV | D51: gb | E51: 3 | K51: =SUM(H51:J51) -> 0 | L51: =ROUND(E51*F51,2) -> 0 | M51: =ROUND(E51*H51,2) -> 0 | N51: =ROUND(E51*I51,2) -> 0 | O51: =ROUND(E51*J51,2) -> 0 | P51: =SUM(M51:O51) -> 0
A52: 35 | C52: Spaile, kopņu 70-240mm2 Al | D52: gb | E52: 6 | K52: =SUM(H52:J52) -> 0 | L52: =ROUND(E52*F52,2) -> 0 | M52: =ROUND(E52*H52,2) -> 0 | N52: =ROUND(E52*I52,2) -> 0 | O52: =ROUND(E52*J52,2) -> 0 | P52: =SUM(M52:O52) -> 0
A53: 36 | C53: Vads, pārklāts, CCST70 | D53: m | E53: 6 | K53: =SUM(H53:J53) -> 0 | L53: =ROUND(E53*F53,2) -> 0 | M53: =ROUND(E53*H53,2) -> 0 | N53: =ROUND(E53*I53,2) -> 0 | O53: =ROUND(E53*J53,2) -> 0 | P53: =SUM(M53:O53) -> 0
A54: 37 | C54: Stieple alumīnija, atlaidināta 16mm2 | D54: m | E54: 6.6 | K54: =SUM(H54:J54) -> 0 | L54: =ROUND(E54*F54,2) -> 0 | M54: =ROUND(E54*H54,2) -> 0 | N54: =ROUND(E54*I54,2) -> 0 | O54: =ROUND(E54*J54,2) -> 0 | P54: =SUM(M54:O54) -> 0
A55: 38 | C55: Atgāžņa mezgls, metāla | D55: kpl | E55: 1 | K55: =SUM(H55:J55) -> 0 | L55: =ROUND(E55*F55,2) -> 0 | M55: =ROUND(E55*H55,2) -> 0 | N55: =ROUND(E55*I55,2) -> 0 | O55: =ROUND(E55*J55,2) -> 0 | P55: =SUM(M55:O55) -> 0
A56: 39 | C56: Balstu cepure, 240 mm | D56: gb | E56: 1 | K56: =SUM(H56:J56) -> 0 | L56: =ROUND(E56*F56,2) -> 0 | M56: =ROUND(E56*H56,2) -> 0 | N56: =ROUND(E56*I56,2) -> 0 | O56: =ROUND(E56*J56,2) -> 0 | P56: =SUM(M56:O56) -> 0
A57: 40 | C57: Bultskrūve M20x500 ar 2 paplāksnēm un uzgriezni, cinkota | D57: gb | E57: 2 | K57: =SUM(H57:J57) -> 0 | L57: =ROUND(E57*F57,2) -> 0 | M57: =ROUND(E57*H57,2) -> 0 | N57: =ROUND(E57*I57,2) -> 0 | O57: =ROUND(E57*J57,2) -> 0 | P57: =SUM(M57:O57) -> 0
A58: 41 | C58: Rīģelis, koka, L=1000mm, d=160mm | D58: gb | E58: 1 | K58: =SUM(H58:J58) -> 0 | L58: =ROUND(E58*F58,2) -> 0 | M58: =ROUND(E58*H58,2) -> 0 | N58: =ROUND(E58*I58,2) -> 0 | O58: =ROUND(E58*J58,2) -> 0 | P58: =SUM(M58:O58) -> 0
A59: 42 | C59: Rīģelis, koka, L=430mm, d=160mm | D59: gb | E59: 1 | K59: =SUM(H59:J59) -> 0 | L59: =ROUND(E59*F59,2) -> 0 | M59: =ROUND(E59*H59,2) -> 0 | N59: =ROUND(E59*I59,2) -> 0 | O59: =ROUND(E59*J59,2) -> 0 | P59: =SUM(M59:O59) -> 0
A60: 43 | C60: Stabs, koka, III klase, 11m | D60: gb | E60: 2 | K60: =SUM(H60:J60) -> 0 | L60: =ROUND(E60*F60,2) -> 0 | M60: =ROUND(E60*H60,2) -> 0 | N60: =ROUND(E60*I60,2) -> 0 | O60: =ROUND(E60*J60,2) -> 0 | P60: =SUM(M60:O60) -> 0
... A74: 57 | C74: Elektroda uzgalis, iesišanai zemē | D74: gb | E74: 4 | K74: =SUM(H74:J74) -> 0 | L74: =ROUND(E74*F74,2) -> 0 | M74: =ROUND(E74*H74,2) -> 0 | N74: =ROUND(E74*I74,2) -> 0 | O74: =ROUND(E74*J74,2) -> 0 | P74: =SUM(M74:O74) -> 0
A75: 20kV GVL izbūve (B041, pēc TN Nr.30AT00-04/TN-49154)
A76: Darbu izmaksas
A77: 60 | C77: Tranšeja - bedre kabeļa vai citu apakšzemes komunikāciju apsekošanai (šurfēšana) | D77: gb | E77: 3 | K77: =SUM(H77:J77) -> 0 | L77: =ROUND(E77*F77,2) -> 0 | M77: =ROUND(E77*H77,2) -> 0 | N77: =ROUND(E77*I77,2) -> 0 | O77: =ROUND(E77*J77,2) -> 0 | P77: =SUM(M77:O77) -> 0
A78: 61 | C78: Tranšejas rakšana un aizbēršana viena līdz divu kabeļu (caurules) gūldīšanai 0.7m dziļumā | D78: m | E78: 74 | K78: =SUM(H78:J78) -> 0 | L78: =ROUND(E78*F78,2) -> 0 | M78: =ROUND(E78*H78,2) -> 0 | N78: =ROUND(E78*I78,2) -> 0 | O78: =ROUND(E78*J78,2) -> 0 | P78: =SUM(M78:O78) -> 0
A79: 62 | C79: Tranšejas rakšana un aizbēršana viena līdz divu kabeļu (caurules) gūldīšanai 1m dziļumā | D79: m | E79: 22 | K79: =SUM(H79:J79) -> 0 | L79: =ROUND(E79*F79,2) -> 0 | M79: =ROUND(E79*H79,2) -> 0 | N79: =ROUND(E79*I79,2) -> 0 | O79: =ROUND(E79*J79,2) -> 0 | P79: =SUM(M79:O79) -> 0
A80: 63 | C80: Bruģa (flizes) klājuma ieklāšana | D80: m2 | E80: 2 | K80: =SUM(H80:J80) -> 0 | L80: =ROUND(E80*F80,2) -> 0 | M80: =ROUND(E80*H80,2) -> 0 | N80: =ROUND(E80*I80,2) -> 0 | O80: =ROUND(E80*J80,2) -> 0 | P80: =SUM(M80:O80) -> 0
A81: 64 | C81: Grants seguma brauktuves ieklāšana | D81: m2 | E81: 18 | K81: =SUM(H81:J81) -> 0 | L81: =ROUND(E81*F81,2) -> 0 | M81: =ROUND(E81*H81,2) -> 0 | N81: =ROUND(E81*I81,2) -> 0 | O81: =ROUND(E81*J81,2) -> 0 | P81: =SUM(M81:O81) -> 0
A82: 65 | C82: Brauktuves šķembu seguma izbūve (sagatavošana asfaltēšanai, būvbedres platumā) | D82: m2 | E82: 6.5 | K82: =SUM(H82:J82) -> 0 | L82: =ROUND(E82*F82,2) -> 0 | M82: =ROUND(E82*H82,2) -> 0 | N82: =ROUND(E82*I82,2) -> 0 | O82: =ROUND(E82*J82,2) -> 0 | P82: =SUM(M82:O82) -> 0
A83: 66 | C83: Brauktuves asfaltbetona seguma atjaunošana (apakškārtas, sasaistes kārtas un dilumkārtas izbūve būvbedres platumā) | D83: m2 | E83: 6.5 | K83: =SUM(H83:J83) -> 0 | L83: =ROUND(E83*F83,2) -> 0 | M83: =ROUND(E83*H83,2) -> 0 | N83: =ROUND(E83*I83,2) -> 0 | O83: =ROUND(E83*J83,2) -> 0 | P83: =SUM(M83:O83) -> 0
A84: 67 | C84: Ietves šķembu seguma izbūve (sagatavošana asfaltēšanai, būvbedres platumā) | D84: m2 | E84: 46 | K84: =SUM(H84:J84) -> 0 | L84: =ROUND(E84*F84,2) -> 0 | M84: =ROUND(E84*H84,2) -> 0 | N84: =ROUND(E84*I84,2) -> 0 | O84: =ROUND(E84*J84,2) -> 0 | P84: =SUM(M84:O84) -> 0
A85: 68 | C85: Ietves asfaltbetona seguma atjaunošana (dilumkārtas izbūve būvbedres platumā) | D85: m2 | E85: 46 | K85: =SUM(H85:J85) -> 0 | L85: =ROUND(E85*F85,2) -> 0 | M85: =ROUND(E85*H85,2) -> 0 | N85: =ROUND(E85*I85,2) -> 0 | O85: =ROUND(E85*J85,2) -> 0 | P85: =SUM(M85:O85) -> 0
A86: 69 | C86: Teritorijas labiekārtošana | D86: m2 | E86: 21 | K86: =SUM(H86:J86) -> 0 | L86: =ROUND(E86*F86,2) -> 0 | M86: =ROUND(E86*H86,2) -> 0 | N86: =ROUND(E86*I86,2) -> 0 | O86: =ROUND(E86*J86,2) -> 0 | P86: =SUM(M86:O86) -> 0
A87: Darbu izmaksas (demontāžas darbi)
A88: 71 | C88: Bruģa (flizes) klājuma demontāža | D88: m2 | E88: 1 | K88: =SUM(H88:J88) -> 0 | L88: =ROUND(E88*F88,2) -> 0 | M88: =ROUND(E88*H88,2) -> 0 | N88: =ROUND(E88*I88,2) -> 0 | O88: =ROUND(E88*J88,2) -> 0 | P88: =SUM(M88:O88) -> 0
A89: 72 | C89: Ielu (brauktuvju) asfaltbetona seguma demontāža (apakškārtas, sasaistes kārtas un dilumkārtas demontāža būvbedres platumā) | D89: m2 | E89: 6.5 | K89: =SUM(H89:J89) -> 0 | L89: =ROUND(E89*F89,2) -> 0 | M89: =ROUND(E89*H89,2) -> 0 | N89: =ROUND(E89*I89,2) -> 0 | O89: =ROUND(E89*J89,2) -> 0 | P89: =SUM(M89:O89) -> 0
A90: 73 | C90: Ietves asfaltbetona seguma demontāža (dilumkārtas demontāža būvbedres platumā) | D90: m2 | E90: 46 | K90: =SUM(H90:J90) -> 0 | L90: =ROUND(E90*F90,2) -> 0 | M90: =ROUND(E90*H90,2) -> 0 | N90: =ROUND(E90*I90,2) -> 0 | O90: =ROUND(E90*J90,2) -> 0 | P90: =SUM(M90:O90) -> 0
A91: 20kV KL izbūve (B041, pēc TN Nr.30AT00-04/TN-49154)
A92: Darbu izmaksas
A93: 76 | C93: Tranšeja - bedre kabeļa vai citu apakšzemes komunikāciju apsekošanai (šurfēšana) | D93: gb | E93: 14 | K93: =SUM(H93:J93) -> 0 | L93: =ROUND(E93*F93,2) -> 0 | M93: =ROUND(E93*H93,2) -> 0 | N93: =ROUND(E93*I93,2) -> 0 | O93: =ROUND(E93*J93,2) -> 0 | P93: =SUM(M93:O93) -> 0
A94: 77 | C94: Tranšejas rakšana un aizbēršana viena līdz divu kabeļu (caurules) gūldīšanai 0.7m dziļumā | D94: m | E94: 94 | K94: =SUM(H94:J94) -> 0 | L94: =ROUND(E94*F94,2) -> 0 | M94: =ROUND(E94*H94,2) -> 0 | N94: =ROUND(E94*I94,2) -> 0 | O94: =ROUND(E94*J94,2) -> 0 | P94: =SUM(M94:O94) -> 0
A95: 78 | C95: Tranšejas rakšana un aizbēršana viena līdz divu kabeļu (caurules) gūldīšanai 1m dziļumā | D95: m | E95: 16 | K95: =SUM(H95:J95) -> 0 | L95: =ROUND(E95*F95,2) -> 0 | M95: =ROUND(E95*H95,2) -> 0 | N95: =ROUND(E95*I95,2) -> 0 | O95: =ROUND(E95*J95,2) -> 0 | P95: =SUM(M95:O95) -> 0
A96: 79 | C96: Tranšejas rakšana un aizbēršana viena līdz divu kabeļu (caurules) gūldīšanai 0.7m dziļumā ar rokām | D96: m | E96: 27 | K96: =SUM(H96:J96) -> 0 | L96: =ROUND(E96*F96,2) -> 0 | M96: =ROUND(E96*H96,2) -> 0 | N96: =ROUND(E96*I96,2) -> 0 | O96: =ROUND(E96*J96,2) -> 0 | P96: =SUM(M96:O96) -> 0
A97: 80 | C97: Kabeļu aizsargcaurules d=125 līdz 160 mm ieguldīšana gatavā tranšejā | D97: m | E97: 167 | K97: =SUM(H97:J97) -> 0 | L97: =ROUND(E97*F97,2) -> 0 | M97: =ROUND(E97*H97,2) -> 0 | N97: =ROUND(E97*I97,2) -> 0 | O97: =ROUND(E97*J97,2) -> 0 | P97: =SUM(M97:O97) -> 0
A98: 81 | C98: PEHD caurules d=110 līdz 160 mm horizontāla urbšana-caurvilkšana | D98: m | E98: 98 | K98: =SUM(H98:J98) -> 0 | L98: =ROUND(E98*F98,2) -> 0 | M98: =ROUND(E98*H98,2) -> 0 | N98: =ROUND(E98*I98,2) -> 0 | O98: =ROUND(E98*J98,2) -> 0 | P98: =SUM(M98:O98) -> 0
A99: 82 | C99: Bruģa (flizes) klājuma ieklāšana | D99: m2 | E99: 26 | K99: =SUM(H99:J99) -> 0 | L99: =ROUND(E99*F99,2) -> 0 | M99: =ROUND(E99*H99,2) -> 0 | N99: =ROUND(E99*I99,2) -> 0 | O99: =ROUND(E99*J99,2) -> 0 | P99: =SUM(M99:O99) -> 0
A100: 83 | C100: Grants seguma brauktuves ieklāšana | D100: m2 | E100: 10 | K100: =SUM(H100:J100) -> 0 | L100: =ROUND(E100*F100,2) -> 0 | M100: =ROUND(E100*H100,2) -> 0 | N100: =ROUND(E100*I100,2) -> 0 | O100: =ROUND(E100*J100,2) -> 0 | P100: =SUM(M100:O100) -> 0
A101: 84 | C101: Brauktuves šķembu seguma izbūve (sagatavošana asfaltēšanai, būvbedres platumā) | D101: m2 | E101: 3 | K101: =SUM(H101:J101) -> 0 | L101: =ROUND(E101*F101,2) -> 0 | M101: =ROUND(E101*H101,2) -> 0 | N101: =ROUND(E101*I101,2) -> 0 | O101: =ROUND(E101*J101,2) -> 0 | P101: =SUM(M101:O101) -> 0
A102: 85 | C102: Brauktuves asfaltbetona seguma atjaunošana (apakškārtas, sasaistes kārtas un dilumkārtas izbūve būvbedres platumā) | D102: m2 | E102: 3 | K102: =SUM(H102:J102) -> 0 | L102: =ROUND(E102*F102,2) -> 0 | M102: =ROUND(E102*H102,2) -> 0 | N102: =ROUND(E102*I102,2) -> 0 | O102: =ROUND(E102*J102,2) -> 0 | P102: =SUM(M102:O102) -> 0
A103: 86 | C103: Ietves šķembu seguma izbūve (sagatavošana asfaltēšanai, būvbedres platumā) | D103: m2 | E103: 5 | K103: =SUM(H103:J103) -> 0 | L103: =ROUND(E103*F103,2) -> 0 | M103: =ROUND(E103*H103,2) -> 0 | N103: =ROUND(E103*I103,2) -> 0 | O103: =ROUND(E103*J103,2) -> 0 | P103: =SUM(M103:O103) -> 0
A104: 87 | C104: Ietves asfaltbetona seguma atjaunošana (dilumkārtas izbūve būvbedres platumā) | D104: m2 | E104: 5 | K104: =SUM(H104:J104) -> 0 | L104: =ROUND(E104*F104,2) -> 0 | M104: =ROUND(E104*H104,2) -> 0 | N104: =ROUND(E104*I104,2) -> 0 | O104: =ROUND(E104*J104,2) -> 0 | P104: =SUM(M104:O104) -> 0
... A111: 94 | C111: VS pārsprieguma novadītāja montāža balstā | D111: gb | E111: 6 | K111: =SUM(H111:J111) -> 0 | L111: =ROUND(E111*F111,2) -> 0 | M111: =ROUND(E111*H111,2) -> 0 | N111: =ROUND(E111*I111,2) -> 0 | O111: =ROUND(E111*J111,2) -> 0 | P111: =SUM(M111:O111) -> 0
A112: Darbu izmaksas (demontāžas darbi)
A113: 96 | C113: Bruģa (flizes) klājuma demontāža | D113: m2 | E113: 14 | K113: =SUM(H113:J113) -> 0 | L113: =ROUND(E113*F113,2) -> 0 | M113: =ROUND(E113*H113,2) -> 0 | N113: =ROUND(E113*I113,2) -> 0 | O113: =ROUND(E113*J113,2) -> 0 | P113: =SUM(M113:O113) -> 0
A114: 97 | C114: Ielu (brauktuvju) asfaltbetona seguma demontāža (apakškārtas, sasaistes kārtas un dilumkārtas demontāža būvbedres platumā) | D114: m2 | E114: 3 | K114: =SUM(H114:J114) -> 0 | L114: =ROUND(E114*F114,2) -> 0 | M114: =ROUND(E114*H114,2) -> 0 | N114: =ROUND(E114*I114,2) -> 0 | O114: =ROUND(E114*J114,2) -> 0 | P114: =SUM(M114:O114) -> 0
A115: 98 | C115: Ietves asfaltbetona seguma demontāža (dilumkārtas demontāža būvbedres platumā) | D115: m2 | E115: 5 | K115: =SUM(H115:J115) -> 0 | L115: =ROUND(E115*F115,2) -> 0 | M115: =ROUND(E115*H115,2) -> 0 | N115: =ROUND(E115*I115,2) -> 0 | O115: =ROUND(E115*J115,2) -> 0 | P115: =SUM(M115:O115) -> 0
A116: 99 | C116: Ietves asfaltbetona seguma papildus demontāža (dilumkārtas demontāža) | D116: m2 | E116: 9 | K116: =SUM(H116:J116) -> 0 | L116: =ROUND(E116*F116,2) -> 0 | M116: =ROUND(E116*H116,2) -> 0 | N116: =ROUND(E116*I116,2) -> 0 | O116: =ROUND(E116*J116,2) -> 0 | P116: =SUM(M116:O116) -> 0
A117: Materiālu izmaksas
A118: 101 | C118: Kabelis 20kV viendzīslas ar stiepļu ekrānu Al 3x1x240/25 | D118: m | E118: 337 | K118: =SUM(H118:J118) -> 0 | L118: =ROUND(E118*F118,2) -> 0 | M118: =ROUND(E118*H118,2) -> 0 | N118: =ROUND(E118*I118,2) -> 0 | O118: =ROUND(E118*J118,2) -> 0 | P118: =SUM(M118:O118) -> 0
A119: 102 | C119: Gala apdare 20kV ārtipa, 1-dzīslu kabelim ar stiepļu ekrānu | D119: kpl | E119: 2 | K119: =SUM(H119:J119) -> 0 | L119: =ROUND(E119*F119,2) -> 0 | M119: =ROUND(E119*H119,2) -> 0 | N119: =ROUND(E119*I119,2) -> 0 | O119: =ROUND(E119*J119,2) -> 0 | P119: =SUM(M119:O119) -> 0
A120: 103 | C120: Aizsargprofils kabelim, plastmasas | D120: m | E120: 80 | K120: =SUM(H120:J120) -> 0 | L120: =ROUND(E120*F120,2) -> 0 | M120: =ROUND(E120*H120,2) -> 0 | N120: =ROUND(E120*I120,2) -> 0 | O120: =ROUND(E120*J120,2) -> 0 | P120: =SUM(M120:O120) -> 0
A121: 104 | C121: Gala vāks, caurulei | D121: gb | E121: 2 | K121: =SUM(H121:J121) -> 0 | L121: =ROUND(E121*F121,2) -> 0 | M121: =ROUND(E121*H121,2) -> 0 | N121: =ROUND(E121*I121,2) -> 0 | O121: =ROUND(E121*J121,2) -> 0 | P121: =SUM(M121:O121) -> 0
A122: 105 | C122: Caurule, gofrēta 450N, d=160 | D122: m | E122: 100 | K122: =SUM(H122:J122) -> 0 | L122: =ROUND(E122*F122,2) -> 0 | M122: =ROUND(E122*H122,2) -> 0 | N122: =ROUND(E122*I122,2) -> 0 | O122: =ROUND(E122*J122,2) -> 0 | P122: =SUM(M122:O122) -> 0
A123: 106 | C123: Caurule, gofrēta 750N, d=160 | D123: m | E123: 67 | K123: =SUM(H123:J123) -> 0 | L123: =ROUND(E123*F123,2) -> 0 | M123: =ROUND(E123*H123,2) -> 0 | N123: =ROUND(E123*I123,2) -> 0 | O123: =ROUND(E123*J123,2) -> 0 | P123: =SUM(M123:O123) -> 0
...

Sheet 1,11
A2: Lokālā tāme Nr.1,1
A3: =KA!C25 -> ELT-ST- Jauns elektroapgādes pieslēgums Līvzemes iela 8, Salaspilī
A4: (būvdarbu veids vai konstruktīvā elementa nosaukums)
A6: Objekta nosaukums: | C6: =KA!C25 -> ELT-ST- Jauns elektroapgādes pieslēgums Līvzemes iela 8, Salaspilī
A7: Būves nosaukums:
A8: Objekta adrese: | C8: =[2]KT!B11 -> Līvzemes iela 8
A9: Pasūtījuma nr.:
A11: Tāme sastādīta 2024. gada tirgus cenās, pamatojoties uz būvprojekta rasējumiem | M11: Tāmes izmaksas: | O11: =P97 -> 0 | P11: EUR
N12: Tāme sastādīta | O12: =KT!C28 -> 2024. gada ____________
A14: Nr.p.k. | B14: Kods | C14: Būvdarbu nosaukums | D14: Mērvienība | E14: Daudzums | F14: Vienības izmaksas | L14: Kopā uz visu apjomu
F15: Laika norma (c/h) | G15: Darba samaksas likme (euro/h) | H15: Darba alga | I15: Būvizstrādājumi | J15: Mehānismi | K15: KOPĀ | L15: Darbietilpība (c/h) | M15: Darba alga | N15: Būvizstrādājumi | O15: Mehānismi | P15: Summa
A16: TP pārbūve (pēc TN Nr.106151248)
A17: Darbu izmaksas
A18: 1 | C18: Kabeļu plauktu montāža | D18: tek.m | E18: 15 | K18: =SUM(H18:J18) -> 0 | L18: =ROUND(E18*F18,2) -> 0 | M18: =ROUND(E18*H18,2) -> 0 | N18: =ROUND(E18*I18,2) -> 0 | O18: =ROUND(E18*J18,2) -> 0 | P18: =SUM(M18:O18) -> 0
A19: 2 | C19: Transformatora ZS kabeļu saites montāža līdz četriem 240- 300 mm2 viendzīslu kabeļiem - esošie kabeli | D19: tek.m | E19: 165 | K19: =SUM(H19:J19) -> 0 | L19: =ROUND(E19*F19,2) -> 0 | M19: =ROUND(E19*H19,2) -> 0 | N19: =ROUND(E19*I19,2) -> 0 | O19: =ROUND(E19*J19,2) -> 0 | P19: =SUM(M19:O19) -> 0
A20: 3 | C20: VS 1 dzīslu kabeļa 35 - 240 mm2 montāža ar skavām pa sienu, griestiem, vai iesiet trosē | D20: m | E20: 30 | K20: =SUM(H20:J20) -> 0 | L20: =ROUND(E20*F20,2) -> 0 | M20: =ROUND(E20*H20,2) -> 0 | N20: =ROUND(E20*I20,2) -> 0 | O20: =ROUND(E20*J20,2) -> 0 | P20: =SUM(M20:O20) -> 0
A21: 4 | C21: VS 1 dzīslu plastmasas izolācijas kabeļa līdz 95 mm2 gala apdare | D21: gb | E21: 6 | K21: =SUM(H21:J21) -> 0 | L21: =ROUND(E21*F21,2) -> 0 | M21: =ROUND(E21*H21,2) -> 0 | N21: =ROUND(E21*I21,2) -> 0 | O21: =ROUND(E21*J21,2) -> 0 | P21: =SUM(M21:O21) -> 0
A22: 5 | C22: Drošinātāju uzstādīšana | D22: gb | E22: 6 | K22: =SUM(H22:J22) -> 0 | L22: =ROUND(E22*F22,2) -> 0 | M22: =ROUND(E22*H22,2) -> 0 | N22: =ROUND(E22*I22,2) -> 0 | O22: =ROUND(E22*J22,2) -> 0 | P22: =SUM(M22:O22) -> 0
A23: 6 | C23: Kabeļu ieeju noblīvēšana | D23: gb | E23: 1 | K23: =SUM(H23:J23) -> 0 | L23: =ROUND(E23*F23,2) -> 0 | M23: =ROUND(E23*H23,2) -> 0 | N23: =ROUND(E23*I23,2) -> 0 | O23: =ROUND(E23*J23,2) -> 0 | P23: =SUM(M23:O23) -> 0
A24: 7 | C24: Kopnes montāža (TP,SP/FP, AST) | D24: m | E24: 4.5 | K24: =SUM(H24:J24) -> 0 | L24: =ROUND(E24*F24,2) -> 0 | M24: =ROUND(E24*H24,2) -> 0 | N24: =ROUND(E24*I24,2) -> 0 | O24: =ROUND(E24*J24,2) -> 0 | P24: =SUM(M24:O24) -> 0
A25: 8 | C25: VS iekštipa slodzes slēdža uzstādīšana | D25: gb | E25: 1 | K25: =SUM(H25:J25) -> 0 | L25: =ROUND(E25*F25,2) -> 0 | M25: =ROUND(E25*H25,2) -> 0 | N25: =ROUND(E25*I25,2) -> 0 | O25: =ROUND(E25*J25,2) -> 0 | P25: =SUM(M25:O25) -> 0
A26: 9 | C26: VS drošinātāju komplekta uzstādīšana | D26: kpl | E26: 1 | K26: =SUM(H26:J26) -> 0 | L26: =ROUND(E26*F26,2) -> 0 | M26: =ROUND(E26*H26,2) -> 0 | N26: =ROUND(E26*I26,2) -> 0 | O26: =ROUND(E26*J26,2) -> 0 | P26: =SUM(M26:O26) -> 0
A27: 10 | C27: Transformatora ar jaudu 100 - 400 kVA montāža iekštelpu sadalietaisē | D27: gb | E27: 1 | K27: =SUM(H27:J27) -> 0 | L27: =ROUND(E27*F27,2) -> 0 | M27: =ROUND(E27*H27,2) -> 0 | N27: =ROUND(E27*I27,2) -> 0 | O27: =ROUND(E27*J27,2) -> 0 | P27: =SUM(M27:O27) -> 0
A28: 11 | C28: Horizontālā zemētāja montāža telpās | D28: m | E28: 37 | K28: =SUM(H28:J28) -> 0 | L28: =ROUND(E28*F28,2) -> 0 | M28: =ROUND(E28*H28,2) -> 0 | N28: =ROUND(E28*I28,2) -> 0 | O28: =ROUND(E28*J28,2) -> 0 | P28: =SUM(M28:O28) -> 0
A29: 12 | C29: Caurumu lielāka par 30 mm urbšana līdz 1 m | D29: gb | E29: 2 | K29: =SUM(H29:J29) -> 0 | L29: =ROUND(E29*F29,2) -> 0 | M29: =ROUND(E29*H29,2) -> 0 | N29: =ROUND(E29*I29,2) -> 0 | O29: =ROUND(E29*J29,2) -> 0 | P29: =SUM(M29:O29) -> 0
A30: Darbu izmaksas (demontāžas darbi)
A31: 14 | C31: Sietveida nožogojuma demontāža | D31: m2 | E31: 6 | K31: =SUM(H31:J31) -> 0 | L31: =ROUND(E31*F31,2) -> 0 | M31: =ROUND(E31*H31,2) -> 0 | N31: =ROUND(E31*I31,2) -> 0 | O31: =ROUND(E31*J31,2) -> 0 | P31: =SUM(M31:O31) -> 0
A32: 15 | C32: VS iekštipa atdalītāja / slodzes slēdža demontāža | D32: gb | E32: 1 | K32: =SUM(H32:J32) -> 0 | L32: =ROUND(E32*F32,2) -> 0 | M32: =ROUND(E32*H32,2) -> 0 | N32: =ROUND(E32*I32,2) -> 0 | O32: =ROUND(E32*J32,2) -> 0 | P32: =SUM(M32:O32) -> 0
A33: 16 | C33: VS caurvadu izolatora demontāža | D33: gb | E33: 15 | K33: =SUM(H33:J33) -> 0 | L33: =ROUND(E33*F33,2) -> 0 | M33: =ROUND(E33*H33,2) -> 0 | N33: =ROUND(E33*I33,2) -> 0 | O33: =ROUND(E33*J33,2) -> 0 | P33: =SUM(M33:O33) -> 0
A34: Materiālu izmaksas
A35: 18 | C35: Kabelis 20kV viendzīslas ar stiepļu ekrānu Al 3x1x50/16 | D35: m | E35: 30 | F35: 0 | G35: 0 | H35: =ROUND(F35*G35,2) -> 0 | J35: 0 | K35: =SUM(H35:J35) -> 0 | L35: =ROUND(E35*F35,2) -> 0 | M35: =ROUND(E35*H35,2) -> 0 | N35: =ROUND(E35*I35,2) -> 0 | O35: =ROUND(E35*J35,2) -> 0 | P35: =SUM(M35:O35) -> 0
A36: 19 | C36: Gala apdare 20kV iekštipa, 1-dzīslu kabelim ar stiepļu ekrānu (3 fāzem) | D36: kpl | E36: 2 | F36: 0 | G36: 0 | H36: =ROUND(F36*G36,2) -> 0 | J36: 0 | K36: =SUM(H36:J36) -> 0 | L36: =ROUND(E36*F36,2) -> 0 | M36: =ROUND(E36*H36,2) -> 0 | N36: =ROUND(E36*I36,2) -> 0 | O36: =ROUND(E36*J36,2) -> 0 | P36: =SUM(M36:O36) -> 0
A37: 20 | C37: Kabeļu kurpe 20kV presējama 300mm2 | D37: gb | E37: 6 | F37: 0 | G37: 0 | H37: =ROUND(F37*G37,2) -> 0 | J37: 0 | K37: =SUM(H37:J37) -> 0 | L37: =ROUND(E37*F37,2) -> 0 | M37: =ROUND(E37*H37,2) -> 0 | N37: =ROUND(E37*I37,2) -> 0 | O37: =ROUND(E37*J37,2) -> 0 | P37: =SUM(M37:O37) -> 0
A38: 21 | C38: Sadales transformators 21/0.42kV, 400kVA, Dyn11 | D38: gb | E38: 1 | F38: 0 | G38: 0 | H38: =ROUND(F38*G38,2) -> 0 | J38: 0 | K38: =SUM(H38:J38) -> 0 | L38: =ROUND(E38*F38,2) -> 0 | M38: =ROUND(E38*H38,2) -> 0 | N38: =ROUND(E38*I38,2) -> 0 | O38: =ROUND(E38*J38,2) -> 0 | P38: =SUM(M38:O38) -> 0
A39: 22 | C39: Drošinātājs 10/24kV 25A EN 60282 442mm | D39: gb | E39: 3 | F39: 0 | G39: 0 | H39: =ROUND(F39*G39,2) -> 0 | J39: 0 | K39: =SUM(H39:J39) -> 0 | L39: =ROUND(E39*F39,2) -> 0 | M39: =ROUND(E39*H39,2) -> 0 | N39: =ROUND(E39*I39,2) -> 0 | O39: =ROUND(E39*J39,2) -> 0 | P39: =SUM(M39:O39) -> 0
A40: 23 | C40: Slodzes slēdzis, iekštipa, 24 kV, 400 A, ar vidsprieguma drošinātājiem un zem. nazi, tipveida piedziņa standarta izmēra ligzdām | D40: gb | E40: 1 | F40: 0 | G40: 0 | H40: =ROUND(F40*G40,2) -> 0 | J40: 0 | K40: =SUM(H40:J40) -> 0 | L40: =ROUND(E40*F40,2) -> 0 | M40: =ROUND(E40*H40,2) -> 0 | N40: =ROUND(E40*I40,2) -> 0 | O40: =ROUND(E40*J40,2) -> 0 | P40: =SUM(M40:O40) -> 0
A41: 24 | C41: Kabelis 1kV viendzīslas Cu 1x240 | D41: m | E41: 165 | F41: 0 | G41: 0 | H41: =ROUND(F41*G41,2) -> 0 | J41: 0 | K41: =SUM(H41:J41) -> 0 | L41: =ROUND(E41*F41,2) -> 0 | M41: =ROUND(E41*H41,2) -> 0 | N41: =ROUND(E41*I41,2) -> 0 | O41: =ROUND(E41*J41,2) -> 0 | P41: =SUM(M41:O41) -> 0
A42: 25 | C42: Gala apdare 1kV iekštipa, 1-dzīslu kabelim | D42: gb | E42: 22 | F42: 0 | G42: 0 | H42: =ROUND(F42*G42,2) -> 0 | J42: 0 | K42: =SUM(H42:J42) -> 0 | L42: =ROUND(E42*F42,2) -> 0 | M42: =ROUND(E42*H42,2) -> 0 | N42: =ROUND(E42*I42,2) -> 0 | O42: =ROUND(E42*J42,2) -> 0 | P42: =SUM(M42:O42) -> 0
A43: 26 | C43: Kabeļu kurpe 1kV presējama 240mm2 | D43: gb | E43: 22 | F43: 0 | G43: 0 | H43: =ROUND(F43*G43,2) -> 0 | J43: 0 | K43: =SUM(H43:J43) -> 0 | L43: =ROUND(E43*F43,2) -> 0 | M43: =ROUND(E43*H43,2) -> 0 | N43: =ROUND(E43*I43,2) -> 0 | O43: =ROUND(E43*J43,2) -> 0 | P43: =SUM(M43:O43) -> 0
A44: 27 | C44: Drošinātājs NH4a, gTr, 400 kVA | D44: gb | E44: 3 | F44: 0 | G44: 0 | H44: =ROUND(F44*G44,2) -> 0 | J44: 0 | K44: =SUM(H44:J44) -> 0 | L44: =ROUND(E44*F44,2) -> 0 | M44: =ROUND(E44*H44,2) -> 0 | N44: =ROUND(E44*I44,2) -> 0 | O44: =ROUND(E44*J44,2) -> 0 | P44: =SUM(M44:O44) -> 0
A45: 28 | C45: Drošinātājs NH2, gL/gG, 250A | D45: gb | E45: 3 | F45: 0 | G45: 0 | H45: =ROUND(F45*G45,2) -> 0 | J45: 0 | K45: =SUM(H45:J45) -> 0 | L45: =ROUND(E45*F45,2) -> 0 | M45: =ROUND(E45*H45,2) -> 0 | N45: =ROUND(E45*I45,2) -> 0 | O45: =ROUND(E45*J45,2) -> 0 | P45: =SUM(M45:O45) -> 0
A46: 29 | C46: Kabeļu ieeju noblīvējums | D46: gb | E46: 1 | F46: 0 | G46: 0 | H46: =ROUND(F46*G46,2) -> 0 | J46: 0 | K46: =SUM(H46:J46) -> 0 | L46: =ROUND(E46*F46,2) -> 0 | M46: =ROUND(E46*H46,2) -> 0 | N46: =ROUND(E46*I46,2) -> 0 | O46: =ROUND(E46*J46,2) -> 0 | P46: =SUM(M46:O46) -> 0
... A52: 35 | C52: Kabeļu kurpe 1kV presējama 50mm2 | D52: gb | E52: 12 | F52: 0 | G52: 0 | H52: =ROUND(F52*G52,2) -> 0 | J52: 0 | K52: =SUM(H52:J52) -> 0 | L52: =ROUND(E52*F52,2) -> 0 | M52: =ROUND(E52*H52,2) -> 0 | N52: =ROUND(E52*I52,2) -> 0 | O52: =ROUND(E52*J52,2) -> 0 | P52: =SUM(M52:O52) -> 0
A53: 0.4kV KL izbūve (pēc TN Nr.106151248)
A54: Darbu izmaksas
A55: 38 | C55: Tranšeja - bedre kabeļa vai citu apakšzemes komunikāciju apsekošanai (šurfēšana) | D55: gb | E55: 30 | K55: =SUM(H55:J55) -> 0 | L55: =ROUND(E55*F55,2) -> 0 | M55: =ROUND(E55*H55,2) -> 0 | N55: =ROUND(E55*I55,2) -> 0 | O55: =ROUND(E55*J55,2) -> 0 | P55: =SUM(M55:O55) -> 0
A56: 39 | C56: Tranšejas rakšana un aizbēršana viena līdz divu kabeļu (caurules) gūldīšanai 0.7m dziļumā | D56: m | E56: 86 | K56: =SUM(H56:J56) -> 0 | L56: =ROUND(E56*F56,2) -> 0 | M56: =ROUND(E56*H56,2) -> 0 | N56: =ROUND(E56*I56,2) -> 0 | O56: =ROUND(E56*J56,2) -> 0 | P56: =SUM(M56:O56) -> 0
A57: 40 | C57: Tranšejas rakšana un aizbēršana viena līdz divu kabeļu (caurules) gūldīšanai 0.7m dziļumā ar rokām | D57: m | E57: 45 | K57: =SUM(H57:J57) -> 0 | L57: =ROUND(E57*F57,2) -> 0 | M57: =ROUND(E57*H57,2) -> 0 | N57: =ROUND(E57*I57,2) -> 0 | O57: =ROUND(E57*J57,2) -> 0 | P57: =SUM(M57:O57) -> 0
A58: 41 | C58: Tranšejas rakšana un aizbēršana viena līdz divu kabeļu (caurules) gūldīšanai 1m dziļumā ar rokām | D58: m | E58: 18 | K58: =SUM(H58:J58) -> 0 | L58: =ROUND(E58*F58,2) -> 0 | M58: =ROUND(E58*H58,2) -> 0 | N58: =ROUND(E58*I58,2) -> 0 | O58: =ROUND(E58*J58,2) -> 0 | P58: =SUM(M58:O58) -> 0
A59: 42 | C59: Kabeļu aizsargcaurules d=līdz 110 mm ieguldīšana gatavā tranšejā | D59: m | E59: 133 | K59: =SUM(H59:J59) -> 0 | L59: =ROUND(E59*F59,2) -> 0 | M59: =ROUND(E59*H59,2) -> 0 | N59: =ROUND(E59*I59,2) -> 0 | O59: =ROUND(E59*J59,2) -> 0 | P59: =SUM(M59:O59) -> 0
A60: 43 | C60: Bruģa (flizes) klājuma ieklāšana | D60: m2 | E60: 6 | K60: =SUM(H60:J60) -> 0 | L60: =ROUND(E60*F60,2) -> 0 | M60: =ROUND(E60*H60,2) -> 0 | N60: =ROUND(E60*I60,2) -> 0 | O60: =ROUND(E60*J60,2) -> 0 | P60: =SUM(M60:O60) -> 0
A61: 44 | C61: Plātnes seguma ietves ieklāšana | D61: m2 | E61: 19 | K61: =SUM(H61:J61) -> 0 | L61: =ROUND(E61*F61,2) -> 0 | M61: =ROUND(E61*H61,2) -> 0 | N61: =ROUND(E61*I61,2) -> 0 | O61: =ROUND(E61*J61,2) -> 0 | P61: =SUM(M61:O61) -> 0
A62: 45 | C62: Brauktuves šķembu seguma izbūve (sagatavošana asfaltēšanai, būvbedres platumā) | D62: m2 | E62: 6 | K62: =SUM(H62:J62) -> 0 | L62: =ROUND(E62*F62,2) -> 0 | M62: =ROUND(E62*H62,2) -> 0 | N62: =ROUND(E62*I62,2) -> 0 | O62: =ROUND(E62*J62,2) -> 0 | P62: =SUM(M62:O62) -> 0
A63: 46 | C63: Brauktuves asfaltbetona seguma atjaunošana (apakškārtas, sasaistes kārtas un dilumkārtas izbūve būvbedres platumā) | D63: m2 | E63: 6 | K63: =SUM(H63:J63) -> 0 | L63: =ROUND(E63*F63,2) -> 0 | M63: =ROUND(E63*H63,2) -> 0 | N63: =ROUND(E63*I63,2) -> 0 | O63: =ROUND(E63*J63,2) -> 0 | P63: =SUM(M63:O63) -> 0
A64: 47 | C64: Teritorijas labiekārtošana | D64: m2 | E64: 52 | K64: =SUM(H64:J64) -> 0 | L64: =ROUND(E64*F64,2) -> 0 | M64: =ROUND(E64*H64,2) -> 0 | N64: =ROUND(E64*I64,2) -> 0 | O64: =ROUND(E64*J64,2) -> 0 | P64: =SUM(M64:O64) -> 0
A65: 48 | C65: ZS kabeļa 185 mm2 un lielāka ieguldīšana gatavā tranšejā | D65: m | E65: 24 | K65: =SUM(H65:J65) -> 0 | L65: =ROUND(E65*F65,2) -> 0 | M65: =ROUND(E65*H65,2) -> 0 | N65: =ROUND(E65*I65,2) -> 0 | O65: =ROUND(E65*J65,2) -> 0 | P65: =SUM(M65:O65) -> 0
A66: 49 | C66: ZS kabeļa 185 mm2 un lielāka ievēršana caurulē | D66: m | E66: 133 | K66: =SUM(H66:J66) -> 0 | L66: =ROUND(E66*F66,2) -> 0 | M66: =ROUND(E66*H66,2) -> 0 | N66: =ROUND(E66*I66,2) -> 0 | O66: =ROUND(E66*J66,2) -> 0 | P66: =SUM(M66:O66) -> 0
... A72: 55 | C72: Caurules montāža ēkas pamatos, sienā | D72: gb | E72: 2 | K72: =SUM(H72:J72) -> 0 | L72: =ROUND(E72*F72,2) -> 0 | M72: =ROUND(E72*H72,2) -> 0 | N72: =ROUND(E72*I72,2) -> 0 | O72: =ROUND(E72*J72,2) -> 0 | P72: =SUM(M72:O72) -> 0
A73: Darbu izmaksas (demontāžas darbi)
A74: 57 | C74: Lielformāta plātnes segumu demontāža (noņemšana) | D74: m2 | E74: 19 | K74: =SUM(H74:J74) -> 0 | L74: =ROUND(E74*F74,2) -> 0 | M74: =ROUND(E74*H74,2) -> 0 | N74: =ROUND(E74*I74,2) -> 0 | O74: =ROUND(E74*J74,2) -> 0 | P74: =SUM(M74:O74) -> 0
A75: 58 | C75: Bruģa (flizes) klājuma demontāža | D75: m2 | E75: 3 | K75: =SUM(H75:J75) -> 0 | L75: =ROUND(E75*F75,2) -> 0 | M75: =ROUND(E75*H75,2) -> 0 | N75: =ROUND(E75*I75,2) -> 0 | O75: =ROUND(E75*J75,2) -> 0 | P75: =SUM(M75:O75) -> 0
A76: 59 | C76: Ielu (brauktuvju) asfaltbetona seguma demontāža (apakškārtas, sasaistes kārtas un dilumkārtas demontāža būvbedres platumā) | D76: m2 | E76: 6 | K76: =SUM(H76:J76) -> 0 | L76: =ROUND(E76*F76,2) -> 0 | M76: =ROUND(E76*H76,2) -> 0 | N76: =ROUND(E76*I76,2) -> 0 | O76: =ROUND(E76*J76,2) -> 0 | P76: =SUM(M76:O76) -> 0
A77: Materiālu izmaksas
A78: 61 | C78: Kabelis 1kV četrdzīslu Al 4x240 | D78: m | E78: 170 | F78: 0 | G78: 0 | H78: =ROUND(F78*G78,2) -> 0 | J78: 0 | K78: =SUM(H78:J78) -> 0 | L78: =ROUND(E78*F78,2) -> 0 | M78: =ROUND(E78*H78,2) -> 0 | N78: =ROUND(E78*I78,2) -> 0 | O78: =ROUND(E78*J78,2) -> 0 | P78: =SUM(M78:O78) -> 0
A79: 62 | C79: Gala apdare 1kV, četrdzīslu kabelim | D79: kpl | E79: 2 | F79: 0 | G79: 0 | H79: =ROUND(F79*G79,2) -> 0 | J79: 0 | K79: =SUM(H79:J79) -> 0 | L79: =ROUND(E79*F79,2) -> 0 | M79: =ROUND(E79*H79,2) -> 0 | N79: =ROUND(E79*I79,2) -> 0 | O79: =ROUND(E79*J79,2) -> 0 | P79: =SUM(M79:O79) -> 0
A80: 63 | C80: Caurule, gofrēta 450N, d=110 - el. sadale | D80: m | E80: 2 | F80: 0 | G80: 0 | H80: =ROUND(F80*G80,2) -> 0 | J80: 0 | K80: =SUM(H80:J80) -> 0 | L80: =ROUND(E80*F80,2) -> 0 | M80: =ROUND(E80*H80,2) -> 0 | N80: =ROUND(E80*I80,2) -> 0 | O80: =ROUND(E80*J80,2) -> 0 | P80: =SUM(M80:O80) -> 0
A81: 64 | C81: Caurule, gofrēta 450N, d=110 (pēc uzskaite) | D81: m | E81: 2 | F81: 0 | G81: 0 | H81: =ROUND(F81*G81,2) -> 0 | J81: 0 | K81: =SUM(H81:J81) -> 0 | L81: =ROUND(E81*F81,2) -> 0 | M81: =ROUND(E81*H81,2) -> 0 | N81: =ROUND(E81*I81,2) -> 0 | O81: =ROUND(E81*J81,2) -> 0 | P81: =SUM(M81:O81) -> 0
A82: 65 | C82: Caurule, gofrēta 450N, d=110 | D82: m | E82: 113 | F82: 0 | G82: 0 | H82: =ROUND(F82*G82,2) -> 0 | J82: 0 | K82: =SUM(H82:J82) -> 0 | L82: =ROUND(E82*F82,2) -> 0 | M82: =ROUND(E82*H82,2) -> 0 | N82: =ROUND(E82*I82,2) -> 0 | O82: =ROUND(E82*J82,2) -> 0 | P82: =SUM(M82:O82) -> 0
A83: 66 | C83: Caurule, gofrēta 750N, d=110 | D83: m | E83: 20 | F83: 0 | G83: 0 | H83: =ROUND(F83*G83,2) -> 0 | J83: 0 | K83: =SUM(H83:J83) -> 0 | L83: =ROUND(E83*F83,2) -> 0 | M83: =ROUND(E83*H83,2) -> 0 | N83: =ROUND(E83*I83,2) -> 0 | O83: =ROUND(E83*J83,2) -> 0 | P83: =SUM(M83:O83) -> 0
A84: 67 | C84: Drošinātāja nazis NH2, 400A | D84: gb | E84: 3 | F84: 0 | G84: 0 | H84: =ROUND(F84*G84,2) -> 0 | J84: 0 | K84: =SUM(H84:J84) -> 0 | L84: =ROUND(E84*F84,2) -> 0 | M84: =ROUND(E84*H84,2) -> 0 | N84: =ROUND(E84*I84,2) -> 0 | O84: =ROUND(E84*J84,2) -> 0 | P84: =SUM(M84:O84) -> 0
A85: 68 | C85: Sadalne uzskaites, gabarīts 6, Inom 400A, (iespējams uzstādīt strāvmaiņus uz kopnēm), U6-1/400-250/5 | D85: kpl | E85: 1 | F85: 0 | G85: 0 | H85: =ROUND(F85*G85,2) -> 0 | J85: 0 | K85: =SUM(H85:J85) -> 0 | L85: =ROUND(E85*F85,2) -> 0 | M85: =ROUND(E85*H85,2) -> 0 | N85: =ROUND(E85*I85,2) -> 0 | O85: =ROUND(E85*J85,2) -> 0 | P85: =SUM(M85:O85) -> 0
A86: 69 | C86: Pamatne sadalnēm ar gabarītu 6, P6 | D86: gb | E86: 1 | F86: 0 | G86: 0 | H86: =ROUND(F86*G86,2) -> 0 | J86: 0 | K86: =SUM(H86:J86) -> 0 | L86: =ROUND(E86*F86,2) -> 0 | M86: =ROUND(E86*H86,2) -> 0 | N86: =ROUND(E86*I86,2) -> 0 | O86: =ROUND(E86*J86,2) -> 0 | P86: =SUM(M86:O86) -> 0
A87: 70 | C87: Keramzīts | D87: l | E87: 87.8 | F87: 0 | G87: 0 | H87: =ROUND(F87*G87,2) -> 0 | J87: 0 | K87: =SUM(H87:J87) -> 0 | L87: =ROUND(E87*F87,2) -> 0 | M87: =ROUND(E87*H87,2) -> 0 | N87: =ROUND(E87*I87,2) -> 0 | O87: =ROUND(E87*J87,2) -> 0 | P87: =SUM(M87:O87) -> 0
A88: 71 | C88: Signāllenta kabeļlīnijai, platums 125 mm | D88: m | E88: 157 | F88: 0 | G88: 0 | H88: =ROUND(F88*G88,2) -> 0 | J88: 0 | K88: =SUM(H88:J88) -> 0 | L88: =ROUND(E88*F88,2) -> 0 | M88: =ROUND(E88*H88,2) -> 0 | N88: =ROUND(E88*I88,2) -> 0 | O88: =ROUND(E88*J88,2) -> 0 | P88: =SUM(M88:O88) -> 0
A89: 72 | C89: Zemējuma komplekts sadalnei | D89: kpl | E89: 1 | F89: 0 | G89: 0 | H89: =ROUND(F89*G89,2) -> 0 | J89: 0 | K89: =SUM(H89:J89) -> 0 | L89: =ROUND(E89*F89,2) -> 0 | M89: =ROUND(E89*H89,2) -> 0 | N89: =ROUND(E89*I89,2) -> 0 | O89: =ROUND(E89*J89,2) -> 0 | P89: =SUM(M89:O89) -> 0
A90: Citi darbi
A91: Darbu izmaksas
A92: 75 | C92: EPL vai sarkanās līnijas nospraušana | D92: km | E92: 0.15 | K92: =SUM(H92:J92) -> 0 | L92: =ROUND(E92*F92,2) -> 0 | M92: =ROUND(E92*H92,2) -> 0 | N92: =ROUND(E92*I92,2) -> 0 | O92: =ROUND(E92*J92,2) -> 0 | P92: =SUM(M92:O92) -> 0
A93: 76 | C93: EPL digitālā uzmērīšana | D93: km | E93: 0.16 | K93: =SUM(H93:J93) -> 0 | L93: =ROUND(E93*F93,2) -> 0 | M93: =ROUND(E93*H93,2) -> 0 | N93: =ROUND(E93*I93,2) -> 0 | O93: =ROUND(E93*J93,2) -> 0 | P93: =SUM(M93:O93) -> 0
A94: 77 | C94: Transporta un gājēju kustības organizēšana | D94: objekts | E94: 1 | K94: =SUM(H94:J94) -> 0 | L94: =ROUND(E94*F94,2) -> 0 | M94: =ROUND(E94*H94,2) -> 0 | N94: =ROUND(E94*I94,2) -> 0 | O94: =ROUND(E94*J94,2) -> 0 | P94: =SUM(M94:O94) -> 0
A95: 78 | C95: Rakšanas atļaujas saņemšana | D95: objekts | E95: 1 | K95: =SUM(H95:J95) -> 0 | L95: =ROUND(E95*F95,2) -> 0 | M95: =ROUND(E95*H95,2) -> 0 | N95: =ROUND(E95*I95,2) -> 0 | O95: =ROUND(E95*J95,2) -> 0 | P95: =SUM(M95:O95) -> 0
A97: Tiešās izmaksas kopā, t.sk. Darba dēvēja sociālais nodoklis (23,59%) | L97: =SUM(L18:L96) -> 0 | M97: =SUM(M18:M96) -> 0 | N97: =SUM(N18:N96) -> 0 | O97: =SUM(O18:O96) -> 0 | P97: =SUM(P18:P96) -> 0
A99: =KT!A24 -> Sastādīja: | D99: =KT!C24 -> 2024. gada ____________
A100: (paraksts un tā atšifrējums, datums)
A103: =[2]KT!A27 -> Pārbaudīja: | D103: =D99 -> 2024. gada ____________
A104: (paraksts un tā atšifrējums, datums)
A105: =[2]KT!A29 -> Sertifikāta Nr.:
