Workbook

Sheet Būvniecības koptāme
E1: APSTIPRINU
E2: _______________________________
E3: (pasūtītāja paraksts un tā atšifrējums)
E5: Z.v.
E6: _______.gada ____.___________
C8: Būvniecības koptāme.
A10: Objekta nosaukums: Uzvaras parka kanalizācijas kolektora atjaunošana
A11: Būves nosaukums: Uzvaras parka kanalizācijas kolektora atjaunošana
A12: Objekta adrese: Uzvaras parks, Rīga
B14: Nr. P.k. | C14: Objekta nosaukums | E14: Objekta izmaksas (euro)
B15: 1 | C15: Uzvaras parka kanalizācijas kolektora atjaunošana | E15: =Kopsavilkums!D17 -> 0
C16: Maksa par ceļa elementu lietošanu saskaņā ar Rīgas domes 12.07.2023. lēmumu Nr.RD-23-2771-lē “Par nomas maksas noteikšanu par ceļa elementu lietošanu Rīgas valstspilsētas pašvaldības administratīvajā teritorijā” (turpmāk - maksa par ceļa elementu lietošanu).
C17: KOPĀ | E17: =E16+E15 -> 0
B18: PVN 21% | E18: =ROUND(E17*21%,2) -> 0
A22: Sastādīja
C23: (paraksts un tā atšifrējums, datums)
A25: Tāme sastadīta 2024 g. ____.__________
A27: Pārbaudīja
C28: (paraksts un tā atšifrējums, datums)

Sheet Kopsavilkums
A1: Kopsavilkuma aprēķins pa darbu veidiem
A3: Objekta nosaukums: Uzvaras parka kanalizācijas kolektora atjaunošana
A4: Būves nosaukums: Uzvaras parka kanalizācijas kolektora atjaunošana
A5: Objekta adrese: Uzvaras parks, Rīga
C7: Par kopējo summu, euro | D7: =D17 -> 0
C8: Kopējā darbietilpība, c/h | D8: =H13 -> 0
A10: Nr.p.k. | B10: Kods, tāmes nr. | C10: Darba veids vai konstruktīvā elementa nosaukums | D10: Tāmes izmaksas (EUR) | E10: Tai skaitā | H10: Darbietilpība (c/h)
E11: Darba alga (euro) | F11: Būvizstrādājumi | G11: Mehānismi (euro)
A12: 1 | B12: 1 | C12: Specializētie darbi - ārējie tīkli, sistēmas | D12: =E12+F12+G12 -> 0 | E12: ='LOK 1'!L74 -> 0 | F12: ='LOK 1'!M74 -> 0 | G12: ='LOK 1'!N74 -> 0 | H12: ='LOK 1'!K74 -> 0
A13: Kopā | D13: =D12 -> 0 | E13: =E12 -> 0 | F13: =F12 -> 0 | G13: =G12 -> 0 | H13: =H12 -> 0
A14: Virsizdevumi (___%)
A15: t.sk. darba aizsardzība
A16: Peļņa (___%)
A17: KOPĀ | D17: =D16+D14+D13 -> 0
A19: Sastādīja
C20: (paraksts un tā atšifrējums, datums)
A22: Tāme sastadīta 2024.g. ____.__________
A24: Pārbaudīja
C25: (paraksts un tā atšifrējums, datums)
A28: Piezīmes:
A29: 1. Finanšu piedāvājumā jāiekļauj darbaspēka, materiālu, iekārtu, aprīkojuma un visu citu iespējamo Darbu izpildes izdevumu izmaksas. Pretendents nav tiesīgs Finanšu piedāvājuma tāmi papildināt ar jaunām izmaksu pozīcijām vai dzēst esošās izmaksu pozīcijas.
A30: 2. Finanšu piedāvājumā aprēķinus jāveic formulās ar noapaļojumu divi cipari aiz komata (jāizmanto funkcija “round”).

Sheet LOK 1
B2: Lokālā tāme Nr.1
B3: Sadzīves kanalizācijas tīkli (UKT)
B4: Objekta nosaukums: Uzvaras parka kanalizācijas kolektora atjaunošana
B5: Būves nosaukums: Uzvaras parka kanalizācijas kolektora atjaunošana
B6: Objekta adrese: Uzvaras parks
B8: Tāme sastādīta _____. gada tirgus cenās | L8: Tāmes izmaksas | M8: =O74 -> 0 | O8: EUR
L9: Tāme sastādīta _______. gada ____. __________
C12: Lokālā tāme Nr. 1
A15: Nr.p.k. | B15: Darba veida nosaukums un apraksts | C15: Mērv. | D15: Daudz. | E15: Vienības izmaksas saskaņā ar tāmi | K15: Darbietilpība (c/h) | L15: Kopējas izmaksas saskaņā ar tāmi
E16: Laika norma (c/h) | F16: Darba samaksas likme (EUR/h) | G16: Darba alga | H16: Būvizstrādājumi | I16: Mehānismi | J16: Kopā | L16: Darba alga | M16: Būvizstrādājumi | N16: Mehānismi | O16: Summa
G17: EUR | H17: EUR | I17: EUR | J17: EUR | L17: EUR | M17: EUR | N17: EUR | O17: EUR
A18: 1 | B18: 2 | C18: 3 | D18: 4 | E18: 5 | F18: 6 | G18: 7 | H18: 8 | I18: 9 | J18: 10 | K18: 11 | L18: 12 | M18: 13 | N18: 14 | O18: 15
B19: Vispārējie darbi
A20: 1 | B20: Trases nospraušana | C20: m | D20: 125
A21: 2 | B21: Ģeodēziskais uzmērījums | C21: kompl | D21: 1
A22: 3 | B22: Satiksmes organizācija | C22: kpl. | D22: 1
A23: 4 | B23: Skatrakumu veikšana | C23: kompl | D23: 1
A24: 5 | B24: Kolektora atjaunošanas būvkonstrukciju darba rasējumu sagatavošana | C24: kompl | D24: 1
B25: Demontāžas darbi.
A26: 6 | B26: Asfaltbetona seguma demontāža un utilizācija | C26: m² | D26: 76
A27: 7 | B27: Betona bruģakmens ietves seguma izjaukšana, bruģakmeņu uzglabāšana novietnē | C27: m² | D27: 24
A28: 8 | B28: Augsnes kārtas norakšana, uzglabāšana atbērtnē | C28: m² | D28: =125*6 -> 750
A29: 9 | B29: Betona apmales demontāža | C29: m | D29: 12
A30: 10 | B30: Žoga pagaidu demontāža | C30: vieta | D30: 1
A31: 11 | B31: Esošā dzelsbetona pāsegumu plātņu demontāža un utilizācija | C31: t.m | D31: 125
A32: 12 | B32: Daļēja esošo sadzīves kalalizācijas kolektora dzelsbetona sienu demontāža un utilizācija | C32: t.m | D32: 125
B33: Inženierkomunikāciju aizsardzība. Tai skaitā būvizstrādājumu izmaksas
A34: 13 | B34: Esošo komunikāciju aizsardzība tranšejas šķērsojuma vietā | C34: vieta | D34: 20
B35: Zemes darbi. Grunts izstrāde. Tai skaitā būvizstrādājumu izmaksas
A36: 14 | B36: Grunts izrakšana tranšejās, grunts izvešana un utilizēšana. | C36: m³ | D36: =D40 -> 108
A37: 15 | B37: Grunts rakšana, uzglabāšana atbērtnē. | C37: m³ | D37: =D39 -> 1317
A38: 16 | B38: Tranšejas sienu stiprināšana ar vairogiem, gruntsūdens līmeņa pazemināšana (ja nepieciešams) tranšejai dziļumā līdz 2.0m | C38: t.m | D38: 125
A39: 17 | B39: Tranšejas aizbēršana zem zaļās zonas ar esošo grunti | C39: m³ | D39: =125*(1.5*2)*1.8+(125*6*1)-(9*6*1)-(9*3*2) -> 1317
A40: 18 | B40: Tranšejas aizbēršana zem brauktuves ar jaunpievestu grunti | C40: m³ | D40: =(9*6*1)+(9*3*2) -> 108
A41: 19 | B41: Gruntsūdens atsūknēšana | C41: m | D41: 125
A42: 22 | B42: Izpilddokumentācija | C42: kpl. | D42: 1
A43: 24 | B43: Notekūdeņu pārsūknēšana | C43: t.m | D43: 125
B44: Sadzīves kanalizācijas atjaunošanas darbi, tai skaitā būvizstrādājumi
A45: 25 | B45: Esošā sadzīves kanalizācijas kolektora sienu stiprināšana uzbetonējot jaunas monolītā dzelzsbetona nesošās sienas (sk.Tehnisko specifikāciju) | C45: t.m | D45: 125
A46: 26 | B46: Esošā sadzīves kanalizācijas kolektora pārsegums no rūpnieciski izgatavotiem, saliekamā dzelzsbetona paneļiem. (sk.Tehnisko specifikāciju) | C46: t.m | D46: 125
...
