Workbook

Sheet Būvniecības koptāme
A2: APSTIPRINU
A4: (pasūtītāja paraksts un ta atšifrējums)
C7: =TEXT(TODAY(), "yyyy. ")& "gada " & DAY(TODAY()) & "." &CHOOSE(MONTH(TODAY()), "janvārī", "februārī", "martā", "aprīlī", "maijā", "jūnijā", "jūlijā", "augustā", "septembrī", "oktobrī", "nevembrī", "decembrī") -> 2024. gada 30.augustā
A9: Būvniecības koptāme
A11: Objekta nosaukums: "20kV elektropārvades līnijas B040, transformatora apakšstacijas T24055 pārbūve Jaunbrunavās, Stopiņu pagastā, Ropažu novadā", IO-257004
A12: Būves nosaukums:
A13: Objekta adrese:
A14: Pasūtījuma Nr.:
A15: Pasūtītājs: AS "Sadales tīkls"
A16: Pretendents:
A18: Nr.p.k. | B18: Objekta nosaukums | C18: Objekta izmaksas (euro)
A19: 1 | B19: "20kV elektropārvades līnijas B040, transformatora apakšstacijas T24055 pārbūve Jaunbrunavās, Stopiņu pagastā, Ropažu novadā", IO-257004 | C19: ='Kopsavilkuma aprēķins'!E23 -> 0
B21: Kopā | C21: =SUM(C19:C19) -> 0
A22: * PVN (21%) | C22: -
B23: Pavisam kopā | C23: =C21 -> 0
A24: * PVN apmaksa atbilstoši Pievienotās vērtības nodokļu likumam 142.panta 6.daļas nosacījumiem "nodokļu atgrieztā maksāšana"
A26: Sastādīja:
A27: Sert.Nr.
A29: ='Lokālā tāme'!L11 -> Tāme sastādīta 2024. gada 30.augustā
A32: ŠIS DOKUMENTS IR ELEKTRONISKI PARAKSTĪTS AR DROŠU ELEKTRONISKO PARAKSTU UN SATUR LAIKA ZĪMOGU

Sheet Kopsavilkuma aprēķins
A1: Kopsavilkuma aprēķins Nr. 1
A2: "20kV elektropārvades līnijas B040, transformatora apakšstacijas T24055 pārbūve Jaunbrunavās, Stopiņu pagastā, Ropažu novadā", IO-257004
A3: (būvdarbu veids vai konstruktīvā elementa nosaukums)
A5: Objekta nosaukums: "20kV elektropārvades līnijas B040, transformatora apakšstacijas T24055 pārbūve Jaunbrunavās, Stopiņu pagastā, Ropažu novadā", IO-257004
A6: Būves nosaukums:
A7: Objekta adrese:
A8: Pasūtījuma Nr.:
A9: Pasūtītājs: AS "Sadales tīkls"
A10: Pretendents:
C13: Par kopējo summu (euro) | D13: =E23 -> 0
C14: Kopējā darbietilpība (c/h) | D14: =I19 -> 0
A16: Nr. p.k. | B16: Kods, tāmes Nr. | C16: Darba veids vai konstruktīvā elementa nosaukums | E16: Tāmes izmaksas (EUR) | F16: Tai skaitā: | I16: Darbietilpība (c/h)
F17: darba alga (EUR) | G17: būvizstrādājumi (EUR) | H17: mehānismi (EUR)
A18: 1 | B18: 1 | C18: "20kV elektropārvades līnijas B040, transformatora apakšstacijas T24055 pārbūve Jaunbrunavās, Stopiņu pagastā, Ropažu novadā", IO-257004 | E18: ='Lokālā tāme'!P225 -> 0 | F18: ='Lokālā tāme'!M225 -> 0 | G18: ='Lokālā tāme'!N225 -> 0 | H18: ='Lokālā tāme'!O225 -> 0 | I18: ='Lokālā tāme'!L225 -> 0
A19: Kopā | E19: =E18 -> 0 | F19: =F18 -> 0 | G19: =G18 -> 0 | H19: =H18 -> 0 | I19: =I18 -> 0
A20: Virsizdevumi | D20: 0 | E20: =ROUND(E19*D20,2) -> 0
A21: t.sk.darba aizsardzība | D21: 0 | E21: =ROUND(E20*D21,2) -> 0
A22: Peļņa | D22: 0 | E22: =ROUND(E19*D22,2) -> 0
A23: Pavisam kopā | E23: =E22+E20+E19 -> 0
A25: Sastādīja: | B25: _______________________________
A26: Sert.Nr. | B26: _______________________________
A28: ="Tāmes izmaksas bez PVN: "&E23 -> Tāmes izmaksas bez PVN: 0
A31: Pārbaudīja: | B31: _______________________________
A32: Sert.Nr. | B32: _______________________________
A34: ='Lokālā tāme'!L11 -> Tāme sastādīta 2024. gada 30.augustā
A37: ŠIS DOKUMENTS IR ELEKTRONISKI PARAKSTĪTS AR DROŠU ELEKTRONISKO PARAKSTU UN SATUR LAIKA ZĪMOGU

Sheet Lokālā tāme
H1: Lokālā tāme Nr. | I1: 1
C2: "20kV elektropārvades līnijas B040, transformatora apakšstacijas T24055 pārbūve Jaunbrunavās, Stopiņu pagastā, Ropažu novadā", IO-257004
F3: (būvdarbu veids vai konstruktīvā elementa nosaukums)
A4: Objekta nosaukums: "20kV elektropārvades līnijas B040, transformatora apakšstacijas T24055 pārbūve Jaunbrunavās, Stopiņu pagastā, Ropažu novadā", IO-257004 IO-259557
A5: Būves nosaukums:
A6: Objekta adrese:
A7: Pasūtījuma Nr.:
A8: Pasūtītājs: AS "Sadales tīkls"
A9: Pretendents:
L10: ="Tāmes izmaksas bez PVN: "&P226 -> Tāmes izmaksas bez PVN: 0
C11: Tāme sastādīta 2024. gada tirgus cenās, pamatojoties uz projektēšanas uzdevumu. | L11: ="Tāme sastādīta "&TEXT(TODAY(), "yyyy. ")& "gada " & DAY(TODAY()) & "." &CHOOSE(MONTH(TODAY()), "janvārī", "februārī", "martā", "aprīlī", "maijā", "jūnijā", "jūlijā", "augustā", "septembrī", "oktobrī", "nevembrī", "decembrī") -> Tāme sastādīta 2024. gada 30.augustā
A13: Nr.p.k. | B13: Kods* | C13: Būvdarbu nosaukums | D13: Mērvienība | E13: Daudzums | F13: Vienības izmaksas | L13: Kopā uz visu apjomu
F14: laika norma (c/h) | G14: darba samaksas likme (euro/h) | H14: darba alga | I14: būvizstrādājumi | J14: mehānismi | K14: kopā | L14: darbietilpība (c/h) | M14: darba alga | N14: būvizstrādājumi | O14: mehānismi | P14: summa | Q14: MAN* | R14: Piedāvātie materiāli
A15: 1 | B15: Citi darbi (Darbu izmaksas)
A16: 1.1 | B16: 11479 | C16: Demontēto segumu / atkritumu savākšana un/vai nodošana utilizācijai | D16: m3 | E16: 1 | H16: =F16*G16 -> 0 | K16: =SUM(H16:J16) -> 0 | L16: =ROUND(E16*F16,2) -> 0 | M16: =ROUND(E16*H16,2) -> 0 | N16: =ROUND(E16*I16,2) -> 0 | O16: =ROUND(E16*J16,2) -> 0 | P16: =SUM(M16:O16) -> 0
A17: 1.2 | B17: 19304 | C17: EPL digitālā uzmērīšana | D17: km | E17: 0.712 | H17: =F17*G17 -> 0 | K17: =SUM(H17:J17) -> 0 | L17: =ROUND(E17*F17,2) -> 0 | M17: =ROUND(E17*H17,2) -> 0 | N17: =ROUND(E17*I17,2) -> 0 | O17: =ROUND(E17*J17,2) -> 0 | P17: =SUM(M17:O17) -> 0
A18: 1.3 | B18: 19404 | C18: Rakšanas atļaujas saņemšana | D18: objekts | E18: 1 | H18: =F18*G18 -> 0 | K18: =SUM(H18:J18) -> 0 | L18: =ROUND(E18*F18,2) -> 0 | M18: =ROUND(E18*H18,2) -> 0 | N18: =ROUND(E18*I18,2) -> 0 | O18: =ROUND(E18*J18,2) -> 0 | P18: =SUM(M18:O18) -> 0
A19: 1.4 | B19: 19307 | C19: Transporta un gājēju kustības organizēšana | D19: objekts | E19: 1 | H19: =F19*G19 -> 0 | K19: =SUM(H19:J19) -> 0 | L19: =ROUND(E19*F19,2) -> 0 | M19: =ROUND(E19*H19,2) -> 0 | N19: =ROUND(E19*I19,2) -> 0 | O19: =ROUND(E19*J19,2) -> 0 | P19: =SUM(M19:O19) -> 0
A20: 1.5 | B20: 19309 | C20: Demontējamās elektrolīnijas uzmērīšana | D20: objekts | E20: 1 | H20: =F20*G20 -> 0 | K20: =SUM(H20:J20) -> 0 | L20: =ROUND(E20*F20,2) -> 0 | M20: =ROUND(E20*H20,2) -> 0 | N20: =ROUND(E20*I20,2) -> 0 | O20: =ROUND(E20*J20,2) -> 0 | P20: =SUM(M20:O20) -> 0
A21: 1.6 | B21: 19301 | C21: EPL vai sarkanās līnijas nospraušana | D21: km | E21: 0.709 | H21: =F21*G21 -> 0 | K21: =SUM(H21:J21) -> 0 | L21: =ROUND(E21*F21,2) -> 0 | M21: =ROUND(E21*H21,2) -> 0 | N21: =ROUND(E21*I21,2) -> 0 | O21: =ROUND(E21*J21,2) -> 0 | P21: =SUM(M21:O21) -> 0
A22: 2 | B22: Pirmsuzskaites ZS KL (zemsprieguma kabeļu līniju) izbūve, t. sk. digitālā nospraušana un uzmērīšana Z3 (Darbu izmaksas)
A23: 2.1 | B23: 11111 | C23: Tranšejas rakšana un aizbēršana viena līdz divu kabeļu (caurules) gūldīšanai 1m dziļumā | D23: m | E23: 3 | H23: =F23*G23 -> 0 | K23: =SUM(H23:J23) -> 0 | L23: =ROUND(E23*F23,2) -> 0 | M23: =ROUND(E23*H23,2) -> 0 | N23: =ROUND(E23*I23,2) -> 0 | O23: =ROUND(E23*J23,2) -> 0 | P23: =SUM(M23:O23) -> 0
A24: 2.2 | B24: 11103 | C24: Tranšeja - bedre ZS uzmavām | D24: gab. | E24: 1 | H24: =F24*G24 -> 0 | K24: =SUM(H24:J24) -> 0 | L24: =ROUND(E24*F24,2) -> 0 | M24: =ROUND(E24*H24,2) -> 0 | N24: =ROUND(E24*I24,2) -> 0 | O24: =ROUND(E24*J24,2) -> 0 | P24: =SUM(M24:O24) -> 0
A25: 2.3 | B25: 12102 | C25: ZS kabeļa no 50 līdz 150 mm2 ieguldīšana gatavā tranšejā | D25: m | E25: 5 | H25: =F25*G25 -> 0 | K25: =SUM(H25:J25) -> 0 | L25: =ROUND(E25*F25,2) -> 0 | M25: =ROUND(E25*H25,2) -> 0 | N25: =ROUND(E25*I25,2) -> 0 | O25: =ROUND(E25*J25,2) -> 0 | P25: =SUM(M25:O25) -> 0
A26: 2.4 | B26: 12302 | C26: ZS plastmasas izolācijas kabeļa no 50 līdz 150 mm2 savienošanas uzmavas montāža | D26: gab. | E26: 1 | H26: =F26*G26 -> 0 | K26: =SUM(H26:J26) -> 0 | L26: =ROUND(E26*F26,2) -> 0 | M26: =ROUND(E26*H26,2) -> 0 | N26: =ROUND(E26*I26,2) -> 0 | O26: =ROUND(E26*J26,2) -> 0 | P26: =SUM(M26:O26) -> 0
A27: 2.5 | B27: 12202 | C27: ZS plastmasas izolācijas kabeļa no 50 līdz 150 mm2 gala apdare | D27: gab. | E27: 1 | H27: =F27*G27 -> 0 | K27: =SUM(H27:J27) -> 0 | L27: =ROUND(E27*F27,2) -> 0 | M27: =ROUND(E27*H27,2) -> 0 | N27: =ROUND(E27*I27,2) -> 0 | O27: =ROUND(E27*J27,2) -> 0 | P27: =SUM(M27:O27) -> 0
A28: 2.6 | B28: 12105 | C28: ZS kabeļa no 50 līdz 150 mm2 ievēršana caurulē | D28: m | E28: 3 | H28: =F28*G28 -> 0 | K28: =SUM(H28:J28) -> 0 | L28: =ROUND(E28*F28,2) -> 0 | M28: =ROUND(E28*H28,2) -> 0 | N28: =ROUND(E28*I28,2) -> 0 | O28: =ROUND(E28*J28,2) -> 0 | P28: =SUM(M28:O28) -> 0
A29: 2.7 | B29: 11115 | C29: Tranšejas rakšana un aizbēršana viena līdz divu kabeļu (caurules) gūldīšanai 0.7m dziļumā ar rokām | D29: m | E29: 2 | H29: =F29*G29 -> 0 | K29: =SUM(H29:J29) -> 0 | L29: =ROUND(E29*F29,2) -> 0 | M29: =ROUND(E29*H29,2) -> 0 | N29: =ROUND(E29*I29,2) -> 0 | O29: =ROUND(E29*J29,2) -> 0 | P29: =SUM(M29:O29) -> 0
B30: Pirmsuzskaites ZS KL (zemsprieguma kabeļu līniju) izbūve, t. sk. digitālā nospraušana un uzmērīšana Z3 (Materiālu izmaksas)
A31: 2.8 | B31: 0803.002 | C31: Kabelis 1kV četrdzīslu Al 4x150 | D31: m | E31: 7 | H31: =F31*G31 -> 0 | K31: =SUM(H31:J31) -> 0 | L31: =ROUND(E31*F31,2) -> 0 | M31: =ROUND(E31*H31,2) -> 0 | N31: =ROUND(E31*I31,2) -> 0 | O31: =ROUND(E31*J31,2) -> 0 | P31: =SUM(M31:O31) -> 0 | Q31: MAN
A32: 2.9 | B32: 0909.011 | C32: Gala apdare 1kV, četrdzīslu kabelim | D32: kom | E32: 1 | H32: =F32*G32 -> 0 | K32: =SUM(H32:J32) -> 0 | L32: =ROUND(E32*F32,2) -> 0 | M32: =ROUND(E32*H32,2) -> 0 | N32: =ROUND(E32*I32,2) -> 0 | O32: =ROUND(E32*J32,2) -> 0 | P32: =SUM(M32:O32) -> 0 | Q32: MAN
A33: 2.10 | B33: 0922.011 | C33: Savienošanas uzmava 1kV četrdzīslu kabelim | D33: kom | E33: 1 | H33: =F33*G33 -> 0 | K33: =SUM(H33:J33) -> 0 | L33: =ROUND(E33*F33,2) -> 0 | M33: =ROUND(E33*H33,2) -> 0 | N33: =ROUND(E33*I33,2) -> 0 | O33: =ROUND(E33*J33,2) -> 0 | P33: =SUM(M33:O33) -> 0 | Q33: MAN
A34: 2.11 | B34: 1303.003 | C34: Signāllenta kabeļlīnijai | D34: m | E34: 7 | H34: =F34*G34 -> 0 | K34: =SUM(H34:J34) -> 0 | L34: =ROUND(E34*F34,2) -> 0 | M34: =ROUND(E34*H34,2) -> 0 | N34: =ROUND(E34*I34,2) -> 0 | O34: =ROUND(E34*J34,2) -> 0 | P34: =SUM(M34:O34) -> 0 | Q34: MAN
A35: 2.12 | B35: 1303.005 | C35: Kabeļu marķējums (birka) zemē guldāmam kabelim 50x100 mm | D35: gab | E35: 3 | H35: =F35*G35 -> 0 | K35: =SUM(H35:J35) -> 0 | L35: =ROUND(E35*F35,2) -> 0 | M35: =ROUND(E35*H35,2) -> 0 | N35: =ROUND(E35*I35,2) -> 0 | O35: =ROUND(E35*J35,2) -> 0 | P35: =SUM(M35:O35) -> 0 | Q35: MAN
A36: 3 | B36: Pirmsuzskaites ZS KL (zemsprieguma kabeļu līniju) izbūve, t. sk. digitālā nospraušana un uzmērīšana Z5 (Darbu izmaksas)
A37: 3.1 | B37: 11111 | C37: Tranšejas rakšana un aizbēršana viena līdz divu kabeļu (caurules) gūldīšanai 1m dziļumā | D37: m | E37: 7 | H37: =F37*G37 -> 0 | K37: =SUM(H37:J37) -> 0 | L37: =ROUND(E37*F37,2) -> 0 | M37: =ROUND(E37*H37,2) -> 0 | N37: =ROUND(E37*I37,2) -> 0 | O37: =ROUND(E37*J37,2) -> 0 | P37: =SUM(M37:O37) -> 0
A38: 3.2 | B38: 11103 | C38: Tranšeja - bedre ZS uzmavām | D38: gab. | E38: 1 | H38: =F38*G38 -> 0 | K38: =SUM(H38:J38) -> 0 | L38: =ROUND(E38*F38,2) -> 0 | M38: =ROUND(E38*H38,2) -> 0 | N38: =ROUND(E38*I38,2) -> 0 | O38: =ROUND(E38*J38,2) -> 0 | P38: =SUM(M38:O38) -> 0
A39: 3.3 | B39: 12102 | C39: ZS kabeļa no 50 līdz 150 mm2 ieguldīšana gatavā tranšejā | D39: m | E39: 4 | H39: =F39*G39 -> 0 | K39: =SUM(H39:J39) -> 0 | L39: =ROUND(E39*F39,2) -> 0 | M39: =ROUND(E39*H39,2) -> 0 | N39: =ROUND(E39*I39,2) -> 0 | O39: =ROUND(E39*J39,2) -> 0 | P39: =SUM(M39:O39) -> 0
A40: 3.4 | B40: 12302 | C40: ZS plastmasas izolācijas kabeļa no 50 līdz 150 mm2 savienošanas uzmavas montāža | D40: gab. | E40: 1 | H40: =F40*G40 -> 0 | K40: =SUM(H40:J40) -> 0 | L40: =ROUND(E40*F40,2) -> 0 | M40: =ROUND(E40*H40,2) -> 0 | N40: =ROUND(E40*I40,2) -> 0 | O40: =ROUND(E40*J40,2) -> 0 | P40: =SUM(M40:O40) -> 0
A41: 3.5 | B41: 12202 | C41: ZS plastmasas izolācijas kabeļa no 50 līdz 150 mm2 gala apdare | D41: gab. | E41: 1 | H41: =F41*G41 -> 0 | K41: =SUM(H41:J41) -> 0 | L41: =ROUND(E41*F41,2) -> 0 | M41: =ROUND(E41*H41,2) -> 0 | N41: =ROUND(E41*I41,2) -> 0 | O41: =ROUND(E41*J41,2) -> 0 | P41: =SUM(M41:O41) -> 0
A42: 3.6 | B42: 12105 | C42: ZS kabeļa no 50 līdz 150 mm2 ievēršana caurulē | D42: m | E42: 6 | H42: =F42*G42 -> 0 | K42: =SUM(H42:J42) -> 0 | L42: =ROUND(E42*F42,2) -> 0 | M42: =ROUND(E42*H42,2) -> 0 | N42: =ROUND(E42*I42,2) -> 0 | O42: =ROUND(E42*J42,2) -> 0 | P42: =SUM(M42:O42) -> 0
A43: 3.7 | B43: 11201 | C43: Kabeļu aizsargcaurules d=līdz 110 mm ieguldīšana gatavā tranšejā | D43: m | E43: 3 | H43: =F43*G43 -> 0 | K43: =SUM(H43:J43) -> 0 | L43: =ROUND(E43*F43,2) -> 0 | M43: =ROUND(E43*H43,2) -> 0 | N43: =ROUND(E43*I43,2) -> 0 | O43: =ROUND(E43*J43,2) -> 0 | P43: =SUM(M43:O43) -> 0
B44: Pirmsuzskaites ZS KL (zemsprieguma kabeļu līniju) izbūve, t. sk. digitālā nospraušana un uzmērīšana Z5 (Materiālu izmaksas)
A45: 3.8 | B45: 0803.004 | C45: Kabelis 1kV četrdzīslu Al 4x70 | D45: m | E45: 13 | H45: =F45*G45 -> 0 | K45: =SUM(H45:J45) -> 0 | L45: =ROUND(E45*F45,2) -> 0 | M45: =ROUND(E45*H45,2) -> 0 | N45: =ROUND(E45*I45,2) -> 0 | O45: =ROUND(E45*J45,2) -> 0 | P45: =SUM(M45:O45) -> 0 | Q45: MAN
A46: 3.9 | B46: 0909.011 | C46: Gala apdare 1kV, četrdzīslu kabelim | D46: kom | E46: 1 | H46: =F46*G46 -> 0 | K46: =SUM(H46:J46) -> 0 | L46: =ROUND(E46*F46,2) -> 0 | M46: =ROUND(E46*H46,2) -> 0 | N46: =ROUND(E46*I46,2) -> 0 | O46: =ROUND(E46*J46,2) -> 0 | P46: =SUM(M46:O46) -> 0 | Q46: MAN
A47: 3.10 | B47: 0922.011 | C47: Savienošanas uzmava 1kV četrdzīslu kabelim | D47: kom | E47: 1 | H47: =F47*G47 -> 0 | K47: =SUM(H47:J47) -> 0 | L47: =ROUND(E47*F47,2) -> 0 | M47: =ROUND(E47*H47,2) -> 0 | N47: =ROUND(E47*I47,2) -> 0 | O47: =ROUND(E47*J47,2) -> 0 | P47: =SUM(M47:O47) -> 0 | Q47: MAN
A48: 3.11 | B48: 0927.104 | C48: Caurule, gofrēta 450N, d=110 | D48: m | E48: 3 | H48: =F48*G48 -> 0 | K48: =SUM(H48:J48) -> 0 | L48: =ROUND(E48*F48,2) -> 0 | M48: =ROUND(E48*H48,2) -> 0 | N48: =ROUND(E48*I48,2) -> 0 | O48: =ROUND(E48*J48,2) -> 0 | P48: =SUM(M48:O48) -> 0 | Q48: MAN
A49: 3.12 | B49: 1303.003 | C49: Signāllenta kabeļlīnijai | D49: m | E49: 13 | H49: =F49*G49 -> 0 | K49: =SUM(H49:J49) -> 0 | L49: =ROUND(E49*F49,2) -> 0 | M49: =ROUND(E49*H49,2) -> 0 | N49: =ROUND(E49*I49,2) -> 0 | O49: =ROUND(E49*J49,2) -> 0 | P49: =SUM(M49:O49) -> 0 | Q49: MAN
A50: 3.13 | B50: 1303.005 | C50: Kabeļu marķējums (birka) zemē guldāmam kabelim 50x100 mm | D50: gab | E50: 3 | H50: =F50*G50 -> 0 | K50: =SUM(H50:J50) -> 0 | L50: =ROUND(E50*F50,2) -> 0 | M50: =ROUND(E50*H50,2) -> 0 | N50: =ROUND(E50*I50,2) -> 0 | O50: =ROUND(E50*J50,2) -> 0 | P50: =SUM(M50:O50) -> 0 | Q50: MAN
A51: 4 | B51: Pirmsuzskaites ZS KL (zemsprieguma kabeļu līniju) izbūve, t. sk. digitālā nospraušana un uzmērīšana Z4 (Darbu izmaksas)
A52: 4.1 | B52: 11111 | C52: Tranšejas rakšana un aizbēršana viena līdz divu kabeļu (caurules) gūldīšanai 1m dziļumā | D52: m | E52: 15 | H52: =F52*G52 -> 0 | K52: =SUM(H52:J52) -> 0 | L52: =ROUND(E52*F52,2) -> 0 | M52: =ROUND(E52*H52,2) -> 0 | N52: =ROUND(E52*I52,2) -> 0 | O52: =ROUND(E52*J52,2) -> 0 | P52: =SUM(M52:O52) -> 0
A53: 4.2 | B53: 11103 | C53: Tranšeja - bedre ZS uzmavām | D53: gab. | E53: 1 | H53: =F53*G53 -> 0 | K53: =SUM(H53:J53) -> 0 | L53: =ROUND(E53*F53,2) -> 0 | M53: =ROUND(E53*H53,2) -> 0 | N53: =ROUND(E53*I53,2) -> 0 | O53: =ROUND(E53*J53,2) -> 0 | P53: =SUM(M53:O53) -> 0
A54: 4.3 | B54: 12101 | C54: ZS kabeļa līdz 35 mm2 ieguldīšana gatavā tranšejā | D54: m | E54: 10 | H54: =F54*G54 -> 0 | K54: =SUM(H54:J54) -> 0 | L54: =ROUND(E54*F54,2) -> 0 | M54: =ROUND(E54*H54,2) -> 0 | N54: =ROUND(E54*I54,2) -> 0 | O54: =ROUND(E54*J54,2) -> 0 | P54: =SUM(M54:O54) -> 0
A55: 4.4 | B55: 12301 | C55: ZS plastmasas izolācijas kabeļa līdz 35 mm2 savienošanas uzmavas montāža | D55: gab. | E55: 1 | H55: =F55*G55 -> 0 | K55: =SUM(H55:J55) -> 0 | L55: =ROUND(E55*F55,2) -> 0 | M55: =ROUND(E55*H55,2) -> 0 | N55: =ROUND(E55*I55,2) -> 0 | O55: =ROUND(E55*J55,2) -> 0 | P55: =SUM(M55:O55) -> 0
A56: 4.5 | B56: 12201 | C56: ZS plastmasas izolācijas kabeļa līdz 35 mm2 gala apdare | D56: gab. | E56: 1 | H56: =F56*G56 -> 0 | K56: =SUM(H56:J56) -> 0 | L56: =ROUND(E56*F56,2) -> 0 | M56: =ROUND(E56*H56,2) -> 0 | N56: =ROUND(E56*I56,2) -> 0 | O56: =ROUND(E56*J56,2) -> 0 | P56: =SUM(M56:O56) -> 0
A57: 4.6 | B57: 12104 | C57: ZS kabeļa līdz 35 mm2 ievēršana caurulē | D57: m | E57: 5 | H57: =F57*G57 -> 0 | K57: =SUM(H57:J57) -> 0 | L57: =ROUND(E57*F57,2) -> 0 | M57: =ROUND(E57*H57,2) -> 0 | N57: =ROUND(E57*I57,2) -> 0 | O57: =ROUND(E57*J57,2) -> 0 | P57: =SUM(M57:O57) -> 0
A58: 4.7 | B58: 11201 | C58: Kabeļu aizsargcaurules d=līdz 110 mm ieguldīšana gatavā tranšejā | D58: m | E58: 3 | H58: =F58*G58 -> 0 | K58: =SUM(H58:J58) -> 0 | L58: =ROUND(E58*F58,2) -> 0 | M58: =ROUND(E58*H58,2) -> 0 | N58: =ROUND(E58*I58,2) -> 0 | O58: =ROUND(E58*J58,2) -> 0 | P58: =SUM(M58:O58) -> 0
A59: 4.8 | B59: 11115 | C59: Tranšejas rakšana un aizbēršana viena līdz divu kabeļu (caurules) gūldīšanai 0.7m dziļumā ar rokām | D59: m | E59: 2 | H59: =F59*G59 -> 0 | K59: =SUM(H59:J59) -> 0 | L59: =ROUND(E59*F59,2) -> 0 | M59: =ROUND(E59*H59,2) -> 0 | N59: =ROUND(E59*I59,2) -> 0 | O59: =ROUND(E59*J59,2) -> 0 | P59: =SUM(M59:O59) -> 0
B60: Pirmsuzskaites ZS KL (zemsprieguma kabeļu līniju) izbūve, t. sk. digitālā nospraušana un uzmērīšana Z4 (Materiālu izmaksas)
A61: 4.9 | B61: 0803.005 | C61: Kabelis 1kV četrdzīslu Al 4x35 | D61: m | E61: 18 | H61: =F61*G61 -> 0 | K61: =SUM(H61:J61) -> 0 | L61: =ROUND(E61*F61,2) -> 0 | M61: =ROUND(E61*H61,2) -> 0 | N61: =ROUND(E61*I61,2) -> 0 | O61: =ROUND(E61*J61,2) -> 0 | P61: =SUM(M61:O61) -> 0 | Q61: MAN
A62: 4.10 | B62: 0909.011 | C62: Gala apdare 1kV, četrdzīslu kabelim | D62: kom | E62: 1 | H62: =F62*G62 -> 0 | K62: =SUM(H62:J62) -> 0 | L62: =ROUND(E62*F62,2) -> 0 | M62: =ROUND(E62*H62,2) -> 0 | N62: =ROUND(E62*I62,2) -> 0 | O62: =ROUND(E62*J62,2) -> 0 | P62: =SUM(M62:O62) -> 0 | Q62: MAN
A63: 4.11 | B63: 0922.011 | C63: Savienošanas uzmava 1kV četrdzīslu kabelim | D63: kom | E63: 1 | H63: =F63*G63 -> 0 | K63: =SUM(H63:J63) -> 0 | L63: =ROUND(E63*F63,2) -> 0 | M63: =ROUND(E63*H63,2) -> 0 | N63: =ROUND(E63*I63,2) -> 0 | O63: =ROUND(E63*J63,2) -> 0 | P63: =SUM(M63:O63) -> 0 | Q63: MAN
A64: 4.12 | B64: 0927.104 | C64: Caurule, gofrēta 450N, d=110 | D64: m | E64: 3 | H64: =F64*G64 -> 0 | K64: =SUM(H64:J64) -> 0 | L64: =ROUND(E64*F64,2) -> 0 | M64: =ROUND(E64*H64,2) -> 0 | N64: =ROUND(E64*I64,2) -> 0 | O64: =ROUND(E64*J64,2) -> 0 | P64: =SUM(M64:O64) -> 0 | Q64: MAN
A65: 4.13 | B65: 1303.003 | C65: Signāllenta kabeļlīnijai | D65: m | E65: 18 | H65: =F65*G65 -> 0 | K65: =SUM(H65:J65) -> 0 | L65: =ROUND(E65*F65,2) -> 0 | M65: =ROUND(E65*H65,2) -> 0 | N65: =ROUND(E65*I65,2) -> 0 | O65: =ROUND(E65*J65,2) -> 0 | P65: =SUM(M65:O65) -> 0 | Q65: MAN
A66: 4.14 | B66: 1303.005 | C66: Kabeļu marķējums (birka) zemē guldāmam kabelim 50x100 mm | D66: gab | E66: 3 | H66: =F66*G66 -> 0 | K66: =SUM(H66:J66) -> 0 | L66: =ROUND(E66*F66,2) -> 0 | M66: =ROUND(E66*H66,2) -> 0 | N66: =ROUND(E66*I66,2) -> 0 | O66: =ROUND(E66*J66,2) -> 0 | P66: =SUM(M66:O66) -> 0 | Q66: MAN
A67: 5 | B67: Transformatora apakšstacijas izbūve / pārbūve, t. sk. digitālā nospraušana un uzmērīšana KTA (Darbu izmaksas)
A68: 5.1 | B68: 11201 | C68: Kabeļu aizsargcaurules d=līdz 110 mm ieguldīšana gatavā tranšejā | D68: m | E68: 15 | H68: =F68*G68 -> 0 | K68: =SUM(H68:J68) -> 0 | L68: =ROUND(E68*F68,2) -> 0 | M68: =ROUND(E68*H68,2) -> 0 | N68: =ROUND(E68*I68,2) -> 0 | O68: =ROUND(E68*J68,2) -> 0 | P68: =SUM(M68:O68) -> 0
A69: 5.2 | B69: 11101 | C69: Būvbedre pamatnes konteinera tipa sadalēm. piem. KTAb, KTAm u.c. | D69: m2 | E69: 12 | H69: =F69*G69 -> 0 | K69: =SUM(H69:J69) -> 0 | L69: =ROUND(E69*F69,2) -> 0 | M69: =ROUND(E69*H69,2) -> 0 | N69: =ROUND(E69*I69,2) -> 0 | O69: =ROUND(E69*J69,2) -> 0 | P69: =SUM(M69:O69) -> 0
A70: 5.3 | B70: 11106 | C70: Tranšeja horizontālam zemēšanas kontūram | D70: m | E70: 21 | H70: =F70*G70 -> 0 | K70: =SUM(H70:J70) -> 0 | L70: =ROUND(E70*F70,2) -> 0 | M70: =ROUND(E70*H70,2) -> 0 | N70: =ROUND(E70*I70,2) -> 0 | O70: =ROUND(E70*J70,2) -> 0 | P70: =SUM(M70:O70) -> 0
A71: 5.4 | B71: 11401 | C71: Bruģa (flizes) klājuma ieklāšana | D71: m2 | E71: 14 | H71: =F71*G71 -> 0 | K71: =SUM(H71:J71) -> 0 | L71: =ROUND(E71*F71,2) -> 0 | M71: =ROUND(E71*H71,2) -> 0 | N71: =ROUND(E71*I71,2) -> 0 | O71: =ROUND(E71*J71,2) -> 0 | P71: =SUM(M71:O71) -> 0
A72: 5.5 | B72: 17114 | C72: Kompaktās TA (ar 1 transformatoru) uzstādīšana gatavā būvbedrē | D72: gab. | E72: 1 | H72: =F72*G72 -> 0 | K72: =SUM(H72:J72) -> 0 | L72: =ROUND(E72*F72,2) -> 0 | M72: =ROUND(E72*H72,2) -> 0 | N72: =ROUND(E72*I72,2) -> 0 | O72: =ROUND(E72*J72,2) -> 0 | P72: =SUM(M72:O72) -> 0
A73: 5.6 | B73: 17409 | C73: VS slēgiekārtas 4 ligzdu slēgiekārtas montāža | D73: k-ts | E73: 1 | H73: =F73*G73 -> 0 | K73: =SUM(H73:J73) -> 0 | L73: =ROUND(E73*F73,2) -> 0 | M73: =ROUND(E73*H73,2) -> 0 | N73: =ROUND(E73*I73,2) -> 0 | O73: =ROUND(E73*J73,2) -> 0 | P73: =SUM(M73:O73) -> 0
A74: 5.7 | B74: 18101 | C74: Horizontālā zemētāja montāža tranšejā | D74: m | E74: 21 | H74: =F74*G74 -> 0 | K74: =SUM(H74:J74) -> 0 | L74: =ROUND(E74*F74,2) -> 0 | M74: =ROUND(E74*H74,2) -> 0 | N74: =ROUND(E74*I74,2) -> 0 | O74: =ROUND(E74*J74,2) -> 0 | P74: =SUM(M74:O74) -> 0
A75: 5.8 | B75: 17505 | C75: Transformatora ar jaudu 100 - 400 kVA montāža KTA | D75: gab. | E75: 1 | H75: =F75*G75 -> 0 | K75: =SUM(H75:J75) -> 0 | L75: =ROUND(E75*F75,2) -> 0 | M75: =ROUND(E75*H75,2) -> 0 | N75: =ROUND(E75*I75,2) -> 0 | O75: =ROUND(E75*J75,2) -> 0 | P75: =SUM(M75:O75) -> 0
A76: 5.9 | B76: 17428 | C76: VS drošinātāju komplekta uzstādīšana | D76: kompl. | E76: 1 | H76: =F76*G76 -> 0 | K76: =SUM(H76:J76) -> 0 | L76: =ROUND(E76*F76,2) -> 0 | M76: =ROUND(E76*H76,2) -> 0 | N76: =ROUND(E76*I76,2) -> 0 | O76: =ROUND(E76*J76,2) -> 0 | P76: =SUM(M76:O76) -> 0
A77: 5.10 | B77: 13117 | C77: VS 3 dzīslu kabeļa 35 - 95 mm2 montāža uz plauktiem, kabeļu tuneļos, kanālos | D77: m | E77: 6 | H77: =F77*G77 -> 0 | K77: =SUM(H77:J77) -> 0 | L77: =ROUND(E77*F77,2) -> 0 | M77: =ROUND(E77*H77,2) -> 0 | N77: =ROUND(E77*I77,2) -> 0 | O77: =ROUND(E77*J77,2) -> 0 | P77: =SUM(M77:O77) -> 0
A78: 5.11 | B78: 13207 | C78: VS 3 dzīslu plastmasas izolācijas kabeļa līdz 95 mm2 gala apdare | D78: gab. | E78: 3 | H78: =F78*G78 -> 0 | K78: =SUM(H78:J78) -> 0 | L78: =ROUND(E78*F78,2) -> 0 | M78: =ROUND(E78*H78,2) -> 0 | N78: =ROUND(E78*I78,2) -> 0 | O78: =ROUND(E78*J78,2) -> 0 | P78: =SUM(M78:O78) -> 0
A79: 5.12 | B79: 11473 | C79: Ietves apmaļu uzstādīšana | D79: m | E79: 18 | H79: =F79*G79 -> 0 | K79: =SUM(H79:J79) -> 0 | L79: =ROUND(E79*F79,2) -> 0 | M79: =ROUND(E79*H79,2) -> 0 | N79: =ROUND(E79*I79,2) -> 0 | O79: =ROUND(E79*J79,2) -> 0 | P79: =SUM(M79:O79) -> 0
... A90: 5.23 | B90: 18205 | C90: Vertikālā zemētāja dziļumā līdz 35 m montāža ar urbšanas vai iekalšanas metodi | D90: gab | E90: 1 | H90: =F90*G90 -> 0 | K90: =SUM(H90:J90) -> 0 | L90: =ROUND(E90*F90,2) -> 0 | M90: =ROUND(E90*H90,2) -> 0 | N90: =ROUND(E90*I90,2) -> 0 | O90: =ROUND(E90*J90,2) -> 0 | P90: =SUM(M90:O90) -> 0
B91: Transformatora apakšstacijas izbūve / pārbūve, t. sk. digitālā nospraušana un uzmērīšana KTA (Materiālu izmaksas)
A92: 5.24 | B92: bez koda | C92: Betona apmale 100x200x70 | D92: m | E92: 18 | H92: =F92*G92 -> 0 | K92: =SUM(H92:J92) -> 0 | L92: =ROUND(E92*F92,2) -> 0 | M92: =ROUND(E92*H92,2) -> 0 | N92: =ROUND(E92*I92,2) -> 0 | O92: =ROUND(E92*J92,2) -> 0 | P92: =SUM(M92:O92) -> 0
A93: 5.25 | B93: bez koda | C93: Tērauda caurule zemējumam, 19.5 m, 40mm diametrs | D93: gab | E93: 1 | H93: =F93*G93 -> 0 | K93: =SUM(H93:J93) -> 0 | L93: =ROUND(E93*F93,2) -> 0 | M93: =ROUND(E93*H93,2) -> 0 | N93: =ROUND(E93*I93,2) -> 0 | O93: =ROUND(E93*J93,2) -> 0 | P93: =SUM(M93:O93) -> 0
A94: 5.26 | B94: 0815.004 | C94: Kabelis 20kV viendzīslas ar stiepļu ekrānu Al 3x1x50/16 | D94: m | E94: 6 | H94: =F94*G94 -> 0 | I94: PP** | K94: =SUM(H94:J94) -> 0 | L94: =ROUND(E94*F94,2) -> 0 | M94: =ROUND(E94*H94,2) -> 0 | N94: PP** | O94: =ROUND(E94*J94,2) -> 0 | P94: =SUM(M94:O94) -> 0
A95: 5.27 | B95: 0902.007 | C95: Gala apdare 20kV iekštipa, 1-dzīslu kabelim ar stiepļu ekrānu | D95: kom | E95: 1 | H95: =F95*G95 -> 0 | K95: =SUM(H95:J95) -> 0 | L95: =ROUND(E95*F95,2) -> 0 | M95: =ROUND(E95*H95,2) -> 0 | N95: =ROUND(E95*I95,2) -> 0 | O95: =ROUND(E95*J95,2) -> 0 | P95: =SUM(M95:O95) -> 0 | Q95: MAN
A96: 5.28 | B96: 0906.001 | C96: T-adapters, Interfeiss „A” 20kV viendzīslu kabelim ar stiepļu ekrānu | D96: kom | E96: 1 | H96: =F96*G96 -> 0 | K96: =SUM(H96:J96) -> 0 | L96: =ROUND(E96*F96,2) -> 0 | M96: =ROUND(E96*H96,2) -> 0 | N96: =ROUND(E96*I96,2) -> 0 | O96: =ROUND(E96*J96,2) -> 0 | P96: =SUM(M96:O96) -> 0 | Q96: MAN
A97: 5.29 | B97: 0927.104 | C97: Caurule, gofrēta 450N, d=110 | D97: m | E97: 24 | H97: =F97*G97 -> 0 | K97: =SUM(H97:J97) -> 0 | L97: =ROUND(E97*F97,2) -> 0 | M97: =ROUND(E97*H97,2) -> 0 | N97: =ROUND(E97*I97,2) -> 0 | O97: =ROUND(E97*J97,2) -> 0 | P97: =SUM(M97:O97) -> 0 | Q97: MAN
A98: 5.30 | B98: 0927.106 | C98: Caurule, gofrēta 450N, d=160 | D98: m | E98: 9 | H98: =F98*G98 -> 0 | K98: =SUM(H98:J98) -> 0 | L98: =ROUND(E98*F98,2) -> 0 | M98: =ROUND(E98*H98,2) -> 0 | N98: =ROUND(E98*I98,2) -> 0 | O98: =ROUND(E98*J98,2) -> 0 | P98: =SUM(M98:O98) -> 0 | Q98: MAN
A99: 5.31 | B99: 1008.201 | C99: KTA (TP) korpuss betona (līdz 630kVA, SMS līdz AxPxD/1400x1500x785) ar 0,4kV sadalni (strāvmaiņi+NH4a+drošinātājsl.līdz 10xNH2) | D99: kom | E99: 1 | H99: =F99*G99 -> 0 | K99: =SUM(H99:J99) -> 0 | L99: =ROUND(E99*F99,2) -> 0 | M99: =ROUND(E99*H99,2) -> 0 | N99: =ROUND(E99*I99,2) -> 0 | O99: =ROUND(E99*J99,2) -> 0 | P99: =SUM(M99:O99) -> 0 | Q99: MAN
A100: 5.32 | B100: 1303.003 | C100: Signāllenta kabeļlīnijai | D100: m | E100: 24 | H100: =F100*G100 -> 0 | K100: =SUM(H100:J100) -> 0 | L100: =ROUND(E100*F100,2) -> 0 | M100: =ROUND(E100*H100,2) -> 0 | N100: =ROUND(E100*I100,2) -> 0 | O100: =ROUND(E100*J100,2) -> 0 | P100: =SUM(M100:O100) -> 0 | Q100: MAN
A101: 5.33 | B101: 1304.005 | C101: Bīstami elektrība, 120 mm, uzlīme | D101: gab | E101: 4 | H101: =F101*G101 -> 0 | K101: =SUM(H101:J101) -> 0 | L101: =ROUND(E101*F101,2) -> 0 | M101: =ROUND(E101*H101,2) -> 0 | N101: =ROUND(E101*I101,2) -> 0 | O101: =ROUND(E101*J101,2) -> 0 | P101: =SUM(M101:O101) -> 0 | Q101: MAN
A102: 5.34 | B102: 2314.008 | C102: Sadales transformators 21/0.42kV, 250kVA, Dyn11 | D102: gab | E102: 1 | H102: =F102*G102 -> 0 | K102: =SUM(H102:J102) -> 0 | L102: =ROUND(E102*F102,2) -> 0 | M102: =ROUND(E102*H102,2) -> 0 | N102: =ROUND(E102*I102,2) -> 0 | O102: =ROUND(E102*J102,2) -> 0 | P102: =SUM(M102:O102) -> 0 | Q102: MAN
A103: 5.35 | B103: 2503.004 | C103: Drošinātājs 10/24kV 20A EN 60282 442mm | D103: gab | E103: 3 | H103: =F103*G103 -> 0 | K103: =SUM(H103:J103) -> 0 | L103: =ROUND(E103*F103,2) -> 0 | M103: =ROUND(E103*H103,2) -> 0 | N103: =ROUND(E103*I103,2) -> 0 | O103: =ROUND(E103*J103,2) -> 0 | P103: =SUM(M103:O103) -> 0 | Q103: MAN
A104: 5.36 | B104: 2810.006 | C104: Slēgiekārta, sekundārā 24kV CCCF | D104: gab | E104: 1 | H104: =F104*G104 -> 0 | K104: =SUM(H104:J104) -> 0 | L104: =ROUND(E104*F104,2) -> 0 | M104: =ROUND(E104*H104,2) -> 0 | N104: =ROUND(E104*I104,2) -> 0 | O104: =ROUND(E104*J104,2) -> 0 | P104: =SUM(M104:O104) -> 0 | Q104: MAN
A105: 5.37 | B105: 2901.002 | C105: Izvads zemējuma, daļēji cinkots tērauds, d=10 mm, 2.7m | D105: gab | E105: 2 | H105: =F105*G105 -> 0 | K105: =SUM(H105:J105) -> 0 | L105: =ROUND(E105*F105,2) -> 0 | M105: =ROUND(E105*H105,2) -> 0 | N105: =ROUND(E105*I105,2) -> 0 | O105: =ROUND(E105*J105,2) -> 0 | P105: =SUM(M105:O105) -> 0 | Q105: MAN
A106: 5.38 | B106: 2901.004 | C106: Elektrods zemējuma, cinkots tērauds ar iespēju pagarināt, d=16 mm, 1.5m | D106: gab | E106: 9 | H106: =F106*G106 -> 0 | K106: =SUM(H106:J106) -> 0 | L106: =ROUND(E106*F106,2) -> 0 | M106: =ROUND(E106*H106,2) -> 0 | N106: =ROUND(E106*I106,2) -> 0 | O106: =ROUND(E106*J106,2) -> 0 | P106: =SUM(M106:O106) -> 0
A107: 5.39 | B107: 2902.003 | C107: Zemējuma stieple, cinkota d=10mm | D107: m | E107: 23 | H107: =F107*G107 -> 0 | K107: =SUM(H107:J107) -> 0 | L107: =ROUND(E107*F107,2) -> 0 | M107: =ROUND(E107*H107,2) -> 0 | N107: =ROUND(E107*I107,2) -> 0 | O107: =ROUND(E107*J107,2) -> 0 | P107: =SUM(M107:O107) -> 0 | Q107: MAN
A108: 5.40 | B108: 2904.001 | C108: Spaile zemējuma, universāla, cinkotam metālam, zemējuma elektroda d=20 mm savienošanai ar stiepli d=8-10 mm vai plakandzelzi 4x40 mm | D108: gab | E108: 8 | H108: =F108*G108 -> 0 | K108: =SUM(H108:J108) -> 0 | L108: =ROUND(E108*F108,2) -> 0 | M108: =ROUND(E108*H108,2) -> 0 | N108: =ROUND(E108*I108,2) -> 0 | O108: =ROUND(E108*J108,2) -> 0 | P108: =SUM(M108:O108) -> 0
A109: 5.41 | B109: 2905.001 | C109: Detaļa elektroda d=16 mm pagarināšanai, cinkota | D109: gab | E109: 6 | H109: =F109*G109 -> 0 | K109: =SUM(H109:J109) -> 0 | L109: =ROUND(E109*F109,2) -> 0 | M109: =ROUND(E109*H109,2) -> 0 | N109: =ROUND(E109*I109,2) -> 0 | O109: =ROUND(E109*J109,2) -> 0 | P109: =SUM(M109:O109) -> 0
A110: 5.42 | B110: 2905.002 | C110: Elektroda uzgalis, iesišanai zemē | D110: gab | E110: 3 | H110: =F110*G110 -> 0 | K110: =SUM(H110:J110) -> 0 | L110: =ROUND(E110*F110,2) -> 0 | M110: =ROUND(E110*H110,2) -> 0 | N110: =ROUND(E110*I110,2) -> 0 | O110: =ROUND(E110*J110,2) -> 0 | P110: =SUM(M110:O110) -> 0
A111: 5.43 | B111: 2905.003 | C111: Lenta zemējuma kontūra savienojumu hermetizācijai | D111: gab | E111: 8 | H111: =F111*G111 -> 0 | K111: =SUM(H111:J111) -> 0 | L111: =ROUND(E111*F111,2) -> 0 | M111: =ROUND(E111*H111,2) -> 0 | N111: =ROUND(E111*I111,2) -> 0 | O111: =ROUND(E111*J111,2) -> 0 | P111: =SUM(M111:O111) -> 0
...
