Workbook

Sheet Būvniecības koptāme
A2: APSTIPRINU
A4: (pasūtītāja paraksts un ta atšifrējums)
C7: =TEXT(TODAY(), "yyyy. ")& "gada " & DAY(TODAY()) & "." &CHOOSE(MONTH(TODAY()), "janvārī", "februārī", "martā", "aprīlī", "maijā", "jūnijā", "jūlijā", "augustā", "septembrī", "oktobrī", "nevembrī", "decembrī") -> 2024. gada 30.augustā
A9: Būvniecības koptāme
A11: Objekta nosaukums: "20kV elektropārvades līnijas B040, transformatora apakšstacijas T24055 pārbūve Jaunbrunavās, Stopiņu pagastā, Ropažu novadā", IO-257004
A12: Būves nosaukums:
A13: Objekta adrese:
A14: Pasūtījuma Nr.:
A15: Pasūtītājs: AS "Sadales tīkls"
A16: Pretendents:
A18: Nr.p.k. | B18: Objekta nosaukums | C18: Objekta izmaksas (euro)
A19: 1 | B19: "20kV elektropārvades līnijas B040, transformatora apakšstacijas T24055 pārbūve Jaunbrunavās, Stopiņu pagastā, Ropažu novadā", IO-257004 | C19: ='Kopsavilkuma aprēķins'!E23 -> 0
B21: Kopā | C21: =SUM(C19:C19) -> 0
A22: * PVN (21%) | C22: -
B23: Pavisam kopā | C23: =C21 -> 0
A24: * PVN apmaksa atbilstoši Pievienotās vērtības nodokļu likumam 142.panta 6.daļas nosacījumiem "nodokļu atgrieztā maksāšana"
A26: Sastādīja:
A27: Sert.Nr.
A29: ='Lokālā tāme'!L11 -> Tāme sastādīta 2024. gada 30.augustā
A32: ŠIS DOKUMENTS IR ELEKTRONISKI PARAKSTĪTS AR DROŠU ELEKTRONISKO PARAKSTU UN SATUR LAIKA ZĪMOGU

Sheet Kopsavilkuma aprēķins
A1: Kopsavilkuma aprēķins Nr. 1
A2: "20kV elektropārvades līnijas B040, transformatora apakšstacijas T24055 pārbūve Jaunbrunavās, Stopiņu pagastā, Ropažu novadā", IO-257004
A3: (būvdarbu veids vai konstruktīvā elementa nosaukums)
A5: Objekta nosaukums: "20kV elektropārvades līnijas B040, transformatora apakšstacijas T24055 pārbūve Jaunbrunavās, Stopiņu pagastā, Ropažu novadā", IO-257004
A6: Būves nosaukums:
A7: Objekta adrese:
A8: Pasūtījuma Nr.:
A9: Pasūtītājs: AS "Sadales tīkls"
A10: Pretendents:
C13: Par kopējo summu (euro) | D13: =E23 -> 0
C14: Kopējā darbietilpība (c/h) | D14: =I19 -> 0
A16: Nr. p.k. | B16: Kods, tāmes Nr. | C16: Darba veids vai konstruktīvā elementa nosaukums | E16: Tāmes izmaksas (EUR) | F16: Tai skaitā: | I16: Darbietilpība (c/h)
F17: darba alga (EUR) | G17: būvizstrādājumi (EUR) | H17: mehānismi (EUR)
A18: 1 | B18: 1 | C18: "20kV elektropārvades līnijas B040, transformatora apakšstacijas T24055 pārbūve Jaunbrunavās, Stopiņu pagastā, Ropažu novadā", IO-257004 | E18: ='Lokālā tāme'!P225 -> 0 | F18: ='Lokālā tāme'!M225 -> 0 | G18: ='Lokālā tāme'!N225 -> 0 | H18: ='Lokālā tāme'!O225 -> 0 | I18: ='Lokālā tāme'!L225 -> 0
A19: Kopā | E19: =E18 -> 0 | F19: =F18 -> 0 | G19: =G18 -> 0 | H19: =H18 -> 0 | I19: =I18 -> 0
A20: Virsizdevumi | D20: 0 | E20: =ROUND(E19*D20,2) -> 0
A21: t.sk.darba aizsardzība | D21: 0 | E21: =ROUND(E20*D21,2) -> 0
A22: Peļņa | D22: 0 | E22: =ROUND(E19*D22,2) -> 0
A23: Pavisam kopā | E23: =E22+E20+E19 -> 0
A25: Sastādīja: | B25: _______________________________
A26: Sert.Nr. | B26: _______________________________
A28: ="Tāmes izmaksas bez PVN: "&E23 -> Tāmes izmaksas bez PVN: 0
A31: Pārbaudīja: | B31: _______________________________
A32: Sert.Nr. | B32: _______________________________
A34: ='Lokālā tāme'!L11 -> Tāme sastādīta 2024. gada 30.augustā
A37: ŠIS DOKUMENTS IR ELEKTRONISKI PARAKSTĪTS AR DROŠU ELEKTRONISKO PARAKSTU UN SATUR LAIKA ZĪMOGU

Sheet Lokālā tāme
H1: Lokālā tāme Nr. | I1: 1
C2: "20kV elektropārvades līnijas B040, transformatora apakšstacijas T24055 pārbūve Jaunbrunavās, Stopiņu pagastā, Ropažu novadā", IO-257004
F3: (būvdarbu veids vai konstruktīvā elementa nosaukums)
A4: Objekta nosaukums: "20kV elektropārvades līnijas B040, transformatora apakšstacijas T24055 pārbūve Jaunbrunavās, Stopiņu pagastā, Ropažu novadā", IO-257004 IO-259557
A5: Būves nosaukums:
A6: Objekta adrese:
A7: Pasūtījuma Nr.:
A8: Pasūtītājs: AS "Sadales tīkls"
A9: Pretendents:
L10: ="Tāmes izmaksas bez PVN: "&P226 -> Tāmes izmaksas bez PVN: 0
C11: Tāme sastādīta 2024. gada tirgus cenās, pamatojoties uz projektēšanas uzdevumu. | L11: ="Tāme sastādīta "&TEXT(TODAY(), "yyyy. ")& "gada " & DAY(TODAY()) & "." &CHOOSE(MONTH(TODAY()), "janvārī", "februārī", "martā", "aprīlī", "maijā", "jūnijā", "jūlijā", "augustā", "septembrī", "oktobrī", "nevembrī", "decembrī") -> Tāme sastādīta 2024. gada 30.augustā
A13: Nr.p.k. | B13: Kods* | C13: Būvdarbu nosaukums | D13: Mērvienība | E13: Daudzums | F13: Vienības izmaksas | L13: Kopā uz visu apjomu
F14: laika norma (c/h) | G14: darba samaksas likme (euro/h) | H14: darba alga | I14: būvizstrādājumi | J14: mehānismi | K14: kopā | L14: darbietilpība (c/h) | M14: darba alga | N14: būvizstrādājumi | O14: mehānismi | P14: summa | Q14: MAN* | R14: Piedāvātie materiāli
A15: 1 | B15: Citi darbi (Darbu izmaksas)
A16: 1.1 | B16: 11479 | C16: Demontēto segumu / atkritumu savākšana un/vai nodošana utilizācijai | D16: m3 | E16: 1 | H16: =F16*G16 -> 0 | K16: =SUM(H16:J16) -> 0 | L16: =ROUND(E16*F16,2) -> 0 | M16: =ROUND(E16*H16,2) -> 0 | N16: =ROUND(E16*I16,2) -> 0 | O16: =ROUND(E16*J16,2) -> 0 | P16: =SUM(M16:O16) -> 0
A17: 1.2 | B17: 19304 | C17: EPL digitālā uzmērīšana | D17: km | E17: 0.712 | H17: =F17*G17 -> 0 | K17: =SUM(H17:J17) -> 0 | L17: =ROUND(E17*F17,2) -> 0 | M17: =ROUND(E17*H17,2) -> 0 | N17: =ROUND(E17*I17,2) -> 0 | O17: =ROUND(E17*J17,2) -> 0 | P17: =SUM(M17:O17) -> 0
A18: 1.3 | B18: 19404 | C18: Rakšanas atļaujas saņemšana | D18: objekts | E18: 1 | H18: =F18*G18 -> 0 | K18: =SUM(H18:J18) -> 0 | L18: =ROUND(E18*F18,2) -> 0 | M18: =ROUND(E18*H18,2) -> 0 | N18: =ROUND(E18*I18,2) -> 0 | O18: =ROUND(E18*J18,2) -> 0 | P18: =SUM(M18:O18) -> 0
A19: 1.4 | B19: 19307 | C19: Transporta un gājēju kustības organizēšana | D19: objekts | E19: 1 | H19: =F19*G19 -> 0 | K19: =SUM(H19:J19) -> 0 | L19: =ROUND(E19*F19,2) -> 0 | M19: =ROUND(E19*H19,2) -> 0 | N19: =ROUND(E19*I19,2) -> 0 | O19: =ROUND(E19*J19,2) -> 0 | P19: =SUM(M19:O19) -> 0
A20: 1.5 | B20: 19309 | C20: Demontējamās elektrolīnijas uzmērīšana | D20: objekts | E20: 1 | H20: =F20*G20 -> 0 | K20: =SUM(H20:J20) -> 0 | L20: =ROUND(E20*F20,2) -> 0 | M20: =ROUND(E20*H20,2) -> 0 | N20: =ROUND(E20*I20,2) -> 0 | O20: =ROUND(E20*J20,2) -> 0 | P20: =SUM(M20:O20) -> 0
A21: 1.6 | B21: 19301 | C21: EPL vai sarkanās līnijas nospraušana | D21: km | E21: 0.709 | H21: =F21*G21 -> 0 | K21: =SUM(H21:J21) -> 0 | L21: =ROUND(E21*F21,2) -> 0 | M21: =ROUND(E21*H21,2) -> 0 | N21: =ROUND(E21*I21,2) -> 0 | O21: =ROUND(E21*J21,2) -> 0 | P21: =SUM(M21:O21) -> 0
A22: 2 | B22: Pirmsuzskaites ZS KL (zemsprieguma kabeļu līniju) izbūve, t. sk. digitālā nospraušana un uzmērīšana Z3 (Darbu izmaksas)
A23: 2.1 | B23: 11111 | C23: Tranšejas rakšana un aizbēršana viena līdz divu kabeļu (caurules) gūldīšanai 1m dziļumā | D23: m | E23: 3 | H23: =F23*G23 -> 0 | K23: =SUM(H23:J23) -> 0 | L23: =ROUND(E23*F23,2) -> 0 | M23: =ROUND(E23*H23,2) -> 0 | N23: =ROUND(E23*I23,2) -> 0 | O23: =ROUND(E23*J23,2) -> 0 | P23: =SUM(M23:O23) -> 0
A24: 2.2 | B24: 11103 | C24: Tranšeja - bedre ZS uzmavām | D24: gab. | E24: 1 | H24: =F24*G24 -> 0 | K24: =SUM(H24:J24) -> 0 | L24: =ROUND(E24*F24,2) -> 0 | M24: =ROUND(E24*H24,2) -> 0 | N24: =ROUND(E24*I24,2) -> 0 | O24: =ROUND(E24*J24,2) -> 0 | P24: =SUM(M24:O24) -> 0
A25: 2.3 | B25: 12102 | C25: ZS kabeļa no 50 līdz 150 mm2 ieguldīšana gatavā tranšejā | D25: m | E25: 5 | H25: =F25*G25 -> 0 | K25: =SUM(H25:J25) -> 0 | L25: =ROUND(E25*F25,2) -> 0 | M25: =ROUND(E25*H25,2) -> 0 | N25: =ROUND(E25*I25,2) -> 0 | O25: =ROUND(E25*J25,2) -> 0 | P25: =SUM(M25:O25) -> 0
A26: 2.4 | B26: 12302 | C26: ZS plastmasas izolācijas kabeļa no 50 līdz 150 mm2 savienošanas uzmavas montāža | D26: gab. | E26: 1 | H26: =F26*G26 -> 0 | K26: =SUM(H26:J26) -> 0 | L26: =ROUND(E26*F26,2) -> 0 | M26: =ROUND(E26*H26,2) -> 0 | N26: =ROUND(E26*I26,2) -> 0 | O26: =ROUND(E26*J26,2) -> 0 | P26: =SUM(M26:O26) -> 0
A27: 2.5 | B27: 12202 | C27: ZS plastmasas izolācijas kabeļa no 50 līdz 150 mm2 gala apdare | D27: gab. | E27: 1 | H27: =F27*G27 -> 0 | K27: =SUM(H27:J27) -> 0 | L27: =ROUND(E27*F27,2) -> 0 | M27: =ROUND(E27*H27,2) -> 0 | N27: =ROUND(E27*I27,2) -> 0 | O27: =ROUND(E27*J27,2) -> 0 | P27: =SUM(M27:O27) -> 0
A28: 2.6 | B28: 12105 | C28: ZS kabeļa no 50 līdz 150 mm2 ievēršana caurulē | D28: m | E28: 3 | H28: =F28*G28 -> 0 | K28: =SUM(H28:J28) -> 0 | L28: =ROUND(E28*F28,2) -> 0 | M28: =ROUND(E28*H28,2) -> 0 | N28: =ROUND(E28*I28,2) -> 0 | O28: =ROUND(E28*J28,2) -> 0 | P28: =SUM(M28:O28) -> 0
A29: 2.7 | B29: 11115 | C29: Tranšejas rakšana un aizbēršana viena līdz divu kabeļu (caurules) gūldīšanai 0.7m dziļumā ar rokām | D29: m | E29: 2 | H29: =F29*G29 -> 0 | K29: =SUM(H29:J29) -> 0 | L29: =ROUND(E29*F29,2) -> 0 | M29: =ROUND(E29*H29,2) -> 0 | N29: =ROUND(E29*I29,2) -> 0 | O29: =ROUND(E29*J29,2) -> 0 | P29: =SUM(M29:O29) -> 0
B30: Pirmsuzskaites ZS KL (zemsprieguma kabeļu līniju) izbūve, t. sk. digitālā nospraušana un uzmērīšana Z3 (Materiālu izmaksas)
A31: 2.8 | B31: 0803.002 | C31: Kabelis 1kV četrdzīslu Al 4x150 | D31: m | E31: 7 | H31: =F31*G31 -> 0 | K31: =SUM(H31:J31) -> 0 | L31: =ROUND(E31*F31,2) -> 0 | M31: =ROUND(E31*H31,2) -> 0 | N31: =ROUND(E31*I31,2) -> 0 | O31: =ROUND(E31*J31,2) -> 0 | P31: =SUM(M31:O31) -> 0 | Q31: MAN
A32: 2.9 | B32: 0909.011 | C32: Gala apdare 1kV, četrdzīslu kabelim | D32: kom | E32: 1 | H32: =F32*G32 -> 0 | K32: =SUM(H32:J32) -> 0 | L32: =ROUND(E32*F32,2) -> 0 | M32: =ROUND(E32*H32,2) -> 0 | N32: =ROUND(E32*I32,2) -> 0 | O32: =ROUND(E32*J32,2) -> 0 | P32: =SUM(M32:O32) -> 0 | Q32: MAN
A33: 2.10 | B33: 0922.011 | C33: Savienošanas uzmava 1kV četrdzīslu kabelim | D33: kom | E33: 1 | H33: =F33*G33 -> 0 | K33: =SUM(H33:J33) -> 0 | L33: =ROUND(E33*F33,2) -> 0 | M33: =ROUND(E33*H33,2) -> 0 | N33: =ROUND(E33*I33,2) -> 0 | O33: =ROUND(E33*J33,2) -> 0 | P33: =SUM(M33:O33) -> 0 | Q33: MAN
A34: 2.11 | B34: 1303.003 | C34: Signāllenta kabeļlīnijai | D34: m | E34: 7 | H34: =F34*G34 -> 0 | K34: =SUM(H34:J34) -> 0 | L34: =ROUND(E34*F34,2) -> 0 | M34: =ROUND(E34*H34,2) -> 0 | N34: =ROUND(E34*I34,2) -> 0 | O34: =ROUND(E34*J34,2) -> 0 | P34: =SUM(M34:O34) -> 0 | Q34: MAN
A35: 2.12 | B35: 1303.005 | C35: Kabeļu marķējums (birka) zemē guldāmam kabelim 50x100 mm | D35: gab | E35: 3 | H35: =F35*G35 -> 0 | K35: =SUM(H35:J35) -> 0 | L35: =ROUND(E35*F35,2) -> 0 | M35: =ROUND(E35*H35,2) -> 0 | N35: =ROUND(E35*I35,2) -> 0 | O35: =ROUND(E35*J35,2) -> 0 | P35: =SUM(M35:O35) -> 0 | Q35: MAN
A36: 3 | B36: Pirmsuzskaites ZS KL (zemsprieguma kabeļu līniju) izbūve, t. sk. digitālā nospraušana un uzmērīšana Z5 (Darbu izmaksas)
A37: 3.1 | B37: 11111 | C37: Tranšejas rakšana un aizbēršana viena līdz divu kabeļu (caurules) gūldīšanai 1m dziļumā | D37: m | E37: 7 | H37: =F37*G37 -> 0 | K37: =SUM(H37:J37) -> 0 | L37: =ROUND(E37*F37,2) -> 0 | M37: =ROUND(E37*H37,2) -> 0 | N37: =ROUND(E37*I37,2) -> 0 | O37: =ROUND(E37*J37,2) -> 0 | P37: =SUM(M37:O37) -> 0
A38: 3.2 | B38: 11103 | C38: Tranšeja - bedre ZS uzmavām | D38: gab. | E38: 1 | H38: =F38*G38 -> 0 | K38: =SUM(H38:J38) -> 0 | L38: =ROUND(E38*F38,2) -> 0 | M38: =ROUND(E38*H38,2) -> 0 | N38: =ROUND(E38*I38,2) -> 0 | O38: =ROUND(E38*J38,2) -> 0 | P38: =SUM(M38:O38) -> 0
A39: 3.3 | B39: 12102 | C39: ZS kabeļa no 50 līdz 150 mm2 ieguldīšana gatavā tranšejā | D39: m | E39: 4 | H39: =F39*G39 -> 0 | K39: =SUM(H39:J39) -> 0 | L39: =ROUND(E39*F39,2) -> 0 | M39: =ROUND(E39*H39,2) -> 0 | N39: =ROUND(E39*I39,2) -> 0 | O39: =ROUND(E39*J39,2) -> 0 | P39: =SUM(M39:O39) -> 0
A40: 3.4 | B40: 12302 | C40: ZS plastmasas izolācijas kabeļa no 50 līdz 150 mm2 savienošanas uzmavas montāža | D40: gab. | E40: 1 | H40: =F40*G40 -> 0 | K40: =SUM(H40:J40) -> 0 | L40: =ROUND(E40*F40,2) -> 0 | M40: =ROUND(E40*H40,2) -> 0 | N40: =ROUND(E40*I40,2) -> 0 | O40: =ROUND(E40*J40,2) -> 0 | P40: =SUM(M40:O40) -> 0
A41: 3.5 | B41: 12202 | C41: ZS plastmasas izolācijas kabeļa no 50 līdz 150 mm2 gala apdare | D41: gab. | E41: 1 | H41: =F41*G41 -> 0 | K41: =SUM(H41:J41) -> 0 | L41: =ROUND(E41*F41,2) -> 0 | M41: =ROUND(E41*H41,2) -> 0 | N41: =ROUND(E41*I41,2) -> 0 | O41: =ROUND(E41*J41,2) -> 0 | P41: =SUM(M41:O41) -> 0
...
