Workbook

Sheet Būvniecības koptāme
A2: APSTIPRINU
A4: (pasūtītāja paraksts un ta atšifrējums)
C7: =TEXT(TODAY(), "yyyy. ")& "gada " & DAY(TODAY()) & "." &CHOOSE(MONTH(TODAY()), "janvārī", "februārī", "martā", "aprīlī", "maijā", "jūnijā", "jūlijā", "augustā", "septembrī", "oktobrī", "nevembrī", "decembrī") -> 2024. gada 30.augustā
A9: Būvniecības koptāme
A11: ='Lokālā tāme'!A5 -> Objekta nosaukums: "20kV EPL B591, B561 un B5980 pārbūve, T25950 20/0.4kV tīkla pārbūve, Ādažu pagasts, Ādažu novads", IO-259558
A12: ='Lokālā tāme'!A6 -> Būves nosaukums: Maģistrālās elektropārvades un elektrosadales līnijas
A13: ='Lokālā tāme'!A7 -> Objekta adrese: Upmalas 7. līnija 13, Kadaga, Ādažu pag., Ādažu nov., LV-2103
A14: ='Lokālā tāme'!A8 -> Pasūtījuma Nr.: IO-259558
A15: ='Lokālā tāme'!A9 -> Pasūtītājs: AS "Sadales tīkls"
A16: ='Lokālā tāme'!A10 -> Pretendents:
A18: Nr.p.k. | B18: Objekta nosaukums | C18: Objekta izmaksas (euro)
A19: 1 | B19: "20kV EPL B591, B561 un B5980 pārbūve, T25950 20/0.4kV tīkla pārbūve, Ādažu pagasts, Ādažu novads", IO-259558 | C19: ='Kopsavilkuma aprēķins'!E23 -> 0
B21: Kopā | C21: =SUM(C19:C19) -> 0
A22: * PVN (21%) | C22: -
B23: Pavisam kopā | C23: =C21 -> 0
A24: * PVN apmaksa atbilstoši Pievienotās vērtības nodokļu likumam 142.panta 6.daļas nosacījumiem "nodokļu atgrieztā maksāšana"
A26: Sastādīja:
A27: Sert.Nr.
A29: ='Lokālā tāme'!L11 -> Tāme sastādīta 2024. gada 30.augustā
A32: ŠIS DOKUMENTS IR ELEKTRONISKI PARAKSTĪTS AR DROŠU ELEKTRONISKO PARAKSTU UN SATUR LAIKA ZĪMOGU

Sheet Kopsavilkuma aprēķins
A1: Kopsavilkuma aprēķins Nr. 1
A2: ""20kV EPL B591, B561 un B5980 pārbūve, T25950 20/0.4kV tīkla pārbūve, Ādažu pagasts, Ādažu novads", IO-259558"
A3: (būvdarbu veids vai konstruktīvā elementa nosaukums)
A5: ='Lokālā tāme'!A5 -> Objekta nosaukums: "20kV EPL B591, B561 un B5980 pārbūve, T25950 20/0.4kV tīkla pārbūve, Ādažu pagasts, Ādažu novads", IO-259558
A6: ='Lokālā tāme'!A6 -> Būves nosaukums: Maģistrālās elektropārvades un elektrosadales līnijas
A7: ='Lokālā tāme'!A7 -> Objekta adrese: Upmalas 7. līnija 13, Kadaga, Ādažu pag., Ādažu nov., LV-2103
A8: ='Lokālā tāme'!A8 -> Pasūtījuma Nr.: IO-259558
A9: ='Lokālā tāme'!A9 -> Pasūtītājs: AS "Sadales tīkls"
A10: ='Lokālā tāme'!A10 -> Pretendents:
C13: Par kopējo summu (euro) | D13: =E23 -> 0
C14: Kopējā darbietilpība (c/h) | D14: =I19 -> 0
A16: Nr. p.k. | B16: Kods, tāmes Nr. | C16: Darba veids vai konstruktīvā elementa nosaukums | E16: Tāmes izmaksas (EUR) | F16: Tai skaitā: | I16: Darbietilpība (c/h)
F17: darba alga (EUR) | G17: būvizstrādājumi (EUR) | H17: mehānismi (EUR)
A18: 1 | B18: 1 | C18: "20kV EPL B591, B561 un B5980 pārbūve, T25950 20/0.4kV tīkla pārbūve, Ādažu pagasts, Ādažu novads", IO-259558 | E18: ='Lokālā tāme'!P195 -> 0 | F18: ='Lokālā tāme'!M195 -> 0 | G18: ='Lokālā tāme'!N195 -> 0 | H18: ='Lokālā tāme'!O195 -> 0 | I18: ='Lokālā tāme'!L195 -> 0
A19: Kopā | E19: =E18 -> 0 | F19: =F18 -> 0 | G19: =G18 -> 0 | H19: =H18 -> 0 | I19: =I18 -> 0
A20: Virsizdevumi | D20: 0 | E20: =ROUND(E19*D20,2) -> 0
A21: t.sk.darba aizsardzība | D21: 0 | E21: =ROUND(E20*D21,2) -> 0
A22: Peļņa | D22: 0 | E22: =ROUND(E19*D22,2) -> 0
A23: Pavisam kopā | E23: =E22+E20+E19 -> 0
A25: Sastādīja: | B25: _______________________________
A26: Sert.Nr. | B26: _______________________________
A28: ="Tāmes izmaksas bez PVN: "&E23 -> Tāmes izmaksas bez PVN: 0
A31: Pārbaudīja: | B31: _______________________________
A32: Sert.Nr. | B32: _______________________________
A34: ='Lokālā tāme'!L11 -> Tāme sastādīta 2024. gada 30.augustā
A37: ŠIS DOKUMENTS IR ELEKTRONISKI PARAKSTĪTS AR DROŠU ELEKTRONISKO PARAKSTU UN SATUR LAIKA ZĪMOGU

Sheet Lokālā tāme
A2: Lokālā tāme Nr. 1
A3: "20kV EPL B591, B561 un B5980 pārbūve, T25950 20/0.4kV tīkla pārbūve, Ādažu pagasts, Ādažu novads", IO-259558
A4: (būvdarbu veids vai konstruktīvā elementa nosaukums)
A5: Objekta nosaukums: "20kV EPL B591, B561 un B5980 pārbūve, T25950 20/0.4kV tīkla pārbūve, Ādažu pagasts, Ādažu novads", IO-259558
A6: Būves nosaukums: Maģistrālās elektropārvades un elektrosadales līnijas
A7: Objekta adrese: Upmalas 7. līnija 13, Kadaga, Ādažu pag., Ādažu nov., LV-2103
A8: Pasūtījuma Nr.: IO-259558
A9: Pasūtītājs: AS "Sadales tīkls"
A10: Pretendents: | L10: ="Tāmes izmaksas bez PVN: "&P195 -> Tāmes izmaksas bez PVN: 0
L11: ="Tāme sastādīta "&TEXT(TODAY(), "yyyy. ")& "gada " & DAY(TODAY()) & "." &CHOOSE(MONTH(TODAY()), "janvārī", "februārī", "martā", "aprīlī", "maijā", "jūnijā", "jūlijā", "augustā", "septembrī", "oktobrī", "nevembrī", "decembrī") -> Tāme sastādīta 2024. gada 30.augustā
C12: Tāme sastādīta 2024. gada tirgus cenās, pamatojoties uz projektēšanas uzdevumu.
A14: Nr.p.k. | B14: Kods* | C14: Būvdarbu nosaukums | D14: Mērvienība | E14: Daudzums | F14: Vienības izmaksas | L14: Kopā uz visu apjomu
F15: laika norma (c/h ) | G15: darba samaksas likme (euro/h) | H15: darba alga | I15: būvizstrādājumi | J15: mehānismi | K15: kopā | L15: darbietilpība (c/h) | M15: darba alga | N15: būvizstrādājumi | O15: mehānismi | P15: summa | Q15: MAN* | R15: Piedāvātie materiāli
A16: 1 | B16: 22-00000 | C16: Citi darbi. Darbu izmaksas
A17: 1.1 | B17: 19301 | C17: EPL vai sarkanās līnijas nospraušana | D17: km | E17: 0.317 | H17: =ROUND(F17*G17,2) -> 0 | K17: =SUM(H17:J17) -> 0 | L17: =ROUND(E17*F17,2) -> 0 | M17: =ROUND(E17*H17,2) -> 0 | N17: =ROUND(E17*I17,2) -> 0 | O17: =ROUND(J17*E17,2) -> 0 | P17: =SUM(M17:O17) -> 0
A18: 1.2 | B18: 19304 | C18: EPL digitālā uzmērīšana | D18: km | E18: 0.87 | H18: =ROUND(F18*G18,2) -> 0 | K18: =SUM(H18:J18) -> 0 | L18: =ROUND(E18*F18,2) -> 0 | M18: =ROUND(E18*H18,2) -> 0 | N18: =ROUND(E18*I18,2) -> 0 | O18: =ROUND(J18*E18,2) -> 0 | P18: =SUM(M18:O18) -> 0
A19: 1.3 | B19: 19307 | C19: Transporta un gājēju kustības organizēšana | D19: objekts | E19: 1 | H19: =ROUND(F19*G19,2) -> 0 | K19: =SUM(H19:J19) -> 0 | L19: =ROUND(E19*F19,2) -> 0 | M19: =ROUND(E19*H19,2) -> 0 | N19: =ROUND(E19*I19,2) -> 0 | O19: =ROUND(J19*E19,2) -> 0 | P19: =SUM(M19:O19) -> 0
A20: 1.4 | B20: 19309 | C20: Demontējamās elektrolīnijas uzmērīšana | D20: objekts | E20: 1 | H20: =ROUND(F20*G20,2) -> 0 | K20: =SUM(H20:J20) -> 0 | L20: =ROUND(E20*F20,2) -> 0 | M20: =ROUND(E20*H20,2) -> 0 | N20: =ROUND(E20*I20,2) -> 0 | O20: =ROUND(J20*E20,2) -> 0 | P20: =SUM(M20:O20) -> 0
A21: 1.5 | B21: 19404 | C21: Rakšanas atļaujas saņemšana | D21: objekts | E21: 1 | H21: =ROUND(F21*G21,2) -> 0 | K21: =SUM(H21:J21) -> 0 | L21: =ROUND(E21*F21,2) -> 0 | M21: =ROUND(E21*H21,2) -> 0 | N21: =ROUND(E21*I21,2) -> 0 | O21: =ROUND(J21*E21,2) -> 0 | P21: =SUM(M21:O21) -> 0
A22: Tiešās izmaksas kopā, t. sk. darba devēja sociālais nodoklis (23,59%): (%): | L22: =SUM(L17:L21) -> 0 | M22: =SUM(M17:M21) -> 0 | N22: =SUM(N17:N21) -> 0 | O22: =SUM(O17:O21) -> 0 | P22: =SUM(P17:P21) -> 0
K23: KOPĀ | P23: =SUM(P22*1) -> 0
A24: Nr.p.k. | B24: Kods* | C24: Būvdarbu nosaukums | D24: Mērvienība | E24: Daudzums | F24: Vienības izmaksas | L24: Kopā uz visu apjomu
F25: laika norma (c/h ) | G25: darba samaksas likme (euro/h) | H25: darba alga | I25: būvizstrādājumi | J25: mehānismi | K25: kopā | L25: darbietilpība (c/h) | M25: darba alga | N25: būvizstrādājumi | O25: mehānismi | P25: summa | Q25: MAN* | R25: Piedāvātie materiāli
A26: 2 | B26: 22-00000 | C26: Pirmsuzskaites ZS KL (zemsprieguma kabeļu līniju) izbūve, t. sk. digitālā nospraušana un uzmērīšana agrāk ieproj. (TN Nr.104047228). Darbu izmaksas
A27: 2.1 | B27: 11115 | C27: Tranšejas rakšana un aizbēršana viena līdz divu kabeļu (caurules) gūldīšanai 0.7m dziļumā ar rokām | D27: m | E27: 9 | H27: =ROUND(F27*G27,2) -> 0 | K27: =SUM(H27:J27) -> 0 | L27: =ROUND(E27*F27,2) -> 0 | M27: =ROUND(E27*H27,2) -> 0 | N27: =ROUND(E27*I27,2) -> 0 | O27: =ROUND(J27*E27,2) -> 0 | P27: =SUM(M27:O27) -> 0
A28: 2.2 | B28: 11201 | C28: Kabeļu aizsargcaurules d=līdz 110 mm ieguldīšana gatavā tranšejā | D28: m | E28: 5 | H28: =ROUND(F28*G28,2) -> 0 | K28: =SUM(H28:J28) -> 0 | L28: =ROUND(E28*F28,2) -> 0 | M28: =ROUND(E28*H28,2) -> 0 | N28: =ROUND(E28*I28,2) -> 0 | O28: =ROUND(J28*E28,2) -> 0 | P28: =SUM(M28:O28) -> 0
A29: 2.3 | B29: 11607 | C29: Teritorijas labiekārtošana | D29: m2 | E29: 11 | H29: =ROUND(F29*G29,2) -> 0 | K29: =SUM(H29:J29) -> 0 | L29: =ROUND(E29*F29,2) -> 0 | M29: =ROUND(E29*H29,2) -> 0 | N29: =ROUND(E29*I29,2) -> 0 | O29: =ROUND(J29*E29,2) -> 0 | P29: =SUM(M29:O29) -> 0
A30: 2.4 | B30: 12102 | C30: ZS kabeļa no 50 līdz 150 mm2 ieguldīšana gatavā tranšejā | D30: m | E30: 2 | H30: =ROUND(F30*G30,2) -> 0 | K30: =SUM(H30:J30) -> 0 | L30: =ROUND(E30*F30,2) -> 0 | M30: =ROUND(E30*H30,2) -> 0 | N30: =ROUND(E30*I30,2) -> 0 | O30: =ROUND(J30*E30,2) -> 0 | P30: =SUM(M30:O30) -> 0
A31: 2.5 | B31: 12105 | C31: ZS kabeļa no 50 līdz 150 mm2 ievēršana caurulē | D31: m | E31: 7 | H31: =ROUND(F31*G31,2) -> 0 | K31: =SUM(H31:J31) -> 0 | L31: =ROUND(E31*F31,2) -> 0 | M31: =ROUND(E31*H31,2) -> 0 | N31: =ROUND(E31*I31,2) -> 0 | O31: =ROUND(J31*E31,2) -> 0 | P31: =SUM(M31:O31) -> 0
A32: 2.6 | B32: 12202 | C32: ZS plastmasas izolācijas kabeļa no 50 līdz 150 mm2 gala apdare | D32: gab | E32: 1 | H32: =ROUND(F32*G32,2) -> 0 | K32: =SUM(H32:J32) -> 0 | L32: =ROUND(E32*F32,2) -> 0 | M32: =ROUND(E32*H32,2) -> 0 | N32: =ROUND(E32*I32,2) -> 0 | O32: =ROUND(J32*E32,2) -> 0 | P32: =SUM(M32:O32) -> 0
B33: 22-00000 | C33: Pirmsuzskaites ZS KL (zemsprieguma kabeļu līniju) izbūve, t. sk. digitālā nospraušana un uzmērīšana agrāk ieproj. (TN Nr.104047228). Materiālu izmaksas
A34: 2.7 | B34: 0909.011 | C34: Gala apdare 1kV, četrdzīslu kabelim | D34: kom | E34: 1 | H34: =ROUND(F34*G34,2) -> 0 | K34: =SUM(H34:J34) -> 0 | L34: =ROUND(E34*F34,2) -> 0 | M34: =ROUND(E34*H34,2) -> 0 | N34: =ROUND(E34*I34,2) -> 0 | O34: =ROUND(J34*E34,2) -> 0 | P34: =SUM(M34:O34) -> 0
A35: 2.8 | B35: 0927.104 | C35: Caurule, gofrēta 450N, d=110 | D35: m | E35: 5 | H35: =ROUND(F35*G35,2) -> 0 | K35: =SUM(H35:J35) -> 0 | L35: =ROUND(E35*F35,2) -> 0 | M35: =ROUND(E35*H35,2) -> 0 | N35: =ROUND(E35*I35,2) -> 0 | O35: =ROUND(J35*E35,2) -> 0 | P35: =SUM(M35:O35) -> 0 | Q35: MAN
A36: 2.9 | B36: 3012.307 | C36: Drošinātājs NH2, gL/gG, 80A | D36: gab | E36: 3 | H36: =ROUND(F36*G36,2) -> 0 | K36: =SUM(H36:J36) -> 0 | L36: =ROUND(E36*F36,2) -> 0 | M36: =ROUND(E36*H36,2) -> 0 | N36: =ROUND(E36*I36,2) -> 0 | O36: =ROUND(J36*E36,2) -> 0 | P36: =SUM(M36:O36) -> 0
A37: Tiešās izmaksas kopā, t. sk. darba devēja sociālais nodoklis (23,59%): (%): | L37: =SUM(L27:L36) -> 0 | M37: =SUM(M27:M36) -> 0 | N37: =SUM(N27:N36) -> 0 | O37: =SUM(O27:O36) -> 0 | P37: =SUM(P27:P36) -> 0
K38: KOPĀ | P38: =SUM(P37*1) -> 0
A39: Nr.p.k. | B39: Kods* | C39: Būvdarbu nosaukums | D39: Mērvienība | E39: Daudzums | F39: Vienības izmaksas | L39: Kopā uz visu apjomu
F40: laika norma (c/h ) | G40: darba samaksas likme (euro/h) | H40: darba alga | I40: būvizstrādājumi | J40: mehānismi | K40: kopā | L40: darbietilpība (c/h) | M40: darba alga | N40: būvizstrādājumi | O40: mehānismi | P40: summa | Q40: MAN* | R40: Piedāvātie materiāli
A41: 3 | B41: 22-00000 | C41: Pirmsuzskaites ZS KL (zemsprieguma kabeļu līniju) izbūve, t. sk. digitālā nospraušana un uzmērīšana. Darbu izmaksas
A42: 3.1 | B42: 11102 | C42: Tranšeja - bedre kabeļa vai citu apakšzemes komunikāciju apsekošanai (šurfēšana) | D42: gab | E42: 3 | H42: =ROUND(F42*G42,2) -> 0 | K42: =SUM(H42:J42) -> 0 | L42: =ROUND(E42*F42,2) -> 0 | M42: =ROUND(E42*H42,2) -> 0 | N42: =ROUND(E42*I42,2) -> 0 | O42: =ROUND(J42*E42,2) -> 0 | P42: =SUM(M42:O42) -> 0
...
