Workbook

Sheet Būvniecības koptāme
A2: APSTIPRINU
A4: (pasūtītāja paraksts un ta atšifrējums)
C7: =TEXT(TODAY(), "yyyy. ")& "gada " & DAY(TODAY()) & "." &CHOOSE(MONTH(TODAY()), "janvārī", "februārī", "martā", "aprīlī", "maijā", "jūnijā", "jūlijā", "augustā", "septembrī", "oktobrī", "nevembrī", "decembrī") -> 2024. gada 30.augustā
A9: Būvniecības koptāme
A11: ='Lokālā tāme'!A5 -> Objekta nosaukums: "20kV EPL B591, B561 un B5980 pārbūve, T25950 20/0.4kV tīkla pārbūve, Ādažu pagasts, Ādažu novads", IO-259558
A12: ='Lokālā tāme'!A6 -> Būves nosaukums: Maģistrālās elektropārvades un elektrosadales līnijas
A13: ='Lokālā tāme'!A7 -> Objekta adrese: Upmalas 7. līnija 13, Kadaga, Ādažu pag., Ādažu nov., LV-2103
A14: ='Lokālā tāme'!A8 -> Pasūtījuma Nr.: IO-259558
A15: ='Lokālā tāme'!A9 -> Pasūtītājs: AS "Sadales tīkls"
A16: ='Lokālā tāme'!A10 -> Pretendents:
A18: Nr.p.k. | B18: Objekta nosaukums | C18: Objekta izmaksas (euro)
A19: 1 | B19: "20kV EPL B591, B561 un B5980 pārbūve, T25950 20/0.4kV tīkla pārbūve, Ādažu pagasts, Ādažu novads", IO-259558 | C19: ='Kopsavilkuma aprēķins'!E23 -> 0
B21: Kopā | C21: =SUM(C19:C19) -> 0
A22: * PVN (21%) | C22: -
B23: Pavisam kopā | C23: =C21 -> 0
A24: * PVN apmaksa atbilstoši Pievienotās vērtības nodokļu likumam 142.panta 6.daļas nosacījumiem "nodokļu atgrieztā maksāšana"
A26: Sastādīja:
A27: Sert.Nr.
A29: ='Lokālā tāme'!L11 -> Tāme sastādīta 2024. gada 30.augustā
A32: ŠIS DOKUMENTS IR ELEKTRONISKI PARAKSTĪTS AR DROŠU ELEKTRONISKO PARAKSTU UN SATUR LAIKA ZĪMOGU

Sheet Kopsavilkuma aprēķins
A1: Kopsavilkuma aprēķins Nr. 1
A2: ""20kV EPL B591, B561 un B5980 pārbūve, T25950 20/0.4kV tīkla pārbūve, Ādažu pagasts, Ādažu novads", IO-259558"
A3: (būvdarbu veids vai konstruktīvā elementa nosaukums)
A5: ='Lokālā tāme'!A5 -> Objekta nosaukums: "20kV EPL B591, B561 un B5980 pārbūve, T25950 20/0.4kV tīkla pārbūve, Ādažu pagasts, Ādažu novads", IO-259558
A6: ='Lokālā tāme'!A6 -> Būves nosaukums: Maģistrālās elektropārvades un elektrosadales līnijas
A7: ='Lokālā tāme'!A7 -> Objekta adrese: Upmalas 7. līnija 13, Kadaga, Ādažu pag., Ādažu nov., LV-2103
A8: ='Lokālā tāme'!A8 -> Pasūtījuma Nr.: IO-259558
A9: ='Lokālā tāme'!A9 -> Pasūtītājs: AS "Sadales tīkls"
A10: ='Lokālā tāme'!A10 -> Pretendents:
C13: Par kopējo summu (euro) | D13: =E23 -> 0
C14: Kopējā darbietilpība (c/h) | D14: =I19 -> 0
A16: Nr. p.k. | B16: Kods, tāmes Nr. | C16: Darba veids vai konstruktīvā elementa nosaukums | E16: Tāmes izmaksas (EUR) | F16: Tai skaitā: | I16: Darbietilpība (c/h)
F17: darba alga (EUR) | G17: būvizstrādājumi (EUR) | H17: mehānismi (EUR)
A18: 1 | B18: 1 | C18: "20kV EPL B591, B561 un B5980 pārbūve, T25950 20/0.4kV tīkla pārbūve, Ādažu pagasts, Ādažu novads", IO-259558 | E18: ='Lokālā tāme'!P195 -> 0 | F18: ='Lokālā tāme'!M195 -> 0 | G18: ='Lokālā tāme'!N195 -> 0 | H18: ='Lokālā tāme'!O195 -> 0 | I18: ='Lokālā tāme'!L195 -> 0
A19: Kopā | E19: =E18 -> 0 | F19: =F18 -> 0 | G19: =G18 -> 0 | H19: =H18 -> 0 | I19: =I18 -> 0
A20: Virsizdevumi | D20: 0 | E20: =ROUND(E19*D20,2) -> 0
A21: t.sk.darba aizsardzība | D21: 0 | E21: =ROUND(E20*D21,2) -> 0
A22: Peļņa | D22: 0 | E22: =ROUND(E19*D22,2) -> 0
A23: Pavisam kopā | E23: =E22+E20+E19 -> 0
A25: Sastādīja: | B25: _______________________________
A26: Sert.Nr. | B26: _______________________________
A28: ="Tāmes izmaksas bez PVN: "&E23 -> Tāmes izmaksas bez PVN: 0
A31: Pārbaudīja: | B31: _______________________________
A32: Sert.Nr. | B32: _______________________________
A34: ='Lokālā tāme'!L11 -> Tāme sastādīta 2024. gada 30.augustā
A37: ŠIS DOKUMENTS IR ELEKTRONISKI PARAKSTĪTS AR DROŠU ELEKTRONISKO PARAKSTU UN SATUR LAIKA ZĪMOGU

Sheet Lokālā tāme
A2: Lokālā tāme Nr. 1
A3: "20kV EPL B591, B561 un B5980 pārbūve, T25950 20/0.4kV tīkla pārbūve, Ādažu pagasts, Ādažu novads", IO-259558
A4: (būvdarbu veids vai konstruktīvā elementa nosaukums)
A5: Objekta nosaukums: "20kV EPL B591, B561 un B5980 pārbūve, T25950 20/0.4kV tīkla pārbūve, Ādažu pagasts, Ādažu novads", IO-259558
A6: Būves nosaukums: Maģistrālās elektropārvades un elektrosadales līnijas
A7: Objekta adrese: Upmalas 7. līnija 13, Kadaga, Ādažu pag., Ādažu nov., LV-2103
A8: Pasūtījuma Nr.: IO-259558
A9: Pasūtītājs: AS "Sadales tīkls"
A10: Pretendents: | L10: ="Tāmes izmaksas bez PVN: "&P195 -> Tāmes izmaksas bez PVN: 0
L11: ="Tāme sastādīta "&TEXT(TODAY(), "yyyy. ")& "gada " & DAY(TODAY()) & "." &CHOOSE(MONTH(TODAY()), "janvārī", "februārī", "martā", "aprīlī", "maijā", "jūnijā", "jūlijā", "augustā", "septembrī", "oktobrī", "nevembrī", "decembrī") -> Tāme sastādīta 2024. gada 30.augustā
C12: Tāme sastādīta 2024. gada tirgus cenās, pamatojoties uz projektēšanas uzdevumu.
A14: Nr.p.k. | B14: Kods* | C14: Būvdarbu nosaukums | D14: Mērvienība | E14: Daudzums | F14: Vienības izmaksas | L14: Kopā uz visu apjomu
F15: laika norma (c/h ) | G15: darba samaksas likme (euro/h) | H15: darba alga | I15: būvizstrādājumi | J15: mehānismi | K15: kopā | L15: darbietilpība (c/h) | M15: darba alga | N15: būvizstrādājumi | O15: mehānismi | P15: summa | Q15: MAN* | R15: Piedāvātie materiāli
A16: 1 | B16: 22-00000 | C16: Citi darbi. Darbu izmaksas
A17: 1.1 | B17: 19301 | C17: EPL vai sarkanās līnijas nospraušana | D17: km | E17: 0.317 | H17: =ROUND(F17*G17,2) -> 0 | K17: =SUM(H17:J17) -> 0 | L17: =ROUND(E17*F17,2) -> 0 | M17: =ROUND(E17*H17,2) -> 0 | N17: =ROUND(E17*I17,2) -> 0 | O17: =ROUND(J17*E17,2) -> 0 | P17: =SUM(M17:O17) -> 0
A18: 1.2 | B18: 19304 | C18: EPL digitālā uzmērīšana | D18: km | E18: 0.87 | H18: =ROUND(F18*G18,2) -> 0 | K18: =SUM(H18:J18) -> 0 | L18: =ROUND(E18*F18,2) -> 0 | M18: =ROUND(E18*H18,2) -> 0 | N18: =ROUND(E18*I18,2) -> 0 | O18: =ROUND(J18*E18,2) -> 0 | P18: =SUM(M18:O18) -> 0
A19: 1.3 | B19: 19307 | C19: Transporta un gājēju kustības organizēšana | D19: objekts | E19: 1 | H19: =ROUND(F19*G19,2) -> 0 | K19: =SUM(H19:J19) -> 0 | L19: =ROUND(E19*F19,2) -> 0 | M19: =ROUND(E19*H19,2) -> 0 | N19: =ROUND(E19*I19,2) -> 0 | O19: =ROUND(J19*E19,2) -> 0 | P19: =SUM(M19:O19) -> 0
A20: 1.4 | B20: 19309 | C20: Demontējamās elektrolīnijas uzmērīšana | D20: objekts | E20: 1 | H20: =ROUND(F20*G20,2) -> 0 | K20: =SUM(H20:J20) -> 0 | L20: =ROUND(E20*F20,2) -> 0 | M20: =ROUND(E20*H20,2) -> 0 | N20: =ROUND(E20*I20,2) -> 0 | O20: =ROUND(J20*E20,2) -> 0 | P20: =SUM(M20:O20) -> 0
A21: 1.5 | B21: 19404 | C21: Rakšanas atļaujas saņemšana | D21: objekts | E21: 1 | H21: =ROUND(F21*G21,2) -> 0 | K21: =SUM(H21:J21) -> 0 | L21: =ROUND(E21*F21,2) -> 0 | M21: =ROUND(E21*H21,2) -> 0 | N21: =ROUND(E21*I21,2) -> 0 | O21: =ROUND(J21*E21,2) -> 0 | P21: =SUM(M21:O21) -> 0
A22: Tiešās izmaksas kopā, t. sk. darba devēja sociālais nodoklis (23,59%): (%): | L22: =SUM(L17:L21) -> 0 | M22: =SUM(M17:M21) -> 0 | N22: =SUM(N17:N21) -> 0 | O22: =SUM(O17:O21) -> 0 | P22: =SUM(P17:P21) -> 0
K23: KOPĀ | P23: =SUM(P22*1) -> 0
A24: Nr.p.k. | B24: Kods* | C24: Būvdarbu nosaukums | D24: Mērvienība | E24: Daudzums | F24: Vienības izmaksas | L24: Kopā uz visu apjomu
F25: laika norma (c/h ) | G25: darba samaksas likme (euro/h) | H25: darba alga | I25: būvizstrādājumi | J25: mehānismi | K25: kopā | L25: darbietilpība (c/h) | M25: darba alga | N25: būvizstrādājumi | O25: mehānismi | P25: summa | Q25: MAN* | R25: Piedāvātie materiāli
A26: 2 | B26: 22-00000 | C26: Pirmsuzskaites ZS KL (zemsprieguma kabeļu līniju) izbūve, t. sk. digitālā nospraušana un uzmērīšana agrāk ieproj. (TN Nr.104047228). Darbu izmaksas
A27: 2.1 | B27: 11115 | C27: Tranšejas rakšana un aizbēršana viena līdz divu kabeļu (caurules) gūldīšanai 0.7m dziļumā ar rokām | D27: m | E27: 9 | H27: =ROUND(F27*G27,2) -> 0 | K27: =SUM(H27:J27) -> 0 | L27: =ROUND(E27*F27,2) -> 0 | M27: =ROUND(E27*H27,2) -> 0 | N27: =ROUND(E27*I27,2) -> 0 | O27: =ROUND(J27*E27,2) -> 0 | P27: =SUM(M27:O27) -> 0
A28: 2.2 | B28: 11201 | C28: Kabeļu aizsargcaurules d=līdz 110 mm ieguldīšana gatavā tranšejā | D28: m | E28: 5 | H28: =ROUND(F28*G28,2) -> 0 | K28: =SUM(H28:J28) -> 0 | L28: =ROUND(E28*F28,2) -> 0 | M28: =ROUND(E28*H28,2) -> 0 | N28: =ROUND(E28*I28,2) -> 0 | O28: =ROUND(J28*E28,2) -> 0 | P28: =SUM(M28:O28) -> 0
A29: 2.3 | B29: 11607 | C29: Teritorijas labiekārtošana | D29: m2 | E29: 11 | H29: =ROUND(F29*G29,2) -> 0 | K29: =SUM(H29:J29) -> 0 | L29: =ROUND(E29*F29,2) -> 0 | M29: =ROUND(E29*H29,2) -> 0 | N29: =ROUND(E29*I29,2) -> 0 | O29: =ROUND(J29*E29,2) -> 0 | P29: =SUM(M29:O29) -> 0
A30: 2.4 | B30: 12102 | C30: ZS kabeļa no 50 līdz 150 mm2 ieguldīšana gatavā tranšejā | D30: m | E30: 2 | H30: =ROUND(F30*G30,2) -> 0 | K30: =SUM(H30:J30) -> 0 | L30: =ROUND(E30*F30,2) -> 0 | M30: =ROUND(E30*H30,2) -> 0 | N30: =ROUND(E30*I30,2) -> 0 | O30: =ROUND(J30*E30,2) -> 0 | P30: =SUM(M30:O30) -> 0
A31: 2.5 | B31: 12105 | C31: ZS kabeļa no 50 līdz 150 mm2 ievēršana caurulē | D31: m | E31: 7 | H31: =ROUND(F31*G31,2) -> 0 | K31: =SUM(H31:J31) -> 0 | L31: =ROUND(E31*F31,2) -> 0 | M31: =ROUND(E31*H31,2) -> 0 | N31: =ROUND(E31*I31,2) -> 0 | O31: =ROUND(J31*E31,2) -> 0 | P31: =SUM(M31:O31) -> 0
A32: 2.6 | B32: 12202 | C32: ZS plastmasas izolācijas kabeļa no 50 līdz 150 mm2 gala apdare | D32: gab | E32: 1 | H32: =ROUND(F32*G32,2) -> 0 | K32: =SUM(H32:J32) -> 0 | L32: =ROUND(E32*F32,2) -> 0 | M32: =ROUND(E32*H32,2) -> 0 | N32: =ROUND(E32*I32,2) -> 0 | O32: =ROUND(J32*E32,2) -> 0 | P32: =SUM(M32:O32) -> 0
B33: 22-00000 | C33: Pirmsuzskaites ZS KL (zemsprieguma kabeļu līniju) izbūve, t. sk. digitālā nospraušana un uzmērīšana agrāk ieproj. (TN Nr.104047228). Materiālu izmaksas
A34: 2.7 | B34: 0909.011 | C34: Gala apdare 1kV, četrdzīslu kabelim | D34: kom | E34: 1 | H34: =ROUND(F34*G34,2) -> 0 | K34: =SUM(H34:J34) -> 0 | L34: =ROUND(E34*F34,2) -> 0 | M34: =ROUND(E34*H34,2) -> 0 | N34: =ROUND(E34*I34,2) -> 0 | O34: =ROUND(J34*E34,2) -> 0 | P34: =SUM(M34:O34) -> 0
A35: 2.8 | B35: 0927.104 | C35: Caurule, gofrēta 450N, d=110 | D35: m | E35: 5 | H35: =ROUND(F35*G35,2) -> 0 | K35: =SUM(H35:J35) -> 0 | L35: =ROUND(E35*F35,2) -> 0 | M35: =ROUND(E35*H35,2) -> 0 | N35: =ROUND(E35*I35,2) -> 0 | O35: =ROUND(J35*E35,2) -> 0 | P35: =SUM(M35:O35) -> 0 | Q35: MAN
A36: 2.9 | B36: 3012.307 | C36: Drošinātājs NH2, gL/gG, 80A | D36: gab | E36: 3 | H36: =ROUND(F36*G36,2) -> 0 | K36: =SUM(H36:J36) -> 0 | L36: =ROUND(E36*F36,2) -> 0 | M36: =ROUND(E36*H36,2) -> 0 | N36: =ROUND(E36*I36,2) -> 0 | O36: =ROUND(J36*E36,2) -> 0 | P36: =SUM(M36:O36) -> 0
A37: Tiešās izmaksas kopā, t. sk. darba devēja sociālais nodoklis (23,59%): (%): | L37: =SUM(L27:L36) -> 0 | M37: =SUM(M27:M36) -> 0 | N37: =SUM(N27:N36) -> 0 | O37: =SUM(O27:O36) -> 0 | P37: =SUM(P27:P36) -> 0
K38: KOPĀ | P38: =SUM(P37*1) -> 0
A39: Nr.p.k. | B39: Kods* | C39: Būvdarbu nosaukums | D39: Mērvienība | E39: Daudzums | F39: Vienības izmaksas | L39: Kopā uz visu apjomu
F40: laika norma (c/h ) | G40: darba samaksas likme (euro/h) | H40: darba alga | I40: būvizstrādājumi | J40: mehānismi | K40: kopā | L40: darbietilpība (c/h) | M40: darba alga | N40: būvizstrādājumi | O40: mehānismi | P40: summa | Q40: MAN* | R40: Piedāvātie materiāli
A41: 3 | B41: 22-00000 | C41: Pirmsuzskaites ZS KL (zemsprieguma kabeļu līniju) izbūve, t. sk. digitālā nospraušana un uzmērīšana. Darbu izmaksas
A42: 3.1 | B42: 11102 | C42: Tranšeja - bedre kabeļa vai citu apakšzemes komunikāciju apsekošanai (šurfēšana) | D42: gab | E42: 3 | H42: =ROUND(F42*G42,2) -> 0 | K42: =SUM(H42:J42) -> 0 | L42: =ROUND(E42*F42,2) -> 0 | M42: =ROUND(E42*H42,2) -> 0 | N42: =ROUND(E42*I42,2) -> 0 | O42: =ROUND(J42*E42,2) -> 0 | P42: =SUM(M42:O42) -> 0
A43: 3.2 | B43: 11103 | C43: Tranšeja - bedre ZS uzmavām | D43: gab | E43: 1 | H43: =ROUND(F43*G43,2) -> 0 | K43: =SUM(H43:J43) -> 0 | L43: =ROUND(E43*F43,2) -> 0 | M43: =ROUND(E43*H43,2) -> 0 | N43: =ROUND(E43*I43,2) -> 0 | O43: =ROUND(J43*E43,2) -> 0 | P43: =SUM(M43:O43) -> 0
A44: 3.3 | B44: 11111 | C44: Tranšejas rakšana un aizbēršana viena līdz divu kabeļu (caurules) gūldīšanai 1m dziļumā | D44: m | E44: 12 | H44: =ROUND(F44*G44,2) -> 0 | K44: =SUM(H44:J44) -> 0 | L44: =ROUND(E44*F44,2) -> 0 | M44: =ROUND(E44*H44,2) -> 0 | N44: =ROUND(E44*I44,2) -> 0 | O44: =ROUND(J44*E44,2) -> 0 | P44: =SUM(M44:O44) -> 0
A45: 3.4 | B45: 11112 | C45: Tranšejas rakšana un aizbēršana trīs līdz četru kabeļu (caurules) gūldīšanai 1m dziļumā | D45: m | E45: 6 | H45: =ROUND(F45*G45,2) -> 0 | K45: =SUM(H45:J45) -> 0 | L45: =ROUND(E45*F45,2) -> 0 | M45: =ROUND(E45*H45,2) -> 0 | N45: =ROUND(E45*I45,2) -> 0 | O45: =ROUND(J45*E45,2) -> 0 | P45: =SUM(M45:O45) -> 0
A46: 3.5 | B46: 11113 | C46: Tranšejas rakšana un aizbēršana piecu līdz astoņu kabeļu (caurules) gūldīšanai 1m dziļumā | D46: m | E46: 6 | H46: =ROUND(F46*G46,2) -> 0 | K46: =SUM(H46:J46) -> 0 | L46: =ROUND(E46*F46,2) -> 0 | M46: =ROUND(E46*H46,2) -> 0 | N46: =ROUND(E46*I46,2) -> 0 | O46: =ROUND(J46*E46,2) -> 0 | P46: =SUM(M46:O46) -> 0
A47: 3.6 | B47: 11115 | C47: ZS plastmasas izolācijas kabeļa līdz 35 mm2 gala apdare | D47: gab | E47: 2 | H47: =ROUND(F47*G47,2) -> 0 | K47: =SUM(H47:J47) -> 0 | L47: =ROUND(E47*F47,2) -> 0 | M47: =ROUND(E47*H47,2) -> 0 | N47: =ROUND(E47*I47,2) -> 0 | O47: =ROUND(J47*E47,2) -> 0 | P47: =SUM(M47:O47) -> 0
A48: 3.7 | B48: 11201 | C48: Kabeļu aizsargcaurules d=līdz 110 mm ieguldīšana gatavā tranšejā | D48: m | E48: 336 | H48: =ROUND(F48*G48,2) -> 0 | K48: =SUM(H48:J48) -> 0 | L48: =ROUND(E48*F48,2) -> 0 | M48: =ROUND(E48*H48,2) -> 0 | N48: =ROUND(E48*I48,2) -> 0 | O48: =ROUND(J48*E48,2) -> 0 | P48: =SUM(M48:O48) -> 0
A49: 3.8 | B49: 11405 | C49: Grants seguma brauktuves ieklāšana | D49: m2 | E49: 4 | H49: =ROUND(F49*G49,2) -> 0 | K49: =SUM(H49:J49) -> 0 | L49: =ROUND(E49*F49,2) -> 0 | M49: =ROUND(E49*H49,2) -> 0 | N49: =ROUND(E49*I49,2) -> 0 | O49: =ROUND(J49*E49,2) -> 0 | P49: =SUM(M49:O49) -> 0
A50: 3.9 | B50: 11607 | C50: Teritorijas labiekārtošana | D50: m2 | E50: 11 | H50: =ROUND(F50*G50,2) -> 0 | K50: =SUM(H50:J50) -> 0 | L50: =ROUND(E50*F50,2) -> 0 | M50: =ROUND(E50*H50,2) -> 0 | N50: =ROUND(E50*I50,2) -> 0 | O50: =ROUND(J50*E50,2) -> 0 | P50: =SUM(M50:O50) -> 0
A51: 3.10 | B51: 12102 | C51: ZS kabeļa no 50 līdz 150 mm2 ieguldīšana gatavā tranšejā | D51: m | E51: 3 | H51: =ROUND(F51*G51,2) -> 0 | K51: =SUM(H51:J51) -> 0 | L51: =ROUND(E51*F51,2) -> 0 | M51: =ROUND(E51*H51,2) -> 0 | N51: =ROUND(E51*I51,2) -> 0 | O51: =ROUND(J51*E51,2) -> 0 | P51: =SUM(M51:O51) -> 0
A52: 3.11 | B52: 12104 | C52: ZS kabeļa līdz 35 mm2 ievēršana caurulē | D52: m | E52: 53 | H52: =ROUND(F52*G52,2) -> 0 | K52: =SUM(H52:J52) -> 0 | L52: =ROUND(E52*F52,2) -> 0 | M52: =ROUND(E52*H52,2) -> 0 | N52: =ROUND(E52*I52,2) -> 0 | O52: =ROUND(J52*E52,2) -> 0 | P52: =SUM(M52:O52) -> 0
A53: 3.12 | B53: 12105 | C53: ZS kabeļa no 50 līdz 150 mm2 ievēršana caurulē | D53: m | E53: 283 | H53: =ROUND(F53*G53,2) -> 0 | K53: =SUM(H53:J53) -> 0 | L53: =ROUND(E53*F53,2) -> 0 | M53: =ROUND(E53*H53,2) -> 0 | N53: =ROUND(E53*I53,2) -> 0 | O53: =ROUND(J53*E53,2) -> 0 | P53: =SUM(M53:O53) -> 0
... A57: 3.16 | B57: 12309 | C57: ZS kabeļu elektro izolējošo gala hermetisko uzgaļu-kapes montāža | D57: gab | E57: 2 | H57: =ROUND(F57*G57,2) -> 0 | K57: =SUM(H57:J57) -> 0 | L57: =ROUND(E57*F57,2) -> 0 | M57: =ROUND(E57*H57,2) -> 0 | N57: =ROUND(E57*I57,2) -> 0 | O57: =ROUND(J57*E57,2) -> 0 | P57: =SUM(M57:O57) -> 0
A58: 3.17 | B58: bez koda | C58: Tranšeja - bedre ZS kapēm | D58: gab | E58: 2 | H58: =ROUND(F58*G58,2) -> 0 | K58: =SUM(H58:J58) -> 0 | L58: =ROUND(E58*F58,2) -> 0 | M58: =ROUND(E58*H58,2) -> 0 | N58: =ROUND(E58*I58,2) -> 0 | O58: =ROUND(J58*E58,2) -> 0 | P58: =SUM(M58:O58) -> 0
A59: 3.18 | B59: bez koda | C59: Esošā SIA TET sakaru kabeļa iečaulošana, ieskaitot atrakšanu | D59: m | E59: 2 | H59: =ROUND(F59*G59,2) -> 0 | K59: =SUM(H59:J59) -> 0 | L59: =ROUND(E59*F59,2) -> 0 | M59: =ROUND(E59*H59,2) -> 0 | N59: =ROUND(E59*I59,2) -> 0 | O59: =ROUND(J59*E59,2) -> 0 | P59: =SUM(M59:O59) -> 0
A60: 3.19 | B60: bez koda | C60: Tranzītspailes montāža (uzstādīšanai sadalnē) | D60: gab | E60: 4 | H60: =ROUND(F60*G60,2) -> 0 | K60: =SUM(H60:J60) -> 0 | L60: =ROUND(E60*F60,2) -> 0 | M60: =ROUND(E60*H60,2) -> 0 | N60: =ROUND(E60*I60,2) -> 0 | O60: =ROUND(J60*E60,2) -> 0 | P60: =SUM(M60:O60) -> 0
B61: 22-00000 | C61: Pirmsuzskaites ZS KL (zemsprieguma kabeļu līniju) izbūve, t. sk. digitālā nospraušana un uzmērīšana. Materiālu izmaksas
A62: 3.20 | B62: 0109.005 | C62: Distances nagla zs kabeļa (d=12-45mm) montāžai uz koka balstiem | D62: gab | E62: 24 | H62: =ROUND(F62*G62,2) -> 0 | K62: =SUM(H62:J62) -> 0 | L62: =ROUND(E62*F62,2) -> 0 | M62: =ROUND(E62*H62,2) -> 0 | N62: =ROUND(E62*I62,2) -> 0 | O62: =ROUND(J62*E62,2) -> 0 | P62: =SUM(M62:O62) -> 0
A63: 3.21 | B63: 0803.002 | C63: Kabelis 1kV četrdzīslu Al 4x150 | D63: m | E63: 59 | H63: =ROUND(F63*G63,2) -> 0 | K63: =SUM(H63:J63) -> 0 | L63: =ROUND(E63*F63,2) -> 0 | M63: =ROUND(E63*H63,2) -> 0 | N63: =ROUND(E63*I63,2) -> 0 | O63: =ROUND(J63*E63,2) -> 0 | P63: =SUM(M63:O63) -> 0 | Q63: MAN
A64: 3.22 | B64: 0803.004 | C64: Kabelis 1kV četrdzīslu Al 4x70 | D64: m | E64: 282 | H64: =ROUND(F64*G64,2) -> 0 | K64: =SUM(H64:J64) -> 0 | L64: =ROUND(E64*F64,2) -> 0 | M64: =ROUND(E64*H64,2) -> 0 | N64: =ROUND(E64*I64,2) -> 0 | O64: =ROUND(J64*E64,2) -> 0 | P64: =SUM(M64:O64) -> 0 | Q64: MAN
A65: 3.23 | B65: 0803.005 | C65: Kabelis 1kV četrdzīslu Al 4x35 | D65: m | E65: 60 | H65: =ROUND(F65*G65,2) -> 0 | K65: =SUM(H65:J65) -> 0 | L65: =ROUND(E65*F65,2) -> 0 | M65: =ROUND(E65*H65,2) -> 0 | N65: =ROUND(E65*I65,2) -> 0 | O65: =ROUND(J65*E65,2) -> 0 | P65: =SUM(M65:O65) -> 0 | Q65: MAN
A66: 3.24 | B66: 0909.011 | C66: Gala apdare 1kV, četrdzīslu kabelim [150] | D66: kom | E66: 1 | H66: =ROUND(F66*G66,2) -> 0 | K66: =SUM(H66:J66) -> 0 | L66: =ROUND(E66*F66,2) -> 0 | M66: =ROUND(E66*H66,2) -> 0 | N66: =ROUND(E66*I66,2) -> 0 | O66: =ROUND(J66*E66,2) -> 0 | P66: =SUM(M66:O66) -> 0
A67: 3.25 | B67: 0909.011 | C67: Gala apdare 1kV, četrdzīslu kabelim [70] | D67: kom | E67: 8 | H67: =ROUND(F67*G67,2) -> 0 | K67: =SUM(H67:J67) -> 0 | L67: =ROUND(E67*F67,2) -> 0 | M67: =ROUND(E67*H67,2) -> 0 | N67: =ROUND(E67*I67,2) -> 0 | O67: =ROUND(J67*E67,2) -> 0 | P67: =SUM(M67:O67) -> 0
A68: 3.26 | B68: 0909.011 | C68: Gala apdare 1kV, četrdzīslu kabelim [35] | D68: kom | E68: 2 | H68: =ROUND(F68*G68,2) -> 0 | K68: =SUM(H68:J68) -> 0 | L68: =ROUND(E68*F68,2) -> 0 | M68: =ROUND(E68*H68,2) -> 0 | N68: =ROUND(E68*I68,2) -> 0 | O68: =ROUND(J68*E68,2) -> 0 | P68: =SUM(M68:O68) -> 0
A69: 3.27 | B69: 0911.007 | C69: Kape kabeļgalu hermetizēšanai | D69: gab | E69: 2 | H69: =ROUND(F69*G69,2) -> 0 | K69: =SUM(H69:J69) -> 0 | L69: =ROUND(E69*F69,2) -> 0 | M69: =ROUND(E69*H69,2) -> 0 | N69: =ROUND(E69*I69,2) -> 0 | O69: =ROUND(J69*E69,2) -> 0 | P69: =SUM(M69:O69) -> 0
A70: 3.28 | B70: 0914.100 | C70: Aizsargs kabelim d>40mm (4x70mm2), stiprināms pie balsta | D70: gab | E70: 3 | H70: =ROUND(F70*G70,2) -> 0 | K70: =SUM(H70:J70) -> 0 | L70: =ROUND(E70*F70,2) -> 0 | M70: =ROUND(E70*H70,2) -> 0 | N70: =ROUND(E70*I70,2) -> 0 | O70: =ROUND(J70*E70,2) -> 0 | P70: =SUM(M70:O70) -> 0
A71: 3.29 | B71: 0922.011 | C71: Savienošanas uzmava 1kV četrdzīslu kabelim [150] | D71: kom | E71: 1 | H71: =ROUND(F71*G71,2) -> 0 | K71: =SUM(H71:J71) -> 0 | L71: =ROUND(E71*F71,2) -> 0 | M71: =ROUND(E71*H71,2) -> 0 | N71: =ROUND(E71*I71,2) -> 0 | O71: =ROUND(J71*E71,2) -> 0 | P71: =SUM(M71:O71) -> 0
A72: 3.30 | B72: 0927.104 | C72: Caurule, gofrēta 450N, d=110 (sadalnē) | D72: m | E72: 1 | H72: =ROUND(F72*G72,2) -> 0 | K72: =SUM(H72:J72) -> 0 | L72: =ROUND(E72*F72,2) -> 0 | M72: =ROUND(E72*H72,2) -> 0 | N72: =ROUND(E72*I72,2) -> 0 | O72: =ROUND(J72*E72,2) -> 0 | P72: =SUM(M72:O72) -> 0 | Q72: MAN
A73: 3.31 | B73: 0927.202 | C73: Caurule, gofrēta 750N, d=110 | D73: m | E73: 336 | H73: =ROUND(F73*G73,2) -> 0 | K73: =SUM(H73:J73) -> 0 | L73: =ROUND(E73*F73,2) -> 0 | M73: =ROUND(E73*H73,2) -> 0 | N73: =ROUND(E73*I73,2) -> 0 | O73: =ROUND(J73*E73,2) -> 0 | P73: =SUM(M73:O73) -> 0 | Q73: MAN
A74: 3.32 | B74: 0928.101 | C74: Caurule, dalāma 450N, d=110 (SIA TET kabeļa aizsardzībai) | D74: m | E74: 2 | H74: =ROUND(F74*G74,2) -> 0 | K74: =SUM(H74:J74) -> 0 | L74: =ROUND(E74*F74,2) -> 0 | M74: =ROUND(E74*H74,2) -> 0 | N74: =ROUND(E74*I74,2) -> 0 | O74: =ROUND(J74*E74,2) -> 0 | P74: =SUM(M74:O74) -> 0 | Q74: MAN
A75: 3.33 | B75: 1303.003 | C75: Signāllenta kabeļlīnijai | D75: m | E75: 339 | H75: =ROUND(F75*G75,2) -> 0 | K75: =SUM(H75:J75) -> 0 | L75: =ROUND(E75*F75,2) -> 0 | M75: =ROUND(E75*H75,2) -> 0 | N75: =ROUND(E75*I75,2) -> 0 | O75: =ROUND(J75*E75,2) -> 0 | P75: =SUM(M75:O75) -> 0
A76: 3.34 | B76: 2101.001 | C76: Nozarspaile AL 16-95/AL 16-95 mm2, 1-20kV | D76: gab | E76: 3 | H76: =ROUND(F76*G76,2) -> 0 | K76: =SUM(H76:J76) -> 0 | L76: =ROUND(E76*F76,2) -> 0 | M76: =ROUND(E76*H76,2) -> 0 | N76: =ROUND(E76*I76,2) -> 0 | O76: =ROUND(J76*E76,2) -> 0 | P76: =SUM(M76:O76) -> 0
A77: 3.35 | B77: 2107.005 | C77: Caurdurspaile Al 16-95 uz Al 2.5-95, Cu 1.5-70 mm2, 1kV | D77: gab | E77: 9 | H77: =ROUND(F77*G77,2) -> 0 | K77: =SUM(H77:J77) -> 0 | L77: =ROUND(E77*F77,2) -> 0 | M77: =ROUND(E77*H77,2) -> 0 | N77: =ROUND(E77*I77,2) -> 0 | O77: =ROUND(J77*E77,2) -> 0 | P77: =SUM(M77:O77) -> 0
A78: 3.36 | B78: 2113.006 | C78: Enkurspaile, piekarkabeļa neitrāle 70-95 mm2 | D78: gab | E78: 3 | H78: =ROUND(F78*G78,2) -> 0 | K78: =SUM(H78:J78) -> 0 | L78: =ROUND(E78*F78,2) -> 0 | M78: =ROUND(E78*H78,2) -> 0 | N78: =ROUND(E78*I78,2) -> 0 | O78: =ROUND(J78*E78,2) -> 0 | P78: =SUM(M78:O78) -> 0
A79: 3.37 | B79: bez koda | C79: T35 tranzītspaile (uzstādīšanai sadalnē) | D79: gab | E79: 4 | H79: =ROUND(F79*G79,2) -> 0 | K79: =SUM(H79:J79) -> 0 | L79: =ROUND(E79*F79,2) -> 0 | M79: =ROUND(E79*H79,2) -> 0 | N79: =ROUND(E79*I79,2) -> 0 | O79: =ROUND(J79*E79,2) -> 0 | P79: =SUM(M79:O79) -> 0
A80: Tiešās izmaksas kopā, t. sk. darba devēja sociālais nodoklis (23,59%): (%): | L80: =SUM(L42:L79) -> 0 | M80: =SUM(M42:M79) -> 0 | N80: =SUM(N42:N79) -> 0 | O80: =SUM(O42:O79) -> 0 | P80: =SUM(P42:P79) -> 0
K81: KOPĀ | P81: =SUM(P80*1) -> 0
A82: Nr.p.k. | B82: Kods* | C82: Būvdarbu nosaukums | D82: Mērvienība | E82: Daudzums | F82: Vienības izmaksas | L82: Kopā uz visu apjomu
F83: laika norma (c/h ) | G83: darba samaksas likme (euro/h) | H83: darba alga | I83: būvizstrādājumi | J83: mehānismi | K83: kopā | L83: darbietilpība (c/h) | M83: darba alga | N83: būvizstrādājumi | O83: mehānismi | P83: summa | Q83: MAN* | R83: Piedāvātie materiāli
A84: 4 | B84: 22-00000 | C84: Pirmsuzskaites ZS KL (zemsprieguma pirmsuzskaites kabeļu līniju) demontāžas darbi. Darbu izmaksas
A85: 4.1 | B85: 12120 | C85: ZS kabeļa demontāža | D85: m | E85: 21 | H85: =ROUND(F85*G85,2) -> 0 | K85: =SUM(H85:J85) -> 0 | L85: =ROUND(E85*F85,2) -> 0 | M85: =ROUND(E85*H85,2) -> 0 | N85: =ROUND(E85*I85,2) -> 0 | O85: =ROUND(J85*E85,2) -> 0 | P85: =SUM(M85:O85) -> 0
A86: 4.2 | B86: 12121 | C86: ZS kabeļa (visu šķērsgriezumu) demontāža no GL balsta | D86: kabelis | E86: 1 | H86: =ROUND(F86*G86,2) -> 0 | K86: =SUM(H86:J86) -> 0 | L86: =ROUND(E86*F86,2) -> 0 | M86: =ROUND(E86*H86,2) -> 0 | N86: =ROUND(E86*I86,2) -> 0 | O86: =ROUND(J86*E86,2) -> 0 | P86: =SUM(M86:O86) -> 0
A87: 4.3 | B87: bez koda | C87: Spailes demontāža | D87: gab | E87: 4 | H87: =ROUND(F87*G87,2) -> 0 | K87: =SUM(H87:J87) -> 0 | L87: =ROUND(E87*F87,2) -> 0 | M87: =ROUND(E87*H87,2) -> 0 | N87: =ROUND(E87*I87,2) -> 0 | O87: =ROUND(J87*E87,2) -> 0 | P87: =SUM(M87:O87) -> 0
A88: Tiešās izmaksas kopā, t. sk. darba devēja sociālais nodoklis (23,59%): (%): | L88: =SUM(L85:L87) -> 0 | M88: =SUM(M85:M87) -> 0 | N88: =SUM(N85:N87) -> 0 | O88: =SUM(O85:O87) -> 0 | P88: =SUM(P85:P87) -> 0
K89: KOPĀ | P89: =SUM(P88*1) -> 0
A90: Nr.p.k. | B90: Kods* | C90: Būvdarbu nosaukums | D90: Mērvienība | E90: Daudzums | F90: Vienības izmaksas | L90: Kopā uz visu apjomu
F91: laika norma (c/h ) | G91: darba samaksas likme (euro/h) | H91: darba alga | I91: būvizstrādājumi | J91: mehānismi | K91: kopā | L91: darbietilpība (c/h) | M91: darba alga | N91: būvizstrādājumi | O91: mehānismi | P91: summa | Q91: MAN* | R91: Piedāvātie materiāli
A92: 5 | B92: 22-00000 | C92: Transformatora apakšstacijas demontāžas darbi. Darbu izmaksas
A93: 5.1 | B93: 17116 | C93: Brīvgaisa TP demontāža (KTPS) | D93: gab. | E93: 1 | H93: =ROUND(F93*G93,2) -> 0 | K93: =SUM(H93:J93) -> 0 | L93: =ROUND(E93*F93,2) -> 0 | M93: =ROUND(E93*H93,2) -> 0 | N93: =ROUND(E93*I93,2) -> 0 | O93: =ROUND(J93*E93,2) -> 0 | P93: =SUM(M93:O93) -> 0
A94: Tiešās izmaksas kopā, t. sk. darba devēja sociālais nodoklis (23,59%): (%): | L94: =SUM(L93) -> 0 | M94: =SUM(M93) -> 0 | N94: =SUM(N93) -> 0 | O94: =SUM(O93) -> 0 | P94: =SUM(P93) -> 0
K95: KOPĀ | P95: =SUM(P94*1) -> 0
A96: Nr.p.k. | B96: Kods* | C96: Būvdarbu nosaukums | D96: Mērvienība | E96: Daudzums | F96: Vienības izmaksas | L96: Kopā uz visu apjomu
F97: laika norma (c/h ) | G97: darba samaksas likme (euro/h) | H97: darba alga | I97: būvizstrādājumi | J97: mehānismi | K97: kopā | L97: darbietilpība (c/h) | M97: darba alga | N97: būvizstrādājumi | O97: mehānismi | P97: summa | Q97: MAN* | R97: Piedāvātie materiāli
A98: 6 | B98: 22-00000 | C98: Transformatora apakšstacijas izbūve / pārbūve, t. sk. digitālā nospraušana un uzmērīšana. Darbu izmaksas
A99: 6.1 | B99: 11101 | C99: Būvbedre pamatnes konteinera tipa sadalēm. piem. KTAb, KTAm u.c. | D99: m2 | E99: 21 | H99: =ROUND(F99*G99,2) -> 0 | K99: =SUM(H99:J99) -> 0 | L99: =ROUND(E99*F99,2) -> 0 | M99: =ROUND(E99*H99,2) -> 0 | N99: =ROUND(E99*I99,2) -> 0 | O99: =ROUND(J99*E99,2) -> 0 | P99: =SUM(M99:O99) -> 0
A100: 6.2 | B100: 11112 | C100: Tranšejas rakšana un aizbēršana trīs līdz četru kabeļu (caurules) gūldīšanai 1m dziļumā | D100: m | E100: 1 | H100: =ROUND(F100*G100,2) -> 0 | K100: =SUM(H100:J100) -> 0 | L100: =ROUND(E100*F100,2) -> 0 | M100: =ROUND(E100*H100,2) -> 0 | N100: =ROUND(E100*I100,2) -> 0 | O100: =ROUND(J100*E100,2) -> 0 | P100: =SUM(M100:O100) -> 0
A101: 6.3 | B101: 11113 | C101: Tranšejas rakšana un aizbēršana piecu līdz astoņu kabeļu (caurules) gūldīšanai 1m dziļumā | D101: m | E101: 1 | H101: =ROUND(F101*G101,2) -> 0 | K101: =SUM(H101:J101) -> 0 | L101: =ROUND(E101*F101,2) -> 0 | M101: =ROUND(E101*H101,2) -> 0 | N101: =ROUND(E101*I101,2) -> 0 | O101: =ROUND(J101*E101,2) -> 0 | P101: =SUM(M101:O101) -> 0
A102: 6.4 | B102: 11201 | C102: Kabeļu aizsargcaurules d=līdz 110 mm ieguldīšana gatavā tranšejā (z/s izvadiem) | D102: m | E102: 16 | H102: =ROUND(F102*G102,2) -> 0 | K102: =SUM(H102:J102) -> 0 | L102: =ROUND(E102*F102,2) -> 0 | M102: =ROUND(E102*H102,2) -> 0 | N102: =ROUND(E102*I102,2) -> 0 | O102: =ROUND(J102*E102,2) -> 0 | P102: =SUM(M102:O102) -> 0
A103: 6.5 | B103: 11202 | C103: Kabeļu aizsargcaurules d=125 līdz 160 mm ieguldīšana gatavā tranšejā | D103: m | E103: 6 | H103: =ROUND(F103*G103,2) -> 0 | K103: =SUM(H103:J103) -> 0 | L103: =ROUND(E103*F103,2) -> 0 | M103: =ROUND(E103*H103,2) -> 0 | N103: =ROUND(E103*I103,2) -> 0 | O103: =ROUND(J103*E103,2) -> 0 | P103: =SUM(M103:O103) -> 0
A104: 6.6 | B104: 11401 | C104: Bruģa (flizes) klājuma ieklāšana | D104: m2 | E104: 18 | H104: =ROUND(F104*G104,2) -> 0 | K104: =SUM(H104:J104) -> 0 | L104: =ROUND(E104*F104,2) -> 0 | M104: =ROUND(E104*H104,2) -> 0 | N104: =ROUND(E104*I104,2) -> 0 | O104: =ROUND(J104*E104,2) -> 0 | P104: =SUM(M104:O104) -> 0
A105: 6.7 | B105: 11473 | C105: Ietves apmaļu uzstādīšana | D105: m | E105: 21 | H105: =ROUND(F105*G105,2) -> 0 | K105: =SUM(H105:J105) -> 0 | L105: =ROUND(E105*F105,2) -> 0 | M105: =ROUND(E105*H105,2) -> 0 | N105: =ROUND(E105*I105,2) -> 0 | O105: =ROUND(J105*E105,2) -> 0 | P105: =SUM(M105:O105) -> 0
...
