Workbook

Sheet Būvn. Koptāme
C2: APSTIPRINU
A4: _____________________________________________________________
A5: (pasūtītāja paraksts un tā atšifrējums)
C6: Z.v.
A8: __________.gada ______.________________
A10: Būvniecības koptāme
A13: Objekta nosaukums : Daudzdzīvokļu dzīvojamās mājas ieseguma maiņa
A14: Būves nosaukums : Daudzdzīvokļu dzīvojamās mājas ieseguma maiņa
A15: Objekta adrese : Rūpniecības iela 20/1, Madona, Madonas novads
A16: Pasūtījuma Nr. :
A19: Nr.p.k. | B19: Objekta nosaukums | C19: Objekta izmaksas (euro)
A20: 1 | B20: Daudzdzīvokļu dzīvojamās mājas ieseguma maiņa | C20: =Kopsavilkums!D20 -> 0
B21: kopā | C21: =SUM(C20) -> 0
A23: PVN (21%) | C23: =C21*21% -> 0
A26: Sastādīja _________________________________________________________
A27: (paraksts un tā atšifrējums,datums)
A29: Sertifikāta Nr._______________________
A32: Tāme sastādīta 2024. gada ___________________

Sheet Kopsavilkums
C1: Kopsavilkuma aprēķins Nr.1
A3: Vispārējie būvdarbi. Specializētie darbi.
A4: (darba veids vai konstruktīvā elementa nosaukums)
C6: Objekta nosaukums : Daudzdzīvokļu dzīvojamās mājas ieseguma maiņa
C7: Būves nosaukums : Daudzdzīvokļu dzīvojamās mājas ieseguma maiņa
C8: Objekta adrese : Rūpniecības iela 20/1, Madona, Madonas novads
C9: Pasūtījuma Nr. :
C10: Par kopējo summu, euro | D10: =D20 -> 0
C11: Kopējā darbietilpība, c/h | D11: =H16 -> 0
A13: Nr.p.k. | B13: Kods, tāmes Nr. | C13: Būvdarbu veids vai konstruktīvā elementa nosaukums | D13: Tāmes izmaksas (euro) | E13: Tai skaitā | H13: Darbietilpība (c/h)
E14: darba alga (euro) | F14: būvizstrādājumi (euro) | G14: mehānismi (euro)
A15: 1 | B15: 1 | C15: Vispārējie būvdarbi. | D15: ='LT-1 lokālā tāme'!P66 -> 0 | E15: ='LT-1 lokālā tāme'!M66 -> 0 | F15: ='LT-1 lokālā tāme'!N66 -> 0 | G15: ='LT-1 lokālā tāme'!O66 -> 0 | H15: ='LT-1 lokālā tāme'!L66 -> 0
C16: Kopā : | D16: =SUM(D15:D15) -> 0 | E16: =SUM(E15:E15) -> 0 | F16: =SUM(F15:F15) -> 0 | G16: =SUM(G15:G15) -> 0 | H16: =SUM(H15:H15) -> 0
C17: Virsizdevumi ( ___%) | D17: =ROUND(D16*0%,2) -> 0
C18: t.sk.darba aizsardzība
C19: Peļņa (____%) | D19: =ROUND(D16*0%,2) -> 0
C20: Pavisam kopā: | D20: =D19+D17+D16 -> 0
C22: Sastādīja _______________________________________________________________________________
C23: (paraksts un tā atšifrējums,datums)
C24: Tāme sastādīta 2024. gada
C27: Pārbaudīja ______________________________________________________________________________
C28: (paraksts un tā atšifrējums,datums)
C30: Sertifikāta Nr._______________________

Sheet LT-1 lokālā tāme
A2: Lokālā tāme Nr.___1____
A4: Vispārējie būvdarbi
A5: (būvdarbu veids vai konstruktīvā elementa nosaukums)
C7: Objekta nosaukums : Daudzdzīvokļu dzīvojamās mājas ieseguma maiņa
C8: Būves nosaukums : Daudzdzīvokļu dzīvojamās mājas ieseguma maiņa
C9: Objekta adrese : Rūpniecības iela 20/1, Madona, Madonas novads
C10: Pasūtījuma Nr.:
C11: Tāme sastādīta 2024.gada tirgus cenās,pamatojoties uz AR daļas rasējumiem. | K11: Tāmes izmaksas: | M11: Eur | N11: =P66 -> 0
F13: Tāme sastādīta 2024. gada
A15: Nr.p.k. | B15: Kods | C15: Būvdarbu nosaukums | D15: Mērvienība | E15: Daudzums | F15: Vienības izmaksas | L15: Kopā uz visu apjomu
F16: Laika norma (c/h) | G16: darba samaksas likme* (euro/h) | H16: darba alga | I16: būvizstrādājumi | J16: mehānismi | K16: kopā | L16: darbietilpība (c/h) | M16: darba alga | N16: būvizstrādājumi | O16: mehānismi | P16: summa
A17: 1 | B17: 2 | C17: 3 | D17: 4 | E17: 5 | F17: 6 | G17: 7 | H17: 8 | I17: 9 | J17: 10 | K17: 11 | L17: 12 | M17: 13 | N17: 14 | O17: 15 | P17: 16
A18: 1-1 | C18: BŪVLAUKUMA SAGATAVOŠANAS DARBI
A19: 1-1-1 | B19: 03-01900 | C19: Būvtāfeles izgatavošana un montāža | D19: gb. | E19: 1
A20: 1-1-2 | B20: 03-01000 | C20: Mobīlā žoga noma, montāža, demontāža | D20: m | E20: 158
A21: 1-1-3 | B21: 03-01800 | C21: Pagaidu ugunsdrošības stendu montāža | D21: gb. | E21: 1
A22: 1-1-4 | C22: Pagaidu ēkas un būves
A23: 1-1-5 | B23: 03-01800 | C23: Instrumentu un būvmateriālu novietnes modulis 1gb. | D23: kpl. | E23: 1
A24: 1-1-6 | B24: 03-01800 | C24: BIO tualetes 1 gb. | D24: kpl. | E24: 1
A25: 1-2 | C25: DEMONTĀŽAS DARBI
A26: 1-2-1 | B26: 02-00000 | C26: Azbestcementa jumta seguma demontāža, iesk. latojumu un šīfera utilizācija | D26: m² | E26: 465.25
A27: 1-2-2 | B27: 02-00000 | C27: Lietus ūdens tekņu demontāža | D27: m | E27: 77
A28: 1-2-3 | B28: 02-00000 | C28: Lietus ūdens noteku demontāža | D28: m | E28: 48
A29: 1-2-4 | B29: 02-00000 | C29: Esošo antenu noņemšana saglabājot materiālu un uzstādīšana atpakaļ | D29: kpl. | E29: 1
A30: 1-2-5 | B30: 02-00000 | C30: Bēniņu lūkas 950*850 demontāža | D30: gb | E30: 1
A31: 1-2-6 | B31: 02-00001 | C31: Bēniņu lūkas 820*880 demontāža | D31: gb | E31: 1
A32: 1-2-7 | B32: 02-00000 | C32: Ventilācijas, dūmeņu šahtu demontāža | D32: m³ | E32: 1.8
A33: 1-2-8 | B33: 02-00000 | C33: Daļēja karnīzes silikātķieģeļu demontāža | D33: m³ | E33: 0.38
A34: 1-2-9 | B34: 02-00000 | C34: Jumta lūku demontāža | D34: gb | E34: 2
A35: 1-2-10 | B35: 02-00000 | C35: Karnīzes dēļu demontāža | D35: m² | E35: 37
A36: 1-2-11 | B36: 02-00000 | C36: Bēniņu attīrīšana | D36: gb | E36: 1
A37: 1-3 | C37: JUMTS
A38: 1-3-1 | B38: 09-00000 | C38: Bojāto koka jumta konstrukciju nomaiņa, spāru pagarināšana (koka spāres 130(h)x50mm, montāža, ar antipirēnu un antiseptiķi apstrādāti C24 klases zāģmateriāli ar mitruma saturu <20 %, stiprinājumi, palīgmateriāli) | D38: m³ | E38: 1.31
A39: 1-3-2 | B39: 09-00000 | C39: Bojāto latu nomaiņa (Latojums 40(h)x50mm, demontāža un latojuma 40(h)x50mm montāža ar soli 550mm, ar antipirēnu un antiseptiķi apstrādāti zāģmateriāli, ar mitruma saturu <20 %, koksnes stiprības klase C24, stiprinājumu komplekts; palīgmateriāli) | D39: m2 | E39: 148.7
A40: 1-3-3 | B40: 09-00000 | C40: Jumta plaknes (latojuma) līmeņošana (ar antipirēnu un antiseptiķi apstrādāti zāģmateriāli, ar mitruma saturu <20 %, koksnes stiprības klase C24, stiprinājumu komplekts; palīgmateriāli) | D40: m2 | E40: 495.9
A41: 1-3-4 | B41: 09-00000 | C41: Jumta seguma montāža (bezasbesta viļņotās šķiedrcementa jumta loksnes nekrāsotas; skrūves ar blivētu galvu 6*100, palīgmateriāli) | D41: m² | E41: 495.9
A42: 1-3-5 | B42: 09-00000 | C42: Kores elementu montāža (135* universāls bezasbesta šķiedrcementa jumta kores elements nekrāsots; skrūves ar blivētu galvu 6*100, palīgmateriāli) | D42: m | E42: 38.83
A43: 1-3-6 | B43: 09-00000 | C43: Vējmalas elementu montāža (90* bezasbesta šķiedrcementa jumta vējmalas elements nekrāsots; skrūves ar blivētu galvu 6*100, palīgmateriāli) | D43: m | E43: 25.6
A44: 1-3-7 | B44: 09-07000 | C44: Jumta pārkares apšūšana ar apdares dēļiem veidojot karkasu (ēvelēti ārējās apdares dēļi 20mm; stiprinājumu komplekts) | D44: m² | E44: 63.4
A45: 1-3-8 | B45: 09-07000 | C45: Jumta pārkares apšuvuma dēļu gruntēšana un krāsošana (atmosfērnoturīga gruntskrāsa un krāsa koka virsmām-tonēta, palīgmateriāli) | D45: m² | E45: 63.4
A46: 1-3-9 | B46: 09-07000 | C46: Pieslēguma elementu vent., dūmeņu izvadiem montāža (pieslēguma elements ar polimērpārklājumu, 0,5mm, krāsotas skrūves ar blīvējumu, hermētiķi, palīgmateriāli) | D46: m | E46: 26.26
A47: 1-3-10 | B47: 09-07000 | C47: Jumta lūkas montāža ( jumta lūka d=800mm ar pieslēgumu jumta plaknei, polimērpārklājums; stiprinājumi, palīgmateriāli ) | D47: kpl. | E47: 2
A48: 1-3-11 | B48: 09-00000 | C48: Lietus ūdens tekņu 150mm montāža no iepriekš izgatavotiem cinkotiem skārda elementiem ieskaitot veidgabalus un stiprinājuma elementus (horizontālā tekne Ø150mm=77,66m; konektori ar gružu sietu 150/125=6gab; teknes gals-4gab; teknes āķis-97gab; hermētiķi, kniedes, palīgmateriāli) | D48: m | E48: 77.66
A49: 1-3-12 | B49: 09-00000 | C49: Lietus ūdens noteku 125mm montāža no iepriekš izgatavotiem cinkota skārda elementiem ieskaitot veidgabalus un stiprinājuma elementus ( vertikālās notekcaurules Ø125mm=48m; līkumi Ø125mm-12gab; caurules stiprinājums fasādei -30gab; izplūdes līkums 125mm=3gb.; hermētiķi, kniedes, palīgmateriāli) | D49: m | E49: 48
... A57: 1-3-20 | B57: 13-0000 | C57: Pacēlājs vai sastatnes | D57: obj. | E57: 1
A58: 1-4 | C58: BĒNIŅI
A59: 1-4-1 | B59: 09-07000 | C59: Bēniņu lūkas montāža (Bēniņu lūka ar iekšējiem izmēriem 850*x950*mm, siltināta alumīnija konstrukcija U≤1,6 (W/m²K), ugunsizturības robeža min. EI30, aprīkoti ar drošības amartizatoru, rokturi un drošības eņģi, slēdzama, *esošās ailes izmēri 850*x950*mm precizējami objektā; stiprinājumi, ugunsdrošas montāžas putas, palīgmateriāli) | D59: kpl. | E59: 1
A60: 1-4-2 | B60: 09-07000 | C60: Bēniņu lūkas montāža (Bēniņu lūka ar iekšējiem izmēriem 880*x820*mm, siltināta alumīnija konstrukcija U≤1,6 (W/m²K), ugunsizturības robeža min. EI30, aprīkoti ar drošības amartizatoru, rokturi un drošības eņģi, slēdzama, *esošās ailes izmēri 880*x820*mm precizējami objektā; stiprinājumi, ugunsdrošas montāžas putas, palīgmateriāli) | D60: kpl. | E60: 1
A61: 1-4-3 | B61: 09-07000 | C61: Uzstādīt metāla kāpnes no kāpņu telpas uz bēniņu lūku (pieslienamās metāla kāpnes ar iekares stiptinājumiem) | D61: kpl. | E61: 2
A62: 1-4-4 | B62: 17-00000 | C62: Ventilācijas restu motāža (ventilācija restes ar moskītu sietu 510(h)x580mm, palīgmateriāli) | D62: kpl. | E62: 2
A63: 1-5 | C63: BŪVGRUŽI
A64: 1-5-1 | B64: 02-20000 | C64: Būvgružu savākšana (nešķirotie būvgruži) | D64: m³ | E64: 19
A65: 1-5-2 | B65: 02-20000 | C65: Būvgružu utilizācija atkritumu poligonā | D65: t | E65: 8
C66: Tiešās izmaksas kopā, t.sk. darba devēja sociālais nodoklis (23,59%) | L66: =SUM(L18:L65) -> 0 | M66: =SUM(M18:M65) -> 0 | N66: =SUM(N18:N65) -> 0 | O66: =SUM(O18:O65) -> 0 | P66: =SUM(P18:P65) -> 0
C69: Sastādīja ________________________________________________________________________________________________
C70: (paraksts un tā atšifrējums,datums)
C71: Tāme sastādīta 2024. gada
C74: Pārbaudīja _______________________________________________________________________________________________
C75: (paraksts un tā atšifrējums,datums)
C77: Sertifikāta Nr._______________________
