Workbook

Sheet Kopt a
C2: APSTIPRINU
B4: (pasūtītāja paraksts un tā atsifrējums)
C6: Z.v.
B8: ____________.gada____.____________
B11: Būvniecības koptāme
B12: Attiecināmās izmaksas
A13: Būves nosaukums: | B13: Daudzīvokļu dzīvojamais mājās
A14: Objekta nosaukums: | B14: Energoefektivitātes paaugstināšana daudzdzīvokļu dzīvojamai mājai
A15: Objekta adrese: | B15: Rūpnīcas ielā 6, Rēzeknē, LV-4604
A16: Pasūtījuma Nr: | B16: TP_01.24
A18: Nr. P.k. | B18: Objekta nosaukums | C18: Objekta izmaksas (EUR)
A19: 1 | B19: Energoefektivitātes paaugstināšana daudzdzīvokļu dzīvojamai mājai | C19: ='Kops a'!E31 -> 0
B26: Kopā: | C26: =SUM(C19:C25) -> 0
A28: PVN (21%) | C28: =ROUND(C26*21%,2) -> 0
B29: Kopā ar PVN | C29: =C19+C28 -> 0
A31: Sastādīja | B31: Vasilijs Ivanovs
B32: (paraksts un tā atšifrējums, datums)
A34: Sertifikāta Nr. | B34: 4-01907
A36: Tāme sastādīta 2024. gada 26. augusta

Sheet Kops a
A2: Kopsavilkuma aprēķini pa darbu veidiem vai konstruktīvo elementu veidiem
C4: (darba veids vai konstruktīvā elementa nosaukums)
C5: Attiecināmās izmaksas
A6: Būves nosaukums: | D6: ='Kopt a'!B13 -> Daudzīvokļu dzīvojamais mājās
A7: Objekta nosaukums: | D7: ='Kopt a'!B14 -> Energoefektivitātes paaugstināšana daudzdzīvokļu dzīvojamai mājai
A8: Objekta adrese: | D8: ='Kopt a'!B15 -> Rūpnīcas ielā 6, Rēzeknē, LV-4604
A9: Pasūtījuma Nr. | D9: ='Kopt a'!B16 -> TP_01.24
C10: Par kopejo summu, EUR | D10: =E31 -> 0
C11: Kopējā darbietilpība, c/h | D11: =I30 -> 0
A13: Nr.p.k. | B13: kods; tāmes Nr: | C13: Darba veids vai konstruktīvā elementa nosaukums | E13: Tāmes izmaksas (EUR) | F13: Tai skaitā | I13: Darbietilpība (c/h)
F14: darba alga (EUR) | G14: materiāli (EUR) | H14: mehānismi (EUR)
A15: =IF(E15=0,0,IF(COUNTBLANK(E15)=1,0,COUNTA($E$15:E15))) -> 0 | B15: 1.1. | C15: ='1.1.'!C2:I2 -> Sagatavošanas darbi, demontāžas darbi (Vispārējie būvdarbi) | E15: ='1.1.'!P43 -> 0 | F15: ='1.1.'!M43 -> 0 | G15: ='1.1.'!N43 -> 0 | H15: ='1.1.'!O43 -> 0 | I15: ='1.1.'!L43 -> 0
A16: =IF(E16=0,0,IF(COUNTBLANK(E16)=1,0,COUNTA($E$15:E16))) -> 0 | B16: 1.2. | C16: ='1.2.'!C2:I2 -> Pamatu siltināšana (Vispārējie būvdarbi) | E16: ='1.2.'!P65 -> 0 | F16: ='1.2.'!M65 -> 0 | G16: ='1.2.'!N65 -> 0 | H16: ='1.2.'!O65 -> 0 | I16: ='1.2.'!L65 -> 0
A17: =IF(E17=0,0,IF(COUNTBLANK(E17)=1,0,COUNTA($E$15:E17))) -> 0 | B17: 1.3. | C17: ='1.3.'!C2:I2 -> Iekšējas sienas un starpsienas (Vispārējie būvdarbi) | E17: ='1.3.'!P36 -> 0 | F17: ='1.3.'!M36 -> 0 | G17: ='1.3.'!N36 -> 0 | H17: ='1.3.'!O36 -> 0 | I17: ='1.3.'!L36 -> 0
A18: =IF(E18=0,0,IF(COUNTBLANK(E18)=1,0,COUNTA($E$15:E18))) -> 0 | B18: 1.4. | C18: ='1.4.'!C2:I2 -> Logi un durvi (Vispārējie būvdarbi) | E18: ='1.4.'!P72 -> 0 | F18: ='1.4.'!M72 -> 0 | G18: ='1.4.'!N72 -> 0 | H18: ='1.4.'!O72 -> 0 | I18: ='1.4.'!L72 -> 0
A19: =IF(E19=0,0,IF(COUNTBLANK(E19)=1,0,COUNTA($E$15:E19))) -> 0 | B19: 1.5. | C19: ='1.5.'!C2:I2 -> Apdares darbi (Vispārējie būvdarbi) | E19: ='1.5.'!P68 -> 0 | F19: ='1.5.'!M68 -> 0 | G19: ='1.5.'!N68 -> 0 | H19: ='1.5.'!O68 -> 0 | I19: ='1.5.'!L68 -> 0
A20: =IF(E20=0,0,IF(COUNTBLANK(E20)=1,0,COUNTA($E$15:E20))) -> 0 | B20: 1.6. | C20: ='1.6.'!C2:I2 -> Grīdas (Vispārējie būvdarbi) | E20: ='1.6.'!P111 -> 0 | F20: ='1.6.'!M111 -> 0 | G20: ='1.6.'!N111 -> 0 | H20: ='1.6.'!O111 -> 0 | I20: ='1.6.'!L111 -> 0
A21: =IF(E21=0,0,IF(COUNTBLANK(E21)=1,0,COUNTA($E$15:E21))) -> 0 | B21: 1.7. | C21: ='1.7.'!C2:I2 -> Jumti segumi (Vispārējie būvdarbi) | E21: ='1.7.'!P96 -> 0 | F21: ='1.7.'!M96 -> 0 | G21: ='1.7.'!N96 -> 0 | H21: ='1.7.'!O96 -> 0 | I21: ='1.7.'!L96 -> 0
A22: =IF(E22=0,0,IF(COUNTBLANK(E22)=1,0,COUNTA($E$15:E22))) -> 0 | B22: 2. | C22: ='2'!C2:I2 -> Labiekartosana (Dažadi darbi) | E22: ='2'!P79 -> 0 | F22: ='2'!M79 -> 0 | G22: ='2'!N79 -> 0 | H22: ='2'!O79 -> 0 | I22: ='2'!L79 -> 0
A23: =IF(E23=0,0,IF(COUNTBLANK(E23)=1,0,COUNTA($E$15:E23))) -> 0 | B23: 3.1. | C23: ='3.1.'!C2:I2 -> Siltummezgla ierīkošana | E23: ='3.1.'!P87 -> 0 | F23: ='3.1.'!M87 -> 0 | G23: ='3.1.'!N87 -> 0 | H23: ='3.1.'!O87 -> 0 | I23: ='3.1.'!L87 -> 0
A24: =IF(E24=0,0,IF(COUNTBLANK(E24)=1,0,COUNTA($E$15:E24))) -> 0 | B24: 3.2. | C24: ='3.2.'!C2:I2 -> Apkures sistēmas ierīkošana | E24: ='3.2.'!P37 -> 0 | F24: ='3.2.'!M37 -> 0 | G24: ='3.2.'!N37 -> 0 | H24: ='3.2.'!O37 -> 0 | I24: ='3.2.'!L37 -> 0
A25: =IF(E25=0,0,IF(COUNTBLANK(E25)=1,0,COUNTA($E$15:E25))) -> 0 | B25: 3.2. | C25: ='3.3.'!C2:I2 -> Ventilācijas sistēmas ierīkošana | E25: ='3.3.'!P26 -> 0 | F25: ='3.3.'!M26 -> 0 | G25: ='3.3.'!N26 -> 0 | H25: ='3.3.'!O26 -> 0 | I25: ='3.3.'!L26 -> 0
A26: =IF(E26=0,0,IF(COUNTBLANK(E26)=1,0,COUNTA($E$15:E26))) -> 0 | B26: 3.4. | C26: ='3.4.'!C2:I2 -> Iekšējo ūdensvada un kanalizācijas tīklu ierīkošana | E26: ='3.4.'!P147 -> 0 | F26: ='3.4.'!M147 -> 0 | G26: ='3.4.'!N147 -> 0 | H26: ='3.4.'!O147 -> 0 | I26: ='3.4.'!L147 -> 0
A27: 13 | B27: 3.5. | C27: ='3.5.'!C2:I2 -> Iekšējā elektroapgāde | E27: ='3.5.'!P58 -> 0 | F27: ='3.5.'!M58 -> 0 | G27: ='3.5.'!N58 -> 0 | H27: ='3.5.'!O58 -> 0 | I27: ='3.5.'!L58 -> 0
A28: =IF(E28=0,0,IF(COUNTBLANK(E28)=1,0,COUNTA($E$15:E28))) -> 0 | B28: 4. | C28: ='4'!C2:I2 -> Arējo ūdensvada un kanalizācijas tīklu ierīkošana | E28: ='4'!P69 -> 0 | F28: ='4'!M69 -> 0 | G28: ='4'!N69 -> 0 | H28: ='4'!O69 -> 0 | I28: ='4'!L69 -> 0
A30: Kopā | F30: =SUM(F15:F29) -> 0 | G30: =SUM(G15:G29) -> 0 | H30: =SUM(H15:H29) -> 0 | I30: =SUM(I15:I29) -> 0
A31: Pavisam kopā
A36: Sastādīja | C36: Vasilijs Ivanovs
C37: (paraksts un tā atšifrējums, datums)
A39: ='Kopt a'!A36 -> Tāme sastādīta 2024. gada 26. augusta
A41: Pārbaudīja | C41: Vasilijs Ivanovs
C42: (paraksts un tā atšifrējums, datums)
A44: Sertifikāta Nr. | C44: 4-01907

Sheet 1.1.
C1: Lokālā tāme Nr. | D1: 1.1.
C2: Sagatavošanas darbi, demontāžas darbi (Vispārējie būvdarbi)
C3: (darba veids vai konstruktīvā elementa nosaukums)
C4: Attiecināmās izmaksas
C5: Būves nosaukums: | D5: ='Kops a'!D6 -> Daudzīvokļu dzīvojamais mājās
C6: Objekta nosaukums: | D6: ='Kops a'!D7 -> Energoefektivitātes paaugstināšana daudzdzīvokļu dzīvojamai mājai
C7: Objekta adrese: | D7: ='Kops a'!D8 -> Rūpnīcas ielā 6, Rēzeknē, LV-4604
C8: Pasūtījuma Nr. | D8: ='Kops a'!D9 -> TP_01.24
A9: Tāme sastādīta 2024. gada tirgus cenās, pamatojoties uz AR un BK daļas rasējumiem | J9: Tāmes izmaksas EUR | N9: =P43 -> 0
P10: =A49 -> Tāme sastādīta 2024. gada 26. augusta
A12: Nr.p.k. | B12: Kods | C12: Darba nosaukums | D12: Mērvienība | E12: Daudzums | F12: Vienības izmaksas | L12: Kopā uz visu apjomu
F13: Laika norma (c/h) | G13: Darba samaksas likme (EUR/h) | H13: Darba alga (EUR) | I13: Būvizstrādājumi (EUR) | J13: Mehānismi (EUR) | K13: Kopā (EUR) | L13: Laika norma (c/h) | M13: Darba alga (EUR) | N13: Būvizstrādājumi (EUR) | O13: Mehānismi (EUR) | P13: Kopā (EUR)
A14: 1 | B14: 2 | C14: 3 | D14: 4 | E14: 5 | F14: 6 | G14: 7 | H14: 8 | I14: 9 | J14: 10 | K14: 11 | L14: 12 | M14: 13 | N14: 14 | O14: 15 | P14: 16
A15: 1 | C15: Sagatavošanas darbi | H15: =ROUND(F15*G15,2) -> 0 | K15: =SUM(H15:J15) -> 0 | L15: =ROUND(E15*F15,2) -> 0 | M15: =ROUND(H15*E15,2) -> 0 | N15: =ROUND(I15*E15,2) -> 0 | O15: =ROUND(J15*E15,2) -> 0 | P15: =SUM(M15:O15) -> 0
A16: 1.1. | B16: līg.cena | C16: Būvlaukumu ierīkošana, pagaidu nožogojumu uzstādīšana un demontaža ar visiem palģdarbiem un tualetes uzstādīšana | D16: komp | E16: 1 | H16: =ROUND(F16*G16,2) -> 0 | K16: =SUM(H16:J16) -> 0 | L16: =ROUND(E16*F16,2) -> 0 | M16: =ROUND(H16*E16,2) -> 0 | N16: =ROUND(I16*E16,2) -> 0 | O16: =ROUND(J16*E16,2) -> 0 | P16: =SUM(M16:O16) -> 0
H17: =ROUND(F17*G17,2) -> 0 | K17: =SUM(H17:J17) -> 0 | L17: =ROUND(E17*F17,2) -> 0 | M17: =ROUND(H17*E17,2) -> 0 | N17: =ROUND(I17*E17,2) -> 0 | O17: =ROUND(J17*E17,2) -> 0 | P17: =SUM(M17:O17) -> 0
A18: 2 | C18: Demontāžas darbi | H18: =ROUND(F18*G18,2) -> 0 | K18: =SUM(H18:J18) -> 0 | L18: =ROUND(E18*F18,2) -> 0 | M18: =ROUND(H18*E18,2) -> 0 | N18: =ROUND(I18*E18,2) -> 0 | O18: =ROUND(J18*E18,2) -> 0 | P18: =SUM(M18:O18) -> 0
A19: 2.1. | B19: līg.cena | C19: Elektrības rožešu, slēdžu un visu instālācijas ēkas sistēmu izmemšana ar visiem palīgdarbiem | D19: komp | E19: 1 | H19: =ROUND(F19*G19,2) -> 0 | K19: =SUM(H19:J19) -> 0 | L19: =ROUND(E19*F19,2) -> 0 | M19: =ROUND(H19*E19,2) -> 0 | N19: =ROUND(I19*E19,2) -> 0 | O19: =ROUND(J19*E19,2) -> 0 | P19: =SUM(M19:O19) -> 0
A20: 2.2. | B20: līg.cena | C20: Esošas starpsienas demontāža ar visiem palīgdarbiem | D20: m2 | E20: 254 | H20: =ROUND(F20*G20,2) -> 0 | K20: =SUM(H20:J20) -> 0 | L20: =ROUND(E20*F20,2) -> 0 | M20: =ROUND(H20*E20,2) -> 0 | N20: =ROUND(I20*E20,2) -> 0 | O20: =ROUND(J20*E20,2) -> 0 | P20: =SUM(M20:O20) -> 0
A21: 2.3. | B21: līg.cena | C21: Esošas ķieģeļu sienas demontāža ar visiem palīgdarbiem | D21: m2 | E21: 175 | H21: =ROUND(F21*G21,2) -> 0 | K21: =SUM(H21:J21) -> 0 | L21: =ROUND(E21*F21,2) -> 0 | M21: =ROUND(H21*E21,2) -> 0 | N21: =ROUND(I21*E21,2) -> 0 | O21: =ROUND(J21*E21,2) -> 0 | P21: =SUM(M21:O21) -> 0
A22: 2.4. | B22: līg.cena | C22: Esošas durvju blokus demontāža ar visiem palīgdarbiem | D22: gab | E22: 54 | H22: =ROUND(F22*G22,2) -> 0 | K22: =SUM(H22:J22) -> 0 | L22: =ROUND(E22*F22,2) -> 0 | M22: =ROUND(H22*E22,2) -> 0 | N22: =ROUND(I22*E22,2) -> 0 | O22: =ROUND(J22*E22,2) -> 0 | P22: =SUM(M22:O22) -> 0 | Q22: pap-
A23: 2.5. | B23: līg.cena | C23: Esošas logu blokus demontāža ar visiem palīgdarbiem | D23: gab | E23: 55 | H23: =ROUND(F23*G23,2) -> 0 | K23: =SUM(H23:J23) -> 0 | L23: =ROUND(E23*F23,2) -> 0 | M23: =ROUND(H23*E23,2) -> 0 | N23: =ROUND(I23*E23,2) -> 0 | O23: =ROUND(J23*E23,2) -> 0 | P23: =SUM(M23:O23) -> 0 | Q23: pap
A24: 2.6. | B24: līg.cena | C24: Esošas notekūdeņu caurules demontāža ar visiem palīgdarbiem | D24: m | E24: 30 | H24: =ROUND(F24*G24,2) -> 0 | K24: =SUM(H24:J24) -> 0 | L24: =ROUND(E24*F24,2) -> 0 | M24: =ROUND(H24*E24,2) -> 0 | N24: =ROUND(I24*E24,2) -> 0 | O24: =ROUND(J24*E24,2) -> 0 | P24: =SUM(M24:O24) -> 0
A25: 2.7. | B25: līg.cena | C25: Esošas notekūdeņu teknes demontāža ar visiem palīgdarbiem | D25: m | E25: 40 | H25: =ROUND(F25*G25,2) -> 0 | K25: =SUM(H25:J25) -> 0 | L25: =ROUND(E25*F25,2) -> 0 | M25: =ROUND(H25*E25,2) -> 0 | N25: =ROUND(I25*E25,2) -> 0 | O25: =ROUND(J25*E25,2) -> 0 | P25: =SUM(M25:O25) -> 0
A26: 2.8. | B26: līg.cena | C26: Esošas izletnes demontāža ar visiem palīgdarbiem | D26: gab | E26: 18 | H26: =ROUND(F26*G26,2) -> 0 | K26: =SUM(H26:J26) -> 0 | L26: =ROUND(E26*F26,2) -> 0 | M26: =ROUND(H26*E26,2) -> 0 | N26: =ROUND(I26*E26,2) -> 0 | O26: =ROUND(J26*E26,2) -> 0 | P26: =SUM(M26:O26) -> 0
A27: 2.9. | B27: līg.cena | C27: Esošas tualets podus demontāža ar visiem palīgdarbiem | D27: gab | E27: 6 | H27: =ROUND(F27*G27,2) -> 0 | K27: =SUM(H27:J27) -> 0 | L27: =ROUND(E27*F27,2) -> 0 | M27: =ROUND(H27*E27,2) -> 0 | N27: =ROUND(I27*E27,2) -> 0 | O27: =ROUND(J27*E27,2) -> 0 | P27: =SUM(M27:O27) -> 0
A28: 2.10. | B28: līg.cena | C28: Esošas iekšejas kanalizācijas sistēmas demontāža ar visiem palīgdarbiem | D28: komp | E28: 1 | H28: =ROUND(F28*G28,2) -> 0 | K28: =SUM(H28:J28) -> 0 | L28: =ROUND(E28*F28,2) -> 0 | M28: =ROUND(H28*E28,2) -> 0 | N28: =ROUND(I28*E28,2) -> 0 | O28: =ROUND(J28*E28,2) -> 0 | P28: =SUM(M28:O28) -> 0
A29: 2.11. | B29: līg.cena | C29: Esošas iekšejas ūdensvada sistēmas demontāža ar visiem palīgdarbiem | D29: komp | E29: 1 | H29: =ROUND(F29*G29,2) -> 0 | K29: =SUM(H29:J29) -> 0 | L29: =ROUND(E29*F29,2) -> 0 | M29: =ROUND(H29*E29,2) -> 0 | N29: =ROUND(I29*E29,2) -> 0 | O29: =ROUND(J29*E29,2) -> 0 | P29: =SUM(M29:O29) -> 0
A30: 2.12. | B30: līg.cena | C30: Esošas apkures sistēmas demontāža ar visiem palīgdarbiem | D30: komp | E30: 1 | H30: =ROUND(F30*G30,2) -> 0 | K30: =SUM(H30:J30) -> 0 | L30: =ROUND(E30*F30,2) -> 0 | M30: =ROUND(H30*E30,2) -> 0 | N30: =ROUND(I30*E30,2) -> 0 | O30: =ROUND(J30*E30,2) -> 0 | P30: =SUM(M30:O30) -> 0
A31: 2.13. | B31: līg.cena | C31: Esošas ventilācijas sistēmas demontāža ar visiem palīgdarbiem | D31: komp | E31: 1 | H31: =ROUND(F31*G31,2) -> 0 | K31: =SUM(H31:J31) -> 0 | L31: =ROUND(E31*F31,2) -> 0 | M31: =ROUND(H31*E31,2) -> 0 | N31: =ROUND(I31*E31,2) -> 0 | O31: =ROUND(J31*E31,2) -> 0 | P31: =SUM(M31:O31) -> 0
A32: 2.14. | B32: līg.cena | C32: Esošas aizsagapmales demontāža ar visiem palīgdarbiem | D32: m | E32: 94 | H32: =ROUND(F32*G32,2) -> 0 | K32: =SUM(H32:J32) -> 0 | L32: =ROUND(E32*F32,2) -> 0 | M32: =ROUND(H32*E32,2) -> 0 | N32: =ROUND(I32*E32,2) -> 0 | O32: =ROUND(J32*E32,2) -> 0 | P32: =SUM(M32:O32) -> 0 | Q32: pap
A33: 2.15. | B33: līg.cena | C33: Esošas ķieģeļu mūra dekoratīvas elementus demontāža no fasadas ar visiem palīgdarbiem | D33: komp | E33: 1 | H33: =ROUND(F33*G33,2) -> 0 | K33: =SUM(H33:J33) -> 0 | L33: =ROUND(E33*F33,2) -> 0 | M33: =ROUND(H33*E33,2) -> 0 | N33: =ROUND(I33*E33,2) -> 0 | O33: =ROUND(J33*E33,2) -> 0 | P33: =SUM(M33:O33) -> 0
A34: 2.16. | B34: līg.cena | C34: Esošas siltumizolācijas demontāža bēniņu pārseguma ar visiem palīgdarbiem | D34: komp | E34: 1 | H34: =ROUND(F34*G34,2) -> 0 | K34: =SUM(H34:J34) -> 0 | L34: =ROUND(E34*F34,2) -> 0 | M34: =ROUND(H34*E34,2) -> 0 | N34: =ROUND(I34*E34,2) -> 0 | O34: =ROUND(J34*E34,2) -> 0 | P34: =SUM(M34:O34) -> 0 | Q34: pap
A35: 2.17. | B35: līg.cena | C35: Esošas jumtas segumu demontāža ar visiem palīgdarbiem | D35: m2 | E35: 386 | H35: =ROUND(F35*G35,2) -> 0 | K35: =SUM(H35:J35) -> 0 | L35: =ROUND(E35*F35,2) -> 0 | M35: =ROUND(H35*E35,2) -> 0 | N35: =ROUND(I35*E35,2) -> 0 | O35: =ROUND(J35*E35,2) -> 0 | P35: =SUM(M35:O35) -> 0
A36: 2.18. | B36: līg.cena | C36: Esošas jumtas kores demontāža ar visiem palīgdarbiem | D36: m | E36: 60 | H36: =ROUND(F36*G36,2) -> 0 | K36: =SUM(H36:J36) -> 0 | L36: =ROUND(E36*F36,2) -> 0 | M36: =ROUND(H36*E36,2) -> 0 | N36: =ROUND(I36*E36,2) -> 0 | O36: =ROUND(J36*E36,2) -> 0 | P36: =SUM(M36:O36) -> 0
A37: 2.19. | B37: līg.cena | C37: Esošas jumtas konstrukcījas demontāža ar visiem palīgdarbiem | D37: m2 | E37: 386 | H37: =ROUND(F37*G37,2) -> 0 | K37: =SUM(H37:J37) -> 0 | L37: =ROUND(E37*F37,2) -> 0 | M37: =ROUND(H37*E37,2) -> 0 | N37: =ROUND(I37*E37,2) -> 0 | O37: =ROUND(J37*E37,2) -> 0 | P37: =SUM(M37:O37) -> 0 | Q37: pap
A38: 2.20. | B38: līg.cena | C38: Esošas grīdas konstrukcijas demontāža ar visiem palīgdarbiem | D38: m2 | E38: 790 | H38: =ROUND(F38*G38,2) -> 0 | K38: =SUM(H38:J38) -> 0 | L38: =ROUND(E38*F38,2) -> 0 | M38: =ROUND(H38*E38,2) -> 0 | N38: =ROUND(I38*E38,2) -> 0 | O38: =ROUND(J38*E38,2) -> 0 | P38: =SUM(M38:O38) -> 0 | Q38: pap
A39: 2.21. | B39: līg.cena | C39: Esošas balkonas demontāža ar visiem palīgdarbiem | D39: m2 | E39: 9 | H39: =ROUND(F39*G39,2) -> 0 | K39: =SUM(H39:J39) -> 0 | L39: =ROUND(E39*F39,2) -> 0 | M39: =ROUND(H39*E39,2) -> 0 | N39: =ROUND(I39*E39,2) -> 0 | O39: =ROUND(J39*E39,2) -> 0 | P39: =SUM(M39:O39) -> 0
A40: 2.22. | B40: līg.cena | C40: Esošas dumvadu demontāža ar visiem palīgdarbiem | D40: komp | E40: 1 | H40: =ROUND(F40*G40,2) -> 0 | K40: =SUM(H40:J40) -> 0 | L40: =ROUND(E40*F40,2) -> 0 | M40: =ROUND(H40*E40,2) -> 0 | N40: =ROUND(I40*E40,2) -> 0 | O40: =ROUND(J40*E40,2) -> 0 | P40: =SUM(M40:O40) -> 0
A41: 2.23. | B41: līg.cena | C41: Būvgrūžu no visa objekta sagatavošana un aizvešana uz utilizāciju ar visiem palīgdarbiem | D41: m3 | E41: 195 | K41: =SUM(H41:J41) -> 0 | L41: =ROUND(E41*F41,2) -> 0 | M41: =ROUND(H41*E41,2) -> 0 | N41: =ROUND(I41*E41,2) -> 0 | O41: =ROUND(J41*E41,2) -> 0 | P41: =SUM(M41:O41) -> 0
...

Sheet 1.2.
C1: Lokālā tāme Nr. | D1: 1.2.
C2: Pamatu siltināšana (Vispārējie būvdarbi)
C3: (darba veids vai konstruktīvā elementa nosaukums)
C4: Attiecināmās izmaksas
C5: Būves nosaukums: | D5: ='Kops a'!D6 -> Daudzīvokļu dzīvojamais mājās
C6: Objekta nosaukums: | D6: ='Kops a'!D7 -> Energoefektivitātes paaugstināšana daudzdzīvokļu dzīvojamai mājai
C7: Objekta adrese: | D7: ='Kops a'!D8 -> Rūpnīcas ielā 6, Rēzeknē, LV-4604
C8: Pasūtījuma Nr. | D8: taa
A9: Tāme sastādīta 2024. gada tirgus cenās, pamatojoties uz AR daļas rasējumiem | J9: Tāmes izmaksas EUR | N9: =P65 -> 0
P10: =A71 -> Tāme sastādīta 2024. gada 26. augusta
A12: Nr.p.k. | B12: Kods | C12: Darba nosaukums | D12: Mērvienība | E12: Daudzums | F12: Vienības izmaksas | L12: Kopā uz visu apjomu
F13: Laika norma (c/h) | G13: Darba samaksas likme (EUR/h) | H13: Darba alga (EUR) | I13: Būvizstrādājumi (EUR) | J13: Mehānismi (EUR) | K13: Kopā (EUR) | L13: Laika norma (c/h) | M13: Darba alga (EUR) | N13: Būvizstrādājumi (EUR) | O13: Mehānismi (EUR) | P13: Kopā (EUR)
A14: 1 | B14: 2 | C14: 3 | D14: 4 | E14: 5 | F14: 6 | G14: 7 | H14: 8 | I14: 9 | J14: 10 | K14: 11 | L14: 12 | M14: 13 | N14: 14 | O14: 15 | P14: 16
A15: 1 | C15: Pamatu siltināšana | H15: =ROUND(F15*G15,2) -> 0 | K15: =SUM(H15:J15) -> 0 | L15: =ROUND(E15*F15,2) -> 0 | M15: =ROUND(H15*E15,2) -> 0 | N15: =ROUND(I15*E15,2) -> 0 | O15: =ROUND(J15*E15,2) -> 0 | P15: =SUM(M15:O15) -> 0
A16: 1.1. | B16: līg.cena | C16: Ēsoša cokola atrakšana ar visiem palīgdarbiem un grunti aizvešana līdz 5km | D16: m3 | E16: 71.4 | H16: =ROUND(F16*G16,2) -> 0 | K16: =SUM(H16:J16) -> 0 | L16: =ROUND(E16*F16,2) -> 0 | M16: =ROUND(H16*E16,2) -> 0 | N16: =ROUND(I16*E16,2) -> 0 | O16: =ROUND(J16*E16,2) -> 0 | P16: =SUM(M16:O16) -> 0
A17: 1.2. | B17: līg.cena | C17: Pamatu vertikāla virsma tīrīšana un plaisu aizdarīšana ar cementa maisijumu | D17: m2 | E17: 81.6 | H17: =ROUND(F17*G17,2) -> 0 | K17: =SUM(H17:J17) -> 0 | L17: =ROUND(E17*F17,2) -> 0 | M17: =ROUND(H17*E17,2) -> 0 | N17: =ROUND(I17*E17,2) -> 0 | O17: =ROUND(J17*E17,2) -> 0 | P17: =SUM(M17:O17) -> 0
A18: 1.3. | B18: līg.cena | C18: cementa maisījums Ceresit CX 5 vai ekvivalents | D18: kg | E18: 30 | H18: =ROUND(F18*G18,2) -> 0 | K18: =SUM(H18:J18) -> 0 | L18: =ROUND(E18*F18,2) -> 0 | M18: =ROUND(H18*E18,2) -> 0 | N18: =ROUND(I18*E18,2) -> 0 | O18: =ROUND(J18*E18,2) -> 0 | P18: =SUM(M18:O18) -> 0
A19: 1.4. | B19: līg.cena | C19: Pamatu vertikāla virsma apmešana ar cementa javu, pievienojot šķidro stiklu un hidroizolācija no bitumena mastikas | D19: m2 | E19: 81.6 | H19: =ROUND(F19*G19,2) -> 0 | K19: =SUM(H19:J19) -> 0 | L19: =ROUND(E19*F19,2) -> 0 | M19: =ROUND(H19*E19,2) -> 0 | N19: =ROUND(I19*E19,2) -> 0 | O19: =ROUND(J19*E19,2) -> 0 | P19: =SUM(M19:O19) -> 0
A20: 1.5. | B20: līg.cena | C20: mūrjava | D20: m3 | E20: 1.65 | H20: =ROUND(F20*G20,2) -> 0 | K20: =SUM(H20:J20) -> 0 | L20: =ROUND(E20*F20,2) -> 0 | M20: =ROUND(H20*E20,2) -> 0 | N20: =ROUND(I20*E20,2) -> 0 | O20: =ROUND(J20*E20,2) -> 0 | P20: =SUM(M20:O20) -> 0
A21: 1.6. | B21: līg.cena | C21: šķidro stikla | D21: l | E21: 13 | H21: =ROUND(F21*G21,2) -> 0 | K21: =SUM(H21:J21) -> 0 | L21: =ROUND(E21*F21,2) -> 0 | M21: =ROUND(H21*E21,2) -> 0 | N21: =ROUND(I21*E21,2) -> 0 | O21: =ROUND(J21*E21,2) -> 0 | P21: =SUM(M21:O21) -> 0
A22: 1.7. | B22: līg.cena | C22: bitumena mastika | D22: l | E22: 40.5 | H22: =ROUND(F22*G22,2) -> 0 | K22: =SUM(H22:J22) -> 0 | L22: =ROUND(E22*F22,2) -> 0 | M22: =ROUND(H22*E22,2) -> 0 | N22: =ROUND(I22*E22,2) -> 0 | O22: =ROUND(J22*E22,2) -> 0 | P22: =SUM(M22:O22) -> 0
A23: 1.8. | B23: līg.cena | C23: Pamatu sienas siltumizolācija no putupolistirola b=100mm ar visiem palīgdarbiem | D23: m2 | E23: 81.6 | H23: =ROUND(F23*G23,2) -> 0 | K23: =SUM(H23:J23) -> 0 | L23: =ROUND(E23*F23,2) -> 0 | M23: =ROUND(H23*E23,2) -> 0 | N23: =ROUND(I23*E23,2) -> 0 | O23: =ROUND(J23*E23,2) -> 0 | P23: =SUM(M23:O23) -> 0
A24: 1.9. | B24: līg.cena | C24: putupolistirol ≥ 150kPa; ≤0.040W/mK b=100mm " TENAPORS EPS 150" vai ekvivalents | D24: m2 | E24: 84 | H24: =ROUND(F24*G24,2) -> 0 | K24: =SUM(H24:J24) -> 0 | L24: =ROUND(E24*F24,2) -> 0 | M24: =ROUND(H24*E24,2) -> 0 | N24: =ROUND(I24*E24,2) -> 0 | O24: =ROUND(J24*E24,2) -> 0 | P24: =SUM(M24:O24) -> 0
A25: 1.10. | B25: līg.cena | C25: līmjava Sakret BAK vai ekvivalents | D25: kg | E25: 408 | H25: =ROUND(F25*G25,2) -> 0 | K25: =SUM(H25:J25) -> 0 | L25: =ROUND(E25*F25,2) -> 0 | M25: =ROUND(H25*E25,2) -> 0 | N25: =ROUND(I25*E25,2) -> 0 | O25: =ROUND(J25*E25,2) -> 0 | P25: =SUM(M25:O25) -> 0
A26: 1.11. | B26: līg.cena | C26: dibeli | D26: gab | E26: 324 | H26: =ROUND(F26*G26,2) -> 0 | K26: =SUM(H26:J26) -> 0 | L26: =ROUND(E26*F26,2) -> 0 | M26: =ROUND(H26*E26,2) -> 0 | N26: =ROUND(I26*E26,2) -> 0 | O26: =ROUND(J26*E26,2) -> 0 | P26: =SUM(M26:O26) -> 0
A27: 1.12. | B27: līg.cena | C27: stikla siets | D27: m2 | E27: 93.8 | H27: =ROUND(F27*G27,2) -> 0 | K27: =SUM(H27:J27) -> 0 | L27: =ROUND(E27*F27,2) -> 0 | M27: =ROUND(H27*E27,2) -> 0 | N27: =ROUND(I27*E27,2) -> 0 | O27: =ROUND(J27*E27,2) -> 0 | P27: =SUM(M27:O27) -> 0
... A45: 1.30. | B45: līg.cena | C45: betons mārkas C30/37, CX2 | D45: m3 | E45: 18.54 | H45: =ROUND(F45*G45,2) -> 0 | K45: =SUM(H45:J45) -> 0 | L45: =ROUND(E45*F45,2) -> 0 | M45: =ROUND(H45*E45,2) -> 0 | N45: =ROUND(I45*E45,2) -> 0 | O45: =ROUND(J45*E45,2) -> 0 | P45: =SUM(M45:O45) -> 0
A46: 1.30.* | B46: līg.cena | C46: Betona platnes h=50mm montāža ar visiem palīgdarbiem | D46: gb. | E46: 57 | L46: =ROUND(E46*F46,2) -> 0 | N46: =ROUND(I46*E46,2) -> 0 | O46: =ROUND(J46*E46,2) -> 0
A47: 1.30.** | B47: līg.cena | C47: betona platnes h=50mm, L=1,0m | D47: gb. | E47: 57
A48: 1.31. | B48: līg.cena | C48: Ēkas cokola betona apmales ierīkošana ar visiem palīgdarbiem | D48: m2 | E48: 43.9 | H48: =ROUND(F48*G48,2) -> 0 | K48: =SUM(H48:J48) -> 0 | L48: =ROUND(E48*F48,2) -> 0 | M48: =ROUND(H48*E48,2) -> 0 | N48: =ROUND(I48*E48,2) -> 0 | O48: =ROUND(J48*E48,2) -> 0 | P48: =SUM(M48:O48) -> 0
A49: 1.32. | B49: līg.cena | C49: škembas fr.20-40 | D49: m3 | E49: 9.7 | H49: =ROUND(F49*G49,2) -> 0 | K49: =SUM(H49:J49) -> 0 | L49: =ROUND(E49*F49,2) -> 0 | M49: =ROUND(H49*E49,2) -> 0 | N49: =ROUND(I49*E49,2) -> 0 | O49: =ROUND(J49*E49,2) -> 0 | P49: =SUM(M49:O49) -> 0 | Q49: iz
A50: 1.33. | B50: līg.cena | C50: ūden izturīgs fineris | D50: m2 | E50: 12 | H50: =ROUND(F50*G50,2) -> 0 | K50: =SUM(H50:J50) -> 0 | L50: =ROUND(E50*F50,2) -> 0 | M50: =ROUND(H50*E50,2) -> 0 | N50: =ROUND(I50*E50,2) -> 0 | O50: =ROUND(J50*E50,2) -> 0 | P50: =SUM(M50:O50) -> 0
A51: 1.34. | B51: līg.cena | C51: zagmateriāli | D51: m3 | E51: 0.15 | H51: =ROUND(F51*G51,2) -> 0 | K51: =SUM(H51:J51) -> 0 | L51: =ROUND(E51*F51,2) -> 0 | M51: =ROUND(H51*E51,2) -> 0 | N51: =ROUND(I51*E51,2) -> 0 | O51: =ROUND(J51*E51,2) -> 0 | P51: =SUM(M51:O51) -> 0
A52: 1.35. | B52: līg.cena | C52: skrūves | D52: gab | E52: 168 | H52: =ROUND(F52*G52,2) -> 0 | K52: =SUM(H52:J52) -> 0 | L52: =ROUND(E52*F52,2) -> 0 | M52: =ROUND(H52*E52,2) -> 0 | N52: =ROUND(I52*E52,2) -> 0 | O52: =ROUND(J52*E52,2) -> 0 | P52: =SUM(M52:O52) -> 0
A53: 1.36. | B53: līg.cena | C53: betons mārkas C30/37, CX2 | D53: m3 | E53: 6.5 | H53: =ROUND(F53*G53,2) -> 0 | K53: =SUM(H53:J53) -> 0 | L53: =ROUND(E53*F53,2) -> 0 | M53: =ROUND(H53*E53,2) -> 0 | N53: =ROUND(I53*E53,2) -> 0 | O53: =ROUND(J53*E53,2) -> 0 | P53: =SUM(M53:O53) -> 0
A54: 1.37. | B54: līg.cena | C54: siets d6 AIII S-100x100 | D54: m2 | E54: 39.5 | H54: =ROUND(F54*G54,2) -> 0 | K54: =SUM(H54:J54) -> 0 | L54: =ROUND(E54*F54,2) -> 0 | M54: =ROUND(H54*E54,2) -> 0 | N54: =ROUND(I54*E54,2) -> 0 | O54: =ROUND(J54*E54,2) -> 0 | P54: =SUM(M54:O54) -> 0
A55: 1.38. | B55: līg.cena | C55: Betona lievenis L1 ierīkošana ar visiem palīgdarbiem | D55: m3 | E55: 0.96 | H55: =ROUND(F55*G55,2) -> 0 | K55: =SUM(H55:J55) -> 0 | L55: =ROUND(E55*F55,2) -> 0 | M55: =ROUND(H55*E55,2) -> 0 | N55: =ROUND(I55*E55,2) -> 0 | O55: =ROUND(J55*E55,2) -> 0 | P55: =SUM(M55:O55) -> 0
A56: 1.39. | B56: līg.cena | C56: betons mārkas C30/37, CX2 | D56: m3 | E56: 1.01 | H56: =ROUND(F56*G56,2) -> 0 | K56: =SUM(H56:J56) -> 0 | L56: =ROUND(E56*F56,2) -> 0 | M56: =ROUND(H56*E56,2) -> 0 | N56: =ROUND(I56*E56,2) -> 0 | O56: =ROUND(J56*E56,2) -> 0 | P56: =SUM(M56:O56) -> 0
A57: 1.40. | B57: līg.cena | C57: ūdens izturīgs fineris | D57: m2 | E57: 3.6 | H57: =ROUND(F57*G57,2) -> 0 | K57: =SUM(H57:J57) -> 0 | L57: =ROUND(E57*F57,2) -> 0 | M57: =ROUND(H57*E57,2) -> 0 | N57: =ROUND(I57*E57,2) -> 0 | O57: =ROUND(J57*E57,2) -> 0 | P57: =SUM(M57:O57) -> 0
A58: 1.41. | B58: līg.cena | C58: skrūves | D58: gab | E58: 32 | H58: =ROUND(F58*G58,2) -> 0 | K58: =SUM(H58:J58) -> 0 | L58: =ROUND(E58*F58,2) -> 0 | M58: =ROUND(H58*E58,2) -> 0 | N58: =ROUND(I58*E58,2) -> 0 | O58: =ROUND(J58*E58,2) -> 0 | P58: =SUM(M58:O58) -> 0
...

Sheet 1.3.
C1: Lokālā tāme Nr. | D1: 1.3.
C2: Iekšējas sienas un starpsienas (Vispārējie būvdarbi)
C3: (darba veids vai konstruktīvā elementa nosaukums)
C4: Attiecināmās izmaksas
C5: Būves nosaukums: | D5: ='Kops a'!D6 -> Daudzīvokļu dzīvojamais mājās
C6: Objekta nosaukums: | D6: ='Kops a'!D7 -> Energoefektivitātes paaugstināšana daudzdzīvokļu dzīvojamai mājai
C7: Objekta adrese: | D7: ='Kops a'!D8 -> Rūpnīcas ielā 6, Rēzeknē, LV-4604
C8: Pasūtījuma Nr. | D8: ='Kops a'!D9 -> TP_01.24
A9: Tāme sastādīta 2024. gada tirgus cenās, pamatojoties uz AR un BK daļas rasējumiem | J9: Tāmes izmaksas EUR | N9: =P36 -> 0
P10: =A42 -> Tāme sastādīta 2024. gada 26. augusta
A12: Nr.p.k. | B12: Kods | C12: Darba nosaukums | D12: Mērvienība | E12: Daudzums | F12: Vienības izmaksas | L12: Kopā uz visu apjomu
F13: Laika norma (c/h) | G13: Darba samaksas likme (EUR/h) | H13: Darba alga (EUR) | I13: Būvizstrādājumi (EUR) | J13: Mehānismi (EUR) | K13: Kopā (EUR) | L13: Laika norma (c/h) | M13: Darba alga (EUR) | N13: Būvizstrādājumi (EUR) | O13: Mehānismi (EUR) | P13: Kopā (EUR)
A14: 1 | B14: 2 | C14: 3 | D14: 4 | E14: 5 | F14: 6 | G14: 7 | H14: 8 | I14: 9 | J14: 10 | K14: 11 | L14: 12 | M14: 13 | N14: 14 | O14: 15 | P14: 16
A15: 1 | C15: Iekšējas sienas un starpsienas | H15: =ROUND(F15*G15,2) -> 0 | K15: =SUM(H15:J15) -> 0 | L15: =ROUND(E15*F15,2) -> 0 | M15: =ROUND(H15*E15,2) -> 0 | N15: =ROUND(I15*E15,2) -> 0 | O15: =ROUND(J15*E15,2) -> 0 | P15: =SUM(M15:O15) -> 0
A16: 1.1. | B16: līg.cena | C16: Iekšējas sienas mūrēšana no gāzbetona blokiem b=200mm ar visiem palīgdarbiem | D16: m3 | E16: 40.6 | H16: =ROUND(F16*G16,2) -> 0 | K16: =SUM(H16:J16) -> 0 | L16: =ROUND(E16*F16,2) -> 0 | M16: =ROUND(H16*E16,2) -> 0 | N16: =ROUND(I16*E16,2) -> 0 | O16: =ROUND(J16*E16,2) -> 0 | P16: =SUM(M16:O16) -> 0
A17: 1.2. | B17: līg.cena | C17: gazbetona bloki b=200mm | D17: m3 | E17: 36.78 | H17: =ROUND(F17*G17,2) -> 0 | K17: =SUM(H17:J17) -> 0 | L17: =ROUND(E17*F17,2) -> 0 | M17: =ROUND(H17*E17,2) -> 0 | N17: =ROUND(I17*E17,2) -> 0 | O17: =ROUND(J17*E17,2) -> 0 | P17: =SUM(M17:O17) -> 0
A18: 1.3. | B18: līg.cena | C18: mūrjava | D18: m3 | E18: 8.1 | H18: =ROUND(F18*G18,2) -> 0 | K18: =SUM(H18:J18) -> 0 | L18: =ROUND(E18*F18,2) -> 0 | M18: =ROUND(H18*E18,2) -> 0 | N18: =ROUND(I18*E18,2) -> 0 | O18: =ROUND(J18*E18,2) -> 0 | P18: =SUM(M18:O18) -> 0
A19: 1.4. | B19: līg.cena | C19: stiegrojums | D19: kg | E19: 124 | H19: =ROUND(F19*G19,2) -> 0 | K19: =SUM(H19:J19) -> 0 | L19: =ROUND(E19*F19,2) -> 0 | M19: =ROUND(H19*E19,2) -> 0 | N19: =ROUND(I19*E19,2) -> 0 | O19: =ROUND(J19*E19,2) -> 0 | P19: =SUM(M19:O19) -> 0
A20: 1.5. | B20: līg.cena | C20: Sienas no gazbetona blokiem apmetums apmetums no abām pūsem | D20: m2 | E20: 318.6 | H20: =ROUND(F20*G20,2) -> 0 | K20: =SUM(H20:J20) -> 0 | L20: =ROUND(E20*F20,2) -> 0 | M20: =ROUND(H20*E20,2) -> 0 | N20: =ROUND(I20*E20,2) -> 0 | O20: =ROUND(J20*E20,2) -> 0 | P20: =SUM(M20:O20) -> 0
A21: 1.6. | B21: līg.cena | C21: mūrjava | D21: m3 | E21: 6.9 | H21: =ROUND(F21*G21,2) -> 0 | K21: =SUM(H21:J21) -> 0 | L21: =ROUND(E21*F21,2) -> 0 | M21: =ROUND(H21*E21,2) -> 0 | N21: =ROUND(I21*E21,2) -> 0 | O21: =ROUND(J21*E21,2) -> 0 | P21: =SUM(M21:O21) -> 0
A22: 1.7. | B22: līg.cena | C22: Starpsienas SS-2 ierīkošana no dīvas kārtas ģipškartona loksniem no abām pūsiem, metāla karkasi un skaņas izolācija b=100mm ar visiem palīgdarbiem | D22: m2 | E22: 437.48 | H22: =ROUND(F22*G22,2) -> 0 | K22: =SUM(H22:J22) -> 0 | L22: =ROUND(E22*F22,2) -> 0 | M22: =ROUND(H22*E22,2) -> 0 | N22: =ROUND(I22*E22,2) -> 0 | O22: =ROUND(J22*E22,2) -> 0 | P22: =SUM(M22:O22) -> 0
A23: 1.8. | B23: līg.cena | C23: ģipškartona loksnes " KNAUF GKB" vai ekvivalents | D23: m2 | E23: 1439.7 | H23: =ROUND(F23*G23,2) -> 0 | K23: =SUM(H23:J23) -> 0 | L23: =ROUND(E23*F23,2) -> 0 | M23: =ROUND(H23*E23,2) -> 0 | N23: =ROUND(I23*E23,2) -> 0 | O23: =ROUND(J23*E23,2) -> 0 | P23: =SUM(M23:O23) -> 0
A24: 1.9. | B24: līg.cena | C24: ģipškartona loksnes " KNAUF GKBI" vai ekvivalents | D24: m2 | E24: 479.6 | H24: =ROUND(F24*G24,2) -> 0 | K24: =SUM(H24:J24) -> 0 | L24: =ROUND(E24*F24,2) -> 0 | M24: =ROUND(H24*E24,2) -> 0 | N24: =ROUND(I24*E24,2) -> 0 | O24: =ROUND(J24*E24,2) -> 0 | P24: =SUM(M24:O24) -> 0
A25: 1.10. | B25: līg.cena | C25: metāla karkass b=100mm, skrūves un amortizācijas lenta un alumīnijas līmlenta | D25: m2 | E25: 437.48 | H25: =ROUND(F25*G25,2) -> 0 | K25: =SUM(H25:J25) -> 0 | L25: =ROUND(E25*F25,2) -> 0 | M25: =ROUND(H25*E25,2) -> 0 | N25: =ROUND(I25*E25,2) -> 0 | O25: =ROUND(J25*E25,2) -> 0 | P25: =SUM(M25:O25) -> 0
A26: 1.11. | B26: līg.cena | C26: Akmens vate , 100mm | D26: m2 | E26: 459.8 | H26: =ROUND(F26*G26,2) -> 0 | K26: =SUM(H26:J26) -> 0 | L26: =ROUND(E26*F26,2) -> 0 | M26: =ROUND(H26*E26,2) -> 0 | N26: =ROUND(I26*E26,2) -> 0 | O26: =ROUND(J26*E26,2) -> 0 | P26: =SUM(M26:O26) -> 0
A27: 1.12. | B27: līg.cena | C27: Starpsienas SS-1 ierīkošana no dīvas kārtas ģipškartona loksniem no vienas pūses, metāla karkasi un skaņas izolācija b=50mm ar visiem palīgdarbiem | D27: m2 | E27: 78.4 | H27: =ROUND(F27*G27,2) -> 0 | K27: =SUM(H27:J27) -> 0 | L27: =ROUND(E27*F27,2) -> 0 | M27: =ROUND(H27*E27,2) -> 0 | N27: =ROUND(I27*E27,2) -> 0 | O27: =ROUND(J27*E27,2) -> 0 | P27: =SUM(M27:O27) -> 0 | Q27: izm
A28: 1.13. | B28: līg.cena | C28: ģipškartona loksnes " KNAUF GKBI" vai ekvivalents | D28: m2 | E28: 164.6 | H28: =ROUND(F28*G28,2) -> 0 | K28: =SUM(H28:J28) -> 0 | L28: =ROUND(E28*F28,2) -> 0 | M28: =ROUND(H28*E28,2) -> 0 | N28: =ROUND(I28*E28,2) -> 0 | O28: =ROUND(J28*E28,2) -> 0 | P28: =SUM(M28:O28) -> 0
A29: 1.14. | B29: līg.cena | C29: metāla karkass b=50mm, skrūves un amortizācijas lenta un aluminijas līmlenta | D29: m2 | E29: 78.4 | H29: =ROUND(F29*G29,2) -> 0 | K29: =SUM(H29:J29) -> 0 | L29: =ROUND(E29*F29,2) -> 0 | M29: =ROUND(H29*E29,2) -> 0 | N29: =ROUND(I29*E29,2) -> 0 | O29: =ROUND(J29*E29,2) -> 0 | P29: =SUM(M29:O29) -> 0
A30: 1.15. | B30: līg.cena | C30: Akmens vate 50mm s PAROC vate UNS 37 vai ekvivalents | D30: m2 | E30: 82.32 | H30: =ROUND(F30*G30,2) -> 0 | K30: =SUM(H30:J30) -> 0 | L30: =ROUND(E30*F30,2) -> 0 | M30: =ROUND(H30*E30,2) -> 0 | N30: =ROUND(I30*E30,2) -> 0 | O30: =ROUND(J30*E30,2) -> 0 | P30: =SUM(M30:O30) -> 0
A31: 2 | B31: līg.cena | C31: Griesti | H31: =ROUND(F31*G31,2) -> 0 | K31: =SUM(H31:J31) -> 0 | L31: =ROUND(E31*F31,2) -> 0 | M31: =ROUND(H31*E31,2) -> 0 | N31: =ROUND(I31*E31,2) -> 0 | O31: =ROUND(J31*E31,2) -> 0 | P31: =SUM(M31:O31) -> 0
A32: 2.1. | B32: līg.cena | C32: Griesti ierīkošana no ģipškartona loksniem pa metāla karkasu ar visiem palīgdarbiem | D32: m2 | E32: 791.5 | H32: =ROUND(F32*G32,2) -> 0 | K32: =SUM(H32:J32) -> 0 | L32: =ROUND(E32*F32,2) -> 0 | M32: =ROUND(H32*E32,2) -> 0 | N32: =ROUND(I32*E32,2) -> 0 | O32: =ROUND(J32*E32,2) -> 0 | P32: =SUM(M32:O32) -> 0
A33: 2.2. | B33: līg.cena | C33: ģipškartona loksnes " KNAUF GKB" vai ekvivalents | D33: m2 | E33: 770.8 | H33: =ROUND(F33*G33,2) -> 0 | K33: =SUM(H33:J33) -> 0 | L33: =ROUND(E33*F33,2) -> 0 | M33: =ROUND(H33*E33,2) -> 0 | N33: =ROUND(I33*E33,2) -> 0 | O33: =ROUND(J33*E33,2) -> 0 | P33: =SUM(M33:O33) -> 0
A34: 2.3. | B34: līg.cena | C34: ģipškartona loksnes " KNAUF GKBI" vai ekvivalents | D34: m2 | E34: 60.3 | H34: =ROUND(F34*G34,2) -> 0 | K34: =SUM(H34:J34) -> 0 | L34: =ROUND(E34*F34,2) -> 0 | M34: =ROUND(H34*E34,2) -> 0 | N34: =ROUND(I34*E34,2) -> 0 | O34: =ROUND(J34*E34,2) -> 0 | P34: =SUM(M34:O34) -> 0
A35: 2.4. | B35: līg.cena | C35: metāla karkass un skrūves | D35: m2 | E35: 791.5 | H35: =ROUND(F35*G35,2) -> 0 | K35: =SUM(H35:J35) -> 0 | L35: =ROUND(E35*F35,2) -> 0 | M35: =ROUND(H35*E35,2) -> 0 | N35: =ROUND(I35*E35,2) -> 0 | O35: =ROUND(J35*E35,2) -> 0 | P35: =SUM(M35:O35) -> 0
A36: Tiešās izmaksas kopā, t. sk. darba devēja sociālais nodoklis 24.09% | L36: =SUM(L15:L35) -> 0 | M36: =SUM(M15:M35) -> 0 | N36: =SUM(N15:N35) -> 0 | O36: =SUM(O15:O35) -> 0 | P36: =SUM(P15:P35) -> 0
A39: Sastādīja | C39: ='Kops a'!C36:H36 -> Vasilijs Ivanovs
C40: (paraksts un tā atšifrējums, datums)
A42: ='Kops a'!A39 -> Tāme sastādīta 2024. gada 26. augusta
A44: Pārbaudīja | C44: ='Kops a'!C41:H41 -> Vasilijs Ivanovs
C45: (paraksts un tā atšifrējums, datums)
...

Sheet 1.4.
C1: Lokālā tāme Nr. | D1: 1.4.
C2: Logi un durvi (Vispārējie būvdarbi)
C3: (darba veids vai konstruktīvā elementa nosaukums)
C4: Attiecināmās izmaksas
C5: Būves nosaukums: | D5: ='Kops a'!D6 -> Daudzīvokļu dzīvojamais mājās
C6: Objekta nosaukums: | D6: ='Kops a'!D7 -> Energoefektivitātes paaugstināšana daudzdzīvokļu dzīvojamai mājai
C7: Objekta adrese: | D7: Rūpniecības 6, Rēzekne
C8: Pasūtījuma Nr. | D8: ='Kops a'!D9 -> TP_01.24
A9: Tāme sastādīta 2024. gada tirgus cenās, pamatojoties uz AR daļas rasējumiem | J9: Tāmes izmaksas EUR | N9: =P72 -> 0
P10: =A78 -> Tāme sastādīta 2024. gada 26. augusta
A12: Nr.p.k. | B12: Kods | C12: Darba nosaukums | D12: Mērvienība | E12: Daudzums | F12: Vienības izmaksas | L12: Kopā uz visu apjomu
F13: Laika norma (c/h) | G13: Darba samaksas likme (EUR/h) | H13: Darba alga (EUR) | I13: Būvizstrādājumi (EUR) | J13: Mehānismi (EUR) | K13: Kopā (EUR) | L13: Laika norma (c/h) | M13: Darba alga (EUR) | N13: Būvizstrādājumi (EUR) | O13: Mehānismi (EUR) | P13: Kopā (EUR)
A14: 1 | B14: 2 | C14: 3 | D14: 4 | E14: 5 | F14: 6 | G14: 7 | H14: 8 | I14: 9 | J14: 10 | K14: 11 | L14: 12 | M14: 13 | N14: 14 | O14: 15 | P14: 16
A15: 1 | C15: Logi un durvi | H15: =ROUND(F15*G15,2) -> 0 | K15: =SUM(H15:J15) -> 0 | L15: =ROUND(E15*F15,2) -> 0 | M15: =ROUND(H15*E15,2) -> 0 | N15: =ROUND(I15*E15,2) -> 0 | O15: =ROUND(J15*E15,2) -> 0 | P15: =SUM(M15:O15) -> 0
A16: 1.1. | B16: līg.cena | C16: Ārējas PVC veramas logu bloku L-1 montāža ar visim palīgdarbiem | D16: gab | E16: 34 | H16: =ROUND(F16*G16,2) -> 0 | K16: =SUM(H16:J16) -> 0 | L16: =ROUND(E16*F16,2) -> 0 | M16: =ROUND(H16*E16,2) -> 0 | N16: =ROUND(I16*E16,2) -> 0 | O16: =ROUND(J16*E16,2) -> 0 | P16: =SUM(M16:O16) -> 0
A17: 1.2. | B17: līg.cena | C17: PVC veramas logu bloks L-1, 1100x1600mm U ≤1.0W/(m²K) | D17: gab | E17: 34 | H17: =ROUND(F17*G17,2) -> 0 | K17: =SUM(H17:J17) -> 0 | L17: =ROUND(E17*F17,2) -> 0 | M17: =ROUND(H17*E17,2) -> 0 | N17: =ROUND(I17*E17,2) -> 0 | O17: =ROUND(J17*E17,2) -> 0 | P17: =SUM(M17:O17) -> 0
A18: 1.3. | B18: līg.cena | C18: iekšējas palodze L=1300mm | D18: gab | E18: 34 | H18: =ROUND(F18*G18,2) -> 0 | K18: =SUM(H18:J18) -> 0 | L18: =ROUND(E18*F18,2) -> 0 | M18: =ROUND(H18*E18,2) -> 0 | N18: =ROUND(I18*E18,2) -> 0 | O18: =ROUND(J18*E18,2) -> 0 | P18: =SUM(M18:O18) -> 0
A19: 1.4. | B19: līg.cena | C19: makrofleks Putas, 750ml | D19: bal | E19: 9 | H19: =ROUND(F19*G19,2) -> 0 | K19: =SUM(H19:J19) -> 0 | L19: =ROUND(E19*F19,2) -> 0 | M19: =ROUND(H19*E19,2) -> 0 | N19: =ROUND(I19*E19,2) -> 0 | O19: =ROUND(J19*E19,2) -> 0 | P19: =SUM(M19:O19) -> 0
A20: 1.5. | B20: līg.cena | C20: Ārējas PVC veramas logu bloku L-2 montāža ar visim palīgdarbiem | D20: gab | E20: 14 | H20: =ROUND(F20*G20,2) -> 0 | K20: =SUM(H20:J20) -> 0 | L20: =ROUND(E20*F20,2) -> 0 | M20: =ROUND(H20*E20,2) -> 0 | N20: =ROUND(I20*E20,2) -> 0 | O20: =ROUND(J20*E20,2) -> 0 | P20: =SUM(M20:O20) -> 0
A21: 1.6. | B21: līg.cena | C21: PVC veramas logu bloks L-2, 1250x1600mm U ≤1.0W/(m²K) | D21: gab | E21: 14 | H21: =ROUND(F21*G21,2) -> 0 | K21: =SUM(H21:J21) -> 0 | L21: =ROUND(E21*F21,2) -> 0 | M21: =ROUND(H21*E21,2) -> 0 | N21: =ROUND(I21*E21,2) -> 0 | O21: =ROUND(J21*E21,2) -> 0 | P21: =SUM(M21:O21) -> 0
A22: 1.7. | B22: līg.cena | C22: iekšējas palodze L=1450mm | D22: gab | E22: 14 | H22: =ROUND(F22*G22,2) -> 0 | K22: =SUM(H22:J22) -> 0 | L22: =ROUND(E22*F22,2) -> 0 | M22: =ROUND(H22*E22,2) -> 0 | N22: =ROUND(I22*E22,2) -> 0 | O22: =ROUND(J22*E22,2) -> 0 | P22: =SUM(M22:O22) -> 0
A23: 1.8. | B23: līg.cena | C23: makrofleks Putas, 750ml | D23: bal | E23: 4 | H23: =ROUND(F23*G23,2) -> 0 | K23: =SUM(H23:J23) -> 0 | L23: =ROUND(E23*F23,2) -> 0 | M23: =ROUND(H23*E23,2) -> 0 | N23: =ROUND(I23*E23,2) -> 0 | O23: =ROUND(J23*E23,2) -> 0 | P23: =SUM(M23:O23) -> 0
A24: 1.9. | B24: līg.cena | C24: Ārējas PVC veramas logu bloku L-3 montāža ar visiem palīgdarbiem | D24: gab | E24: 3 | H24: =ROUND(F24*G24,2) -> 0 | K24: =SUM(H24:J24) -> 0 | L24: =ROUND(E24*F24,2) -> 0 | M24: =ROUND(H24*E24,2) -> 0 | N24: =ROUND(I24*E24,2) -> 0 | O24: =ROUND(J24*E24,2) -> 0 | P24: =SUM(M24:O24) -> 0
A25: 1.10. | B25: līg.cena | C25: PVC veramas logu bloks L-3, 1450x1600mm U ≤1.0W/(m²K) | D25: gab | E25: 3 | H25: =ROUND(F25*G25,2) -> 0 | K25: =SUM(H25:J25) -> 0 | L25: =ROUND(E25*F25,2) -> 0 | M25: =ROUND(H25*E25,2) -> 0 | N25: =ROUND(I25*E25,2) -> 0 | O25: =ROUND(J25*E25,2) -> 0 | P25: =SUM(M25:O25) -> 0
A26: 1.11. | B26: līg.cena | C26: iekšejas palodze L=1650mm | D26: gab | E26: 3 | H26: =ROUND(F26*G26,2) -> 0 | K26: =SUM(H26:J26) -> 0 | L26: =ROUND(E26*F26,2) -> 0 | M26: =ROUND(H26*E26,2) -> 0 | N26: =ROUND(I26*E26,2) -> 0 | O26: =ROUND(J26*E26,2) -> 0 | P26: =SUM(M26:O26) -> 0
A27: 1.12. | B27: līg.cena | C27: makrofleks Putas, 750ml | D27: bal | E27: 1 | H27: =ROUND(F27*G27,2) -> 0 | K27: =SUM(H27:J27) -> 0 | L27: =ROUND(E27*F27,2) -> 0 | M27: =ROUND(H27*E27,2) -> 0 | N27: =ROUND(I27*E27,2) -> 0 | O27: =ROUND(J27*E27,2) -> 0 | P27: =SUM(M27:O27) -> 0
... A38: 1.23. | B38: līg.cena | C38: Visas logu blokus apdare ar hidroizolācijas lentu | D38: komp | E38: 1 | H38: =ROUND(F38*G38,2) -> 0 | K38: =SUM(H38:J38) -> 0 | L38: =ROUND(E38*F38,2) -> 0 | M38: =ROUND(H38*E38,2) -> 0 | N38: =ROUND(I38*E38,2) -> 0 | O38: =ROUND(J38*E38,2) -> 0 | P38: =SUM(M38:O38) -> 0
A39: 1.24. | B39: līg.cena | C39: iekšējā hidroiz. lente | D39: m | E39: 345 | H39: =ROUND(F39*G39,2) -> 0 | K39: =SUM(H39:J39) -> 0 | L39: =ROUND(E39*F39,2) -> 0 | N39: =ROUND(I39*E39,2) -> 0 | O39: =ROUND(J39*E39,2) -> 0 | P39: =SUM(M39:O39) -> 0
A40: 1.24* | B40: līg.cena | C40: ārējā vējnecaurlaidīga lente | D40: m | E40: 345 | L40: =ROUND(E40*F40,2) -> 0 | N40: =ROUND(I40*E40,2) -> 0 | O40: =ROUND(J40*E40,2) -> 0 | P40: =SUM(M40:O40) -> 0
A41: 1.25. | B41: līg.cena | C41: Ārējas vienvērtnes durvis montāža ar visiem palīgdarbiem | D41: gab | E41: 2 | H41: =ROUND(F41*G41,2) -> 0 | K41: =SUM(H41:J41) -> 0 | L41: =ROUND(E41*F41,2) -> 0 | M41: =ROUND(H41*E41,2) -> 0 | N41: =ROUND(I41*E41,2) -> 0 | O41: =ROUND(J41*E41,2) -> 0 | P41: =SUM(M41:O41) -> 0
A42: 1.26. | B42: līg.cena | C42: vienvērtnes ārdurvis ar kodu slēdzene D-1, 1000x2100mm, ar alumīnijas rāmis un atvēršanas mehānismus - drošības aizslēgs U ≤1.8 W/(m²K) | D42: gab | E42: 1 | H42: =ROUND(F42*G42,2) -> 0 | K42: =SUM(H42:J42) -> 0 | L42: =ROUND(E42*F42,2) -> 0 | M42: =ROUND(H44*E44,2) -> 0 | N42: =ROUND(I42*E42,2) -> 0 | O42: =ROUND(J42*E42,2) -> 0 | P42: =SUM(M42:O42) -> 0
A43: 1.27. | B43: līg.cena | C43: vienvērtnes ārdurvis ar kodu slēdzene D-10, 1300x2250mm, ar alumīnijas rāmis un atvēršanas mehānismus - drošības aizslēgs U ≤1.8 W/(m²K) | D43: gab | E43: 1 | H43: =ROUND(F43*G43,2) -> 0 | K43: =SUM(H43:J43) -> 0 | L43: =ROUND(E43*F43,2) -> 0 | N43: =ROUND(I43*E43,2) -> 0 | O43: =ROUND(J43*E43,2) -> 0 | P43: =SUM(M43:O43) -> 0
A44: 1.28. | B44: līg.cena | C44: makrofleks Putas, 750ml | D44: bal | E44: 1 | H44: =ROUND(F44*G44,2) -> 0 | K44: =SUM(H44:J44) -> 0 | L44: =ROUND(E44*F44,2) -> 0 | N44: =ROUND(I44*E44,2) -> 0 | O44: =ROUND(J44*E44,2) -> 0 | P44: =SUM(M44:O44) -> 0
A45: 1.29. | B45: līg.cena | C45: Vienvērtnes PVC durvis D-2, 1000x2100mm un atvēršanas mehānismus - drošības aizslēgs montāza ar visiem palīgdarbiem | D45: gab | E45: 1 | H45: =ROUND(F45*G45,2) -> 0 | K45: =SUM(H45:J45) -> 0 | L45: =ROUND(E45*F45,2) -> 0 | M45: =ROUND(H45*E45,2) -> 0 | N45: =ROUND(I45*E45,2) -> 0 | O45: =ROUND(J45*E45,2) -> 0 | P45: =SUM(M45:O45) -> 0
A46: 1.30. | B46: līg.cena | C46: vienvērtnes PVC durvis D-2, 1000x2100mm ar atvēršanas mehānismus - drošības aizslēgs | D46: gab | E46: 1 | H46: =ROUND(F46*G46,2) -> 0 | K46: =SUM(H46:J46) -> 0 | L46: =ROUND(E46*F46,2) -> 0 | M46: =ROUND(H47*E47,2) -> 0 | N46: =ROUND(I46*E46,2) -> 0 | O46: =ROUND(J46*E46,2) -> 0 | P46: =SUM(M46:O46) -> 0
A47: 1.31. | B47: līg.cena | C47: makrofleks Putas, 750ml | D47: gab | E47: 1 | H47: =ROUND(F47*G47,2) -> 0 | K47: =SUM(H47:J47) -> 0 | L47: =ROUND(E47*F47,2) -> 0 | N47: =ROUND(I47*E47,2) -> 0 | O47: =ROUND(J47*E47,2) -> 0 | P47: =SUM(M47:O47) -> 0
A48: 1.32. | B48: līg.cena | C48: Iekšējas gludas PVC durvis montāza ar visiem palīgdarbiem | D48: gab | E48: 54 | H48: =ROUND(F48*G48,2) -> 0 | K48: =SUM(H48:J48) -> 0 | L48: =ROUND(E48*F48,2) -> 0 | M48: =ROUND(H48*E48,2) -> 0 | N48: =ROUND(I48*E48,2) -> 0 | O48: =ROUND(J48*E48,2) -> 0 | P48: =SUM(M48:O48) -> 0
A49: 1.33. | B49: līg.cena | C49: gludas PVC durvis D-3, 1000x2100mm ar aplodas no abām pusēm | D49: gab | E49: 20 | H49: =ROUND(F49*G49,2) -> 0 | K49: =SUM(H49:J49) -> 0 | L49: =ROUND(E49*F49,2) -> 0 | N49: =ROUND(I49*E49,2) -> 0 | O49: =ROUND(J49*E49,2) -> 0 | P49: =SUM(M49:O49) -> 0
A50: 1.34. | B50: līg.cena | C50: gludas PVC durvis D-4, 900x2100mm ar aplodas no abām pusēm | D50: gab | E50: 6 | H50: =ROUND(F50*G50,2) -> 0 | K50: =SUM(H50:J50) -> 0 | L50: =ROUND(E50*F50,2) -> 0 | N50: =ROUND(I50*E50,2) -> 0 | O50: =ROUND(J50*E50,2) -> 0 | P50: =SUM(M50:O50) -> 0
A51: 1.35. | B51: līg.cena | C51: gludas PVC durvis D-5, 700x2100mm ar aplodas no abām pusēm | D51: gab | E51: 28 | H51: =ROUND(F51*G51,2) -> 0 | K51: =SUM(H51:J51) -> 0 | L51: =ROUND(E51*F51,2) -> 0 | N51: =ROUND(I51*E51,2) -> 0 | O51: =ROUND(J51*E51,2) -> 0 | P51: =SUM(M51:O51) -> 0
...

Sheet 1.5.
C1: Lokālā tāme Nr. | D1: 1.5.
C2: Apdares darbi (Vispārējie būvdarbi)
C3: (darba veids vai konstruktīvā elementa nosaukums)
C4: Attiecināmās izmaksas
C5: Būves nosaukums: | D5: ='Kops a'!D6 -> Daudzīvokļu dzīvojamais mājās
C6: Objekta nosaukums: | D6: ='Kops a'!D7 -> Energoefektivitātes paaugstināšana daudzdzīvokļu dzīvojamai mājai
C7: Objekta adrese: | D7: ='Kops a'!D8 -> Rūpnīcas ielā 6, Rēzeknē, LV-4604
C8: Pasūtījuma Nr. | D8: ='Kops a'!D9 -> TP_01.24
A9: Tāme sastādīta 2024. gada tirgus cenās, pamatojoties uz AR daļas rasējumiem | J9: Tāmes izmaksas EUR | N9: =P68 -> 0
P10: =A74 -> Tāme sastādīta 2024. gada 26. augusta
A12: Nr.p.k. | B12: Kods | C12: Darba nosaukums | D12: Mērvienība | E12: Daudzums | F12: Vienības izmaksas | L12: Kopā uz visu apjomu
F13: Laika norma (c/h) | G13: Darba samaksas likme (EUR/h) | H13: Darba alga (EUR) | I13: Būvizstrādājumi (EUR) | J13: Mehānismi (EUR) | K13: Kopā (EUR) | L13: Laika norma (c/h) | M13: Darba alga (EUR) | N13: Būvizstrādājumi (EUR) | O13: Mehānismi (EUR) | P13: Kopā (EUR)
A14: 1 | B14: 2 | C14: 3 | D14: 4 | E14: 5 | F14: 6 | G14: 7 | H14: 8 | I14: 9 | J14: 10 | K14: 11 | L14: 12 | M14: 13 | N14: 14 | O14: 15 | P14: 16
A15: 1 | C15: Iekšējas darbi
A16: 1.1. | B16: līg.cena | C16: Griestu no reģipškartona špaktelešana, slīpēšana un sagatavošana krāsošanai ar visiem palīgdarbiem | D16: m2 | E16: 791.5 | H16: =ROUND(F16*G16,2) -> 0 | K16: =SUM(H16:J16) -> 0 | L16: =ROUND(E16*F16,2) -> 0 | M16: =ROUND(H16*E16,2) -> 0 | N16: =ROUND(I16*E16,2) -> 0 | O16: =ROUND(J16*E16,2) -> 0 | P16: =SUM(M16:O16) -> 0
A17: 1.2. | B17: līg.cena | C17: špaktele Kestonit LH vai ekvivalents | D17: kg | E17: 1150 | H17: =ROUND(F17*G17,2) -> 0 | K17: =SUM(H17:J17) -> 0 | L17: =ROUND(E17*F17,2) -> 0 | M17: =ROUND(H17*E17,2) -> 0 | N17: =ROUND(I17*E17,2) -> 0 | O17: =ROUND(J17*E17,2) -> 0 | P17: =SUM(M17:O17) -> 0
A18: 1.3. | B18: līg.cena | C18: špaktele SHEETROCK vai ekvivalents | D18: kg | E18: 240 | H18: =ROUND(F18*G18,2) -> 0 | K18: =SUM(H18:J18) -> 0 | L18: =ROUND(E18*F18,2) -> 0 | M18: =ROUND(H18*E18,2) -> 0 | N18: =ROUND(I18*E18,2) -> 0 | O18: =ROUND(J18*E18,2) -> 0 | P18: =SUM(M18:O18) -> 0
A19: 1.4. | B19: līg.cena | C19: smilšpapirs | D19: m2 | E19: 3 | H19: =ROUND(F19*G19,2) -> 0 | K19: =SUM(H19:J19) -> 0 | L19: =ROUND(E19*F19,2) -> 0 | M19: =ROUND(H19*E19,2) -> 0 | N19: =ROUND(I19*E19,2) -> 0 | O19: =ROUND(J19*E19,2) -> 0 | P19: =SUM(M19:O19) -> 0
A20: 1.5. | B20: līg.cena | C20: grunts Sakret UG vai ekvivalents | D20: l | E20: 12 | H20: =ROUND(F20*G20,2) -> 0 | K20: =SUM(H20:J20) -> 0 | L20: =ROUND(E20*F20,2) -> 0 | M20: =ROUND(H20*E20,2) -> 0 | N20: =ROUND(I20*E20,2) -> 0 | O20: =ROUND(J20*E20,2) -> 0 | P20: =SUM(M20:O20) -> 0
A21: 1.8. | B21: līg.cena | C21: Griestu krāsošana ar visiem palīgdarbiem | D21: m2 | E21: 791.5 | H21: =ROUND(F21*G21,2) -> 0 | K21: =SUM(H21:J21) -> 0 | L21: =ROUND(E21*F21,2) -> 0 | M21: =ROUND(H21*E21,2) -> 0 | N21: =ROUND(I21*E21,2) -> 0 | O21: =ROUND(J21*E21,2) -> 0 | P21: =SUM(M21:O21) -> 0
A22: 1.9. | B22: līg.cena | C22: ūdens dispersijas krāsa | D22: l | E22: 198 | H22: =ROUND(F22*G22,2) -> 0 | K22: =SUM(H22:J22) -> 0 | L22: =ROUND(E22*F22,2) -> 0 | M22: =ROUND(H22*E22,2) -> 0 | N22: =ROUND(I22*E22,2) -> 0 | O22: =ROUND(J22*E22,2) -> 0 | P22: =SUM(M22:O22) -> 0
A23: 1.10. | B23: līg.cena | C23: Sienas virsmu špaktelēšana, slīpešana un sagatavoša tapetes līmešanai ar visiem palīgdarbiem | D23: m2 | E23: 1803.4 | H23: =ROUND(F23*G23,2) -> 0 | K23: =SUM(H23:J23) -> 0 | L23: =ROUND(E23*F23,2) -> 0 | M23: =ROUND(H23*E23,2) -> 0 | N23: =ROUND(I23*E23,2) -> 0 | O23: =ROUND(J23*E23,2) -> 0 | P23: =SUM(M23:O23) -> 0
A24: 1.11. | B24: līg.cena | C24: špaktele Kestonit LN vai ekvivalents | D24: kg | E24: 2164 | H24: =ROUND(F24*G24,2) -> 0 | K24: =SUM(H24:J24) -> 0 | L24: =ROUND(E24*F24,2) -> 0 | M24: =ROUND(H24*E24,2) -> 0 | N24: =ROUND(I24*E24,2) -> 0 | O24: =ROUND(J24*E24,2) -> 0 | P24: =SUM(M24:O24) -> 0
A25: 1.12. | B25: līg.cena | C25: špaktele SHEETROCK vai ekvivalents | D25: kg | E25: 380 | H25: =ROUND(F25*G25,2) -> 0 | K25: =SUM(H25:J25) -> 0 | L25: =ROUND(E25*F25,2) -> 0 | M25: =ROUND(H25*E25,2) -> 0 | N25: =ROUND(I25*E25,2) -> 0 | O25: =ROUND(J25*E25,2) -> 0 | P25: =SUM(M25:O25) -> 0
A26: 1.13. | B26: līg.cena | C26: smilšpapirs | D26: m2 | E26: 8 | H26: =ROUND(F26*G26,2) -> 0 | K26: =SUM(H26:J26) -> 0 | L26: =ROUND(E26*F26,2) -> 0 | M26: =ROUND(H26*E26,2) -> 0 | N26: =ROUND(I26*E26,2) -> 0 | O26: =ROUND(J26*E26,2) -> 0 | P26: =SUM(M26:O26) -> 0
A27: 1.14. | B27: līg.cena | C27: grunts Sakret UG vai ekvivalents | D27: l | E27: 258 | H27: =ROUND(F27*G27,2) -> 0 | K27: =SUM(H27:J27) -> 0 | L27: =ROUND(E27*F27,2) -> 0 | M27: =ROUND(H27*E27,2) -> 0 | N27: =ROUND(I27*E27,2) -> 0 | O27: =ROUND(J27*E27,2) -> 0 | P27: =SUM(M27:O27) -> 0
... A46: 1.33. | B46: līg.cena | C46: sturīšu līstes | D46: m | E46: 64 | H46: =ROUND(F46*G46,2) -> 0 | K46: =SUM(H46:J46) -> 0 | L46: =ROUND(E46*F46,2) -> 0 | M46: =ROUND(H46*E46,2) -> 0 | N46: =ROUND(I46*E46,2) -> 0 | O46: =ROUND(J46*E46,2) -> 0 | P46: =SUM(M46:O46) -> 0
A47: 2 | C47: Ārējas darbi | H47: =ROUND(F47*G47,2) -> 0 | K47: =SUM(H47:J47) -> 0 | L47: =ROUND(E47*F47,2) -> 0 | M47: =ROUND(H47*E47,2) -> 0 | N47: =ROUND(I47*E47,2) -> 0 | O47: =ROUND(J47*E47,2) -> 0 | P47: =SUM(M47:O47) -> 0
A48: 2.1. | B48: līg.cena | C48: Fasādes virsmu sagatavošana siltumizolācijai ar visiem palīgdarbiem | D48: m2 | E48: 688 | H48: =ROUND(F48*G48,2) -> 0 | K48: =SUM(H48:J48) -> 0 | L48: =ROUND(E48*F48,2) -> 0 | M48: =ROUND(H48*E48,2) -> 0 | N48: =ROUND(I48*E48,2) -> 0 | O48: =ROUND(J48*E48,2) -> 0 | P48: =SUM(M48:O48) -> 0
A49: 2.2. | B49: līg.cena | C49: grunts Sakret UG vai ekvivalents | D49: l | E49: 172 | H49: =ROUND(F49*G49,2) -> 0 | K49: =SUM(H49:J49) -> 0 | L49: =ROUND(E49*F49,2) -> 0 | M49: =ROUND(H49*E49,2) -> 0 | N49: =ROUND(I49*E49,2) -> 0 | O49: =ROUND(J49*E49,2) -> 0 | P49: =SUM(M49:O49) -> 0
A50: 2.3. | B50: līg.cena | C50: cokola profils b=200mm | D50: m | E50: 103 | H50: =ROUND(F50*G50,2) -> 0 | K50: =SUM(H50:J50) -> 0 | L50: =ROUND(E50*F50,2) -> 0 | M50: =ROUND(H50*E50,2) -> 0 | N50: =ROUND(I50*E50,2) -> 0 | O50: =ROUND(J50*E50,2) -> 0 | P50: =SUM(M50:O50) -> 0
A51: 2.4. | B51: līg.cena | C51: dibeļnaglas | D51: gab | E51: 103 | H51: =ROUND(F51*G51,2) -> 0 | K51: =SUM(H51:J51) -> 0 | L51: =ROUND(E51*F51,2) -> 0 | M51: =ROUND(H51*E51,2) -> 0 | N51: =ROUND(I51*E51,2) -> 0 | O51: =ROUND(J51*E51,2) -> 0 | P51: =SUM(M51:O51) -> 0
A52: 2.5. | B52: līg.cena | C52: Fasādes virsmu siltināšana ar visiem palīgdarbiem | D52: m2 | E52: 688 | H52: =ROUND(F52*G52,2) -> 0 | K52: =SUM(H52:J52) -> 0 | L52: =ROUND(E52*F52,2) -> 0 | M52: =ROUND(H52*E52,2) -> 0 | N52: =ROUND(I52*E52,2) -> 0 | O52: =ROUND(J52*E52,2) -> 0 | P52: =SUM(M52:O52) -> 0
A53: 2.6. | B53: līg.cena | C53: līme Sakret BAK vai ekvivalents | D53: kg | E53: 2064 | H53: =ROUND(F53*G53,2) -> 0 | K53: =SUM(H53:J53) -> 0 | L53: =ROUND(E53*F53,2) -> 0 | M53: =ROUND(H53*E53,2) -> 0 | N53: =ROUND(I53*E53,2) -> 0 | O53: =ROUND(J53*E53,2) -> 0 | P53: =SUM(M53:O53) -> 0
A54: 2.7. | B54: līg.cena | C54: siltumizolācijas akmens vate fasadiem 90kg/m3; ≥ 30kPa; ≤0.040W/mK; 200mm Paroc Linio 15 vai ekvivalents | D54: m2 | E54: 688 | H54: =ROUND(F54*G54,2) -> 0 | K54: =SUM(H54:J54) -> 0 | L54: =ROUND(E54*F54,2) -> 0 | M54: =ROUND(H54*E54,2) -> 0 | N54: =ROUND(I54*E54,2) -> 0 | O54: =ROUND(J54*E54,2) -> 0 | P54: =SUM(M54:O54) -> 0
A55: 2.8. | B55: līg.cena | C55: dibeli | D55: gab | E55: 5504 | H55: =ROUND(F55*G55,2) -> 0 | K55: =SUM(H55:J55) -> 0 | L55: =ROUND(E55*F55,2) -> 0 | M55: =ROUND(H55*E55,2) -> 0 | N55: =ROUND(I55*E55,2) -> 0 | O55: =ROUND(J55*E55,2) -> 0 | P55: =SUM(M55:O55) -> 0
A56: 2.9. | B56: līg.cena | C56: siltumizolācijas akmens vate fasadiem 90kg/m3; ≥ 30kPa;≤0.040W/mK; 30mm Paroc Linio 15 vai ekvivalents | D56: m2 | E56: 70.4 | H56: =ROUND(F56*G56,2) -> 0 | K56: =SUM(H56:J56) -> 0 | L56: =ROUND(E56*F56,2) -> 0 | M56: =ROUND(H56*E56,2) -> 0 | N56: =ROUND(I56*E56,2) -> 0 | O56: =ROUND(J56*E56,2) -> 0 | P56: =SUM(M56:O56) -> 0
A57: 2.10. | B57: līg.cena | C57: stiklšķiedres siets | D57: m2 | E57: 872 | H57: =ROUND(F57*G57,2) -> 0 | K57: =SUM(H57:J57) -> 0 | L57: =ROUND(E57*F57,2) -> 0 | M57: =ROUND(H57*E57,2) -> 0 | N57: =ROUND(I57*E57,2) -> 0 | O57: =ROUND(J57*E57,2) -> 0 | P57: =SUM(M57:O57) -> 0
A58: 2.11. | B58: līg.cena | C58: PVC + siets sturis | D58: m | E58: 220 | H58: =ROUND(F58*G58,2) -> 0 | K58: =SUM(H58:J58) -> 0 | L58: =ROUND(E58*F58,2) -> 0 | M58: =ROUND(H58*E58,2) -> 0 | N58: =ROUND(I58*E58,2) -> 0 | O58: =ROUND(J58*E58,2) -> 0 | P58: =SUM(M58:O58) -> 0
A59: 2.12. | B59: līg.cena | C59: līme Sakret BAK vai ekvivalents | D59: kg | E59: 4128 | H59: =ROUND(F59*G59,2) -> 0 | K59: =SUM(H59:J59) -> 0 | L59: =ROUND(E59*F59,2) -> 0 | M59: =ROUND(H59*E59,2) -> 0 | N59: =ROUND(I59*E59,2) -> 0 | O59: =ROUND(J59*E59,2) -> 0 | P59: =SUM(M59:O59) -> 0
...

Sheet 1.6.
C1: Lokālā tāme Nr. | D1: 1.6.
C2: Grīdas (Vispārējie būvdarbi)
C3: (darba veids vai konstruktīvā elementa nosaukums)
C4: Attiecināmās izmaksas
C5: Būves nosaukums: | D5: ='Kops a'!D6 -> Daudzīvokļu dzīvojamais mājās
C6: Objekta nosaukums: | D6: ='Kops a'!D7 -> Energoefektivitātes paaugstināšana daudzdzīvokļu dzīvojamai mājai
C7: Objekta adrese: | D7: Rūpniecības 6, Rēzekne
C8: Pasūtījuma Nr. | D8: ='Kops a'!D9 -> TP_01.24
A9: Tāme sastādīta 2024. gada tirgus cenās, pamatojoties uz AR un BK daļas rasējumiem | J9: Tāmes izmaksas EUR | N9: =P111 -> 0
P10: =A117 -> Tāme sastādīta 2024. gada 26. augusta
A12: Nr.p.k. | B12: Kods | C12: Darba nosaukums | D12: Mērvienība | E12: Daudzums | F12: Vienības izmaksas | L12: Kopā uz visu apjomu
F13: Laika norma (c/h) | G13: Darba samaksas likme (EUR/h) | H13: Darba alga (EUR) | I13: Būvizstrādājumi (EUR) | J13: Mehānismi (EUR) | K13: Kopā (EUR) | L13: Laika norma (c/h) | M13: Darba alga (EUR) | N13: Būvizstrādājumi (EUR) | O13: Mehānismi (EUR) | P13: Kopā (EUR)
A14: 1 | B14: 2 | C14: 3 | D14: 4 | E14: 5 | F14: 6 | G14: 7 | H14: 8 | I14: 9 | J14: 10 | K14: 11 | L14: 12 | M14: 13 | N14: 14 | O14: 15 | P14: 16
C15: Grīdas | H15: =ROUND(F15*G15,2) -> 0 | K15: =SUM(H15:J15) -> 0 | L15: =ROUND(E15*F15,2) -> 0 | M15: =ROUND(H15*E15,2) -> 0 | N15: =ROUND(I15*E15,2) -> 0 | O15: =ROUND(J15*E15,2) -> 0 | P15: =SUM(M15:O15) -> 0
A16: 1 | B16: līg.cena | C16: G-1(151,9m2) | H16: =ROUND(F16*G16,2) -> 0 | K16: =SUM(H16:J16) -> 0 | L16: =ROUND(E16*F16,2) -> 0 | M16: =ROUND(H16*E16,2) -> 0 | N16: =ROUND(I16*E16,2) -> 0 | O16: =ROUND(J16*E16,2) -> 0 | P16: =SUM(M16:O16) -> 0
A17: 1.1. | B17: līg.cena | C17: Smilšu pamatne ierīkošana h=100mm uz sablīvēta esoša grunti ar blietēšanu ar visiem palīgdarbiem | D17: m2 | E17: 159.8 | H17: =ROUND(F17*G17,2) -> 0 | K17: =SUM(H17:J17) -> 0 | L17: =ROUND(E17*F17,2) -> 0 | M17: =ROUND(H17*E17,2) -> 0 | N17: =ROUND(I17*E17,2) -> 0 | O17: =ROUND(J17*E17,2) -> 0 | P17: =SUM(M17:O17) -> 0
A18: 1.2. | B18: līg.cena | C18: smilts | D18: m3 | E18: 16.7 | H18: =ROUND(F18*G18,2) -> 0 | K18: =SUM(H18:J18) -> 0 | L18: =ROUND(E18*F18,2) -> 0 | M18: =ROUND(H18*E18,2) -> 0 | N18: =ROUND(I18*E18,2) -> 0 | O18: =ROUND(J18*E18,2) -> 0 | P18: =SUM(M18:O18) -> 0
A19: 1.3. | B19: līg.cena | C19: Šķiembas slāņu ierīkošana h=100mm ar blietēšanu | D19: m2 | E19: 151.9 | H19: =ROUND(F19*G19,2) -> 0 | K19: =SUM(H19:J19) -> 0 | L19: =ROUND(E19*F19,2) -> 0 | M19: =ROUND(H19*E19,2) -> 0 | N19: =ROUND(I19*E19,2) -> 0 | O19: =ROUND(J19*E19,2) -> 0 | P19: =SUM(M19:O19) -> 0
A20: 1.4. | B20: līg.cena | C20: šķiembas fr. 10-20mm | D20: m3 | E20: 16.7 | K20: =SUM(H20:J20) -> 0 | L20: =ROUND(E20*F20,2) -> 0 | M20: =ROUND(H20*E20,2) -> 0 | N20: =ROUND(I20*E20,2) -> 0 | O20: =ROUND(J20*E20,2) -> 0 | P20: =SUM(M20:O20) -> 0
A21: 1.5. | B21: līg.cena | C21: Betona pamatslāņu h=80mm ierīkošana ar stiegrojumu ar visiem palīgdarbiem | D21: m2 | E21: 151.9 | H21: =ROUND(F21*G21,2) -> 0 | K21: =SUM(H21:J21) -> 0 | L21: =ROUND(E21*F21,2) -> 0 | M21: =ROUND(H21*E21,2) -> 0 | N21: =ROUND(I21*E21,2) -> 0 | O21: =ROUND(J21*E21,2) -> 0 | P21: =SUM(M21:O21) -> 0
A22: 1.6. | B22: līg.cena | C22: stiegrojuma siets d4mm 50x50mm | D22: m2 | E22: 152 | H22: =ROUND(F22*G22,2) -> 0 | K22: =SUM(H22:J22) -> 0 | L22: =ROUND(E22*F22,2) -> 0 | M22: =ROUND(H22*E22,2) -> 0 | N22: =ROUND(I22*E22,2) -> 0 | O22: =ROUND(J22*E22,2) -> 0 | P22: =SUM(M22:O22) -> 0
A23: 1.7. | B23: līg.cena | C23: distanceri | D23: gab | E23: 152 | H23: =ROUND(F23*G23,2) -> 0 | K23: =SUM(H23:J23) -> 0 | L23: =ROUND(E23*F23,2) -> 0 | M23: =ROUND(H23*E23,2) -> 0 | N23: =ROUND(I23*E23,2) -> 0 | O23: =ROUND(J23*E23,2) -> 0 | P23: =SUM(M23:O23) -> 0
A24: 1.8. | B24: līg.cena | C24: betons mārkas ESTIH CT C16 F4 | D24: m3 | E24: 12.8 | H24: =ROUND(F24*G24,2) -> 0 | K24: =SUM(H24:J24) -> 0 | L24: =ROUND(E24*F24,2) -> 0 | M24: =ROUND(H24*E24,2) -> 0 | N24: =ROUND(I24*E24,2) -> 0 | O24: =ROUND(J24*E24,2) -> 0 | P24: =SUM(M24:O24) -> 0
A25: 1.9. | B25: līg.cena | C25: Hidroizolācija ierīkošana no plēve | D25: m2 | E25: 151.9 | H25: =ROUND(F25*G25,2) -> 0 | K25: =SUM(H25:J25) -> 0 | L25: =ROUND(E25*F25,2) -> 0 | M25: =ROUND(H25*E25,2) -> 0 | N25: =ROUND(I25*E25,2) -> 0 | O25: =ROUND(J25*E25,2) -> 0 | P25: =SUM(M25:O25) -> 0
A26: 1.10. | B26: līg.cena | C26: plēve 0,03 | D26: m2 | E26: 174.7 | H26: =ROUND(F26*G26,2) -> 0 | K26: =SUM(H26:J26) -> 0 | L26: =ROUND(E26*F26,2) -> 0 | M26: =ROUND(H26*E26,2) -> 0 | N26: =ROUND(I26*E26,2) -> 0 | O26: =ROUND(J26*E26,2) -> 0 | P26: =SUM(M26:O26) -> 0
A27: 1.11. | B27: līg.cena | C27: Siltumizolācija ierīkošana no putupolistirola | D27: m2 | E27: 151.9 | H27: =ROUND(F27*G27,2) -> 0 | K27: =SUM(H27:J27) -> 0 | L27: =ROUND(E27*F27,2) -> 0 | M27: =ROUND(H27*E27,2) -> 0 | N27: =ROUND(I27*E27,2) -> 0 | O27: =ROUND(J27*E27,2) -> 0 | P27: =SUM(M27:O27) -> 0
A28: 1.12. | B28: līg.cena | C28: putupolistirols 150 2x50mm Tenapors EPS 150 vai ekvivalents | D28: m2 | E28: 151.9 | H28: =ROUND(F28*G28,2) -> 0 | K28: =SUM(H28:J28) -> 0 | L28: =ROUND(E28*F28,2) -> 0 | M28: =ROUND(H28*E28,2) -> 0 | N28: =ROUND(I28*E28,2) -> 0 | O28: =ROUND(J28*E28,2) -> 0 | P28: =SUM(M28:O28) -> 0
A29: 1.13. | B29: līg.cena | C29: Hidroizolācija ierīkošana no plēve | D29: m2 | E29: 151.9 | H29: =ROUND(F29*G29,2) -> 0 | K29: =SUM(H29:J29) -> 0 | L29: =ROUND(E29*F29,2) -> 0 | M29: =ROUND(H29*E29,2) -> 0 | N29: =ROUND(I29*E29,2) -> 0 | O29: =ROUND(J29*E29,2) -> 0 | P29: =SUM(M29:O29) -> 0
A30: 1.14. | B30: līg.cena | C30: plēve 0,03 | D30: m2 | E30: 174.9 | H30: =ROUND(F30*G30,2) -> 0 | K30: =SUM(H30:J30) -> 0 | L30: =ROUND(E30*F30,2) -> 0 | M30: =ROUND(H30*E30,2) -> 0 | N30: =ROUND(I30*E30,2) -> 0 | O30: =ROUND(J30*E30,2) -> 0 | P30: =SUM(M30:O30) -> 0
A31: 1.15. | B31: līg.cena | C31: Armēta plātne h=60mm ierīkošana no betona mārkas C20/25 XP1 ar stiegrojumu ar visiem palīgdarbiem | D31: m2 | E31: 151.9 | H31: =ROUND(F31*G31,2) -> 0 | K31: =SUM(H31:J31) -> 0 | L31: =ROUND(E31*F31,2) -> 0 | M31: =ROUND(H31*E31,2) -> 0 | N31: =ROUND(I31*E31,2) -> 0 | O31: =ROUND(J31*E31,2) -> 0 | P31: =SUM(M31:O31) -> 0
A32: 1.16. | B32: līg.cena | C32: Sakret malu lenta betonēšanai | D32: m | E32: 105 | H32: =ROUND(F32*G32,2) -> 0 | K32: =SUM(H32:J32) -> 0 | L32: =ROUND(E32*F32,2) -> 0 | M32: =ROUND(H32*E32,2) -> 0 | N32: =ROUND(I32*E32,2) -> 0 | O32: =ROUND(J32*E32,2) -> 0 | P32: =SUM(M32:O32) -> 0
... A46: 1.30. | B46: līg.cena | C46: līstes līme | D46: komp | E46: 1 | H46: =ROUND(F46*G46,2) -> 0 | K46: =SUM(H46:J46) -> 0 | L46: =ROUND(E46*F46,2) -> 0 | M46: =ROUND(H46*E46,2) -> 0 | N46: =ROUND(I46*E46,2) -> 0 | O46: =ROUND(J46*E46,2) -> 0 | P46: =SUM(M46:O46) -> 0
A47: 2 | B47: līg.cena | C47: G-2(232,0m2) | H47: =ROUND(F47*G47,2) -> 0 | K47: =SUM(H47:J47) -> 0 | L47: =ROUND(E47*F47,2) -> 0 | M47: =ROUND(H47*E47,2) -> 0 | N47: =ROUND(I47*E47,2) -> 0 | O47: =ROUND(J47*E47,2) -> 0 | P47: =SUM(M47:O47) -> 0
A48: 2.1. | B48: līg.cena | C48: Smilšu pamatne ierīkošana h=100mm uz sablīvēta esoša grunti ar blietēšanu ar visiem palīgdarbiem | D48: m2 | E48: 224.1 | H48: =ROUND(F48*G48,2) -> 0 | K48: =SUM(H48:J48) -> 0 | L48: =ROUND(E48*F48,2) -> 0 | M48: =ROUND(H48*E48,2) -> 0 | N48: =ROUND(I48*E48,2) -> 0 | O48: =ROUND(J48*E48,2) -> 0 | P48: =SUM(M48:O48) -> 0
A49: 2.2. | B49: līg.cena | C49: smilts | D49: m3 | E49: 25.5 | H49: =ROUND(F49*G49,2) -> 0 | K49: =SUM(H49:J49) -> 0 | L49: =ROUND(E49*F49,2) -> 0 | M49: =ROUND(H49*E49,2) -> 0 | N49: =ROUND(I49*E49,2) -> 0 | O49: =ROUND(J49*E49,2) -> 0 | P49: =SUM(M49:O49) -> 0
A50: 2.3. | B50: līg.cena | C50: Šķembas slāņu ierīkošana h=100mm ar blietēšanu | D50: m2 | E50: 232 | H50: =ROUND(F50*G50,2) -> 0 | K50: =SUM(H50:J50) -> 0 | L50: =ROUND(E50*F50,2) -> 0 | M50: =ROUND(H50*E50,2) -> 0 | N50: =ROUND(I50*E50,2) -> 0 | O50: =ROUND(J50*E50,2) -> 0 | P50: =SUM(M50:O50) -> 0
A51: 2.4. | B51: līg.cena | C51: šķembas fr.10-20mm | D51: m3 | E51: 25.5 | H51: =ROUND(F51*G51,2) -> 0 | K51: =SUM(H51:J51) -> 0 | L51: =ROUND(E51*F51,2) -> 0 | M51: =ROUND(H51*E51,2) -> 0 | N51: =ROUND(I51*E51,2) -> 0 | O51: =ROUND(J51*E51,2) -> 0 | P51: =SUM(M51:O51) -> 0
A52: 2.5. | B52: līg.cena | C52: Betona pamatslāņu h=80mm ierīkošana ar stiegrojumu ar visiem palīgdarbiem | D52: m2 | E52: 232 | H52: =ROUND(F52*G52,2) -> 0 | K52: =SUM(H52:J52) -> 0 | L52: =ROUND(E52*F52,2) -> 0 | M52: =ROUND(H52*E52,2) -> 0 | N52: =ROUND(I52*E52,2) -> 0 | O52: =ROUND(J52*E52,2) -> 0 | P52: =SUM(M52:O52) -> 0
A53: 2.6. | B53: līg.cena | C53: stiegrojuma siets d4mm 50x50mm | D53: m2 | E53: 232 | H53: =ROUND(F53*G53,2) -> 0 | K53: =SUM(H53:J53) -> 0 | L53: =ROUND(E53*F53,2) -> 0 | M53: =ROUND(H53*E53,2) -> 0 | N53: =ROUND(I53*E53,2) -> 0 | O53: =ROUND(J53*E53,2) -> 0 | P53: =SUM(M53:O53) -> 0
A54: 2.7. | B54: līg.cena | C54: distanceri | D54: gab | E54: 232 | H54: =ROUND(F54*G54,2) -> 0 | K54: =SUM(H54:J54) -> 0 | L54: =ROUND(E54*F54,2) -> 0 | M54: =ROUND(H54*E54,2) -> 0 | N54: =ROUND(I54*E54,2) -> 0 | O54: =ROUND(J54*E54,2) -> 0 | P54: =SUM(M54:O54) -> 0
...

Sheet 1.7.
C1: Lokālā tāme Nr. | D1: 1.7.
C2: Jumti segumi (Vispārējie būvdarbi)
C3: (darba veids vai konstruktīvā elementa nosaukums)
C4: Attiecināmās izmaksas
C5: Būves nosaukums: | D5: ='Kops a'!D6 -> Daudzīvokļu dzīvojamais mājās
C6: Objekta nosaukums: | D6: ='Kops a'!D7 -> Energoefektivitātes paaugstināšana daudzdzīvokļu dzīvojamai mājai
C7: Objekta adrese: | D7: ='Kops a'!D8 -> Rūpnīcas ielā 6, Rēzeknē, LV-4604
C8: Pasūtījuma Nr. | D8: ='Kops a'!D9 -> TP_01.24
A9: Tāme sastādīta 2024. gada tirgus cenās, pamatojoties uz AR un BK daļas rasējumiem | J9: Tāmes izmaksas EUR | N9: =P96 -> 0
P10: =A102 -> Tāme sastādīta 2024. gada 26. augusta
