Workbook

Sheet Kopt a
C2: APSTIPRINU
B4: (pasūtītāja paraksts un tā atsifrējums)
C6: Z.v.
B8: ____________.gada____.____________
B11: Būvniecības koptāme
B12: Attiecināmās izmaksas
A13: Būves nosaukums: | B13: Daudzīvokļu dzīvojamais mājās
A14: Objekta nosaukums: | B14: Energoefektivitātes paaugstināšana daudzdzīvokļu dzīvojamai mājai
A15: Objekta adrese: | B15: Rūpnīcas ielā 6, Rēzeknē, LV-4604
A16: Pasūtījuma Nr: | B16: TP_01.24
A18: Nr. P.k. | B18: Objekta nosaukums | C18: Objekta izmaksas (EUR)
A19: 1 | B19: Energoefektivitātes paaugstināšana daudzdzīvokļu dzīvojamai mājai | C19: ='Kops a'!E34 -> 0
B26: Kopā: | C26: =SUM(C19:C25) -> 0
A28: PVN (21%) | C28: =ROUND(C26*21%,2) -> 0
B29: Kopā ar PVN | C29: =C19+C28 -> 0
A31: Sastādīja | B31: Vasilijs Ivanovs
B32: (paraksts un tā atšifrējums, datums)
A34: Sertifikāta Nr. | B34: 4-01907
A36: Tāme sastādīta 2024. gada 26. augusta

Sheet Kops a
A2: Kopsavilkuma aprēķini pa darbu veidiem vai konstruktīvo elementu veidiem
C4: (darba veids vai konstruktīvā elementa nosaukums)
C5: Attiecināmās izmaksas
A6: Būves nosaukums: | D6: ='Kopt a'!B13 -> Daudzīvokļu dzīvojamais mājās
A7: Objekta nosaukums: | D7: ='Kopt a'!B14 -> Energoefektivitātes paaugstināšana daudzdzīvokļu dzīvojamai mājai
A8: Objekta adrese: | D8: ='Kopt a'!B15 -> Rūpnīcas ielā 6, Rēzeknē, LV-4604
A9: Pasūtījuma Nr. | D9: ='Kopt a'!B16 -> TP_01.24
C10: Par kopejo summu, EUR | D10: =E34 -> 0
C11: Kopējā darbietilpība, c/h | D11: =I30 -> 0
A13: Nr.p.k. | B13: kods; tāmes Nr: | C13: Darba veids vai konstruktīvā elementa nosaukums | E13: Tāmes izmaksas (EUR) | F13: Tai skaitā | I13: Darbietilpība (c/h)
F14: darba alga (EUR) | G14: materiāli (EUR) | H14: mehānismi (EUR)
A15: =IF(E15=0,0,IF(COUNTBLANK(E15)=1,0,COUNTA($E$15:E15))) -> 0 | B15: 1.1. | C15: ='1.1.'!C2:I2 -> Sagatavošanas darbi, demontāžas darbi (Vispārējie būvdarbi) | E15: ='1.1.'!P43 -> 0 | F15: ='1.1.'!M43 -> 0 | G15: ='1.1.'!N43 -> 0 | H15: ='1.1.'!O43 -> 0 | I15: ='1.1.'!L43 -> 0
A16: =IF(E16=0,0,IF(COUNTBLANK(E16)=1,0,COUNTA($E$15:E16))) -> 0 | B16: 1.2. | C16: ='1.2.'!C2:I2 -> Pamatu siltināšana (Vispārējie būvdarbi) | E16: ='1.2.'!P63 -> 0 | F16: ='1.2.'!M63 -> 0 | G16: ='1.2.'!N63 -> 0 | H16: ='1.2.'!O63 -> 0 | I16: ='1.2.'!L63 -> 0
A17: =IF(E17=0,0,IF(COUNTBLANK(E17)=1,0,COUNTA($E$15:E17))) -> 0 | B17: 1.3. | C17: ='1.3.'!C2:I2 -> Iekšējas sienas un starpsienas (Vispārējie būvdarbi) | E17: ='1.3.'!P36 -> 0 | F17: ='1.3.'!M36 -> 0 | G17: ='1.3.'!N36 -> 0 | H17: ='1.3.'!O36 -> 0 | I17: ='1.3.'!L36 -> 0
A18: =IF(E18=0,0,IF(COUNTBLANK(E18)=1,0,COUNTA($E$15:E18))) -> 0 | B18: 1.4. | C18: ='1.4.'!C2:I2 -> Logi un durvi (Vispārējie būvdarbi) | E18: ='1.4.'!P71 -> 0 | F18: ='1.4.'!M71 -> 0 | G18: ='1.4.'!N71 -> 0 | H18: ='1.4.'!O71 -> 0 | I18: ='1.4.'!L71 -> 0
A19: =IF(E19=0,0,IF(COUNTBLANK(E19)=1,0,COUNTA($E$15:E19))) -> 0 | B19: 1.5. | C19: ='1.5.'!C2:I2 -> Apdares darbi (Vispārējie būvdarbi) | E19: ='1.5.'!P68 -> 0 | F19: ='1.5.'!M68 -> 0 | G19: ='1.5.'!N68 -> 0 | H19: ='1.5.'!O68 -> 0 | I19: ='1.5.'!L68 -> 0
A20: =IF(E20=0,0,IF(COUNTBLANK(E20)=1,0,COUNTA($E$15:E20))) -> 0 | B20: 1.6. | C20: ='1.6.'!C2:I2 -> Grīdas (Vispārējie būvdarbi) | E20: ='1.6.'!P111 -> 0 | F20: ='1.6.'!M111 -> 0 | G20: ='1.6.'!N111 -> 0 | H20: ='1.6.'!O111 -> 0 | I20: ='1.6.'!L111 -> 0
A21: =IF(E21=0,0,IF(COUNTBLANK(E21)=1,0,COUNTA($E$15:E21))) -> 0 | B21: 1.7. | C21: ='1.7.'!C2:I2 -> Jumti segumi (Vispārējie būvdarbi) | E21: ='1.7.'!P96 -> 0 | F21: ='1.7.'!M96 -> 0 | G21: ='1.7.'!N96 -> 0 | H21: ='1.7.'!O96 -> 0 | I21: ='1.7.'!L96 -> 0
A22: =IF(E22=0,0,IF(COUNTBLANK(E22)=1,0,COUNTA($E$15:E22))) -> 0 | B22: 2. | C22: ='2'!C2:I2 -> Labiekartosana (Dažadi darbi) | E22: ='2'!P71 -> 0 | F22: ='2'!M71 -> 0 | G22: ='2'!N71 -> 0 | H22: ='2'!O71 -> 0 | I22: ='2'!L71 -> 0
A23: =IF(E23=0,0,IF(COUNTBLANK(E23)=1,0,COUNTA($E$15:E23))) -> 0 | B23: 3.1. | C23: ='3.1.'!C2:I2 -> Siltummezgla ierīkošana | E23: ='3.1.'!P87 -> 0 | F23: ='3.1.'!M87 -> 0 | G23: ='3.1.'!N87 -> 0 | H23: ='3.1.'!O87 -> 0 | I23: ='3.1.'!L87 -> 0
A24: =IF(E24=0,0,IF(COUNTBLANK(E24)=1,0,COUNTA($E$15:E24))) -> 0 | B24: 3.2. | C24: ='3.2.'!C2:I2 -> Apkures sistēmas ierīkošana | E24: ='3.2.'!P37 -> 0 | F24: ='3.2.'!M37 -> 0 | G24: ='3.2.'!N37 -> 0 | H24: ='3.2.'!O37 -> 0 | I24: ='3.2.'!L37 -> 0
A25: =IF(E25=0,0,IF(COUNTBLANK(E25)=1,0,COUNTA($E$15:E25))) -> 0 | B25: 3.2. | C25: ='3.3.'!C2:I2 -> Ventilācijas sistēmas ierīkošana | E25: ='3.3.'!P24 -> 0 | F25: ='3.3.'!M24 -> 0 | G25: ='3.3.'!N24 -> 0 | H25: ='3.3.'!O24 -> 0 | I25: ='3.3.'!L24 -> 0
A26: =IF(E26=0,0,IF(COUNTBLANK(E26)=1,0,COUNTA($E$15:E26))) -> 0 | B26: 3.4. | C26: ='3.4.'!C2:I2 -> Iekšējo ūdensvada un kanalizācijas tīklu ierīkošana | E26: ='3.4.'!P147 -> 0 | F26: ='3.4.'!M147 -> 0 | G26: ='3.4.'!N147 -> 0 | H26: ='3.4.'!O147 -> 0 | I26: ='3.4.'!L147 -> 0
A27: 13 | B27: 3.5. | C27: ='3.5.'!C2:I2 -> Iekšējā elektroapgāde | E27: ='3.5.'!P51 -> 0 | F27: ='3.5.'!M51 -> 0 | G27: ='3.5.'!N51 -> 0 | H27: ='3.5.'!O51 -> 0 | I27: ='3.5.'!L51 -> 0
A28: =IF(E28=0,0,IF(COUNTBLANK(E28)=1,0,COUNTA($E$15:E28))) -> 0 | B28: 4. | C28: ='4'!C2:I2 -> Arējo ūdensvada un kanalizācijas tīklu ierīkošana | E28: ='4'!P69 -> 0 | F28: ='4'!M69 -> 0 | G28: ='4'!N69 -> 0 | H28: ='4'!O69 -> 0 | I28: ='4'!L69 -> 0
A29: 15 | B29: 5. | C29: ='5'!C2:I2 -> Virtuves iekārta | E29: ='5'!P21 -> 0 | F29: ='5'!M21 -> 0 | G29: ='5'!N21 -> 0 | H29: ='5'!O21 -> 0 | I29: ='5'!L21 -> 0
A30: Kopā | F30: =SUM(F15:F29) -> 0 | G30: =SUM(G15:G29) -> 0 | H30: =SUM(H15:H29) -> 0 | I30: =SUM(I15:I29) -> 0
A31: Virsizdevumi | D31: 0.15 | E31: =ROUND(E30*$D31,2) -> 0
A32: t.sk.darba aizsardzība | D32: 0.05 | E32: =ROUND(E31*$D32,2) -> 0
A33: Peļņa | D33: 0.15 | E33: =ROUND(E30*$D33,2) -> 0
A34: Pavisam kopā | E34: =SUM(E30:E33)-E32 -> 0
A39: Sastādīja | C39: Vasilijs Ivanovs
C40: (paraksts un tā atšifrējums, datums)
A42: ='Kopt a'!A36 -> Tāme sastādīta 2024. gada 26. augusta
A44: Pārbaudīja | C44: Vasilijs Ivanovs
C45: (paraksts un tā atšifrējums, datums)
A47: Sertifikāta Nr. | C47: 4-01907

Sheet 1.1.
C1: Lokālā tāme Nr. | D1: 1.1.
C2: Sagatavošanas darbi, demontāžas darbi (Vispārējie būvdarbi)
C3: (darba veids vai konstruktīvā elementa nosaukums)
C4: Attiecināmās izmaksas
C5: Būves nosaukums: | D5: ='Kops a'!D6 -> Daudzīvokļu dzīvojamais mājās
C6: Objekta nosaukums: | D6: ='Kops a'!D7 -> Energoefektivitātes paaugstināšana daudzdzīvokļu dzīvojamai mājai
C7: Objekta adrese: | D7: ='Kops a'!D8 -> Rūpnīcas ielā 6, Rēzeknē, LV-4604
C8: Pasūtījuma Nr. | D8: ='Kops a'!D9 -> TP_01.24
A9: Tāme sastādīta 2024. gada tirgus cenās, pamatojoties uz AR un BK daļas rasējumiem | J9: Tāmes izmaksas EUR | N9: =P43 -> 0
P10: =A49 -> Tāme sastādīta 2024. gada 26. augusta
A12: Nr.p.k. | B12: Kods | C12: Darba nosaukums | D12: Mērvienība | E12: Daudzums | F12: Vienības izmaksas | L12: Kopā uz visu apjomu
F13: Laika norma (c/h) | G13: Darba samaksas likme (EUR/h) | H13: Darba alga (EUR) | I13: Būvizstrādājumi (EUR) | J13: Mehānismi (EUR) | K13: Kopā (EUR) | L13: Laika norma (c/h) | M13: Darba alga (EUR) | N13: Būvizstrādājumi (EUR) | O13: Mehānismi (EUR) | P13: Kopā (EUR)
A14: 1 | B14: 2 | C14: 3 | D14: 4 | E14: 5 | F14: 6 | G14: 7 | H14: 8 | I14: 9 | J14: 10 | K14: 11 | L14: 12 | M14: 13 | N14: 14 | O14: 15 | P14: 16
A15: 1 | C15: Sagatavošanas darbi | H15: =ROUND(F15*G15,2) -> 0 | K15: =SUM(H15:J15) -> 0 | L15: =ROUND(E15*F15,2) -> 0 | M15: =ROUND(H15*E15,2) -> 0 | N15: =ROUND(I15*E15,2) -> 0 | O15: =ROUND(J15*E15,2) -> 0 | P15: =SUM(M15:O15) -> 0
A16: 1.1. | B16: līg.cena | C16: Būvlaukumu ierīkošana, pagaidu nožogojumu uzstādīšana un demontaža ar visiem palģdarbiem un tualetes uzstādīšana | D16: komp | E16: 1 | H16: =ROUND(F16*G16,2) -> 0 | K16: =SUM(H16:J16) -> 0 | L16: =ROUND(E16*F16,2) -> 0 | M16: =ROUND(H16*E16,2) -> 0 | N16: =ROUND(I16*E16,2) -> 0 | O16: =ROUND(J16*E16,2) -> 0 | P16: =SUM(M16:O16) -> 0
H17: =ROUND(F17*G17,2) -> 0 | K17: =SUM(H17:J17) -> 0 | L17: =ROUND(E17*F17,2) -> 0 | M17: =ROUND(H17*E17,2) -> 0 | N17: =ROUND(I17*E17,2) -> 0 | O17: =ROUND(J17*E17,2) -> 0 | P17: =SUM(M17:O17) -> 0
A18: 2 | C18: Demontāžas darbi | H18: =ROUND(F18*G18,2) -> 0 | K18: =SUM(H18:J18) -> 0 | L18: =ROUND(E18*F18,2) -> 0 | M18: =ROUND(H18*E18,2) -> 0 | N18: =ROUND(I18*E18,2) -> 0 | O18: =ROUND(J18*E18,2) -> 0 | P18: =SUM(M18:O18) -> 0
A19: 2.1. | B19: līg.cena | C19: Elektrības rožešu, slēdžu un visu instālācijas ēkas sistēmu izmemšana ar visiem palīgdarbiem | D19: komp | E19: 1 | H19: =ROUND(F19*G19,2) -> 0 | K19: =SUM(H19:J19) -> 0 | L19: =ROUND(E19*F19,2) -> 0 | M19: =ROUND(H19*E19,2) -> 0 | N19: =ROUND(I19*E19,2) -> 0 | O19: =ROUND(J19*E19,2) -> 0 | P19: =SUM(M19:O19) -> 0
A20: 2.2. | B20: līg.cena | C20: Esošas starpsienas demontāža ar visiem palīgdarbiem | D20: m2 | E20: 254 | H20: =ROUND(F20*G20,2) -> 0 | K20: =SUM(H20:J20) -> 0 | L20: =ROUND(E20*F20,2) -> 0 | M20: =ROUND(H20*E20,2) -> 0 | N20: =ROUND(I20*E20,2) -> 0 | O20: =ROUND(J20*E20,2) -> 0 | P20: =SUM(M20:O20) -> 0
A21: 2.3. | B21: līg.cena | C21: Esošas ķieģeļu sienas demontāža ar visiem palīgdarbiem | D21: m2 | E21: 175 | H21: =ROUND(F21*G21,2) -> 0 | K21: =SUM(H21:J21) -> 0 | L21: =ROUND(E21*F21,2) -> 0 | M21: =ROUND(H21*E21,2) -> 0 | N21: =ROUND(I21*E21,2) -> 0 | O21: =ROUND(J21*E21,2) -> 0 | P21: =SUM(M21:O21) -> 0
A22: 2.4. | B22: līg.cena | C22: Esošas durvju blokus demontāža ar visiem palīgdarbiem | D22: gab | E22: 54 | H22: =ROUND(F22*G22,2) -> 0 | K22: =SUM(H22:J22) -> 0 | L22: =ROUND(E22*F22,2) -> 0 | M22: =ROUND(H22*E22,2) -> 0 | N22: =ROUND(I22*E22,2) -> 0 | O22: =ROUND(J22*E22,2) -> 0 | P22: =SUM(M22:O22) -> 0 | Q22: pap-
A23: 2.5. | B23: līg.cena | C23: Esošas logu blokus demontāža ar visiem palīgdarbiem | D23: gab | E23: 55 | H23: =ROUND(F23*G23,2) -> 0 | K23: =SUM(H23:J23) -> 0 | L23: =ROUND(E23*F23,2) -> 0 | M23: =ROUND(H23*E23,2) -> 0 | N23: =ROUND(I23*E23,2) -> 0 | O23: =ROUND(J23*E23,2) -> 0 | P23: =SUM(M23:O23) -> 0 | Q23: pap
A24: 2.6. | B24: līg.cena | C24: Esošas notekūdeņu caurules demontāža ar visiem palīgdarbiem | D24: m | E24: 30 | H24: =ROUND(F24*G24,2) -> 0 | K24: =SUM(H24:J24) -> 0 | L24: =ROUND(E24*F24,2) -> 0 | M24: =ROUND(H24*E24,2) -> 0 | N24: =ROUND(I24*E24,2) -> 0 | O24: =ROUND(J24*E24,2) -> 0 | P24: =SUM(M24:O24) -> 0
A25: 2.7. | B25: līg.cena | C25: Esošas notekūdeņu teknes demontāža ar visiem palīgdarbiem | D25: m | E25: 40 | H25: =ROUND(F25*G25,2) -> 0 | K25: =SUM(H25:J25) -> 0 | L25: =ROUND(E25*F25,2) -> 0 | M25: =ROUND(H25*E25,2) -> 0 | N25: =ROUND(I25*E25,2) -> 0 | O25: =ROUND(J25*E25,2) -> 0 | P25: =SUM(M25:O25) -> 0
A26: 2.8. | B26: līg.cena | C26: Esošas izletnes demontāža ar visiem palīgdarbiem | D26: gab | E26: 18 | H26: =ROUND(F26*G26,2) -> 0 | K26: =SUM(H26:J26) -> 0 | L26: =ROUND(E26*F26,2) -> 0 | M26: =ROUND(H26*E26,2) -> 0 | N26: =ROUND(I26*E26,2) -> 0 | O26: =ROUND(J26*E26,2) -> 0 | P26: =SUM(M26:O26) -> 0
A27: 2.9. | B27: līg.cena | C27: Esošas tualets podus demontāža ar visiem palīgdarbiem | D27: gab | E27: 6 | H27: =ROUND(F27*G27,2) -> 0 | K27: =SUM(H27:J27) -> 0 | L27: =ROUND(E27*F27,2) -> 0 | M27: =ROUND(H27*E27,2) -> 0 | N27: =ROUND(I27*E27,2) -> 0 | O27: =ROUND(J27*E27,2) -> 0 | P27: =SUM(M27:O27) -> 0
A28: 2.10. | B28: līg.cena | C28: Esošas iekšejas kanalizācijas sistēmas demontāža ar visiem palīgdarbiem | D28: komp | E28: 1 | H28: =ROUND(F28*G28,2) -> 0 | K28: =SUM(H28:J28) -> 0 | L28: =ROUND(E28*F28,2) -> 0 | M28: =ROUND(H28*E28,2) -> 0 | N28: =ROUND(I28*E28,2) -> 0 | O28: =ROUND(J28*E28,2) -> 0 | P28: =SUM(M28:O28) -> 0
A29: 2.11. | B29: līg.cena | C29: Esošas iekšejas ūdensvada sistēmas demontāža ar visiem palīgdarbiem | D29: komp | E29: 1 | H29: =ROUND(F29*G29,2) -> 0 | K29: =SUM(H29:J29) -> 0 | L29: =ROUND(E29*F29,2) -> 0 | M29: =ROUND(H29*E29,2) -> 0 | N29: =ROUND(I29*E29,2) -> 0 | O29: =ROUND(J29*E29,2) -> 0 | P29: =SUM(M29:O29) -> 0
A30: 2.12. | B30: līg.cena | C30: Esošas apkures sistēmas demontāža ar visiem palīgdarbiem | D30: komp | E30: 1 | H30: =ROUND(F30*G30,2) -> 0 | K30: =SUM(H30:J30) -> 0 | L30: =ROUND(E30*F30,2) -> 0 | M30: =ROUND(H30*E30,2) -> 0 | N30: =ROUND(I30*E30,2) -> 0 | O30: =ROUND(J30*E30,2) -> 0 | P30: =SUM(M30:O30) -> 0
A31: 2.13. | B31: līg.cena | C31: Esošas ventilācijas sistēmas demontāža ar visiem palīgdarbiem | D31: komp | E31: 1 | H31: =ROUND(F31*G31,2) -> 0 | K31: =SUM(H31:J31) -> 0 | L31: =ROUND(E31*F31,2) -> 0 | M31: =ROUND(H31*E31,2) -> 0 | N31: =ROUND(I31*E31,2) -> 0 | O31: =ROUND(J31*E31,2) -> 0 | P31: =SUM(M31:O31) -> 0
A32: 2.14. | B32: līg.cena | C32: Esošas aizsagapmales demontāža ar visiem palīgdarbiem | D32: m | E32: 94 | H32: =ROUND(F32*G32,2) -> 0 | K32: =SUM(H32:J32) -> 0 | L32: =ROUND(E32*F32,2) -> 0 | M32: =ROUND(H32*E32,2) -> 0 | N32: =ROUND(I32*E32,2) -> 0 | O32: =ROUND(J32*E32,2) -> 0 | P32: =SUM(M32:O32) -> 0 | Q32: pap
A33: 2.15. | B33: līg.cena | C33: Esošas ķieģeļu mūra dekoratīvas elementus demontāža no fasadas ar visiem palīgdarbiem | D33: komp | E33: 1 | H33: =ROUND(F33*G33,2) -> 0 | K33: =SUM(H33:J33) -> 0 | L33: =ROUND(E33*F33,2) -> 0 | M33: =ROUND(H33*E33,2) -> 0 | N33: =ROUND(I33*E33,2) -> 0 | O33: =ROUND(J33*E33,2) -> 0 | P33: =SUM(M33:O33) -> 0
A34: 2.16. | B34: līg.cena | C34: Esošas siltumizolācijas demontāža bēniņu pārseguma ar visiem palīgdarbiem | D34: komp | E34: 1 | H34: =ROUND(F34*G34,2) -> 0 | K34: =SUM(H34:J34) -> 0 | L34: =ROUND(E34*F34,2) -> 0 | M34: =ROUND(H34*E34,2) -> 0 | N34: =ROUND(I34*E34,2) -> 0 | O34: =ROUND(J34*E34,2) -> 0 | P34: =SUM(M34:O34) -> 0 | Q34: pap
A35: 2.17. | B35: līg.cena | C35: Esošas jumtas segumu demontāža ar visiem palīgdarbiem | D35: m2 | E35: 386 | H35: =ROUND(F35*G35,2) -> 0 | K35: =SUM(H35:J35) -> 0 | L35: =ROUND(E35*F35,2) -> 0 | M35: =ROUND(H35*E35,2) -> 0 | N35: =ROUND(I35*E35,2) -> 0 | O35: =ROUND(J35*E35,2) -> 0 | P35: =SUM(M35:O35) -> 0
A36: 2.18. | B36: līg.cena | C36: Esošas jumtas kores demontāža ar visiem palīgdarbiem | D36: m | E36: 60 | H36: =ROUND(F36*G36,2) -> 0 | K36: =SUM(H36:J36) -> 0 | L36: =ROUND(E36*F36,2) -> 0 | M36: =ROUND(H36*E36,2) -> 0 | N36: =ROUND(I36*E36,2) -> 0 | O36: =ROUND(J36*E36,2) -> 0 | P36: =SUM(M36:O36) -> 0
A37: 2.19. | B37: līg.cena | C37: Esošas jumtas konstrukcījas demontāža ar visiem palīgdarbiem | D37: m2 | E37: 386 | H37: =ROUND(F37*G37,2) -> 0 | K37: =SUM(H37:J37) -> 0 | L37: =ROUND(E37*F37,2) -> 0 | M37: =ROUND(H37*E37,2) -> 0 | N37: =ROUND(I37*E37,2) -> 0 | O37: =ROUND(J37*E37,2) -> 0 | P37: =SUM(M37:O37) -> 0 | Q37: pap
A38: 2.20. | B38: līg.cena | C38: Esošas grīdas konstrukcijas demontāža ar visiem palīgdarbiem | D38: m2 | E38: 790 | H38: =ROUND(F38*G38,2) -> 0 | K38: =SUM(H38:J38) -> 0 | L38: =ROUND(E38*F38,2) -> 0 | M38: =ROUND(H38*E38,2) -> 0 | N38: =ROUND(I38*E38,2) -> 0 | O38: =ROUND(J38*E38,2) -> 0 | P38: =SUM(M38:O38) -> 0 | Q38: pap
A39: 2.21. | B39: līg.cena | C39: Esošas balkonas demontāža ar visiem palīgdarbiem | D39: m2 | E39: 9 | H39: =ROUND(F39*G39,2) -> 0 | K39: =SUM(H39:J39) -> 0 | L39: =ROUND(E39*F39,2) -> 0 | M39: =ROUND(H39*E39,2) -> 0 | N39: =ROUND(I39*E39,2) -> 0 | O39: =ROUND(J39*E39,2) -> 0 | P39: =SUM(M39:O39) -> 0
A40: 2.22. | B40: līg.cena | C40: Esošas dumvadu demontāža ar visiem palīgdarbiem | D40: komp | E40: 1 | H40: =ROUND(F40*G40,2) -> 0 | K40: =SUM(H40:J40) -> 0 | L40: =ROUND(E40*F40,2) -> 0 | M40: =ROUND(H40*E40,2) -> 0 | N40: =ROUND(I40*E40,2) -> 0 | O40: =ROUND(J40*E40,2) -> 0 | P40: =SUM(M40:O40) -> 0
A41: 2.23. | B41: līg.cena | C41: Būvgrūžu no visa objekta sagatavošana un aizvešana uz utilizāciju ar visiem palīgdarbiem | D41: m3 | E41: 195 | K41: =SUM(H41:J41) -> 0 | L41: =ROUND(E41*F41,2) -> 0 | M41: =ROUND(H41*E41,2) -> 0 | N41: =ROUND(I41*E41,2) -> 0 | O41: =ROUND(J41*E41,2) -> 0 | P41: =SUM(M41:O41) -> 0
A42: 2.24. | B42: līg.cena | C42: Utilizācija asbestocementa loksnes | D42: tn | E42: 10.5 | K42: =SUM(H42:J42) -> 0 | L42: =ROUND(E42*F42,2) -> 0 | M42: =ROUND(H42*E42,2) -> 0 | N42: =ROUND(I42*E42,2) -> 0 | O42: =ROUND(J42*E42,2) -> 0 | P42: =SUM(M42:O42) -> 0
A43: Tiešās izmaksas kopā, t. sk. darba devēja sociālais nodoklis 24.09% | L43: =SUM(L15:L42) -> 0 | M43: =SUM(M15:M42) -> 0 | N43: =SUM(N15:N42) -> 0 | O43: =SUM(O15:O42) -> 0 | P43: =SUM(P15:P42) -> 0
A46: Sastādīja | C46: ='Kops a'!C39:H39 -> Vasilijs Ivanovs
C47: (paraksts un tā atšifrējums, datums)
A49: ='Kops a'!A42 -> Tāme sastādīta 2024. gada 26. augusta
A51: Pārbaudīja | C51: ='Kops a'!C44:H44 -> Vasilijs Ivanovs
C52: (paraksts un tā atšifrējums, datums)
A54: Sertifikāta Nr | C54: ='Kops a'!C47 -> 4-01907

Sheet 1.2.
C1: Lokālā tāme Nr. | D1: 1.2.
C2: Pamatu siltināšana (Vispārējie būvdarbi)
C3: (darba veids vai konstruktīvā elementa nosaukums)
C4: Attiecināmās izmaksas
C5: Būves nosaukums: | D5: ='Kops a'!D6 -> Daudzīvokļu dzīvojamais mājās
C6: Objekta nosaukums: | D6: ='Kops a'!D7 -> Energoefektivitātes paaugstināšana daudzdzīvokļu dzīvojamai mājai
C7: Objekta adrese: | D7: ='Kops a'!D8 -> Rūpnīcas ielā 6, Rēzeknē, LV-4604
C8: Pasūtījuma Nr. | D8: taa
A9: Tāme sastādīta 2024. gada tirgus cenās, pamatojoties uz AR daļas rasējumiem | J9: Tāmes izmaksas EUR | N9: =P63 -> 0
P10: =A69 -> Tāme sastādīta 2024. gada 26. augusta
A12: Nr.p.k. | B12: Kods | C12: Darba nosaukums | D12: Mērvienība | E12: Daudzums | F12: Vienības izmaksas | L12: Kopā uz visu apjomu
F13: Laika norma (c/h) | G13: Darba samaksas likme (EUR/h) | H13: Darba alga (EUR) | I13: Būvizstrādājumi (EUR) | J13: Mehānismi (EUR) | K13: Kopā (EUR) | L13: Laika norma (c/h) | M13: Darba alga (EUR) | N13: Būvizstrādājumi (EUR) | O13: Mehānismi (EUR) | P13: Kopā (EUR)
A14: 1 | B14: 2 | C14: 3 | D14: 4 | E14: 5 | F14: 6 | G14: 7 | H14: 8 | I14: 9 | J14: 10 | K14: 11 | L14: 12 | M14: 13 | N14: 14 | O14: 15 | P14: 16
A15: 1 | C15: Pamatu siltināšana | H15: =ROUND(F15*G15,2) -> 0 | K15: =SUM(H15:J15) -> 0 | L15: =ROUND(E15*F15,2) -> 0 | M15: =ROUND(H15*E15,2) -> 0 | N15: =ROUND(I15*E15,2) -> 0 | O15: =ROUND(J15*E15,2) -> 0 | P15: =SUM(M15:O15) -> 0
A16: 1.1. | B16: līg.cena | C16: Ēsoša cokola atrakšana ar visiem palīgdarbiem un grunti aizvešana līdz 5km | D16: m3 | E16: 71.4 | H16: =ROUND(F16*G16,2) -> 0 | K16: =SUM(H16:J16) -> 0 | L16: =ROUND(E16*F16,2) -> 0 | M16: =ROUND(H16*E16,2) -> 0 | N16: =ROUND(I16*E16,2) -> 0 | O16: =ROUND(J16*E16,2) -> 0 | P16: =SUM(M16:O16) -> 0
A17: 1.2. | B17: līg.cena | C17: Pamatu vertikāla virsma tīrīšana un plaisu aizdarīšana ar cementa maisijumu | D17: m2 | E17: 81.6 | H17: =ROUND(F17*G17,2) -> 0 | K17: =SUM(H17:J17) -> 0 | L17: =ROUND(E17*F17,2) -> 0 | M17: =ROUND(H17*E17,2) -> 0 | N17: =ROUND(I17*E17,2) -> 0 | O17: =ROUND(J17*E17,2) -> 0 | P17: =SUM(M17:O17) -> 0
A18: 1.3. | B18: līg.cena | C18: cementa maisījums Ceresit CX 5 vai ekvivalents | D18: kg | E18: 30 | H18: =ROUND(F18*G18,2) -> 0 | K18: =SUM(H18:J18) -> 0 | L18: =ROUND(E18*F18,2) -> 0 | M18: =ROUND(H18*E18,2) -> 0 | N18: =ROUND(I18*E18,2) -> 0 | O18: =ROUND(J18*E18,2) -> 0 | P18: =SUM(M18:O18) -> 0
A19: 1.4. | B19: līg.cena | C19: Pamatu vertikāla virsma apmešana ar cementa javu, pievienojot šķidro stiklu un hidroizolācija no bitumena mastikas | D19: m2 | E19: 81.6 | H19: =ROUND(F19*G19,2) -> 0 | K19: =SUM(H19:J19) -> 0 | L19: =ROUND(E19*F19,2) -> 0 | M19: =ROUND(H19*E19,2) -> 0 | N19: =ROUND(I19*E19,2) -> 0 | O19: =ROUND(J19*E19,2) -> 0 | P19: =SUM(M19:O19) -> 0
A20: 1.5. | B20: līg.cena | C20: mūrjava | D20: m3 | E20: 1.65 | H20: =ROUND(F20*G20,2) -> 0 | K20: =SUM(H20:J20) -> 0 | L20: =ROUND(E20*F20,2) -> 0 | M20: =ROUND(H20*E20,2) -> 0 | N20: =ROUND(I20*E20,2) -> 0 | O20: =ROUND(J20*E20,2) -> 0 | P20: =SUM(M20:O20) -> 0
A21: 1.6. | B21: līg.cena | C21: šķidro stikla | D21: l | E21: 13 | H21: =ROUND(F21*G21,2) -> 0 | K21: =SUM(H21:J21) -> 0 | L21: =ROUND(E21*F21,2) -> 0 | M21: =ROUND(H21*E21,2) -> 0 | N21: =ROUND(I21*E21,2) -> 0 | O21: =ROUND(J21*E21,2) -> 0 | P21: =SUM(M21:O21) -> 0
A22: 1.7. | B22: līg.cena | C22: bitumena mastika | D22: l | E22: 40.5 | H22: =ROUND(F22*G22,2) -> 0 | K22: =SUM(H22:J22) -> 0 | L22: =ROUND(E22*F22,2) -> 0 | M22: =ROUND(H22*E22,2) -> 0 | N22: =ROUND(I22*E22,2) -> 0 | O22: =ROUND(J22*E22,2) -> 0 | P22: =SUM(M22:O22) -> 0
A23: 1.8. | B23: līg.cena | C23: Pamatu sienas siltumizolācija no putupolistirola b=100mm ar visiem palīgdarbiem | D23: m2 | E23: 81.6 | H23: =ROUND(F23*G23,2) -> 0 | K23: =SUM(H23:J23) -> 0 | L23: =ROUND(E23*F23,2) -> 0 | M23: =ROUND(H23*E23,2) -> 0 | N23: =ROUND(I23*E23,2) -> 0 | O23: =ROUND(J23*E23,2) -> 0 | P23: =SUM(M23:O23) -> 0
A24: 1.9. | B24: līg.cena | C24: putupolistirol ≥ 150kPa; ≤0.040W/mK b=100mm " TENAPORS EPS 150" vai ekvivalents | D24: m2 | E24: 84 | H24: =ROUND(F24*G24,2) -> 0 | K24: =SUM(H24:J24) -> 0 | L24: =ROUND(E24*F24,2) -> 0 | M24: =ROUND(H24*E24,2) -> 0 | N24: =ROUND(I24*E24,2) -> 0 | O24: =ROUND(J24*E24,2) -> 0 | P24: =SUM(M24:O24) -> 0
A25: 1.10. | B25: līg.cena | C25: līmjava Sakret BAK vai ekvivalents | D25: kg | E25: 408 | H25: =ROUND(F25*G25,2) -> 0 | K25: =SUM(H25:J25) -> 0 | L25: =ROUND(E25*F25,2) -> 0 | M25: =ROUND(H25*E25,2) -> 0 | N25: =ROUND(I25*E25,2) -> 0 | O25: =ROUND(J25*E25,2) -> 0 | P25: =SUM(M25:O25) -> 0
A26: 1.11. | B26: līg.cena | C26: dibeli | D26: gab | E26: 324 | H26: =ROUND(F26*G26,2) -> 0 | K26: =SUM(H26:J26) -> 0 | L26: =ROUND(E26*F26,2) -> 0 | M26: =ROUND(H26*E26,2) -> 0 | N26: =ROUND(I26*E26,2) -> 0 | O26: =ROUND(J26*E26,2) -> 0 | P26: =SUM(M26:O26) -> 0
A27: 1.12. | B27: līg.cena | C27: stikla siets | D27: m2 | E27: 93.8 | H27: =ROUND(F27*G27,2) -> 0 | K27: =SUM(H27:J27) -> 0 | L27: =ROUND(E27*F27,2) -> 0 | M27: =ROUND(H27*E27,2) -> 0 | N27: =ROUND(I27*E27,2) -> 0 | O27: =ROUND(J27*E27,2) -> 0 | P27: =SUM(M27:O27) -> 0
... A46: 1.31. | B46: līg.cena | C46: Ēkas cokola betona apmales ierīkošana ar visiem palīgdarbiem | D46: m2 | E46: 43.9 | H46: =ROUND(F46*G46,2) -> 0 | K46: =SUM(H46:J46) -> 0 | L46: =ROUND(E46*F46,2) -> 0 | M46: =ROUND(H46*E46,2) -> 0 | N46: =ROUND(I46*E46,2) -> 0 | O46: =ROUND(J46*E46,2) -> 0 | P46: =SUM(M46:O46) -> 0
A47: 1.32. | B47: līg.cena | C47: škembas fr.20-40 | D47: m3 | E47: 9.7 | H47: =ROUND(F47*G47,2) -> 0 | K47: =SUM(H47:J47) -> 0 | L47: =ROUND(E47*F47,2) -> 0 | M47: =ROUND(H47*E47,2) -> 0 | N47: =ROUND(I47*E47,2) -> 0 | O47: =ROUND(J47*E47,2) -> 0 | P47: =SUM(M47:O47) -> 0 | Q47: iz
A48: 1.33. | B48: līg.cena | C48: ūden izturīgs fineris | D48: m2 | E48: 12 | H48: =ROUND(F48*G48,2) -> 0 | K48: =SUM(H48:J48) -> 0 | L48: =ROUND(E48*F48,2) -> 0 | M48: =ROUND(H48*E48,2) -> 0 | N48: =ROUND(I48*E48,2) -> 0 | O48: =ROUND(J48*E48,2) -> 0 | P48: =SUM(M48:O48) -> 0
A49: 1.34. | B49: līg.cena | C49: zagmateriāli | D49: m3 | E49: 0.15 | H49: =ROUND(F49*G49,2) -> 0 | K49: =SUM(H49:J49) -> 0 | L49: =ROUND(E49*F49,2) -> 0 | M49: =ROUND(H49*E49,2) -> 0 | N49: =ROUND(I49*E49,2) -> 0 | O49: =ROUND(J49*E49,2) -> 0 | P49: =SUM(M49:O49) -> 0
A50: 1.35. | B50: līg.cena | C50: skrūves | D50: gab | E50: 168 | H50: =ROUND(F50*G50,2) -> 0 | K50: =SUM(H50:J50) -> 0 | L50: =ROUND(E50*F50,2) -> 0 | M50: =ROUND(H50*E50,2) -> 0 | N50: =ROUND(I50*E50,2) -> 0 | O50: =ROUND(J50*E50,2) -> 0 | P50: =SUM(M50:O50) -> 0
A51: 1.36. | B51: līg.cena | C51: betons mārkas C30/37, CX2 | D51: m3 | E51: 6.5 | H51: =ROUND(F51*G51,2) -> 0 | K51: =SUM(H51:J51) -> 0 | L51: =ROUND(E51*F51,2) -> 0 | M51: =ROUND(H51*E51,2) -> 0 | N51: =ROUND(I51*E51,2) -> 0 | O51: =ROUND(J51*E51,2) -> 0 | P51: =SUM(M51:O51) -> 0
A52: 1.37. | B52: līg.cena | C52: siets d6 AIII S-100x100 | D52: m2 | E52: 39.5 | H52: =ROUND(F52*G52,2) -> 0 | K52: =SUM(H52:J52) -> 0 | L52: =ROUND(E52*F52,2) -> 0 | M52: =ROUND(H52*E52,2) -> 0 | N52: =ROUND(I52*E52,2) -> 0 | O52: =ROUND(J52*E52,2) -> 0 | P52: =SUM(M52:O52) -> 0
A53: 1.38. | B53: līg.cena | C53: Betona lievenis L1 ierīkošana ar visiem palīgdarbiem | D53: m3 | E53: 0.96 | H53: =ROUND(F53*G53,2) -> 0 | K53: =SUM(H53:J53) -> 0 | L53: =ROUND(E53*F53,2) -> 0 | M53: =ROUND(H53*E53,2) -> 0 | N53: =ROUND(I53*E53,2) -> 0 | O53: =ROUND(J53*E53,2) -> 0 | P53: =SUM(M53:O53) -> 0
A54: 1.39. | B54: līg.cena | C54: betons mārkas C30/37, CX2 | D54: m3 | E54: 1.01 | H54: =ROUND(F54*G54,2) -> 0 | K54: =SUM(H54:J54) -> 0 | L54: =ROUND(E54*F54,2) -> 0 | M54: =ROUND(H54*E54,2) -> 0 | N54: =ROUND(I54*E54,2) -> 0 | O54: =ROUND(J54*E54,2) -> 0 | P54: =SUM(M54:O54) -> 0
A55: 1.40. | B55: līg.cena | C55: ūdens izturīgs fineris | D55: m2 | E55: 3.6 | H55: =ROUND(F55*G55,2) -> 0 | K55: =SUM(H55:J55) -> 0 | L55: =ROUND(E55*F55,2) -> 0 | M55: =ROUND(H55*E55,2) -> 0 | N55: =ROUND(I55*E55,2) -> 0 | O55: =ROUND(J55*E55,2) -> 0 | P55: =SUM(M55:O55) -> 0
A56: 1.41. | B56: līg.cena | C56: skrūves | D56: gab | E56: 32 | H56: =ROUND(F56*G56,2) -> 0 | K56: =SUM(H56:J56) -> 0 | L56: =ROUND(E56*F56,2) -> 0 | M56: =ROUND(H56*E56,2) -> 0 | N56: =ROUND(I56*E56,2) -> 0 | O56: =ROUND(J56*E56,2) -> 0 | P56: =SUM(M56:O56) -> 0
A57: 1.42. | B57: līg.cena | C57: zagmateriāli | D57: m3 | E57: 0.1 | H57: =ROUND(F57*G57,2) -> 0 | K57: =SUM(H57:J57) -> 0 | L57: =ROUND(E57*F57,2) -> 0 | M57: =ROUND(H57*E57,2) -> 0 | N57: =ROUND(I57*E57,2) -> 0 | O57: =ROUND(J57*E57,2) -> 0 | P57: =SUM(M57:O57) -> 0
A58: 1.43. | B58: līg.cena | C58: stiegrojums | D58: kg | E58: 64 | H58: =ROUND(F58*G58,2) -> 0 | K58: =SUM(H58:J58) -> 0 | L58: =ROUND(E58*F58,2) -> 0 | M58: =ROUND(H58*E58,2) -> 0 | N58: =ROUND(I58*E58,2) -> 0 | O58: =ROUND(J58*E58,2) -> 0 | P58: =SUM(M58:O58) -> 0
A59: 1.44. | B59: līg.cena | C59: distanceri | D59: gab | E59: 16 | H59: =ROUND(F59*G59,2) -> 0 | K59: =SUM(H59:J59) -> 0 | L59: =ROUND(E59*F59,2) -> 0 | M59: =ROUND(H59*E59,2) -> 0 | N59: =ROUND(I59*E59,2) -> 0 | O59: =ROUND(J59*E59,2) -> 0 | P59: =SUM(M59:O59) -> 0
... A62: 1.47. | B62: līg.cena | C62: cinkota metāla restes kaislauķis 600x800mm | D62: komp | E62: 1 | H62: =ROUND(F62*G62,2) -> 0 | K62: =SUM(H62:J62) -> 0 | L62: =ROUND(E62*F62,2) -> 0 | M62: =ROUND(H62*E62,2) -> 0 | N62: =ROUND(I62*E62,2) -> 0 | O62: =ROUND(J62*E62,2) -> 0 | P62: =SUM(M62:O62) -> 0
A63: Tiešās izmaksas kopā, t. sk. darba devēja sociālais nodoklis 24.09% | L63: =SUM(L15:L62) -> 0 | M63: =SUM(M15:M62) -> 0 | N63: =SUM(N15:N62) -> 0 | O63: =SUM(O15:O62) -> 0 | P63: =SUM(P15:P62) -> 0
A66: Sastādīja | C66: ='Kops a'!C39:H39 -> Vasilijs Ivanovs
C67: (paraksts un tā atšifrējums, datums)
A69: ='Kops a'!A42 -> Tāme sastādīta 2024. gada 26. augusta
A71: Pārbaudīja | C71: ='Kops a'!C44:H44 -> Vasilijs Ivanovs
C72: (paraksts un tā atšifrējums, datums)
A74: Sertifikāta Nr | C74: ='Kops a'!C47 -> 4-01907

Sheet 1.3.
C1: Lokālā tāme Nr. | D1: 1.3.
C2: Iekšējas sienas un starpsienas (Vispārējie būvdarbi)
C3: (darba veids vai konstruktīvā elementa nosaukums)
C4: Attiecināmās izmaksas
C5: Būves nosaukums: | D5: ='Kops a'!D6 -> Daudzīvokļu dzīvojamais mājās
C6: Objekta nosaukums: | D6: ='Kops a'!D7 -> Energoefektivitātes paaugstināšana daudzdzīvokļu dzīvojamai mājai
C7: Objekta adrese: | D7: ='Kops a'!D8 -> Rūpnīcas ielā 6, Rēzeknē, LV-4604
C8: Pasūtījuma Nr. | D8: ='Kops a'!D9 -> TP_01.24
A9: Tāme sastādīta 2024. gada tirgus cenās, pamatojoties uz AR un BK daļas rasējumiem | J9: Tāmes izmaksas EUR | N9: =P36 -> 0
P10: =A42 -> Tāme sastādīta 2024. gada 26. augusta
A12: Nr.p.k. | B12: Kods | C12: Darba nosaukums | D12: Mērvienība | E12: Daudzums | F12: Vienības izmaksas | L12: Kopā uz visu apjomu
F13: Laika norma (c/h) | G13: Darba samaksas likme (EUR/h) | H13: Darba alga (EUR) | I13: Būvizstrādājumi (EUR) | J13: Mehānismi (EUR) | K13: Kopā (EUR) | L13: Laika norma (c/h) | M13: Darba alga (EUR) | N13: Būvizstrādājumi (EUR) | O13: Mehānismi (EUR) | P13: Kopā (EUR)
A14: 1 | B14: 2 | C14: 3 | D14: 4 | E14: 5 | F14: 6 | G14: 7 | H14: 8 | I14: 9 | J14: 10 | K14: 11 | L14: 12 | M14: 13 | N14: 14 | O14: 15 | P14: 16
A15: 1 | C15: Iekšējas sienas un starpsienas | H15: =ROUND(F15*G15,2) -> 0 | K15: =SUM(H15:J15) -> 0 | L15: =ROUND(E15*F15,2) -> 0 | M15: =ROUND(H15*E15,2) -> 0 | N15: =ROUND(I15*E15,2) -> 0 | O15: =ROUND(J15*E15,2) -> 0 | P15: =SUM(M15:O15) -> 0
A16: 1.1. | B16: līg.cena | C16: Iekšējas sienas mūrēšana no gāzbetona blokiem b=200mm ar visiem palīgdarbiem | D16: m3 | E16: 31.9 | H16: =ROUND(F16*G16,2) -> 0 | K16: =SUM(H16:J16) -> 0 | L16: =ROUND(E16*F16,2) -> 0 | M16: =ROUND(H16*E16,2) -> 0 | N16: =ROUND(I16*E16,2) -> 0 | O16: =ROUND(J16*E16,2) -> 0 | P16: =SUM(M16:O16) -> 0
A17: 1.2. | B17: līg.cena | C17: gazbetona bloki b=200mm | D17: m3 | E17: 28.9 | H17: =ROUND(F17*G17,2) -> 0 | K17: =SUM(H17:J17) -> 0 | L17: =ROUND(E17*F17,2) -> 0 | M17: =ROUND(H17*E17,2) -> 0 | N17: =ROUND(I17*E17,2) -> 0 | O17: =ROUND(J17*E17,2) -> 0 | P17: =SUM(M17:O17) -> 0
A18: 1.3. | B18: līg.cena | C18: mūrjava | D18: m3 | E18: 6.4 | H18: =ROUND(F18*G18,2) -> 0 | K18: =SUM(H18:J18) -> 0 | L18: =ROUND(E18*F18,2) -> 0 | M18: =ROUND(H18*E18,2) -> 0 | N18: =ROUND(I18*E18,2) -> 0 | O18: =ROUND(J18*E18,2) -> 0 | P18: =SUM(M18:O18) -> 0
A19: 1.4. | B19: līg.cena | C19: stiegrojums | D19: kg | E19: 98 | H19: =ROUND(F19*G19,2) -> 0 | K19: =SUM(H19:J19) -> 0 | L19: =ROUND(E19*F19,2) -> 0 | M19: =ROUND(H19*E19,2) -> 0 | N19: =ROUND(I19*E19,2) -> 0 | O19: =ROUND(J19*E19,2) -> 0 | P19: =SUM(M19:O19) -> 0
A20: 1.5. | B20: līg.cena | C20: Sienas no gazbetona blokiem apmetums apmetums no abām pūsem | D20: m2 | E20: 318.6 | H20: =ROUND(F20*G20,2) -> 0 | K20: =SUM(H20:J20) -> 0 | L20: =ROUND(E20*F20,2) -> 0 | M20: =ROUND(H20*E20,2) -> 0 | N20: =ROUND(I20*E20,2) -> 0 | O20: =ROUND(J20*E20,2) -> 0 | P20: =SUM(M20:O20) -> 0
A21: 1.6. | B21: līg.cena | C21: mūrjava | D21: m3 | E21: 6.9 | H21: =ROUND(F21*G21,2) -> 0 | K21: =SUM(H21:J21) -> 0 | L21: =ROUND(E21*F21,2) -> 0 | M21: =ROUND(H21*E21,2) -> 0 | N21: =ROUND(I21*E21,2) -> 0 | O21: =ROUND(J21*E21,2) -> 0 | P21: =SUM(M21:O21) -> 0
A22: 1.7. | B22: līg.cena | C22: Starpsienas SS-2 ierīkošana no dīvas kārtas ģipškartona loksniem no abām pūsiem, metāla karkasi un skaņas izolācija b=100mm ar visiem palīgdarbiem | D22: m2 | E22: 437.48 | H22: =ROUND(F22*G22,2) -> 0 | K22: =SUM(H22:J22) -> 0 | L22: =ROUND(E22*F22,2) -> 0 | M22: =ROUND(H22*E22,2) -> 0 | N22: =ROUND(I22*E22,2) -> 0 | O22: =ROUND(J22*E22,2) -> 0 | P22: =SUM(M22:O22) -> 0
A23: 1.8. | B23: līg.cena | C23: ģipškartona loksnes " KNAUF GKB" vai ekvivalents | D23: m2 | E23: 1439.7 | H23: =ROUND(F23*G23,2) -> 0 | K23: =SUM(H23:J23) -> 0 | L23: =ROUND(E23*F23,2) -> 0 | M23: =ROUND(H23*E23,2) -> 0 | N23: =ROUND(I23*E23,2) -> 0 | O23: =ROUND(J23*E23,2) -> 0 | P23: =SUM(M23:O23) -> 0
A24: 1.9. | B24: līg.cena | C24: ģipškartona loksnes " KNAUF GKBI" vai ekvivalents | D24: m2 | E24: 479.6 | H24: =ROUND(F24*G24,2) -> 0 | K24: =SUM(H24:J24) -> 0 | L24: =ROUND(E24*F24,2) -> 0 | M24: =ROUND(H24*E24,2) -> 0 | N24: =ROUND(I24*E24,2) -> 0 | O24: =ROUND(J24*E24,2) -> 0 | P24: =SUM(M24:O24) -> 0
A25: 1.10. | B25: līg.cena | C25: metāla karkass b=100mm, skrūves un amortizācijas lenta un alumīnijas līmlenta | D25: m2 | E25: 437.48 | H25: =ROUND(F25*G25,2) -> 0 | K25: =SUM(H25:J25) -> 0 | L25: =ROUND(E25*F25,2) -> 0 | M25: =ROUND(H25*E25,2) -> 0 | N25: =ROUND(I25*E25,2) -> 0 | O25: =ROUND(J25*E25,2) -> 0 | P25: =SUM(M25:O25) -> 0
A26: 1.11. | B26: līg.cena | C26: Akmens vate , 100mm | D26: m2 | E26: 459.8 | H26: =ROUND(F26*G26,2) -> 0 | K26: =SUM(H26:J26) -> 0 | L26: =ROUND(E26*F26,2) -> 0 | M26: =ROUND(H26*E26,2) -> 0 | N26: =ROUND(I26*E26,2) -> 0 | O26: =ROUND(J26*E26,2) -> 0 | P26: =SUM(M26:O26) -> 0
A27: 1.12. | B27: līg.cena | C27: Starpsienas SS-1 ierīkošana no dīvas kārtas ģipškartona loksniem no vienas pūses, metāla karkasi un skaņas izolācija b=50mm ar visiem palīgdarbiem | D27: m2 | E27: 78.4 | H27: =ROUND(F27*G27,2) -> 0 | K27: =SUM(H27:J27) -> 0 | L27: =ROUND(E27*F27,2) -> 0 | M27: =ROUND(H27*E27,2) -> 0 | N27: =ROUND(I27*E27,2) -> 0 | O27: =ROUND(J27*E27,2) -> 0 | P27: =SUM(M27:O27) -> 0 | Q27: izm
A28: 1.13. | B28: līg.cena | C28: ģipškartona loksnes " KNAUF GKBI" vai ekvivalents | D28: m2 | E28: 164.6 | H28: =ROUND(F28*G28,2) -> 0 | K28: =SUM(H28:J28) -> 0 | L28: =ROUND(E28*F28,2) -> 0 | M28: =ROUND(H28*E28,2) -> 0 | N28: =ROUND(I28*E28,2) -> 0 | O28: =ROUND(J28*E28,2) -> 0 | P28: =SUM(M28:O28) -> 0
A29: 1.14. | B29: līg.cena | C29: metāla karkass b=50mm, skrūves un amortizācijas lenta un aluminijas līmlenta | D29: m2 | E29: 78.4 | H29: =ROUND(F29*G29,2) -> 0 | K29: =SUM(H29:J29) -> 0 | L29: =ROUND(E29*F29,2) -> 0 | M29: =ROUND(H29*E29,2) -> 0 | N29: =ROUND(I29*E29,2) -> 0 | O29: =ROUND(J29*E29,2) -> 0 | P29: =SUM(M29:O29) -> 0
A30: 1.15. | B30: līg.cena | C30: Akmens vate 50mm s PAROC vate UNS 37 vai ekvivalents | D30: m2 | E30: 82.32 | H30: =ROUND(F30*G30,2) -> 0 | K30: =SUM(H30:J30) -> 0 | L30: =ROUND(E30*F30,2) -> 0 | M30: =ROUND(H30*E30,2) -> 0 | N30: =ROUND(I30*E30,2) -> 0 | O30: =ROUND(J30*E30,2) -> 0 | P30: =SUM(M30:O30) -> 0
A31: 2 | B31: līg.cena | C31: Griesti | H31: =ROUND(F31*G31,2) -> 0 | K31: =SUM(H31:J31) -> 0 | L31: =ROUND(E31*F31,2) -> 0 | M31: =ROUND(H31*E31,2) -> 0 | N31: =ROUND(I31*E31,2) -> 0 | O31: =ROUND(J31*E31,2) -> 0 | P31: =SUM(M31:O31) -> 0
A32: 2.1. | B32: līg.cena | C32: Griesti ierīkošana no ģipškartona loksniem pa metāla karkasu ar visiem palīgdarbiem | D32: m2 | E32: 791.5 | H32: =ROUND(F32*G32,2) -> 0 | K32: =SUM(H32:J32) -> 0 | L32: =ROUND(E32*F32,2) -> 0 | M32: =ROUND(H32*E32,2) -> 0 | N32: =ROUND(I32*E32,2) -> 0 | O32: =ROUND(J32*E32,2) -> 0 | P32: =SUM(M32:O32) -> 0
A33: 2.2. | B33: līg.cena | C33: ģipškartona loksnes " KNAUF GKB" vai ekvivalents | D33: m2 | E33: 770.8 | H33: =ROUND(F33*G33,2) -> 0 | K33: =SUM(H33:J33) -> 0 | L33: =ROUND(E33*F33,2) -> 0 | M33: =ROUND(H33*E33,2) -> 0 | N33: =ROUND(I33*E33,2) -> 0 | O33: =ROUND(J33*E33,2) -> 0 | P33: =SUM(M33:O33) -> 0
A34: 2.3. | B34: līg.cena | C34: ģipškartona loksnes " KNAUF GKBI" vai ekvivalents | D34: m2 | E34: 60.3 | H34: =ROUND(F34*G34,2) -> 0 | K34: =SUM(H34:J34) -> 0 | L34: =ROUND(E34*F34,2) -> 0 | M34: =ROUND(H34*E34,2) -> 0 | N34: =ROUND(I34*E34,2) -> 0 | O34: =ROUND(J34*E34,2) -> 0 | P34: =SUM(M34:O34) -> 0
A35: 2.4. | B35: līg.cena | C35: metāla karkass un skrūves | D35: m2 | E35: 791.5 | H35: =ROUND(F35*G35,2) -> 0 | K35: =SUM(H35:J35) -> 0 | L35: =ROUND(E35*F35,2) -> 0 | M35: =ROUND(H35*E35,2) -> 0 | N35: =ROUND(I35*E35,2) -> 0 | O35: =ROUND(J35*E35,2) -> 0 | P35: =SUM(M35:O35) -> 0
A36: Tiešās izmaksas kopā, t. sk. darba devēja sociālais nodoklis 24.09% | L36: =SUM(L15:L35) -> 0 | M36: =SUM(M15:M35) -> 0 | N36: =SUM(N15:N35) -> 0 | O36: =SUM(O15:O35) -> 0 | P36: =SUM(P15:P35) -> 0
A39: Sastādīja | C39: ='Kops a'!C39:H39 -> Vasilijs Ivanovs
C40: (paraksts un tā atšifrējums, datums)
A42: ='Kops a'!A42 -> Tāme sastādīta 2024. gada 26. augusta
A44: Pārbaudīja | C44: ='Kops a'!C44:H44 -> Vasilijs Ivanovs
C45: (paraksts un tā atšifrējums, datums)
A47: Sertifikāta Nr | C47: ='Kops a'!C47 -> 4-01907

Sheet 1.4.
C1: Lokālā tāme Nr. | D1: 1.4.
C2: Logi un durvi (Vispārējie būvdarbi)
C3: (darba veids vai konstruktīvā elementa nosaukums)
C4: Attiecināmās izmaksas
C5: Būves nosaukums: | D5: ='Kops a'!D6 -> Daudzīvokļu dzīvojamais mājās
C6: Objekta nosaukums: | D6: ='Kops a'!D7 -> Energoefektivitātes paaugstināšana daudzdzīvokļu dzīvojamai mājai
C7: Objekta adrese: | D7: Rūpniecības 6, Rēzekne
C8: Pasūtījuma Nr. | D8: ='Kops a'!D9 -> TP_01.24
A9: Tāme sastādīta 2024. gada tirgus cenās, pamatojoties uz AR daļas rasējumiem | J9: Tāmes izmaksas EUR | N9: =P71 -> 0
P10: =A77 -> Tāme sastādīta 2024. gada 26. augusta
A12: Nr.p.k. | B12: Kods | C12: Darba nosaukums | D12: Mērvienība | E12: Daudzums | F12: Vienības izmaksas | L12: Kopā uz visu apjomu
F13: Laika norma (c/h) | G13: Darba samaksas likme (EUR/h) | H13: Darba alga (EUR) | I13: Būvizstrādājumi (EUR) | J13: Mehānismi (EUR) | K13: Kopā (EUR) | L13: Laika norma (c/h) | M13: Darba alga (EUR) | N13: Būvizstrādājumi (EUR) | O13: Mehānismi (EUR) | P13: Kopā (EUR)
A14: 1 | B14: 2 | C14: 3 | D14: 4 | E14: 5 | F14: 6 | G14: 7 | H14: 8 | I14: 9 | J14: 10 | K14: 11 | L14: 12 | M14: 13 | N14: 14 | O14: 15 | P14: 16
A15: 1 | C15: Logi un durvi | H15: =ROUND(F15*G15,2) -> 0 | K15: =SUM(H15:J15) -> 0 | L15: =ROUND(E15*F15,2) -> 0 | M15: =ROUND(H15*E15,2) -> 0 | N15: =ROUND(I15*E15,2) -> 0 | O15: =ROUND(J15*E15,2) -> 0 | P15: =SUM(M15:O15) -> 0
A16: 1.1. | B16: līg.cena | C16: Ārējas PVC veramas logu bloku L-1 montāža ar visim palīgdarbiem | D16: gab | E16: 34 | H16: =ROUND(F16*G16,2) -> 0 | K16: =SUM(H16:J16) -> 0 | L16: =ROUND(E16*F16,2) -> 0 | M16: =ROUND(H16*E16,2) -> 0 | N16: =ROUND(I16*E16,2) -> 0 | O16: =ROUND(J16*E16,2) -> 0 | P16: =SUM(M16:O16) -> 0
A17: 1.2. | B17: līg.cena | C17: PVC veramas logu bloks L-1, 1100x1600mm U ≤1.0W/(m²K) | D17: gab | E17: 34 | H17: =ROUND(F17*G17,2) -> 0 | K17: =SUM(H17:J17) -> 0 | L17: =ROUND(E17*F17,2) -> 0 | M17: =ROUND(H17*E17,2) -> 0 | N17: =ROUND(I17*E17,2) -> 0 | O17: =ROUND(J17*E17,2) -> 0 | P17: =SUM(M17:O17) -> 0
A18: 1.3. | B18: līg.cena | C18: iekšējas palodze L=1300mm | D18: gab | E18: 34 | H18: =ROUND(F18*G18,2) -> 0 | K18: =SUM(H18:J18) -> 0 | L18: =ROUND(E18*F18,2) -> 0 | M18: =ROUND(H18*E18,2) -> 0 | N18: =ROUND(I18*E18,2) -> 0 | O18: =ROUND(J18*E18,2) -> 0 | P18: =SUM(M18:O18) -> 0
A19: 1.4. | B19: līg.cena | C19: makrofleks Putas, 750ml | D19: bal | E19: 9 | H19: =ROUND(F19*G19,2) -> 0 | K19: =SUM(H19:J19) -> 0 | L19: =ROUND(E19*F19,2) -> 0 | M19: =ROUND(H19*E19,2) -> 0 | N19: =ROUND(I19*E19,2) -> 0 | O19: =ROUND(J19*E19,2) -> 0 | P19: =SUM(M19:O19) -> 0
A20: 1.5. | B20: līg.cena | C20: Ārējas PVC veramas logu bloku L-2 montāža ar visim palīgdarbiem | D20: gab | E20: 14 | H20: =ROUND(F20*G20,2) -> 0 | K20: =SUM(H20:J20) -> 0 | L20: =ROUND(E20*F20,2) -> 0 | M20: =ROUND(H20*E20,2) -> 0 | N20: =ROUND(I20*E20,2) -> 0 | O20: =ROUND(J20*E20,2) -> 0 | P20: =SUM(M20:O20) -> 0
A21: 1.6. | B21: līg.cena | C21: PVC veramas logu bloks L-2, 1250x1600mm U ≤1.0W/(m²K) | D21: gab | E21: 14 | H21: =ROUND(F21*G21,2) -> 0 | K21: =SUM(H21:J21) -> 0 | L21: =ROUND(E21*F21,2) -> 0 | M21: =ROUND(H21*E21,2) -> 0 | N21: =ROUND(I21*E21,2) -> 0 | O21: =ROUND(J21*E21,2) -> 0 | P21: =SUM(M21:O21) -> 0
A22: 1.7. | B22: līg.cena | C22: iekšējas palodze L=1450mm | D22: gab | E22: 14 | H22: =ROUND(F22*G22,2) -> 0 | K22: =SUM(H22:J22) -> 0 | L22: =ROUND(E22*F22,2) -> 0 | M22: =ROUND(H22*E22,2) -> 0 | N22: =ROUND(I22*E22,2) -> 0 | O22: =ROUND(J22*E22,2) -> 0 | P22: =SUM(M22:O22) -> 0
A23: 1.8. | B23: līg.cena | C23: makrofleks Putas, 750ml | D23: bal | E23: 4 | H23: =ROUND(F23*G23,2) -> 0 | K23: =SUM(H23:J23) -> 0 | L23: =ROUND(E23*F23,2) -> 0 | M23: =ROUND(H23*E23,2) -> 0 | N23: =ROUND(I23*E23,2) -> 0 | O23: =ROUND(J23*E23,2) -> 0 | P23: =SUM(M23:O23) -> 0
A24: 1.9. | B24: līg.cena | C24: Ārējas PVC veramas logu bloku L-3 montāža ar visiem palīgdarbiem | D24: gab | E24: 3 | H24: =ROUND(F24*G24,2) -> 0 | K24: =SUM(H24:J24) -> 0 | L24: =ROUND(E24*F24,2) -> 0 | M24: =ROUND(H24*E24,2) -> 0 | N24: =ROUND(I24*E24,2) -> 0 | O24: =ROUND(J24*E24,2) -> 0 | P24: =SUM(M24:O24) -> 0
A25: 1.10. | B25: līg.cena | C25: PVC veramas logu bloks L-3, 1450x1600mm U ≤1.0W/(m²K) | D25: gab | E25: 3 | H25: =ROUND(F25*G25,2) -> 0 | K25: =SUM(H25:J25) -> 0 | L25: =ROUND(E25*F25,2) -> 0 | M25: =ROUND(H25*E25,2) -> 0 | N25: =ROUND(I25*E25,2) -> 0 | O25: =ROUND(J25*E25,2) -> 0 | P25: =SUM(M25:O25) -> 0
A26: 1.11. | B26: līg.cena | C26: iekšejas palodze L=1650mm | D26: gab | E26: 3 | H26: =ROUND(F26*G26,2) -> 0 | K26: =SUM(H26:J26) -> 0 | L26: =ROUND(E26*F26,2) -> 0 | M26: =ROUND(H26*E26,2) -> 0 | N26: =ROUND(I26*E26,2) -> 0 | O26: =ROUND(J26*E26,2) -> 0 | P26: =SUM(M26:O26) -> 0
A27: 1.12. | B27: līg.cena | C27: makrofleks Putas, 750ml | D27: bal | E27: 1 | H27: =ROUND(F27*G27,2) -> 0 | K27: =SUM(H27:J27) -> 0 | L27: =ROUND(E27*F27,2) -> 0 | M27: =ROUND(H27*E27,2) -> 0 | N27: =ROUND(I27*E27,2) -> 0 | O27: =ROUND(J27*E27,2) -> 0 | P27: =SUM(M27:O27) -> 0
... A38: 1.23. | B38: līg.cena | C38: Visas logu blokus apdare ar hidroizolācijas lentu | D38: komp | E38: 1 | H38: =ROUND(F38*G38,2) -> 0 | K38: =SUM(H38:J38) -> 0 | L38: =ROUND(E38*F38,2) -> 0 | M38: =ROUND(H38*E38,2) -> 0 | N38: =ROUND(I38*E38,2) -> 0 | O38: =ROUND(J38*E38,2) -> 0 | P38: =SUM(M38:O38) -> 0
A39: 1.24. | B39: līg.cena | C39: hidroizolācijas lenta | D39: m | E39: 166 | H39: =ROUND(F39*G39,2) -> 0 | K39: =SUM(H39:J39) -> 0 | L39: =ROUND(E39*F39,2) -> 0 | N39: =ROUND(I39*E39,2) -> 0 | O39: =ROUND(J39*E39,2) -> 0 | P39: =SUM(M39:O39) -> 0
A40: 1.25. | B40: līg.cena | C40: Ārējas vienvērtnes durvis montāža ar visiem palīgdarbiem | D40: gab | E40: 2 | H40: =ROUND(F40*G40,2) -> 0 | K40: =SUM(H40:J40) -> 0 | L40: =ROUND(E40*F40,2) -> 0 | M40: =ROUND(H40*E40,2) -> 0 | N40: =ROUND(I40*E40,2) -> 0 | O40: =ROUND(J40*E40,2) -> 0 | P40: =SUM(M40:O40) -> 0
A41: 1.26. | B41: līg.cena | C41: vienvērtnes ārdurvis ar kodu slēdzene D-1, 1000x2100mm, ar alumīnijas rāmis un atvēršanas mehānismus - drošības aizslēgs U ≤1.8 W/(m²K) | D41: gab | E41: 1 | H41: =ROUND(F41*G41,2) -> 0 | K41: =SUM(H41:J41) -> 0 | L41: =ROUND(E41*F41,2) -> 0 | M41: =ROUND(H43*E43,2) -> 0 | N41: =ROUND(I41*E41,2) -> 0 | O41: =ROUND(J41*E41,2) -> 0 | P41: =SUM(M41:O41) -> 0
A42: 1.27. | B42: līg.cena | C42: vienvērtnes ārdurvis ar kodu slēdzene D-10, 1300x2250mm, ar alumīnijas rāmis un atvēršanas mehānismus - drošības aizslēgs U ≤1.8 W/(m²K) | D42: gab | E42: 1 | H42: =ROUND(F42*G42,2) -> 0 | K42: =SUM(H42:J42) -> 0 | L42: =ROUND(E42*F42,2) -> 0 | N42: =ROUND(I42*E42,2) -> 0 | O42: =ROUND(J42*E42,2) -> 0 | P42: =SUM(M42:O42) -> 0
A43: 1.28. | B43: līg.cena | C43: makrofleks Putas, 750ml | D43: bal | E43: 1 | H43: =ROUND(F43*G43,2) -> 0 | K43: =SUM(H43:J43) -> 0 | L43: =ROUND(E43*F43,2) -> 0 | N43: =ROUND(I43*E43,2) -> 0 | O43: =ROUND(J43*E43,2) -> 0 | P43: =SUM(M43:O43) -> 0
A44: 1.29. | B44: līg.cena | C44: Vienvērtnes PVC durvis D-2, 1000x2100mm un atvēršanas mehānismus - drošības aizslēgs montāza ar visiem palīgdarbiem | D44: gab | E44: 1 | H44: =ROUND(F44*G44,2) -> 0 | K44: =SUM(H44:J44) -> 0 | L44: =ROUND(E44*F44,2) -> 0 | M44: =ROUND(H44*E44,2) -> 0 | N44: =ROUND(I44*E44,2) -> 0 | O44: =ROUND(J44*E44,2) -> 0 | P44: =SUM(M44:O44) -> 0
A45: 1.30. | B45: līg.cena | C45: vienvērtnes PVC durvis D-2, 1000x2100mm ar atvēršanas mehānismus - drošības aizslēgs | D45: gab | E45: 1 | H45: =ROUND(F45*G45,2) -> 0 | K45: =SUM(H45:J45) -> 0 | L45: =ROUND(E45*F45,2) -> 0 | M45: =ROUND(H46*E46,2) -> 0 | N45: =ROUND(I45*E45,2) -> 0 | O45: =ROUND(J45*E45,2) -> 0 | P45: =SUM(M45:O45) -> 0
A46: 1.31. | B46: līg.cena | C46: makrofleks Putas, 750ml | D46: gab | E46: 1 | H46: =ROUND(F46*G46,2) -> 0 | K46: =SUM(H46:J46) -> 0 | L46: =ROUND(E46*F46,2) -> 0 | N46: =ROUND(I46*E46,2) -> 0 | O46: =ROUND(J46*E46,2) -> 0 | P46: =SUM(M46:O46) -> 0
A47: 1.32. | B47: līg.cena | C47: Iekšējas gludas PVC durvis montāza ar visiem palīgdarbiem | D47: gab | E47: 54 | H47: =ROUND(F47*G47,2) -> 0 | K47: =SUM(H47:J47) -> 0 | L47: =ROUND(E47*F47,2) -> 0 | M47: =ROUND(H47*E47,2) -> 0 | N47: =ROUND(I47*E47,2) -> 0 | O47: =ROUND(J47*E47,2) -> 0 | P47: =SUM(M47:O47) -> 0
A48: 1.33. | B48: līg.cena | C48: gludas PVC durvis D-3, 1000x2100mm ar aplodas no abām pusēm | D48: gab | E48: 20 | H48: =ROUND(F48*G48,2) -> 0 | K48: =SUM(H48:J48) -> 0 | L48: =ROUND(E48*F48,2) -> 0 | N48: =ROUND(I48*E48,2) -> 0 | O48: =ROUND(J48*E48,2) -> 0 | P48: =SUM(M48:O48) -> 0
A49: 1.34. | B49: līg.cena | C49: gludas PVC durvis D-4, 900x2100mm ar aplodas no abām pusēm | D49: gab | E49: 6 | H49: =ROUND(F49*G49,2) -> 0 | K49: =SUM(H49:J49) -> 0 | L49: =ROUND(E49*F49,2) -> 0 | N49: =ROUND(I49*E49,2) -> 0 | O49: =ROUND(J49*E49,2) -> 0 | P49: =SUM(M49:O49) -> 0
A50: 1.35. | B50: līg.cena | C50: gludas PVC durvis D-5, 700x2100mm ar aplodas no abām pusēm | D50: gab | E50: 28 | H50: =ROUND(F50*G50,2) -> 0 | K50: =SUM(H50:J50) -> 0 | L50: =ROUND(E50*F50,2) -> 0 | N50: =ROUND(I50*E50,2) -> 0 | O50: =ROUND(J50*E50,2) -> 0 | P50: =SUM(M50:O50) -> 0
A51: 1.36. | B51: līg.cena | C51: Siltinātas vienviru tērauda durvis D-6, 1500x2100mm montāža ar visiempalīgdarbiem | D51: gab | E51: 4 | H51: =ROUND(F51*G51,2) -> 0 | K51: =SUM(H51:J51) -> 0 | L51: =ROUND(E51*F51,2) -> 0 | M51: =ROUND(H51*E51,2) -> 0 | N51: =ROUND(I51*E51,2) -> 0 | O51: =ROUND(J51*E51,2) -> 0 | P51: =SUM(M51:O51) -> 0
A52: 1.37. | B52: līg.cena | C52: siltinātas vienviru tērauda durvis D-6, 1500x2100mm | D52: gab | E52: 4 | H52: =ROUND(F52*G52,2) -> 0 | K52: =SUM(H52:J52) -> 0 | L52: =ROUND(E52*F52,2) -> 0 | N52: =ROUND(I52*E52,2) -> 0 | O52: =ROUND(J52*E52,2) -> 0 | P52: =SUM(M52:O52) -> 0
A53: 1.38. | B53: līg.cena | C53: Bēniņu lūkas (siltinātas vienviru tērauda durvis D-7, 600x600mm) montāza ar visiem palīgdarbiem | D53: gab | E53: 1 | H53: =ROUND(F53*G53,2) -> 0 | K53: =SUM(H53:J53) -> 0 | L53: =ROUND(E53*F53,2) -> 0 | M53: =ROUND(H53*E53,2) -> 0 | N53: =ROUND(I53*E53,2) -> 0 | O53: =ROUND(J53*E53,2) -> 0 | P53: =SUM(M53:O53) -> 0
A54: 1.39. | B54: līg.cena | C54: bēniņu lūkas - siltinātas vienviru tērauda durvis D-7, 600x600mm | D54: gab | E54: 1 | H54: =ROUND(F54*G54,2) -> 0 | K54: =SUM(H54:J54) -> 0 | L54: =ROUND(E54*F54,2) -> 0 | N54: =ROUND(I54*E54,2) -> 0 | O54: =ROUND(J54*E54,2) -> 0 | P54: =SUM(M54:O54) -> 0
A55: 1.40. | B55: līg.cena | C55: Siltummezgla gurvis D-8, 800x1800mm montāža ar visiem palīgdarbiem | D55: gab | E55: 1 | H55: =ROUND(F55*G55,2) -> 0 | K55: =SUM(H55:J55) -> 0 | L55: =ROUND(E55*F55,2) -> 0 | M55: =ROUND(H55*E55,2) -> 0 | N55: =ROUND(I55*E55,2) -> 0 | O55: =ROUND(J55*E55,2) -> 0 | P55: =SUM(M55:O55) -> 0
A56: 1.41. | B56: līg.cena | C56: gludas PVC durvis D-8, 800x1800mm ar aplodas no abām pusēm | D56: gab | E56: 1 | H56: =ROUND(F56*G56,2) -> 0 | K56: =SUM(H56:J56) -> 0 | L56: =ROUND(E56*F56,2) -> 0 | N56: =ROUND(I56*E56,2) -> 0 | O56: =ROUND(J56*E56,2) -> 0 | P56: =SUM(M56:O56) -> 0
A57: 1.42. | B57: līg.cena | C57: Bīdamas gludas PVC durvis D-9, 700x2100mm montāza ar visiem palīgdarbiem | D57: gab | E57: 2 | H57: =ROUND(F57*G57,2) -> 0 | K57: =SUM(H57:J57) -> 0 | L57: =ROUND(E57*F57,2) -> 0 | M57: =ROUND(H57*E57,2) -> 0 | N57: =ROUND(I57*E57,2) -> 0 | O57: =ROUND(J57*E57,2) -> 0 | P57: =SUM(M57:O57) -> 0
A58: 1.43. | B58: līg.cena | C58: bīdamas gludas PVC durvis D-9, 700x2100mm ar aplodas no abām pusēm | D58: gab | E58: 2 | H58: =ROUND(F58*G58,2) -> 0 | K58: =SUM(H58:J58) -> 0 | L58: =ROUND(E58*F58,2) -> 0 | N58: =ROUND(I58*E58,2) -> 0 | O58: =ROUND(J58*E58,2) -> 0 | P58: =SUM(M58:O58) -> 0
A59: 1.44. | B59: līg.cena | C59: Visas durvju blokus pēc montāza apdare ar hidroizolācijas lentu | D59: komp | E59: 1 | H59: =ROUND(F59*G59,2) -> 0 | K59: =SUM(H59:J59) -> 0 | L59: =ROUND(E59*F59,2) -> 0 | M59: =ROUND(H59*E59,2) -> 0 | N59: =ROUND(I59*E59,2) -> 0 | O59: =ROUND(J59*E59,2) -> 0 | P59: =SUM(M59:O59) -> 0
A60: 1.45. | B60: līg.cena | C60: hidroizolācijas lenta | D60: m | E60: 162 | H60: =ROUND(F60*G60,2) -> 0 | K60: =SUM(H60:J60) -> 0 | L60: =ROUND(E60*F60,2) -> 0 | M60: =ROUND(H61*E61,2) -> 0 | N60: =ROUND(I60*E60,2) -> 0 | O60: =ROUND(J60*E60,2) -> 0 | P60: =SUM(M60:O60) -> 0
A61: 2 | B61: līg.cena | C61: Balkonu remonts | H61: =ROUND(F61*G61,2) -> 0 | K61: =SUM(H61:J61) -> 0 | L61: =ROUND(E61*F61,2) -> 0 | N61: =ROUND(I61*E61,2) -> 0 | O61: =ROUND(J61*E61,2) -> 0 | P61: =SUM(M61:O61) -> 0
A62: 2.1. | B62: līg.cena | C62: Atjaunošanas betona aisargslānu ierīkošana ar visiem palīgdarbiem | D62: m2 | E62: 8.7 | H62: =ROUND(F62*G62,2) -> 0 | K62: =SUM(H62:J62) -> 0 | L62: =ROUND(E62*F62,2) -> 0 | M62: =ROUND(H62*E62,2) -> 0 | N62: =ROUND(I62*E62,2) -> 0 | O62: =ROUND(J62*E62,2) -> 0 | P62: =SUM(M62:O62) -> 0
A63: 2.2. | B63: līg.cena | C63: cementa maisijums Seresit CX 5 vai ekvivallents | D63: kg | E63: 12 | H63: =ROUND(F63*G63,2) -> 0 | K63: =SUM(H63:J63) -> 0 | L63: =ROUND(E63*F63,2) -> 0 | M63: =ROUND(H63*E63,2) -> 0 | N63: =ROUND(I63*E63,2) -> 0 | O63: =ROUND(J63*E63,2) -> 0 | P63: =SUM(M63:O63) -> 0
A64: 2.3. | B64: līg.cena | C64: betons mārkas C30/37 XC3 | D64: m3 | E64: 1.4 | H64: =ROUND(F64*G64,2) -> 0 | K64: =SUM(H64:J64) -> 0 | L64: =ROUND(E64*F64,2) -> 0 | M64: =ROUND(H64*E64,2) -> 0 | N64: =ROUND(I64*E64,2) -> 0 | O64: =ROUND(J64*E64,2) -> 0 | P64: =SUM(M64:O64) -> 0
A65: 2.4. | B65: līg.cena | C65: ūdensiztūrīgas fineris | D65: m2 | E65: 6.2 | H65: =ROUND(F65*G65,2) -> 0 | K65: =SUM(H65:J65) -> 0 | L65: =ROUND(E65*F65,2) -> 0 | M65: =ROUND(H65*E65,2) -> 0 | N65: =ROUND(I65*E65,2) -> 0 | O65: =ROUND(J65*E65,2) -> 0 | P65: =SUM(M65:O65) -> 0
A66: 2.5. | B66: līg.cena | C66: sastiprīnašanas detaļas | D66: komp | E66: 1 | H66: =ROUND(F66*G66,2) -> 0 | K66: =SUM(H66:J66) -> 0 | L66: =ROUND(E66*F66,2) -> 0 | M66: =ROUND(H66*E66,2) -> 0 | N66: =ROUND(I66*E66,2) -> 0 | P66: =SUM(M66:O66) -> 0
A67: 2.6. | B67: līg.cena | C67: Margas virsmu attīrīšana no vecās krāsas un rūsas, sagatavošana un krāsošana ar visiem palīgdarbiem | D67: m2 | E67: 15.2 | H67: =ROUND(F67*G67,2) -> 0 | K67: =SUM(H67:J67) -> 0 | L67: =ROUND(E67*F67,2) -> 0 | M67: =ROUND(H67*E67,2) -> 0 | N67: =ROUND(I67*E67,2) -> 0 | O67: =ROUND(J67*E67,2) -> 0 | P67: =SUM(M67:O67) -> 0
A68: 2.7. | B68: līg.cena | C68: rūsas pārvejdotājs | D68: l | E68: 2.5 | H68: =ROUND(F68*G68,2) -> 0 | K68: =SUM(H68:J68) -> 0 | L68: =ROUND(E68*F68,2) -> 0 | M68: =ROUND(H68*E68,2) -> 0 | N68: =ROUND(I68*E68,2) -> 0 | O68: =ROUND(J68*E68,2) -> 0 | P68: =SUM(M68:O68) -> 0
A69: 2.8, | B69: līg.cena | C69: krāsa pa metāllas | D69: l | E69: 4.6 | H69: =ROUND(F69*G69,2) -> 0 | K69: =SUM(H69:J69) -> 0 | L69: =ROUND(E69*F69,2) -> 0 | M69: =ROUND(H69*E69,2) -> 0 | N69: =ROUND(I69*E69,2) -> 0 | O69: =ROUND(J69*E69,2) -> 0 | P69: =SUM(M69:O69) -> 0
A70: 2.9. | B70: līg.cena | C70: Balkonas apakšaju virsmu krāsošana ar visiem palīgdarbiem | D70: m2 | E70: 18.8 | H70: =ROUND(F70*G70,2) -> 0 | K70: =SUM(H70:J70) -> 0 | L70: =ROUND(E70*F70,2) -> 0 | M70: =ROUND(H70*E70,2) -> 0 | N70: =ROUND(I70*E70,2) -> 0 | O70: =ROUND(J70*E70,2) -> 0 | P70: =SUM(M70:O70) -> 0
A71: Tiešās izmaksas kopā, t. sk. darba devēja sociālais nodoklis 24.09% | L71: =SUM(L15:L70) -> 0 | M71: =SUM(M15:M70) -> 0 | N71: =SUM(N15:N70) -> 0 | O71: =SUM(O15:O70) -> 0 | P71: =SUM(P15:P70) -> 0
A74: Sastādīja | C74: ='Kops a'!C39:H39 -> Vasilijs Ivanovs
C75: (paraksts un tā atšifrējums, datums)
A77: ='Kops a'!A42 -> Tāme sastādīta 2024. gada 26. augusta
A79: Pārbaudīja | C79: ='Kops a'!C44:H44 -> Vasilijs Ivanovs
C80: (paraksts un tā atšifrējums, datums)
A82: Sertifikāta Nr | C82: ='Kops a'!C47 -> 4-01907

Sheet 1.5.
C1: Lokālā tāme Nr. | D1: 1.5.
C2: Apdares darbi (Vispārējie būvdarbi)
C3: (darba veids vai konstruktīvā elementa nosaukums)
C4: Attiecināmās izmaksas
C5: Būves nosaukums: | D5: ='Kops a'!D6 -> Daudzīvokļu dzīvojamais mājās
C6: Objekta nosaukums: | D6: ='Kops a'!D7 -> Energoefektivitātes paaugstināšana daudzdzīvokļu dzīvojamai mājai
C7: Objekta adrese: | D7: ='Kops a'!D8 -> Rūpnīcas ielā 6, Rēzeknē, LV-4604
C8: Pasūtījuma Nr. | D8: ='Kops a'!D9 -> TP_01.24
A9: Tāme sastādīta 2024. gada tirgus cenās, pamatojoties uz AR daļas rasējumiem | J9: Tāmes izmaksas EUR | N9: =P68 -> 0
P10: =A74 -> Tāme sastādīta 2024. gada 26. augusta
A12: Nr.p.k. | B12: Kods | C12: Darba nosaukums | D12: Mērvienība | E12: Daudzums | F12: Vienības izmaksas | L12: Kopā uz visu apjomu
F13: Laika norma (c/h) | G13: Darba samaksas likme (EUR/h) | H13: Darba alga (EUR) | I13: Būvizstrādājumi (EUR) | J13: Mehānismi (EUR) | K13: Kopā (EUR) | L13: Laika norma (c/h) | M13: Darba alga (EUR) | N13: Būvizstrādājumi (EUR) | O13: Mehānismi (EUR) | P13: Kopā (EUR)
A14: 1 | B14: 2 | C14: 3 | D14: 4 | E14: 5 | F14: 6 | G14: 7 | H14: 8 | I14: 9 | J14: 10 | K14: 11 | L14: 12 | M14: 13 | N14: 14 | O14: 15 | P14: 16
A15: 1 | C15: Iekšējas darbi
A16: 1.1. | B16: līg.cena | C16: Griestu no reģipškartona špaktelešana, slīpēšana un sagatavošana krāsošanai ar visiem palīgdarbiem | D16: m2 | E16: 791.5 | H16: =ROUND(F16*G16,2) -> 0 | K16: =SUM(H16:J16) -> 0 | L16: =ROUND(E16*F16,2) -> 0 | M16: =ROUND(H16*E16,2) -> 0 | N16: =ROUND(I16*E16,2) -> 0 | O16: =ROUND(J16*E16,2) -> 0 | P16: =SUM(M16:O16) -> 0
A17: 1.2. | B17: līg.cena | C17: špaktele Kestonit LH vai ekvivalents | D17: kg | E17: 1150 | H17: =ROUND(F17*G17,2) -> 0 | K17: =SUM(H17:J17) -> 0 | L17: =ROUND(E17*F17,2) -> 0 | M17: =ROUND(H17*E17,2) -> 0 | N17: =ROUND(I17*E17,2) -> 0 | O17: =ROUND(J17*E17,2) -> 0 | P17: =SUM(M17:O17) -> 0
A18: 1.3. | B18: līg.cena | C18: špaktele SHEETROCK vai ekvivalents | D18: kg | E18: 240 | H18: =ROUND(F18*G18,2) -> 0 | K18: =SUM(H18:J18) -> 0 | L18: =ROUND(E18*F18,2) -> 0 | M18: =ROUND(H18*E18,2) -> 0 | N18: =ROUND(I18*E18,2) -> 0 | O18: =ROUND(J18*E18,2) -> 0 | P18: =SUM(M18:O18) -> 0
A19: 1.4. | B19: līg.cena | C19: smilšpapirs | D19: m2 | E19: 3 | H19: =ROUND(F19*G19,2) -> 0 | K19: =SUM(H19:J19) -> 0 | L19: =ROUND(E19*F19,2) -> 0 | M19: =ROUND(H19*E19,2) -> 0 | N19: =ROUND(I19*E19,2) -> 0 | O19: =ROUND(J19*E19,2) -> 0 | P19: =SUM(M19:O19) -> 0
A20: 1.5. | B20: līg.cena | C20: grunts Sakret UG vai ekvivalents | D20: l | E20: 12 | H20: =ROUND(F20*G20,2) -> 0 | K20: =SUM(H20:J20) -> 0 | L20: =ROUND(E20*F20,2) -> 0 | M20: =ROUND(H20*E20,2) -> 0 | N20: =ROUND(I20*E20,2) -> 0 | O20: =ROUND(J20*E20,2) -> 0 | P20: =SUM(M20:O20) -> 0
A21: 1.8. | B21: līg.cena | C21: Griestu krāsošana ar visiem palīgdarbiem | D21: m2 | E21: 791.5 | H21: =ROUND(F21*G21,2) -> 0 | K21: =SUM(H21:J21) -> 0 | L21: =ROUND(E21*F21,2) -> 0 | M21: =ROUND(H21*E21,2) -> 0 | N21: =ROUND(I21*E21,2) -> 0 | O21: =ROUND(J21*E21,2) -> 0 | P21: =SUM(M21:O21) -> 0
A22: 1.9. | B22: līg.cena | C22: ūdens dispersijas krāsa | D22: l | E22: 198 | H22: =ROUND(F22*G22,2) -> 0 | K22: =SUM(H22:J22) -> 0 | L22: =ROUND(E22*F22,2) -> 0 | M22: =ROUND(H22*E22,2) -> 0 | N22: =ROUND(I22*E22,2) -> 0 | O22: =ROUND(J22*E22,2) -> 0 | P22: =SUM(M22:O22) -> 0
A23: 1.10. | B23: līg.cena | C23: Sienas virsmu špaktelēšana, slīpešana un sagatavoša tapetes līmešanai ar visiem palīgdarbiem | D23: m2 | E23: 1803.4 | H23: =ROUND(F23*G23,2) -> 0 | K23: =SUM(H23:J23) -> 0 | L23: =ROUND(E23*F23,2) -> 0 | M23: =ROUND(H23*E23,2) -> 0 | N23: =ROUND(I23*E23,2) -> 0 | O23: =ROUND(J23*E23,2) -> 0 | P23: =SUM(M23:O23) -> 0
A24: 1.11. | B24: līg.cena | C24: špaktele Kestonit LN vai ekvivalents | D24: kg | E24: 2164 | H24: =ROUND(F24*G24,2) -> 0 | K24: =SUM(H24:J24) -> 0 | L24: =ROUND(E24*F24,2) -> 0 | M24: =ROUND(H24*E24,2) -> 0 | N24: =ROUND(I24*E24,2) -> 0 | O24: =ROUND(J24*E24,2) -> 0 | P24: =SUM(M24:O24) -> 0
A25: 1.12. | B25: līg.cena | C25: špaktele SHEETROCK vai ekvivalents | D25: kg | E25: 380 | H25: =ROUND(F25*G25,2) -> 0 | K25: =SUM(H25:J25) -> 0 | L25: =ROUND(E25*F25,2) -> 0 | M25: =ROUND(H25*E25,2) -> 0 | N25: =ROUND(I25*E25,2) -> 0 | O25: =ROUND(J25*E25,2) -> 0 | P25: =SUM(M25:O25) -> 0
A26: 1.13. | B26: līg.cena | C26: smilšpapirs | D26: m2 | E26: 8 | H26: =ROUND(F26*G26,2) -> 0 | K26: =SUM(H26:J26) -> 0 | L26: =ROUND(E26*F26,2) -> 0 | M26: =ROUND(H26*E26,2) -> 0 | N26: =ROUND(I26*E26,2) -> 0 | O26: =ROUND(J26*E26,2) -> 0 | P26: =SUM(M26:O26) -> 0
A27: 1.14. | B27: līg.cena | C27: grunts Sakret UG vai ekvivalents | D27: l | E27: 258 | H27: =ROUND(F27*G27,2) -> 0 | K27: =SUM(H27:J27) -> 0 | L27: =ROUND(E27*F27,2) -> 0 | M27: =ROUND(H27*E27,2) -> 0 | N27: =ROUND(I27*E27,2) -> 0 | O27: =ROUND(J27*E27,2) -> 0 | P27: =SUM(M27:O27) -> 0
... A46: 1.33. | B46: līg.cena | C46: sturīšu līstes | D46: m | E46: 64 | H46: =ROUND(F46*G46,2) -> 0 | K46: =SUM(H46:J46) -> 0 | L46: =ROUND(E46*F46,2) -> 0 | M46: =ROUND(H46*E46,2) -> 0 | N46: =ROUND(I46*E46,2) -> 0 | O46: =ROUND(J46*E46,2) -> 0 | P46: =SUM(M46:O46) -> 0
A47: 2 | C47: Ārējas darbi | H47: =ROUND(F47*G47,2) -> 0 | K47: =SUM(H47:J47) -> 0 | L47: =ROUND(E47*F47,2) -> 0 | M47: =ROUND(H47*E47,2) -> 0 | N47: =ROUND(I47*E47,2) -> 0 | O47: =ROUND(J47*E47,2) -> 0 | P47: =SUM(M47:O47) -> 0
A48: 2.1. | B48: līg.cena | C48: Fasādes virsmu sagatavošana siltumizolācijai ar visiem palīgdarbiem | D48: m2 | E48: 688 | H48: =ROUND(F48*G48,2) -> 0 | K48: =SUM(H48:J48) -> 0 | L48: =ROUND(E48*F48,2) -> 0 | M48: =ROUND(H48*E48,2) -> 0 | N48: =ROUND(I48*E48,2) -> 0 | O48: =ROUND(J48*E48,2) -> 0 | P48: =SUM(M48:O48) -> 0
A49: 2.2. | B49: līg.cena | C49: grunts Sakret UG vai ekvivalents | D49: l | E49: 172 | H49: =ROUND(F49*G49,2) -> 0 | K49: =SUM(H49:J49) -> 0 | L49: =ROUND(E49*F49,2) -> 0 | M49: =ROUND(H49*E49,2) -> 0 | N49: =ROUND(I49*E49,2) -> 0 | O49: =ROUND(J49*E49,2) -> 0 | P49: =SUM(M49:O49) -> 0
A50: 2.3. | B50: līg.cena | C50: cokola profils b=200mm | D50: m | E50: 103 | H50: =ROUND(F50*G50,2) -> 0 | K50: =SUM(H50:J50) -> 0 | L50: =ROUND(E50*F50,2) -> 0 | M50: =ROUND(H50*E50,2) -> 0 | N50: =ROUND(I50*E50,2) -> 0 | O50: =ROUND(J50*E50,2) -> 0 | P50: =SUM(M50:O50) -> 0
A51: 2.4. | B51: līg.cena | C51: dibeļnaglas | D51: gab | E51: 103 | H51: =ROUND(F51*G51,2) -> 0 | K51: =SUM(H51:J51) -> 0 | L51: =ROUND(E51*F51,2) -> 0 | M51: =ROUND(H51*E51,2) -> 0 | N51: =ROUND(I51*E51,2) -> 0 | O51: =ROUND(J51*E51,2) -> 0 | P51: =SUM(M51:O51) -> 0
A52: 2.5. | B52: līg.cena | C52: Fasādes virsmu siltināšana ar visiem palīgdarbiem | D52: m2 | E52: 688 | H52: =ROUND(F52*G52,2) -> 0 | K52: =SUM(H52:J52) -> 0 | L52: =ROUND(E52*F52,2) -> 0 | M52: =ROUND(H52*E52,2) -> 0 | N52: =ROUND(I52*E52,2) -> 0 | O52: =ROUND(J52*E52,2) -> 0 | P52: =SUM(M52:O52) -> 0
A53: 2.6. | B53: līg.cena | C53: līme Sakret BAK vai ekvivalents | D53: kg | E53: 2064 | H53: =ROUND(F53*G53,2) -> 0 | K53: =SUM(H53:J53) -> 0 | L53: =ROUND(E53*F53,2) -> 0 | M53: =ROUND(H53*E53,2) -> 0 | N53: =ROUND(I53*E53,2) -> 0 | O53: =ROUND(J53*E53,2) -> 0 | P53: =SUM(M53:O53) -> 0
A54: 2.7. | B54: līg.cena | C54: siltumizolācijas akmens vate fasadiem 90kg/m3; ≥ 30kPa; ≤0.040W/mK; 200mm Paroc Linio 15 vai ekvivalents | D54: m2 | E54: 688 | H54: =ROUND(F54*G54,2) -> 0 | K54: =SUM(H54:J54) -> 0 | L54: =ROUND(E54*F54,2) -> 0 | M54: =ROUND(H54*E54,2) -> 0 | N54: =ROUND(I54*E54,2) -> 0 | O54: =ROUND(J54*E54,2) -> 0 | P54: =SUM(M54:O54) -> 0
A55: 2.8. | B55: līg.cena | C55: dibeli | D55: gab | E55: 5504 | H55: =ROUND(F55*G55,2) -> 0 | K55: =SUM(H55:J55) -> 0 | L55: =ROUND(E55*F55,2) -> 0 | M55: =ROUND(H55*E55,2) -> 0 | N55: =ROUND(I55*E55,2) -> 0 | O55: =ROUND(J55*E55,2) -> 0 | P55: =SUM(M55:O55) -> 0
A56: 2.9. | B56: līg.cena | C56: siltumizolācijas akmens vate fasadiem 90kg/m3; ≥ 30kPa;≤0.040W/mK; 30mm Paroc Linio 15 vai ekvivalents | D56: m2 | E56: 70.4 | H56: =ROUND(F56*G56,2) -> 0 | K56: =SUM(H56:J56) -> 0 | L56: =ROUND(E56*F56,2) -> 0 | M56: =ROUND(H56*E56,2) -> 0 | N56: =ROUND(I56*E56,2) -> 0 | O56: =ROUND(J56*E56,2) -> 0 | P56: =SUM(M56:O56) -> 0
A57: 2.10. | B57: līg.cena | C57: stiklšķiedres siets | D57: m2 | E57: 872 | H57: =ROUND(F57*G57,2) -> 0 | K57: =SUM(H57:J57) -> 0 | L57: =ROUND(E57*F57,2) -> 0 | M57: =ROUND(H57*E57,2) -> 0 | N57: =ROUND(I57*E57,2) -> 0 | O57: =ROUND(J57*E57,2) -> 0 | P57: =SUM(M57:O57) -> 0
A58: 2.11. | B58: līg.cena | C58: PVC + siets sturis | D58: m | E58: 220 | H58: =ROUND(F58*G58,2) -> 0 | K58: =SUM(H58:J58) -> 0 | L58: =ROUND(E58*F58,2) -> 0 | M58: =ROUND(H58*E58,2) -> 0 | N58: =ROUND(I58*E58,2) -> 0 | O58: =ROUND(J58*E58,2) -> 0 | P58: =SUM(M58:O58) -> 0
A59: 2.12. | B59: līg.cena | C59: līme Sakret BAK vai ekvivalents | D59: kg | E59: 4128 | H59: =ROUND(F59*G59,2) -> 0 | K59: =SUM(H59:J59) -> 0 | L59: =ROUND(E59*F59,2) -> 0 | M59: =ROUND(H59*E59,2) -> 0 | N59: =ROUND(I59*E59,2) -> 0 | O59: =ROUND(J59*E59,2) -> 0 | P59: =SUM(M59:O59) -> 0
... A67: 2.20. | B67: līg.cena | C67: Ārējas palodzes montāza no PE materiāla ar visiem palīgdarbiem | D67: m | E67: 71.9 | H67: =ROUND(F67*G67,2) -> 0 | K67: =SUM(H67:J67) -> 0 | L67: =ROUND(E67*F67,2) -> 0 | M67: =ROUND(H67*E67,2) -> 0 | N67: =ROUND(I67*E67,2) -> 0 | O67: =ROUND(J67*E67,2) -> 0 | P67: =SUM(M67:O67) -> 0
A68: Tiešās izmaksas kopā, t. sk. darba devēja sociālais nodoklis 24.09% | L68: =SUM(L15:L67) -> 0 | M68: =SUM(M15:M67) -> 0 | N68: =SUM(N15:N67) -> 0 | O68: =SUM(O15:O67) -> 0 | P68: =SUM(P15:P67) -> 0
A71: Sastādīja | C71: ='Kops a'!C39:H39 -> Vasilijs Ivanovs
C72: (paraksts un tā atšifrējums, datums)
A74: ='Kops a'!A42 -> Tāme sastādīta 2024. gada 26. augusta
A76: Pārbaudīja | C76: ='Kops a'!C44:H44 -> Vasilijs Ivanovs
C77: (paraksts un tā atšifrējums, datums)
A79: Sertifikāta Nr | C79: ='Kops a'!C47 -> 4-01907

Sheet 1.6.
C1: Lokālā tāme Nr. | D1: 1.6.
C2: Grīdas (Vispārējie būvdarbi)
C3: (darba veids vai konstruktīvā elementa nosaukums)
C4: Attiecināmās izmaksas
C5: Būves nosaukums: | D5: ='Kops a'!D6 -> Daudzīvokļu dzīvojamais mājās
C6: Objekta nosaukums: | D6: ='Kops a'!D7 -> Energoefektivitātes paaugstināšana daudzdzīvokļu dzīvojamai mājai
C7: Objekta adrese: | D7: Rūpniecības 6, Rēzekne
C8: Pasūtījuma Nr. | D8: ='Kops a'!D9 -> TP_01.24
A9: Tāme sastādīta 2024. gada tirgus cenās, pamatojoties uz AR un BK daļas rasējumiem | J9: Tāmes izmaksas EUR | N9: =P111 -> 0
P10: =A117 -> Tāme sastādīta 2024. gada 26. augusta
A12: Nr.p.k. | B12: Kods | C12: Darba nosaukums | D12: Mērvienība | E12: Daudzums | F12: Vienības izmaksas | L12: Kopā uz visu apjomu
F13: Laika norma (c/h) | G13: Darba samaksas likme (EUR/h) | H13: Darba alga (EUR) | I13: Būvizstrādājumi (EUR) | J13: Mehānismi (EUR) | K13: Kopā (EUR) | L13: Laika norma (c/h) | M13: Darba alga (EUR) | N13: Būvizstrādājumi (EUR) | O13: Mehānismi (EUR) | P13: Kopā (EUR)
A14: 1 | B14: 2 | C14: 3 | D14: 4 | E14: 5 | F14: 6 | G14: 7 | H14: 8 | I14: 9 | J14: 10 | K14: 11 | L14: 12 | M14: 13 | N14: 14 | O14: 15 | P14: 16
C15: Grīdas | H15: =ROUND(F15*G15,2) -> 0 | K15: =SUM(H15:J15) -> 0 | L15: =ROUND(E15*F15,2) -> 0 | M15: =ROUND(H15*E15,2) -> 0 | N15: =ROUND(I15*E15,2) -> 0 | O15: =ROUND(J15*E15,2) -> 0 | P15: =SUM(M15:O15) -> 0
A16: 1 | B16: līg.cena | C16: G-1(151,9m2) | H16: =ROUND(F16*G16,2) -> 0 | K16: =SUM(H16:J16) -> 0 | L16: =ROUND(E16*F16,2) -> 0 | M16: =ROUND(H16*E16,2) -> 0 | N16: =ROUND(I16*E16,2) -> 0 | O16: =ROUND(J16*E16,2) -> 0 | P16: =SUM(M16:O16) -> 0
A17: 1.1. | B17: līg.cena | C17: Smilšu pamatne ierīkošana h=100mm uz sablīvēta esoša grunti ar blietēšanu ar visiem palīgdarbiem | D17: m2 | E17: 159.8 | H17: =ROUND(F17*G17,2) -> 0 | K17: =SUM(H17:J17) -> 0 | L17: =ROUND(E17*F17,2) -> 0 | M17: =ROUND(H17*E17,2) -> 0 | N17: =ROUND(I17*E17,2) -> 0 | O17: =ROUND(J17*E17,2) -> 0 | P17: =SUM(M17:O17) -> 0
A18: 1.2. | B18: līg.cena | C18: smilts | D18: m3 | E18: 16.7 | H18: =ROUND(F18*G18,2) -> 0 | K18: =SUM(H18:J18) -> 0 | L18: =ROUND(E18*F18,2) -> 0 | M18: =ROUND(H18*E18,2) -> 0 | N18: =ROUND(I18*E18,2) -> 0 | O18: =ROUND(J18*E18,2) -> 0 | P18: =SUM(M18:O18) -> 0
A19: 1.3. | B19: līg.cena | C19: Šķiembas slāņu ierīkošana h=100mm ar blietēšanu | D19: m2 | E19: 151.9 | H19: =ROUND(F19*G19,2) -> 0 | K19: =SUM(H19:J19) -> 0 | L19: =ROUND(E19*F19,2) -> 0 | M19: =ROUND(H19*E19,2) -> 0 | N19: =ROUND(I19*E19,2) -> 0 | O19: =ROUND(J19*E19,2) -> 0 | P19: =SUM(M19:O19) -> 0
A20: 1.4. | B20: līg.cena | C20: šķiembas fr. 10-20mm | D20: m3 | E20: 16.7 | K20: =SUM(H20:J20) -> 0 | L20: =ROUND(E20*F20,2) -> 0 | M20: =ROUND(H20*E20,2) -> 0 | N20: =ROUND(I20*E20,2) -> 0 | O20: =ROUND(J20*E20,2) -> 0 | P20: =SUM(M20:O20) -> 0
A21: 1.5. | B21: līg.cena | C21: Betona pamatslāņu h=80mm ierīkošana ar stiegrojumu ar visiem palīgdarbiem | D21: m2 | E21: 151.9 | H21: =ROUND(F21*G21,2) -> 0 | K21: =SUM(H21:J21) -> 0 | L21: =ROUND(E21*F21,2) -> 0 | M21: =ROUND(H21*E21,2) -> 0 | N21: =ROUND(I21*E21,2) -> 0 | O21: =ROUND(J21*E21,2) -> 0 | P21: =SUM(M21:O21) -> 0
A22: 1.6. | B22: līg.cena | C22: stiegrojuma siets d4mm 50x50mm | D22: m2 | E22: 152 | H22: =ROUND(F22*G22,2) -> 0 | K22: =SUM(H22:J22) -> 0 | L22: =ROUND(E22*F22,2) -> 0 | M22: =ROUND(H22*E22,2) -> 0 | N22: =ROUND(I22*E22,2) -> 0 | O22: =ROUND(J22*E22,2) -> 0 | P22: =SUM(M22:O22) -> 0
A23: 1.7. | B23: līg.cena | C23: distanceri | D23: gab | E23: 152 | H23: =ROUND(F23*G23,2) -> 0 | K23: =SUM(H23:J23) -> 0 | L23: =ROUND(E23*F23,2) -> 0 | M23: =ROUND(H23*E23,2) -> 0 | N23: =ROUND(I23*E23,2) -> 0 | O23: =ROUND(J23*E23,2) -> 0 | P23: =SUM(M23:O23) -> 0
A24: 1.8. | B24: līg.cena | C24: betons mārkas ESTIH CT C16 F4 | D24: m3 | E24: 12.8 | H24: =ROUND(F24*G24,2) -> 0 | K24: =SUM(H24:J24) -> 0 | L24: =ROUND(E24*F24,2) -> 0 | M24: =ROUND(H24*E24,2) -> 0 | N24: =ROUND(I24*E24,2) -> 0 | O24: =ROUND(J24*E24,2) -> 0 | P24: =SUM(M24:O24) -> 0
A25: 1.9. | B25: līg.cena | C25: Hidroizolācija ierīkošana no plēve | D25: m2 | E25: 151.9 | H25: =ROUND(F25*G25,2) -> 0 | K25: =SUM(H25:J25) -> 0 | L25: =ROUND(E25*F25,2) -> 0 | M25: =ROUND(H25*E25,2) -> 0 | N25: =ROUND(I25*E25,2) -> 0 | O25: =ROUND(J25*E25,2) -> 0 | P25: =SUM(M25:O25) -> 0
A26: 1.10. | B26: līg.cena | C26: plēve 0,03 | D26: m2 | E26: 174.7 | H26: =ROUND(F26*G26,2) -> 0 | K26: =SUM(H26:J26) -> 0 | L26: =ROUND(E26*F26,2) -> 0 | M26: =ROUND(H26*E26,2) -> 0 | N26: =ROUND(I26*E26,2) -> 0 | O26: =ROUND(J26*E26,2) -> 0 | P26: =SUM(M26:O26) -> 0
A27: 1.11. | B27: līg.cena | C27: Siltumizolācija ierīkošana no putupolistirola | D27: m2 | E27: 151.9 | H27: =ROUND(F27*G27,2) -> 0 | K27: =SUM(H27:J27) -> 0 | L27: =ROUND(E27*F27,2) -> 0 | M27: =ROUND(H27*E27,2) -> 0 | N27: =ROUND(I27*E27,2) -> 0 | O27: =ROUND(J27*E27,2) -> 0 | P27: =SUM(M27:O27) -> 0
A28: 1.12. | B28: līg.cena | C28: putupolistirols 150 2x50mm Tenapors EPS 150 vai ekvivalents | D28: m2 | E28: 151.9 | H28: =ROUND(F28*G28,2) -> 0 | K28: =SUM(H28:J28) -> 0 | L28: =ROUND(E28*F28,2) -> 0 | M28: =ROUND(H28*E28,2) -> 0 | N28: =ROUND(I28*E28,2) -> 0 | O28: =ROUND(J28*E28,2) -> 0 | P28: =SUM(M28:O28) -> 0
A29: 1.13. | B29: līg.cena | C29: Hidroizolācija ierīkošana no plēve | D29: m2 | E29: 151.9 | H29: =ROUND(F29*G29,2) -> 0 | K29: =SUM(H29:J29) -> 0 | L29: =ROUND(E29*F29,2) -> 0 | M29: =ROUND(H29*E29,2) -> 0 | N29: =ROUND(I29*E29,2) -> 0 | O29: =ROUND(J29*E29,2) -> 0 | P29: =SUM(M29:O29) -> 0
A30: 1.14. | B30: līg.cena | C30: plēve 0,03 | D30: m2 | E30: 174.9 | H30: =ROUND(F30*G30,2) -> 0 | K30: =SUM(H30:J30) -> 0 | L30: =ROUND(E30*F30,2) -> 0 | M30: =ROUND(H30*E30,2) -> 0 | N30: =ROUND(I30*E30,2) -> 0 | O30: =ROUND(J30*E30,2) -> 0 | P30: =SUM(M30:O30) -> 0
A31: 1.15. | B31: līg.cena | C31: Armēta plātne h=60mm ierīkošana no betona mārkas C20/25 XP1 ar stiegrojumu ar visiem palīgdarbiem | D31: m2 | E31: 151.9 | H31: =ROUND(F31*G31,2) -> 0 | K31: =SUM(H31:J31) -> 0 | L31: =ROUND(E31*F31,2) -> 0 | M31: =ROUND(H31*E31,2) -> 0 | N31: =ROUND(I31*E31,2) -> 0 | O31: =ROUND(J31*E31,2) -> 0 | P31: =SUM(M31:O31) -> 0
A32: 1.16. | B32: līg.cena | C32: Sakret malu lenta betonēšanai | D32: m | E32: 105 | H32: =ROUND(F32*G32,2) -> 0 | K32: =SUM(H32:J32) -> 0 | L32: =ROUND(E32*F32,2) -> 0 | M32: =ROUND(H32*E32,2) -> 0 | N32: =ROUND(I32*E32,2) -> 0 | O32: =ROUND(J32*E32,2) -> 0 | P32: =SUM(M32:O32) -> 0
... A46: 1.30. | B46: līg.cena | C46: līstes līme | D46: komp | E46: 1 | H46: =ROUND(F46*G46,2) -> 0 | K46: =SUM(H46:J46) -> 0 | L46: =ROUND(E46*F46,2) -> 0 | M46: =ROUND(H46*E46,2) -> 0 | N46: =ROUND(I46*E46,2) -> 0 | O46: =ROUND(J46*E46,2) -> 0 | P46: =SUM(M46:O46) -> 0
A47: 2 | B47: līg.cena | C47: G-2(232,0m2) | H47: =ROUND(F47*G47,2) -> 0 | K47: =SUM(H47:J47) -> 0 | L47: =ROUND(E47*F47,2) -> 0 | M47: =ROUND(H47*E47,2) -> 0 | N47: =ROUND(I47*E47,2) -> 0 | O47: =ROUND(J47*E47,2) -> 0 | P47: =SUM(M47:O47) -> 0
A48: 2.1. | B48: līg.cena | C48: Smilšu pamatne ierīkošana h=100mm uz sablīvēta esoša grunti ar blietēšanu ar visiem palīgdarbiem | D48: m2 | E48: 224.1 | H48: =ROUND(F48*G48,2) -> 0 | K48: =SUM(H48:J48) -> 0 | L48: =ROUND(E48*F48,2) -> 0 | M48: =ROUND(H48*E48,2) -> 0 | N48: =ROUND(I48*E48,2) -> 0 | O48: =ROUND(J48*E48,2) -> 0 | P48: =SUM(M48:O48) -> 0
A49: 2.2. | B49: līg.cena | C49: smilts | D49: m3 | E49: 25.5 | H49: =ROUND(F49*G49,2) -> 0 | K49: =SUM(H49:J49) -> 0 | L49: =ROUND(E49*F49,2) -> 0 | M49: =ROUND(H49*E49,2) -> 0 | N49: =ROUND(I49*E49,2) -> 0 | O49: =ROUND(J49*E49,2) -> 0 | P49: =SUM(M49:O49) -> 0
A50: 2.3. | B50: līg.cena | C50: Šķembas slāņu ierīkošana h=100mm ar blietēšanu | D50: m2 | E50: 232 | H50: =ROUND(F50*G50,2) -> 0 | K50: =SUM(H50:J50) -> 0 | L50: =ROUND(E50*F50,2) -> 0 | M50: =ROUND(H50*E50,2) -> 0 | N50: =ROUND(I50*E50,2) -> 0 | O50: =ROUND(J50*E50,2) -> 0 | P50: =SUM(M50:O50) -> 0
A51: 2.4. | B51: līg.cena | C51: šķembas fr.10-20mm | D51: m3 | E51: 25.5 | H51: =ROUND(F51*G51,2) -> 0 | K51: =SUM(H51:J51) -> 0 | L51: =ROUND(E51*F51,2) -> 0 | M51: =ROUND(H51*E51,2) -> 0 | N51: =ROUND(I51*E51,2) -> 0 | O51: =ROUND(J51*E51,2) -> 0 | P51: =SUM(M51:O51) -> 0
A52: 2.5. | B52: līg.cena | C52: Betona pamatslāņu h=80mm ierīkošana ar stiegrojumu ar visiem palīgdarbiem | D52: m2 | E52: 232 | H52: =ROUND(F52*G52,2) -> 0 | K52: =SUM(H52:J52) -> 0 | L52: =ROUND(E52*F52,2) -> 0 | M52: =ROUND(H52*E52,2) -> 0 | N52: =ROUND(I52*E52,2) -> 0 | O52: =ROUND(J52*E52,2) -> 0 | P52: =SUM(M52:O52) -> 0
A53: 2.6. | B53: līg.cena | C53: stiegrojuma siets d4mm 50x50mm | D53: m2 | E53: 232 | H53: =ROUND(F53*G53,2) -> 0 | K53: =SUM(H53:J53) -> 0 | L53: =ROUND(E53*F53,2) -> 0 | M53: =ROUND(H53*E53,2) -> 0 | N53: =ROUND(I53*E53,2) -> 0 | O53: =ROUND(J53*E53,2) -> 0 | P53: =SUM(M53:O53) -> 0
A54: 2.7. | B54: līg.cena | C54: distanceri | D54: gab | E54: 232 | H54: =ROUND(F54*G54,2) -> 0 | K54: =SUM(H54:J54) -> 0 | L54: =ROUND(E54*F54,2) -> 0 | M54: =ROUND(H54*E54,2) -> 0 | N54: =ROUND(I54*E54,2) -> 0 | O54: =ROUND(J54*E54,2) -> 0 | P54: =SUM(M54:O54) -> 0
A55: 2.8. | B55: līg.cena | C55: betons mārkas ESTIH CT C16 F4 | D55: m3 | E55: 19.5 | H55: =ROUND(F55*G55,2) -> 0 | K55: =SUM(H55:J55) -> 0 | L55: =ROUND(E55*F55,2) -> 0 | M55: =ROUND(H55*E55,2) -> 0 | N55: =ROUND(I55*E55,2) -> 0 | O55: =ROUND(J55*E55,2) -> 0 | P55: =SUM(M55:O55) -> 0
A56: 2.9. | B56: līg.cena | C56: Hidroizolācija ierīkošana no plēve | D56: m2 | E56: 232 | H56: =ROUND(F56*G56,2) -> 0 | K56: =SUM(H56:J56) -> 0 | L56: =ROUND(E56*F56,2) -> 0 | M56: =ROUND(H56*E56,2) -> 0 | N56: =ROUND(I56*E56,2) -> 0 | O56: =ROUND(J56*E56,2) -> 0 | P56: =SUM(M56:O56) -> 0
A57: 2.10. | B57: līg.cena | C57: plēve 0,03 | D57: m2 | E57: 266.8 | H57: =ROUND(F57*G57,2) -> 0 | K57: =SUM(H57:J57) -> 0 | L57: =ROUND(E57*F57,2) -> 0 | M57: =ROUND(H57*E57,2) -> 0 | N57: =ROUND(I57*E57,2) -> 0 | O57: =ROUND(J57*E57,2) -> 0 | P57: =SUM(M57:O57) -> 0
A58: 2.11. | B58: līg.cena | C58: Siltumizolācija ierīkošana no putupolistirola | D58: m2 | E58: 232 | H58: =ROUND(F58*G58,2) -> 0 | K58: =SUM(H58:J58) -> 0 | L58: =ROUND(E58*F58,2) -> 0 | M58: =ROUND(H58*E58,2) -> 0 | N58: =ROUND(I58*E58,2) -> 0 | O58: =ROUND(J58*E58,2) -> 0 | P58: =SUM(M58:O58) -> 0
A59: 2.12. | B59: līg.cena | C59: putupolistirols 2x50mm Tenapors EPS 150 vai ekvivalents | D59: m2 | E59: 232 | H59: =ROUND(F59*G59,2) -> 0 | K59: =SUM(H59:J59) -> 0 | L59: =ROUND(E59*F59,2) -> 0 | M59: =ROUND(H59*E59,2) -> 0 | N59: =ROUND(I59*E59,2) -> 0 | O59: =ROUND(J59*E59,2) -> 0 | P59: =SUM(M59:O59) -> 0
... A72: 2.25. | B72: līg.cena | C72: Ggīdas līstes līkšana ar visiem palīgdarbiem | D72: m | E72: 124 | H72: =ROUND(F72*G72,2) -> 0 | K72: =SUM(H72:J72) -> 0 | L72: =ROUND(E72*F72,2) -> 0 | M72: =ROUND(H72*E72,2) -> 0 | N72: =ROUND(I72*E72,2) -> 0 | O72: =ROUND(J72*E72,2) -> 0 | P72: =SUM(M72:O72) -> 0
A73: 2.26. | B73: līg.cena | C73: grīdas līstes | D73: m | E73: 124 | K73: =SUM(H73:J73) -> 0 | L73: =ROUND(E73*F73,2) -> 0 | M73: =ROUND(H73*E73,2) -> 0 | N73: =ROUND(I73*E73,2) -> 0 | O73: =ROUND(J73*E73,2) -> 0 | P73: =SUM(M73:O73) -> 0
A74: 2.26. | B74: līg.cena | C74: grīdas līstes savienojums | D74: komp | E74: 1 | H74: =ROUND(F74*G74,2) -> 0 | K74: =SUM(H74:J74) -> 0 | L74: =ROUND(E74*F74,2) -> 0 | M74: =ROUND(H74*E74,2) -> 0 | N74: =ROUND(I74*E74,2) -> 0 | O74: =ROUND(J74*E74,2) -> 0 | P74: =SUM(M74:O74) -> 0
A75: 3 | B75: līg.cena | C75: G-3(12,0m2) | H75: =ROUND(F75*G75,2) -> 0 | K75: =SUM(H75:J75) -> 0 | L75: =ROUND(E75*F75,2) -> 0 | M75: =ROUND(H75*E75,2) -> 0 | N75: =ROUND(I75*E75,2) -> 0 | O75: =ROUND(J75*E75,2) -> 0 | P75: =SUM(M75:O75) -> 0
A76: 3.1. | B76: līg.cena | C76: Betona platnes h=50mm montāža ar visiem palīgdarbiem | D76: gab | E76: 12 | H76: =ROUND(F76*G76,2) -> 0 | K76: =SUM(H76:J76) -> 0 | L76: =ROUND(E76*F76,2) -> 0 | M76: =ROUND(H76*E76,2) -> 0 | N76: =ROUND(I76*E76,2) -> 0 | O76: =ROUND(J76*E76,2) -> 0 | P76: =SUM(M76:O76) -> 0
A77: 3.2. | B77: līg.cena | C77: betona platnes h=50mm, L=1,0m | D77: gab | E77: 12 | H77: =ROUND(F77*G77,2) -> 0 | K77: =SUM(H77:J77) -> 0 | L77: =ROUND(E77*F77,2) -> 0 | M77: =ROUND(H77*E77,2) -> 0 | N77: =ROUND(I77*E77,2) -> 0 | O77: =ROUND(J77*E77,2) -> 0 | P77: =SUM(M77:O77) -> 0
A78: 3.3. | B78: līg.cena | C78: mūrjava | D78: m3 | E78: 0.2 | H78: =ROUND(F78*G78,2) -> 0 | K78: =SUM(H78:J78) -> 0 | L78: =ROUND(E78*F78,2) -> 0 | M78: =ROUND(H78*E78,2) -> 0 | N78: =ROUND(I78*E78,2) -> 0 | O78: =ROUND(J78*E78,2) -> 0 | P78: =SUM(M78:O78) -> 0
A79: 3.4. | B79: līg.cena | C79: grunts Sakret UG vai ekvivalents | D79: l | E79: 3.6 | H79: =ROUND(F79*G79,2) -> 0 | K79: =SUM(H79:J79) -> 0 | L79: =ROUND(E79*F79,2) -> 0 | M79: =ROUND(H79*E79,2) -> 0 | N79: =ROUND(I79*E79,2) -> 0 | O79: =ROUND(J79*E79,2) -> 0 | P79: =SUM(M79:O79) -> 0
A80: 3.5. | B80: līg.cena | C80: Grīdas flīzēšana ar visiem palīgdarbiem | D80: m2 | E80: 12 | H80: =ROUND(F80*G80,2) -> 0 | K80: =SUM(H80:J80) -> 0 | L80: =ROUND(E80*F80,2) -> 0 | M80: =ROUND(H80*E80,2) -> 0 | N80: =ROUND(I80*E80,2) -> 0 | O80: =ROUND(J80*E80,2) -> 0 | P80: =SUM(M80:O80) -> 0
A81: 3.7. | B81: līg.cena | C81: grīdas flīzes | D81: m2 | E81: 12.6 | H81: =ROUND(F81*G81,2) -> 0 | K81: =SUM(H81:J81) -> 0 | L81: =ROUND(E81*F81,2) -> 0 | M81: =ROUND(H81*E81,2) -> 0 | N81: =ROUND(I81*E81,2) -> 0 | O81: =ROUND(J81*E81,2) -> 0 | P81: =SUM(M81:O81) -> 0
A82: 3.8. | B82: līg.cena | C82: flīžu līme | D82: kg | E82: 33 | H82: =ROUND(F82*G82,2) -> 0 | K82: =SUM(H82:J82) -> 0 | L82: =ROUND(E82*F82,2) -> 0 | M82: =ROUND(H82*E82,2) -> 0 | N82: =ROUND(I82*E82,2) -> 0 | O82: =ROUND(J82*E82,2) -> 0 | P82: =SUM(M82:O82) -> 0
A83: 3.9. | B83: līg.cena | C83: šuvotājs | D83: kg | E83: 1.5 | H83: =ROUND(F83*G83,2) -> 0 | K83: =SUM(H83:J83) -> 0 | L83: =ROUND(E83*F83,2) -> 0 | M83: =ROUND(H83*E83,2) -> 0 | N83: =ROUND(I83*E83,2) -> 0 | O83: =ROUND(J83*E83,2) -> 0 | P83: =SUM(M83:O83) -> 0
A84: 4 | B84: līg.cena | C84: G-4(164,1m2) | H84: =ROUND(F84*G84,2) -> 0 | K84: =SUM(H84:J84) -> 0 | L84: =ROUND(E84*F84,2) -> 0 | M84: =ROUND(H84*E84,2) -> 0 | N84: =ROUND(I84*E84,2) -> 0 | O84: =ROUND(J84*E84,2) -> 0 | P84: =SUM(M84:O84) -> 0
A85: 4.1. | B85: līg.cena | C85: Skaņas izolācijas ierīkošana no plātnes uz esoša koka pārseguma ar visiem palīgdarbiem | D85: m2 | E85: 164.1 | H85: =ROUND(F85*G85,2) -> 0 | K85: =SUM(H85:J85) -> 0 | L85: =ROUND(E85*F85,2) -> 0 | M85: =ROUND(H85*E85,2) -> 0 | N85: =ROUND(I85*E85,2) -> 0 | O85: =ROUND(J85*E85,2) -> 0 | P85: =SUM(M85:O85) -> 0
A86: 4.2. | B86: līg.cena | C86: Skaņas izolācija PAROC SSB2t vai ekvivalents | D86: m2 | E86: 167.4 | H86: =ROUND(F86*G86,2) -> 0 | K86: =SUM(H86:J86) -> 0 | L86: =ROUND(E86*F86,2) -> 0 | M86: =ROUND(H86*E86,2) -> 0 | N86: =ROUND(I86*E86,2) -> 0 | O86: =ROUND(J86*E86,2) -> 0 | P86: =SUM(M86:O86) -> 0 | Q86: pap
A87: 4.3. | B87: līg.cena | C87: Grīdas pamatslāņu ierīkošana no ūdensizturīgas fineris ar visiem palīgdarbiem | D87: m2 | E87: 164.1 | H87: =ROUND(F87*G87,2) -> 0 | K87: =SUM(H87:J87) -> 0 | L87: =ROUND(E87*F87,2) -> 0 | M87: =ROUND(H87*E87,2) -> 0 | N87: =ROUND(I87*E87,2) -> 0 | O87: =ROUND(J87*E87,2) -> 0 | P87: =SUM(M87:O87) -> 0 | Q87: pap
A88: 4.4. | B88: līg.cena | C88: ūdensizturīgas fineris h=21mm | D88: m2 | E88: 172.3 | H88: =ROUND(F88*G88,2) -> 0 | K88: =SUM(H88:J88) -> 0 | L88: =ROUND(E88*F88,2) -> 0 | M88: =ROUND(H88*E88,2) -> 0 | N88: =ROUND(I88*E88,2) -> 0 | O88: =ROUND(J88*E88,2) -> 0 | P88: =SUM(M88:O88) -> 0 | Q88: pap
A89: 4.5. | B89: līg.cena | C89: skrūves | D89: gab | E89: 492 | H89: =ROUND(F89*G89,2) -> 0 | K89: =SUM(H89:J89) -> 0 | L89: =ROUND(E89*F89,2) -> 0 | M89: =ROUND(H89*E89,2) -> 0 | N89: =ROUND(I89*E89,2) -> 0 | O89: =ROUND(J89*E89,2) -> 0 | P89: =SUM(M89:O89) -> 0
A90: 4.6. | B90: līg.cena | C90: Hidroizolācijas ierīkošana | D90: m2 | E90: 164.1 | H90: =ROUND(F90*G90,2) -> 0 | K90: =SUM(H90:J90) -> 0 | L90: =ROUND(E90*F90,2) -> 0 | M90: =ROUND(H90*E90,2) -> 0 | N90: =ROUND(I90*E90,2) -> 0 | O90: =ROUND(J90*E90,2) -> 0 | P90: =SUM(M90:O90) -> 0
A91: 4.7. | B91: līg.cena | C91: Hidroizolācija s Sakret OA vai ekvivalents | D91: kg | E91: 147.7 | H91: =ROUND(F91*G91,2) -> 0 | K91: =SUM(H91:J91) -> 0 | L91: =ROUND(E91*F91,2) -> 0 | M91: =ROUND(H91*E91,2) -> 0 | N91: =ROUND(I91*E91,2) -> 0 | O91: =ROUND(J91*E91,2) -> 0 | P91: =SUM(M91:O91) -> 0
A92: 4.8. | B92: līg.cena | C92: Grīdas flīzēšana ar visiem palīgdarbiem | D92: m2 | E92: 164.1 | H92: =ROUND(F92*G92,2) -> 0 | K92: =SUM(H92:J92) -> 0 | L92: =ROUND(E92*F92,2) -> 0 | M92: =ROUND(H92*E92,2) -> 0 | N92: =ROUND(I92*E92,2) -> 0 | O92: =ROUND(J92*E92,2) -> 0 | P92: =SUM(M92:O92) -> 0
A93: 4.9. | B93: līg.cena | C93: grīdas flīzes | D93: m2 | E93: 172.3 | H93: =ROUND(F93*G93,2) -> 0 | K93: =SUM(H93:J93) -> 0 | L93: =ROUND(E93*F93,2) -> 0 | M93: =ROUND(H93*E93,2) -> 0 | N93: =ROUND(I93*E93,2) -> 0 | O93: =ROUND(J93*E93,2) -> 0 | P93: =SUM(M93:O93) -> 0
A94: 4.10. | B94: līg.cena | C94: flīžu līme | D94: kg | E94: 451.3 | H94: =ROUND(F94*G94,2) -> 0 | K94: =SUM(H94:J94) -> 0 | L94: =ROUND(E94*F94,2) -> 0 | M94: =ROUND(H94*E94,2) -> 0 | N94: =ROUND(I94*E94,2) -> 0 | O94: =ROUND(J94*E94,2) -> 0 | P94: =SUM(M94:O94) -> 0
A95: 4.11. | B95: līg.cena | C95: šuvotājs | D95: kg | E95: 45.1 | H95: =ROUND(F95*G95,2) -> 0 | K95: =SUM(H95:J95) -> 0 | L95: =ROUND(E95*F95,2) -> 0 | M95: =ROUND(H95*E95,2) -> 0 | N95: =ROUND(I95*E95,2) -> 0 | O95: =ROUND(J95*E95,2) -> 0 | P95: =SUM(M95:O95) -> 0
A96: 4.12. | B96: līg.cena | C96: Grīdas līstes līkšana ar visiem palīgdarbiem | D96: m | E96: 117 | H96: =ROUND(F96*G96,2) -> 0 | K96: =SUM(H96:J96) -> 0 | L96: =ROUND(E96*F96,2) -> 0 | M96: =ROUND(H96*E96,2) -> 0 | N96: =ROUND(I96*E96,2) -> 0 | O96: =ROUND(J96*E96,2) -> 0 | P96: =SUM(M96:O96) -> 0
A97: 4.13. | B97: līg.cena | C97: grīdas līstes | D97: m | E97: 117 | H97: =ROUND(F97*G97,2) -> 0 | K97: =SUM(H97:J97) -> 0 | L97: =ROUND(E97*F97,2) -> 0 | M97: =ROUND(H97*E97,2) -> 0 | N97: =ROUND(I97*E97,2) -> 0 | O97: =ROUND(J97*E97,2) -> 0 | P97: =SUM(M97:O97) -> 0
A98: 4.14. | B98: līg.cena | C98: līme | D98: komp | E98: 1 | H98: =ROUND(F98*G98,2) -> 0 | K98: =SUM(H98:J98) -> 0 | L98: =ROUND(E98*F98,2) -> 0 | M98: =ROUND(H98*E98,2) -> 0 | N98: =ROUND(I98*E98,2) -> 0 | O98: =ROUND(J98*E98,2) -> 0 | P98: =SUM(M98:O98) -> 0
A99: 5 | B99: līg.cena | C99: G-5(232,0m2) | H99: =ROUND(F99*G99,2) -> 0 | K99: =SUM(H99:J99) -> 0 | L99: =ROUND(E99*F99,2) -> 0 | M99: =ROUND(H99*E99,2) -> 0 | N99: =ROUND(I99*E99,2) -> 0 | O99: =ROUND(J99*E99,2) -> 0 | P99: =SUM(M99:O99) -> 0
A100: 5.1. | B100: līg.cena | C100: Skaņas izolācijas ierīkošana no plātnes uz esoša koka pārseguma ar visiem palīgdarbiem | D100: m2 | E100: 232 | H100: =ROUND(F100*G100,2) -> 0 | K100: =SUM(H100:J100) -> 0 | L100: =ROUND(E100*F100,2) -> 0 | M100: =ROUND(H100*E100,2) -> 0 | N100: =ROUND(I100*E100,2) -> 0 | O100: =ROUND(J100*E100,2) -> 0 | P100: =SUM(M100:O100) -> 0
A101: 5.2. | B101: līg.cena | C101: Skaņas izolācija PAROC SSB2t vai ekvivalents | D101: m2 | E101: 236.7 | H101: =ROUND(F101*G101,2) -> 0 | K101: =SUM(H101:J101) -> 0 | L101: =ROUND(E101*F101,2) -> 0 | M101: =ROUND(H101*E101,2) -> 0 | N101: =ROUND(I101*E101,2) -> 0 | O101: =ROUND(J101*E101,2) -> 0 | P101: =SUM(M101:O101) -> 0
A102: 5.3. | B102: līg.cena | C102: Grīdas pamatslāņu ierīkošana OSB plātnes ar visiem palīgdarbiem | D102: m2 | E102: 232 | H102: =ROUND(F102*G102,2) -> 0 | K102: =SUM(H102:J102) -> 0 | L102: =ROUND(E102*F102,2) -> 0 | M102: =ROUND(H102*E102,2) -> 0 | N102: =ROUND(I102*E102,2) -> 0 | O102: =ROUND(J102*E102,2) -> 0 | P102: =SUM(M102:O102) -> 0
A103: 5.4. | B103: līg.cena | C103: OSB plātnes h=22mm | D103: m2 | E103: 243.6 | H103: =ROUND(F103*G103,2) -> 0 | K103: =SUM(H103:J103) -> 0 | L103: =ROUND(E103*F103,2) -> 0 | M103: =ROUND(H103*E103,2) -> 0 | N103: =ROUND(I103*E103,2) -> 0 | O103: =ROUND(J103*E103,2) -> 0 | P103: =SUM(M103:O103) -> 0
A104: 5.5. | B104: līg.cena | C104: skrūves | D104: gab | E104: 696 | H104: =ROUND(F104*G104,2) -> 0 | K104: =SUM(H104:J104) -> 0 | L104: =ROUND(E104*F104,2) -> 0 | M104: =ROUND(H104*E104,2) -> 0 | N104: =ROUND(I104*E104,2) -> 0 | O104: =ROUND(J104*E104,2) -> 0 | P104: =SUM(M104:O104) -> 0
A105: 5.6. | B105: līg.cena | C105: Grīdas ierīkošana no lamināta ar visiem palīgdarbiem | D105: m2 | E105: 232 | H105: =ROUND(F105*G105,2) -> 0 | K105: =SUM(H105:J105) -> 0 | L105: =ROUND(E105*F105,2) -> 0 | M105: =ROUND(H105*E105,2) -> 0 | N105: =ROUND(I105*E105,2) -> 0 | O105: =ROUND(J105*E105,2) -> 0 | P105: =SUM(M105:O105) -> 0
A106: 5.7. | B106: līg.cena | C106: lamināts | D106: m2 | E106: 243.6 | H106: =ROUND(F106*G106,2) -> 0 | K106: =SUM(H106:J106) -> 0 | L106: =ROUND(E106*F106,2) -> 0 | M106: =ROUND(H106*E106,2) -> 0 | N106: =ROUND(I106*E106,2) -> 0 | O106: =ROUND(J106*E106,2) -> 0 | P106: =SUM(M106:O106) -> 0
A107: 5.8. | B107: līg.cena | C107: apakšklājs | D107: m2 | E107: 236.7 | H107: =ROUND(F107*G107,2) -> 0 | K107: =SUM(H107:J107) -> 0 | L107: =ROUND(E107*F107,2) -> 0 | M107: =ROUND(H107*E107,2) -> 0 | N107: =ROUND(I107*E107,2) -> 0 | O107: =ROUND(J107*E107,2) -> 0 | P107: =SUM(M107:O107) -> 0
A108: 5.9. | B108: līg.cena | C108: Grīdas līstes līkšana ar visiem palīgdarbiem | D108: m | E108: 124 | H108: =ROUND(F108*G108,2) -> 0 | K108: =SUM(H108:J108) -> 0 | L108: =ROUND(E108*F108,2) -> 0 | M108: =ROUND(H108*E108,2) -> 0 | N108: =ROUND(I108*E108,2) -> 0 | O108: =ROUND(J108*E108,2) -> 0 | P108: =SUM(M108:O108) -> 0
A109: 5.10. | B109: līg.cena | C109: grīdas līstes | D109: m | E109: 124 | H109: =ROUND(F109*G109,2) -> 0 | K109: =SUM(H109:J109) -> 0 | L109: =ROUND(E109*F109,2) -> 0 | M109: =ROUND(H109*E109,2) -> 0 | N109: =ROUND(I109*E109,2) -> 0 | O109: =ROUND(J109*E109,2) -> 0 | P109: =SUM(M109:O109) -> 0
A110: 5.11. | B110: līg.cena | C110: grīdas l;istes savienojums | D110: komp | E110: 1 | H110: =ROUND(F110*G110,2) -> 0 | K110: =SUM(H110:J110) -> 0 | L110: =ROUND(E110*F110,2) -> 0 | M110: =ROUND(H110*E110,2) -> 0 | N110: =ROUND(I110*E110,2) -> 0 | O110: =ROUND(J110*E110,2) -> 0 | P110: =SUM(M110:O110) -> 0
A111: Tiešās izmaksas kopā, t. sk. darba devēja sociālais nodoklis 24.09% | L111: =SUM(L15:L110) -> 0 | M111: =SUM(M15:M110) -> 0 | N111: =SUM(N15:N110) -> 0 | O111: =SUM(O15:O110) -> 0 | P111: =SUM(P15:P110) -> 0
A114: Sastādīja | C114: ='Kops a'!C39:H39 -> Vasilijs Ivanovs
C115: (paraksts un tā atšifrējums, datums)
A117: ='Kops a'!A42 -> Tāme sastādīta 2024. gada 26. augusta
A119: Pārbaudīja | C119: ='Kops a'!C44:H44 -> Vasilijs Ivanovs
C120: (paraksts un tā atšifrējums, datums)
A122: Sertifikāta Nr | C122: ='Kops a'!C47 -> 4-01907

Sheet 1.7.
C1: Lokālā tāme Nr. | D1: 1.7.
C2: Jumti segumi (Vispārējie būvdarbi)
C3: (darba veids vai konstruktīvā elementa nosaukums)
C4: Attiecināmās izmaksas
C5: Būves nosaukums: | D5: ='Kops a'!D6 -> Daudzīvokļu dzīvojamais mājās
C6: Objekta nosaukums: | D6: ='Kops a'!D7 -> Energoefektivitātes paaugstināšana daudzdzīvokļu dzīvojamai mājai
C7: Objekta adrese: | D7: ='Kops a'!D8 -> Rūpnīcas ielā 6, Rēzeknē, LV-4604
C8: Pasūtījuma Nr. | D8: ='Kops a'!D9 -> TP_01.24
A9: Tāme sastādīta 2024. gada tirgus cenās, pamatojoties uz AR un BK daļas rasējumiem | J9: Tāmes izmaksas EUR | N9: =P96 -> 0
P10: =A102 -> Tāme sastādīta 2024. gada 26. augusta
A12: Nr.p.k. | B12: Kods | C12: Darba nosaukums | D12: Mērvienība | E12: Daudzums | F12: Vienības izmaksas | L12: Kopā uz visu apjomu
F13: Laika norma (c/h) | G13: Darba samaksas likme (EUR/h) | H13: Darba alga (EUR) | I13: Būvizstrādājumi (EUR) | J13: Mehānismi (EUR) | K13: Kopā (EUR) | L13: Laika norma (c/h) | M13: Darba alga (EUR) | N13: Būvizstrādājumi (EUR) | O13: Mehānismi (EUR) | P13: Kopā (EUR)
A14: 1 | B14: 2 | C14: 3 | D14: 4 | E14: 5 | F14: 6 | G14: 7 | H14: 8 | I14: 9 | J14: 10 | K14: 11 | L14: 12 | M14: 13 | N14: 14 | O14: 15 | P14: 16
A15: 1 | C15: Jumta | H15: =ROUND(F15*G15,2) -> 0 | K15: =SUM(H15:J15) -> 0 | L15: =ROUND(E15*F15,2) -> 0 | M15: =ROUND(H15*E15,2) -> 0 | N15: =ROUND(I15*E15,2) -> 0 | O15: =ROUND(J15*E15,2) -> 0 | P15: =SUM(M15:O15) -> 0
A16: 1.1. | B16: līg.cena | C16: Monolīta joslas ierīkošana virs esošas dz/betona plāksniem ārējam ķieģeļu sienam un priekš iekšējam jumta statnim ar visiem palīgdarbiem | D16: m3 | E16: 14.22 | H16: =ROUND(F16*G16,2) -> 0 | K16: =SUM(H16:J16) -> 0 | L16: =ROUND(E16*F16,2) -> 0 | M16: =ROUND(H16*E16,2) -> 0 | N16: =ROUND(I16*E16,2) -> 0 | O16: =ROUND(J16*E16,2) -> 0 | P16: =SUM(M16:O16) -> 0
A17: 1.2. | C17: ūdensiztūrigs fineris | D17: m2 | E17: 42.2 | H17: =ROUND(F17*G17,2) -> 0 | K17: =SUM(H17:J17) -> 0 | L17: =ROUND(E17*F17,2) -> 0 | M17: =ROUND(H17*E17,2) -> 0 | N17: =ROUND(I17*E17,2) -> 0 | O17: =ROUND(J17*E17,2) -> 0 | P17: =SUM(M17:O17) -> 0
A18: 1.3. | B18: līg.cena | C18: zagmateriāli | D18: m3 | E18: 0.2 | H18: =ROUND(F18*G18,2) -> 0 | K18: =SUM(H18:J18) -> 0 | L18: =ROUND(E18*F18,2) -> 0 | M18: =ROUND(H18*E18,2) -> 0 | N18: =ROUND(I18*E18,2) -> 0 | O18: =ROUND(J18*E18,2) -> 0 | P18: =SUM(M18:O18) -> 0
A19: 1.4. | B19: līg.cena | C19: skrūves | D19: gab | E19: 164 | H19: =ROUND(F19*G19,2) -> 0 | K19: =SUM(H19:J19) -> 0 | L19: =ROUND(E19*F19,2) -> 0 | M19: =ROUND(H19*E19,2) -> 0 | N19: =ROUND(I19*E19,2) -> 0 | O19: =ROUND(J19*E19,2) -> 0 | P19: =SUM(M19:O19) -> 0
A20: 1.5. | B20: līg.cena | C20: stiegrojums | D20: kg | E20: 1817 | H20: =ROUND(F20*G20,2) -> 0 | K20: =SUM(H20:J20) -> 0 | L20: =ROUND(E20*F20,2) -> 0 | M20: =ROUND(H20*E20,2) -> 0 | N20: =ROUND(I20*E20,2) -> 0 | O20: =ROUND(J20*E20,2) -> 0 | P20: =SUM(M20:O20) -> 0
A21: 1.6. | B21: līg.cena | C21: betons mārkas C30/37; CX2 | D21: m3 | E21: 14.22 | H21: =ROUND(F21*G21,2) -> 0 | K21: =SUM(H21:J21) -> 0 | L21: =ROUND(E21*F21,2) -> 0 | M21: =ROUND(H21*E21,2) -> 0 | N21: =ROUND(I21*E21,2) -> 0 | O21: =ROUND(J21*E21,2) -> 0 | P21: =SUM(M21:O21) -> 0
A22: 1.7. | B22: līg.cena | C22: distanceri | D22: gab | E22: 164 | H22: =ROUND(F22*G22,2) -> 0 | K22: =SUM(H22:J22) -> 0 | L22: =ROUND(E22*F22,2) -> 0 | M22: =ROUND(H22*E22,2) -> 0 | N22: =ROUND(I22*E22,2) -> 0 | O22: =ROUND(J22*E22,2) -> 0 | P22: =SUM(M22:O22) -> 0
A23: 1.8. | B23: līg.cena | C23: Murlatu ierīkošana no brusas 200x200mm ar visiem palīgdarbiem | D23: m | E23: 103 | H23: =ROUND(F23*G23,2) -> 0 | K23: =SUM(H23:J23) -> 0 | L23: =ROUND(E23*F23,2) -> 0 | M23: =ROUND(H23*E23,2) -> 0 | N23: =ROUND(I23*E23,2) -> 0 | O23: =ROUND(J23*E23,2) -> 0 | P23: =SUM(M23:O23) -> 0
A24: 1.9. | B24: līg.cena | C24: brusas 200x200mm | D24: m3 | E24: 4.3 | H24: =ROUND(F24*G24,2) -> 0 | K24: =SUM(H24:J24) -> 0 | L24: =ROUND(E24*F24,2) -> 0 | M24: =ROUND(H24*E24,2) -> 0 | N24: =ROUND(I24*E24,2) -> 0 | O24: =ROUND(J24*E24,2) -> 0 | P24: =SUM(M24:O24) -> 0
A25: 1.10. | B25: līg.cena | C25: antiseptikis KURT vai ekvivalents | D25: l | E25: 16.5 | H25: =ROUND(F25*G25,2) -> 0 | K25: =SUM(H25:J25) -> 0 | L25: =ROUND(E25*F25,2) -> 0 | M25: =ROUND(H25*E25,2) -> 0 | N25: =ROUND(I25*E25,2) -> 0 | O25: =ROUND(J25*E25,2) -> 0 | P25: =SUM(M25:O25) -> 0
A26: 1.11. | B26: līg.cena | C26: sastiprīnašanas detaļas | D26: komp | E26: 1 | H26: =ROUND(F26*G26,2) -> 0 | K26: =SUM(H26:J26) -> 0 | L26: =ROUND(E26*F26,2) -> 0 | M26: =ROUND(H26*E26,2) -> 0 | N26: =ROUND(I26*E26,2) -> 0 | O26: =ROUND(J26*E26,2) -> 0 | P26: =SUM(M26:O26) -> 0
A27: 1.12. | B27: līg.cena | C27: ruberoids | D27: m2 | E27: 34 | H27: =ROUND(F27*G27,2) -> 0 | K27: =SUM(H27:J27) -> 0 | L27: =ROUND(E27*F27,2) -> 0 | M27: =ROUND(H27*E27,2) -> 0 | N27: =ROUND(I27*E27,2) -> 0 | O27: =ROUND(J27*E27,2) -> 0 | P27: =SUM(M27:O27) -> 0
A28: 1.13. | B28: līg.cena | C28: Jumtas koku karkasu ierīkošana ar visiem palīgdarbiem | D28: m3 | E28: 34.8 | H28: =ROUND(F28*G28,2) -> 0 | K28: =SUM(H28:J28) -> 0 | L28: =ROUND(E28*F28,2) -> 0 | M28: =ROUND(H28*E28,2) -> 0 | N28: =ROUND(I28*E28,2) -> 0 | O28: =ROUND(J28*E28,2) -> 0 | P28: =SUM(M28:O28) -> 0
A29: 1.14. | B29: līg.cena | C29: brusas 75x250mm | D29: m3 | E29: 15.55 | H29: =ROUND(F29*G29,2) -> 0 | K29: =SUM(H29:J29) -> 0 | L29: =ROUND(E29*F29,2) -> 0 | M29: =ROUND(H29*E29,2) -> 0 | N29: =ROUND(I29*E29,2) -> 0 | O29: =ROUND(J29*E29,2) -> 0 | P29: =SUM(M29:O29) -> 0
... A34: 1.19. | B34: līg.cena | C34: brusas 50x150mm | D34: m3 | E34: 0.25 | H34: =ROUND(F34*G34,2) -> 0 | K34: =SUM(H34:J34) -> 0 | L34: =ROUND(E34*F34,2) -> 0 | M34: =ROUND(H34*E34,2) -> 0 | N34: =ROUND(I34*E34,2) -> 0 | O34: =ROUND(J34*E34,2) -> 0 | P34: =SUM(M34:O34) -> 0
A35: 1.20. | B35: līg.cena | C35: brusas 50x250mm | D35: m3 | E35: 1.16 | K35: =SUM(H35:J35) -> 0 | L35: =ROUND(E35*F35,2) -> 0 | N35: =ROUND(I35*E35,2) -> 0 | O35: =ROUND(J35*E35,2) -> 0 | P35: =SUM(M35:O35) -> 0
A36: 1.21. | B36: līg.cena | C36: brusas 75x200mm | D36: m3 | E36: 3.36 | H36: =ROUND(F36*G36,2) -> 0 | K36: =SUM(H36:J36) -> 0 | L36: =ROUND(E36*F36,2) -> 0 | N36: =ROUND(I36*E36,2) -> 0 | O36: =ROUND(J36*E36,2) -> 0 | P36: =SUM(M36:O36) -> 0
A37: 1.22. | B37: līg.cena | C37: dēlis 40x120 | D37: m3 | E37: 0.36 | H37: =ROUND(F37*G37,2) -> 0 | K37: =SUM(H37:J37) -> 0 | L37: =ROUND(E37*F37,2) -> 0 | M37: =ROUND(H37*E37,2) -> 0 | N37: =ROUND(I37*E37,2) -> 0 | O37: =ROUND(J37*E37,2) -> 0 | P37: =SUM(M37:O37) -> 0
A38: 1.23. | B38: līg.cena | C38: dēlis 25x120 | D38: m3 | E38: 7.76 | H38: =ROUND(F38*G38,2) -> 0 | K38: =SUM(H38:J38) -> 0 | L38: =ROUND(E38*F38,2) -> 0 | M38: =ROUND(H38*E38,2) -> 0 | N38: =ROUND(I38*E38,2) -> 0 | O38: =ROUND(J38*E38,2) -> 0 | P38: =SUM(M38:O38) -> 0
A39: 1.24. | B39: līg.cena | C39: sastiprīnašanas detaļas | D39: komp | E39: 1 | H39: =ROUND(F39*G39,2) -> 0 | K39: =SUM(H39:J39) -> 0 | L39: =ROUND(E39*F39,2) -> 0 | M39: =ROUND(H39*E39,2) -> 0 | N39: =ROUND(I39*E39,2) -> 0 | O39: =ROUND(J39*E39,2) -> 0 | P39: =SUM(M39:O39) -> 0
A40: 1.25. | B40: līg.cena | C40: antiseptikis | D40: l | E40: 152 | H40: =ROUND(F40*G40,2) -> 0 | K40: =SUM(H40:J40) -> 0 | L40: =ROUND(E40*F40,2) -> 0 | M40: =ROUND(H40*E40,2) -> 0 | N40: =ROUND(I40*E40,2) -> 0 | O40: =ROUND(J40*E40,2) -> 0 | P40: =SUM(M40:O40) -> 0
A41: 1.26. | B41: līg.cena | C41: Jumta latojumu ierīkošana ar visiem palīgdarbiem | D41: m2 | E41: 665 | H41: =ROUND(F41*G41,2) -> 0 | K41: =SUM(H41:J41) -> 0 | L41: =ROUND(E41*F41,2) -> 0 | M41: =ROUND(H41*E41,2) -> 0 | N41: =ROUND(I41*E41,2) -> 0 | O41: =ROUND(J41*E41,2) -> 0 | P41: =SUM(M41:O41) -> 0
A42: 1.27. | B42: līg.cena | C42: dēlis 32x120mm | D42: m3 | E42: 6.65 | H42: =ROUND(F42*G42,2) -> 0 | K42: =SUM(H42:J42) -> 0 | L42: =ROUND(E42*F42,2) -> 0 | M42: =ROUND(H42*E42,2) -> 0 | N42: =ROUND(I42*E42,2) -> 0 | O42: =ROUND(J42*E42,2) -> 0 | P42: =SUM(M42:O42) -> 0
A43: 1.28. | B43: līg.cena | C43: antiseptikis | D43: l | E43: 20 | H43: =ROUND(F43*G43,2) -> 0 | K43: =SUM(H43:J43) -> 0 | L43: =ROUND(E43*F43,2) -> 0 | M43: =ROUND(H43*E43,2) -> 0 | N43: =ROUND(I43*E43,2) -> 0 | O43: =ROUND(J43*E43,2) -> 0 | P43: =SUM(M43:O43) -> 0
A44: 1.29. | B44: līg.cena | C44: skrūves | D44: gab | E44: 3700 | H44: =ROUND(F44*G44,2) -> 0 | K44: =SUM(H44:J44) -> 0 | L44: =ROUND(E44*F44,2) -> 0 | M44: =ROUND(H44*E44,2) -> 0 | N44: =ROUND(I44*E44,2) -> 0 | O44: =ROUND(J44*E44,2) -> 0 | P44: =SUM(M44:O44) -> 0
A45: 1.30. | B45: līg.cena | C45: Jumtas segumu ierīkošana no bezasbesta šiferi visiem palīgdarbiem | D45: m2 | E45: 665 | H45: =ROUND(F45*G45,2) -> 0 | K45: =SUM(H45:J45) -> 0 | L45: =ROUND(E45*F45,2) -> 0 | M45: =ROUND(H45*E45,2) -> 0 | N45: =ROUND(I45*E45,2) -> 0 | O45: =ROUND(J45*E45,2) -> 0 | P45: =SUM(M45:O45) -> 0
A46: 1.31. | B46: līg.cena | C46: bezasbesta šiferis | D46: m2 | E46: 800 | H46: =ROUND(F46*G46,2) -> 0 | K46: =SUM(H46:J46) -> 0 | L46: =ROUND(E46*F46,2) -> 0 | M46: =ROUND(H46*E46,2) -> 0 | N46: =ROUND(I46*E46,2) -> 0 | O46: =ROUND(J46*E46,2) -> 0 | P46: =SUM(M46:O46) -> 0
A47: 1.32. | B47: līg.cena | C47: skrūves | D47: gab | E47: 3900 | H47: =ROUND(F47*G47,2) -> 0 | K47: =SUM(H47:J47) -> 0 | L47: =ROUND(E47*F47,2) -> 0 | M47: =ROUND(H47*E47,2) -> 0 | N47: =ROUND(I47*E47,2) -> 0 | O47: =ROUND(J47*E47,2) -> 0 | P47: =SUM(M47:O47) -> 0
A48: 1.33. | B48: līg.cena | C48: Hermetizējoša līmlente Cembrit vai ekvivalents | D48: m | E48: 150 | H48: =ROUND(F48*G48,2) -> 0 | K48: =SUM(H48:J48) -> 0 | L48: =ROUND(E48*F48,2) -> 0 | M48: =ROUND(H48*E48,2) -> 0 | N48: =ROUND(I48*E48,2) -> 0 | O48: =ROUND(J48*E48,2) -> 0 | P48: =SUM(M48:O48) -> 0
A49: 1.34. | B49: līg.cena | C49: kondensāta plēve | D49: m2 | E49: 800 | K49: =SUM(H49:J49) -> 0 | L49: =ROUND(E49*F49,2) -> 0 | M49: =ROUND(H49*E49,2) -> 0 | N49: =ROUND(I49*E49,2) -> 0 | O49: =ROUND(J49*E49,2) -> 0 | P49: =SUM(M49:O49) -> 0
A50: 1.35. | B50: līg.cena | C50: latas 25x50mm | D50: m3 | E50: 1.3 | K50: =SUM(H50:J50) -> 0 | L50: =ROUND(E50*F50,2) -> 0 | M50: =ROUND(H50*E50,2) -> 0 | N50: =ROUND(I50*E50,2) -> 0 | O50: =ROUND(J50*E50,2) -> 0 | P50: =SUM(M50:O50) -> 0
A51: 1.36. | B51: līg.cena | C51: Jumtas kore montāža ar visiem palīgdarbiem | D51: m | E51: 70 | H51: =ROUND(F51*G51,2) -> 0 | K51: =SUM(H51:J51) -> 0 | L51: =ROUND(E51*F51,2) -> 0 | M51: =ROUND(H51*E51,2) -> 0 | N51: =ROUND(I51*E51,2) -> 0 | O51: =ROUND(J51*E51,2) -> 0 | P51: =SUM(M51:O51) -> 0
A52: 1.37. | B52: līg.cena | C52: jumtas kore | D52: m | E52: 70 | H52: =ROUND(F52*G52,2) -> 0 | K52: =SUM(H52:J52) -> 0 | L52: =ROUND(E52*F52,2) -> 0 | M52: =ROUND(H52*E52,2) -> 0 | N52: =ROUND(I52*E52,2) -> 0 | O52: =ROUND(J52*E52,2) -> 0 | P52: =SUM(M52:O52) -> 0
A53: 1.38. | B53: līg.cena | C53: kore blīvejums | D53: m | E53: 70 | H53: =ROUND(F53*G53,2) -> 0 | K53: =SUM(H53:J53) -> 0 | L53: =ROUND(E53*F53,2) -> 0 | M53: =ROUND(H53*E53,2) -> 0 | N53: =ROUND(I53*E53,2) -> 0 | O53: =ROUND(J53*E53,2) -> 0 | P53: =SUM(M53:O53) -> 0
A54: 1.39. | B54: līg.cena | C54: skrūves | D54: gab | E54: 70 | H54: =ROUND(F54*G54,2) -> 0 | K54: =SUM(H54:J54) -> 0 | L54: =ROUND(E54*F54,2) -> 0 | M54: =ROUND(H54*E54,2) -> 0 | N54: =ROUND(I54*E54,2) -> 0 | O54: =ROUND(J54*E54,2) -> 0 | P54: =SUM(M54:O54) -> 0
A55: 1.40. | B55: līg.cena | C55: Jumta lūka montāza ar visiem palīgdarbiem | D55: komp | E55: 1 | H55: =ROUND(F55*G55,2) -> 0 | K55: =SUM(H55:J55) -> 0 | L55: =ROUND(E55*F55,2) -> 0 | M55: =ROUND(H55*E55,2) -> 0 | N55: =ROUND(I55*E55,2) -> 0 | O55: =ROUND(J55*E55,2) -> 0 | P55: =SUM(M55:O55) -> 0
A56: 1.41. | B56: līg.cena | C56: jumta līka | D56: komp | E56: 1 | H56: =ROUND(F56*G56,2) -> 0 | K56: =SUM(H56:J56) -> 0 | L56: =ROUND(E56*F56,2) -> 0 | M56: =ROUND(H56*E56,2) -> 0 | N56: =ROUND(I56*E56,2) -> 0 | O56: =ROUND(J56*E56,2) -> 0 | P56: =SUM(M56:O56) -> 0
A57: 1.42. | B57: līg.cena | C57: Ventilācijas vadu jumtā hermitizācija ar visiem palīgdarbiem | D57: komp | E57: 6 | H57: =ROUND(F57*G57,2) -> 0 | K57: =SUM(H57:J57) -> 0 | L57: =ROUND(E57*F57,2) -> 0 | M57: =ROUND(H57*E57,2) -> 0 | N57: =ROUND(I57*E57,2) -> 0 | O57: =ROUND(J57*E57,2) -> 0 | P57: =SUM(M57:O57) -> 0
A58: 1.43. | B58: līg.cena | C58: Blīvlenta ROLLKOM PLUS vai ekvivalents | D58: m | E58: 16 | H58: =ROUND(F58*G58,2) -> 0 | K58: =SUM(H58:J58) -> 0 | L58: =ROUND(E58*F58,2) -> 0 | M58: =ROUND(H58*E58,2) -> 0 | N58: =ROUND(I58*E58,2) -> 0 | O58: =ROUND(J58*E58,2) -> 0 | P58: =SUM(M58:O58) -> 0
A59: 1.44. | B59: līg.cena | C59: Kanalizācijas stāvvadu jumtā hermetizācija ar visiem palīgdarbiem | D59: komp | E59: 8 | H59: =ROUND(F59*G59,2) -> 0 | K59: =SUM(H59:J59) -> 0 | L59: =ROUND(E59*F59,2) -> 0 | M59: =ROUND(H59*E59,2) -> 0 | N59: =ROUND(I59*E59,2) -> 0 | O59: =ROUND(J59*E59,2) -> 0 | P59: =SUM(M59:O59) -> 0
A60: 1.45. | B60: līg.cena | C60: Blīvlenta ROLLKOM PLUS vai ekvivalents | D60: m | E60: 3 | H60: =ROUND(F60*G60,2) -> 0 | K60: =SUM(H60:J60) -> 0 | L60: =ROUND(E60*F60,2) -> 0 | M60: =ROUND(H60*E60,2) -> 0 | N60: =ROUND(I60*E60,2) -> 0 | O60: =ROUND(J60*E60,2) -> 0 | P60: =SUM(M60:O60) -> 0
A61: 1.46. | B61: līg.cena | C61: Jumta vejmala apdare ar visiem palīgdarbiem | D61: m | E61: 16 | H61: =ROUND(F61*G61,2) -> 0 | K61: =SUM(H61:J61) -> 0 | L61: =ROUND(E61*F61,2) -> 0 | M61: =ROUND(H61*E61,2) -> 0 | N61: =ROUND(I61*E61,2) -> 0 | O61: =ROUND(J61*E61,2) -> 0 | P61: =SUM(M61:O61) -> 0
A62: 1.47. | B62: līg.cena | C62: skārda vejmala šifera jumta | D62: m | E62: 16 | H62: =ROUND(F62*G62,2) -> 0 | K62: =SUM(H62:J62) -> 0 | L62: =ROUND(E62*F62,2) -> 0 | M62: =ROUND(H62*E62,2) -> 0 | N62: =ROUND(I62*E62,2) -> 0 | O62: =ROUND(J62*E62,2) -> 0 | P62: =SUM(M62:O62) -> 0
... A95: 1.78. | B95: līg.cena | C95: jumtiņš 1500mmx1400mm | D95: komp | E95: 1 | H95: =ROUND(F95*G95,2) -> 0 | K95: =SUM(H95:J95) -> 0 | L95: =ROUND(E95*F95,2) -> 0 | M95: =ROUND(H95*E95,2) -> 0 | N95: =ROUND(I95*E95,2) -> 0 | O95: =ROUND(J95*E95,2) -> 0 | P95: =SUM(M95:O95) -> 0
A96: Tiešās izmaksas kopā, t. sk. darba devēja sociālais nodoklis 24.09% | L96: =SUM(L15:L95) -> 0 | M96: =SUM(M15:M95) -> 0 | N96: =SUM(N15:N95) -> 0 | O96: =SUM(O15:O95) -> 0 | P96: =SUM(P15:P95) -> 0
A99: Sastādīja | C99: ='Kops a'!C39:H39 -> Vasilijs Ivanovs
C100: (paraksts un tā atšifrējums, datums)
A102: ='Kops a'!A42 -> Tāme sastādīta 2024. gada 26. augusta
A104: Pārbaudīja | C104: ='Kops a'!C44:H44 -> Vasilijs Ivanovs
C105: (paraksts un tā atšifrējums, datums)
A107: Sertifikāta Nr | C107: ='Kops a'!C47 -> 4-01907

Sheet 2
C1: Lokālā tāme Nr. | D1: 2
C2: Labiekartosana (Dažadi darbi)
C3: (darba veids vai konstruktīvā elementa nosaukums)
C4: Attiecināmās izmaksas
C5: Būves nosaukums: | D5: ='Kops a'!D6 -> Daudzīvokļu dzīvojamais mājās
C6: Objekta nosaukums: | D6: ='Kops a'!D7 -> Energoefektivitātes paaugstināšana daudzdzīvokļu dzīvojamai mājai
C7: Objekta adrese: | D7: ='Kops a'!D8 -> Rūpnīcas ielā 6, Rēzeknē, LV-4604
C8: Pasūtījuma Nr. | D8: ='Kops a'!D9 -> TP_01.24
A9: Tāme sastādīta 2024. gada tirgus cenās, pamatojoties uz ĢP daļas rasējumiem | J9: Tāmes izmaksas EUR | N9: =P71 -> 0
P10: =A77 -> Tāme sastādīta 2024. gada 26. augusta
A12: Nr.p.k. | B12: Kods | C12: Darba nosaukums | D12: Mērvienība | E12: Daudzums | F12: Vienības izmaksas | L12: Kopā uz visu apjomu
F13: Laika norma (c/h) | G13: Darba samaksas likme (EUR/h) | H13: Darba alga (EUR) | I13: Būvizstrādājumi (EUR) | J13: Mehānismi (EUR) | K13: Kopā (EUR) | L13: Laika norma (c/h) | M13: Darba alga (EUR) | N13: Būvizstrādājumi (EUR) | O13: Mehānismi (EUR) | P13: Kopā (EUR)
A14: 1 | B14: 2 | C14: 3 | D14: 4 | E14: 5 | F14: 6 | G14: 7 | H14: 8 | I14: 9 | J14: 10 | K14: 11 | L14: 12 | M14: 13 | N14: 14 | O14: 15 | P14: 16
A15: 1. | C15: Labekārtošana | H15: =ROUND(F15*G15,2) -> 0 | K15: =SUM(H15:J15) -> 0 | L15: =ROUND(E15*F15,2) -> 0 | M15: =ROUND(H15*E15,2) -> 0 | N15: =ROUND(I15*E15,2) -> 0 | O15: =ROUND(J15*E15,2) -> 0 | P15: =SUM(M15:O15) -> 0
A16: 1.1. | B16: līg.cena | C16: Esošo asfalta seguma uzlaušana un aizvešana ar visiem palīgdarbiem | D16: m2 | E16: 125 | H16: =ROUND(F16*G16,2) -> 0 | K16: =SUM(H16:J16) -> 0 | L16: =ROUND(E16*F16,2) -> 0 | M16: =ROUND(H16*E16,2) -> 0 | N16: =ROUND(I16*E16,2) -> 0 | O16: =ROUND(J16*E16,2) -> 0 | P16: =SUM(M16:O16) -> 0
A17: 1.2. | B17: līg.cena | C17: Smilšu slāņu h=300mm ierikošana uz sablīveta esošā grunti ar visiem palīgdarbiem | D17: m2 | E17: 10 | H17: =ROUND(F17*G17,2) -> 0 | K17: =SUM(H17:J17) -> 0 | L17: =ROUND(E17*F17,2) -> 0 | M17: =ROUND(H17*E17,2) -> 0 | N17: =ROUND(I17*E17,2) -> 0 | O17: =ROUND(J17*E17,2) -> 0 | P17: =SUM(M17:O17) -> 0
A18: 1.3. | B18: līg.cena | C18: rupja smilts ar filtracijas kof. 1,0 | D18: m3 | E18: 3.45 | H18: =ROUND(F18*G18,2) -> 0 | K18: =SUM(H18:J18) -> 0 | L18: =ROUND(E18*F18,2) -> 0 | M18: =ROUND(H18*E18,2) -> 0 | N18: =ROUND(I18*E18,2) -> 0 | O18: =ROUND(J18*E18,2) -> 0 | P18: =SUM(M18:O18) -> 0
A19: 1.4. | B19: līg.cena | C19: Šķembas slāņu h=180mm ierikošana uz sablīveta smilšu slāņu ar visiem palīgdarbiem | D19: m2 | E19: 10 | H19: =ROUND(F19*G19,2) -> 0 | K19: =SUM(H19:J19) -> 0 | L19: =ROUND(E19*F19,2) -> 0 | M19: =ROUND(H19*E19,2) -> 0 | N19: =ROUND(I19*E19,2) -> 0 | O19: =ROUND(J19*E19,2) -> 0 | P19: =SUM(M19:O19) -> 0
A20: 1.5. | B20: līg.cena | C20: šķembas fr.20-40mm | D20: m3 | E20: 2.1 | H20: =ROUND(F20*G20,2) -> 0 | K20: =SUM(H20:J20) -> 0 | L20: =ROUND(E20*F20,2) -> 0 | M20: =ROUND(H20*E20,2) -> 0 | N20: =ROUND(I20*E20,2) -> 0 | O20: =ROUND(J20*E20,2) -> 0 | P20: =SUM(M20:O20) -> 0
A21: 1.6. | B21: līg.cena | C21: Asfalta segumu ierikošana uz sablīveta šķembas slāņu ar visiem palīgdarbiem | D21: m2 | E21: 10 | H21: =ROUND(F21*G21,2) -> 0 | K21: =SUM(H21:J21) -> 0 | L21: =ROUND(E21*F21,2) -> 0 | M21: =ROUND(H21*E21,2) -> 0 | N21: =ROUND(I21*E21,2) -> 0 | O21: =ROUND(J21*E21,2) -> 0 | P21: =SUM(M21:O21) -> 0
A22: 1.7. | B22: līg.cena | C22: karstais asfalts AS 11 surf, h=40mm | D22: tn | E22: 0.88 | H22: =ROUND(F22*G22,2) -> 0 | K22: =SUM(H22:J22) -> 0 | L22: =ROUND(E22*F22,2) -> 0 | M22: =ROUND(H22*E22,2) -> 0 | N22: =ROUND(I22*E22,2) -> 0 | O22: =ROUND(J22*E22,2) -> 0 | P22: =SUM(M22:O22) -> 0
A23: 1.8. | B23: līg.cena | C23: karstais asfalts AS 16 base, h=60mm | D23: tn | E23: 1.32 | H23: =ROUND(F23*G23,2) -> 0 | K23: =SUM(H23:J23) -> 0 | L23: =ROUND(E23*F23,2) -> 0 | M23: =ROUND(H23*E23,2) -> 0 | N23: =ROUND(I23*E23,2) -> 0 | O23: =ROUND(J23*E23,2) -> 0 | P23: =SUM(M23:O23) -> 0
A24: 1.9. | B24: līg.cena | C24: Betona apmales 1000x300x150mm uzstādīšana uz sagatavota pamatne un apbetonēšana ar visiem palīgdarbiem | D24: m | E24: 20 | H24: =ROUND(F24*G24,2) -> 0 | K24: =SUM(H24:J24) -> 0 | L24: =ROUND(E24*F24,2) -> 0 | M24: =ROUND(H24*E24,2) -> 0 | N24: =ROUND(I24*E24,2) -> 0 | O24: =ROUND(J24*E24,2) -> 0 | P24: =SUM(M24:O24) -> 0
A25: 1.10. | B25: līg.cena | C25: betona apmales 1000x300x150mm | D25: m | E25: 20 | H25: =ROUND(F25*G25,2) -> 0 | K25: =SUM(H25:J25) -> 0 | L25: =ROUND(E25*F25,2) -> 0 | M25: =ROUND(H25*E25,2) -> 0 | N25: =ROUND(I25*E25,2) -> 0 | O25: =ROUND(J25*E25,2) -> 0 | P25: =SUM(M25:O25) -> 0
A26: 1.11. | B26: līg.cena | C26: Betona apmales 1000x200x80mm uzstādīšana uz sagatavota pamatne un apbetonešana ar visiem palīgdarbiem | D26: m | E26: 63 | H26: =ROUND(F26*G26,2) -> 0 | K26: =SUM(H26:J26) -> 0 | L26: =ROUND(E26*F26,2) -> 0 | M26: =ROUND(H26*E26,2) -> 0 | N26: =ROUND(I26*E26,2) -> 0 | O26: =ROUND(J26*E26,2) -> 0 | P26: =SUM(M26:O26) -> 0
A27: 1.12. | B27: līg.cena | C27: betona apmales 1000x200x80mm | D27: m | E27: 63 | H27: =ROUND(F27*G27,2) -> 0 | K27: =SUM(H27:J27) -> 0 | L27: =ROUND(E27*F27,2) -> 0 | M27: =ROUND(H27*E27,2) -> 0 | N27: =ROUND(I27*E27,2) -> 0 | O27: =ROUND(J27*E27,2) -> 0 | P27: =SUM(M27:O27) -> 0
... A32: 1.17. | B32: līg.cena | C32: šķembas fr. 20-40mm | D32: m3 | E32: 14.1 | H32: =ROUND(F32*G32,2) -> 0 | K32: =SUM(H32:J32) -> 0 | L32: =ROUND(E32*F32,2) -> 0 | M32: =ROUND(H32*E32,2) -> 0 | N32: =ROUND(I32*E32,2) -> 0 | O32: =ROUND(J32*E32,2) -> 0 | P32: =SUM(M32:O32) -> 0
A33: 1.18. | B33: līg.cena | C33: Monolīta betona pamatus(20,gab.-0,2x02x0,2m) ierīkošana prekš statniem invalīda laukumu ar visiem palīgdarbiem | D33: m3 | E33: 0.18 | H33: =ROUND(F33*G33,2) -> 0 | K33: =SUM(H33:J33) -> 0 | L33: =ROUND(E33*F33,2) -> 0 | M33: =ROUND(H33*E33,2) -> 0 | N33: =ROUND(I33*E33,2) -> 0 | P33: =SUM(M33:O33) -> 0
A34: 1.19. | B34: līg.cena | C34: betons C25/30 | D34: m3 | E34: 0.2 | H34: =ROUND(F34*G34,2) -> 0 | K34: =SUM(H34:J34) -> 0 | L34: =ROUND(E34*F34,2) -> 0 | M34: =ROUND(H34*E34,2) -> 0 | N34: =ROUND(I34*E34,2) -> 0 | O34: =ROUND(J34*E34,2) -> 0 | P34: =SUM(M34:O34) -> 0
A35: 1.20. | B35: līg.cena | C35: ūdens izturīgs fineris b=15mm | D35: m2 | E35: 0.9 | H35: =ROUND(F35*G35,2) -> 0 | K35: =SUM(H35:J35) -> 0 | L35: =ROUND(E35*F35,2) -> 0 | M35: =ROUND(H35*E35,2) -> 0 | N35: =ROUND(I35*E35,2) -> 0 | O35: =ROUND(J35*E35,2) -> 0 | P35: =SUM(M35:O35) -> 0
A36: 1.21. | B36: līg.cena | C36: skrūves | D36: gab | E36: 320 | H36: =ROUND(F36*G36,2) -> 0 | K36: =SUM(H36:J36) -> 0 | L36: =ROUND(E36*F36,2) -> 0 | M36: =ROUND(H36*E36,2) -> 0 | N36: =ROUND(I36*E36,2) -> 0 | O36: =ROUND(J36*E36,2) -> 0 | P36: =SUM(M36:O36) -> 0
A37: 1.22. | B37: līg.cena | C37: Statnes invalīda laukumu ierīkošana no cinkota tērauda caurules D50 ar visiem palīgdarbiem | D37: m | E37: 42 | H37: =ROUND(F37*G37,2) -> 0 | K37: =SUM(H37:J37) -> 0 | L37: =ROUND(E37*F37,2) -> 0 | M37: =ROUND(H37*E37,2) -> 0 | N37: =ROUND(I37*E37,2) -> 0 | O37: =ROUND(J37*E37,2) -> 0 | P37: =SUM(M37:O37) -> 0
A38: 1.23. | B38: līg.cena | C38: cinkota tērauda caurules D50 | D38: m | E38: 42 | H38: =ROUND(F38*G38,2) -> 0 | K38: =SUM(H38:J38) -> 0 | L38: =ROUND(E38*F38,2) -> 0 | M38: =ROUND(H38*E38,2) -> 0 | N38: =ROUND(I38*E38,2) -> 0 | O38: =ROUND(J38*E38,2) -> 0 | P38: =SUM(M38:O38) -> 0
A39: 1.24. | B39: līg.cena | C39: sastiprīnāšanas detāļas | D39: kompl. | E39: 1 | H39: =ROUND(F39*G39,2) -> 0 | K39: =SUM(H39:J39) -> 0 | L39: =ROUND(E39*F39,2) -> 0 | M39: =ROUND(H39*E39,2) -> 0 | N39: =ROUND(I39*E39,2) -> 0 | O39: =ROUND(J39*E39,2) -> 0 | P39: =SUM(M39:O39) -> 0
A40: 1.25. | B40: līg.cena | C40: Invalīda laukumu ierīkošana no cinkota metināta režģi 34x38/40x40 ar visiem palīgdarbiem | D40: m2 | E40: 13.5 | H40: =ROUND(F40*G40,2) -> 0 | K40: =SUM(H40:J40) -> 0 | L40: =ROUND(E40*F40,2) -> 0 | M40: =ROUND(H40*E40,2) -> 0 | N40: =ROUND(I40*E40,2) -> 0 | O40: =ROUND(J40*E40,2) -> 0 | P40: =SUM(M40:O40) -> 0
A41: 1.26. | B41: līg.cena | C41: cinkota metināta režģi 34x38/40x40 | D41: m2 | E41: 13.5 | H41: =ROUND(F41*G41,2) -> 0 | K41: =SUM(H41:J41) -> 0 | L41: =ROUND(E41*F41,2) -> 0 | M41: =ROUND(H41*E41,2) -> 0 | N41: =ROUND(I41*E41,2) -> 0 | O41: =ROUND(J41*E41,2) -> 0 | P41: =SUM(M41:O41) -> 0
A42: 1.27. | B42: līg.cena | C42: sastiprīnāšanas detāļas | D42: kompl. | E42: 1 | H42: =ROUND(F42*G42,2) -> 0 | K42: =SUM(H42:J42) -> 0 | L42: =ROUND(E42*F42,2) -> 0 | M42: =ROUND(H42*E42,2) -> 0 | N42: =ROUND(I42*E42,2) -> 0 | O42: =ROUND(J42*E42,2) -> 0 | P42: =SUM(M42:O42) -> 0
A43: 1.28. | B43: līg.cena | C43: Margas invalīda laukumu ierīkošana no cinkota tērauda caurules D50 ar visiem palīgdarbiem | D43: m | E43: 74 | H43: =ROUND(F43*G43,2) -> 0 | K43: =SUM(H43:J43) -> 0 | L43: =ROUND(E43*F43,2) -> 0 | M43: =ROUND(H43*E43,2) -> 0 | N43: =ROUND(I43*E43,2) -> 0 | O43: =ROUND(J43*E43,2) -> 0 | P43: =SUM(M43:O43) -> 0
A44: 1.29. | B44: līg.cena | C44: cinkota tērauda caurules D50 | D44: m | E44: 74 | H44: =ROUND(F44*G44,2) -> 0 | K44: =SUM(H44:J44) -> 0 | L44: =ROUND(E44*F44,2) -> 0 | M44: =ROUND(H44*E44,2) -> 0 | N44: =ROUND(I44*E44,2) -> 0 | O44: =ROUND(J44*E44,2) -> 0 | P44: =SUM(M44:O44) -> 0
A45: 1.30. | B45: līg.cena | C45: sastiprīnāšanas detāļas | D45: kompl. | E45: 1 | H45: =ROUND(F45*G45,2) -> 0 | K45: =SUM(H45:J45) -> 0 | L45: =ROUND(E45*F45,2) -> 0 | M45: =ROUND(H45*E45,2) -> 0 | N45: =ROUND(I45*E45,2) -> 0 | O45: =ROUND(J45*E45,2) -> 0 | P45: =SUM(M45:O45) -> 0
... A63: 1.47. | B63: līg.cena | C63: Betona apmales 1000x200x80mm uzstādīšana uz sagatavota pamatne un apbetonešana ar visiem palīgdarbiem | D63: m | E63: 10 | H63: =ROUND(F63*G63,2) -> 0 | K63: =SUM(H63:J63) -> 0 | L63: =ROUND(E63*F63,2) -> 0 | M63: =ROUND(H63*E63,2) -> 0 | N63: =ROUND(I63*E63,2) -> 0 | O63: =ROUND(J63*E63,2) -> 0 | P63: =SUM(M63:O63) -> 0
A64: 1.48. | B64: līg.cena | C64: betona apmales 1000x200x80mm | D64: gab | E64: 10 | K64: =SUM(H64:J64) -> 0 | L64: =ROUND(E64*F64,2) -> 0 | M64: =ROUND(H64*E64,2) -> 0 | N64: =ROUND(I64*E64,2) -> 0 | O64: =ROUND(J64*E64,2) -> 0 | P64: =SUM(M64:O64) -> 0
A65: 1.49. | B65: līg.cena | C65: betons C20/25 | D65: m3 | E65: 1.4 | K65: =SUM(H65:J65) -> 0 | L65: =ROUND(E65*F65,2) -> 0 | M65: =ROUND(H65*E65,2) -> 0 | N65: =ROUND(I65*E65,2) -> 0 | O65: =ROUND(J65*E65,2) -> 0 | P65: =SUM(M65:O65) -> 0
A66: 2. | C66: Lietus kanalizācija | H66: =ROUND(F66*G66,2) -> 0 | K66: =SUM(H66:J66) -> 0 | L66: =ROUND(E66*F66,2) -> 0 | M66: =ROUND(H66*E66,2) -> 0 | N66: =ROUND(I66*E66,2) -> 0 | O66: =ROUND(J66*E66,2) -> 0 | P66: =SUM(M66:O66) -> 0
A67: 2.1. | B67: līg.cena | C67: Betona ūdensnoteka ierīkošana ar visiem palīgdarbiem | D67: m | E67: 120 | H67: =ROUND(F67*G67,2) -> 0 | K67: =SUM(H67:J67) -> 0 | L67: =ROUND(E67*F67,2) -> 0 | M67: =ROUND(H67*E67,2) -> 0 | N67: =ROUND(I67*E67,2) -> 0 | O67: =ROUND(J67*E67,2) -> 0 | P67: =SUM(M67:O67) -> 0
A68: 2.2. | B68: līg.cena | C68: šķembas fr.20-40mm | D68: m3 | E68: 6.8 | H68: =ROUND(F68*G68,2) -> 0 | K68: =SUM(H68:J68) -> 0 | L68: =ROUND(E68*F68,2) -> 0 | M68: =ROUND(H68*E68,2) -> 0 | N68: =ROUND(I68*E68,2) -> 0 | O68: =ROUND(J68*E68,2) -> 0 | P68: =SUM(M68:O68) -> 0
A69: 2.3. | B69: līg.cena | C69: sile betona ūdensnotieka DN200x100 | D69: m | E69: 120 | H69: =ROUND(F69*G69,2) -> 0 | K69: =SUM(H69:J69) -> 0 | L69: =ROUND(E69*F69,2) -> 0 | M69: =ROUND(H69*E69,2) -> 0 | N69: =ROUND(I69*E69,2) -> 0 | O69: =ROUND(J69*E69,2) -> 0 | P69: =SUM(M69:O69) -> 0
A70: 2.4. | B70: līg.cena | C70: mūrjava | D70: m3 | E70: 1.9 | H70: =ROUND(F70*G70,2) -> 0 | K70: =SUM(H70:J70) -> 0 | L70: =ROUND(E70*F70,2) -> 0 | M70: =ROUND(H70*E70,2) -> 0 | N70: =ROUND(I70*E70,2) -> 0 | O70: =ROUND(J70*E70,2) -> 0 | P70: =SUM(M70:O70) -> 0
A71: Tiešās izmaksas kopā, t. sk. darba devēja sociālais nodoklis 24.09% | L71: =SUM(L15:L70) -> 0 | M71: =SUM(M15:M70) -> 0 | N71: =SUM(N15:N70) -> 0 | O71: =SUM(O15:O70) -> 0 | P71: =SUM(P15:P70) -> 0
A74: Sastādīja | C74: ='Kops a'!C39:H39 -> Vasilijs Ivanovs
C75: (paraksts un tā atšifrējums, datums)
A77: ='Kops a'!A42 -> Tāme sastādīta 2024. gada 26. augusta
A79: Pārbaudīja | C79: ='Kops a'!C44:H44 -> Vasilijs Ivanovs
C80: (paraksts un tā atšifrējums, datums)
A82: Sertifikāta Nr | C82: ='Kops a'!C47 -> 4-01907

Sheet 3.1.
C1: Lokālā tāme Nr. | D1: 3.1.
C2: Siltummezgla ierīkošana
C3: (darba veids vai konstruktīvā elementa nosaukums)
C4: Attiecināmās izmaksas
C5: Būves nosaukums: | D5: ='Kops a'!D6 -> Daudzīvokļu dzīvojamais mājās
C6: Objekta nosaukums: | D6: Rūpniecības iela 6
C7: Objekta adrese: | D7: ='Kops a'!D8 -> Rūpnīcas ielā 6, Rēzeknē, LV-4604
C8: Pasūtījuma Nr. | D8: ='Kops a'!D9 -> TP_01.24
A9: Tāme sastādīta 2024. gada tirgus cenās, pamatojoties uz SM daļas rasējumiem | J9: Tāmes izmaksas EUR | N9: =P87 -> 0
P10: =A93 -> Tāme sastādīta 2024. gada 26. augusta
A12: Nr.p.k. | B12: Kods | C12: Darba nosaukums | D12: Mērvienība | E12: Daudzums | F12: Vienības izmaksas | L12: Kopā uz visu apjomu
F13: Laika norma (c/h) | G13: Darba samaksas likme (EUR/h) | H13: Darba alga (EUR) | I13: Būvizstrādājumi (EUR) | J13: Mehānismi (EUR) | K13: Kopā (EUR) | L13: Laika norma (c/h) | M13: Darba alga (EUR) | N13: Būvizstrādājumi (EUR) | O13: Mehānismi (EUR) | P13: Kopā (EUR)
A14: 1 | B14: 2 | C14: 3 | D14: 4 | E14: 5 | F14: 6 | G14: 7 | H14: 8 | I14: 9 | J14: 10 | K14: 11 | L14: 12 | M14: 13 | N14: 14 | O14: 15 | P14: 16
A15: 1 | C15: Ievada mezgls
A16: 1.1. | B16: līg.cena | C16: Tērauda ventilis "Naval" DN50 vai ekvivalents | D16: gb. | E16: 2 | H16: =ROUND(F16*G16,2) -> 0 | K16: =SUM(H16:J16) -> 0 | L16: =ROUND(E16*F16,2) -> 0 | M16: =ROUND(H16*E16,2) -> 0 | N16: =ROUND(I16*E16,2) -> 0 | O16: =ROUND(J16*E16,2) -> 0 | P16: =SUM(M16:O16) -> 0
A17: 1.2. | B17: līg.cena | C17: Filtrs DN50 | D17: gb. | E17: 1 | H17: =ROUND(F17*G17,2) -> 0 | K17: =SUM(H17:J17) -> 0 | L17: =ROUND(E17*F17,2) -> 0 | M17: =ROUND(H17*E17,2) -> 0 | N17: =ROUND(I17*E17,2) -> 0 | O17: =ROUND(J17*E17,2) -> 0 | P17: =SUM(M17:O17) -> 0
A18: 1.3. | B18: līg.cena | C18: Spiediena krituma regulators (), DN20, kvs=8 CRD122D; AFP VFG2 vai ekvivalents | D18: gb. | E18: 1 | H18: =ROUND(F18*G18,2) -> 0 | K18: =SUM(H18:J18) -> 0 | L18: =ROUND(E18*F18,2) -> 0 | M18: =ROUND(H18*E18,2) -> 0 | N18: =ROUND(I18*E18,2) -> 0 | O18: =ROUND(J18*E18,2) -> 0 | P18: =SUM(M18:O18) -> 0
A19: 1.4. | B19: līg.cena | C19: Siltumskaitītājs , Q=6 m3/st Sonometer 1100 vai ekvivalents | D19: gb. | E19: 1 | H19: =ROUND(F19*G19,2) -> 0 | K19: =SUM(H19:J19) -> 0 | L19: =ROUND(E19*F19,2) -> 0 | M19: =ROUND(H19*E19,2) -> 0 | N19: =ROUND(I19*E19,2) -> 0 | O19: =ROUND(J19*E19,2) -> 0 | P19: =SUM(M19:O19) -> 0
A20: 1.5. | B20: līg.cena | C20: Stikla termometrs 0-130 | D20: gb. | E20: 4 | H20: =ROUND(F20*G20,2) -> 0 | K20: =SUM(H20:J20) -> 0 | L20: =ROUND(E20*F20,2) -> 0 | M20: =ROUND(H20*E20,2) -> 0 | N20: =ROUND(I20*E20,2) -> 0 | O20: =ROUND(J20*E20,2) -> 0 | P20: =SUM(M20:O20) -> 0
A21: 1.6. | B21: līg.cena | C21: Manometrs 10 bar | D21: gb. | E21: 3 | H21: =ROUND(F21*G21,2) -> 0 | K21: =SUM(H21:J21) -> 0 | L21: =ROUND(E21*F21,2) -> 0 | M21: =ROUND(H21*E21,2) -> 0 | N21: =ROUND(I21*E21,2) -> 0 | O21: =ROUND(J21*E21,2) -> 0 | P21: =SUM(M21:O21) -> 0
A22: 1.7. | B22: līg.cena | C22: Manometra krāns | D22: gb. | E22: 3 | H22: =ROUND(F22*G22,2) -> 0 | K22: =SUM(H22:J22) -> 0 | L22: =ROUND(E22*F22,2) -> 0 | M22: =ROUND(H22*E22,2) -> 0 | N22: =ROUND(I22*E22,2) -> 0 | O22: =ROUND(J22*E22,2) -> 0 | P22: =SUM(M22:O22) -> 0
A23: 1.8. | B23: līg.cena | C23: Lodveida ventilis DN15 | D23: gb. | E23: 2 | H23: =ROUND(F23*G23,2) -> 0 | K23: =SUM(H23:J23) -> 0 | L23: =ROUND(E23*F23,2) -> 0 | M23: =ROUND(H23*E23,2) -> 0 | N23: =ROUND(I23*E23,2) -> 0 | O23: =ROUND(J23*E23,2) -> 0 | P23: =SUM(M23:O23) -> 0
A24: 2 | C24: Apkures kontūrs | H24: =ROUND(F24*G24,2) -> 0 | K24: =SUM(H24:J24) -> 0 | L24: =ROUND(E24*F24,2) -> 0 | M24: =ROUND(H24*E24,2) -> 0 | N24: =ROUND(I24*E24,2) -> 0 | O24: =ROUND(J24*E24,2) -> 0 | P24: =SUM(M24:O24) -> 0
A25: 2.1. | B25: līg.cena | C25: Apkures plākšņu siltummainis Q=40 kW | D25: gb. | E25: 1 | H25: =ROUND(F25*G25,2) -> 0 | K25: =SUM(H25:J25) -> 0 | L25: =ROUND(E25*F25,2) -> 0 | M25: =ROUND(H25*E25,2) -> 0 | N25: =ROUND(I25*E25,2) -> 0 | O25: =ROUND(J25*E25,2) -> 0 | P25: =SUM(M25:O25) -> 0
A26: 2.2. | B26: līg.cena | C26: Divgaitas vārsts ar elektropiedzīņu DN15, kvs=1.6 VRB2, AME435 vai ekvivalents | D26: gb. | E26: 1 | H26: =ROUND(F26*G26,2) -> 0 | K26: =SUM(H26:J26) -> 0 | L26: =ROUND(E26*F26,2) -> 0 | M26: =ROUND(H26*E26,2) -> 0 | N26: =ROUND(I26*E26,2) -> 0 | O26: =ROUND(J26*E26,2) -> 0 | P26: =SUM(M26:O26) -> 0
A27: 2.3. | B27: līg.cena | C27: Apkures kontūra cirkulācijas sūknis (G=1.75 m3/st, H=4,0m) Magna 3 25-80 vai ekvivalents | D27: gb. | E27: 1 | H27: =ROUND(F27*G27,2) -> 0 | K27: =SUM(H27:J27) -> 0 | L27: =ROUND(E27*F27,2) -> 0 | M27: =ROUND(H27*E27,2) -> 0 | N27: =ROUND(I27*E27,2) -> 0 | O27: =ROUND(J27*E27,2) -> 0 | P27: =SUM(M27:O27) -> 0
A28: 2.4. | B28: līg.cena | C28: Tērauda ventilis "Naval" DN32 vai ekvivalents | D28: gb. | E28: 2 | H28: =ROUND(F28*G28,2) -> 0 | K28: =SUM(H28:J28) -> 0 | L28: =ROUND(E28*F28,2) -> 0 | M28: =ROUND(H28*E28,2) -> 0 | N28: =ROUND(I28*E28,2) -> 0 | O28: =ROUND(J28*E28,2) -> 0 | P28: =SUM(M28:O28) -> 0
A29: 2.5. | B29: līg.cena | C29: Lodveida ventilis DN40 | D29: gb. | E29: 2 | H29: =ROUND(F29*G29,2) -> 0 | K29: =SUM(H29:J29) -> 0 | L29: =ROUND(E29*F29,2) -> 0 | M29: =ROUND(H29*E29,2) -> 0 | N29: =ROUND(I29*E29,2) -> 0 | O29: =ROUND(J29*E29,2) -> 0 | P29: =SUM(M29:O29) -> 0
A30: 2.6. | B30: līg.cena | C30: Lodveida ventilis DN25 | D30: gb. | E30: 2 | H30: =ROUND(F30*G30,2) -> 0 | K30: =SUM(H30:J30) -> 0 | L30: =ROUND(E30*F30,2) -> 0 | M30: =ROUND(H30*E30,2) -> 0 | N30: =ROUND(I30*E30,2) -> 0 | O30: =ROUND(J30*E30,2) -> 0 | P30: =SUM(M30:O30) -> 0
A31: 2.7. | B31: līg.cena | C31: Lodveida ventilis DN20 | D31: gb. | E31: 20 | H31: =ROUND(F31*G31,2) -> 0 | K31: =SUM(H31:J31) -> 0 | L31: =ROUND(E31*F31,2) -> 0 | M31: =ROUND(H31*E31,2) -> 0 | N31: =ROUND(I31*E31,2) -> 0 | O31: =ROUND(J31*E31,2) -> 0 | P31: =SUM(M31:O31) -> 0
A32: 2.8. | B32: līg.cena | C32: Lodveida ventilis DN15 | D32: gb. | E32: 6 | H32: =ROUND(F32*G32,2) -> 0 | K32: =SUM(H32:J32) -> 0 | L32: =ROUND(E32*F32,2) -> 0 | M32: =ROUND(H32*E32,2) -> 0 | N32: =ROUND(I32*E32,2) -> 0 | O32: =ROUND(J32*E32,2) -> 0 | P32: =SUM(M32:O32) -> 0
A33: 2.9. | B33: līg.cena | C33: Balansēšanas vārsts DN15 | D33: gb. | E33: 4 | H33: =ROUND(F33*G33,2) -> 0 | K33: =SUM(H33:J33) -> 0 | L33: =ROUND(E33*F33,2) -> 0 | M33: =ROUND(H33*E33,2) -> 0 | N33: =ROUND(I33*E33,2) -> 0 | O33: =ROUND(J33*E33,2) -> 0 | P33: =SUM(M33:O33) -> 0
A34: 2.10. | B34: līg.cena | C34: Filtrs DN40 | D34: gb. | E34: 1 | H34: =ROUND(F34*G34,2) -> 0 | K34: =SUM(H34:J34) -> 0 | L34: =ROUND(E34*F34,2) -> 0 | M34: =ROUND(H34*E34,2) -> 0 | N34: =ROUND(I34*E34,2) -> 0 | O34: =ROUND(J34*E34,2) -> 0 | P34: =SUM(M34:O34) -> 0
A35: 2.11. | B35: līg.cena | C35: Vītņu sietiņfiltrs DN15 | D35: gb. | E35: 1 | H35: =ROUND(F35*G35,2) -> 0 | K35: =SUM(H35:J35) -> 0 | L35: =ROUND(E35*F35,2) -> 0 | M35: =ROUND(H35*E35,2) -> 0 | N35: =ROUND(I35*E35,2) -> 0 | O35: =ROUND(J35*E35,2) -> 0 | P35: =SUM(M35:O35) -> 0
A36: 2.12. | B36: līg.cena | C36: Vienvirziena vārsts DN15 | D36: gb. | E36: 1 | H36: =ROUND(F36*G36,2) -> 0 | K36: =SUM(H36:J36) -> 0 | L36: =ROUND(E36*F36,2) -> 0 | M36: =ROUND(H36*E36,2) -> 0 | N36: =ROUND(I36*E36,2) -> 0 | O36: =ROUND(J36*E36,2) -> 0 | P36: =SUM(M36:O36) -> 0
... A44: 2.20. | B44: līg.cena | C44: Automatiskais atgaisotājs | D44: gb. | E44: 2 | H44: =ROUND(F44*G44,2) -> 0 | K44: =SUM(H44:J44) -> 0 | L44: =ROUND(E44*F44,2) -> 0 | M44: =ROUND(H44*E44,2) -> 0 | N44: =ROUND(I44*E44,2) -> 0 | O44: =ROUND(J44*E44,2) -> 0 | P44: =SUM(M44:O44) -> 0
A45: 3 | C45: Karstā ūdens kontūrs | H45: =ROUND(F45*G45,2) -> 0 | K45: =SUM(H45:J45) -> 0 | L45: =ROUND(E45*F45,2) -> 0 | M45: =ROUND(H45*E45,2) -> 0 | N45: =ROUND(I45*E45,2) -> 0 | O45: =ROUND(J45*E45,2) -> 0 | P45: =SUM(M45:O45) -> 0
A46: 3.1. | B46: līg.cena | C46: Karstā ūdens siltummainis Q=118 kW | D46: gb. | E46: 1 | H46: =ROUND(F46*G46,2) -> 0 | K46: =SUM(H46:J46) -> 0 | L46: =ROUND(E46*F46,2) -> 0 | M46: =ROUND(H46*E46,2) -> 0 | N46: =ROUND(I46*E46,2) -> 0 | O46: =ROUND(J46*E46,2) -> 0 | P46: =SUM(M46:O46) -> 0
A47: 3.2. | B47: līg.cena | C47: Divgaitas vārsts ar elektropiedzīņu DN25, kvs=10 VRB2, AME435 vai ekvivalents | D47: gb. | E47: 1 | H47: =ROUND(F47*G47,2) -> 0 | K47: =SUM(H47:J47) -> 0 | L47: =ROUND(E47*F47,2) -> 0 | M47: =ROUND(H47*E47,2) -> 0 | N47: =ROUND(I47*E47,2) -> 0 | O47: =ROUND(J47*E47,2) -> 0 | P47: =SUM(M47:O47) -> 0
A48: 3.3. | B48: līg.cena | C48: Karstā ūdens cirkulācijas sūknis (G=0.3 m3/st, H=1.5m) ALPHA 20-40N180 vai ekvivalents | D48: gb. | E48: 1 | H48: =ROUND(F48*G48,2) -> 0 | K48: =SUM(H48:J48) -> 0 | L48: =ROUND(E48*F48,2) -> 0 | M48: =ROUND(H48*E48,2) -> 0 | N48: =ROUND(I48*E48,2) -> 0 | O48: =ROUND(J48*E48,2) -> 0 | P48: =SUM(M48:O48) -> 0
A49: 3.4. | B49: līg.cena | C49: Tērauda ventilis "Naval" DN50 vai ekvivalents | D49: gb. | E49: 2 | H49: =ROUND(F49*G49,2) -> 0 | K49: =SUM(H49:J49) -> 0 | L49: =ROUND(E49*F49,2) -> 0 | M49: =ROUND(H49*E49,2) -> 0 | N49: =ROUND(I49*E49,2) -> 0 | O49: =ROUND(J49*E49,2) -> 0 | P49: =SUM(M49:O49) -> 0
A50: 3.5. | B50: līg.cena | C50: Lodveida ventilis DN40 | D50: gb. | E50: 3 | H50: =ROUND(F50*G50,2) -> 0 | K50: =SUM(H50:J50) -> 0 | L50: =ROUND(E50*F50,2) -> 0 | M50: =ROUND(H50*E50,2) -> 0 | N50: =ROUND(I50*E50,2) -> 0 | O50: =ROUND(J50*E50,2) -> 0 | P50: =SUM(M50:O50) -> 0
A51: 3.6. | B51: līg.cena | C51: Lodveida ventilis DN20 | D51: gb. | E51: 7 | H51: =ROUND(F51*G51,2) -> 0 | K51: =SUM(H51:J51) -> 0 | L51: =ROUND(E51*F51,2) -> 0 | M51: =ROUND(H51*E51,2) -> 0 | N51: =ROUND(I51*E51,2) -> 0 | O51: =ROUND(J51*E51,2) -> 0 | P51: =SUM(M51:O51) -> 0
A52: 3.7. | B52: līg.cena | C52: Lodveida ventilis DN15 | D52: gb. | E52: 5 | H52: =ROUND(F52*G52,2) -> 0 | K52: =SUM(H52:J52) -> 0 | L52: =ROUND(E52*F52,2) -> 0 | M52: =ROUND(H52*E52,2) -> 0 | N52: =ROUND(I52*E52,2) -> 0 | O52: =ROUND(J52*E52,2) -> 0 | P52: =SUM(M52:O52) -> 0
A53: 3.8. | B53: līg.cena | C53: Filtrs DN40 | D53: gb. | E53: 1 | H53: =ROUND(F53*G53,2) -> 0 | K53: =SUM(H53:J53) -> 0 | L53: =ROUND(E53*F53,2) -> 0 | M53: =ROUND(H53*E53,2) -> 0 | N53: =ROUND(I53*E53,2) -> 0 | O53: =ROUND(J53*E53,2) -> 0 | P53: =SUM(M53:O53) -> 0
A54: 3.9. | B54: līg.cena | C54: Filtrs DN20 | D54: gb. | E54: 1 | H54: =ROUND(F54*G54,2) -> 0 | K54: =SUM(H54:J54) -> 0 | L54: =ROUND(E54*F54,2) -> 0 | M54: =ROUND(H54*E54,2) -> 0 | N54: =ROUND(I54*E54,2) -> 0 | O54: =ROUND(J54*E54,2) -> 0 | P54: =SUM(M54:O54) -> 0
A55: 3.10. | B55: līg.cena | C55: Vienvirziena vārsts DN40 | D55: gb. | E55: 1 | H55: =ROUND(F55*G55,2) -> 0 | K55: =SUM(H55:J55) -> 0 | L55: =ROUND(E55*F55,2) -> 0 | M55: =ROUND(H55*E55,2) -> 0 | N55: =ROUND(I55*E55,2) -> 0 | O55: =ROUND(J55*E55,2) -> 0 | P55: =SUM(M55:O55) -> 0
A56: 3.11. | B56: līg.cena | C56: Vienvirziena vārsts DN20 | D56: gb. | E56: 1 | H56: =ROUND(F56*G56,2) -> 0 | K56: =SUM(H56:J56) -> 0 | L56: =ROUND(E56*F56,2) -> 0 | M56: =ROUND(H56*E56,2) -> 0 | N56: =ROUND(I56*E56,2) -> 0 | O56: =ROUND(J56*E56,2) -> 0 | P56: =SUM(M56:O56) -> 0
A57: 3.12. | B57: līg.cena | C57: Drošības vārsts 10 bar | D57: gb. | E57: 1 | H57: =ROUND(F57*G57,2) -> 0 | K57: =SUM(H57:J57) -> 0 | L57: =ROUND(E57*F57,2) -> 0 | M57: =ROUND(H57*E57,2) -> 0 | N57: =ROUND(I57*E57,2) -> 0 | O57: =ROUND(J57*E57,2) -> 0 | P57: =SUM(M57:O57) -> 0
... A61: 3.16. | B61: līg.cena | C61: Bimetāliskais termometrs 0-100 | D61: gb. | E61: 2 | H61: =ROUND(F61*G61,2) -> 0 | K61: =SUM(H61:J61) -> 0 | L61: =ROUND(E61*F61,2) -> 0 | M61: =ROUND(H61*E61,2) -> 0 | N61: =ROUND(I61*E61,2) -> 0 | O61: =ROUND(J61*E61,2) -> 0 | P61: =SUM(M61:O61) -> 0
A62: 4 | B62: līg.cena | C62: Caurules un izolācija | H62: =ROUND(F62*G62,2) -> 0 | K62: =SUM(H62:J62) -> 0 | L62: =ROUND(E62*F62,2) -> 0 | M62: =ROUND(H62*E62,2) -> 0 | N62: =ROUND(I62*E62,2) -> 0 | O62: =ROUND(J62*E62,2) -> 0 | P62: =SUM(M62:O62) -> 0
A63: 4.1. | B63: līg.cena | C63: Tērauda caurule DN65 | D63: m. | E63: 3 | H63: =ROUND(F63*G63,2) -> 0 | K63: =SUM(H63:J63) -> 0 | L63: =ROUND(E63*F63,2) -> 0 | M63: =ROUND(H63*E63,2) -> 0 | N63: =ROUND(I63*E63,2) -> 0 | O63: =ROUND(J63*E63,2) -> 0 | P63: =SUM(M63:O63) -> 0
A64: 4.2. | B64: līg.cena | C64: Tērauda caurule DN50 | D64: m. | E64: 6 | H64: =ROUND(F64*G64,2) -> 0 | K64: =SUM(H64:J64) -> 0 | L64: =ROUND(E64*F64,2) -> 0 | M64: =ROUND(H64*E64,2) -> 0 | N64: =ROUND(I64*E64,2) -> 0 | O64: =ROUND(J64*E64,2) -> 0 | P64: =SUM(M64:O64) -> 0
A65: 4.3. | B65: līg.cena | C65: Tērauda caurule DN40 | D65: m. | E65: 4 | H65: =ROUND(F65*G65,2) -> 0 | K65: =SUM(H65:J65) -> 0 | L65: =ROUND(E65*F65,2) -> 0 | M65: =ROUND(H65*E65,2) -> 0 | N65: =ROUND(I65*E65,2) -> 0 | O65: =ROUND(J65*E65,2) -> 0 | P65: =SUM(M65:O65) -> 0
A66: 4.4. | B66: līg.cena | C66: Tērauda caurule DN25 | D66: m. | E66: 2 | H66: =ROUND(F66*G66,2) -> 0 | K66: =SUM(H66:J66) -> 0 | L66: =ROUND(E66*F66,2) -> 0 | M66: =ROUND(H66*E66,2) -> 0 | N66: =ROUND(I66*E66,2) -> 0 | O66: =ROUND(J66*E66,2) -> 0 | P66: =SUM(M66:O66) -> 0
A67: 4.5. | B67: līg.cena | C67: Tērauda caurule DN20 | D67: m. | E67: 4 | H67: =ROUND(F67*G67,2) -> 0 | K67: =SUM(H67:J67) -> 0 | L67: =ROUND(E67*F67,2) -> 0 | M67: =ROUND(H67*E67,2) -> 0 | N67: =ROUND(I67*E67,2) -> 0 | O67: =ROUND(J67*E67,2) -> 0 | P67: =SUM(M67:O67) -> 0
A68: 4.6. | B68: līg.cena | C68: Tērauda caurule DN15 | D68: m. | E68: 6 | H68: =ROUND(F68*G68,2) -> 0 | K68: =SUM(H68:J68) -> 0 | L68: =ROUND(E68*F68,2) -> 0 | M68: =ROUND(H68*E68,2) -> 0 | N68: =ROUND(I68*E68,2) -> 0 | O68: =ROUND(J68*E68,2) -> 0 | P68: =SUM(M68:O68) -> 0
A69: 4.7. | B69: līg.cena | C69: Izolācijas čaula ar aluminija folijas pārklājumu 65x30mm | D69: m. | E69: 4 | H69: =ROUND(F69*G69,2) -> 0 | K69: =SUM(H69:J69) -> 0 | L69: =ROUND(E69*F69,2) -> 0 | M69: =ROUND(H69*E69,2) -> 0 | N69: =ROUND(I69*E69,2) -> 0 | O69: =ROUND(J69*E69,2) -> 0 | P69: =SUM(M69:O69) -> 0
A70: 4.8. | B70: līg.cena | C70: Izolācijas čaula ar aluminija folijas pārklājumu 50x30mm | D70: m. | E70: 7 | H70: =ROUND(F70*G70,2) -> 0 | K70: =SUM(H70:J70) -> 0 | L70: =ROUND(E70*F70,2) -> 0 | M70: =ROUND(H70*E70,2) -> 0 | N70: =ROUND(I70*E70,2) -> 0 | O70: =ROUND(J70*E70,2) -> 0 | P70: =SUM(M70:O70) -> 0
A71: 4.9. | B71: līg.cena | C71: Izolācijas čaula ar aluminija folijas pārklājumu 40x30mm | D71: m. | E71: 5 | H71: =ROUND(F71*G71,2) -> 0 | K71: =SUM(H71:J71) -> 0 | L71: =ROUND(E71*F71,2) -> 0 | M71: =ROUND(H71*E71,2) -> 0 | N71: =ROUND(I71*E71,2) -> 0 | O71: =ROUND(J71*E71,2) -> 0 | P71: =SUM(M71:O71) -> 0
A72: 4.10. | B72: līg.cena | C72: Izolācijas čaula ar aluminija folijas pārklājumu 25x30mm | D72: m. | E72: 3 | H72: =ROUND(F72*G72,2) -> 0 | K72: =SUM(H72:J72) -> 0 | L72: =ROUND(E72*F72,2) -> 0 | M72: =ROUND(H72*E72,2) -> 0 | N72: =ROUND(I72*E72,2) -> 0 | O72: =ROUND(J72*E72,2) -> 0 | P72: =SUM(M72:O72) -> 0
A73: 4.11. | B73: līg.cena | C73: Izolācijas čaula ar aluminija folijas pārklājumu 20x30mm | D73: m. | E73: 6 | H73: =ROUND(F73*G73,2) -> 0 | K73: =SUM(H73:J73) -> 0 | L73: =ROUND(E73*F73,2) -> 0 | M73: =ROUND(H73*E73,2) -> 0 | N73: =ROUND(I73*E73,2) -> 0 | O73: =ROUND(J73*E73,2) -> 0 | P73: =SUM(M73:O73) -> 0
A74: 4.12. | B74: līg.cena | C74: Izolācijas čaula ar aluminija folijas pārklājumu 15x30mm | D74: m. | E74: 7 | H74: =ROUND(F74*G74,2) -> 0 | K74: =SUM(H74:J74) -> 0 | L74: =ROUND(E74*F74,2) -> 0 | M74: =ROUND(H74*E74,2) -> 0 | N74: =ROUND(I74*E74,2) -> 0 | O74: =ROUND(J74*E74,2) -> 0 | P74: =SUM(M74:O74) -> 0
A75: 4.13. | B75: līg.cena | C75: Tērauda caurules veidgabalu un stiprinājumu komplekts | D75: kpl. | E75: 1 | H75: =ROUND(F75*G75,2) -> 0 | K75: =SUM(H75:J75) -> 0 | L75: =ROUND(E75*F75,2) -> 0 | M75: =ROUND(H75*E75,2) -> 0 | N75: =ROUND(I75*E75,2) -> 0 | O75: =ROUND(J75*E75,2) -> 0 | P75: =SUM(M75:O75) -> 0
A76: 5 | C76: Automātikas ierīces un elektroapsaistes materiāli | H76: =ROUND(F76*G76,2) -> 0 | K76: =SUM(H76:J76) -> 0 | L76: =ROUND(E76*F76,2) -> 0 | M76: =ROUND(H76*E76,2) -> 0 | N76: =ROUND(I76*E76,2) -> 0 | O76: =ROUND(J76*E76,2) -> 0 | P76: =SUM(M76:O76) -> 0
A77: 5.1. | B77: līg.cena | C77: El. regulātors ELC 210 vai ekvivalents | D77: gb. | E77: 1 | H77: =ROUND(F77*G77,2) -> 0 | K77: =SUM(H77:J77) -> 0 | L77: =ROUND(E77*F77,2) -> 0 | M77: =ROUND(H77*E77,2) -> 0 | N77: =ROUND(I77*E77,2) -> 0 | O77: =ROUND(J77*E77,2) -> 0 | P77: =SUM(M77:O77) -> 0
A78: 5.2. | B78: līg.cena | C78: Ārgaisa temperatūras sensors | D78: gb. | E78: 1 | H78: =ROUND(F78*G78,2) -> 0 | K78: =SUM(H78:J78) -> 0 | L78: =ROUND(E78*F78,2) -> 0 | M78: =ROUND(H78*E78,2) -> 0 | N78: =ROUND(I78*E78,2) -> 0 | O78: =ROUND(J78*E78,2) -> 0 | P78: =SUM(M78:O78) -> 0
A79: 5.3. | B79: līg.cena | C79: Iegremdējams temperatūras sensors | D79: gb. | E79: 1 | H79: =ROUND(F79*G79,2) -> 0 | K79: =SUM(H79:J79) -> 0 | L79: =ROUND(E79*F79,2) -> 0 | M79: =ROUND(H79*E79,2) -> 0 | N79: =ROUND(I79*E79,2) -> 0 | O79: =ROUND(J79*E79,2) -> 0 | P79: =SUM(M79:O79) -> 0
A80: 5.4. | B80: līg.cena | C80: Temperatūras sensors | D80: gb. | E80: 1 | H80: =ROUND(F80*G80,2) -> 0 | K80: =SUM(H80:J80) -> 0 | L80: =ROUND(E80*F80,2) -> 0 | M80: =ROUND(H80*E80,2) -> 0 | N80: =ROUND(I80*E80,2) -> 0 | O80: =ROUND(J80*E80,2) -> 0 | P80: =SUM(M80:O80) -> 0
A81: 5.5. | B81: līg.cena | C81: Elektroapsaistes materiālu komplekts | D81: gb. | E81: 1 | H81: =ROUND(F81*G81,2) -> 0 | K81: =SUM(H81:J81) -> 0 | L81: =ROUND(E81*F81,2) -> 0 | M81: =ROUND(H81*E81,2) -> 0 | N81: =ROUND(I81*E81,2) -> 0 | O81: =ROUND(J81*E81,2) -> 0 | P81: =SUM(M81:O81) -> 0
A82: 5.6. | B82: līg.cena | C82: Montāžas palīgmateriāli | D82: gb. | E82: 1 | H82: =ROUND(F82*G82,2) -> 0 | K82: =SUM(H82:J82) -> 0 | L82: =ROUND(E82*F82,2) -> 0 | M82: =ROUND(H82*E82,2) -> 0 | N82: =ROUND(I82*E82,2) -> 0 | O82: =ROUND(J82*E82,2) -> 0 | P82: =SUM(M82:O82) -> 0
A83: 5.7. | B83: līg.cena | C83: Stiprinājuma kronšteini | D83: kpl. | E83: 1 | H83: =ROUND(F83*G83,2) -> 0 | K83: =SUM(H83:J83) -> 0 | L83: =ROUND(E83*F83,2) -> 0 | M83: =ROUND(H83*E83,2) -> 0 | N83: =ROUND(I83*E83,2) -> 0 | O83: =ROUND(J83*E83,2) -> 0 | P83: =SUM(M83:O83) -> 0
A84: 6. | B84: līg.cena | C84: Sistēmas pārbaude un palaišana | H84: =ROUND(F84*G84,2) -> 0 | K84: =SUM(H84:J84) -> 0 | L84: =ROUND(E84*F84,2) -> 0 | M84: =ROUND(H84*E84,2) -> 0 | N84: =ROUND(I84*E84,2) -> 0 | O84: =ROUND(J84*E84,2) -> 0 | P84: =SUM(M84:O84) -> 0
A85: 6.1. | B85: līg.cena | C85: Sistēmas hidrauliskā pārbaude | D85: kpl. | E85: 1 | H85: =ROUND(F85*G85,2) -> 0 | K85: =SUM(H85:J85) -> 0 | L85: =ROUND(E85*F85,2) -> 0 | M85: =ROUND(H85*E85,2) -> 0 | N85: =ROUND(I85*E85,2) -> 0 | O85: =ROUND(J85*E85,2) -> 0 | P85: =SUM(M85:O85) -> 0
A86: 6.2. | B86: līg.cena | C86: Sistēmas palaišana un balansēšana | D86: kpl. | E86: 1 | H86: =ROUND(F86*G86,2) -> 0 | K86: =SUM(H86:J86) -> 0 | L86: =ROUND(E86*F86,2) -> 0 | M86: =ROUND(H86*E86,2) -> 0 | N86: =ROUND(I86*E86,2) -> 0 | O86: =ROUND(J86*E86,2) -> 0 | P86: =SUM(M86:O86) -> 0
A87: Tiešās izmaksas kopā, t. sk. darba devēja sociālais nodoklis 24.09% | L87: =SUM(L15:L86) -> 0 | M87: =SUM(M15:M86) -> 0 | N87: =SUM(N15:N86) -> 0 | O87: =SUM(O15:O86) -> 0 | P87: =SUM(P15:P86) -> 0
A90: Sastādīja | C90: ='Kops a'!C39:H39 -> Vasilijs Ivanovs
C91: (paraksts un tā atšifrējums, datums)
A93: ='Kops a'!A42 -> Tāme sastādīta 2024. gada 26. augusta
A95: Pārbaudīja | C95: ='Kops a'!C44:H44 -> Vasilijs Ivanovs
C96: (paraksts un tā atšifrējums, datums)
A98: Sertifikāta Nr | C98: ='Kops a'!C47 -> 4-01907

Sheet 3.2.
C1: Lokālā tāme Nr. | D1: 3.2.
C2: Apkures sistēmas ierīkošana
C3: (darba veids vai konstruktīvā elementa nosaukums)
C4: Attiecināmās izmaksas
C5: Būves nosaukums: | D5: ='Kops a'!D6 -> Daudzīvokļu dzīvojamais mājās
C6: Objekta nosaukums: | D6: ='Kops a'!D7 -> Energoefektivitātes paaugstināšana daudzdzīvokļu dzīvojamai mājai
C7: Objekta adrese: | D7: ='Kops a'!D8 -> Rūpnīcas ielā 6, Rēzeknē, LV-4604
C8: Pasūtījuma Nr. | D8: ='Kops a'!D9 -> TP_01.24
A9: Tāme sastādīta 2024. gada tirgus cenās, pamatojoties uz AVK-A daļas rasējumiem | J9: Tāmes izmaksas EUR | N9: =P37 -> 0
P10: =A43 -> Tāme sastādīta 2024. gada 26. augusta
A12: Nr.p.k. | B12: Kods | C12: Darba nosaukums | D12: Mērvienība | E12: Daudzums | F12: Vienības izmaksas | L12: Kopā uz visu apjomu
F13: Laika norma (c/h) | G13: Darba samaksas likme (EUR/h) | H13: Darba alga (EUR) | I13: Būvizstrādājumi (EUR) | J13: Mehānismi (EUR) | K13: Kopā (EUR) | L13: Laika norma (c/h) | M13: Darba alga (EUR) | N13: Būvizstrādājumi (EUR) | O13: Mehānismi (EUR) | P13: Kopā (EUR)
A14: 1 | B14: 2 | C14: 3 | D14: 4 | E14: 5 | F14: 6 | G14: 7 | H14: 8 | I14: 9 | J14: 10 | K14: 11 | L14: 12 | M14: 13 | N14: 14 | O14: 15 | P14: 16
A15: 1. | B15: līg.cena | C15: Radiators komplektā ar stiprinājumiem un atgaisošanas korķi C22 500-500 "PURMO Compact" vai ekvivalents | D15: gb. | E15: 4 | H15: =ROUND(F15*G15,2) -> 0 | K15: =SUM(H15:J15) -> 0 | L15: =ROUND(E15*F15,2) -> 0 | M15: =ROUND(H15*E15,2) -> 0 | N15: =ROUND(I15*E15,2) -> 0 | O15: =ROUND(J15*E15,2) -> 0 | P15: =SUM(M15:O15) -> 0
A16: 2. | B16: līg.cena | C16: tas pats C22 500-600 | D16: gb. | E16: 14 | H16: =ROUND(F16*G16,2) -> 0 | K16: =SUM(H16:J16) -> 0 | L16: =ROUND(E16*F16,2) -> 0 | M16: =ROUND(H16*E16,2) -> 0 | N16: =ROUND(I16*E16,2) -> 0 | O16: =ROUND(J16*E16,2) -> 0 | P16: =SUM(M16:O16) -> 0
A17: 3. | B17: līg.cena | C17: tas pats C22 500-700 | D17: gb. | E17: 15 | H17: =ROUND(F17*G17,2) -> 0 | K17: =SUM(H17:J17) -> 0 | L17: =ROUND(E17*F17,2) -> 0 | M17: =ROUND(H17*E17,2) -> 0 | N17: =ROUND(I17*E17,2) -> 0 | O17: =ROUND(J17*E17,2) -> 0 | P17: =SUM(M17:O17) -> 0
A18: 4. | B18: līg.cena | C18: tas pats C22 500-800 | D18: gb. | E18: 9 | H18: =ROUND(F18*G18,2) -> 0 | K18: =SUM(H18:J18) -> 0 | L18: =ROUND(E18*F18,2) -> 0 | M18: =ROUND(H18*E18,2) -> 0 | N18: =ROUND(I18*E18,2) -> 0 | O18: =ROUND(J18*E18,2) -> 0 | P18: =SUM(M18:O18) -> 0
A19: 5. | B19: līg.cena | C19: tas pats C22 500-900 | D19: gb. | E19: 9 | H19: =ROUND(F19*G19,2) -> 0 | K19: =SUM(H19:J19) -> 0 | L19: =ROUND(E19*F19,2) -> 0 | M19: =ROUND(H19*E19,2) -> 0 | N19: =ROUND(I19*E19,2) -> 0 | O19: =ROUND(J19*E19,2) -> 0 | P19: =SUM(M19:O19) -> 0
A20: 6. | B20: līg.cena | C20: Radiatora pieslēguma komplekts, aksiāls termostātiskais vārsts ar priekšiestatīšanu, un leņķa atpakaļgaitas noslēgvārsts TS-98-V, RL-1, HERZ vai ekvivalents | D20: kpl. | E20: 51 | H20: =ROUND(F20*G20,2) -> 0 | K20: =SUM(H20:J20) -> 0 | L20: =ROUND(E20*F20,2) -> 0 | M20: =ROUND(H20*E20,2) -> 0 | N20: =ROUND(I20*E20,2) -> 0 | O20: =ROUND(J20*E20,2) -> 0 | P20: =SUM(M20:O20) -> 0
A21: 7. | B21: līg.cena | C21: Termostatiskā galviņa | D21: kpl. | E21: 51 | H21: =ROUND(F21*G21,2) -> 0 | K21: =SUM(H21:J21) -> 0 | L21: =ROUND(E21*F21,2) -> 0 | M21: =ROUND(H21*E21,2) -> 0 | N21: =ROUND(I21*E21,2) -> 0 | O21: =ROUND(J21*E21,2) -> 0 | P21: =SUM(M21:O21) -> 0
A22: 8. | B22: līg.cena | C22: Balansēšanas vārsts DN15 | D22: gb. | E22: 9 | H22: =ROUND(F22*G22,2) -> 0 | K22: =SUM(H22:J22) -> 0 | L22: =ROUND(E22*F22,2) -> 0 | M22: =ROUND(H22*E22,2) -> 0 | N22: =ROUND(I22*E22,2) -> 0 | O22: =ROUND(J22*E22,2) -> 0 | P22: =SUM(M22:O22) -> 0
A23: 9. | B23: līg.cena | C23: Lodveida vārsts DN15 | D23: gb. | E23: 15 | H23: =ROUND(F23*G23,2) -> 0 | K23: =SUM(H23:J23) -> 0 | L23: =ROUND(E23*F23,2) -> 0 | M23: =ROUND(H23*E23,2) -> 0 | N23: =ROUND(I23*E23,2) -> 0 | O23: =ROUND(J23*E23,2) -> 0 | P23: =SUM(M23:O23) -> 0
A24: 10. | B24: līg.cena | C24: Lodveida vārsts DN20 | D24: gb. | E24: 8 | H24: =ROUND(F24*G24,2) -> 0 | K24: =SUM(H24:J24) -> 0 | L24: =ROUND(E24*F24,2) -> 0 | M24: =ROUND(H24*E24,2) -> 0 | N24: =ROUND(I24*E24,2) -> 0 | O24: =ROUND(J24*E24,2) -> 0 | P24: =SUM(M24:O24) -> 0
A25: 11. | B25: līg.cena | C25: Tērauda Press Steel caurule d.15x1,2mm | D25: m. | E25: 240 | H25: =ROUND(F25*G25,2) -> 0 | K25: =SUM(H25:J25) -> 0 | L25: =ROUND(E25*F25,2) -> 0 | M25: =ROUND(H25*E25,2) -> 0 | N25: =ROUND(I25*E25,2) -> 0 | O25: =ROUND(J25*E25,2) -> 0 | P25: =SUM(M25:O25) -> 0
A26: 12. | B26: līg.cena | C26: Tērauda Press Steel caurule d.18x1,2mm | D26: m. | E26: 310 | H26: =ROUND(F26*G26,2) -> 0 | K26: =SUM(H26:J26) -> 0 | L26: =ROUND(E26*F26,2) -> 0 | M26: =ROUND(H26*E26,2) -> 0 | N26: =ROUND(I26*E26,2) -> 0 | O26: =ROUND(J26*E26,2) -> 0 | P26: =SUM(M26:O26) -> 0
... A36: 22. | B36: līg.cena | C36: Apkures sistēmas aizpildīšana, skalošana, balansēšana un pārbaude uz siltumaefektu | D36: kpl. | E36: 1 | H36: =ROUND(F36*G36,2) -> 0 | K36: =SUM(H36:J36) -> 0 | L36: =ROUND(E36*F36,2) -> 0 | M36: =ROUND(H36*E36,2) -> 0 | N36: =ROUND(I36*E36,2) -> 0 | O36: =ROUND(J36*E36,2) -> 0 | P36: =SUM(M36:O36) -> 0
A37: Tiešās izmaksas kopā, t. sk. darba devēja sociālais nodoklis 24.9% | L37: =SUM(L15:L36) -> 0 | M37: =SUM(M15:M36) -> 0 | N37: =SUM(N15:N36) -> 0 | O37: =SUM(O15:O36) -> 0 | P37: =SUM(P15:P36) -> 0
A40: Sastādīja | C40: ='Kops a'!C39:H39 -> Vasilijs Ivanovs
C41: (paraksts un tā atšifrējums, datums)
A43: ='Kops a'!A42 -> Tāme sastādīta 2024. gada 26. augusta
A45: Pārbaudīja | C45: ='Kops a'!C44:H44 -> Vasilijs Ivanovs
C46: (paraksts un tā atšifrējums, datums)
A48: Sertifikāta Nr | C48: ='Kops a'!C47 -> 4-01907

Sheet 3.3.
C1: Lokālā tāme Nr. | D1: 3.3.
C2: Ventilācijas sistēmas ierīkošana
C3: (darba veids vai konstruktīvā elementa nosaukums)
C4: Attiecināmās izmaksas
C5: Būves nosaukums: | D5: ='Kops a'!D6 -> Daudzīvokļu dzīvojamais mājās
C6: Objekta nosaukums: | D6: ='Kops a'!D7 -> Energoefektivitātes paaugstināšana daudzdzīvokļu dzīvojamai mājai
C7: Objekta adrese: | D7: ='Kops a'!D8 -> Rūpnīcas ielā 6, Rēzeknē, LV-4604
C8: Pasūtījuma Nr. | D8: ='Kops a'!D9 -> TP_01.24
A9: Tāme sastādīta 2024. gada tirgus cenās, pamatojoties uz AVK_V daļas rasējumiem | J9: Tāmes izmaksas EUR | N9: =P24 -> 0
P10: =A30 -> Tāme sastādīta 2024. gada 26. augusta
A12: Nr.p.k. | B12: Kods | C12: Darba nosaukums | D12: Mērvienība | E12: Daudzums | F12: Vienības izmaksas | L12: Kopā uz visu apjomu
F13: Laika norma (c/h) | G13: Darba samaksas likme (EUR/h) | H13: Darba alga (EUR) | I13: Būvizstrādājumi (EUR) | J13: Mehānismi (EUR) | K13: Kopā (EUR) | L13: Laika norma (c/h) | M13: Darba alga (EUR) | N13: Būvizstrādājumi (EUR) | O13: Mehānismi (EUR) | P13: Kopā (EUR)
A14: 1. | B14: līg.cena | C14: Gaisa pieplūdes vārsts ar filtru PVC logiem VentSys vai ekvivalents | D14: gb. | E14: 40 | H14: =ROUND(F14*G14,2) -> 0 | K14: =SUM(H14:J14) -> 0 | L14: =ROUND(E14*F14,2) -> 0 | M14: =ROUND(H14*E14,2) -> 0 | N14: =ROUND(I14*E14,2) -> 0 | O14: =ROUND(J14*E14,2) -> 0 | P14: =SUM(M14:O14) -> 0
A15: 2. | B15: līg.cena | C15: Iebūvējams tvaika nosūcējs Electrolux LFP226S vai ekvivalents | D15: gb. | E15: 20 | H15: =ROUND(F15*G15,2) -> 0 | K15: =SUM(H15:J15) -> 0 | L15: =ROUND(E15*F15,2) -> 0 | M15: =ROUND(H15*E15,2) -> 0 | N15: =ROUND(I15*E15,2) -> 0 | O15: =ROUND(J15*E15,2) -> 0 | P15: =SUM(M15:O15) -> 0
A16: 3. | B16: līg.cena | C16: Nosūces reste 100x100 | D16: gb. | E16: 1 | H16: =ROUND(F16*G16,2) -> 0 | K16: =SUM(H16:J16) -> 0 | L16: =ROUND(E16*F16,2) -> 0 | M16: =ROUND(H16*E16,2) -> 0 | N16: =ROUND(I16*E16,2) -> 0 | O16: =ROUND(J16*E16,2) -> 0 | P16: =SUM(M16:O16) -> 0
A17: 4. | B17: līg.cena | C17: Nosūces reste 125x125 | D17: gb. | E17: 10 | H17: =ROUND(F17*G17,2) -> 0 | K17: =SUM(H17:J17) -> 0 | L17: =ROUND(E17*F17,2) -> 0 | M17: =ROUND(H17*E17,2) -> 0 | N17: =ROUND(I17*E17,2) -> 0 | O17: =ROUND(J17*E17,2) -> 0 | P17: =SUM(M17:O17) -> 0
A18: 5. | B18: līg.cena | C18: Pārplūdes reste 150x300mm | D18: gb. | E18: 36 | H18: =ROUND(F18*G18,2) -> 0 | K18: =SUM(H18:J18) -> 0 | L18: =ROUND(E18*F18,2) -> 0 | M18: =ROUND(H18*E18,2) -> 0 | N18: =ROUND(I18*E18,2) -> 0 | O18: =ROUND(J18*E18,2) -> 0 | P18: =SUM(M18:O18) -> 0
A19: 6. | B19: līg.cena | C19: Gaisa vads D125 | D19: m. | E19: 360 | H19: =ROUND(F19*G19,2) -> 0 | K19: =SUM(H19:J19) -> 0 | L19: =ROUND(E19*F19,2) -> 0 | M19: =ROUND(H19*E19,2) -> 0 | N19: =ROUND(I19*E19,2) -> 0 | O19: =ROUND(J19*E19,2) -> 0 | P19: =SUM(M19:O19) -> 0
A20: 7. | B20: līg.cena | C20: Gaisa vads D100 | D20: m. | E20: 190 | H20: =ROUND(F20*G20,2) -> 0 | K20: =SUM(H20:J20) -> 0 | L20: =ROUND(E20*F20,2) -> 0 | M20: =ROUND(H20*E20,2) -> 0 | N20: =ROUND(I20*E20,2) -> 0 | O20: =ROUND(J20*E20,2) -> 0 | P20: =SUM(M20:O20) -> 0
A21: 8. | B21: līg.cena | C21: Akmensvates siltuma izolācija b=30mm | D21: m2 | E21: 27 | H21: =ROUND(F21*G21,2) -> 0 | K21: =SUM(H21:J21) -> 0 | L21: =ROUND(E21*F21,2) -> 0 | M21: =ROUND(H21*E21,2) -> 0 | N21: =ROUND(I21*E21,2) -> 0 | O21: =ROUND(J21*E21,2) -> 0 | P21: =SUM(M21:O21) -> 0
A22: 9. | B22: līg.cena | C22: Gaisa vada veidgabali | D22: kpl. | E22: 1 | H22: =ROUND(F22*G22,2) -> 0 | K22: =SUM(H22:J22) -> 0 | L22: =ROUND(E22*F22,2) -> 0 | M22: =ROUND(H22*E22,2) -> 0 | N22: =ROUND(I22*E22,2) -> 0 | O22: =ROUND(J22*E22,2) -> 0 | P22: =SUM(M22:O22) -> 0
A23: 10. | B23: līg.cena | C23: Gaisa vada stiprinājumi un palīmateriāli | D23: kpll. | E23: 1 | H23: =ROUND(F23*G23,2) -> 0 | K23: =SUM(H23:J23) -> 0 | L23: =ROUND(E23*F23,2) -> 0 | M23: =ROUND(H23*E23,2) -> 0 | N23: =ROUND(I23*E23,2) -> 0 | O23: =ROUND(J23*E23,2) -> 0 | P23: =SUM(M23:O23) -> 0
A24: Tiešās izmaksas kopā, t. sk. darba devēja sociālais nodoklis 24.09% | L24: =SUM(L14:L23) -> 0 | M24: =SUM(M14:M23) -> 0 | N24: =SUM(N14:N23) -> 0 | O24: =SUM(O14:O23) -> 0 | P24: =SUM(P14:P23) -> 0
A27: Sastādīja | C27: ='Kops a'!C39:H39 -> Vasilijs Ivanovs
C28: (paraksts un tā atšifrējums, datums)
A30: ='Kops a'!A42 -> Tāme sastādīta 2024. gada 26. augusta
A32: Pārbaudīja | C32: ='Kops a'!C44:H44 -> Vasilijs Ivanovs
C33: (paraksts un tā atšifrējums, datums)
A35: Sertifikāta Nr | C35: ='Kops a'!C47 -> 4-01907

Sheet 3.4.
C1: Lokālā tāme Nr. | D1: 3.4.
C2: Iekšējo ūdensvada un kanalizācijas tīklu ierīkošana
C3: (darba veids vai konstruktīvā elementa nosaukums)
C4: Attiecināmās izmaksas
C5: Būves nosaukums: | D5: ='Kops a'!D6 -> Daudzīvokļu dzīvojamais mājās
C6: Objekta nosaukums: | D6: ='Kops a'!D7 -> Energoefektivitātes paaugstināšana daudzdzīvokļu dzīvojamai mājai
C7: Objekta adrese: | D7: ='Kops a'!D8 -> Rūpnīcas ielā 6, Rēzeknē, LV-4604
C8: Pasūtījuma Nr. | D8: ='Kops a'!D9 -> TP_01.24
A9: Tāme sastādīta 2024. gada tirgus cenās, pamatojoties uz UK daļas rasējumiem | J9: Tāmes izmaksas EUR | N9: =P147 -> 0
P10: =A153 -> Tāme sastādīta 2024. gada 26. augusta
A12: Nr.p.k. | B12: Kods | C12: Darba nosaukums | D12: Mērvienība | E12: Daudzums | F12: Vienības izmaksas | L12: Kopā uz visu apjomu
F13: Laika norma (c/h) | G13: Darba samaksas likme (EUR/h) | H13: Darba alga (EUR) | I13: Būvizstrādājumi (EUR) | J13: Mehānismi (EUR) | K13: Kopā (EUR) | L13: Laika norma (c/h) | M13: Darba alga (EUR) | N13: Būvizstrādājumi (EUR) | O13: Mehānismi (EUR) | P13: Kopā (EUR)
A14: 1 | B14: 2 | C14: 3 | D14: 4 | E14: 5 | F14: 6 | G14: 7 | H14: 8 | I14: 9 | J14: 10 | K14: 11 | L14: 12 | M14: 13 | N14: 14 | O14: 15 | P14: 16
A15: 1 | C15: Ūdensvada Ū1 komercuzskaites mezgls (ievadā)
A16: 1.1. | B16: līg.cena | C16: Aukstā ūdens patēriņa skaitītājs DN25 PN16 ar saskrūvējuma komplektu, horizontālai uzstādīšanai | D16: gb. | E16: 1 | H16: =ROUND(F16*G16,2) -> 0 | K16: =SUM(H16:J16) -> 0 | L16: =ROUND(E16*F16,2) -> 0 | M16: =ROUND(H16*E16,2) -> 0 | N16: =ROUND(I16*E16,2) -> 0 | O16: =ROUND(J16*E16,2) -> 0 | P16: =SUM(M16:O16) -> 0
A17: 1.2. | B17: līg.cena | C17: Lodveida ventilis DN32 ar saskrūvējuma komplektu PN16 | D17: gb. | E17: 2 | H17: =ROUND(F17*G17,2) -> 0 | K17: =SUM(H17:J17) -> 0 | L17: =ROUND(E17*F17,2) -> 0 | M17: =ROUND(H17*E17,2) -> 0 | N17: =ROUND(I17*E17,2) -> 0 | O17: =ROUND(J17*E17,2) -> 0 | P17: =SUM(M17:O17) -> 0
A18: 1.3. | B18: līg.cena | C18: Bronzas krāns DN15 sistēmas iztukšošanai | D18: gb. | E18: 1 | H18: =ROUND(F18*G18,2) -> 0 | K18: =SUM(H18:J18) -> 0 | L18: =ROUND(E18*F18,2) -> 0 | M18: =ROUND(H18*E18,2) -> 0 | N18: =ROUND(I18*E18,2) -> 0 | O18: =ROUND(J18*E18,2) -> 0 | P18: =SUM(M18:O18) -> 0
A19: 1.4. | B19: līg.cena | C19: Adapteris plast./tērauds DN32 | D19: gb. | E19: 2 | H19: =ROUND(F19*G19,2) -> 0 | K19: =SUM(H19:J19) -> 0 | L19: =ROUND(E19*F19,2) -> 0 | M19: =ROUND(H19*E19,2) -> 0 | N19: =ROUND(I19*E19,2) -> 0 | O19: =ROUND(J19*E19,2) -> 0 | P19: =SUM(M19:O19) -> 0
A20: 1.5. | B20: līg.cena | C20: Pāreja DN32x25 | D20: gb. | E20: 2 | H20: =ROUND(F20*G20,2) -> 0 | K20: =SUM(H20:J20) -> 0 | L20: =ROUND(E20*F20,2) -> 0 | M20: =ROUND(H20*E20,2) -> 0 | N20: =ROUND(I20*E20,2) -> 0 | O20: =ROUND(J20*E20,2) -> 0 | P20: =SUM(M20:O20) -> 0
A21: 1.6. | B21: līg.cena | C21: Vienvirziena vārsts DN20 | D21: gb. | E21: 1 | H21: =ROUND(F21*G21,2) -> 0 | K21: =SUM(H21:J21) -> 0 | L21: =ROUND(E21*F21,2) -> 0 | M21: =ROUND(H21*E21,2) -> 0 | N21: =ROUND(I21*E21,2) -> 0 | O21: =ROUND(J21*E21,2) -> 0 | P21: =SUM(M21:O21) -> 0
A22: 1.7. | B22: līg.cena | C22: Mehāniskais filtrs, rupjās frakcijas atdalīšanai DN32 | D22: gb. | E22: 1 | H22: =ROUND(F22*G22,2) -> 0 | K22: =SUM(H22:J22) -> 0 | L22: =ROUND(E22*F22,2) -> 0 | M22: =ROUND(H22*E22,2) -> 0 | N22: =ROUND(I22*E22,2) -> 0 | O22: =ROUND(J22*E22,2) -> 0 | P22: =SUM(M22:O22) -> 0
A23: 1.8. | B23: līg.cena | C23: Cinkotā tērauda ūdensvada caurules Dn25 ar izvietojumu pa ēkas konstrukcijām | D23: m. | E23: 2 | H23: =ROUND(F23*G23,2) -> 0 | K23: =SUM(H23:J23) -> 0 | L23: =ROUND(E23*F23,2) -> 0 | M23: =ROUND(H23*E23,2) -> 0 | N23: =ROUND(I23*E23,2) -> 0 | O23: =ROUND(J23*E23,2) -> 0 | P23: =SUM(M23:O23) -> 0
A24: 1.9. | B24: līg.cena | C24: Tas pats, DN32 | D24: m. | E24: 1 | H24: =ROUND(F24*G24,2) -> 0 | K24: =SUM(H24:J24) -> 0 | L24: =ROUND(E24*F24,2) -> 0 | M24: =ROUND(H24*E24,2) -> 0 | N24: =ROUND(I24*E24,2) -> 0 | O24: =ROUND(J24*E24,2) -> 0 | P24: =SUM(M24:O24) -> 0
A25: 1.10. | B25: līg.cena | C25: Apvalkcaurule no tērauda caurules Dn100 ar antikorozijas pastiprinātu izolāciju | D25: m. | E25: 4 | H25: =ROUND(F25*G25,2) -> 0 | K25: =SUM(H25:J25) -> 0 | L25: =ROUND(E25*F25,2) -> 0 | M25: =ROUND(H25*E25,2) -> 0 | N25: =ROUND(I25*E25,2) -> 0 | O25: =ROUND(J25*E25,2) -> 0 | P25: =SUM(M25:O25) -> 0
A26: 1.11. | B26: līg.cena | C26: Aukstā ūdens cauruļvadu DN32 siltumizolācija ar foliju, biezumu 20mm | D26: m. | E26: 4 | H26: =ROUND(F26*G26,2) -> 0 | K26: =SUM(H26:J26) -> 0 | L26: =ROUND(E26*F26,2) -> 0 | M26: =ROUND(H26*E26,2) -> 0 | N26: =ROUND(I26*E26,2) -> 0 | O26: =ROUND(J26*E26,2) -> 0 | P26: =SUM(M26:O26) -> 0
A27: 1.12. | B27: līg.cena | C27: Universālā "Gebo" uzmava PE cauruļu savienošanai vai ekvivalents | D27: gb. | E27: 1 | H27: =ROUND(F27*G27,2) -> 0 | K27: =SUM(H27:J27) -> 0 | L27: =ROUND(E27*F27,2) -> 0 | M27: =ROUND(H27*E27,2) -> 0 | N27: =ROUND(I27*E27,2) -> 0 | O27: =ROUND(J27*E27,2) -> 0 | P27: =SUM(M27:O27) -> 0
A28: 1.13. | B28: līg.cena | C28: Pieslēgums pie esošā ūdensvada | D28: vieta | E28: 1 | H28: =ROUND(F28*G28,2) -> 0 | K28: =SUM(H28:J28) -> 0 | L28: =ROUND(E28*F28,2) -> 0 | M28: =ROUND(H28*E28,2) -> 0 | N28: =ROUND(I28*E28,2) -> 0 | O28: =ROUND(J28*E28,2) -> 0 | P28: =SUM(M28:O28) -> 0
A29: 2. | C29: Ūdensvada Ū1 komercuzskaites mezgls (dzīvokļī) | H29: =ROUND(F29*G29,2) -> 0 | K29: =SUM(H29:J29) -> 0 | L29: =ROUND(E29*F29,2) -> 0 | M29: =ROUND(H29*E29,2) -> 0 | N29: =ROUND(I29*E29,2) -> 0 | O29: =ROUND(J29*E29,2) -> 0 | P29: =SUM(M29:O29) -> 0
A30: 2.1. | B30: līg.cena | C30: Aukstā ūdens patēriņa skaitītājs DN15 PN16 ar saskrūvējuma komplektu, vertikālai uzstādīšanai | D30: gb. | E30: 20 | H30: =ROUND(F30*G30,2) -> 0 | K30: =SUM(H30:J30) -> 0 | L30: =ROUND(E30*F30,2) -> 0 | M30: =ROUND(H30*E30,2) -> 0 | N30: =ROUND(I30*E30,2) -> 0 | O30: =ROUND(J30*E30,2) -> 0 | P30: =SUM(M30:O30) -> 0
A31: 2.2. | B31: līg.cena | C31: Lodveida ventilis DN20 ar saskrūvējuma komplektu PN16 | D31: gb. | E31: 40 | H31: =ROUND(F31*G31,2) -> 0 | K31: =SUM(H31:J31) -> 0 | L31: =ROUND(E31*F31,2) -> 0 | M31: =ROUND(H31*E31,2) -> 0 | N31: =ROUND(I31*E31,2) -> 0 | O31: =ROUND(J31*E31,2) -> 0 | P31: =SUM(M31:O31) -> 0
A32: 2.3. | B32: līg.cena | C32: Bronzas krāns DN15 sistēmas iztukšošanai | D32: gb. | E32: 20 | H32: =ROUND(F32*G32,2) -> 0 | K32: =SUM(H32:J32) -> 0 | L32: =ROUND(E32*F32,2) -> 0 | M32: =ROUND(H32*E32,2) -> 0 | N32: =ROUND(I32*E32,2) -> 0 | O32: =ROUND(J32*E32,2) -> 0 | P32: =SUM(M32:O32) -> 0
A33: 2.4. | B33: līg.cena | C33: Uzmavu pāreja plast./tērauds DN20 | D33: gb. | E33: 40 | H33: =ROUND(F33*G33,2) -> 0 | K33: =SUM(H33:J33) -> 0 | L33: =ROUND(E33*F33,2) -> 0 | M33: =ROUND(H33*E33,2) -> 0 | N33: =ROUND(I33*E33,2) -> 0 | O33: =ROUND(J33*E33,2) -> 0 | P33: =SUM(M33:O33) -> 0
A34: 2.5. | B34: līg.cena | C34: Pāreja DN20x15 | D34: gb. | E34: 40 | H34: =ROUND(F34*G34,2) -> 0 | K34: =SUM(H34:J34) -> 0 | L34: =ROUND(E34*F34,2) -> 0 | M34: =ROUND(H34*E34,2) -> 0 | N34: =ROUND(I34*E34,2) -> 0 | O34: =ROUND(J34*E34,2) -> 0 | P34: =SUM(M34:O34) -> 0
A35: 2.6. | B35: līg.cena | C35: Mehāniskais filtrs, rupjās frakcijas atdalīšanai DN15 | D35: gb. | E35: 20 | H35: =ROUND(F35*G35,2) -> 0 | K35: =SUM(H35:J35) -> 0 | L35: =ROUND(E35*F35,2) -> 0 | M35: =ROUND(H35*E35,2) -> 0 | N35: =ROUND(I35*E35,2) -> 0 | O35: =ROUND(J35*E35,2) -> 0 | P35: =SUM(M35:O35) -> 0
A36: 2.7. | B36: līg.cena | C36: Cinkotā tērauda ūdensvada caurules Dn15 ar izvietojumu pa ēkas konstrukcijām | D36: m. | E36: 40 | H36: =ROUND(F36*G36,2) -> 0 | K36: =SUM(H36:J36) -> 0 | L36: =ROUND(E36*F36,2) -> 0 | M36: =ROUND(H36*E36,2) -> 0 | N36: =ROUND(I36*E36,2) -> 0 | O36: =ROUND(J36*E36,2) -> 0 | P36: =SUM(M36:O36) -> 0
A37: 2.8. | B37: līg.cena | C37: Tas pats, DN20 | D37: m. | E37: 20 | H37: =ROUND(F37*G37,2) -> 0 | K37: =SUM(H37:J37) -> 0 | L37: =ROUND(E37*F37,2) -> 0 | M37: =ROUND(H37*E37,2) -> 0 | N37: =ROUND(I37*E37,2) -> 0 | O37: =ROUND(J37*E37,2) -> 0 | P37: =SUM(M37:O37) -> 0
A38: 3 | C38: Ūdensvada S3 komercuzskaites mezgls (dzīvokļī) | H38: =ROUND(F38*G38,2) -> 0 | K38: =SUM(H38:J38) -> 0 | L38: =ROUND(E38*F38,2) -> 0 | M38: =ROUND(H38*E38,2) -> 0 | N38: =ROUND(I38*E38,2) -> 0 | O38: =ROUND(J38*E38,2) -> 0 | P38: =SUM(M38:O38) -> 0
A39: 3.1. | B39: līg.cena | C39: Karstā ūdens patēriņa skaitītājs DN15 PN16 ar saskrūvējuma komplektu, vertikālai uzstādīšanai | D39: gb. | E39: 20 | H39: =ROUND(F39*G39,2) -> 0 | K39: =SUM(H39:J39) -> 0 | L39: =ROUND(E39*F39,2) -> 0 | M39: =ROUND(H39*E39,2) -> 0 | N39: =ROUND(I39*E39,2) -> 0 | O39: =ROUND(J39*E39,2) -> 0 | P39: =SUM(M39:O39) -> 0
A40: 3.2. | B40: līg.cena | C40: Lodveida ventilis DN20 ar saskrūvējuma komplektu PN16 | D40: gb. | E40: 40 | H40: =ROUND(F40*G40,2) -> 0 | K40: =SUM(H40:J40) -> 0 | L40: =ROUND(E40*F40,2) -> 0 | M40: =ROUND(H40*E40,2) -> 0 | N40: =ROUND(I40*E40,2) -> 0 | O40: =ROUND(J40*E40,2) -> 0 | P40: =SUM(M40:O40) -> 0
A41: 3.3. | B41: līg.cena | C41: Bronzas krāns DN15 sistēmas iztukšošanai | D41: gb. | E41: 20 | H41: =ROUND(F41*G41,2) -> 0 | K41: =SUM(H41:J41) -> 0 | L41: =ROUND(E41*F41,2) -> 0 | M41: =ROUND(H41*E41,2) -> 0 | N41: =ROUND(I41*E41,2) -> 0 | O41: =ROUND(J41*E41,2) -> 0 | P41: =SUM(M41:O41) -> 0
A42: 3.4. | B42: līg.cena | C42: Uzmavu pāreja plast./tērauds DN20 | D42: gb. | E42: 40 | H42: =ROUND(F42*G42,2) -> 0 | K42: =SUM(H42:J42) -> 0 | L42: =ROUND(E42*F42,2) -> 0 | M42: =ROUND(H42*E42,2) -> 0 | N42: =ROUND(I42*E42,2) -> 0 | O42: =ROUND(J42*E42,2) -> 0 | P42: =SUM(M42:O42) -> 0
A43: 3.5. | B43: līg.cena | C43: Pāreja DN20x15 | D43: gb. | E43: 40 | H43: =ROUND(F43*G43,2) -> 0 | K43: =SUM(H43:J43) -> 0 | L43: =ROUND(E43*F43,2) -> 0 | M43: =ROUND(H43*E43,2) -> 0 | N43: =ROUND(I43*E43,2) -> 0 | O43: =ROUND(J43*E43,2) -> 0 | P43: =SUM(M43:O43) -> 0
A44: 3.6. | B44: līg.cena | C44: Mehāniskais filtrs, rupjās frakcijas atdalīšanai DN15 | D44: gb. | E44: 20 | H44: =ROUND(F44*G44,2) -> 0 | K44: =SUM(H44:J44) -> 0 | L44: =ROUND(E44*F44,2) -> 0 | M44: =ROUND(H44*E44,2) -> 0 | N44: =ROUND(I44*E44,2) -> 0 | O44: =ROUND(J44*E44,2) -> 0 | P44: =SUM(M44:O44) -> 0
A45: 3.7. | B45: līg.cena | C45: Cinkotā tērauda ūdensvada caurules Dn15 ar izvietojumu pa ēkas konstrukcijām | D45: m. | E45: 40 | H45: =ROUND(F45*G45,2) -> 0 | K45: =SUM(H45:J45) -> 0 | L45: =ROUND(E45*F45,2) -> 0 | M45: =ROUND(H45*E45,2) -> 0 | N45: =ROUND(I45*E45,2) -> 0 | O45: =ROUND(J45*E45,2) -> 0 | P45: =SUM(M45:O45) -> 0
A46: 3.8. | B46: līg.cena | C46: Tas pats, DN20 | D46: m. | E46: 20 | H46: =ROUND(F46*G46,2) -> 0 | K46: =SUM(H46:J46) -> 0 | L46: =ROUND(E46*F46,2) -> 0 | M46: =ROUND(H46*E46,2) -> 0 | N46: =ROUND(I46*E46,2) -> 0 | O46: =ROUND(J46*E46,2) -> 0 | P46: =SUM(M46:O46) -> 0
A47: 4 | C47: Iekšējais aukstā ūdens ūdensvads Ū1 | H47: =ROUND(F47*G47,2) -> 0 | K47: =SUM(H47:J47) -> 0 | L47: =ROUND(E47*F47,2) -> 0 | M47: =ROUND(H47*E47,2) -> 0 | N47: =ROUND(I47*E47,2) -> 0 | O47: =ROUND(J47*E47,2) -> 0 | P47: =SUM(M47:O47) -> 0
A48: 4.1. | B48: līg.cena | C48: Plastmasas PPR ūdensvada caurules DN15 ar fasona daļām ar izvietojumu pa ēkas konstrukcijām PN16 | D48: m. | E48: 95 | H48: =ROUND(F48*G48,2) -> 0 | K48: =SUM(H48:J48) -> 0 | L48: =ROUND(E48*F48,2) -> 0 | M48: =ROUND(H48*E48,2) -> 0 | N48: =ROUND(I48*E48,2) -> 0 | O48: =ROUND(J48*E48,2) -> 0 | P48: =SUM(M48:O48) -> 0
A49: 4.2. | B49: līg.cena | C49: Tas pats, DN20 | D49: m. | E49: 120 | H49: =ROUND(F49*G49,2) -> 0 | K49: =SUM(H49:J49) -> 0 | L49: =ROUND(E49*F49,2) -> 0 | M49: =ROUND(H49*E49,2) -> 0 | N49: =ROUND(I49*E49,2) -> 0 | O49: =ROUND(J49*E49,2) -> 0 | P49: =SUM(M49:O49) -> 0
A50: 4.3. | B50: līg.cena | C50: Tas pats, DN25 | D50: m. | E50: 23 | H50: =ROUND(F50*G50,2) -> 0 | K50: =SUM(H50:J50) -> 0 | L50: =ROUND(E50*F50,2) -> 0 | M50: =ROUND(H50*E50,2) -> 0 | N50: =ROUND(I50*E50,2) -> 0 | O50: =ROUND(J50*E50,2) -> 0 | P50: =SUM(M50:O50) -> 0
A51: 4.4. | B51: līg.cena | C51: Tas pats, DN32 | D51: m. | E51: 50 | H51: =ROUND(F51*G51,2) -> 0 | K51: =SUM(H51:J51) -> 0 | L51: =ROUND(E51*F51,2) -> 0 | M51: =ROUND(H51*E51,2) -> 0 | N51: =ROUND(I51*E51,2) -> 0 | O51: =ROUND(J51*E51,2) -> 0 | P51: =SUM(M51:O51) -> 0
A52: 4.5. | B52: līg.cena | C52: Lodveida ventilis DN15 ar saskrūvējuma komplektu PN16 | D52: gb. | E52: 80 | H52: =ROUND(F52*G52,2) -> 0 | K52: =SUM(H52:J52) -> 0 | L52: =ROUND(E52*F52,2) -> 0 | M52: =ROUND(H52*E52,2) -> 0 | N52: =ROUND(I52*E52,2) -> 0 | O52: =ROUND(J52*E52,2) -> 0 | P52: =SUM(M52:O52) -> 0
A53: 4.6. | B53: līg.cena | C53: Tas pats, DN25 | D53: gb. | E53: 8 | H53: =ROUND(F53*G53,2) -> 0 | K53: =SUM(H53:J53) -> 0 | L53: =ROUND(E53*F53,2) -> 0 | M53: =ROUND(H53*E53,2) -> 0 | N53: =ROUND(I53*E53,2) -> 0 | O53: =ROUND(J53*E53,2) -> 0 | P53: =SUM(M53:O53) -> 0
A54: 4.7. | B54: līg.cena | C54: Tas pats, DN32 | D54: gb. | E54: 3 | H54: =ROUND(F54*G54,2) -> 0 | K54: =SUM(H54:J54) -> 0 | L54: =ROUND(E54*F54,2) -> 0 | M54: =ROUND(H54*E54,2) -> 0 | N54: =ROUND(I54*E54,2) -> 0 | O54: =ROUND(J54*E54,2) -> 0 | P54: =SUM(M54:O54) -> 0
A55: 4.8. | B55: līg.cena | C55: Pāreja, DN15x20 | D55: gb. | E55: 21 | H55: =ROUND(F55*G55,2) -> 0 | K55: =SUM(H55:J55) -> 0 | L55: =ROUND(E55*F55,2) -> 0 | M55: =ROUND(H55*E55,2) -> 0 | N55: =ROUND(I55*E55,2) -> 0 | O55: =ROUND(J55*E55,2) -> 0 | P55: =SUM(M55:O55) -> 0
A56: 4.9. | B56: līg.cena | C56: Pāreja, DN20x25 | D56: gb. | E56: 10 | H56: =ROUND(F56*G56,2) -> 0 | K56: =SUM(H56:J56) -> 0 | L56: =ROUND(E56*F56,2) -> 0 | M56: =ROUND(H56*E56,2) -> 0 | N56: =ROUND(I56*E56,2) -> 0 | O56: =ROUND(J56*E56,2) -> 0 | P56: =SUM(M56:O56) -> 0
A57: 4.10. | B57: līg.cena | C57: Pāreja, DN20x32 | D57: gb. | E57: 1 | H57: =ROUND(F57*G57,2) -> 0 | K57: =SUM(H57:J57) -> 0 | L57: =ROUND(E57*F57,2) -> 0 | M57: =ROUND(H57*E57,2) -> 0 | N57: =ROUND(I57*E57,2) -> 0 | O57: =ROUND(J57*E57,2) -> 0 | P57: =SUM(M57:O57) -> 0
A58: 4.11. | B58: līg.cena | C58: Pāreja, DN25x32 | D58: gb. | E58: 2 | H58: =ROUND(F58*G58,2) -> 0 | K58: =SUM(H58:J58) -> 0 | L58: =ROUND(E58*F58,2) -> 0 | M58: =ROUND(H58*E58,2) -> 0 | N58: =ROUND(I58*E58,2) -> 0 | O58: =ROUND(J58*E58,2) -> 0 | P58: =SUM(M58:O58) -> 0
A59: 4.12. | B59: līg.cena | C59: Jaucējkrāns keramiskas izlietnei | D59: kpl. | E59: 18 | H59: =ROUND(F59*G59,2) -> 0 | K59: =SUM(H59:J59) -> 0 | L59: =ROUND(E59*F59,2) -> 0 | M59: =ROUND(H59*E59,2) -> 0 | N59: =ROUND(I59*E59,2) -> 0 | O59: =ROUND(J59*E59,2) -> 0 | P59: =SUM(M59:O59) -> 0
A60: 4.13. | C60: Jaucējkrāns keramiskas izlietnei (invalīdiem) | D60: kpl. | E60: 2 | H60: =ROUND(F60*G60,2) -> 0 | K60: =SUM(H60:J60) -> 0 | L60: =ROUND(E60*F60,2) -> 0 | M60: =ROUND(H60*E60,2) -> 0 | N60: =ROUND(I60*E60,2) -> 0 | O60: =ROUND(J60*E60,2) -> 0 | P60: =SUM(M60:O60) -> 0
A61: 4.14. | B61: līg.cena | C61: Jaucējkrāns nerūsējošā tērauda izlietnei | D61: kpl. | E61: 20 | H61: =ROUND(F61*G61,2) -> 0 | K61: =SUM(H61:J61) -> 0 | L61: =ROUND(E61*F61,2) -> 0 | M61: =ROUND(H61*E61,2) -> 0 | N61: =ROUND(I61*E61,2) -> 0 | O61: =ROUND(J61*E61,2) -> 0 | P61: =SUM(M61:O61) -> 0
A62: 4.15. | B62: līg.cena | C62: Sienas jaucējkrāns dušām ar šļūteni un dušas sietiņu | D62: kpl. | E62: 18 | H62: =ROUND(F62*G62,2) -> 0 | K62: =SUM(H62:J62) -> 0 | L62: =ROUND(E62*F62,2) -> 0 | M62: =ROUND(H62*E62,2) -> 0 | N62: =ROUND(I62*E62,2) -> 0 | O62: =ROUND(J62*E62,2) -> 0 | P62: =SUM(M62:O62) -> 0
A63: 4.16. | C63: Sienas jaucējkrāns dušām ar šļūteni un dušas sietiņu (invalīdiem) | D63: kpl. | E63: 2 | H63: =ROUND(F63*G63,2) -> 0 | K63: =SUM(H63:J63) -> 0 | L63: =ROUND(E63*F63,2) -> 0 | M63: =ROUND(H63*E63,2) -> 0 | N63: =ROUND(I63*E63,2) -> 0 | O63: =ROUND(J63*E63,2) -> 0 | P63: =SUM(M63:O63) -> 0
A64: 4.17. | B64: līg.cena | C64: Aukstā ūdens cauruļvadu DN15 pretkondensāta kaučuka izolācija ar izolācijas biezumu 9mm | D64: m. | E64: 100 | H64: =ROUND(F64*G64,2) -> 0 | K64: =SUM(H64:J64) -> 0 | L64: =ROUND(E64*F64,2) -> 0 | M64: =ROUND(H64*E64,2) -> 0 | N64: =ROUND(I64*E64,2) -> 0 | O64: =ROUND(J64*E64,2) -> 0 | P64: =SUM(M64:O64) -> 0
A65: 4.18. | B65: līg.cena | C65: Tas pats, DN20 | D65: m. | E65: 125 | H65: =ROUND(F65*G65,2) -> 0 | K65: =SUM(H65:J65) -> 0 | L65: =ROUND(E65*F65,2) -> 0 | M65: =ROUND(H65*E65,2) -> 0 | N65: =ROUND(I65*E65,2) -> 0 | O65: =ROUND(J65*E65,2) -> 0 | P65: =SUM(M65:O65) -> 0
A66: 4.19. | B66: līg.cena | C66: Tas pats, DN25 | D66: m. | E66: 23 | H66: =ROUND(F66*G66,2) -> 0 | K66: =SUM(H66:J66) -> 0 | L66: =ROUND(E66*F66,2) -> 0 | M66: =ROUND(H66*E66,2) -> 0 | N66: =ROUND(I66*E66,2) -> 0 | O66: =ROUND(J66*E66,2) -> 0 | P66: =SUM(M66:O66) -> 0
A67: 4.20. | B67: līg.cena | C67: Tas pats, DN32 | D67: m. | E67: 50 | H67: =ROUND(F67*G67,2) -> 0 | K67: =SUM(H67:J67) -> 0 | L67: =ROUND(E67*F67,2) -> 0 | M67: =ROUND(H67*E67,2) -> 0 | N67: =ROUND(I67*E67,2) -> 0 | O67: =ROUND(J67*E67,2) -> 0 | P67: =SUM(M67:O67) -> 0
A68: 4.21. | B68: līg.cena | C68: Pretugunsgrēka aploce caurulei DN25 (ugunsdrošības lenta) | D68: gb. | E68: 3 | H68: =ROUND(F68*G68,2) -> 0 | K68: =SUM(H68:J68) -> 0 | L68: =ROUND(E68*F68,2) -> 0 | M68: =ROUND(H68*E68,2) -> 0 | N68: =ROUND(I68*E68,2) -> 0 | O68: =ROUND(J68*E68,2) -> 0 | P68: =SUM(M68:O68) -> 0
A69: 4.22. | B69: līg.cena | C69: Pretugunsgrēka aploce caurulei DN32 (ugunsdrošības lenta) | D69: gb. | E69: 3 | H69: =ROUND(F69*G69,2) -> 0 | K69: =SUM(H69:J69) -> 0 | L69: =ROUND(E69*F69,2) -> 0 | M69: =ROUND(H69*E69,2) -> 0 | N69: =ROUND(I69*E69,2) -> 0 | O69: =ROUND(J69*E69,2) -> 0 | P69: =SUM(M69:O69) -> 0
A70: 4.23. | B70: līg.cena | C70: Apvalkcaurule no tērauda caurules Dn63 ar antikorozijas pastiprinātu izolāciju | D70: m. | E70: 4 | H70: =ROUND(F70*G70,2) -> 0 | K70: =SUM(H70:J70) -> 0 | L70: =ROUND(E70*F70,2) -> 0 | M70: =ROUND(H70*E70,2) -> 0 | N70: =ROUND(I70*E70,2) -> 0 | O70: =ROUND(J70*E70,2) -> 0 | P70: =SUM(M70:O70) -> 0
A71: 4.24. | B71: līg.cena | C71: Apvalkcaurules Dn63mm galu hermetizācija ar termočaulu | D71: gb. | E71: 1 | H71: =ROUND(F71*G71,2) -> 0 | K71: =SUM(H71:J71) -> 0 | L71: =ROUND(E71*F71,2) -> 0 | M71: =ROUND(H71*E71,2) -> 0 | N71: =ROUND(I71*E71,2) -> 0 | O71: =ROUND(J71*E71,2) -> 0 | P71: =SUM(M71:O71) -> 0
A72: 4.25. | B72: līg.cena | C72: Apvalkcaurules Dn100mm galu hermetizācija ar termočaulu | D72: gb. | E72: 2 | H72: =ROUND(F72*G72,2) -> 0 | K72: =SUM(H72:J72) -> 0 | L72: =ROUND(E72*F72,2) -> 0 | M72: =ROUND(H72*E72,2) -> 0 | N72: =ROUND(I72*E72,2) -> 0 | O72: =ROUND(J72*E72,2) -> 0 | P72: =SUM(M72:O72) -> 0
A73: 4.26. | B73: līg.cena | C73: Esošā ūdensvada tīkla demontāža | D73: m. | E73: 150 | H73: =ROUND(F73*G73,2) -> 0 | K73: =SUM(H73:J73) -> 0 | L73: =ROUND(E73*F73,2) -> 0 | M73: =ROUND(H73*E73,2) -> 0 | N73: =ROUND(I73*E73,2) -> 0 | O73: =ROUND(J73*E73,2) -> 0 | P73: =SUM(M73:O73) -> 0
A74: 5 | C74: Iekšējais karstā ūdens ūdensvads S3 | H74: =ROUND(F74*G74,2) -> 0 | K74: =SUM(H74:J74) -> 0 | L74: =ROUND(E74*F74,2) -> 0 | M74: =ROUND(H74*E74,2) -> 0 | N74: =ROUND(I74*E74,2) -> 0 | O74: =ROUND(J74*E74,2) -> 0 | P74: =SUM(M74:O74) -> 0
A75: 5.1. | B75: līg.cena | C75: Plastmasas PPR ūdensvada caurules DN15 ar fasona daļām ar izvietojumu pa ēkas konstrukcijām PN16 | D75: m. | E75: 85 | H75: =ROUND(F75*G75,2) -> 0 | K75: =SUM(H75:J75) -> 0 | L75: =ROUND(E75*F75,2) -> 0 | M75: =ROUND(H75*E75,2) -> 0 | N75: =ROUND(I75*E75,2) -> 0 | O75: =ROUND(J75*E75,2) -> 0 | P75: =SUM(M75:O75) -> 0
A76: 5.2. | B76: līg.cena | C76: Tas pats, DN20 | D76: m. | E76: 125 | H76: =ROUND(F76*G76,2) -> 0 | K76: =SUM(H76:J76) -> 0 | L76: =ROUND(E76*F76,2) -> 0 | M76: =ROUND(H76*E76,2) -> 0 | N76: =ROUND(I76*E76,2) -> 0 | O76: =ROUND(J76*E76,2) -> 0 | P76: =SUM(M76:O76) -> 0
A77: 5.3. | B77: līg.cena | C77: Tas pats, DN25 | D77: m. | E77: 23 | H77: =ROUND(F77*G77,2) -> 0 | K77: =SUM(H77:J77) -> 0 | L77: =ROUND(E77*F77,2) -> 0 | M77: =ROUND(H77*E77,2) -> 0 | N77: =ROUND(I77*E77,2) -> 0 | O77: =ROUND(J77*E77,2) -> 0 | P77: =SUM(M77:O77) -> 0
A78: 5.4. | B78: līg.cena | C78: Tas pats, DN32 | D78: m. | E78: 50 | H78: =ROUND(F78*G78,2) -> 0 | K78: =SUM(H78:J78) -> 0 | L78: =ROUND(E78*F78,2) -> 0 | M78: =ROUND(H78*E78,2) -> 0 | N78: =ROUND(I78*E78,2) -> 0 | O78: =ROUND(J78*E78,2) -> 0 | P78: =SUM(M78:O78) -> 0
A79: 5.5. | B79: līg.cena | C79: Lodveida ventilis DN15 ar saskrūvējuma komplektu PN16 | D79: gb. | E79: 40 | H79: =ROUND(F79*G79,2) -> 0 | K79: =SUM(H79:J79) -> 0 | L79: =ROUND(E79*F79,2) -> 0 | M79: =ROUND(H79*E79,2) -> 0 | N79: =ROUND(I79*E79,2) -> 0 | O79: =ROUND(J79*E79,2) -> 0 | P79: =SUM(M79:O79) -> 0
A80: 5.6. | B80: līg.cena | C80: Tas pats, DN25 | D80: gb. | E80: 9 | H80: =ROUND(F80*G80,2) -> 0 | K80: =SUM(H80:J80) -> 0 | L80: =ROUND(E80*F80,2) -> 0 | M80: =ROUND(H80*E80,2) -> 0 | N80: =ROUND(I80*E80,2) -> 0 | O80: =ROUND(J80*E80,2) -> 0 | P80: =SUM(M80:O80) -> 0
A81: 5.7. | B81: līg.cena | C81: Tas pats, DN32 | D81: gb. | E81: 4 | H81: =ROUND(F81*G81,2) -> 0 | K81: =SUM(H81:J81) -> 0 | L81: =ROUND(E81*F81,2) -> 0 | M81: =ROUND(H81*E81,2) -> 0 | N81: =ROUND(I81*E81,2) -> 0 | O81: =ROUND(J81*E81,2) -> 0 | P81: =SUM(M81:O81) -> 0
A82: 5.8. | B82: līg.cena | C82: Pāreja, DN15x20 | D82: gb. | E82: 21 | H82: =ROUND(F82*G82,2) -> 0 | K82: =SUM(H82:J82) -> 0 | L82: =ROUND(E82*F82,2) -> 0 | M82: =ROUND(H82*E82,2) -> 0 | N82: =ROUND(I82*E82,2) -> 0 | O82: =ROUND(J82*E82,2) -> 0 | P82: =SUM(M82:O82) -> 0
A83: 5.9. | B83: līg.cena | C83: Pāreja, DN20x25 | D83: gb. | E83: 7 | H83: =ROUND(F83*G83,2) -> 0 | K83: =SUM(H83:J83) -> 0 | L83: =ROUND(E83*F83,2) -> 0 | M83: =ROUND(H83*E83,2) -> 0 | N83: =ROUND(I83*E83,2) -> 0 | O83: =ROUND(J83*E83,2) -> 0 | P83: =SUM(M83:O83) -> 0
A84: 5.10. | B84: līg.cena | C84: Pāreja, DN20x32 | D84: gb. | E84: 1 | H84: =ROUND(F84*G84,2) -> 0 | K84: =SUM(H84:J84) -> 0 | L84: =ROUND(E84*F84,2) -> 0 | M84: =ROUND(H84*E84,2) -> 0 | N84: =ROUND(I84*E84,2) -> 0 | O84: =ROUND(J84*E84,2) -> 0 | P84: =SUM(M84:O84) -> 0
A85: 5.11. | B85: līg.cena | C85: Pāreja, DN25x32 | D85: gb. | E85: 1 | H85: =ROUND(F85*G85,2) -> 0 | K85: =SUM(H85:J85) -> 0 | L85: =ROUND(E85*F85,2) -> 0 | M85: =ROUND(H85*E85,2) -> 0 | N85: =ROUND(I85*E85,2) -> 0 | O85: =ROUND(J85*E85,2) -> 0 | P85: =SUM(M85:O85) -> 0
A86: 5.12. | B86: līg.cena | C86: Karstā ūdens cauruļvadu DN15 siltumizolācija no grūti degoša, pašnodziestoša slēgtu poru polietilēna δ=20mm | D86: m. | E86: 85 | H86: =ROUND(F86*G86,2) -> 0 | K86: =SUM(H86:J86) -> 0 | L86: =ROUND(E86*F86,2) -> 0 | M86: =ROUND(H86*E86,2) -> 0 | N86: =ROUND(I86*E86,2) -> 0 | O86: =ROUND(J86*E86,2) -> 0 | P86: =SUM(M86:O86) -> 0
... A94: 5.20. | B94: līg.cena | C94: Esošā ūdensvada tīkla demontāža | D94: m. | E94: 100 | H94: =ROUND(F94*G94,2) -> 0 | K94: =SUM(H94:J94) -> 0 | L94: =ROUND(E94*F94,2) -> 0 | M94: =ROUND(H94*E94,2) -> 0 | N94: =ROUND(I94*E94,2) -> 0 | O94: =ROUND(J94*E94,2) -> 0 | P94: =SUM(M94:O94) -> 0
A95: 6 | C95: Iekšējais karstā ūdens ūdensvads S4 | H95: =ROUND(F95*G95,2) -> 0 | K95: =SUM(H95:J95) -> 0 | L95: =ROUND(E95*F95,2) -> 0 | M95: =ROUND(H95*E95,2) -> 0 | N95: =ROUND(I95*E95,2) -> 0 | O95: =ROUND(J95*E95,2) -> 0 | P95: =SUM(M95:O95) -> 0
A96: 6.1. | B96: līg.cena | C96: Plastmasas PPR ūdensvada caurules DN15 ar fasona daļām ar izvietojumu pa ēkas konstrukcijām PN16 | D96: m. | E96: 30 | H96: =ROUND(F96*G96,2) -> 0 | K96: =SUM(H96:J96) -> 0 | L96: =ROUND(E96*F96,2) -> 0 | M96: =ROUND(H96*E96,2) -> 0 | N96: =ROUND(I96*E96,2) -> 0 | O96: =ROUND(J96*E96,2) -> 0 | P96: =SUM(M96:O96) -> 0
A97: 6.2. | B97: līg.cena | C97: Tas pats, DN20 | D97: m. | E97: 10 | H97: =ROUND(F97*G97,2) -> 0 | K97: =SUM(H97:J97) -> 0 | L97: =ROUND(E97*F97,2) -> 0 | M97: =ROUND(H97*E97,2) -> 0 | N97: =ROUND(I97*E97,2) -> 0 | O97: =ROUND(J97*E97,2) -> 0 | P97: =SUM(M97:O97) -> 0
A98: 6.3. | B98: līg.cena | C98: Tas pats, DN25 | D98: m. | E98: 4 | H98: =ROUND(F98*G98,2) -> 0 | K98: =SUM(H98:J98) -> 0 | L98: =ROUND(E98*F98,2) -> 0 | M98: =ROUND(H98*E98,2) -> 0 | N98: =ROUND(I98*E98,2) -> 0 | O98: =ROUND(J98*E98,2) -> 0 | P98: =SUM(M98:O98) -> 0
A99: 6.4. | B99: līg.cena | C99: Lodveida ventilis DN25 ar saskrūvējuma komplektu PN16 | D99: gb. | E99: 1 | H99: =ROUND(F99*G99,2) -> 0 | K99: =SUM(H99:J99) -> 0 | L99: =ROUND(E99*F99,2) -> 0 | M99: =ROUND(H99*E99,2) -> 0 | N99: =ROUND(I99*E99,2) -> 0 | O99: =ROUND(J99*E99,2) -> 0 | P99: =SUM(M99:O99) -> 0
A100: 6.5. | B100: līg.cena | C100: Pāreja, DN20x15 | D100: gb. | E100: 1 | H100: =ROUND(F100*G100,2) -> 0 | K100: =SUM(H100:J100) -> 0 | L100: =ROUND(E100*F100,2) -> 0 | M100: =ROUND(H100*E100,2) -> 0 | N100: =ROUND(I100*E100,2) -> 0 | O100: =ROUND(J100*E100,2) -> 0 | P100: =SUM(M100:O100) -> 0
A101: 6.6. | B101: līg.cena | C101: Pāreja, DN25x15 | D101: gb. | E101: 4 | H101: =ROUND(F101*G101,2) -> 0 | K101: =SUM(H101:J101) -> 0 | L101: =ROUND(E101*F101,2) -> 0 | M101: =ROUND(H101*E101,2) -> 0 | N101: =ROUND(I101*E101,2) -> 0 | O101: =ROUND(J101*E101,2) -> 0 | P101: =SUM(M101:O101) -> 0
A102: 6.7. | B102: līg.cena | C102: Pretvārsts DN15 PN16 | D102: gb. | E102: 3 | H102: =ROUND(F102*G102,2) -> 0 | K102: =SUM(H102:J102) -> 0 | L102: =ROUND(E102*F102,2) -> 0 | M102: =ROUND(H102*E102,2) -> 0 | N102: =ROUND(I102*E102,2) -> 0 | O102: =ROUND(J102*E102,2) -> 0 | P102: =SUM(M102:O102) -> 0
A103: 6.8. | B103: līg.cena | C103: Tas pats, DN20 | D103: gb. | E103: 1 | H103: =ROUND(F103*G103,2) -> 0 | K103: =SUM(H103:J103) -> 0 | L103: =ROUND(E103*F103,2) -> 0 | M103: =ROUND(H103*E103,2) -> 0 | N103: =ROUND(I103*E103,2) -> 0 | O103: =ROUND(J103*E103,2) -> 0 | P103: =SUM(M103:O103) -> 0
A104: 6.9. | B104: līg.cena | C104: Tas pats, DN25 | D104: gb. | E104: 1 | H104: =ROUND(F104*G104,2) -> 0 | K104: =SUM(H104:J104) -> 0 | L104: =ROUND(E104*F104,2) -> 0 | M104: =ROUND(H104*E104,2) -> 0 | N104: =ROUND(I104*E104,2) -> 0 | O104: =ROUND(J104*E104,2) -> 0 | P104: =SUM(M104:O104) -> 0
A105: 6.10. | B105: līg.cena | C105: Automātiskais atgaisotājs, DN15 | D105: gb. | E105: 2 | H105: =ROUND(F105*G105,2) -> 0 | K105: =SUM(H105:J105) -> 0 | L105: =ROUND(E105*F105,2) -> 0 | M105: =ROUND(H105*E105,2) -> 0 | N105: =ROUND(I105*E105,2) -> 0 | O105: =ROUND(J105*E105,2) -> 0 | P105: =SUM(M105:O105) -> 0
A106: 6.11. | B106: līg.cena | C106: Cirkulācijas ūdens cauruļvadu DN15 siltumizolācija no grūti degoša, pašnodziestoša slēgtu poru polietilēna δ=20mm | D106: m. | E106: 30 | H106: =ROUND(F106*G106,2) -> 0 | K106: =SUM(H106:J106) -> 0 | L106: =ROUND(E106*F106,2) -> 0 | M106: =ROUND(H106*E106,2) -> 0 | N106: =ROUND(I106*E106,2) -> 0 | O106: =ROUND(J106*E106,2) -> 0 | P106: =SUM(M106:O106) -> 0
A107: 6.12. | B107: līg.cena | C107: Tas pats, DN20 | D107: m. | E107: 10 | H107: =ROUND(F107*G107,2) -> 0 | K107: =SUM(H107:J107) -> 0 | L107: =ROUND(E107*F107,2) -> 0 | M107: =ROUND(H107*E107,2) -> 0 | N107: =ROUND(I107*E107,2) -> 0 | O107: =ROUND(J107*E107,2) -> 0 | P107: =SUM(M107:O107) -> 0
... A114: 6.19. | B114: līg.cena | C114: Esošā ūdensvada tīkla demontāža | D114: gb. | E114: 50 | H114: =ROUND(F114*G114,2) -> 0 | K114: =SUM(H114:J114) -> 0 | L114: =ROUND(E114*F114,2) -> 0 | M114: =ROUND(H114*E114,2) -> 0 | N114: =ROUND(I114*E114,2) -> 0 | O114: =ROUND(J114*E114,2) -> 0 | P114: =SUM(M114:O114) -> 0
...

Sheet 3.5.
C1: Lokālā tāme Nr. | D1: 3.5.
C2: Iekšējā elektroapgāde
C3: (darba veids vai konstruktīvā elementa nosaukums)
C4: Attiecināmās izmaksas
C5: Būves nosaukums: | D5: ='Kops a'!D6 -> Daudzīvokļu dzīvojamais mājās
C6: Objekta nosaukums: | D6: ='Kops a'!D7 -> Energoefektivitātes paaugstināšana daudzdzīvokļu dzīvojamai mājai
C7: Objekta adrese: | D7: ='Kops a'!D8 -> Rūpnīcas ielā 6, Rēzeknē, LV-4604
C8: Pasūtījuma Nr. | D8: ='Kops a'!D9 -> TP_01.24
A9: Tāme sastādīta 2024. gada tirgus cenās, pamatojoties uz EL daļas rasējumiem | J9: Tāmes izmaksas EUR | N9: =P51 -> 0
P10: =A57 -> Tāme sastādīta 2024. gada 26. augusta
A12: Nr.p.k. | B12: Kods | C12: Darba nosaukums | D12: Mērvienība | E12: Daudzums | F12: Vienības izmaksas | L12: Kopā uz visu apjomu
F13: Laika norma (c/h) | G13: Darba samaksas likme (EUR/h) | H13: Darba alga (EUR) | I13: Būvizstrādājumi (EUR) | J13: Mehānismi (EUR) | K13: Kopā (EUR) | L13: Laika norma (c/h) | M13: Darba alga (EUR) | N13: Būvizstrādājumi (EUR) | O13: Mehānismi (EUR) | P13: Kopā (EUR)
A14: 1 | B14: 2 | C14: 3 | D14: 4 | E14: 5 | F14: 6 | G14: 7 | H14: 8 | I14: 9 | J14: 10 | K14: 11 | L14: 12 | M14: 13 | N14: 14 | O14: 15 | P14: 16
A15: 1. | C15: Sadalne
A16: 1.1. | B16: līg.cena | C16: Metāla sadalnes korpuss, IP31, 16 mod. | D16: kompl. | E16: 14 | H16: =ROUND(F16*G16,2) -> 0 | K16: =SUM(H16:J16) -> 0 | L16: =ROUND(E16*F16,2) -> 0 | M16: =ROUND(H16*E16,2) -> 0 | N16: =ROUND(I16*E16,2) -> 0 | O16: =ROUND(J16*E16,2) -> 0 | P16: =SUM(M16:O16) -> 0
A17: 1.2. | B17: līg.cena | C17: Automātslēdzis 1P 230V, B16A, 20kA | D17: gab. | E17: 112 | H17: =ROUND(F17*G17,2) -> 0 | K17: =SUM(H17:J17) -> 0 | L17: =ROUND(E17*F17,2) -> 0 | M17: =ROUND(H17*E17,2) -> 0 | N17: =ROUND(I17*E17,2) -> 0 | O17: =ROUND(J17*E17,2) -> 0 | P17: =SUM(M17:O17) -> 0
A18: 1.3. | B18: līg.cena | C18: Automātslēdzis 1P 230V, B10A, 20kA | D18: gab. | E18: 28 | H18: =ROUND(F18*G18,2) -> 0 | K18: =SUM(H18:J18) -> 0 | L18: =ROUND(E18*F18,2) -> 0 | M18: =ROUND(H18*E18,2) -> 0 | N18: =ROUND(I18*E18,2) -> 0 | O18: =ROUND(J18*E18,2) -> 0 | P18: =SUM(M18:O18) -> 0
A19: 1.4. | B19: līg.cena | C19: Komb. noplūdes strāvas slēdzis 2P B16A/30mA AC-tips | D19: gab. | E19: 14 | H19: =ROUND(F19*G19,2) -> 0 | K19: =SUM(H19:J19) -> 0 | L19: =ROUND(E19*F19,2) -> 0 | M19: =ROUND(H19*E19,2) -> 0 | N19: =ROUND(I19*E19,2) -> 0 | O19: =ROUND(J19*E19,2) -> 0 | P19: =SUM(M19:O19) -> 0
A20: 2 | C20: Dzīvokļu elektrosadale SS-13,4,5,6,7,10, 11,13,14,15,16,17,20 | D20: kompl. | E20: 6 | H20: =ROUND(F20*G20,2) -> 0 | K20: =SUM(H20:J20) -> 0 | L20: =ROUND(E20*F20,2) -> 0 | M20: =ROUND(H20*E20,2) -> 0 | N20: =ROUND(I20*E20,2) -> 0 | O20: =ROUND(J20*E20,2) -> 0 | P20: =SUM(M20:O20) -> 0
A21: 2.1. | B21: līg.cena | C21: Metāla sadalnes korpuss, IP31, 16 mod. | D21: kompl. | E21: 6 | H21: =ROUND(F21*G21,2) -> 0 | K21: =SUM(H21:J21) -> 0 | L21: =ROUND(E21*F21,2) -> 0 | M21: =ROUND(H21*E21,2) -> 0 | N21: =ROUND(I21*E21,2) -> 0 | O21: =ROUND(J21*E21,2) -> 0 | P21: =SUM(M21:O21) -> 0
A22: 2.2. | B22: līg.cena | C22: Automātslēdzis 1P 230V, B16A, 20kA | D22: gab. | E22: 54 | H22: =ROUND(F22*G22,2) -> 0 | K22: =SUM(H22:J22) -> 0 | L22: =ROUND(E22*F22,2) -> 0 | M22: =ROUND(H22*E22,2) -> 0 | N22: =ROUND(I22*E22,2) -> 0 | O22: =ROUND(J22*E22,2) -> 0 | P22: =SUM(M22:O22) -> 0
A23: 2.3. | B23: līg.cena | C23: Automātslēdzis 1P 230V, B10A, 20kA | D23: gab. | E23: 12 | H23: =ROUND(F23*G23,2) -> 0 | K23: =SUM(H23:J23) -> 0 | L23: =ROUND(E23*F23,2) -> 0 | M23: =ROUND(H23*E23,2) -> 0 | N23: =ROUND(I23*E23,2) -> 0 | O23: =ROUND(J23*E23,2) -> 0 | P23: =SUM(M23:O23) -> 0
A24: 2.4. | B24: līg.cena | C24: Komb. noplūdes strāvas slēdzis 2P B16A/30mA AC-tips | D24: gab. | E24: 6 | H24: =ROUND(F24*G24,2) -> 0 | K24: =SUM(H24:J24) -> 0 | L24: =ROUND(E24*F24,2) -> 0 | M24: =ROUND(H24*E24,2) -> 0 | N24: =ROUND(I24*E24,2) -> 0 | O24: =ROUND(J24*E24,2) -> 0 | P24: =SUM(M24:O24) -> 0
A25: 3 | C25: Kop.lietošanas elektrosadale SS-21 | D25: kompl. | E25: 1 | H25: =ROUND(F25*G25,2) -> 0 | K25: =SUM(H25:J25) -> 0 | L25: =ROUND(E25*F25,2) -> 0 | M25: =ROUND(H25*E25,2) -> 0 | N25: =ROUND(I25*E25,2) -> 0 | O25: =ROUND(J25*E25,2) -> 0 | P25: =SUM(M25:O25) -> 0
A26: 3.1. | B26: līg.cena | C26: Metāla sadalnes korpuss, IP31, 8 mod. | D26: kompl. | E26: 1 | H26: =ROUND(F26*G26,2) -> 0 | K26: =SUM(H26:J26) -> 0 | L26: =ROUND(E26*F26,2) -> 0 | M26: =ROUND(H26*E26,2) -> 0 | N26: =ROUND(I26*E26,2) -> 0 | O26: =ROUND(J26*E26,2) -> 0 | P26: =SUM(M26:O26) -> 0
A27: 3.2. | B27: līg.cena | C27: Automātslēdzis 1P 230V, B16A, 20kA | D27: gab. | E27: 3 | H27: =ROUND(F27*G27,2) -> 0 | K27: =SUM(H27:J27) -> 0 | L27: =ROUND(E27*F27,2) -> 0 | M27: =ROUND(H27*E27,2) -> 0 | N27: =ROUND(I27*E27,2) -> 0 | O27: =ROUND(J27*E27,2) -> 0 | P27: =SUM(M27:O27) -> 0
A28: 4. | B28: līg.cena | C28: Instalācijas materiāli | H28: =ROUND(F28*G28,2) -> 0 | K28: =SUM(H28:J28) -> 0 | L28: =ROUND(E28*F28,2) -> 0 | M28: =ROUND(H28*E28,2) -> 0 | N28: =ROUND(I28*E28,2) -> 0 | O28: =ROUND(J28*E28,2) -> 0 | P28: =SUM(M28:O28) -> 0
A29: 4.1. | B29: līg.cena | C29: Kontaktligzda ,230V,1P/16A, IP44 ar kārbu | D29: gab. | E29: 60 | H29: =ROUND(F29*G29,2) -> 0 | K29: =SUM(H29:J29) -> 0 | L29: =ROUND(E29*F29,2) -> 0 | M29: =ROUND(H29*E29,2) -> 0 | N29: =ROUND(I29*E29,2) -> 0 | O29: =ROUND(J29*E29,2) -> 0 | P29: =SUM(M29:O29) -> 0
A30: 4.2. | B30: līg.cena | C30: Kontaktligzda ,230V,1P/16A, IP20 ar kārbu | D30: gab. | E30: 248 | H30: =ROUND(F30*G30,2) -> 0 | K30: =SUM(H30:J30) -> 0 | L30: =ROUND(E30*F30,2) -> 0 | M30: =ROUND(H30*E30,2) -> 0 | N30: =ROUND(I30*E30,2) -> 0 | O30: =ROUND(J30*E30,2) -> 0 | P30: =SUM(M30:O30) -> 0
A31: 4.3. | B31: līg.cena | C31: Slēdzis 1p, IP20, komplektā ar rāmi un kārbu, V/A | D31: gab. | E31: 37 | H31: =ROUND(F31*G31,2) -> 0 | K31: =SUM(H31:J31) -> 0 | L31: =ROUND(E31*F31,2) -> 0 | M31: =ROUND(H31*E31,2) -> 0 | N31: =ROUND(I31*E31,2) -> 0 | O31: =ROUND(J31*E31,2) -> 0 | P31: =SUM(M31:O31) -> 0
A32: 4.4. | B32: līg.cena | C32: Slēdzis 2p, IP20, komplektā ar rāmi un kārbu, V/A | D32: gab. | E32: 2 | H32: =ROUND(F32*G32,2) -> 0 | K32: =SUM(H32:J32) -> 0 | L32: =ROUND(E32*F32,2) -> 0 | M32: =ROUND(H32*E32,2) -> 0 | N32: =ROUND(I32*E32,2) -> 0 | O32: =ROUND(J32*E32,2) -> 0 | P32: =SUM(M32:O32) -> 0
A33: 4.5. | B33: līg.cena | C33: Slēdzis 3p, IP20, komplektā ar rāmi un kārbu, V/A | D33: gab. | E33: 18 | H33: =ROUND(F33*G33,2) -> 0 | K33: =SUM(H33:J33) -> 0 | L33: =ROUND(E33*F33,2) -> 0 | M33: =ROUND(H33*E33,2) -> 0 | N33: =ROUND(I33*E33,2) -> 0 | O33: =ROUND(J33*E33,2) -> 0 | P33: =SUM(M33:O33) -> 0
A34: 4.6. | B34: līg.cena | C34: Elektriskais zvans | D34: gab. | E34: 20 | H34: =ROUND(F34*G34,2) -> 0 | K34: =SUM(H34:J34) -> 0 | L34: =ROUND(E34*F34,2) -> 0 | M34: =ROUND(H34*E34,2) -> 0 | N34: =ROUND(I34*E34,2) -> 0 | O34: =ROUND(J34*E34,2) -> 0 | P34: =SUM(M34:O34) -> 0
A35: 4.7. | B35: līg.cena | C35: Zvana poga | D35: gab. | E35: 20 | H35: =ROUND(F35*G35,2) -> 0 | K35: =SUM(H35:J35) -> 0 | L35: =ROUND(E35*F35,2) -> 0 | M35: =ROUND(H35*E35,2) -> 0 | N35: =ROUND(I35*E35,2) -> 0 | O35: =ROUND(J35*E35,2) -> 0 | P35: =SUM(M35:O35) -> 0
A36: 4.8. | B36: līg.cena | C36: Montāžas savienojuma kārba | D36: gab. | E36: 150 | H36: =ROUND(F36*G36,2) -> 0 | K36: =SUM(H36:J36) -> 0 | L36: =ROUND(E36*F36,2) -> 0 | M36: =ROUND(H36*E36,2) -> 0 | N36: =ROUND(I36*E36,2) -> 0 | O36: =ROUND(J36*E36,2) -> 0 | P36: =SUM(M36:O36) -> 0
A37: 5 | C37: Gaismekļi | H37: =ROUND(F37*G37,2) -> 0 | K37: =SUM(H37:J37) -> 0 | L37: =ROUND(E37*F37,2) -> 0 | M37: =ROUND(H37*E37,2) -> 0 | N37: =ROUND(I37*E37,2) -> 0 | O37: =ROUND(J37*E37,2) -> 0 | P37: =SUM(M37:O37) -> 0
A38: 5.1. | B38: līg.cena | C38: LED gaismeklis 24W ar kustības dēvējг un laika releju , IP44 | D38: kompl. | E38: 19 | H38: =ROUND(F38*G38,2) -> 0 | K38: =SUM(H38:J38) -> 0 | L38: =ROUND(E38*F38,2) -> 0 | M38: =ROUND(H38*E38,2) -> 0 | N38: =ROUND(I38*E38,2) -> 0 | O38: =ROUND(J38*E38,2) -> 0 | P38: =SUM(M38:O38) -> 0
A39: 5.2. | B39: līg.cena | C39: LED gaismeklis 24W, IP20 | D39: kompl. | E39: 62 | H39: =ROUND(F39*G39,2) -> 0 | K39: =SUM(H39:J39) -> 0 | L39: =ROUND(E39*F39,2) -> 0 | M39: =ROUND(H39*E39,2) -> 0 | N39: =ROUND(I39*E39,2) -> 0 | O39: =ROUND(J39*E39,2) -> 0 | P39: =SUM(M39:O39) -> 0
A40: 5.3. | B40: līg.cena | C40: LED gaismeklis 12W, IP44 | D40: kompl. | E40: 40 | H40: =ROUND(F40*G40,2) -> 0 | K40: =SUM(H40:J40) -> 0 | L40: =ROUND(E40*F40,2) -> 0 | M40: =ROUND(H40*E40,2) -> 0 | N40: =ROUND(I40*E40,2) -> 0 | O40: =ROUND(J40*E40,2) -> 0 | P40: =SUM(M40:O40) -> 0
A41: 5.4. | B41: līg.cena | C41: LED gaismeklis 12W, IP20 | D41: kompl. | E41: 18 | H41: =ROUND(F41*G41,2) -> 0 | K41: =SUM(H41:J41) -> 0 | L41: =ROUND(E41*F41,2) -> 0 | M41: =ROUND(H41*E41,2) -> 0 | N41: =ROUND(I41*E41,2) -> 0 | O41: =ROUND(J41*E41,2) -> 0 | P41: =SUM(M41:O41) -> 0
A42: 5.5. | B42: līg.cena | C42: Montāžas izstrādājumi | D42: kompl. | E42: 1 | H42: =ROUND(F42*G42,2) -> 0 | K42: =SUM(H42:J42) -> 0 | L42: =ROUND(E42*F42,2) -> 0 | M42: =ROUND(H42*E42,2) -> 0 | N42: =ROUND(I42*E42,2) -> 0 | O42: =ROUND(J42*E42,2) -> 0 | P42: =SUM(M42:O42) -> 0
A43: 6 | C43: Kabeli | H43: =ROUND(F43*G43,2) -> 0 | K43: =SUM(H43:J43) -> 0 | L43: =ROUND(E43*F43,2) -> 0 | M43: =ROUND(H43*E43,2) -> 0 | N43: =ROUND(I43*E43,2) -> 0 | O43: =ROUND(J43*E43,2) -> 0 | P43: =SUM(M43:O43) -> 0
A44: 6.1. | B44: līg.cena | C44: Kabelis NYM-J 3x6mm2 | D44: m | E44: 600 | H44: =ROUND(F44*G44,2) -> 0 | K44: =SUM(H44:J44) -> 0 | L44: =ROUND(E44*F44,2) -> 0 | M44: =ROUND(H44*E44,2) -> 0 | N44: =ROUND(I44*E44,2) -> 0 | O44: =ROUND(J44*E44,2) -> 0 | P44: =SUM(M44:O44) -> 0
A45: 6.2. | B45: līg.cena | C45: Kabelis NYM-J 3x2,5mm2 | D45: m | E45: 2000 | H45: =ROUND(F45*G45,2) -> 0 | K45: =SUM(H45:J45) -> 0 | L45: =ROUND(E45*F45,2) -> 0 | M45: =ROUND(H45*E45,2) -> 0 | N45: =ROUND(I45*E45,2) -> 0 | O45: =ROUND(J45*E45,2) -> 0 | P45: =SUM(M45:O45) -> 0
A46: 6.3. | B46: līg.cena | C46: Kabelis NYM-J 3x1,5mm2 | D46: m | E46: 3000 | H46: =ROUND(F46*G46,2) -> 0 | K46: =SUM(H46:J46) -> 0 | L46: =ROUND(E46*F46,2) -> 0 | M46: =ROUND(H46*E46,2) -> 0 | N46: =ROUND(I46*E46,2) -> 0 | O46: =ROUND(J46*E46,2) -> 0 | P46: =SUM(M46:O46) -> 0
A47: 6.4. | B47: līg.cena | C47: Elektroinstalācijas pārbaude ar termovizoru | D47: K-ts. | E47: 1 | H47: =ROUND(F47*G47,2) -> 0 | K47: =SUM(H47:J47) -> 0 | L47: =ROUND(E47*F47,2) -> 0 | M47: =ROUND(H47*E47,2) -> 0 | N47: =ROUND(I47*E47,2) -> 0 | O47: =ROUND(J47*E47,2) -> 0 | P47: =SUM(M47:O47) -> 0
A48: 6.5. | B48: līg.cena | C48: Ugunsizturīga montāžas pūta | D48: K-ts. | E48: 1 | H48: =ROUND(F48*G48,2) -> 0 | K48: =SUM(H48:J48) -> 0 | L48: =ROUND(E48*F48,2) -> 0 | M48: =ROUND(H48*E48,2) -> 0 | N48: =ROUND(I48*E48,2) -> 0 | O48: =ROUND(J48*E48,2) -> 0 | P48: =SUM(M48:O48) -> 0
H49: =ROUND(F49*G49,2) -> 0 | K49: =SUM(H49:J49) -> 0 | L49: =ROUND(E49*F49,2) -> 0 | M49: =ROUND(H49*E49,2) -> 0 | N49: =ROUND(I49*E49,2) -> 0 | O49: =ROUND(J49*E49,2) -> 0 | P49: =SUM(M49:O49) -> 0
A50: 7 | B50: līg.cena | C50: Strabu izciršana gazes betona blokos | D50: m | E50: 2000 | H50: =ROUND(F50*G50,2) -> 0 | K50: =SUM(H50:J50) -> 0 | L50: =ROUND(E50*F50,2) -> 0 | M50: =ROUND(H50*E50,2) -> 0 | N50: =ROUND(I50*E50,2) -> 0 | O50: =ROUND(J50*E50,2) -> 0 | P50: =SUM(M50:O50) -> 0
A51: Tiešās izmaksas kopā, t. sk. darba devēja sociālais nodoklis 24.09% | L51: =SUM(L16:L50) -> 0 | M51: =SUM(M16:M50) -> 0 | N51: =SUM(N16:N50) -> 0 | O51: =SUM(O16:O50) -> 0 | P51: =SUM(P16:P50) -> 0
A54: Sastādīja | C54: ='Kops a'!C39:H39 -> Vasilijs Ivanovs
C55: (paraksts un tā atšifrējums, datums)
A57: ='Kops a'!A42 -> Tāme sastādīta 2024. gada 26. augusta
A59: Pārbaudīja | C59: ='Kops a'!C44:H44 -> Vasilijs Ivanovs
C60: (paraksts un tā atšifrējums, datums)
A62: Sertifikāta Nr | C62: ='Kops a'!C47 -> 4-01907

Sheet 4
A1: 4. | C1: Lokālā tāme Nr. | D1: 4
C2: Arējo ūdensvada un kanalizācijas tīklu ierīkošana
C3: (darba veids vai konstruktīvā elementa nosaukums)
C4: Attiecināmās izmaksas
C5: Būves nosaukums: | D5: ='Kops a'!D6 -> Daudzīvokļu dzīvojamais mājās
C6: Objekta nosaukums: | D6: ='Kops a'!D7 -> Energoefektivitātes paaugstināšana daudzdzīvokļu dzīvojamai mājai
C7: Objekta adrese: | D7: ='Kops a'!D8 -> Rūpnīcas ielā 6, Rēzeknē, LV-4604
C8: Pasūtījuma Nr. | D8: ='Kops a'!D9 -> TP_01.24
A9: Tāme sastādīta 2024. gada tirgus cenās, pamatojoties uz ŪKT daļas rasējumiem | J9: Tāmes izmaksas EUR | N9: =P69 -> 0
P10: =A75 -> Tāme sastādīta 2024. gada 26. augusta
A12: Nr.p.k. | B12: Kods | C12: Darba nosaukums | D12: Mērvienība | E12: Daudzums | F12: Vienības izmaksas | L12: Kopā uz visu apjomu
F13: Laika norma (c/h) | G13: Darba samaksas likme (EUR/h) | H13: Darba alga (EUR) | I13: Būvizstrādājumi (EUR) | J13: Mehānismi (EUR) | K13: Kopā (EUR) | L13: Laika norma (c/h) | M13: Darba alga (EUR) | N13: Būvizstrādājumi (EUR) | O13: Mehānismi (EUR) | P13: Kopā (EUR)
A14: 1 | B14: 2 | C14: 3 | D14: 4 | E14: 5 | F14: 6 | G14: 7 | H14: 8 | I14: 9 | J14: 10 | K14: 11 | L14: 12 | M14: 13 | N14: 14 | O14: 15 | P14: 16
C15: Ārējas tīkli | H15: =ROUND(F15*G15,2) -> 0 | K15: =SUM(H15:J15) -> 0 | L15: =ROUND(E15*F15,2) -> 0 | M15: =ROUND(H15*E15,2) -> 0 | N15: =ROUND(I15*E15,2) -> 0 | O15: =ROUND(J15*E15,2) -> 0 | P15: =SUM(M15:O15) -> 0
A16: 1 | C16: Sadzīves kanalizācijas | H16: =ROUND(F16*G16,2) -> 0 | K16: =SUM(H16:J16) -> 0 | L16: =ROUND(E16*F16,2) -> 0 | M16: =ROUND(H16*E16,2) -> 0 | N16: =ROUND(I16*E16,2) -> 0 | O16: =ROUND(J16*E16,2) -> 0 | P16: =SUM(M16:O16) -> 0
A17: 1.1. | B17: līg.cena | C17: Tranšejas rakšana, smilšu pamatnes ierīkošana zem cauruļvadiem h=150mm, cauruļvadus OD160mm montāza un apbēršana ar smilti h=300mm ar visiem palīgdarbiem | D17: m | E17: 21 | H17: =ROUND(F17*G17,2) -> 0 | K17: =SUM(H17:J17) -> 0 | L17: =ROUND(E17*F17,2) -> 0 | M17: =ROUND(H17*E17,2) -> 0 | N17: =ROUND(I17*E17,2) -> 0 | O17: =ROUND(J17*E17,2) -> 0 | P17: =SUM(M17:O17) -> 0
A18: 1.2. | B18: līg.cena | C18: kanalizācijas caurules PVC, OD 160 8kN/m2 | D18: m | E18: 22 | H18: =ROUND(F18*G18,2) -> 0 | K18: =SUM(H18:J18) -> 0 | L18: =ROUND(E18*F18,2) -> 0 | M18: =ROUND(H18*E18,2) -> 0 | N18: =ROUND(I18*E18,2) -> 0 | O18: =ROUND(J18*E18,2) -> 0 | P18: =SUM(M18:O18) -> 0
A19: 1.3. | B19: līg.cena | C19: smilts | D19: m3 | E19: 9.1 | H19: =ROUND(F19*G19,2) -> 0 | K19: =SUM(H19:J19) -> 0 | L19: =ROUND(E19*F19,2) -> 0 | M19: =ROUND(H19*E19,2) -> 0 | N19: =ROUND(I19*E19,2) -> 0 | O19: =ROUND(J19*E19,2) -> 0 | P19: =SUM(M19:O19) -> 0
A20: 1.4. | B20: līg.cena | C20: Apvalkcaurule Dn200mm montāza ar visiem palīgdarbiem | D20: m | E20: 2.5 | H20: =ROUND(F20*G20,2) -> 0 | K20: =SUM(H20:J20) -> 0 | L20: =ROUND(E20*F20,2) -> 0 | M20: =ROUND(H20*E20,2) -> 0 | O20: =ROUND(J20*E20,2) -> 0 | P20: =SUM(M20:O20) -> 0
A21: 1.5. | B21: līg.cena | C21: tērauda caurules D 200mm ar antikorozijas izolācijas | D21: m | E21: 2.5 | K21: =SUM(H21:J21) -> 0 | L21: =ROUND(E21*F21,2) -> 0 | N21: =ROUND(I21*E21,2) -> 0 | O21: =ROUND(J21*E21,2) -> 0 | P21: =SUM(M21:O21) -> 0
A22: 1.6. | B22: līg.cena | C22: PEH skataka DN600 dziļumā h=2,0m montāža ar visiem palīgdarbiem | D22: gab | E22: 1 | H22: =ROUND(F22*G22,2) -> 0 | K22: =SUM(H22:J22) -> 0 | L22: =ROUND(E22*F22,2) -> 0 | M22: =ROUND(H22*E22,2) -> 0 | N22: =ROUND(I22*E22,2) -> 0 | O22: =ROUND(J22*E22,2) -> 0 | P22: =SUM(M22:O22) -> 0
A23: 1.7. | B23: līg.cena | C23: PEH skataka DN600 dziļumā h=1,50m | D23: gab | E23: 1 | H23: =ROUND(F23*G23,2) -> 0 | K23: =SUM(H23:J23) -> 0 | L23: =ROUND(E23*F23,2) -> 0 | M23: =ROUND(H23*E23,2) -> 0 | N23: =ROUND(I23*E23,2) -> 0 | O23: =ROUND(J23*E23,2) -> 0 | P23: =SUM(M23:O23) -> 0
A24: 1.8. | B24: līg.cena | C24: Pieslēgums pie esošājam kanalizācijas akam ar visiem palīgdarbiem | D24: komp | E24: 1 | H24: =ROUND(F24*G24,2) -> 0 | K24: =SUM(H24:J24) -> 0 | L24: =ROUND(E24*F24,2) -> 0 | M24: =ROUND(H24*E24,2) -> 0 | N24: =ROUND(I24*E24,2) -> 0 | O24: =ROUND(J24*E24,2) -> 0 | P24: =SUM(M24:O24) -> 0
A25: 1.9. | B25: līg.cena | C25: aizsargčaula dzelzsbetona akas sienā OD160mm caurulei | D25: gab | E25: 1 | K25: =SUM(H25:J25) -> 0 | N25: =ROUND(I25*E25,2) -> 0 | P25: =SUM(M25:O25) -> 0
A26: 1.10. | B26: līg.cena | C26: PVC OD 160 uzmavu trejgabals ar 45* | D26: gab | E26: 1 | K26: =SUM(H26:J26) -> 0 | N26: =ROUND(I26*E26,2) -> 0 | P26: =SUM(M26:O26) -> 0
A27: 1,11. | B27: līg.cena | C27: PVC OD 160 uzmavu līknis ar 45* | D27: gab | E27: 1 | K27: =SUM(H27:J27) -> 0 | N27: =ROUND(I27*E27,2) -> 0 | P27: =SUM(M27:O27) -> 0
A28: 1,12. | B28: līg.cena | C28: PVC OD 160 uzmavu līknis ar 90* | D28: gab | E28: 1 | K28: =SUM(H28:J28) -> 0 | N28: =ROUND(I28*E28,2) -> 0 | P28: =SUM(M28:O28) -> 0
A29: 1.13. | B29: līg.cena | C29: stiprināšanas komplekts | D29: komp | E29: 1 | K29: =SUM(H29:J29) -> 0 | N29: =ROUND(I29*E29,2) -> 0 | P29: =SUM(M29:O29) -> 0
A30: 1.14. | B30: līg.cena | C30: Esošā kanalizācijas aka rekonstrukcija ar visiem palīgdarbiem | D30: komp | E30: 1 | H30: =ROUND(F30*G30,2) -> 0 | K30: =SUM(H30:J30) -> 0 | L30: =ROUND(E30*F30,2) -> 0 | M30: =ROUND(H30*E30,2) -> 0 | N30: =ROUND(I30*E30,2) -> 0 | O30: =ROUND(J30*E30,2) -> 0 | P30: =SUM(M30:O30) -> 0
A31: 1.15. | B31: līg.cena | C31: Dīvpusējā dalāmā aizsargcaurule kabeļa aizsardzības DN110, 750N, l=3,0m montāža ar visiem palīgdarbiem | D31: komp | E31: 1 | H31: =ROUND(F31*G31,2) -> 0 | K31: =SUM(H31:J31) -> 0 | L31: =ROUND(E31*F31,2) -> 0 | M31: =ROUND(H31*E31,2) -> 0 | N31: =ROUND(I31*E31,2) -> 0 | O31: =ROUND(J31*E31,2) -> 0 | P31: =SUM(M31:O31) -> 0
A32: 1.16. | B32: līg.cena | C32: dīvpusējā dalāmā aizsargcaurule kabeļa aizsardzības DN110, 750N, l=3,0m | D32: komp | E32: 1 | H32: =ROUND(F32*G32,2) -> 0 | K32: =SUM(H32:J32) -> 0 | L32: =ROUND(E32*F32,2) -> 0 | M32: =ROUND(H32*E32,2) -> 0 | N32: =ROUND(I32*E32,2) -> 0 | O32: =ROUND(J32*E32,2) -> 0 | P32: =SUM(M32:O32) -> 0
A33: 1.18. | B33: līg.cena | C33: Ievadu ekā ierīkošana ar visiem palīgdarbiem | D33: gab | E33: 1 | H33: =ROUND(F33*G33,2) -> 0 | K33: =SUM(H33:J33) -> 0 | L33: =ROUND(E33*F33,2) -> 0 | M33: =ROUND(H33*E33,2) -> 0 | N33: =ROUND(I33*E33,2) -> 0 | O33: =ROUND(J33*E33,2) -> 0 | P33: =SUM(M33:O33) -> 0
A34: 1.19. | B34: līg.cena | C34: Šķērsojums ar esošiem elektrības kabeliem ar visiem palīgdarbiem | D34: vieta | E34: 1 | H34: =ROUND(F34*G34,2) -> 0 | K34: =SUM(H34:J34) -> 0 | L34: =ROUND(E34*F34,2) -> 0 | M34: =ROUND(H34*E34,2) -> 0 | N34: =ROUND(I34*E34,2) -> 0 | O34: =ROUND(J34*E34,2) -> 0 | P34: =SUM(M34:O34) -> 0
A35: 1.20. | B35: līg.cena | C35: divpusējā dalāmā aizsargcaurule kabeļa aizsardzībai DN100, 750N | D35: m | E35: 3 | H35: =ROUND(F35*G35,2) -> 0 | K35: =SUM(H35:J35) -> 0 | L35: =ROUND(E35*F35,2) -> 0 | M35: =ROUND(H35*E35,2) -> 0 | N35: =ROUND(I35*E35,2) -> 0 | O35: =ROUND(J35*E35,2) -> 0 | P35: =SUM(M35:O35) -> 0
A36: 1.21. | B36: līg.cena | C36: Marķēšanas plāksnītes ar kanalizācijas akas piesaite ierīkošana | D36: gab | E36: 1 | H36: =ROUND(F36*G36,2) -> 0 | K36: =SUM(H36:J36) -> 0 | L36: =ROUND(E36*F36,2) -> 0 | M36: =ROUND(H36*E36,2) -> 0 | N36: =ROUND(I36*E36,2) -> 0 | O36: =ROUND(J36*E36,2) -> 0 | P36: =SUM(M36:O36) -> 0
A37: 1.22. | B37: līg.cena | C37: Kanalizācijas tīkla D150mm demontāža ar visiem palīgdarbiem | D37: m | E37: 5 | H37: =ROUND(F37*G37,2) -> 0 | K37: =SUM(H37:J37) -> 0 | L37: =ROUND(E37*F37,2) -> 0 | M37: =ROUND(H37*E37,2) -> 0 | N37: =ROUND(I37*E37,2) -> 0 | O37: =ROUND(J37*E37,2) -> 0 | P37: =SUM(M37:O37) -> 0
A38: 2 | C38: Ūdensvads | H38: =ROUND(F38*G38,2) -> 0 | K38: =SUM(H38:J38) -> 0 | L38: =ROUND(E38*F38,2) -> 0 | M38: =ROUND(H38*E38,2) -> 0 | N38: =ROUND(I38*E38,2) -> 0 | O38: =ROUND(J38*E38,2) -> 0 | P38: =SUM(M38:O38) -> 0
A39: 2.1. | B39: līg.cena | C39: Esoša ūdensvada akas rekonstrukcija (dzelzsbetona pārsegumu plātne un vākas nomaiņa un hidroizolācija akas) ar visiem palīgdarbiem | D39: komp | E39: 1 | H39: =ROUND(F39*G39,2) -> 0 | K39: =SUM(H39:J39) -> 0 | L39: =ROUND(E39*F39,2) -> 0 | M39: =ROUND(H39*E39,2) -> 0 | N39: =ROUND(I39*E39,2) -> 0 | O39: =ROUND(J39*E39,2) -> 0 | P39: =SUM(M39:O39) -> 0
H40: =ROUND(F40*G40,2) -> 0 | K40: =SUM(H40:J40) -> 0 | L40: =ROUND(E40*F40,2) -> 0 | M40: =ROUND(H40*E40,2) -> 0 | N40: =ROUND(I40*E40,2) -> 0 | O40: =ROUND(J40*E40,2) -> 0 | P40: =SUM(M40:O40) -> 0
H41: =ROUND(F41*G41,2) -> 0 | K41: =SUM(H41:J41) -> 0 | L41: =ROUND(E41*F41,2) -> 0 | M41: =ROUND(H41*E41,2) -> 0 | N41: =ROUND(I41*E41,2) -> 0 | O41: =ROUND(J41*E41,2) -> 0 | P41: =SUM(M41:O41) -> 0
H42: =ROUND(F42*G42,2) -> 0 | K42: =SUM(H42:J42) -> 0 | L42: =ROUND(E42*F42,2) -> 0 | M42: =ROUND(H42*E42,2) -> 0 | N42: =ROUND(I42*E42,2) -> 0 | O42: =ROUND(J42*E42,2) -> 0 | P42: =SUM(M42:O42) -> 0
A43: 2.2. | B43: līg.cena | C43: Tranšejas rakšana, smilšu pamatnes ierīkošana zem ūdensvada cauruļvadiem h=150mm, ūdensvada cauruļvadus OD63x3,8 montāza un apbēršana ar smilti h=300mm ar visiem palīgdarbiem | D43: m | E43: 22 | H43: =ROUND(F43*G43,2) -> 0 | K43: =SUM(H43:J43) -> 0 | L43: =ROUND(E43*F43,2) -> 0 | M43: =ROUND(H43*E43,2) -> 0 | N43: =ROUND(I43*E43,2) -> 0 | O43: =ROUND(J43*E43,2) -> 0 | P43: =SUM(M43:O43) -> 0
A44: 2.3. | B44: līg.cena | C44: smilts | D44: m3 | E44: 9.5 | H44: =ROUND(F44*G44,2) -> 0 | K44: =SUM(H44:J44) -> 0 | L44: =ROUND(E44*F44,2) -> 0 | M44: =ROUND(H44*E44,2) -> 0 | N44: =ROUND(I44*E44,2) -> 0 | O44: =ROUND(J44*E44,2) -> 0 | P44: =SUM(M44:O44) -> 0
A45: 2.4. | B45: līg.cena | C45: ūdensvada cauruļvadus OD63x3,8, SGR17, PN10 | D45: m | E45: 24 | H45: =ROUND(F45*G45,2) -> 0 | K45: =SUM(H45:J45) -> 0 | L45: =ROUND(E45*F45,2) -> 0 | M45: =ROUND(H45*E45,2) -> 0 | N45: =ROUND(I45*E45,2) -> 0 | O45: =ROUND(J45*E45,2) -> 0 | P45: =SUM(M45:O45) -> 0
A46: 2.5. | B46: līg.cena | C46: Ūdensvada cauruļvadus OD63x3,8 montāza zem pamatiem ar visiem palīgdarbiem | D46: m | E46: 2 | H46: =ROUND(F46*G46,2) -> 0 | K46: =SUM(H46:J46) -> 0 | L46: =ROUND(E46*F46,2) -> 0 | M46: =ROUND(H46*E46,2) -> 0 | N46: =ROUND(I46*E46,2) -> 0 | O46: =ROUND(J46*E46,2) -> 0 | P46: =SUM(M46:O46) -> 0
A47: 2.6. | B47: līg.cena | C47: Ūdensvada cauruļvadus OD63x3,8 zem pamatiem siltumizolācija ar visiem palīgdarbiem | D47: m | E47: 2 | H47: =ROUND(F47*G47,2) -> 0 | K47: =SUM(H47:J47) -> 0 | L47: =ROUND(E47*F47,2) -> 0 | M47: =ROUND(H47*E47,2) -> 0 | N47: =ROUND(I47*E47,2) -> 0 | O47: =ROUND(J47*E47,2) -> 0 | P47: =SUM(M47:O47) -> 0
A48: 2.7. | B48: līg.cena | C48: Pieslēgums pie esošājam ūdensvada akam ar visiem palīgdarbiem | D48: komp | E48: 1 | H48: =ROUND(F48*G48,2) -> 0 | K48: =SUM(H48:J48) -> 0 | L48: =ROUND(E48*F48,2) -> 0 | M48: =ROUND(H48*E48,2) -> 0 | N48: =ROUND(I48*E48,2) -> 0 | O48: =ROUND(J48*E48,2) -> 0 | P48: =SUM(M48:O48) -> 0
A49: 2.8. | B49: līg.cena | C49: enkurojošas atloks Dn50 ķeta caurulei d50mm | D49: gab | E49: 2 | H49: =ROUND(F49*G49,2) -> 0 | K49: =SUM(H49:J49) -> 0 | L49: =ROUND(E49*F49,2) -> 0 | M49: =ROUND(H49*E49,2) -> 0 | N49: =ROUND(I49*E49,2) -> 0 | O49: =ROUND(J49*E49,2) -> 0 | P49: =SUM(M49:O49) -> 0
A50: 2.9. | B50: līg.cena | C50: Atloku aizbīdnis Dn50mm montāža ar visiem palīgdarbiem | D50: gab | E50: 2 | H50: =ROUND(F50*G50,2) -> 0 | K50: =SUM(H50:J50) -> 0 | L50: =ROUND(E50*F50,2) -> 0 | M50: =ROUND(H50*E50,2) -> 0 | N50: =ROUND(I50*E50,2) -> 0 | O50: =ROUND(J50*E50,2) -> 0 | P50: =SUM(M50:O50) -> 0
A51: 2.10. | B51: līg.cena | C51: atloku aizbīdnis Dn50mm | D51: komp | E51: 2 | H51: =ROUND(F51*G51,2) -> 0 | K51: =SUM(H51:J51) -> 0 | L51: =ROUND(E51*F51,2) -> 0 | M51: =ROUND(H51*E51,2) -> 0 | N51: =ROUND(I51*E51,2) -> 0 | O51: =ROUND(J51*E51,2) -> 0 | P51: =SUM(M51:O51) -> 0
A52: 2.11. | B52: līg.cena | C52: Atloku trejgabalu Dn50x50mm montāža ar visiem palīgdarbiem | D52: gab | E52: 1 | H52: =ROUND(F52*G52,2) -> 0 | K52: =SUM(H52:J52) -> 0 | L52: =ROUND(E52*F52,2) -> 0 | M52: =ROUND(H52*E52,2) -> 0 | N52: =ROUND(I52*E52,2) -> 0 | O52: =ROUND(J52*E52,2) -> 0 | P52: =SUM(M52:O52) -> 0
A53: 2.12. | B53: līg.cena | C53: atloku trejgabals Dn50x50mm | D53: gab | E53: 1 | H53: =ROUND(F53*G53,2) -> 0 | K53: =SUM(H53:J53) -> 0 | L53: =ROUND(E53*F53,2) -> 0 | M53: =ROUND(H53*E53,2) -> 0 | N53: =ROUND(I53*E53,2) -> 0 | O53: =ROUND(J53*E53,2) -> 0 | P53: =SUM(M53:O53) -> 0
A54: 2.13. | B54: līg.cena | C54: Betona balstu ierīkošana ar visiem palīgdarbiem | D54: komp | E54: 2 | H54: =ROUND(F54*G54,2) -> 0 | K54: =SUM(H54:J54) -> 0 | L54: =ROUND(E54*F54,2) -> 0 | M54: =ROUND(H54*E54,2) -> 0 | N54: =ROUND(I54*E54,2) -> 0 | O54: =ROUND(J54*E54,2) -> 0 | P54: =SUM(M54:O54) -> 0
... A68: 2.26. | B68: līg.cena | C68: Ūdensvada tīkla D50mm demontāža ar visiem palīgdarbiem | D68: m | E68: 22 | H68: =ROUND(F68*G68,2) -> 0 | K68: =SUM(H68:J68) -> 0 | L68: =ROUND(E68*F68,2) -> 0 | M68: =ROUND(H68*E68,2) -> 0 | N68: =ROUND(I68*E68,2) -> 0 | O68: =ROUND(J68*E68,2) -> 0 | P68: =SUM(M68:O68) -> 0
A69: Tiešās izmaksas kopā, t. sk. darba devēja sociālais nodoklis 24.09% | L69: =SUM(L15:L39) -> 0 | M69: =SUM(M15:M39) -> 0 | N69: =SUM(N15:N39) -> 0 | O69: =SUM(O15:O39) -> 0 | P69: =SUM(P15:P39) -> 0
A72: Sastādīja | C72: ='Kops a'!C39:H39 -> Vasilijs Ivanovs
C73: (paraksts un tā atšifrējums, datums)
A75: ='Kops a'!A42 -> Tāme sastādīta 2024. gada 26. augusta
A77: Pārbaudīja | C77: ='Kops a'!C44:H44 -> Vasilijs Ivanovs
C78: (paraksts un tā atšifrējums, datums)
A80: Sertifikāta Nr | C80: ='Kops a'!C47 -> 4-01907

Sheet 5
C1: Lokālā tāme Nr. | D1: 5
C2: Virtuves iekārta
C3: (darba veids vai konstruktīvā elementa nosaukums)
C4: Attiecināmās izmaksas
C5: Būves nosaukums: | D5: ='Kops a'!D6 -> Daudzīvokļu dzīvojamais mājās
C6: Objekta nosaukums: | D6: ='Kops a'!D7 -> Energoefektivitātes paaugstināšana daudzdzīvokļu dzīvojamai mājai
C7: Objekta adrese: | D7: ='Kops a'!D8 -> Rūpnīcas ielā 6, Rēzeknē, LV-4604
C8: Pasūtījuma Nr. | D8: ='Kops a'!D9 -> TP_01.24
A9: Tāme sastādīta 2024. gada tirgus cenās, pamatojoties uz AR daļas rasējumiem | J9: Tāmes izmaksas EUR | N9: =P21 -> 0
P10: =A25 -> Tāme sastādīta 2024. gada 26. augusta
A12: Nr.p.k. | B12: Kods | C12: Darba nosaukums | D12: Mērvienība | E12: Daudzums | F12: Vienības izmaksas | L12: Kopā uz visu apjomu
F13: Laika norma (c/h) | G13: Darba samaksas likme (EUR/h) | H13: Darba alga (EUR) | I13: Būvizstrādājumi (EUR) | J13: Mehānismi (EUR) | K13: Kopā (EUR) | L13: Laika norma (c/h) | M13: Darba alga (EUR) | N13: Būvizstrādājumi (EUR) | O13: Mehānismi (EUR) | P13: Kopā (EUR)
A14: 1 | B14: 2 | C14: 3 | D14: 4 | E14: 5 | F14: 6 | G14: 7 | H14: 8 | I14: 9 | J14: 10 | K14: 11 | L14: 12 | M14: 13 | N14: 14 | O14: 15 | P14: 16
A15: 1. | B15: līg.cena | C15: Četru riņķu indukcijas plīts - Whirlpool WB S2560 NE vai ekvivalents | D15: gb | E15: 8 | H15: =ROUND(F15*G15,2) -> 0 | K15: =SUM(H15:J15) -> 0 | L15: =ROUND(E15*F15,2) -> 0 | M15: =ROUND(H15*E15,2) -> 0 | N15: =ROUND(I15*E15,2) -> 0 | O15: =ROUND(J15*E15,2) -> 0 | P15: =SUM(M15:O15) -> 0
A16: 2. | B16: līg.cena | C16: Divu riņķu indukcijas plīts - Whirlpool WS Q0530 NE vai ekvivalents | D16: gb | E16: 12 | H16: =ROUND(F16*G16,2) -> 0 | K16: =SUM(H16:J16) -> 0 | L16: =ROUND(E16*F16,2) -> 0 | M16: =ROUND(H16*E16,2) -> 0 | N16: =ROUND(I16*E16,2) -> 0 | O16: =ROUND(J16*E16,2) -> 0 | P16: =SUM(M16:O16) -> 0
A17: 3. | B17: līg.cena | C17: Veļas mašīna – Whirlpool FFL 7259 W EE vai ekvivalents | D17: gb | E17: 20 | H17: =ROUND(F17*G17,2) -> 0 | K17: =SUM(H17:J17) -> 0 | L17: =ROUND(E17*F17,2) -> 0 | M17: =ROUND(H17*E17,2) -> 0 | N17: =ROUND(I17*E17,2) -> 0 | O17: =ROUND(J17*E17,2) -> 0 | P17: =SUM(M17:O17) -> 0
A18: 4. | B18: līg.cena | C18: Ledusskapis – Beko RCSA270K40SN vai ekvivalents | D18: gb | E18: 20 | H18: =ROUND(F18*G18,2) -> 0 | K18: =SUM(H18:J18) -> 0 | L18: =ROUND(E18*F18,2) -> 0 | M18: =ROUND(H18*E18,2) -> 0 | N18: =ROUND(I18*E18,2) -> 0 | O18: =ROUND(J18*E18,2) -> 0 | P18: =SUM(M18:O18) -> 0
A19: 5. | B19: līg.cena | C19: Virtuves skapji | D19: kompl. | E19: 20 | H19: =ROUND(F19*G19,2) -> 0 | K19: =SUM(H19:J19) -> 0 | L19: =ROUND(E19*F19,2) -> 0 | M19: =ROUND(H19*E19,2) -> 0 | N19: =ROUND(I19*E19,2) -> 0 | O19: =ROUND(J19*E19,2) -> 0 | P19: =SUM(M19:O19) -> 0
A20: 6. | B20: līg.cena | C20: Galdi virtuvei ar virsmu (38mm biezums) | D20: kompl. | E20: 20 | H20: =ROUND(F20*G20,2) -> 0 | K20: =SUM(H20:J20) -> 0 | L20: =ROUND(E20*F20,2) -> 0 | M20: =ROUND(H20*E20,2) -> 0 | N20: =ROUND(I20*E20,2) -> 0 | O20: =ROUND(J20*E20,2) -> 0 | P20: =SUM(M20:O20) -> 0
A21: Tiešās izmaksas kopā, t. sk. darba devēja sociālais nodoklis 24,09% | L21: =SUM(L15:L20) -> 0 | M21: =SUM(M15:M20) -> 0 | N21: =SUM(N15:N20) -> 0 | O21: =SUM(O15:O20) -> 0 | P21: =SUM(P15:P20) -> 0
A23: Sastādīja | C23: ='Kops a'!C39:H39 -> Vasilijs Ivanovs
C24: (paraksts un tā atšifrējums, datums)
A25: ='Kops a'!A42 -> Tāme sastādīta 2024. gada 26. augusta
A27: Pārbaudīja | C27: ='Kops a'!C44:H44 -> Vasilijs Ivanovs
C28: (paraksts un tā atšifrējums, datums)
A30: Sertifikāta Nr | C30: ='Kops a'!C47 -> 4-01907

Sheet kops.

Sheet Sheet2

Sheet Sheet1
A3: grad | B3: rad | D3: s | E3: шифер
A4: 26 | B4: =RADIANS(A4) -> 0.45378561 | C4: =COS(B4) -> 0.89879405 | D4: 86.85 | E4: =D4/C4 -> 96.629479
A5: 26 | B5: =RADIANS(A5) -> 0.45378561 | C5: =COS(B5) -> 0.89879405 | D5: 86.85 | E5: =D5/C5 -> 96.629479
A6: 34 | B6: =RADIANS(A6) -> 0.59341195 | C6: =COS(B6) -> 0.82903757 | D6: =142.66+24.51+34.51 -> 201.68 | E6: =D6/C6 -> 243.27004
A7: 34 | B7: =RADIANS(A7) -> 0.59341195 | C7: =COS(B7) -> 0.82903757 | D7: =142.66+24.51+34.51 -> 201.68 | E7: =D7/C7 -> 243.27004
F8: =E4+E5+E6+E7 -> 679.79903
