Workbook

Sheet Kopsavilkums
C1: 9.pielikums Iepirkumaa “Ārpuskārtas vispārceltnieciskie darbi” (iepirkuma identifikācijas Nr. SIA RNP 2024/98) nolikumam
A3: FINANŠU PEIEDĀVĀJUMS
A4: Iepirkums „Ārpuskārtas vispārceltnieciskie darbi”
A5: (iepirkuma identifikācijas Nr. SIA RNP 2024/98)
A6: Kopsavilkuma aprēķins
A8: Nr.p.k. | B8: Kods, tāmes Nr. | C8: Būvdarbu veids vai konstruktīvā elementa nosaukums | E8: Kopējā vērtējamā svērtā cena
C10: Vispārējie būvdarbi
A11: 1 | B11: 1-1 | C11: Jumtu remontdarbi | E11: ='1-1_Jumti'!J122 -> 0
A12: 2 | B12: 1-2 | C12: Fāsades remontdarbi | E12: ='1-2_Fasādes'!J83 -> 0
A13: 3 | B13: 1-3 | C13: Starppaneļu šuves remontdarbi | E13: ='1-3_Šuves'!J25 -> 0
A14: 4 | B14: 1-4 | C14: Dumvadu un ventilācijas kanālu remontdarbi | E14: ='1-4_Dūmvadi un ventilācija'!J46 -> 0
A15: 5 | B15: 1-5 | C15: Betonēšanas remontdarbi | E15: ='1-5_Betonēšana'!F89 -> 0
A16: 6 | B16: 1-6 | C16: Balkonu remontdarbi | E16: ='1-6_Balkoni'!J34 -> 0
A17: 7 | B17: 1-7 | C17: Pastiprināšanas remontdarbi | E17: ='1-7_Pastiprināšanas darbi'!J52 -> 0
A18: 8 | B18: 1-8 | C18: Logu un durvju remontdarbi | E18: ='1-8_Logi un durvis'!H35 -> 0
A19: 9 | B19: 1-9 | C19: Mehānismi | E19: ='1-9_Mehānismi'!G26 -> 0
C20: Kopā | E20: =SUM(E11:E19) -> 0
C21: Virsizdevumi % | E21: =ROUND(E20*D21%,2) -> 0
C22: t.sk.darba aizsardzība
C23: Peļņa% | E23: =ROUND(E20*D23%,2) -> 0
C24: Kopējā vērtējamā svērtā cena bez PVN* | E24: =E20+E21+E23 -> 0
A27: * | B27: Kopējā vērtējamā svērtā cena (bez PVN) tiek izmantota tikai kā piedāvājuma izvērtēšanas kritērijs. Līgums tiks slēgts par paredzamo līgumcenu (nolikuma 2.2.punkts).
B30: Sagatavoja:
C31: (Vārds, uzvārds, paraksts un tā atšifrējums, datums)

Sheet 1-1_Jumti
A2: Lokālā tāme Nr. 1-1
A3: Jumtu remontdarbi
E7: Darbu īpatsvars
E8: 0.15 | F8: 0.2 | G8: 0.4 | H8: 0.2 | I8: 0.05
A9: Nr.p.k. | B9: Būvdarbu nosaukums | C9: Mērv. | D9: Daudzums | E9: Vienības izmaksas* | J9: Svēruma kategorija
E10: Kopā (EUR) virs 100.01 vienībām | F10: Kopā (EUR) 50.01-100 vienībām | G10: Kopā (EUR) 20.01-50 vienībām | H10: Kopā (EUR) 5.01-20 vienībām | I10: Kopā (EUR) līdz 5 vienībām
B11: Demontāžas, sagatavošanas darbi
A12: 1 | B12: Esošā bitumena jumta seguma demontāža | C12: m2 | D12: 1 | J12: D
A13: 2 | B13: Esošā jumta siltumizolācijas slāņa demontāža | C13: m3 | D13: 1 | J13: D
A14: 3 | B14: Esošā jumta mīkstā siltumizolācijas slāņa demontāža | C14: m3 | D14: 1 | J14: D
A15: 4 | B15: Esošo tekņu, veidgabalu un stiprinājumu demontāža | C15: m | D15: 1 | J15: D
A16: 5 | B16: Esošo notekcauruļu, veidgabalu un stiprinājumu demontāža | C16: m | D16: 1 | J16: B
A17: 6 | B17: Esošā skārda lāseņu demontāža | C17: m | D17: 1 | J17: D
A18: 7 | B18: Esošā skārda jumta seguma demontāža | C18: m2 | D18: 1 | J18: D
A19: 8 | B19: Esošā azbesta šīfera jumta seguma akurāta demontāža | C19: m2 | D19: 1 | J19: D
A20: 9 | B20: Esošā bitumena viļņoto lokšņu jumta seguma demontāža | C20: m2 | D20: 1 | J20: D
A21: 10 | B21: Ēsošā kanalizācijas cauruļu ar veidgabaliem līdz d 50 demontāža | C21: m | D21: 1 | J21: A
A22: 11 | B22: Ēsošā kanalizācijas cauruļu ar veidgabaliem virs d.50 līdz d.100 demontāža | C22: m | D22: 1 | J22: A
A23: 12 | B23: Ēsošā kanalizācijas cauruļu ar veidgabaliem virs d.100 līdz d.160 demontāža | C23: m | D23: 1 | J23: A
... A34: 23 | B34: Esošo virsgaismas jumta lūku demontāža, vietu sagatavošana jaunu lūku montāžai | C34: m2 | D34: 1 | J34: D
B35: Mīkstā jumta seguma nomaiņa
A36: 24 | B36: Jumta seguma sakārtošana, notīrīšana pirms jumta atjaunošanas darbu veikšanas | C36: m2 | D36: 1 | J36: C
A37: 25 | B37: Jumta seguma virsmas sagatavošana ieklāšanai (mazgāšana ar augstspiediena strūklu, žāvēšana u.c.) | C37: m2 | D37: 1 | J37: C
A38: 26 | B38: Parapeta atbalsta, dēļu montāža virs jumta daļas | C38: m | D38: 1 | J38: C
A39: 27 | B39: Jumta betona plātņu virsmu gruntēšana | C39: m2 | D39: 1 | J39: C
A40: 28 | B40: Jumta betona plātņu virsmu remonts ar cementa javu | C40: m2 | D40: 1 | J40: C
A41: 29 | B41: Betona pamatkārtas (slīpuma) izveidošana, biezums līdz 50mm | C41: m2 | D41: 1 | J41: C
A42: 30 | B42: Paneļu/ķieģeļu ārējo sānu šuvju, plaisu hermetizācija | C42: m | D42: 1 | J42: C
A43: 31 | B43: Jumta piltuves montāža | C43: gb | D43: 1 | J43: C
A44: 32 | B44: Jumta pamatnes gruntēšana ar bitumena grunti | C44: m2 | D44: 1 | J44: C
A45: 33 | B45: Jumta seguma uzklāšana ar kausējamo ruberoīdu 1 kārtā plakanam jumtam | C45: m2 | D45: 1 | J45: C
A46: 34 | B46: Jumta seguma uzklāšana ar kausējamo ruberoīdu 1 kārtā dzelzsbetona riboto paneļu virsmām | C46: m2 | D46: 1 | J46: C
A47: 35 | B47: Jumta seguma uzklāšana ar kausējamo ruberoīdu 2 kārtās plakanam jumtam vasaras periodā | C47: m2 | D47: 1 | J47: C
... A59: 47 | B59: Cinkotā skārda seguma parapeta remonts un to noblīvēšana | C59: m | D59: 1 | J59: C
B60: Slīpo jumta seguma nomaiņa
A61: 48 | B61: Vējdēļu nomaiņa | C61: m | D61: 1 | J61: D
A62: 49 | B62: Dēļu klāju uzstādīšana | C62: m2 | D62: 1 | J62: E
A63: 50 | B63: Bojātā dēļu klāja nomaiņa | C63: m2 | D63: 1 | J63: E
A64: 51 | B64: Spāres remonts | C64: m2 | D64: 1 | J64: E
A65: 52 | B65: Bojāto spāru nomaiņa | C65: m | D65: 1 | J65: E
...

Sheet 1-2_Fasādes
A2: Lokālā tāme Nr. 1-2
A3: Fāsades remontdarbi
E6: Darbu īpatsvars
E7: 0.05 | F7: 0.15 | G7: 0.35 | H7: 0.35 | I7: 0.1
A8: Nr.p.k. | B8: Būvdarbu nosaukums | C8: Mērv. | D8: Daudzums | E8: Vienības izmaksas* | J8: Svēruma kategorija
E9: Kopā (EUR) virs 120.01 vienībām | F9: Kopā (EUR) 50.01-100 vienībām | G9: Kopā (EUR) 20.01-50 vienībām | H9: Kopā (EUR) 5.01-20 vienībām | I9: Kopā (EUR) līdz 5 vienībām
B10: Demontāžas darbi
A11: 1 | B11: Koka starpsienu nojaukšana | C11: m2 | D11: 1 | J11: D
A12: 2 | B12: Ķieģeļu sienu nojaukšana | C12: m2 | D12: 1 | J12: D
A13: 3 | B13: Dzelzsbetona sienas demontāža, apjoms līdz 1m3 | C13: m2 | D13: 1 | J13: D
A14: 4 | B14: Vieglbetona bloku sienu nojaukšana | C14: m2 | D14: 1 | J14: D
A15: 5 | B15: Stikla bloku demontāža | C15: m2 | D15: 1 | J15: B
A16: 6 | B16: Dēļu apšuvumu nojaukšana no sienām | C16: m2 | D16: 1 | J16: D
A17: 7 | B17: Apmetuma atskaldīšana no mūra, betona sienām | C17: m2 | D17: 1 | J17: D
A18: 8 | B18: Apmetuma atskaldīšana no koka sienām | C18: m2 | D18: 1 | J18: D
A19: 9 | B19: Flīžu seguma demontāža no sienām | C19: m2 | D19: 1 | J19: D
A20: 10 | B20: Koka karkasa demontāža | C20: m2 | D20: 1 | J20: A
A21: 11 | B21: Metāla plātņu apšuvumu nojaukšana | C21: m2 | D21: 1 | J21: A
A22: 12 | B22: Ķieģeļu sienas aizmūrēšana līdz 1m3 | C22: m3 | D22: 1 | J22: A
... A25: 15 | B25: Bojāto mūru pārmūrēšana, ieskaitot bojāto ķieģeļu izjaukšanu, sienas 1/2 ķieģeļa dziļumā | C25: m2 | D25: 1 | J25: A
B26: Fasādes darbi
A27: 16 | B27: Karkasa vai latojuma apšūšana ar profilēto metāla loksnem | C27: m2 | D27: 1 | J27: C
A28: 17 | B28: Siltumizolācijas (Ekstrudets putupolistirols) ieklāšana, biezums 100mm | C28: m2 | D28: 1 | J28: C
A29: 18 | B29: Pretvēja membrānas ieklāšana | C29: m2 | D29: 1 | J29: C
A30: 19 | B30: Sienu koka karkasu apšūšana ar vagondēļiem | C30: m2 | D30: 1 | J30: C
A31: 20 | B31: Ārsienu siltināšana ar cietām siltumizolācijas plāksnēm (akmensvate), biezums 100mm | C31: m2 | D31: 1 | J31: C
A32: 21 | B32: Ailu sānmalas vai šauras plaknes apšūšana ar puscietām vai cietām siltumizolācijas plāksnēm | C32: m2 | D32: 1 | J32: C
A33: 22 | B33: Ēkas pamatu, cokola siltināšana ar putu polistirolu | C33: m2 | D33: 1 | J33: C
A34: 23 | B34: Vieglbetona bloku sienu mūrēšana līdz 1 m3 | C34: m3 | D34: 1 | J34: C
A35: 24 | B35: Sienas virsmu armēšanas līmjavas kārtas iestrāde ar stikla šķiedras sietu | C35: m2 | D35: 1 | J35: C
A36: 25 | B36: Sienu virsmu apsišana ar plastmasas sietu | C36: m2 | D36: 1 | J36: C
A37: 26 | B37: Ailu aizmūrēšana ar stikla blokiem | C37: m2 | D37: 1 | J37: C
A38: 27 | B38: Dekoratīvo elementu virsmu gruntēšana | C38: m2 | D38: 1 | J38: C
... A61: 50 | B61: Fasādes/cokola sienu armēšanas līmjavas kārtas iestrāde ar stikla-šķiedra sietu | C61: m2 | D61: 1 | J61: E
B62: Citi darbi
A63: 87 | B63: Neklasificēti celtniecības darbi | C63: c/h | D63: 1 | F63: 0 | G63: 0 | H63: 0 | I63: 0 | J63: C
A64: 51 | B64: Caurumu līdz 15cm dziļuma aizdarīšana sienās un starpsienās, ieskaitot veidņu montāžu/demontāžu, caurumu platība līdz 0,2m2 | C64: caur. | D64: 1 | J64: C
A65: 52 | B65: Cokola lāseņa uzstādišana | C65: m | D65: 1 | J65: C
A66: 53 | B66: Šuvju gruntēšana un hermetizācija (starp cokolu un sienas paneli, platums 5cm apakšzemes daļā) | C66: m | D66: 1 | J66: C
A67: 54 | B67: Virsmu gruntēšana, hidroizolācija (2x) (cokola siena) | C67: m2 | D67: 1 | J67: C
...

Sheet 1-3_Šuves
A2: Lokālā tāme Nr. 1-3
A3: Starppaneļu šuves remontdarbi
E6: Darbu īpatsvars
E7: 0.05 | F7: 0.05 | G7: 0.35 | H7: 0.4 | I7: 0.15
A8: Nr.p.k. | B8: Būvdarbu nosaukums | C8: Mērv. | D8: Daudzums | E8: Vienības izmaksas* | J8: Svēruma kategorija
E9: Kopā (EUR) virs 150.01 vienībām | F9: Kopā (EUR) 100.01-150 vienībām | G9: Kopā (EUR) 50.01-100 vienībām | H9: Kopā (EUR) 25.01-50 vienībām | I9: Kopā (EUR) līdz 25 vienībām
B10: Demontāžas darbi
A11: 1 | B11: Sienu paneļas (kantes un sanmalas) remonts ar remontjavu | C11: m | D11: 1 | J11: D
A12: 2 | B12: Nederīgo šuvju hermetizējošā slāņa demontāža | C12: m | D12: 1 | J12: D
A13: 3 | B13: Nederīgo šuvju aizpildījumu (blīvējoša slāņa) demontāža | C13: m | D13: 1 | J13: D
A14: 4 | B14: Fasādes šuvju sagatavošana (nožāvēt, noslīpēt, notīrīt no putekļiem un u.c.) | C14: m | D14: 1 | J14: D
A15: 5 | B15: Šuvju aizpildījums ar blīvēšanas materiālu | C15: m | D15: 1 | J15: B
A16: 6 | B16: Šuvju gruntēšana un hermetizācija | C16: m | D16: 1 | J16: D
A17: 7 | B17: Neklasificēti celtniecības darbi | C17: c/h | D17: 1 | F17: 0 | G17: 0 | H17: 0 | I17: 0 | J17: C
B19: * - cenā iekļautas darba algas izmaksas, būvizstrādājumu izmaksas un mehānismu izmaksas | G19: Svēruma kategorija | H19: Sadaļas svēruma koeficients | I19: NESVĒRTU cenu summa pa kategorijām | J19: SVĒRTA cenu summa pa kategorijām
G20: E | H20: 0.1 | I20: {=SUM(IF($J$11:$J$17=$G20,$E$11:$I$17)*$E$7:$I$7)} -> 0 | J20: =H20*I20 -> 0
G21: D | H21: 0.3 | I21: {=SUM(IF($J$11:$J$17=$G21,$E$11:$I$17)*$E$7:$I$7)} -> 0 | J21: =H21*I21 -> 0
G22: C | H22: 0.5 | I22: {=SUM(IF($J$11:$J$17=$G22,$E$11:$I$17)*$E$7:$I$7)} -> 0 | J22: =H22*I22 -> 0
G23: B | H23: 0.7 | I23: {=SUM(IF($J$11:$J$17=$G23,$E$11:$I$17)*$E$7:$I$7)} -> 0 | J23: =H23*I23 -> 0
G24: A | H24: 1 | I24: {=SUM(IF($J$11:$J$17=$G24,$E$11:$I$17)*$E$7:$I$7)} -> 0 | J24: =H24*I24 -> 0
G25: Kopējā vērtējamā svērtā cena par šuvju darbiem EUR bez PVN | J25: =SUBTOTAL(9,J20:J24) -> 0

Sheet 1-4_Dūmvadi un ventilācija
A2: Lokālā tāme Nr. 1-4
A3: Dūmvadu un ventilācijas kanālu remontdarbi
E6: Darbu īpatsvars
E7: 0.05 | F7: 0.15 | G7: 0.35 | H7: 0.25 | I7: 0.2
A8: Nr.p.k. | B8: Būvdarbu nosaukums | C8: Mērv. | D8: Daudzums | E8: Vienības izmaksas* | J8: Svēruma kategorija
E9: Kopā (EUR) virs 5.01 vienībām | F9: Kopā (EUR) 1.51-5 vienībām | G9: Kopā (EUR) 0.56-1.5 vienībām | H9: Kopā (EUR) 0.26-0.55 vienībām | I9: Kopā (EUR) līdz 0.25 vienībām
B10: Demontāžas darbi
A11: 1 | B11: Šīfera jumta segumu demontāža (bojātās vietās) | C11: m2 | D11: 1 | J11: D
A12: 2 | B12: Ventilācijas izvadu betona jumtiņa demontāža | C12: m2 | D12: 1 | J12: D
A13: 3 | B13: Skārda jumta seguma demontāža | C13: m2 | D13: 1 | J13: D
A14: 4 | B14: Vecā ruberoīda demontāža | C14: m2 | D14: 1 | J14: D
A15: 5 | B15: Pagaidu platformu ap skursteņiem vai ventilācijas kanāliem izgatavošana, montāža un demontāža | C15: m2 | D15: 1 | J15: B
A16: 6 | B16: Platformas ierīkošana skursteņu vai ventilācijas kanālu remonta veikšanai (skursteņiem virs 2m augstuma) | C16: kpl | D16: 1 | J16: D
A17: 7 | B17: Ventilācijas izvadu/skursteņu mūra demontāža plakanajos jumtos | C17: m3 | D17: 1 | J17: E
A18: 8 | B18: Ventilācijas izvadu/skursteņu virs jumta daļas mūrēšana plakanajam jumtam | C18: m3 | D18: 1 | J18: D
A19: 9 | B19: Ventilācijas izvadu/skursteņu mūra demontāža slīpajam jumtam | C19: m3 | D19: 1 | J19: D
A20: 10 | B20: Ventilācijas izvadu/skursteņu virs jumta daļas mūrēšana slīpajam jumtam | C20: m3 | D20: 1 | J20: A
A21: 11 | B21: Stiegrojuma sietu uzstādīšana (izlīdzinošā slāņa ierīkošana virs ventkanāliem, iestrādājot javā FIBO bloku armatūru) | C21: m2 | D21: 1 | J21: A
A22: 12 | B22: Dūmvadu, skursteņu virsmu apmešana virs jumta konstrukcijas (izlīdzinošā slāņa ierīkošana virs ventkanāliem) | C22: m2 | D22: 1 | J22: A
... A32: 22 | B32: Virsmu krāsošana (2x) ar fasādes krāsu | C32: m2 | D32: 1 | J32: C
A33: 23 | B33: Materiālu pacelšana ar celtni | C33: c/h | D33: 1 | F33: 0 | G33: 0 | H33: 0 | I33: 0 | J33: C
A34: 24 | B34: Šifera iznešana (ar iekraušanu) | C34: m2 | D34: 1 | J34: C
A35: 25 | B35: Būvgružu savākšana un iznešana | C35: c/h | D35: 1 | F35: 0 | G35: 0 | H35: 0 | I35: 0 | J35: C
A36: 26 | B36: Būvgružu izvešana un utilizācija | C36: m3 | D36: 1 | F36: 0 | G36: 0 | H36: 0 | I36: 0 | J36: C
B37: Citi darbi
A38: 27 | B38: Neklasificēti celtniecības darbi | C38: c/h | D38: 1 | F38: 0 | G38: 0 | H38: 0 | I38: 0 | J38: C
B40: * - cenā iekļautas darba algas izmaksas, būvizstrādājumu izmaksas un mehānismu izmaksas | G40: Svēruma kategorija | H40: Sadaļas svēruma koeficients | I40: NESVĒRTU cenu summa pa kategorijām | J40: SVĒRTA cenu summa pa kategorijām
B41: =Kopsavilkums!B28 -> 0 | G41: E | H41: 0.1 | I41: {=SUM(IF($J$11:$J$38=$G41,$E$11:$I$38)*$E$7:$I$7)} -> 0 | J41: =H41*I41 -> 0
G42: D | H42: 0.3 | I42: {=SUM(IF($J$11:$J$38=$G42,$E$11:$I$38)*$E$7:$I$7)} -> 0 | J42: =H42*I42 -> 0
G43: C | H43: 0.5 | I43: {=SUM(IF($J$11:$J$38=$G43,$E$11:$I$38)*$E$7:$I$7)} -> 0 | J43: =H43*I43 -> 0
G44: B | H44: 0.7 | I44: {=SUM(IF($J$11:$J$38=$G44,$E$11:$I$38)*$E$7:$I$7)} -> 0 | J44: =H44*I44 -> 0
G45: A | H45: 1 | I45: {=SUM(IF($J$11:$J$38=$G45,$E$11:$I$38)*$E$7:$I$7)} -> 0 | J45: =H45*I45 -> 0
G46: Kopējā vērtējamā svērtā cena par dūmvadu un ventilācijas darbiem EUR bez PVN | J46: =SUBTOTAL(9,J41:J45) -> 0
E49: =E$7*E12 -> 0 | F49: =F$7*F12 -> 0 | G49: =G$7*G12 -> 0 | H49: =H$7*H12 -> 0 | I49: =I$7*I12 -> 0 | J49: =SUM(E49:I49) -> 0
E50: =E$7*E33 -> 0 | F50: =F$7*F33 -> 0 | G50: =G$7*G33 -> 0 | H50: =H$7*H33 -> 0 | I50: =I$7*I33 -> 0
E51: =E$7*E34 -> 0 | F51: =F$7*F34 -> 0 | G51: =G$7*G34 -> 0 | H51: =H$7*H34 -> 0 | I51: =I$7*I34 -> 0
E52: =E$7*E31 -> 0 | F52: =F$7*F31 -> 0 | G52: =G$7*G31 -> 0 | H52: =H$7*H31 -> 0 | I52: =I$7*I31 -> 0
E53: =E$7*E32 -> 0 | F53: =F$7*F32 -> 0 | G53: =G$7*G32 -> 0 | H53: =H$7*H32 -> 0 | I53: =I$7*I32 -> 0 | J53: =SUM(E52:I53) -> 0

Sheet 1-5_Betonēšana
A2: Lokālā tāme Nr. 1-5
A3: Lieveņu un aizsargapmales remontdarbi
A6: Nr.p.k. | B6: Būvdarbu nosaukums | C6: Mērv. | D6: Daudzums | E6: Darba alga (EUR) | F6: Būvizstrādājumi (EUR) | G6: Mehānismi (EUR) | H6: Kopā (EUR) | I6: Svēruma kategorija
B8: Demontāžas, sagatavošanas darbi
A9: 1 | B9: Betona plākšņu seguma demontāža | C9: m2 | D9: 1 | H9: =ROUND(SUM(E9:G9),2) -> 0 | I9: D
A10: 2 | B10: Ietvju bortakmeņu demontāža | C10: m | D10: 1 | H10: =ROUND(SUM(E10:G10),2) -> 0 | I10: D
A11: 3 | B11: Betona aizsargapmales demontāža, biezums līdz 100mm | C11: m2 | D11: 1 | H11: =ROUND(SUM(E11:G11),2) -> 0 | I11: D
A12: 4 | B12: Betona aizsargapmales demontāža, biezums virs 100mm | C12: m2 | D12: 1 | H12: =ROUND(SUM(E12:G12),2) -> 0 | I12: D
A13: 5 | B13: Betona bruģa seguma demontāža | C13: m2 | D13: 1 | H13: =ROUND(SUM(E13:G13),2) -> 0 | I13: B
A14: 6 | B14: Kāpņu margu demontāža | C14: m | D14: 1 | H14: =ROUND(SUM(E14:G14),2) -> 0 | I14: D
A15: 7 | B15: Augsnes kārtas noņemšana (100mm) | C15: m2 | D15: 1 | H15: =ROUND(SUM(E15:G15),2) -> 0 | I15: D
A16: 8 | B16: Betona/asfalta griešana | C16: t.m. | D16: 1 | H16: =ROUND(SUM(E16:G16),2) -> 0 | I16: D
A17: 9 | B17: Asfalta seguma demontāža | C17: m2 | D17: 1 | H17: =ROUND(SUM(E17:G17),2) -> 0 | I17: D
A18: 10 | B18: Cementa un betonu grīdu nojaukšana, biezums 50mm (lieveņu dzelzbetona plātnes (daļēji) nojaukšana) | C18: m2 | D18: 1 | H18: =ROUND(SUM(E18:G18),2) -> 0 | I18: A
A19: 11 | B19: Dzelzsbetona konstrukcijas demontāža | C19: m3 | D19: 1 | H19: =ROUND(SUM(E19:G19),2) -> 0 | I19: A
A20: 12 | B20: Mūra konstrukciju nojaukšana | C20: m3 | D20: 1 | H20: =ROUND(SUM(E20:G20),2) -> 0 | I20: A
E23: Darbu īpatsvars
E24: 0.2 | F24: 0.45 | G24: 0.35
A25: Nr.p.k. | B25: Būvdarbu nosaukums | C25: Mērv. | D25: Daudzums | E25: Vienības izmaksas* | H25: Svēruma kategorija
E26: Kopā (EUR) virs 50.01 vienībām | F26: Kopā (EUR) 20.01-50 vienībām | G26: Kopā (EUR) līdz 20 vienībām
B27: Aizsargapmales ierikošana
A28: 13 | B28: Grunts rakšana (roku darbs) un iekraušana ķerrās, pārvietojot līdz 20m attālumam (2. kat. grunts) | C28: m3 | D28: 1 | H28: D
A29: 14 | B29: Grunts rakšana (mehanizēta) | C29: m3 | D29: 1 | H29: D
A30: 15 | B30: Tranšeju, būvbedru aizbēršana ar amilti ar to blietēšanu | C30: m3 | D30: 1 | H30: D
A31: 16 | B31: Tranšeju, būvbedru aizbēršana ar šķembam ar to blietēšanu | C31: m3 | D31: 1 | H31: D
A32: 17 | B32: Grunts virsmas blietēšana ar vibroblietēm 20cm biezās kārtās (2. kat. grunts) | C32: m2 | D32: 1 | H32: B
A33: 18 | B33: Grunts atrakšana no pamatiem (roku darbs) līdz 1.0m dziļumam (2. kat. grunts) | C33: m3 | D33: 1 | H33: D
A34: 19 | B34: Smilšu pamatkārtas izveidošana ar blietēšanu, biezums līdz 100mm | C34: m3 | D34: 1 | H34: D
A35: 20 | B35: Smilšu pamatkārtas izveidošana ar blietēšanu, biezums virs 100mm | C35: m2 | D35: 1 | H35: D
A36: 21 | B36: Šķembu pamatnes izveidošana ar blietēšanu, biezums līdz 100mm | C36: m2 | D36: 1 | H36: D
A37: 22 | B37: Šķembu pamatnes izveidošana ar blietēšanu, biezums virs 100mm | C37: m2 | D37: 1 | H37: A
A38: 23 | B38: Betona aizsargapmales biezums 100mm ar slīpumu ierīkošanu (t.sk. veidņu uzstādīšana, deformācijas šuvju izveidošana ar soli līdz 2m) | C38: m2 | D38: 1 | H38: A
A39: 24 | B39: Apmaļu bloks ar ūdens novadīšanu uzstādīšana (t.sk. pamatu slāņa izveidošana) | C39: m | D39: 1 | H39: A
E43: 0.05 | F43: 0.15 | G43: 0.35 | H43: 0.25 | I43: 0.2
A44: Nr.p.k. | B44: Būvdarbu nosaukums | C44: Mērv. | D44: Daudzums | E44: Vienības izmaksas* | J44: Svēruma kategorija
E45: Kopā (EUR) virs 6.01 vienībām | F45: Kopā (EUR) 3.01-6 vienībām | G45: Kopā (EUR) 1.51-3 vienībām | H45: Kopā (EUR) 0.51-1.5 vienībām | I45: Kopā (EUR) līdz 0.5 vienībām
B46: Lieveņu un pakapienu ierikošana
A47: 25 | B47: Dēļu laipu ierīkošana lieveņu šķērsošanai | C47: m2 | D47: 1 | J47: D
A48: 26 | B48: Lieveņu nostiprinājuma (dēļu laipa) demontāža | C48: m2 | D48: 1 | J48: E
A49: 27 | B49: Koka veidņu no dēļiem izgatavošana | C49: m2 | D49: 1 | J49: E
...

Sheet 1-6_Balkoni
A2: Lokālā tāme Nr. 1-6
A3: Balkonu remontdarbi
E6: Darbu īpatsvars
E7: 0.05 | F7: 0.15 | G7: 0.4 | H7: 0.35 | I7: 0.05
A8: Nr.p.k. | B8: Būvdarbu nosaukums | C8: Mērv. | D8: Daudzums | E8: Vienības izmaksas* | J8: Svēruma kategorija
E9: Kopā (EUR) virs 50.1 vienībām | F9: Kopā (EUR) 25.01-50 vienībām | G9: Kopā (EUR) 15.01-25 vienībām | H9: Kopā (EUR) 4.01-15 vienībām | I9: Kopā (EUR) līdz 4 vienībām
B10: Demontāžas darbi
A11: 1 | B11: Veca balkona demontāža līdz 5.stāvam | C11: m2 | D11: 1 | J11: D
A12: 2 | B12: Veca balkona demontāža virs 5.stāvam | C12: m2 | D12: 1 | J12: D
A13: 3 | B13: Veca balkona konstrukcijas demontāža (betona panelis) un atjaunošana (ekrānu montāž) līdz 5.stāvam | C13: m2 | D13: 1 | J13: C
A14: 4 | B14: Veca balkona konstrukcijas demontāža (betona panelis) un atjaunošana (ekrānu montāž) virs 5.stāvam | C14: m2 | D14: 1 | J14: C
A15: 5 | B15: Veca balkona konstrukcijas demontāža (metāla margas) un atjaunošana līdz 5.stāvam | C15: m2 | D15: 1 | J15: C
A16: 6 | B16: Veca balkona konstrukcijas demontāža (metāla margas) un atjaunošana virs 5.stāvam | C16: m2 | D16: 1 | J16: C
B17: Balkonu vieglais remonts līdz 5. stāvam
A18: 7 | B18: Balkona vieglais remonts līdz 5. stāvam (dz/betona plātņu attīrīšana, esošās cementa kārtas nokalšana, atsegto armatūru apstrādāšana ar pretkorozijas sastāvu, virsmu gruntēšana, remonts ar cementa javas materiālu, virsmu apstrāde ar hidroizolācijas materiālu, balkona margas, ekrānu remonts (krāsošana) u.c.) | C18: m2 | D18: 1 | J18: B
B19: Balkonu vieglais remonts virs 5. stāvam
A20: 8 | B20: Balkona viegls remonts virs 5. stāvam (dz/betona plātņu attīrīšana, esošas cementa kārtas nokalšana, atsegto armatūru apstrādāšana ar pretkorozijas sastāvu, virsmu gruntēšana, remonts ar cementa-javas materiālu, virsmu apstrāde ar hidroizolācijas materiālu, balkona margas, ekrānu remonts (krāsošana) u.c.) | C20: m2 | D20: 1 | J20: E
B21: Citi darbi
A22: 9 | B22: Neklasificēti celtniecības darbi | C22: c/h | D22: 1 | F22: 0 | G22: 0 | H22: 0 | I22: 0 | J22: C
A23: 10 | B23: Aizsargsietu ierīkošana ap balkona konstrukciju (bīstamības novēršanai) | C23: m2 | D23: 1 | J23: A
A24: 11 | B24: Pacēlais līdz 5. stāvam | C24: c/h | D24: 1 | F24: 0 | G24: 0 | H24: 0 | I24: 0 | J24: C
A25: 13 | B25: Pacēlais virs 5. stāvam | C25: c/h | D25: 1 | F25: 0 | G25: 0 | H25: 0 | I25: 0 | J25: C
A26: 14 | B26: Būvgružu izvešana un utilizācija | C26: m3 | D26: 1 | F26: 0 | G26: 0 | H26: 0 | I26: 0 | J26: E
B28: * - cenā iekļautas darba algas izmaksas, būvizstrādājumu izmaksas un mehānismu izmaksas | G28: Svēruma kategorija | H28: Sadaļas svēruma koeficients | I28: NESVĒRTU cenu summa pa kategorijām | J28: SVĒRTA cenu summa pa kategorijām
B29: =Kopsavilkums!B28 -> 0 | G29: E | H29: 0.1 | I29: {=SUM(IF($J$11:$J$26=$G29,$E$11:$I$26)*$E$7:$I$7)} -> 0 | J29: =H29*I29 -> 0
G30: D | H30: 0.3 | I30: {=SUM(IF($J$11:$J$26=$G30,$E$11:$I$26)*$E$7:$I$7)} -> 0 | J30: =H30*I30 -> 0
G31: C | H31: 0.5 | I31: {=SUM(IF($J$11:$J$26=$G31,$E$11:$I$26)*$E$7:$I$7)} -> 0 | J31: =H31*I31 -> 0
G32: B | H32: 0.7 | I32: {=SUM(IF($J$11:$J$26=$G32,$E$11:$I$26)*$E$7:$I$7)} -> 0 | J32: =H32*I32 -> 0
G33: A | H33: 1 | I33: {=SUM(IF($J$11:$J$26=$G33,$E$11:$I$26)*$E$7:$I$7)} -> 0 | J33: =H33*I33 -> 0
G34: Kopējā vērtējamā svērtā cena par balkonu darbiem EUR bez PVN | J34: =SUBTOTAL(9,J29:J33) -> 0
E39: =E13*E$7 -> 0 | F39: =F13*F$7 -> 0 | G39: =G13*G$7 -> 0 | H39: =H13*H$7 -> 0 | I39: =I13*I$7 -> 0
E40: =E14*E$7 -> 0 | F40: =F14*F$7 -> 0 | G40: =G14*G$7 -> 0 | H40: =H14*H$7 -> 0 | I40: =I14*I$7 -> 0 | J40: =SUM(E39:I40) -> 0

Sheet 1-7_Pastiprināšanas darbi
A2: Lokālā tāme Nr. 1-7
A3: Pastiprināšanas remontdarbi
E6: Darbu īpatsvars
E7: 0.05 | F7: 0.2 | G7: 0.35 | H7: 0.35 | I7: 0.05
A8: Nr.p.k. | B8: Būvdarbu nosaukums | C8: Mērv. | D8: Daudzums | E8: Vienības izmaksas* | J8: Svēruma kategorija
E9: Kopā (EUR) virs 50.1 vienībām | F9: Kopā (EUR) 25.01-50 vienībām | G9: Kopā (EUR) 15.01-25 vienībām | H9: Kopā (EUR) 4.01-15 vienībām | I9: Kopā (EUR) līdz 4 vienībām
B10: Pārseguma un citu konstruktīvo elementu pastiprināsana un remonts
A11: 1 | B11: Beramo siltumizolācijas materiālu izņemšana no pārseguma (izdedži/smilts) | C11: m3 | D11: 1 | J11: D
A12: 2 | B12: Melno dēļu griestu demontāža | C12: m2 | D12: 1 | J12: D
A13: 3 | B13: Dēļu grīdas klāja demontāža | C13: m2 | D13: 1 | J13: D
A14: 4 | B14: Grīdas gulšņu demontāža | C14: m2 | D14: 1 | J14: D
A15: 5 | B15: Pārseguma siju protezēšana | C15: m | D15: 1 | J15: B
A16: 6 | B16: Koka siju nojaukšana | C16: m | D16: 1 | J16: D
A17: 7 | B17: Koka pārseguma bojāto siju nomaiņa (100x200mm) | C17: m | D17: 1 | J17: D
A18: 8 | B18: Melno griestu latojuma izbūve | C18: m2 | D18: 1 | J18: D
A19: 9 | B19: Melno dēļu griestu izklāšana | C19: m2 | D19: 1 | J19: D
A20: 10 | B20: Tvaika izolācijas plēves uzklāšana uz horizontālām virsmām | C20: m2 | D20: 1 | J20: A
A21: 11 | B21: Siltumizolācijas ierīkošana pārsegumā (akmensvate 200mm) | C21: m2 | D21: 1 | J21: A
A22: 12 | B22: Melnās grīdas ierīkošana no dēļiem | C22: m2 | D22: 1 | J22: A
... A41: 31 | B41: Pārsedzes pastiprināšana (savilkšana) ar metāla UPN 120 profiliem | C41: m | D41: 1 | J41: C
B42: Citi darbi
A43: 32 | B43: Būvgružu izvešana un utilizācija | C43: m3 | D43: 1 | F43: 0 | G43: 0 | H43: 0 | I43: 0 | J43: E
A44: 33 | B44: Neklasificēti celtniecības darbi | C44: c/h | D44: 1 | F44: 0 | G44: 0 | H44: 0 | I44: 0 | J44: C
B46: * - cenā iekļautas darba algas izmaksas, būvizstrādājumu izmaksas un mehānismu izmaksas | G46: Svēruma kategorija | H46: Sadaļas svēruma koeficients | I46: NESVĒRTU cenu summa pa kategorijām | J46: SVĒRTA cenu summa pa kategorijām
B47: =Kopsavilkums!B28 -> 0 | G47: E | H47: 0.1 | I47: {=SUM(IF($J$11:$J$44=$G47,$E$11:$I$44)*$E$7:$I$7)} -> 0 | J47: =H47*I47 -> 0
G48: D | H48: 0.3 | I48: {=SUM(IF($J$11:$J$44=$G48,$E$11:$I$44)*$E$7:$I$7)} -> 0 | J48: =H48*I48 -> 0
G49: C | H49: 0.5 | I49: {=SUM(IF($J$11:$J$44=$G49,$E$11:$I$44)*$E$7:$I$7)} -> 0 | J49: =H49*I49 -> 0
G50: B | H50: 0.7 | I50: {=SUM(IF($J$11:$J$44=$G50,$E$11:$I$44)*$E$7:$I$7)} -> 0 | J50: =H50*I50 -> 0
G51: A | H51: 1 | I51: {=SUM(IF($J$11:$J$44=$G51,$E$11:$I$44)*$E$7:$I$7)} -> 0 | J51: =H51*I51 -> 0
G52: Kopējā vērtējamā svērtā cena par pastiprināšanas darbiem EUR bez PVN | J52: =SUBTOTAL(9,J47:J51) -> 0

Sheet 1-8_Logi un durvis
A2: Lokālā tāme Nr. 1-8
A3: Logu un durvju remontdarbi
E6: Darbu īpatsvars
E7: 0.6 | F7: 0.3 | G7: 0.1
A8: Nr.p.k. | B8: Būvdarbu nosaukums | C8: Mērv. | D8: Daudzums | E8: Vienības izmaksas* | H8: Svēruma kategorija
E9: Kopā (EUR) virs 2.1 vienībām | F9: Kopā (EUR) 1.01-2 vienībām | G9: Kopā (EUR) līdz 1 vienībām
B10: Demontāžas darbi
A11: 1 | B11: Eosoša koka durvja demontāža | C11: m2 | D11: 1 | H11: D
A12: 2 | B12: Esoša metāliska durvja demontāža | C12: m2 | D12: 1 | H12: D
A13: 3 | B13: Esoša koka loga demontāža | C13: m2 | D13: 1 | H13: D
A14: 4 | B14: Esoša PVC loga demontāža | C14: m2 | D14: 1 | H14: D
B15: Montāžas darbi
A16: 5 | B16: Jauna PVC loga uzstadīšana (balts, verāms logs) | C16: m2 | D16: 1 | H16: D
A17: 6 | B17: Jauna PVC loga uzstadīšana (neverāms logs) | C17: m2 | D17: 1 | H17: D
A18: 7 | B18: Metāliska durvju uzstadīšana (ārejas durvis ar pievilcēju, cinkots) | C18: m2 | D18: 1 | H18: D
A19: 8 | B19: PVC durvju uzstadīšana (ārejas durvis ar pievilcēju) | C19: m2 | D19: 1 | H19: D
A20: 9 | B20: Iekšējo logu palodžu platumā līdz 40 cm montāža | C20: m | D20: 1 | H20: A
A21: 10 | B21: Jaunu logu ārējo palodžu ar stiprinājumiem montāža | C21: m | D21: 1 | H21: B
A22: 11 | B22: Loga/durvja ailes apdare ar ģipškartonu | C22: m2 | D22: 1 | H22: A
A23: 12 | B23: Loga/durvja ailes apdare ar apmetumu | C23: m2 | D23: 1 | H23: A
A24: 13 | B24: Loga/durvja ailes apdare ar krāsoto skārdu | C24: m2 | D24: 1 | H24: A
B25: Citi darbi
A26: 32 | B26: Būvgružu izvešana un utilizācija | C26: m3 | D26: 1 | F26: 0 | G26: 0 | H26: C
A27: 14 | B27: Neklasificēti celtniecības darbi | C27: c/h | D27: 1 | F27: 0 | G27: 0 | H27: C
B29: * - cenā iekļautas darba algas izmaksas, būvizstrādājumu izmaksas un mehānismu izmaksas | E29: Svēruma kategorija | F29: Sadaļas svēruma koeficients | G29: NESVĒRTU cenu summa pa kategorijām | H29: SVĒRTA cenu summa pa kategorijām
B30: =Kopsavilkums!B28 -> 0 | E30: E | F30: 0.1 | G30: {=SUM(IF($H$11:$H$27=$E30,$E$11:$G$27)*$E$7:$G$7)} -> 0 | H30: =F30*G30 -> 0
E31: D | F31: 0.3 | G31: {=SUM(IF($H$11:$H$27=$E31,$E$11:$G$27)*$E$7:$G$7)} -> 0 | H31: =F31*G31 -> 0
E32: C | F32: 0.5 | G32: {=SUM(IF($H$11:$H$27=$E32,$E$11:$G$27)*$E$7:$G$7)} -> 0 | H32: =F32*G32 -> 0
E33: B | F33: 0.7 | G33: {=SUM(IF($H$11:$H$27=$E33,$E$11:$G$27)*$E$7:$G$7)} -> 0 | H33: =F33*G33 -> 0
E34: A | F34: 1 | G34: {=SUM(IF($H$11:$H$27=$E34,$E$11:$G$27)*$E$7:$G$7)} -> 0 | H34: =F34*G34 -> 0
E35: Kopējā vērtējamā svērtā cena par logu un durvju darbiem EUR bez PVN | H35: =SUBTOTAL(9,H30:H34) -> 0

Sheet 1-9_Mehānismi
A2: Lokālā tāme Nr. 1-9
A3: Mehānismi
A6: Nr.p.k. | B6: Būvdarbu nosaukums | C6: Mērv. | D6: Daudzums | E6: Vienības izmaksas* | G6: Svēruma kategorija
E7: Mehānismi (EUR) | F7: Kopā (EUR) virs 50.1 vienībām
B8: Mehānismi | F8: =ROUND(SUM(E8:E8),2) -> 0
A9: 1 | B9: Pārvietojama metāla žoga uzstādīšana | C9: m/mēn | D9: 1 | G9: D
A10: 2 | B10: Pārvietojamas tualetes noma | C10: mēn | D10: 1 | F10: =ROUND(SUM(E10:E10),2) -> 0 | G10: D
A11: 3 | B11: Sastatņu montāža, demontāža, noma | C11: m²/mēn | D11: 1 | F11: =ROUND(SUM(E11:E11),2) -> 0 | G11: D
A12: 4 | B12: Alumīnija torņa montāža, demontāža, noma | C12: m²/mēn | D12: 1 | F12: =ROUND(SUM(E12:E12),2) -> 0 | G12: D
A13: 5 | B13: Autoceltnis līdz 22 m garo izlici | C13: c/h | D13: 1 | F13: =ROUND(SUM(E13:E13),2) -> 0 | G13: B
A14: 6 | B14: Autoceltnis līdz 32 m garo izlici | C14: c/h | D14: 1 | F14: =ROUND(SUM(E14:E14),2) -> 0 | G14: D
A15: 7 | B15: Pacēlājs, celšanas augstums līdz 22 m | C15: c/h | D15: 1 | F15: =ROUND(SUM(E15:E15),2) -> 0 | G15: D
A16: 8 | B16: Pacēlājs, celšanas augstums līdz 32 m | C16: c/h | D16: 1 | F16: =ROUND(SUM(E16:E16),2) -> 0 | G16: D
A17: 9 | B17: Teleskopiskajs iekravējs līdz 16m | C17: c/h | D17: 1 | F17: =ROUND(SUM(E17:E17),2) -> 0 | G17: D
A18: 10 | B18: Kompaktiekrāvējs | C18: c/h | D18: 1 | F18: =ROUND(SUM(E18:E18),2) -> 0 | G18: A
B20: * - cenā iekļautas darba algas izmaksas, būvizstrādājumu izmaksas un mehānismu izmaksas | D20: Svēruma kategorija | E20: Sadaļas svēruma koeficients | F20: NESVĒRTU cenu summa pa kategorijām | G20: SVĒRTA cenu summa pa kategorijām
B21: =Kopsavilkums!B28 -> 0 | D21: E | E21: 0.1 | F21: =SUMIF($G$9:$G$18,D21,$F$9:$F$18) -> 0 | G21: =E21*F21 -> 0
D22: D | E22: 0.3 | F22: =SUMIF($G$9:$G$18,D22,$F$9:$F$18) -> 0 | G22: =E22*F22 -> 0
D23: C | E23: 0.5 | F23: =SUMIF($G$9:$G$18,D23,$F$9:$F$18) -> 0 | G23: =E23*F23 -> 0
D24: B | E24: 0.7 | F24: =SUMIF($G$9:$G$18,D24,$F$9:$F$18) -> 0 | G24: =E24*F24 -> 0
D25: A | E25: 1 | F25: =SUMIF($G$9:$G$18,D25,$F$9:$F$18) -> 0 | G25: =E25*F25 -> 0
D26: Kopējā vērtējamā svērtā cena par mehanismiem EUR bez PVN | G26: =SUBTOTAL(9,G21:G25) -> 0
