Workbook

Sheet Koptāme
E1: Pielikums Nr.1
C2: Aktualizēts: 03.01.2025
C3: CK 2025/1/AK
E4: “Vieglo automašīnu stāvlaukuma izbūve SIA “Cēsu klīnika” objektos”
D7: APSTIPRINU
D9: _______________________________________
D10: (pasūtītāja paraksts un tā atšifrējums) Z.v.
D12: ________. gada ____. ____________
A14: Būvniecības koptāme
A16: Objekta nosaukums: Vieglo automašīnu stāvlaukuma izbūve SIA “Cēsu klīnika”
A17: Būves adrese: Cēsis, Slimnīcas iela 9 un Turaidas iela 5a
A18: Pasūtījuma Nr. CK 2025/1/AK
A20: Nr. p. k. | B20: Objekta nosaukums | D20: Objekta izmaksas (euro)
A21: 1 | B21: Vieglo automašīnu stāvlaukuma izbūve SIA “Cēsu klīnika” objektos | D21: =Kopsavilkums!E17 -> 0
A22: Kopā | D22: =D21 -> 0
A24: PVN (21,00%) | D24: =ROUND(D22*21%,2) -> 0
A26: Sastādīja:__________________________________________
A27: (paraksts un tā atšifrējums, datums)
A29: Sertifikāta Nr.
A31: Tāme sastādīta
A33: Pārbaudīja:_________________________________________
A34: (paraksts un tā atšifrējums, datums)
A36: Sertifikāta Nr.

Sheet Kopsavilkums
A1: Kopsavilkuma aprēķins Nr.1
A2: Vieglo automašīnu stāvlaukuma izbūve SIA “Cēsu klīnika” objektos
A3: (būvdarbu veids vai konstruktīvā elementa nosaukums)
A5: =Koptāme!A16 -> Objekta nosaukums: Vieglo automašīnu stāvlaukuma izbūve SIA “Cēsu klīnika”
A6: =Koptāme!A17 -> Būves adrese: Cēsis, Slimnīcas iela 9 un Turaidas iela 5a
A7: =Koptāme!A18 -> Pasūtījuma Nr. CK 2025/1/AK
D8: Par kopējo summu (euro) | E8: =E17 -> 0
D9: Kopējā darbietilpība (c/h) | E9: =I13 -> 0
A10: Nr.p.k. | B10: Būvdarbu veids vai konstruktīvā elementa nosaukums | E10: Tāmes izmaksas | F10: Tai skaitā | I10: Darbietilpība (c/h)
F11: darba alga | G11: būvizstrādājumi | H11: mehānismi
A12: 1 | B12: Vieglo automašīnu stāvlaukuma izbūve | E12: =SUM(F12:H12) -> 0 | F12: =tāme1!M112 -> 0 | G12: =tāme1!N112 -> 0 | H12: =tāme1!O112 -> 0 | I12: =tāme1!L112 -> 0
A13: Kopā | E13: =SUM(F13:H13) -> 0 | F13: =SUM(F12:F12) -> 0 | G13: =SUM(G12:G12) -> 0 | H13: =SUM(H12:H12) -> 0 | I13: =SUM(I12:I12) -> 0
A14: Virsizdevumi | D14: 0 | E14: =ROUND(E13*D14,2) -> 0
A15: t.sk. darba aizsardzība | D15: 0 | E15: =ROUND(E14*D15,2) -> 0
A16: Peļņa | D16: 0 | E16: =ROUND(E13*D16,2) -> 0
A17: Pavisam kopā | E17: =E16+E14+E13 -> 0
A20: Sastādīja:__________________________________________
A21: (paraksts un tā atšifrējums, datums)
A23: Sertifikāta
A25: Tāme sastādīta
A27: Pārbaudīja:_________________________________________
A28: (paraksts un tā atšifrējums, datums)
A30: Sertifikāta Nr.

Sheet tāme1
A1: Darbu daudzumu saraksts. Vieglo automašīnu stāvlaukuma izbūve īpašumos Slimnīcas iela 9 un Turaidas iela 5a, Cēsis, Cēsu novads.
A2: Izmaksu pozīcija | B2: Darba nosaukums | D2: Mērvienība | E2: Darba daudzums | F2: Vienības izmaksas | L2: Kopā uz visu apjomu
F3: laika norma (c/h) | G3: darba samaksas likme (euro/h) | H3: darba alga | I3: būvizstrā- dājumi | J3: mehānismi | K3: cena EUR kopā | L3: darbietilpība (c/h) | M3: darba alga | N3: būvizstrā- dājumi | O3: mehānismi | P3: summa
A4: 1 | B4: 2 | D4: 3 | E4: 4 | F4: 5 | G4: 6 | H4: 7 | I4: 8 | J4: 9 | K4: 10 | L4: 11 | M4: 12 | N4: 13 | O4: 14 | P4: 15
A5: 1 | B5: Vispārējā nodaļa
A6: 1.1 | B6: Mobilizācija, būvlaukuma ierīkošana, darbu organizācija un satiksmes organizācija būvdarbu laikā | D6: KS | E6: 1 | H6: =ROUND(F6*G6,2) -> 0 | K6: =SUM(H6:J6) -> 0 | L6: =ROUND(F6*E6,2) -> 0 | M6: =ROUND(H6*E6,2) -> 0 | N6: =ROUND(I6*E6,2) -> 0 | O6: =ROUND(J6*E6,2) -> 0 | P6: =SUM(M6:O6) -> 0
A7: 2 | B7: Dažādi darbi
A8: 2.1 | B8: Uzmērīšana un nospraušana, izpilduzmērījums pēc būvdarbu pabeigšanas | D8: KS | E8: 1 | H8: =ROUND(F8*G8,2) -> 0 | K8: =SUM(H8:J8) -> 0 | L8: =ROUND(F8*E8,2) -> 0 | M8: =ROUND(H8*E8,2) -> 0 | N8: =ROUND(I8*E8,2) -> 0 | O8: =ROUND(J8*E8,2) -> 0 | P8: =SUM(M8:O8) -> 0
A9: 2.2 | B9: Betona bruģakmens seguma nojaukšana | D9: m2 | E9: 5 | H9: =ROUND(F9*G9,2) -> 0 | K9: =SUM(H9:J9) -> 0 | L9: =ROUND(F9*E9,2) -> 0 | M9: =ROUND(H9*E9,2) -> 0 | N9: =ROUND(I9*E9,2) -> 0 | O9: =ROUND(J9*E9,2) -> 0 | P9: =SUM(M9:O9) -> 0
A10: 2.3 | B10: Asfalta seguma nojaukšana | D10: m2 | E10: 217 | H10: =ROUND(F10*G10,2) -> 0 | K10: =SUM(H10:J10) -> 0 | L10: =ROUND(F10*E10,2) -> 0 | M10: =ROUND(H10*E10,2) -> 0 | N10: =ROUND(I10*E10,2) -> 0 | O10: =ROUND(J10*E10,2) -> 0 | P10: =SUM(M10:O10) -> 0
A11: 2.4 | B11: Betona apmaļu nojaukšana | D11: m | E11: 63 | H11: =ROUND(F11*G11,2) -> 0 | K11: =SUM(H11:J11) -> 0 | L11: =ROUND(F11*E11,2) -> 0 | M11: =ROUND(H11*E11,2) -> 0 | N11: =ROUND(I11*E11,2) -> 0 | O11: =ROUND(J11*E11,2) -> 0 | P11: =SUM(M11:O11) -> 0
A12: 2.5 | B12: Ceļa zīmes ar stabu nojaukšana | D12: gab. | E12: 4 | H12: =ROUND(F12*G12,2) -> 0 | K12: =SUM(H12:J12) -> 0 | L12: =ROUND(F12*E12,2) -> 0 | M12: =ROUND(H12*E12,2) -> 0 | N12: =ROUND(I12*E12,2) -> 0 | O12: =ROUND(J12*E12,2) -> 0 | P12: =SUM(M12:O12) -> 0
A13: 2.6 | B13: Koka žoga nojaukšana | D13: m | E13: 44 | H13: =ROUND(F13*G13,2) -> 0 | K13: =SUM(H13:J13) -> 0 | L13: =ROUND(F13*E13,2) -> 0 | M13: =ROUND(H13*E13,2) -> 0 | N13: =ROUND(I13*E13,2) -> 0 | O13: =ROUND(J13*E13,2) -> 0 | P13: =SUM(M13:O13) -> 0
A14: 2.7 | B14: Betona plātņu kāpņu nojaukšana | D14: kompl. | E14: 1 | H14: =ROUND(F14*G14,2) -> 0 | K14: =SUM(H14:J14) -> 0 | L14: =ROUND(F14*E14,2) -> 0 | M14: =ROUND(H14*E14,2) -> 0 | N14: =ROUND(I14*E14,2) -> 0 | O14: =ROUND(J14*E14,2) -> 0 | P14: =SUM(M14:O14) -> 0
A15: 2.8 | B15: Betona seguma nojaukšana | D15: m2 | E15: 59 | H15: =ROUND(F15*G15,2) -> 0 | K15: =SUM(H15:J15) -> 0 | L15: =ROUND(F15*E15,2) -> 0 | M15: =ROUND(H15*E15,2) -> 0 | N15: =ROUND(I15*E15,2) -> 0 | O15: =ROUND(J15*E15,2) -> 0 | P15: =SUM(M15:O15) -> 0
A16: 2.9 | B16: Esošo akmens norobežojumu nojaukšana | D16: gab. | E16: 3 | H16: =ROUND(F16*G16,2) -> 0 | K16: =SUM(H16:J16) -> 0 | L16: =ROUND(F16*E16,2) -> 0 | M16: =ROUND(H16*E16,2) -> 0 | N16: =ROUND(I16*E16,2) -> 0 | O16: =ROUND(J16*E16,2) -> 0 | P16: =SUM(M16:O16) -> 0
A17: 2.1 | B17: Atsevišķi augošu koku ciršana ar celma novākšanu | D17: gab. | E17: 7 | H17: =ROUND(F17*G17,2) -> 0 | K17: =SUM(H17:J17) -> 0 | L17: =ROUND(F17*E17,2) -> 0 | M17: =ROUND(H17*E17,2) -> 0 | N17: =ROUND(I17*E17,2) -> 0 | O17: =ROUND(J17*E17,2) -> 0 | P17: =SUM(M17:O17) -> 0
A18: 2.11 | B18: Esošo sadzīves kanalizācijas aku pārsedzes un vāku nomaiņa pret peldošajiem, ieskaitot aku remontu | D18: gab. | E18: 2 | H18: =ROUND(F18*G18,2) -> 0 | K18: =SUM(H18:J18) -> 0 | L18: =ROUND(F18*E18,2) -> 0 | M18: =ROUND(H18*E18,2) -> 0 | N18: =ROUND(I18*E18,2) -> 0 | O18: =ROUND(J18*E18,2) -> 0 | P18: =SUM(M18:O18) -> 0
A19: 2.12 | B19: Elektroapgādes kabeļu ievietošana dalītajā aizsargcaurulē DN110, 750N | D19: m | E19: 331 | H19: =ROUND(F19*G19,2) -> 0 | K19: =SUM(H19:J19) -> 0 | L19: =ROUND(F19*E19,2) -> 0 | M19: =ROUND(H19*E19,2) -> 0 | N19: =ROUND(I19*E19,2) -> 0 | O19: =ROUND(J19*E19,2) -> 0 | P19: =SUM(M19:O19) -> 0
... A22: 2.15 | B22: Esošo ūdensvada aku lūku regulēšana atbilstoši projekta atzīmei | D22: gab. | E22: 2 | H22: =ROUND(F22*G22,2) -> 0 | K22: =SUM(H22:J22) -> 0 | L22: =ROUND(F22*E22,2) -> 0 | M22: =ROUND(H22*E22,2) -> 0 | N22: =ROUND(I22*E22,2) -> 0 | O22: =ROUND(J22*E22,2) -> 0 | P22: =SUM(M22:O22) -> 0
A23: 3 | B23: Zemes klātne
A24: 3.1 | B24: Liekās grunts (augu zemes) noņemšana | D24: m3 | E24: 38 | H24: =ROUND(F24*G24,2) -> 0 | K24: =SUM(H24:J24) -> 0 | L24: =ROUND(F24*E24,2) -> 0 | M24: =ROUND(H24*E24,2) -> 0 | N24: =ROUND(I24*E24,2) -> 0 | O24: =ROUND(J24*E24,2) -> 0 | P24: =SUM(M24:O24) -> 0
A25: 3.2 | B25: Ierakuma izstrāde | D25: m3 | E25: 2467 | H25: =ROUND(F25*G25,2) -> 0 | K25: =SUM(H25:J25) -> 0 | L25: =ROUND(F25*E25,2) -> 0 | M25: =ROUND(H25*E25,2) -> 0 | N25: =ROUND(I25*E25,2) -> 0 | O25: =ROUND(J25*E25,2) -> 0 | P25: =SUM(M25:O25) -> 0
A26: 3.3 | B26: Uzbēruma izbūve | D26: m3 | E26: 36 | H26: =ROUND(F26*G26,2) -> 0 | K26: =SUM(H26:J26) -> 0 | L26: =ROUND(F26*E26,2) -> 0 | M26: =ROUND(H26*E26,2) -> 0 | N26: =ROUND(I26*E26,2) -> 0 | O26: =ROUND(J26*E26,2) -> 0 | P26: =SUM(M26:O26) -> 0
A27: 3.4 | B27: Teritorijas nostiprināšana ar augu zemi, apsēta ar zāli, h=10 cm | D27: m2 | E27: 445 | H27: =ROUND(F27*G27,2) -> 0 | K27: =SUM(H27:J27) -> 0 | L27: =ROUND(F27*E27,2) -> 0 | M27: =ROUND(H27*E27,2) -> 0 | N27: =ROUND(I27*E27,2) -> 0 | O27: =ROUND(J27*E27,2) -> 0 | P27: =SUM(M27:O27) -> 0
A28: 4 | B28: Ar saistvielām nesaistītas konstruktīvās kārtas
A29: 4.1 | B29: Salizturīgās kārtas būvniecība | D29: m3 | E29: 1246 | H29: =ROUND(F29*G29,2) -> 0 | K29: =SUM(H29:J29) -> 0 | L29: =ROUND(F29*E29,2) -> 0 | M29: =ROUND(H29*E29,2) -> 0 | N29: =ROUND(I29*E29,2) -> 0 | O29: =ROUND(J29*E29,2) -> 0 | P29: =SUM(M29:O29) -> 0
A30: 4.2 | B30: Nesaistītu minerālmateriālu maisījuma 0/56 vai 0/63 NIII pamatu izbūve, h=20 cm | D30: m2 | E30: 2843 | H30: =ROUND(F30*G30,2) -> 0 | K30: =SUM(H30:J30) -> 0 | L30: =ROUND(F30*E30,2) -> 0 | M30: =ROUND(H30*E30,2) -> 0 | N30: =ROUND(I30*E30,2) -> 0 | O30: =ROUND(J30*E30,2) -> 0 | P30: =SUM(M30:O30) -> 0
A31: 4.3 | B31: Nesaistītu minerālmateriālu maisījuma 0/45 NII pamatu izbūve, h=10 cm | D31: m2 | E31: 2815 | H31: =ROUND(F31*G31,2) -> 0 | K31: =SUM(H31:J31) -> 0 | L31: =ROUND(F31*E31,2) -> 0 | M31: =ROUND(H31*E31,2) -> 0 | N31: =ROUND(I31*E31,2) -> 0 | O31: =ROUND(J31*E31,2) -> 0 | P31: =SUM(M31:O31) -> 0
A32: 4.4 | B32: Nesaistītu minerālmateriālu maisījuma 0/45 NIV pamatu izbūve, h=15 cm (ietve) | D32: m2 | E32: 241 | H32: =ROUND(F32*G32,2) -> 0 | K32: =SUM(H32:J32) -> 0 | L32: =ROUND(F32*E32,2) -> 0 | M32: =ROUND(H32*E32,2) -> 0 | N32: =ROUND(I32*E32,2) -> 0 | O32: =ROUND(J32*E32,2) -> 0 | P32: =SUM(M32:O32) -> 0
A33: 4.5 | B33: Otreiz izmantojamo drupināto būvgružu izmantošana pamatnes izbūvē, kas iegūti no Projekta "Cēsu klīnikas Bērnu veselības centra dienas stacionāra un rehabilitācijas pakalpojuma pilnveidošana un infrastruktūras atjaunošana", Nr.4.1.1.3.i.0/1/23/I/CFLA/030 | D33: m3 | E33: 150 | H33: =ROUND(F33*G33,2) -> 0 | K33: =SUM(H33:J33) -> 0 | L33: =ROUND(F33*E33,2) -> 0 | M33: =ROUND(H33*E33,2) -> 0 | N33: =ROUND(I33*E33,2) -> 0 | O33: =ROUND(J33*E33,2) -> 0 | P33: =SUM(M33:O33) -> 0
A34: 4.6 | B34: Izsiju izlīdzinošā slāņa izbūve | D34: m3 | E34: 119 | H34: =ROUND(F34*G34,2) -> 0 | K34: =SUM(H34:J34) -> 0 | L34: =ROUND(F34*E34,2) -> 0 | M34: =ROUND(H34*E34,2) -> 0 | N34: =ROUND(I34*E34,2) -> 0 | O34: =ROUND(J34*E34,2) -> 0 | P34: =SUM(M34:O34) -> 0
A35: 4.7 | B35: Betona bruģakmens seguma izbūve, h=6 cm. Pelēks (ieskaitot sarkano joslu gar apmali) | D35: m2 | E35: 231 | H35: =ROUND(F35*G35,2) -> 0 | K35: =SUM(H35:J35) -> 0 | L35: =ROUND(F35*E35,2) -> 0 | M35: =ROUND(H35*E35,2) -> 0 | N35: =ROUND(I35*E35,2) -> 0 | O35: =ROUND(J35*E35,2) -> 0 | P35: =SUM(M35:O35) -> 0
A36: 4.8 | B36: Betona bruģakmens seguma izbūve, h=8 cm. Pelēks (ieskaitot melnos ieslēgumus) | D36: m2 | E36: 2134 | H36: =ROUND(F36*G36,2) -> 0 | K36: =SUM(H36:J36) -> 0 | L36: =ROUND(F36*E36,2) -> 0 | M36: =ROUND(H36*E36,2) -> 0 | N36: =ROUND(I36*E36,2) -> 0 | O36: =ROUND(J36*E36,2) -> 0 | P36: =SUM(M36:O36) -> 0
A37: 4.9 | B37: Esošā betona bruģakmens seguma pārbruģēšana, ieskaitot pamatus | D37: m2 | E37: 5 | H37: =ROUND(F37*G37,2) -> 0 | K37: =SUM(H37:J37) -> 0 | L37: =ROUND(F37*E37,2) -> 0 | M37: =ROUND(H37*E37,2) -> 0 | N37: =ROUND(I37*E37,2) -> 0 | O37: =ROUND(J37*E37,2) -> 0 | P37: =SUM(M37:O37) -> 0
A38: 4.1 | B38: Taktilā bruģa brīdinājuma joslas izbūve (dzeltens) | D38: m2 | E38: 10 | H38: =ROUND(F38*G38,2) -> 0 | K38: =SUM(H38:J38) -> 0 | L38: =ROUND(F38*E38,2) -> 0 | M38: =ROUND(H38*E38,2) -> 0 | N38: =ROUND(I38*E38,2) -> 0 | O38: =ROUND(J38*E38,2) -> 0 | P38: =SUM(M38:O38) -> 0
A39: 5 | B39: Ar saistvielām saistītas konstruktīvās kārtas
A40: 5.1 | B40: Karstā asfalta AC11surf SIII izbūve, h=4 cm | D40: m2 | E40: 551 | H40: =ROUND(F40*G40,2) -> 0 | K40: =SUM(H40:J40) -> 0 | L40: =ROUND(F40*E40,2) -> 0 | M40: =ROUND(H40*E40,2) -> 0 | N40: =ROUND(I40*E40,2) -> 0 | O40: =ROUND(J40*E40,2) -> 0 | P40: =SUM(M40:O40) -> 0
A41: 5.2 | B41: Karstā asfalta AC16 base SIV izbūve, h=5 cm | D41: m2 | E41: 551 | H41: =ROUND(F41*G41,2) -> 0 | K41: =SUM(H41:J41) -> 0 | L41: =ROUND(F41*E41,2) -> 0 | M41: =ROUND(H41*E41,2) -> 0 | N41: =ROUND(I41*E41,2) -> 0 | O41: =ROUND(J41*E41,2) -> 0 | P41: =SUM(M41:O41) -> 0
A42: 5.3 | B42: Divkārtu virsmas apstrāde remontzonā | D42: m2 | E42: 15 | H42: =ROUND(F42*G42,2) -> 0 | K42: =SUM(H42:J42) -> 0 | L42: =ROUND(F42*E42,2) -> 0 | M42: =ROUND(H42*E42,2) -> 0 | N42: =ROUND(I42*E42,2) -> 0 | O42: =ROUND(J42*E42,2) -> 0 | P42: =SUM(M42:O42) -> 0
A43: 6 | B43: Satiksmes aprīkojums
A44: 6.1 | B44: Betona apmales 15.22.100. uz betona C30/37 un šķembu pamata izbūve | D44: m | E44: 76 | H44: =ROUND(F44*G44,2) -> 0 | K44: =SUM(H44:J44) -> 0 | L44: =ROUND(F44*E44,2) -> 0 | M44: =ROUND(H44*E44,2) -> 0 | N44: =ROUND(I44*E44,2) -> 0 | O44: =ROUND(J44*E44,2) -> 0 | P44: =SUM(M44:O44) -> 0
A45: 6.2 | B45: Betona apmales 15.30.100. uz betona C30/37 un šķembu pamata izbūve, ieskaitot slīpās | D45: m | E45: 572 | H45: =ROUND(F45*G45,2) -> 0 | K45: =SUM(H45:J45) -> 0 | L45: =ROUND(F45*E45,2) -> 0 | M45: =ROUND(H45*E45,2) -> 0 | N45: =ROUND(I45*E45,2) -> 0 | O45: =ROUND(J45*E45,2) -> 0 | P45: =SUM(M45:O45) -> 0
A46: 6.3 | B46: Betona apmales 08.20.100. uz betona C30/37 un šķembu pamata izbūve | D46: m | E46: 48 | H46: =ROUND(F46*G46,2) -> 0 | K46: =SUM(H46:J46) -> 0 | L46: =ROUND(F46*E46,2) -> 0 | M46: =ROUND(H46*E46,2) -> 0 | N46: =ROUND(I46*E46,2) -> 0 | O46: =ROUND(J46*E46,2) -> 0 | P46: =SUM(M46:O46) -> 0
A47: 6.4 | B47: Cinkota metāla ceļa zīmju staba uzstādīšana | D47: gab. | E47: 7 | H47: =ROUND(F47*G47,2) -> 0 | K47: =SUM(H47:J47) -> 0 | L47: =ROUND(F47*E47,2) -> 0 | M47: =ROUND(H47*E47,2) -> 0 | N47: =ROUND(I47*E47,2) -> 0 | O47: =ROUND(J47*E47,2) -> 0 | P47: =SUM(M47:O47) -> 0
A48: 6.5 | B48: Ceļa zīmes Nr.206 uzstādīšana | D48: gab. | E48: 2 | H48: =ROUND(F48*G48,2) -> 0 | K48: =SUM(H48:J48) -> 0 | L48: =ROUND(F48*E48,2) -> 0 | M48: =ROUND(H48*E48,2) -> 0 | N48: =ROUND(I48*E48,2) -> 0 | O48: =ROUND(J48*E48,2) -> 0 | P48: =SUM(M48:O48) -> 0
A49: 6.6 | B49: Ceļa zīmes Nr.537 uzstādīšana | D49: gab. | E49: 5 | H49: =ROUND(F49*G49,2) -> 0 | K49: =SUM(H49:J49) -> 0 | L49: =ROUND(F49*E49,2) -> 0 | M49: =ROUND(H49*E49,2) -> 0 | N49: =ROUND(I49*E49,2) -> 0 | O49: =ROUND(J49*E49,2) -> 0 | P49: =SUM(M49:O49) -> 0
A50: 6.7 | B50: Papildzīmes Nr.835 uzstādīšana | D50: gab. | E50: 4 | H50: =ROUND(F50*G50,2) -> 0 | K50: =SUM(H50:J50) -> 0 | L50: =ROUND(F50*E50,2) -> 0 | M50: =ROUND(H50*E50,2) -> 0 | N50: =ROUND(I50*E50,2) -> 0 | O50: =ROUND(J50*E50,2) -> 0 | P50: =SUM(M50:O50) -> 0
A51: 6.8 | B51: Papildzīmes Nr.844 uzstādīšana | D51: gab. | E51: 1 | H51: =ROUND(F51*G51,2) -> 0 | K51: =SUM(H51:J51) -> 0 | L51: =ROUND(F51*E51,2) -> 0 | M51: =ROUND(H51*E51,2) -> 0 | N51: =ROUND(I51*E51,2) -> 0 | O51: =ROUND(J51*E51,2) -> 0 | P51: =SUM(M51:O51) -> 0
A52: 6.9 | B52: Papildzīmes Nr.849 uzstādīšana | D52: gab. | E52: 1 | H52: =ROUND(F52*G52,2) -> 0 | K52: =SUM(H52:J52) -> 0 | L52: =ROUND(F52*E52,2) -> 0 | M52: =ROUND(H52*E52,2) -> 0 | N52: =ROUND(I52*E52,2) -> 0 | O52: =ROUND(J52*E52,2) -> 0 | P52: =SUM(M52:O52) -> 0
A53: 6.1 | B53: Ceļa apzīmējumu uzklāšana no termoplasta vai aukstplastiska materiāla (balts) | D53: m2 | E53: 72 | H53: =ROUND(F53*G53,2) -> 0 | K53: =SUM(H53:J53) -> 0 | L53: =ROUND(F53*E53,2) -> 0 | M53: =ROUND(H53*E53,2) -> 0 | N53: =ROUND(I53*E53,2) -> 0 | O53: =ROUND(J53*E53,2) -> 0 | P53: =SUM(M53:O53) -> 0
A54: 6.11 | B54: Ceļa apzīmējumu uzklāšana no termoplasta vai aukstplastiska materiāla (dzeltens) | D54: m2 | E54: 6 | H54: =ROUND(F54*G54,2) -> 0 | K54: =SUM(H54:J54) -> 0 | L54: =ROUND(F54*E54,2) -> 0 | M54: =ROUND(H54*E54,2) -> 0 | N54: =ROUND(I54*E54,2) -> 0 | O54: =ROUND(J54*E54,2) -> 0 | P54: =SUM(M54:O54) -> 0
A55: 6.12 | B55: Kāpņu izbūve ar saliekamiem betona pakāpieniem un cinkota metāla margām | D55: kompl. | E55: 1 | H55: =ROUND(F55*G55,2) -> 0 | K55: =SUM(H55:J55) -> 0 | L55: =ROUND(F55*E55,2) -> 0 | M55: =ROUND(H55*E55,2) -> 0 | N55: =ROUND(I55*E55,2) -> 0 | O55: =ROUND(J55*E55,2) -> 0 | P55: =SUM(M55:O55) -> 0
A56: 7 | B56: Lietus kanalizācijas tīkli, saskaņā ar UKT daļu
B57: Zemes darbi
A58: 7.1 | B58: Tranšejas rakšana bez papildus stiprinājumiem dziļumā no 1,5-2,0m | D58: m³ | E58: 165 | H58: =ROUND(F58*G58,2) -> 0 | K58: =SUM(H58:J58) -> 0 | L58: =ROUND(F58*E58,2) -> 0 | M58: =ROUND(H58*E58,2) -> 0 | N58: =ROUND(I58*E58,2) -> 0 | O58: =ROUND(J58*E58,2) -> 0 | P58: =SUM(M58:O58) -> 0
A59: 7.2 | B59: Tranšejas rakšana attīrīšanas iekārtām, dziļums 3m | D59: m³ | E59: 70 | H59: =ROUND(F59*G59,2) -> 0 | K59: =SUM(H59:J59) -> 0 | L59: =ROUND(F59*E59,2) -> 0 | M59: =ROUND(H59*E59,2) -> 0 | N59: =ROUND(I59*E59,2) -> 0 | O59: =ROUND(J59*E59,2) -> 0 | P59: =SUM(M59:O59) -> 0
A60: 7.3 | B60: Izraktās liekās grunts transportēšana uz atbērtni (k=1,15) | D60: m³ | E60: 58 | H60: =ROUND(F60*G60,2) -> 0 | K60: =SUM(H60:J60) -> 0 | L60: =ROUND(F60*E60,2) -> 0 | M60: =ROUND(H60*E60,2) -> 0 | N60: =ROUND(I60*E60,2) -> 0 | O60: =ROUND(J60*E60,2) -> 0 | P60: =SUM(M60:O60) -> 0
A61: 7.4 | B61: Smilts pamatnes ierīkošana zem cauruļvadiem hmin=0,15m (Grunti noblīvēt līdz dabīgā blīvuma pakāpei) | D61: m³ | E61: 16 | H61: =ROUND(F61*G61,2) -> 0 | K61: =SUM(H61:J61) -> 0 | L61: =ROUND(F61*E61,2) -> 0 | M61: =ROUND(H61*E61,2) -> 0 | N61: =ROUND(I61*E61,2) -> 0 | O61: =ROUND(J61*E61,2) -> 0 | P61: =SUM(M61:O61) -> 0
A62: 7.5 | B62: Smilšu grunts apbērums, hmin=30cm (Grunti noblīvēt līdz dabīgā blīvuma pakāpei) | D62: m³ | E62: 32 | H62: =ROUND(F62*G62,2) -> 0 | K62: =SUM(H62:J62) -> 0 | L62: =ROUND(F62*E62,2) -> 0 | M62: =ROUND(H62*E62,2) -> 0 | N62: =ROUND(I62*E62,2) -> 0 | O62: =ROUND(J62*E62,2) -> 0 | P62: =SUM(M62:O62) -> 0
A63: 7.6 | B63: Būvbedru-tranšeju aizbēršana ar esošu smilšu grunti līdz projektētā seguma šķersgriezumam (Grunti noblīvēt līdz dabīgā blīvuma pakāpei) | D63: m³ | E63: 177 | H63: =ROUND(F63*G63,2) -> 0 | K63: =SUM(H63:J63) -> 0 | L63: =ROUND(F63*E63,2) -> 0 | M63: =ROUND(H63*E63,2) -> 0 | N63: =ROUND(I63*E63,2) -> 0 | O63: =ROUND(J63*E63,2) -> 0 | P63: =SUM(M63:O63) -> 0
B64: Lietus kanalizācija K2
A65: 7.7 | B65: Caurules (PP) OD160 SN8 izbūve atklātā tranšejā (Evopipes Evorain, vai ekvivalents) | D65: m | E65: 42.6 | H65: =ROUND(F65*G65,2) -> 0 | K65: =SUM(H65:J65) -> 0 | L65: =ROUND(F65*E65,2) -> 0 | M65: =ROUND(H65*E65,2) -> 0 | N65: =ROUND(I65*E65,2) -> 0 | O65: =ROUND(J65*E65,2) -> 0 | P65: =SUM(M65:O65) -> 0
A66: 7.8 | B66: Caurules (PP) OD200 SN8 izbūve atklātā tranšejā (Evopipes Evorain, vai ekvivalents) | D66: m | E66: 66.9 | H66: =ROUND(F66*G66,2) -> 0 | K66: =SUM(H66:J66) -> 0 | L66: =ROUND(F66*E66,2) -> 0 | M66: =ROUND(H66*E66,2) -> 0 | N66: =ROUND(I66*E66,2) -> 0 | O66: =ROUND(J66*E66,2) -> 0 | P66: =SUM(M66:O66) -> 0
A67: 7.9 | B67: Lietus kanalizācijas aka Ø400/315, ar atzariem DN200 (Evopipes CSB vai ekvivalents) ar kaļamā ķeta vāku, slodzes klase D400 (1,0-1,5 m dziļumā) | D67: gab. | E67: 1 | H67: =ROUND(F67*G67,2) -> 0 | K67: =SUM(H67:J67) -> 0 | L67: =ROUND(F67*E67,2) -> 0 | M67: =ROUND(H67*E67,2) -> 0 | N67: =ROUND(I67*E67,2) -> 0 | O67: =ROUND(J67*E67,2) -> 0 | P67: =SUM(M67:O67) -> 0
A68: 7.1 | B68: Lietus kanalizācijas aka Ø400/315, DN200 caurejoša (Evopipes CSS vai ekvivalents) ar kaļamā ķeta vāku, slodzes klase D400 (1,5-2,0 m dziļumā) | D68: gab. | E68: 1 | H68: =ROUND(F68*G68,2) -> 0 | K68: =SUM(H68:J68) -> 0 | L68: =ROUND(F68*E68,2) -> 0 | M68: =ROUND(H68*E68,2) -> 0 | N68: =ROUND(I68*E68,2) -> 0 | O68: =ROUND(J68*E68,2) -> 0 | P68: =SUM(M68:O68) -> 0
A69: 7.11 | B69: Lietus kanalizācijas aka Ø600/500, pamatnes tips 3BL, DN200 (Evopipes vai ekvivalents) ar kaļamā ķeta vāku, slodzes klase D400 (1,0-1,5 m dziļumā) | D69: gab. | E69: 1 | H69: =ROUND(F69*G69,2) -> 0 | K69: =SUM(H69:J69) -> 0 | L69: =ROUND(F69*E69,2) -> 0 | M69: =ROUND(H69*E69,2) -> 0 | N69: =ROUND(I69*E69,2) -> 0 | O69: =ROUND(J69*E69,2) -> 0 | P69: =SUM(M69:O69) -> 0
A70: 7.12 | B70: Lietus kanalizācijas aka Ø600/500, pamatnes tips 3BL, DN200 (Evopipes vai ekvivalents) ar kaļamā ķeta vāku, slodzes klase D400 (1,5-2,0 m dziļumā) | D70: gab. | E70: 2 | H70: =ROUND(F70*G70,2) -> 0 | K70: =SUM(H70:J70) -> 0 | L70: =ROUND(F70*E70,2) -> 0 | M70: =ROUND(H70*E70,2) -> 0 | N70: =ROUND(I70*E70,2) -> 0 | O70: =ROUND(J70*E70,2) -> 0 | P70: =SUM(M70:O70) -> 0
A71: 7.13 | B71: Lietus ūdens uztvērējaka (gūlija) Ø400/315 ar 0,5m nosēddaļu, pieslēgums DN160 ar kantainu kaļamā ķeta rāmi un resti, slodzes klase D400 (1,5-2,0 m dziļumā) | D71: gab. | E71: 7 | H71: =ROUND(F71*G71,2) -> 0 | K71: =SUM(H71:J71) -> 0 | L71: =ROUND(F71*E71,2) -> 0 | M71: =ROUND(H71*E71,2) -> 0 | N71: =ROUND(I71*E71,2) -> 0 | O71: =ROUND(J71*E71,2) -> 0 | P71: =SUM(M71:O71) -> 0
A72: 7.14 | B72: Saliekamo betona elementu grodu aka DN 1000 (2,5-3,0 m dziļumā) ar grodiem, hidroizolāciju un ķeta vāku 15 t, izbūve un montāža zaļajā zonā | D72: kompl. | E72: 1 | H72: =ROUND(F72*G72,2) -> 0 | K72: =SUM(H72:J72) -> 0 | L72: =ROUND(F72*E72,2) -> 0 | M72: =ROUND(H72*E72,2) -> 0 | N72: =ROUND(I72*E72,2) -> 0 | O72: =ROUND(J72*E72,2) -> 0 | P72: =SUM(M72:O72) -> 0
A73: 7.15 | B73: Kombinētais smilšu/eļļas daļiņu atdalītājs (Wavin Euro PEK Roo SuperKombi NS30/10/2000, vai ekvivalents), iebūve un montāža 3.0m dziļumā | D73: gab. | E73: 1 | H73: =ROUND(F73*G73,2) -> 0 | K73: =SUM(H73:J73) -> 0 | L73: =ROUND(F73*E73,2) -> 0 | M73: =ROUND(H73*E73,2) -> 0 | N73: =ROUND(I73*E73,2) -> 0 | O73: =ROUND(J73*E73,2) -> 0 | P73: =SUM(M73:O73) -> 0
A74: 7.16 | B74: Betonētas plātnes izbūve attīrīšanas iekārtu enkurošanai. Izmēri 5,8m x 1,8m x 0,15m | D74: gab. | E74: 1 | H74: =ROUND(F74*G74,2) -> 0 | K74: =SUM(H74:J74) -> 0 | L74: =ROUND(F74*E74,2) -> 0 | M74: =ROUND(H74*E74,2) -> 0 | N74: =ROUND(I74*E74,2) -> 0 | O74: =ROUND(J74*E74,2) -> 0 | P74: =SUM(M74:O74) -> 0
A75: 7.17 | B75: Diametru pāreja PP DN160/200 | D75: gab. | E75: 2 | H75: =ROUND(F75*G75,2) -> 0 | K75: =SUM(H75:J75) -> 0 | L75: =ROUND(F75*E75,2) -> 0 | M75: =ROUND(H75*E75,2) -> 0 | N75: =ROUND(I75*E75,2) -> 0 | O75: =ROUND(J75*E75,2) -> 0 | P75: =SUM(M75:O75) -> 0
A76: 7.18 | B76: PP uzmavas noslēgtapa DN200 | D76: gab. | E76: 6 | H76: =ROUND(F76*G76,2) -> 0 | K76: =SUM(H76:J76) -> 0 | L76: =ROUND(F76*E76,2) -> 0 | M76: =ROUND(H76*E76,2) -> 0 | N76: =ROUND(I76*E76,2) -> 0 | O76: =ROUND(J76*E76,2) -> 0 | P76: =SUM(M76:O76) -> 0
... A83: 7.25 | B83: Digitāla izpildmērījuma sagatavošana UKT | D83: gab. | E83: 1 | H83: =ROUND(F83*G83,2) -> 0 | K83: =SUM(H83:J83) -> 0 | L83: =ROUND(F83*E83,2) -> 0 | M83: =ROUND(H83*E83,2) -> 0 | N83: =ROUND(I83*E83,2) -> 0 | O83: =ROUND(J83*E83,2) -> 0 | P83: =SUM(M83:O83) -> 0
A84: 8 | B84: Apgaismojums. Ārējā elektroapgāde. Saskaņā ar ELT daļu. Darbu daudzumu izmaksās jāiekļauj materiāli saskaņā ar ELT daļas materiālu specifikāciju.
A85: 8.1 | B85: Bedres rakšana staba pamatnei | D85: gab. | E85: 5 | H85: =ROUND(F85*G85,2) -> 0 | K85: =SUM(H85:J85) -> 0 | L85: =ROUND(F85*E85,2) -> 0 | M85: =ROUND(H85*E85,2) -> 0 | N85: =ROUND(I85*E85,2) -> 0 | O85: =ROUND(J85*E85,2) -> 0 | P85: =SUM(M85:O85) -> 0
A86: 8.2 | B86: Staba pamata uzstādīšana gatavā bedrē | D86: gab. | E86: 5 | H86: =ROUND(F86*G86,2) -> 0 | K86: =SUM(H86:J86) -> 0 | L86: =ROUND(F86*E86,2) -> 0 | M86: =ROUND(H86*E86,2) -> 0 | N86: =ROUND(I86*E86,2) -> 0 | O86: =ROUND(J86*E86,2) -> 0 | P86: =SUM(M86:O86) -> 0
A87: 8.3 | B87: Staba montāža uz sagatavota pamata | D87: gab. | E87: 5 | H87: =ROUND(F87*G87,2) -> 0 | K87: =SUM(H87:J87) -> 0 | L87: =ROUND(F87*E87,2) -> 0 | M87: =ROUND(H87*E87,2) -> 0 | N87: =ROUND(I87*E87,2) -> 0 | O87: =ROUND(J87*E87,2) -> 0 | P87: =SUM(M87:O87) -> 0
A88: 8.4 | B88: Apgaismojuma armatūru montāža balstā | D88: gab. | E88: 8 | H88: =ROUND(F88*G88,2) -> 0 | K88: =SUM(H88:J88) -> 0 | L88: =ROUND(F88*E88,2) -> 0 | M88: =ROUND(H88*E88,2) -> 0 | N88: =ROUND(I88*E88,2) -> 0 | O88: =ROUND(J88*E88,2) -> 0 | P88: =SUM(M88:O88) -> 0
A89: 8.5 | B89: Aizsardzības automātu montāža balstā | D89: gab. | E89: 8 | H89: =ROUND(F89*G89,2) -> 0 | K89: =SUM(H89:J89) -> 0 | L89: =ROUND(F89*E89,2) -> 0 | M89: =ROUND(H89*E89,2) -> 0 | N89: =ROUND(I89*E89,2) -> 0 | O89: =ROUND(J89*E89,2) -> 0 | P89: =SUM(M89:O89) -> 0
A90: 8.6 | B90: Kabeļa izvada montāža pa fasādi un ēkā pa sienu līdz AS-1 | D90: m | E90: 8 | H90: =ROUND(F90*G90,2) -> 0 | K90: =SUM(H90:J90) -> 0 | L90: =ROUND(F90*E90,2) -> 0 | M90: =ROUND(H90*E90,2) -> 0 | N90: =ROUND(I90*E90,2) -> 0 | O90: =ROUND(J90*E90,2) -> 0 | P90: =SUM(M90:O90) -> 0
A91: 8.7 | B91: Kabeļa izvada pievienošanu AS-1 esošā ēkā | D91: kompl. | E91: 1 | H91: =ROUND(F91*G91,2) -> 0 | K91: =SUM(H91:J91) -> 0 | L91: =ROUND(F91*E91,2) -> 0 | M91: =ROUND(H91*E91,2) -> 0 | N91: =ROUND(I91*E91,2) -> 0 | O91: =ROUND(J91*E91,2) -> 0 | P91: =SUM(M91:O91) -> 0
A92: 8.8 | B92: Kabeļa kanala montāža uz fasādes kabeļā aizsardzībai | D92: kompl. | E92: 1 | H92: =ROUND(F92*G92,2) -> 0 | K92: =SUM(H92:J92) -> 0 | L92: =ROUND(F92*E92,2) -> 0 | M92: =ROUND(H92*E92,2) -> 0 | N92: =ROUND(I92*E92,2) -> 0 | O92: =ROUND(J92*E92,2) -> 0 | P92: =SUM(M92:O92) -> 0
A93: 8.9 | B93: Automāslēdžu montāža ar shēmošanu esošā AS-1 sadalnē | D93: gab. | E93: 3 | H93: =ROUND(F93*G93,2) -> 0 | K93: =SUM(H93:J93) -> 0 | L93: =ROUND(F93*E93,2) -> 0 | M93: =ROUND(H93*E93,2) -> 0 | N93: =ROUND(I93*E93,2) -> 0 | O93: =ROUND(J93*E93,2) -> 0 | P93: =SUM(M93:O93) -> 0
A94: 8.1 | B94: Kabeļa montāža stabā | D94: m. | E94: 48 | H94: =ROUND(F94*G94,2) -> 0 | K94: =SUM(H94:J94) -> 0 | L94: =ROUND(F94*E94,2) -> 0 | M94: =ROUND(H94*E94,2) -> 0 | N94: =ROUND(I94*E94,2) -> 0 | O94: =ROUND(J94*E94,2) -> 0 | P94: =SUM(M94:O94) -> 0
A95: 8.11 | B95: Pievienojuma spaiļu montāža balstā | D95: gab. | E95: 5 | H95: =ROUND(F95*G95,2) -> 0 | K95: =SUM(H95:J95) -> 0 | L95: =ROUND(F95*E95,2) -> 0 | M95: =ROUND(H95*E95,2) -> 0 | N95: =ROUND(I95*E95,2) -> 0 | O95: =ROUND(J95*E95,2) -> 0 | P95: =SUM(M95:O95) -> 0
A96: 8.12 | B96: Kabeļu galu apdares montāža, kabeļa pievienošana balstos | D96: gab. | E96: 9 | H96: =ROUND(F96*G96,2) -> 0 | K96: =SUM(H96:J96) -> 0 | L96: =ROUND(F96*E96,2) -> 0 | M96: =ROUND(H96*E96,2) -> 0 | N96: =ROUND(I96*E96,2) -> 0 | O96: =ROUND(J96*E96,2) -> 0 | P96: =SUM(M96:O96) -> 0
... A111: 8.27 | B111: Izpilddokumentācija ELT | D111: kompl. | E111: 1 | H111: =ROUND(F111*G111,2) -> 0 | K111: =SUM(H111:J111) -> 0 | L111: =ROUND(F111*E111,2) -> 0 | M111: =ROUND(H111*E111,2) -> 0 | N111: =ROUND(I111*E111,2) -> 0 | O111: =ROUND(J111*E111,2) -> 0 | P111: =SUM(M111:O111) -> 0
D112: Kopā: | L112: =SUM(L6:L111) -> 0 | M112: =SUM(M6:M111) -> 0 | N112: =SUM(N6:N111) -> 0 | O112: =SUM(O6:O111) -> 0 | P112: =SUM(P6:P111) -> 0
B113: Piezīmes:
B114: 1. Visi materiāli un darbu apraksts atbilstoši "Autoceļu būvdarbu specifikācijas 2023";
B115: 2. Katra konkrēta darba izmaksās jāparedz visi ar darba izpildi saistītie izdevumi;
B117: Sastādīja:
