Workbook

Sheet Koptāme
E1: Pielikums Nr.1
C2: Aktualizēts: 03.01.2025
C3: CK 2025/1/AK
E4: “Vieglo automašīnu stāvlaukuma izbūve SIA “Cēsu klīnika” objektos”
D7: APSTIPRINU
D9: _______________________________________
D10: (pasūtītāja paraksts un tā atšifrējums) Z.v.
D12: ________. gada ____. ____________
A14: Būvniecības koptāme
A16: Objekta nosaukums: Vieglo automašīnu stāvlaukuma izbūve SIA “Cēsu klīnika”
A17: Būves adrese: Cēsis, Slimnīcas iela 9 un Turaidas iela 5a
A18: Pasūtījuma Nr. CK 2025/1/AK
A20: Nr. p. k. | B20: Objekta nosaukums | D20: Objekta izmaksas (euro)
A21: 1 | B21: Vieglo automašīnu stāvlaukuma izbūve SIA “Cēsu klīnika” objektos | D21: =Kopsavilkums!E17 -> 0
A22: Kopā | D22: =D21 -> 0
A24: PVN (21,00%) | D24: =ROUND(D22*21%,2) -> 0
A26: Sastādīja:__________________________________________
A27: (paraksts un tā atšifrējums, datums)
A29: Sertifikāta Nr.
A31: Tāme sastādīta
A33: Pārbaudīja:_________________________________________
A34: (paraksts un tā atšifrējums, datums)
A36: Sertifikāta Nr.

Sheet Kopsavilkums
A1: Kopsavilkuma aprēķins Nr.1
A2: Vieglo automašīnu stāvlaukuma izbūve SIA “Cēsu klīnika” objektos
A3: (būvdarbu veids vai konstruktīvā elementa nosaukums)
A5: =Koptāme!A16 -> Objekta nosaukums: Vieglo automašīnu stāvlaukuma izbūve SIA “Cēsu klīnika”
A6: =Koptāme!A17 -> Būves adrese: Cēsis, Slimnīcas iela 9 un Turaidas iela 5a
A7: =Koptāme!A18 -> Pasūtījuma Nr. CK 2025/1/AK
D8: Par kopējo summu (euro) | E8: =E17 -> 0
D9: Kopējā darbietilpība (c/h) | E9: =I13 -> 0
A10: Nr.p.k. | B10: Būvdarbu veids vai konstruktīvā elementa nosaukums | E10: Tāmes izmaksas | F10: Tai skaitā | I10: Darbietilpība (c/h)
F11: darba alga | G11: būvizstrādājumi | H11: mehānismi
A12: 1 | B12: Vieglo automašīnu stāvlaukuma izbūve | E12: =SUM(F12:H12) -> 0 | F12: =tāme1!M112 -> 0 | G12: =tāme1!N112 -> 0 | H12: =tāme1!O112 -> 0 | I12: =tāme1!L112 -> 0
A13: Kopā | E13: =SUM(F13:H13) -> 0 | F13: =SUM(F12:F12) -> 0 | G13: =SUM(G12:G12) -> 0 | H13: =SUM(H12:H12) -> 0 | I13: =SUM(I12:I12) -> 0
A14: Virsizdevumi | D14: 0 | E14: =ROUND(E13*D14,2) -> 0
A15: t.sk. darba aizsardzība | D15: 0 | E15: =ROUND(E14*D15,2) -> 0
A16: Peļņa | D16: 0 | E16: =ROUND(E13*D16,2) -> 0
A17: Pavisam kopā | E17: =E16+E14+E13 -> 0
A20: Sastādīja:__________________________________________
A21: (paraksts un tā atšifrējums, datums)
A23: Sertifikāta
A25: Tāme sastādīta
A27: Pārbaudīja:_________________________________________
A28: (paraksts un tā atšifrējums, datums)
A30: Sertifikāta Nr.

Sheet tāme1
A1: Darbu daudzumu saraksts. Vieglo automašīnu stāvlaukuma izbūve īpašumos Slimnīcas iela 9 un Turaidas iela 5a, Cēsis, Cēsu novads.
A2: Izmaksu pozīcija | B2: Darba nosaukums | D2: Mērvienība | E2: Darba daudzums | F2: Vienības izmaksas | L2: Kopā uz visu apjomu
F3: laika norma (c/h) | G3: darba samaksas likme (euro/h) | H3: darba alga | I3: būvizstrā- dājumi | J3: mehānismi | K3: cena EUR kopā | L3: darbietilpība (c/h) | M3: darba alga | N3: būvizstrā- dājumi | O3: mehānismi | P3: summa
A4: 1 | B4: 2 | D4: 3 | E4: 4 | F4: 5 | G4: 6 | H4: 7 | I4: 8 | J4: 9 | K4: 10 | L4: 11 | M4: 12 | N4: 13 | O4: 14 | P4: 15
A5: 1 | B5: Vispārējā nodaļa
A6: 1.1 | B6: Mobilizācija, būvlaukuma ierīkošana, darbu organizācija un satiksmes organizācija būvdarbu laikā | D6: KS | E6: 1 | H6: =ROUND(F6*G6,2) -> 0 | K6: =SUM(H6:J6) -> 0 | L6: =ROUND(F6*E6,2) -> 0 | M6: =ROUND(H6*E6,2) -> 0 | N6: =ROUND(I6*E6,2) -> 0 | O6: =ROUND(J6*E6,2) -> 0 | P6: =SUM(M6:O6) -> 0
A7: 2 | B7: Dažādi darbi
A8: 2.1 | B8: Uzmērīšana un nospraušana, izpilduzmērījums pēc būvdarbu pabeigšanas | D8: KS | E8: 1 | H8: =ROUND(F8*G8,2) -> 0 | K8: =SUM(H8:J8) -> 0 | L8: =ROUND(F8*E8,2) -> 0 | M8: =ROUND(H8*E8,2) -> 0 | N8: =ROUND(I8*E8,2) -> 0 | O8: =ROUND(J8*E8,2) -> 0 | P8: =SUM(M8:O8) -> 0
A9: 2.2 | B9: Betona bruģakmens seguma nojaukšana | D9: m2 | E9: 5 | H9: =ROUND(F9*G9,2) -> 0 | K9: =SUM(H9:J9) -> 0 | L9: =ROUND(F9*E9,2) -> 0 | M9: =ROUND(H9*E9,2) -> 0 | N9: =ROUND(I9*E9,2) -> 0 | O9: =ROUND(J9*E9,2) -> 0 | P9: =SUM(M9:O9) -> 0
A10: 2.3 | B10: Asfalta seguma nojaukšana | D10: m2 | E10: 217 | H10: =ROUND(F10*G10,2) -> 0 | K10: =SUM(H10:J10) -> 0 | L10: =ROUND(F10*E10,2) -> 0 | M10: =ROUND(H10*E10,2) -> 0 | N10: =ROUND(I10*E10,2) -> 0 | O10: =ROUND(J10*E10,2) -> 0 | P10: =SUM(M10:O10) -> 0
A11: 2.4 | B11: Betona apmaļu nojaukšana | D11: m | E11: 63 | H11: =ROUND(F11*G11,2) -> 0 | K11: =SUM(H11:J11) -> 0 | L11: =ROUND(F11*E11,2) -> 0 | M11: =ROUND(H11*E11,2) -> 0 | N11: =ROUND(I11*E11,2) -> 0 | O11: =ROUND(J11*E11,2) -> 0 | P11: =SUM(M11:O11) -> 0
A12: 2.5 | B12: Ceļa zīmes ar stabu nojaukšana | D12: gab. | E12: 4 | H12: =ROUND(F12*G12,2) -> 0 | K12: =SUM(H12:J12) -> 0 | L12: =ROUND(F12*E12,2) -> 0 | M12: =ROUND(H12*E12,2) -> 0 | N12: =ROUND(I12*E12,2) -> 0 | O12: =ROUND(J12*E12,2) -> 0 | P12: =SUM(M12:O12) -> 0
A13: 2.6 | B13: Koka žoga nojaukšana | D13: m | E13: 44 | H13: =ROUND(F13*G13,2) -> 0 | K13: =SUM(H13:J13) -> 0 | L13: =ROUND(F13*E13,2) -> 0 | M13: =ROUND(H13*E13,2) -> 0 | N13: =ROUND(I13*E13,2) -> 0 | O13: =ROUND(J13*E13,2) -> 0 | P13: =SUM(M13:O13) -> 0
A14: 2.7 | B14: Betona plātņu kāpņu nojaukšana | D14: kompl. | E14: 1 | H14: =ROUND(F14*G14,2) -> 0 | K14: =SUM(H14:J14) -> 0 | L14: =ROUND(F14*E14,2) -> 0 | M14: =ROUND(H14*E14,2) -> 0 | N14: =ROUND(I14*E14,2) -> 0 | O14: =ROUND(J14*E14,2) -> 0 | P14: =SUM(M14:O14) -> 0
A15: 2.8 | B15: Betona seguma nojaukšana | D15: m2 | E15: 59 | H15: =ROUND(F15*G15,2) -> 0 | K15: =SUM(H15:J15) -> 0 | L15: =ROUND(F15*E15,2) -> 0 | M15: =ROUND(H15*E15,2) -> 0 | N15: =ROUND(I15*E15,2) -> 0 | O15: =ROUND(J15*E15,2) -> 0 | P15: =SUM(M15:O15) -> 0
A16: 2.9 | B16: Esošo akmens norobežojumu nojaukšana | D16: gab. | E16: 3 | H16: =ROUND(F16*G16,2) -> 0 | K16: =SUM(H16:J16) -> 0 | L16: =ROUND(F16*E16,2) -> 0 | M16: =ROUND(H16*E16,2) -> 0 | N16: =ROUND(I16*E16,2) -> 0 | O16: =ROUND(J16*E16,2) -> 0 | P16: =SUM(M16:O16) -> 0
A17: 2.1 | B17: Atsevišķi augošu koku ciršana ar celma novākšanu | D17: gab. | E17: 7 | H17: =ROUND(F17*G17,2) -> 0 | K17: =SUM(H17:J17) -> 0 | L17: =ROUND(F17*E17,2) -> 0 | M17: =ROUND(H17*E17,2) -> 0 | N17: =ROUND(I17*E17,2) -> 0 | O17: =ROUND(J17*E17,2) -> 0 | P17: =SUM(M17:O17) -> 0
A18: 2.11 | B18: Esošo sadzīves kanalizācijas aku pārsedzes un vāku nomaiņa pret peldošajiem, ieskaitot aku remontu | D18: gab. | E18: 2 | H18: =ROUND(F18*G18,2) -> 0 | K18: =SUM(H18:J18) -> 0 | L18: =ROUND(F18*E18,2) -> 0 | M18: =ROUND(H18*E18,2) -> 0 | N18: =ROUND(I18*E18,2) -> 0 | O18: =ROUND(J18*E18,2) -> 0 | P18: =SUM(M18:O18) -> 0
A19: 2.12 | B19: Elektroapgādes kabeļu ievietošana dalītajā aizsargcaurulē DN110, 750N | D19: m | E19: 331 | H19: =ROUND(F19*G19,2) -> 0 | K19: =SUM(H19:J19) -> 0 | L19: =ROUND(F19*E19,2) -> 0 | M19: =ROUND(H19*E19,2) -> 0 | N19: =ROUND(I19*E19,2) -> 0 | O19: =ROUND(J19*E19,2) -> 0 | P19: =SUM(M19:O19) -> 0
... A22: 2.15 | B22: Esošo ūdensvada aku lūku regulēšana atbilstoši projekta atzīmei | D22: gab. | E22: 2 | H22: =ROUND(F22*G22,2) -> 0 | K22: =SUM(H22:J22) -> 0 | L22: =ROUND(F22*E22,2) -> 0 | M22: =ROUND(H22*E22,2) -> 0 | N22: =ROUND(I22*E22,2) -> 0 | O22: =ROUND(J22*E22,2) -> 0 | P22: =SUM(M22:O22) -> 0
A23: 3 | B23: Zemes klātne
A24: 3.1 | B24: Liekās grunts (augu zemes) noņemšana | D24: m3 | E24: 38 | H24: =ROUND(F24*G24,2) -> 0 | K24: =SUM(H24:J24) -> 0 | L24: =ROUND(F24*E24,2) -> 0 | M24: =ROUND(H24*E24,2) -> 0 | N24: =ROUND(I24*E24,2) -> 0 | O24: =ROUND(J24*E24,2) -> 0 | P24: =SUM(M24:O24) -> 0
A25: 3.2 | B25: Ierakuma izstrāde | D25: m3 | E25: 2467 | H25: =ROUND(F25*G25,2) -> 0 | K25: =SUM(H25:J25) -> 0 | L25: =ROUND(F25*E25,2) -> 0 | M25: =ROUND(H25*E25,2) -> 0 | N25: =ROUND(I25*E25,2) -> 0 | O25: =ROUND(J25*E25,2) -> 0 | P25: =SUM(M25:O25) -> 0
A26: 3.3 | B26: Uzbēruma izbūve | D26: m3 | E26: 36 | H26: =ROUND(F26*G26,2) -> 0 | K26: =SUM(H26:J26) -> 0 | L26: =ROUND(F26*E26,2) -> 0 | M26: =ROUND(H26*E26,2) -> 0 | N26: =ROUND(I26*E26,2) -> 0 | O26: =ROUND(J26*E26,2) -> 0 | P26: =SUM(M26:O26) -> 0
A27: 3.4 | B27: Teritorijas nostiprināšana ar augu zemi, apsēta ar zāli, h=10 cm | D27: m2 | E27: 445 | H27: =ROUND(F27*G27,2) -> 0 | K27: =SUM(H27:J27) -> 0 | L27: =ROUND(F27*E27,2) -> 0 | M27: =ROUND(H27*E27,2) -> 0 | N27: =ROUND(I27*E27,2) -> 0 | O27: =ROUND(J27*E27,2) -> 0 | P27: =SUM(M27:O27) -> 0
A28: 4 | B28: Ar saistvielām nesaistītas konstruktīvās kārtas
A29: 4.1 | B29: Salizturīgās kārtas būvniecība | D29: m3 | E29: 1246 | H29: =ROUND(F29*G29,2) -> 0 | K29: =SUM(H29:J29) -> 0 | L29: =ROUND(F29*E29,2) -> 0 | M29: =ROUND(H29*E29,2) -> 0 | N29: =ROUND(I29*E29,2) -> 0 | O29: =ROUND(J29*E29,2) -> 0 | P29: =SUM(M29:O29) -> 0
A30: 4.2 | B30: Nesaistītu minerālmateriālu maisījuma 0/56 vai 0/63 NIII pamatu izbūve, h=20 cm | D30: m2 | E30: 2843 | H30: =ROUND(F30*G30,2) -> 0 | K30: =SUM(H30:J30) -> 0 | L30: =ROUND(F30*E30,2) -> 0 | M30: =ROUND(H30*E30,2) -> 0 | N30: =ROUND(I30*E30,2) -> 0 | O30: =ROUND(J30*E30,2) -> 0 | P30: =SUM(M30:O30) -> 0
A31: 4.3 | B31: Nesaistītu minerālmateriālu maisījuma 0/45 NII pamatu izbūve, h=10 cm | D31: m2 | E31: 2815 | H31: =ROUND(F31*G31,2) -> 0 | K31: =SUM(H31:J31) -> 0 | L31: =ROUND(F31*E31,2) -> 0 | M31: =ROUND(H31*E31,2) -> 0 | N31: =ROUND(I31*E31,2) -> 0 | O31: =ROUND(J31*E31,2) -> 0 | P31: =SUM(M31:O31) -> 0
A32: 4.4 | B32: Nesaistītu minerālmateriālu maisījuma 0/45 NIV pamatu izbūve, h=15 cm (ietve) | D32: m2 | E32: 241 | H32: =ROUND(F32*G32,2) -> 0 | K32: =SUM(H32:J32) -> 0 | L32: =ROUND(F32*E32,2) -> 0 | M32: =ROUND(H32*E32,2) -> 0 | N32: =ROUND(I32*E32,2) -> 0 | O32: =ROUND(J32*E32,2) -> 0 | P32: =SUM(M32:O32) -> 0
A33: 4.5 | B33: Otreiz izmantojamo drupināto būvgružu izmantošana pamatnes izbūvē, kas iegūti no Projekta "Cēsu klīnikas Bērnu veselības centra dienas stacionāra un rehabilitācijas pakalpojuma pilnveidošana un infrastruktūras atjaunošana", Nr.4.1.1.3.i.0/1/23/I/CFLA/030 | D33: m3 | E33: 150 | H33: =ROUND(F33*G33,2) -> 0 | K33: =SUM(H33:J33) -> 0 | L33: =ROUND(F33*E33,2) -> 0 | M33: =ROUND(H33*E33,2) -> 0 | N33: =ROUND(I33*E33,2) -> 0 | O33: =ROUND(J33*E33,2) -> 0 | P33: =SUM(M33:O33) -> 0
A34: 4.6 | B34: Izsiju izlīdzinošā slāņa izbūve | D34: m3 | E34: 119 | H34: =ROUND(F34*G34,2) -> 0 | K34: =SUM(H34:J34) -> 0 | L34: =ROUND(F34*E34,2) -> 0 | M34: =ROUND(H34*E34,2) -> 0 | N34: =ROUND(I34*E34,2) -> 0 | O34: =ROUND(J34*E34,2) -> 0 | P34: =SUM(M34:O34) -> 0
A35: 4.7 | B35: Betona bruģakmens seguma izbūve, h=6 cm. Pelēks (ieskaitot sarkano joslu gar apmali) | D35: m2 | E35: 231 | H35: =ROUND(F35*G35,2) -> 0 | K35: =SUM(H35:J35) -> 0 | L35: =ROUND(F35*E35,2) -> 0 | M35: =ROUND(H35*E35,2) -> 0 | N35: =ROUND(I35*E35,2) -> 0 | O35: =ROUND(J35*E35,2) -> 0 | P35: =SUM(M35:O35) -> 0
A36: 4.8 | B36: Betona bruģakmens seguma izbūve, h=8 cm. Pelēks (ieskaitot melnos ieslēgumus) | D36: m2 | E36: 2134 | H36: =ROUND(F36*G36,2) -> 0 | K36: =SUM(H36:J36) -> 0 | L36: =ROUND(F36*E36,2) -> 0 | M36: =ROUND(H36*E36,2) -> 0 | N36: =ROUND(I36*E36,2) -> 0 | O36: =ROUND(J36*E36,2) -> 0 | P36: =SUM(M36:O36) -> 0
A37: 4.9 | B37: Esošā betona bruģakmens seguma pārbruģēšana, ieskaitot pamatus | D37: m2 | E37: 5 | H37: =ROUND(F37*G37,2) -> 0 | K37: =SUM(H37:J37) -> 0 | L37: =ROUND(F37*E37,2) -> 0 | M37: =ROUND(H37*E37,2) -> 0 | N37: =ROUND(I37*E37,2) -> 0 | O37: =ROUND(J37*E37,2) -> 0 | P37: =SUM(M37:O37) -> 0
A38: 4.1 | B38: Taktilā bruģa brīdinājuma joslas izbūve (dzeltens) | D38: m2 | E38: 10 | H38: =ROUND(F38*G38,2) -> 0 | K38: =SUM(H38:J38) -> 0 | L38: =ROUND(F38*E38,2) -> 0 | M38: =ROUND(H38*E38,2) -> 0 | N38: =ROUND(I38*E38,2) -> 0 | O38: =ROUND(J38*E38,2) -> 0 | P38: =SUM(M38:O38) -> 0
A39: 5 | B39: Ar saistvielām saistītas konstruktīvās kārtas
A40: 5.1 | B40: Karstā asfalta AC11surf SIII izbūve, h=4 cm | D40: m2 | E40: 551 | H40: =ROUND(F40*G40,2) -> 0 | K40: =SUM(H40:J40) -> 0 | L40: =ROUND(F40*E40,2) -> 0 | M40: =ROUND(H40*E40,2) -> 0 | N40: =ROUND(I40*E40,2) -> 0 | O40: =ROUND(J40*E40,2) -> 0 | P40: =SUM(M40:O40) -> 0
A41: 5.2 | B41: Karstā asfalta AC16 base SIV izbūve, h=5 cm | D41: m2 | E41: 551 | H41: =ROUND(F41*G41,2) -> 0 | K41: =SUM(H41:J41) -> 0 | L41: =ROUND(F41*E41,2) -> 0 | M41: =ROUND(H41*E41,2) -> 0 | N41: =ROUND(I41*E41,2) -> 0 | O41: =ROUND(J41*E41,2) -> 0 | P41: =SUM(M41:O41) -> 0
A42: 5.3 | B42: Divkārtu virsmas apstrāde remontzonā | D42: m2 | E42: 15 | H42: =ROUND(F42*G42,2) -> 0 | K42: =SUM(H42:J42) -> 0 | L42: =ROUND(F42*E42,2) -> 0 | M42: =ROUND(H42*E42,2) -> 0 | N42: =ROUND(I42*E42,2) -> 0 | O42: =ROUND(J42*E42,2) -> 0 | P42: =SUM(M42:O42) -> 0
...
