Workbook

Sheet Saturs
B1: Pielikums Nr. 3 atklāta konkursa „Papildus dezinfekcijas līdzekļu piegāde” (ID Nr. RAKUS 2025/2K) nolikumam
B2: Tehniskās specifikācijas pēdējās aktuālizācijas datums: 2025. gada 20. janvāris
B4: Tehniskā specifikācija / Tehniskais - finanšu piedāvājums (FORMA)
B5: Atklāts konkurss „Papildus dezinfekcijas līdzekļu piegāde”
A7: Pozīcijas Nr.p.k. | B7: Nosaukums | C7: Kopsumma par pozīciju, EUR (bez PVN)
A8: 1.pozīcija | B8: SAUDZĒJOŠS ROKU HIGIĒNISKĀS UN ĶIRURĢISKĀS DEZINFEKCIJAS LĪDZEKLIS | C8: ='1.pozīcija'!F6 -> 0
A9: 2.pozīcija | B9: ĪPAŠI SAUDZĒJOŠS ROKU HIGIĒNISKĀS UN ĶIRURĢISKĀS DEZINFEKCIJAS LĪDZEKLIS | C9: ='2.pozīcija'!F6 -> 0
A10: 3.pozīcija | B10: OPERĀCIJAS LAUKA APSTRĀDES LĪDZEKLIS (1. iekrāsots preparāts un 2. neiekrāsots preparāts) | C10: ='3.pozīcija'!F21 -> 0
A11: 4.pozīcija | B11: ĀDAS DEZINFEKCIJAS LĪDZEKLIS PIRMS INTRAVASKULĀRO KATETRU IEVIETOŠANAS | C11: ='4.pozīcija'!F6 -> 0
A12: 5.pozīcija | B12: GĻOTĀDU ANTISEPTIĶIS | C12: ='5.pozīcija'!F6 -> 0
A13: 6.pozīcija | B13: ĪPAŠI SAUDZĒJOŠS ROKU ĀDU MAZGĀJAMAIS LĪDZEKLIS | C13: ='6.pozīcija'!F6 -> 0
A14: 7.pozīcija | B14: ROKU UN ĀDAS MITRINOŠS UN REĢENERĒJOŠS KOPŠANAS LĪDZEKLIS | C14: ='7.pozīcija'!F6 -> 0
A15: 8.pozīcija | B15: LIETOŠANAI GATAVS VIRSMU DEZINFEKCIJAS LĪDZEKLIS BEZ ALKOHOLA AR SPORICĪDU EFEKTU | C15: ='8.pozīcija'!F6 -> 0
A16: 9.pozīcija | B16: NĀTRIJA HIPOHLORĪTS VIRSMU DEZINFEKCIJAI | C16: ='9.pozīcija'!F6 -> 0
A17: 10.pozīcija | B17: DEZINFEKCIJAS UN MAZGĀŠANAS LĪDZEKLIS STOMATOLOĢISKĀM UN CIRKULATĪVA TIPA IEKĀRTĀM | C17: ='10.pozīcija'!F6 -> 0
A18: 11.pozīcija | B18: ĀTRAS IEDARBĪBAS DEZINFEKCIJAS LĪDZEKLIS VIRSMĀM | C18: ='11.pozīcija'!F6 -> 0
A19: 12.pozīcija | B19: HLORU SATUROŠS DEZINFEKCIJAS LĪDZEKLIS TABLETĒS | C19: ='12.pozīcija'!F6 -> 0
A20: 13.pozīcija | B20: VIRSMU DEZINFEKCIJAS LĪDZEKĻI (KONCENTRĀTS) UN ELEKTRONISKIE DOZATORI | C20: ='13.pozīcija'!F6 -> 0
A21: 14.pozīcija | B21: VIRSMU DEZINFEKCIJAS LĪDZEKLIS UZ AKTĪVĀ SKĀBEKĻA BĀZES | C21: ='14.pozīcija'!F6 -> 0
A22: 15.pozīcija | B22: AUGSTA LĪMEŅA INSTRUMENTU DEZINFEKCIJAS LĪDZEKLIS | C22: ='15.pozīcija'!F6 -> 0
A23: 16.pozīcija | B23: AKTĪVI TĪROŠS INSTRUMENTU DEZINFEKCIJAS LĪDZEKLIS | C23: ='16.pozīcija'!F6 -> 0
A24: 17.pozīcija | B24: INSTRUMENTU DEZINFEKCIJAS LĪDZEKLIS AR ENZĪMU KOMPLEKSU | C24: ='17.pozīcija'!F6 -> 0
A25: 18.pozīcija | B25: ALKOHOLA - HLORHEKSIDĪNA MITRĀS SALVETES centrālo un perifēro KATETRU APSTRĀDEI | C25: ='18.pozīcija'!F6 -> 0
A26: 19.pozīcija | B26: ALKOHOLU NESATUROŠAS SPORICĪDĀS MITRĀS SALVETES VIRSMU APSTRĀDEI | C26: ='19.pozīcija'!F6 -> 0
A27: 20.pozīcija | B27: ALKOHOLU NESATUROŠAS MITRĀS SALVETES VIRSMU APSTRĀDEI | C27: ='20.pozīcija'!F6 -> 0
A28: 21.pozīcija | B28: ALKOHOLU SATUROŠAS MITRĀS SALVETES VIRSMU APSTRĀDEI | C28: ='21.pozīcija'!F6 -> 0
A29: 22.pozīcija | B29: ALKOHOLU SATUROŠAS MITRĀS SALVETES (1.) UN ALKOHOLU NESATUROŠAS MITRĀS SALVETES (2.) ULTRASKAŅAS MEDICĪNISKO IERĪČU APSTRĀDEI NO NEAUSTĀ MATERIĀLA | C29: ='22.pozīcija'!F17 -> 0
A30: 23.pozīcija | B30: SAUSĀS SALVETES (1.) UN TRAUKI SALVEŠU IEVIETOŠANAI (2.) VIRSMU UN MEDICĪNAS IERĪČU ĀTRAI DEZINFEKCIJAI UN TĪRĪŠANAI | C30: ='23.pozīcija'!F15 -> 0
A31: 24.pozīcija | B31: LIETOŠANAI GATAVS TRAUKU DEZINFEKCIJAS LĪDZEKLIS | C31: ='24.pozīcija'!F6 -> 0
A32: 25.pozīcija | B32: DEZINFEKCIJAS LĪDZEKĻI UN SALVETES CILVĒKA AUDU UN ŠŪNU TRANSPLANTĀCIJAS CENTRA DARBĪBAS NODROŠINĀŠANAI | C32: ='25.pozīcija'!I17 -> 0
A33: 26.pozīcija | B33: DEZINFEKCIJAS LĪDZEKĻI UN SALVETES STAC.LATVIJAS ONKOLOĢIJAS CENTRS SLĒGTA TIPA APTIEKAS ASEPTISKĀ BLOKA DARBĪBAS NODROŠINĀŠANAI | C33: ='26.pozīcija'!I12 -> 0
C34: =SUM(C8:C33) -> 0

Sheet 1.pozīcija
A1: Ražotājfirma: | B1: Aizpilda pretendents | C1: →uz Saturu
A2: Pretendents: | B2: Aizpilda pretendents
A3: Reģistrācijas Nr. | B3: Aizpilda pretendents
A4: Nr. | B4: Dezinfekcijas līdzekļa apraksts | C4: Dezinfekcijas līdzekļa nosaukums | D4: Kopējais lietošanai gatavā šķīduma plānotais daudzums (L) 24 mēnešiem | E4: Viena litra cena EUR (bez PVN) | F4: Kopējā plānotā apjoma summa, EUR (bez PVN) | G4: Piezīmes
A5: 1 | B5: 2 | C5: 3 | D5: 4 | E5: 5 | F5: 6 (4*5) | G5: 7
A6: 1. | B6: SAUDZĒJOŠS ROKU HIGIĒNISKĀS UN ĶIRURĢISKĀS DEZINFEKCIJAS LĪDZEKLIS | C6: aizpilda pretendents | D6: 50000 | E6: aizpilda pretendents | F6: =IFERROR(D6*E6,0) -> 0
B7: Iesniedzamie dokumenti: · Latvijas Vides, Ģeoloģijas un Meteoroloģijas centra biocīda inventarizācijas numurs ar apstiprinoša dokumenta kopiju · Dezinfekcijas līdzekļu ražotāja etiķetes paraugs · Drošības datu lapa latviešu valodā atbilstoša REACH Regulas 1907/2006 EK 31.pantam · Pretendenta apstiprinātu dezinfekcijas līdzekļa aprakstu ražotājvalsts un latviešu valodā · Dati par iedarbību pret veģetatīvām baktērijām, sēnītēm, HIV, hepatītu B un C vīrusiem, Mycobacteria un bezapvalka vīrusiem (rotavīrusu, norovīrusu, adenovīrusu, poliovīrusu) · Pēc konkursa komisijas pieprasījuma papildu jāiesniedz produkta mikrobioloģiskās, toksikoloģiskās un ekoloģiskās izpētes datu kopijas · Pēc konkursa komisijas pieprasījuma iesniegt līdzekli praktiskai testēšanai
B8: Sastāvs: · Dezinfekcijas līdzeklim ir jāsatur 80-90 gramus etanola uz 100 g šķīduma un roku ādu saudzējošas piedevas (t.sk.glicerīns) · Līdzeklim jābūt iedarbībai līdz 20 sekundēm pret veģetatīvām baktērijām atbilstoši EN 13727, raugiem atbilstoši EN 13624, HIV, hepatītu B un C vīrusiem, rotavīrusu, norovīrusu, kā arī Mycobacteria atbilstoši EN 14348; efektivitāte pret pilnu virucidālo spektru (adeno un poliovīrusi) – līdz 30 sek.
B9: Piezīmes: · Kolonnā Nr.5 jānorāda viena litra cena neatkarīgi no dezinfekcijas līdzekļa iepakojuma tilpuma · Jānodrošina ar elkoni darbināmiem un plaukstu darbināmiem dozatoriem, turētājiem pie virsmām (sienas, gultas), to kvalitatīva darbība un bezmaksas nomaiņa bojājuma gadījumā · Nepieciešamais, plānotais ar elkoni darbināmo dozatoru un turētāju skaits – 900; nepieciešamais, plānotais ar plaukstu darbināmo dozatoru un turētāju skaits - 4750 · Plānotais sadalījums pa tilpumiem (atkarīgs no pretendentu piedāvātajiem tilpumiem, bet jāiekļaujas kopējā gatavā škīduma plānotajā daudzumā) - 5650 gab. līdz 250 ml, 5000 gab. 500 ml, 440 gab. 1000 ml, 7100 gab. līdz 6000 ml. · Iepakojumu cenām jābūt atbilstošām norādītajai 1 l cenai, t.i. iepakojuma cena jāaprēķina ņemot vērā 1 l cenu · Līdzeklim jābūt efektīvam roku higiēniskai dezinfekcijai atbilstoši EN 1500 – 20 sek un roku ķirurģiskai dezinfekcijai atbilstoši EN12791 – 90 sek. · Dozatoriem un turētājiem ir jābūt piemērotiem 500ml un 1000ml iepakojumu lietošanai · Jānodrošina ar iespēju bez papildu izmaksām, alerģisku reakciju gadījumā mainīt līdzekli ne vairāk kā 5% no kopējā apjoma, nosaucot cita ražotāja ekvivalento līdzekli · Preces jāpiegādā iepakojumā, kas nodrošinās preces saglabāšanu tās pārvadāšanas un glabāšanas laikā atbilstoši ražotāja noteiktām prasībām un spēkā esošiem normatīvajiem aktiem · Vienas pozīcijas ietvaros visiem līdzekļiem jābūt no viena ražotāja, lai izslēgtu produktu nesavietojamību. · Piedāvājot savu produktu/preci attiecīgajā pozīcijā obligāti ir jāaizpilda visas nepieciešamās apakšpozīcijas.
A10: Iepakojuma lielums | B10: Pretendenta piedāvātais tilpums | C10: Ref.Nr. | D10: Plāntotais daudzums 24 mēnešiem, L | E10: Preces cena par vienu vienību EUR (bez PVN)
A11: līdz 250 ml | B11: aizpilda pretendents | C11: aizpilda pretendents | D11: aprēķina pretendents | E11: aizpilda pretendents
A12: 500 ml | B12: 500 ml | C12: aizpilda pretendents | D12: 5000 | E12: aizpilda pretendents
A13: 1000 ml | B13: 1000 ml | C13: aizpilda pretendents | D13: 440 | E13: aizpilda pretendents
A14: līdz 6000 ml | B14: aizpilda pretendents | C14: aizpilda pretendents | D14: aprēķina pretendents | E14: aizpilda pretendents

Sheet 2.pozīcija
A1: Ražotājfirma: | B1: Aizpilda pretendents | C1: →uz Saturu
A2: Pretendents: | B2: Aizpilda pretendents
A3: Reģistrācijas Nr. | B3: Aizpilda pretendents
A4: Nr. | B4: Dezinfekcijas līdzekļa apraksts | C4: Dezinfekcijas līdzekļa nosaukums | D4: Kopējais lietošanai gatavā šķīduma plānotais daudzums (L) 24 mēnešiem | E4: Viena litra cena EUR (bez PVN) | F4: Kopējā plānotā apjoma summa, EUR (bez PVN) | G4: Piezīmes
A5: 1 | B5: 2 | C5: 3 | D5: 4 | E5: 5 | F5: 6 (4*5) | G5: 7
A6: 2. | B6: ĪPAŠI SAUDZĒJOŠS ROKU HIGIĒNISKĀS UN ĶIRURĢISKĀS DEZINFEKCIJAS LĪDZEKLIS (GELVEIDA) | C6: aizpilda pretendents | D6: 50000 | E6: aizpilda pretendents | F6: =IFERROR(D6*E6,0) -> 0
B7: Iesniedzamie dokumenti: · Latvijas Vides, Ģeoloģijas un Meteoroloģijas centra biocīda inventarizācijas numurs ar apstiprinoša dokumenta kopiju · Dezinfekcijas līdzekļu ražotāja etiķetes paraugs · Drošības datu lapa latviešu valodā atbilstoša REACH Regulas 1907/2006 EK 31.pantam · Pretendenta apstiprinātu dezinfekcijas līdzekļa aprakstu ražotājvalsts un latviešu valodā · Dati par iedarbību pret veģetatīvām baktērijām, sēnītēm, mikobakterijām un bezapvalka vīrusiem (norovīrusu, adenovīrusu, poliovīrusu) · Pēc konkursa komisijas pieprasījuma papildu jāiesniedz produkta mikrobioloģiskās, toksikoloģiskās un ekoloģiskās izpētes datu kopijas · Pēc konkursa komisijas pieprasījuma iesniegt līdzekli praktiskai testēšanai
B8: Sastāvs: · Dezinfekcijas līdzeklim ir jāsatur vismaz 70 g etanola uz 100 g šķīduma un roku ādu saudzējošas piedevas (t.sk.glicerīns) · Jāpiedāvā hlorheksidīnu, triklozānu un kvartāros amonija savienojumus nesaturošs preparāts · Līdzeklim jābūt efektīvam roku ķirurģiskai dezinfekcijai atbilstoši EN12791 – 90 sek. · Līdzeklim jābūt iedarbībai līdz 30 sekundēm pret veģetatīvām baktērijām atbilstoši EN 13727, raugiem atbilstoši EN 13624 – 30 sek, pret Mycobacteria atbilstoši EN 14348 - 30 sek., pilna virucīdā iedarbība EN 14476 – 60 sek.
B9: Piezīmes: · Kolonnā Nr.5 jānorāda viena litra cena neatkarīgi no dezinfekcijas līdzekļa iepakojuma tilpuma · Iepakojumu cenām jābūt atbilstošām norādītajai 1 l cenai, t.i. iepakojuma cena jāaprēķina ņemot vērā 1 l cenu · Jānodrošina ar elkoni darbināmiem dozatoriem, to kvalitatīva darbība un bezmaksas nomaiņa bojājuma gadījumā · Nepieciešamais, plānotais ar elkoni darbināmo dozatoru un turētāju skaits – 900 · Dozatoriem un turētājiem ir jābūt piemērotiem 500ml un 1000ml iepakojumu lietošanai · Plānotais sadalījums pa tilpumiem (atkarīgs no pretendentu piedāvātajiem tilpumiem, bet jāiekļaujas kopējā gatavā škīduma plānotajā daudzumā) - 5650 gab. līdz 250 ml, 5000 gab. 500 ml, 440 gab. 1000 ml, 7100 gab. līdz 6000 ml. · Jānodrošina ar iespēju bez papildu izmaksām, alerģisku reakciju gadījumā mainīt līdzekli ne vairāk kā 5% no kopējā apjoma, nosaucot cita ražotāja ekvivalento līdzekli · Preces jāpiegādā iepakojumā, kas nodrošinās preces saglabāšanu tās pārvadāšanas un glabāšanas laikā atbilstoši ražotāja noteiktām prasībām un spēkā esošiem normatīvajiem aktiem · Vienas pozīcijas ietvaros visiem līdzekļiem jābūt no viena ražotāja, lai izslēgtu produktu nesavietojamību. · Piedāvājot savu produktu/preci attiecīgajā pozīcijā obligāti ir jāaizpilda visas nepieciešamās apakšpozīcijas.
A10: Iepakojuma lielums | B10: Pretendenta piedāvātais tilpums | C10: Ref.Nr. | D10: Plānotais daudzums 24 mēnešiem, L | E10: Preces cena par vienu vienību EUR (bez PVN)
A11: līdz 250 ml | B11: aizpilda pretendents | C11: aizpilda pretendents | D11: aprēķina pretendents | E11: aizpilda pretendents
A12: 500 ml | B12: 500 ml | C12: aizpilda pretendents | D12: 5000 | E12: aizpilda pretendents
A13: 1000 ml | B13: 1000 ml | C13: aizpilda pretendents | D13: 440 | E13: aizpilda pretendents
A14: līdz 6000 ml | B14: aizpilda pretendents | C14: aizpilda pretendents | D14: aprēķina pretendents | E14: aizpilda pretendents

Sheet 3.pozīcija
A1: Ražotājfirma: | B1: Aizpilda pretendents | C1: →uz Saturu
A2: Pretendents: | B2: Aizpilda pretendents
A3: Reģistrācijas Nr. | B3: Aizpilda pretendents
A4: Nr. | B4: Dezinfekcijas līdzekļa apraksts | C4: Dezinfekcijas līdzekļa nosaukums | D4: Kopējais lietošanai gatavā šķīduma plānotais daudzums (L) 24 mēnešiem | E4: Viena litra cena EUR (bez PVN) | F4: Kopējā plānotā apjoma summa, EUR (bez PVN) | G4: Piezīmes
A5: 1 | B5: 2 | C5: 3 | D5: 4 | E5: 5 | F5: 6 (4*5) | G5: 7
A6: 3. | B6: OPERĀCIJAS LAUKA APSTRĀDES LĪDZEKLIS (1. iekrāsots preparāts un 2. neiekrāsots preparāts)
A7: 3.1. | B7: Iekrāsots preparāts | C7: aizpilda pretendents | D7: 12000 | E7: aizpilda pretendents | F7: =IFERROR(D7*E7,0) -> 0
A8: 3.2. | B8: Neiekrāsots preparāts | C8: aizpilda pretendents | D8: 16000 | E8: aizpilda pretendents | F8: =IFERROR(D8*E8,0) -> 0
B9: Iesniedzamie dokumenti: • Latvijas Vides, Ģeoloģijas un Meteoroloģijas centra biocīda inventarizācijas numurs ar apstiprinoša dokumenta kopiju • Dezinfekcijas līdzekļu ražotāja etiķetes paraugs • Drošības datu lapa latviešu valodā atbilstoša REACH Regulas 1907/2006 EK 31.pantam • Pretendenta apstiprinātu dezinfekcijas līdzekļa aprakstu ražotājvalsts un latviešu valodā • Dati par iedarbību pret veģetatīvām baktērijām, sēnītēm, HIV, hepatītu B un C vīrusiem, Mycobacteria un bezapvalka vīrusiem (rotavīrusu) • Pēc konkursa komisijas pieprasījuma papildu jāiesniedz produkta mikrobioloģiskās, toksikoloģiskās un ekoloģiskās izpētes datu kopijas • Pēc konkursa komisijas pieprasījuma iesniegt līdzekli praktiskai testēšanai
B10: Sastāvs: • Dezinfekcijas līdzeklim ir jāsatur ne mazāk kā 70 g etanola, benzopropanola un izopraponola kombinācija uz 100 g šķīduma. • Jāpiedāvā jodu, triklozānu un kvartāros amonija savienojumus nesaturošs preparāts • Līdzeklim jābūt iedarbībai pret veģetatīvām baktērijām, sēnītēm, HIV, hepatītu B un C vīrusiem, Mycobacteria un bezapvalka vīrusiem (rotavīrusu)
B11: Piezīmes: • Kolonnā Nr.5 jānorāda viena litra cena neatkarīgi no dezinfekcijas līdzekļa iepakojuma tilpuma • Ekspozīcija dezinfekcijai pirms injekcijām līdz 30 sekundēm, ekspozīcija dezinfekcijai pirms operācijām līdz 3 min • Jābūt autosterilam • Jāpiedāvā visi prasītie tilpumi: līdz 500ml, 1000ml un līdz 6 litri, neiekrāsots preparāts tilpumā līdz 500 ml jāpiedāvā arī ar smidzinātāju. Iepakojumu cenām jābūt atbilstošām norādītajai 1 l cenai, t.i. iepakojuma cena jāaprēķina ņemot vērā 1 l cenu • Plānotais sadalījums pa tilpumiem iekrāsotajam preparātam (atkarīgs no pretendentu piedāvātajiem tilpumiem, bet jāiekļaujas kopējā gatavā škīduma plānotajā daudzumā) - 500 L tilpumā līdz 500 ml, 4000 L pa 1000 ml, 7500 L līdz 6000 ml; neiekrāsotajam preparātam - 1500 L līdz 500 ml, 3000 L 1000 ml, 11500 L līdz 6000 ml. • Jānodrošina ar iespēju bez papildu izmaksām, alerģisku reakciju gadījumā mainīt līdzekli ne vairāk kā 5% no kopējā apjoma, nosaucot cita ražotāja ekvivalento līdzekli • Preces jāpiegādā iepakojumā, kas nodrošinās preces saglabāšanu tās pārvadāšanas un glabāšanas laikā atbilstoši ražotāja noteiktām prasībām un spēkā esošiem normatīvajiem aktiem • Vienas pozīcijas ietvaros visiem līdzekļiem jābūt no viena ražotāja, lai izslēgtu produktu nesavietojamību. • Piedāvājot savu produktu/preci attiecīgajā pozīcijā obligāti ir jāaizpilda visas nepieciešamās apakšpozīcijas.
A12: Iepakojuma lielums | B12: Pretendenta piedāvātais tilpums | C12: Ref.Nr. | D12: Plānotais daudzums 24 mēnešiem, L | E12: Preces cena par vienu vienību EUR (bez PVN)
A13: Iekrāsots preparāts:
A14: līdz 500 ml | B14: aizpilda pretendents | C14: aizpilda pretendents | D14: aprēķina pretendents | E14: aizpilda pretendents
A15: 1000 ml | B15: 1000 ml | C15: aizpilda pretendents | D15: 4000 | E15: aizpilda pretendents
A16: līdz 6000 ml | B16: aizpilda pretendents | C16: aizpilda pretendents | D16: aprēķina pretendents | E16: aizpilda pretendents
A17: Neiekrāsots preparāts:
A18: līdz 500 ml | B18: aizpilda pretendents | C18: aizpilda pretendents | D18: 1500 | E18: aizpilda pretendents
A19: 1000 ml | B19: 1000 ml | C19: aizpilda pretendents | D19: 3000 | E19: aizpilda pretendents
A20: līdz 6000 ml | B20: aizpilda pretendents | C20: aizpilda pretendents | D20: aprēķina pretendents | E20: aizpilda pretendents
A21: Kopsumma par 3.pozīciju EUR (bez PVN): | F21: =SUM(F7:F8) -> 0

Sheet 4.pozīcija
A1: Ražotājfirma: | B1: Aizpilda pretendents | C1: →uz Saturu
A2: Pretendents: | B2: Aizpilda pretendents
A3: Reģistrācijas Nr. | B3: Aizpilda pretendents
A4: Nr. | B4: Dezinfekcijas līdzekļa apraksts | C4: Dezinfekcijas līdzekļa nosaukums | D4: Kopējais lietošanai gatavā šķīduma plānotais daudzums (L) 24 mēnešiem | E4: Viena litra cena EUR (bez PVN) | F4: Kopējā plānotā apjoma summa, EUR (bez PVN) | G4: Piezīmes
A5: 1 | B5: 2 | C5: 3 | D5: 4 | E5: 5 | F5: 6 (4*5) | G5: 7
A6: 4. | B6: ĀDAS DEZINFEKCIJAS LĪDZEKLIS PIRMS INTRAVASKULĀRO KATETRU IEVIETOŠANAS | C6: aizpilda pretendents | D6: 10000 | E6: aizpilda pretendents | F6: =IFERROR(D6*E6,0) -> 0
B7: Iesniedzamie dokumenti: • Eiropas Komisijas NANDO (New Approach Notified and Designated Organisations) sarakstā esošas paziņotas struktūras (notified body – angļu val.) izdots CE sertifikāts, kas apliecina produkta atbilstību medicīnas preces IIa klasei atbilstoši Eiropas Parlamenta un Padomes Regulai 2017/745 vai Eiropas Komisijas Direktīvai 93/42/EEK •Latvijas Vides, Ģeoloģijas un Meteoroloģijas centra biocīda inventarizācijas numurs ar apstiprinoša dokumenta kopiju • Dezinfekcijas līdzekļu ražotāja etiķetes paraugs • Drošības datu lapa latviešu valodā atbilstoša REACH Regulas 1907/2006 EK 31.pantam • Pretendenta apstiprinātu dezinfekcijas līdzekļa aprakstu ražotājvalsts un latviešu valodā • Dati par iedarbību pret veģetatīvām baktērijām, sēnītēm, HIV, hepatītu B un C vīrusiem, Mycobacteria un bezapvalka vīrusiem • Pēc konkursa komisijas pieprasījuma papildu jāiesniedz produkta mikrobioloģiskās, toksikoloģiskās un ekoloģiskās izpētes datu kopijas • Pēc konkursa komisijas pieprasījuma iesniegt līdzekli praktiskai testēšanai
B8: Sastāvs: • Alkohola bāzes (ne mazāk kā 70 g uz 100 g šķīduma) dezinfekcijas līdzeklis ar ne mazāk kā 2 g hlorheksidīna. bez triklozāna un kvartāros amonija savienojumus saturošs preparāts • Līdzeklim jābūt iedarbībai līdz 30 sek. pret veģetatīvām baktērijām atbilstoši EN 13727, EN 14561; sēnītēm, raugiem atbilstoši EN 13624, EN 14562; HIV, hepatītu B un C vīrusiem, Mycobacteria atbilstoši EN 14348 un bezapvalka vīrusiem. Piemērojams arī roku higiēniskai dezinfekcijai atbilstoši EN 1500.
B9: Piezīmes: • Kolonnā Nr.5 jānorāda viena litra cena neatkarīgi no dezinfekcijas līdzekļa iepakojuma tilpuma • Jāpiedāvā tilpumi līdz 500ml ar smidzinātāju un 500 ml ar pumpi tamponam. Iepakojumu cenām jābūt atbilstošām norādītajai 1 l cenai, t.i. iepakojuma cena jāaprēķina ņemot vērā 1 l cenu • Jānodrošina ar iespēju bez papildu izmaksām, alerģisku reakciju gadījumā mainīt līdzekli ne vairāk kā 5% no kopējā apjoma, nosaucot cita ražotāja ekvivalento līdzekli • Preces jāpiegādā iepakojumā, kas nodrošinās preces saglabāšanu tās pārvadāšanas un glabāšanas laikā atbilstoši ražotāja noteiktām prasībām un spēkā esošiem normatīvajiem aktiem • Vienas pozīcijas ietvaros visiem līdzekļiem jābūt no viena ražotāja, lai izslēgtu produktu nesavietojamību. • Piedāvājot savu produktu/preci attiecīgajā pozīcijā obligāti ir jāaizpilda visas nepieciešamās apakšpozīcijas.
A10: Iepakojuma lielums | B10: Pretendenta piedāvātais tilpums | C10: Ref.Nr. | D10: Plānotais daudzums 24 mēnešiem, L | E10: Preces cena par vienu vienību EUR (bez PVN)
A11: 250 ml ar smidzinātāju | B11: aizpilda pretendents | C11: aizpilda pretendents | D11: 2500 | E11: aizpilda pretendents
A12: 500 ml ar pumpi tamponam | B12: aizpilda pretendents | C12: aizpilda pretendents | D12: 7500 | E12: aizpilda pretendents

Sheet 5.pozīcija
A1: Ražotājfirma: | B1: Aizpilda pretendents | C1: →uz Saturu
A2: Pretendents: | B2: Aizpilda pretendents
A3: Reģistrācijas Nr. | B3: Aizpilda pretendents
A4: Nr. | B4: Dezinfekcijas līdzekļa apraksts | C4: Dezinfekcijas līdzekļa nosaukums | D4: Kopējais lietošanai gatavā šķīduma plānotais daudzums (L) 24 mēnešiem | E4: Viena litra cena EUR (bez PVN) | F4: Kopējā plānotā apjoma summa, EUR (bez PVN) | G4: Piezīmes
A5: 1 | B5: 2 | C5: 3 | D5: 4 | E5: 5 | F5: 6 (4*5) | G5: 7
A6: 5. | B6: GĻOTĀDU ANTISEPTIĶIS | C6: aizpilda pretendents | D6: 450 | E6: aizpilda pretendents | F6: =IFERROR(D6*E6,0) -> 0
B7: Iesniedzamie dokumenti: • Eiropas Komisijas NANDO (New Approach Notified and Designated Organisations) sarakstā esošas paziņotas struktūras (notified body – angļu val.) izdots CE sertifikāts, kas apliecina produkta atbilstību medicīnas preces IIa klasei atbilstoši Eiropas Parlamenta un Padomes Regulai 2017/745 vai Eiropas Komisijas Direktīvai 93/42/EEK •Latvijas Vides, Ģeoloģijas un Meteoroloģijas centra biocīda inventarizācijas numurs ar apstiprinoša dokumenta kopiju • Dezinfekcijas līdzekļu ražotāja etiķetes paraugs • Drošības datu lapa latviešu valodā atbilstoša REACH Regulas 1907/2006 EK 31.pantam • Pretendenta apstiprinātu dezinfekcijas līdzekļa aprakstu ražotājvalsts un latviešu valodā • Dati par iedarbību pret veģetatīvām baktērijām, sēnītēm, HIV, hepatītu B un C vīrusiem, Mycobacteria un bezapvalka vīrusiem • Pēc konkursa komisijas pieprasījuma papildu jāiesniedz produkta mikrobioloģiskās, toksikoloģiskās un ekoloģiskās izpētes datu kopijas • Pēc konkursa komisijas pieprasījuma iesniegt līdzekli praktiskai testēšanai
B8: Sastāvs: • Alkohola bāzes (ne mazāk kā 70 gramu uz 100 gramiem šķīduma) dezinfekcijas līdzeklis ar ne mazāk kā 2 gramiem hlorheksidīna. bez triklozāna un kvartāros amonija savienojumus saturošs preparāts • Līdzeklim jābūt iedarbībai līdz 30 sek. pret veģetatīvām baktērijām atbilstoši EN 13727, EN 14561; sēnītēm, raugiem atbilstoši EN 13624, EN 14562; HIV, hepatītu B un C vīrusiem, Mycobacteria atbilstoši EN 14348 un bezapvalka vīrusiem. Piemērojams arī roku higiēniskai dezinfekcijai atbilstoši EN 1500.
B9: Piezīmes: • Kolonnā Nr.5 jānorāda viena litra cena neatkarīgi no dezinfekcijas līdzekļa iepakojuma tilpuma • Jāpiedāvā tilpumi līdz 500ml ar smidzinātāju un virs 500 ml. Iepakojumu cenām jābūt atbilstošām norādītajai 1 l cenai, t.i. iepakojuma cena jāaprēķina ņemot vērā 1 l cenu • Jānodrošina ar iespēju bez papildu izmaksām, alerģisku reakciju gadījumā mainīt līdzekli ne vairāk kā 5% no kopējā apjoma, nosaucot cita ražotāja ekvivalento līdzekli • Preces jāpiegādā iepakojumā, kas nodrošinās preces saglabāšanu tās pārvadāšanas un glabāšanas laikā atbilstoši ražotāja noteiktām prasībām un spēkā esošiem normatīvajiem aktiem • Vienas pozīcijas ietvaros visiem līdzekļiem jābūt no viena ražotāja, lai izslēgtu produktu nesavietojamību. • Piedāvājot savu produktu/preci attiecīgajā pozīcijā obligāti ir jāaizpilda visas nepieciešamās apakšpozīcijas.
A10: Iepakojuma lielums | B10: Pretendenta piedāvātais tilpums | C10: Ref.Nr. | D10: Plānotais daudzums 24 mēnešiem, L | E10: Preces cena par vienu vienību EUR (bez PVN)
A11: Līdz 500 ml | B11: aizpilda pretendents | C11: aizpilda pretendents | D11: 450 | E11: aizpilda pretendents

Sheet 6.pozīcija
A1: Ražotājfirma: | B1: Aizpilda pretendents | C1: →uz Saturu
A2: Pretendents: | B2: Aizpilda pretendents
A3: Reģistrācijas Nr. | B3: Aizpilda pretendents
A4: Nr. | B4: Dezinfekcijas līdzekļa apraksts | C4: Dezinfekcijas līdzekļa nosaukums | D4: Kopējais lietošanai gatavā šķīduma plānotais daudzums (L) 24 mēnešiem | E4: Viena litra cena EUR (bez PVN) | F4: Kopējā plānotā apjoma summa, EUR (bez PVN) | G4: Piezīmes
A5: 1 | B5: 2 | C5: 3 | D5: 4 | E5: 5 | F5: 6 (4*5) | G5: 7
A6: 6. | B6: ĪPAŠI SAUDZĒJOŠS ROKU ĀDU MAZGĀJAMAIS LĪDZEKLIS | C6: aizpilda pretendents | D6: 30000 | E6: aizpilda pretendents | F6: =IFERROR(D6*E6,0) -> 0
B7: Iesniedzamie dokumenti: • Pretendenta apstiprinātu līdzekļa aprakstu ražotājvalsts un latviešu valodā • Pēc konkursa komisijas pieprasījuma papildu jāiesniedz produkta mikrobioloģiskās, toksikoloģiskās un ekoloģiskās izpētes datu kopijas • Pēc konkursa komisijas pieprasījuma iesniegt līdzekli praktiskai testēšanai
B8: Sastāvs: • pH no 5.0 līdz 5.5, nesatur krāsvielas, smaržvielas un sārmus
B9: Piezīmes: • Kolonnā Nr.5 jānorāda viena litra cena neatkarīgi no līdzekļa iepakojuma tilpuma • Jānodrošina ar elkoni darbināmiem un plaukstu darbināmiem dozatoriem, turētājiem pie virsmām (sienas) un to kvalitatīva darbība un bezmaksas nomaiņa bojājuma gadījumā • Nepieciešamais, plānotais ar elkoni darbināmo dozatoru un turētāju skaits – 260; nepieciešamais, plānotais ar plaukstu darbināmo dozatoru un turētāju skaits - 2720 • Jāpiedāvā visi prasītie tilpumi: 500ml, 1000ml, un līdz 6 litri. Iepakojumu cenām jābūt atbilstošām norādītajai 1 l cenai, t.i. iepakojuma cena jāaprēķina ņemot vērā 1 l cenu • Plānotais iepakojumu tilpums: 500 ml – 4900 iepakojumi; 1000 ml – 200 iepakojumi, pārējais daudzums iepakojumā līdz 6 litri • Dozatoriem un turētājiem ir jābūt piemērotiem 500ml un 1000ml iepakojumu lietošanai • Jānodrošina ar iespēju bez papildu izmaksām, alerģisku reakciju gadījumā mainīt līdzekli ne vairāk kā 5% no kopējā apjoma, nosaucot cita ražotāja ekvivalento līdzekli • Piemērots lietošanai klīnikās un ārstu praksē, pirms ķirurģiskās un pēc higiēniskās roku dezinfekcijas, zīdaiņu kopšanai. • Preces jāpiegādā iepakojumā, kas nodrošinās preces saglabāšanu tās pārvadāšanas un glabāšanas laikā atbilstoši ražotāja noteiktām prasībām un spēkā esošiem normatīvajiem aktiem • Vienas pozīcijas ietvaros visiem līdzekļiem jābūt no viena ražotāja, lai izslēgtu produktu nesavietojamību. • Piedāvājot savu produktu/preci attiecīgajā pozīcijā obligāti ir jāaizpilda visas nepieciešamās apakšpozīcijas.
A10: Iepakojuma lielums | B10: Pretendenta piedāvātais tilpums | C10: Ref.Nr. | D10: Plānotais daudzums 24 mēnešiem (L) | E10: Preces cena par vienu vienību EUR (bez PVN)
A11: 500 ml | B11: aizpilda pretendents | C11: aizpilda pretendents | D11: 2450 | E11: aizpilda pretendents
A12: 1000 ml | B12: aizpilda pretendents | C12: aizpilda pretendents | D12: 200 | E12: aizpilda pretendents
A13: līdz 6000 ml | B13: aizpilda pretendents | C13: aizpilda pretendents | D13: 22350 | E13: aizpilda pretendents

Sheet 7.pozīcija
A1: Ražotājfirma: | B1: Aizpilda pretendents | C1: →uz Saturu
A2: Pretendents: | B2: Aizpilda pretendents
A3: Reģistrācijas Nr. | B3: Aizpilda pretendents
A4: Nr. | B4: Dezinfekcijas līdzekļa apraksts | C4: Dezinfekcijas līdzekļa nosaukums | D4: Kopējais lietošanai gatavā šķīduma plānotais daudzums (L) 24 mēnešiem | E4: Viena litra cena EUR (bez PVN) | F4: Kopējā plānotā apjoma summa, EUR (bez PVN) | G4: Piezīmes
A5: 1 | B5: 2 | C5: 3 | D5: 4 | E5: 5 | F5: 6 (4*5) | G5: 7
A6: 7. | B6: ROKU UN ĀDAS MITRINOŠS UN REĢENERĒJOŠS KOPŠANAS LĪDZEKLIS | C6: aizpilda pretendents | D6: 3500 | E6: aizpilda pretendents | F6: =IFERROR(D6*E6,0) -> 0
B7: Iesniedzamie dokumenti: • Pretendenta apstiprinātu roku kopšanas līdzekļa aprakstu ražotājvalsts un latviešu valodā • Pēc konkursa komisijas pieprasījuma papildu jāiesniedz produkta mikrobioloģiskās, toksikoloģiskās un ekoloģiskās izpētes datu kopijas • Pēc konkursa komisijas pieprasījuma iesniegt līdzekli praktiskai testēšanai
B8: Sastāvs: Hipoalerģisks un dermatoloģiski pārbaudīts sastāvs, satur ādu saudzējošas vielas (piemēram, hialuronskābe, Urea)
B9: Piezīmes: • Kolonnā Nr.5 jānorāda viena litra cena neatkarīgi no līdzekļa iepakojuma tilpuma • Ar ādu reģenerējošu efektu 500 ml iepakojumos. Iepakojumu cenām jābūt atbilstošām norādītajai 1 l cenai, t.i. iepakojuma cena jāaprēķina ņemot vērā 1 l cenu • Ar plaukstu darbināmu dozatoru ar maināmu vienreizējās dozēšanas režīmu no 0,5 ml – 1,5 ml, turētājiem pie virsmām (sienas), kā arī jāgarantē to kvalitatīva darbība un bezmaksas nomaiņa bojājuma gadījumā • Jānodrošina ar iespēju bez papildu izmaksām, alerģisku reakciju gadījumā mainīt līdzekli ne vairāk kā 5% no kopējā apjoma, nosaucot cita ražotāja ekvivalento līdzekli • Preces jāpiegādā iepakojumā, kas nodrošinās preces saglabāšanu tās pārvadāšanas un glabāšanas laikā atbilstoši ražotāja noteiktām prasībām un spēkā esošiem normatīvajiem aktiem • Vienas pozīcijas ietvaros visiem līdzekļiem jābūt no viena ražotāja, lai izslēgtu produktu nesavietojamību.
A10: Iepakojuma lielums | B10: Pretendenta piedāvātais tilpums | C10: Ref.Nr. | D10: Plānotais daudzums 24 mēnešiem (L) | E10: Preces cena par vienu vienību EUR (bez PVN)
A11: 500 ml | B11: aizpilda pretendents | C11: aizpilda pretendents | D11: 3500 | E11: aizpilda pretendents

Sheet 8.pozīcija
A1: Ražotājfirma: | B1: Aizpilda pretendents | C1: →uz Saturu
A2: Pretendents: | B2: Aizpilda pretendents
A3: Reģistrācijas Nr. | B3: Aizpilda pretendents
A4: Nr. | B4: Dezinfekcijas līdzekļa apraksts | C4: Dezinfekcijas līdzekļa nosaukums | D4: Kopējais lietošanai gatavā šķīduma plānotais daudzums (L) 24 mēnešiem | E4: Viena litra cena EUR (bez PVN) | F4: Kopējā plānotā apjoma summa, EUR (bez PVN) | G4: Piezīmes
A5: 1 | B5: 2 | C5: 3 | D5: 4 | E5: 5 | F5: 6 (4*5) | G5: 7
A6: 8. | B6: LIETOŠANAI GATAVS VIRSMU DEZINFEKCIJAS LĪDZEKLIS BEZ ALKOHOLA AR SPORICĪDU EFEKTU | C6: aizpilda pretendents | D6: 4000 | E6: aizpilda pretendents | F6: =IFERROR(D6*E6,0) -> 0
B7: Iesniedzamie dokumenti: • Eiropas Komisijas NANDO (New Approach Notified and Designated Organisations) sarakstā esošas paziņotas struktūras (notified body – angļu val.) izdots CE sertifikāts, kas apliecina produkta atbilstību medicīnas preces IIb klasei atbilstoši Eiropas Parlamenta un Padomes Regulai 2017/745 vai Eiropas Komisijas Direktīvai 93/42/EEK •Latvijas Vides, Ģeoloģijas un Meteoroloģijas centra biocīda inventarizācijas numurs ar apstiprinoša dokumenta kopiju • Dezinfekcijas līdzekļu ražotāja etiķetes paraugs • Drošības datu lapa latviešu valodā atbilstoša REACH Regulas 1907/2006 EK 31.pantam • Pretendenta apstiprinātu dezinfekcijas līdzekļa aprakstu ražotājvalsts un latviešu valodā. • Dati par iedarbību un tās ātrumu pret veģetatīvām baktērijām, sēnītēm, HIV, hepatītu B un C vīrusiem, Mycobacteria un apvalka un bezapvalka vīrusiem, sporām • Pēc konkursa komisijas pieprasījuma papildu jāiesniedz produkta mikrobioloģiskās, toksikoloģiskās un ekoloģiskās izpētes datu kopijas • Pēc konkursa komisijas pieprasījuma iesniegt līdzekli praktiskai testēšanai
B8: Sastāvs: • Aktīvā viela - ūdeņraža pārskābe, nesatur alkoholu, aldehīdus, enzīmus un hloru. • Mikrobioloģiskā efektivitāte: Līdz 5 min ekspozīcijā: EN 13727, EN 16615 (baktericīds), EN 13624, EN 16615 (levurocīds), EN 13624, EN 16615 (fungicīds), EN 14348 (tuberkulocīds), aktīvs uz HIV, HBV, HCV, Rota, Adeno un Papova vīrusiem; sporām (sporicīdās ietekmes noteikšanai - EN17126 30 min.)
B9: Piezīmes: • Kolonnā Nr.5 jānorāda viena litra cena neatkarīgi no dezinfekcijas līdzekļa iepakojuma tilpuma • Jāpiedāvā 500 ml – 1 litra tilpumā ar smidzinātāju, kas neveido aerosolu. Iepakojumu cenām jābūt atbilstošām norādītajai 1 l cenai, t.i. iepakojuma cena jāaprēķina ņemot vērā 1 l cenu • Nepiedāvāt aldehīdus, hloru un to savienojumus saturošus preparātus • Jānodrošina ar iespēju bez papildu izmaksām, alerģisku reakciju gadījumā mainīt līdzekli ne vairāk kā 5% no kopējā apjoma, nosaucot cita ražotāja ekvivalento līdzekli • Preces jāpiegādā iepakojumā, kas nodrošinās preces saglabāšanu tās pārvadāšanas un glabāšanas laikā atbilstoši ražotāja noteiktām prasībām un spēkā esošiem normatīvajiem aktiem
A10: Iepakojuma lielums | B10: Pretendenta piedāvātais tilpums | C10: Ref.Nr. | D10: Plānotais daudzums 24 mēnešiem (L) | E10: Preces cena par vienu vienību EUR (bez PVN)
A11: 500 ml-1000 ml (ar izsmidzinātāju) | B11: aizpilda pretendents | C11: aizpilda pretendents | D11: aprēķina pretendents | E11: aizpilda pretendents

Sheet 9.pozīcija
A1: Ražotājfirma: | B1: Aizpilda pretendents | C1: →uz Saturu
A2: Pretendents: | B2: Aizpilda pretendents
A3: Reģistrācijas Nr. | B3: Aizpilda pretendents
A4: Nr. | B4: Dezinfekcijas līdzekļa apraksts | C4: Dezinfekcijas līdzekļa nosaukums | D4: Kopējais lietošanai gatavā šķīduma plānotais daudzums (L) 24 mēnešiem | E4: Viena litra cena EUR (bez PVN) | F4: Kopējā plānotā apjoma summa, EUR (bez PVN) | G4: Piezīmes
A5: 1 | B5: 2 | C5: 3 | D5: 4 | E5: 5 | F5: 6 (4*5) | G5: 7
A6: 9. | B6: NĀTRIJA HIPOHLORĪTS VIRSMU DEZINFEKCIJAI | C6: aizpilda pretendents | D6: 25000 | E6: aizpilda pretendents | F6: =IFERROR(D6*E6,0) -> 0
B7: Iesniedzamie dokumenti: • Eiropas Komisijas NANDO (New Approach Notified and Designated Organisations) sarakstā esošas paziņotas struktūras (notified body – angļu val.) izdots CE sertifikāts, kas apliecina produkta atbilstību medicīnas preces IIa klasei atbilstoši Eiropas Parlamenta un Padomes Regulai 2017/745 vai Eiropas Komisijas Direktīvai 93/42/EEK •Latvijas Vides, Ģeoloģijas un Meteoroloģijas centra biocīda inventarizācijas numurs ar apstiprinoša dokumenta kopiju • Dezinfekcijas līdzekļu ražotāja etiķetes paraugs • Drošības datu lapa latviešu valodā atbilstoša REACH Regulas 1907/2006 EK 31.pantam • Pretendenta apstiprinātu dezinfekcijas līdzekļa aprakstu ražotājvalsts un latviešu valodā. • Dati par iedarbību pret veģetatīvām baktērijām, sēnītēm, HIV, hepatītu B un C vīrusiem, Mycobacteria, bezapvalka vīrusiem un sporām • Pēc konkursa komisijas pieprasījuma papildu jāiesniedz produkta mikrobioloģiskās, toksikoloģiskās un ekoloģiskās izpētes datu kopijas • Pēc konkursa komisijas pieprasījuma iesniegt līdzekli praktiskai testēšanai
B8: Sastāvs: • Plānotais darba šķīdums paredzēts koncentrācijai no 0.053 – 0.062 % (aktīvā hlora saturs 248 – 291 ppm) līdz 0.53 – 0,62 % (aktīvā hlora saturs 2483 – 2909 ppm) • Līdzeklim jābūt iedarbībai pret veģetatīvām baktērijām, sēnītēm, HIV, hepatītu B un C vīrusiem, Mycobacteria, bezapvalka vīrusiem un sporām
B9: Piezīmes: • Kolonnā Nr. 5 jānorāda viena litra cena neatkarīgi no dezinfekcijas līdzekļa iepakojuma tilpuma • Nepiedāvāt koncentrātu virs 6 % • Piedāvāt iepakojumā līdz 5 – 10 litriem. Iepakojumu cenām jābūt atbilstošām norādītajai 1 l cenai, t.i. iepakojuma cena jāaprēķina ņemot vērā 1 l cenu • Jānodrošina ar iespēju bez papildu izmaksām, alerģisku reakciju gadījumā mainīt līdzekli ne vairāk kā 5% no kopējā apjoma, nosaucot cita ražotāja ekvivalento līdzekli • Preces jāpiegādā iepakojumā, kas nodrošinās preces saglabāšanu tās pārvadāšanas un glabāšanas laikā atbilstoši ražotāja noteiktām prasībām un spēkā esošiem normatīvajiem aktiem
A10: Iepakojuma lielums | B10: Pretendenta piedāvātais tilpums | C10: Ref.Nr. | D10: Plānotais daudzums 24 mēnešiem (L) | E10: Preces cena par vienu vienību EUR (bez PVN)
A11: 5-6 litri | B11: aizpilda pretendents | C11: aizpilda pretendents | D11: aprēķina pretendents | E11: aizpilda pretendents

Sheet 10.pozīcija
A1: Ražotājfirma: | B1: Aizpilda pretendents | C1: →uz Saturu
A2: Pretendents: | B2: Aizpilda pretendents
A3: Reģistrācijas Nr. | B3: Aizpilda pretendents
A4: Nr. | B4: Dezinfekcijas līdzekļa apraksts | C4: Dezinfekcijas līdzekļa nosaukums | D4: Kopējais lietošanai gatavā šķīduma plānotais daudzums (L) 24 mēnešiem | E4: Viena litra cena EUR (bez PVN) | F4: Kopējā plānotā apjoma summa, EUR (bez PVN) | G4: Piezīmes
A5: 1 | B5: 2 | C5: 3 | D5: 4 | E5: 5 | F5: 6 (4*5) | G5: 7
A6: 10. | B6: DEZINFEKCIJAS UN MAZGĀŠANAS LĪDZEKLIS STOMATOLOĢISKĀM UN CIRKULATĪVA TIPA IEKĀRTĀM | C6: aizpilda pretendents | D6: 20 | E6: aizpilda pretendents | F6: =IFERROR(D6*E6,0) -> 0
B7: Iesniedzamie dokumenti: · Eiropas Komisijas NANDO (New Approach Notified and Designated Organisations) sarakstā esošas paziņotas struktūras (notified body – angļu val.) izdots CE sertifikāts, kas apliecina produkta atbilstību medicīnas preces IIa klasei atbilstoši Eiropas Parlamenta un Padomes Regulai 2017/745 vai Eiropas Komisijas Direktīvai 93/42/EEK · Dezinfekcijas līdzekļu ražotāja etiķetes paraugs · Drošības datu lapa latviešu valodā atbilstoša REACH Regulas 1907/2006 EK 31.pantam · Pretendenta apstiprinātu dezinfekcijas līdzekļa aprakstu ražotājvalsts un latviešu valodā · Dati par iedarbību pret veģetatīvām baktērijām, sēnītēm, HIV, hepatītu B un C vīrusiem, Mycobacteria un bezapvalka vīrusiem (rotavīrusu, norovīrusu, adenovīrusu, poliovīrusu) · Pēc konkursa komisijas pieprasījuma papildu jāiesniedz produkta mikrobioloģiskās, toksikoloģiskās un ekoloģiskās izpētes datu kopijas · Pēc konkursa komisijas pieprasījuma iesniegt līdzekli praktiskai testēšanai
B8: Sastāvs: • Ir sārmu saturošs dezinfekcijas līdzeklis, ko izmanto stomatoloģisko iekārtu atsūcējsistēmu mazgāšanai un dezinfekcijai, kā arī izmanto visa veida slēgtu cirkulatīva tipa iekārtu dezinfekcijai • Nesatur hloru, aldehīdus, protamīnu un fenolus • Līdzeklim jābūt iedarbībai pret veģetatīvām baktērijām (EN 13727/EN14561), sēnītēm,(EN 13624/EN 14562) , tuberkulocīds (EN 14348/EN 14563), un apvalkotiem vīrusiem (EN 14476/EN 17111)
B9: Piezīmes: • Kolonnā Nr.5 jānorāda viena litra cena neatkarīgi no dezinfekcijas līdzekļa iepakojuma tilpuma • Jāpiedāvā tilpumi līdz 1 litram un 5 – 6 litriem. Iepakojumu cenām jābūt atbilstošām norādītajai 1 l cenai, t.i. iepakojuma cena jāaprēķina ņemot vērā 1 l cenu • Darba šķīduma izmantošana telpās esošiem cilvēkiem nav kaitīga, alerģizācijas pakāpe samazināta līdz minimumam; • Pēc lietošanas viegli izskalojas no sistēmas, neputojošs. • Preparāts bioloģiski sadalās un atlikumus var liet kanalizācijā • Preces jāpiegādā iepakojumā, kas nodrošinās preces saglabāšanu tās pārvadāšanas un glabāšanas laikā atbilstoši ražotāja noteiktām prasībām un spēkā esošiem normatīvajiem aktiem • Vienas pozīcijas ietvaros visiem līdzekļiem jābūt no viena ražotāja, lai izslēgtu produktu nesavietojamību. • Piedāvājot savu produktu/preci attiecīgajā pozīcijā obligāti ir jāaizpilda visas nepieciešamās apakšpozīcijas.
A10: Iepakojuma lielums | B10: Pretendenta piedāvātais tilpums | C10: Ref.Nr. | D10: Plānotais daudzums 24 mēnešiem (L) | E10: Preces cena par vienu vienību EUR (bez PVN)
A11: 1 litrs | B11: aizpilda pretendents | C11: aizpilda pretendents | D11: 10 | E11: aizpilda pretendents
A12: 5-6 litri | B12: aizpilda pretendents | C12: aizpilda pretendents | D12: 10 | E12: aizpilda pretendents

Sheet 11.pozīcija
A1: Ražotājfirma: | B1: Aizpilda pretendents | C1: →uz Saturu
A2: Pretendents: | B2: Aizpilda pretendents
A3: Reģistrācijas Nr. | B3: Aizpilda pretendents
A4: Nr. | B4: Dezinfekcijas līdzekļa apraksts | C4: Dezinfekcijas līdzekļa nosaukums | D4: Kopējais lietošanai gatavā šķīduma plānotais daudzums (L) 24 mēnešiem | E4: Viena litra cena EUR (bez PVN) | F4: Kopējā plānotā apjoma summa, EUR (bez PVN) | G4: Piezīmes
A5: 1 | B5: 2 | C5: 3 | D5: 4 | E5: 5 | F5: 6 (4*5) | G5: 7
A6: 11. | B6: ĀTRAS IEDARBĪBAS DEZINFEKCIJAS LĪDZEKLIS VIRSMĀM | C6: aizpilda pretendents | D6: 30000 | E6: aizpilda pretendents | F6: =IFERROR(D6*E6,0) -> 0
B7: Iesniedzamie dokumenti: • Eiropas Komisijas NANDO (New Approach Notified and Designated Organisations) sarakstā esošas paziņotas struktūras (notified body – angļu val.) izdots CE sertifikāts, kas apliecina produkta atbilstību medicīnas preces IIa klasei atbilstoši Eiropas Parlamenta un Padomes Regulai 2017/745 vai Eiropas Komisijas Direktīvai 93/42/EEK • Dezinfekcijas līdzekļu ražotāja etiķetes paraugs • Drošības datu lapa latviešu valodā atbilstoša REACH Regulas 1907/2006 EK 31.pantam • Pretendenta apstiprināts dezinfekcijas līdzekļa apraksts ražotājvalsts un latviešu valodā • Pēc konkursa komisijas pieprasījuma papildu jāiesniedz produkta mikrobioloģiskās, toksikoloģiskās un ekoloģiskās izpētes datu kopijas • Dati par iedarbību pret veģetatīvām baktērijām, sēnītēm, HIV, hepatītu B un C vīrusiem, Mycobacteria un bezapvalka vīrusiem
B8: Sastāvs: • Sastāvs: aktīvā viela etanols vai etanola/propanola maisījums vismaz 70g/100g • Mikrobioloģiskā efektivitāte: Līdz 30 sekundēm ekspozīcijā: EN 13727, EN 16615 (baktericīds), līdz 5 minūtēm EN 14348 (tuberkulocīds),līdz 30 sekundēm EN14476 (virucīds); pretsēnīšu iedarbība (C.albicans) līdz 30 sekundēm, Aspergillus niger līdz 5 minūtēm, EN 13624
B9: Piezīmes: • Kolonnā Nr.5 jānorāda viena litra cena neatkarīgi no dezinfekcijas līdzekļa iepakojuma tilpuma • Ātras iedarbības spirtu saturošs virsmu dezinfekcijas līdzeklis - gatavs lietošanai • Plānotais iepakojumu sadalījums pa tilpumiem: līdz 1000 ml – 10 000 L, 5-6 litri - 20 000 L • Bez krāsas • Preces jāpiegādā iepakojumā, kas nodrošinās preces saglabāšanu tās pārvadāšanas un glabāšanas laikā atbilstoši ražotāja noteiktām prasībām un spēkā esošiem normatīvajiem aktiem. • Vienas pozīcijas ietvaros visiem līdzekļiem jābūt no viena ražotāja, lai izslēgtu produktu nesavietojamību. • Piedāvājot savu produktu/preci attiecīgajā pozīcijā obligāti ir jāaizpilda visas nepieciešamās apakšpozīcijas.
A10: Iepakojuma lielums | B10: Pretendenta piedāvātais tilpums | C10: Ref.Nr. | D10: Plānotais daudzums 24 mēnešiem (L) | E10: Preces cena par vienu vienību EUR (bez PVN)
A11: līdz 1000 ml ar smidzinātāju | B11: aizpilda pretendents | C11: aizpilda pretendents | D11: aprēķina pretendents | E11: aizpilda pretendents
A12: 5-6 litri | B12: aizpilda pretendents | C12: aizpilda pretendents | D12: aprēķina pretendents | E12: aizpilda pretendents

Sheet 12.pozīcija
A1: Ražotājfirma: | B1: Aizpilda pretendents | C1: →uz Saturu
A2: Pretendents: | B2: Aizpilda pretendents
A3: Reģistrācijas Nr. | B3: Aizpilda pretendents
A4: Nr. | B4: Dezinfekcijas līdzekļa apraksts | C4: Dezinfekcijas līdzekļa nosaukums | D4: Plānotais vienību daudzums patēriņam (tabl.) 24 mēnešiem | E4: Viena litra cena EUR (bez PVN) | F4: Kopējā plānotā apjoma summa, EUR (bez PVN) | G4: Piezīmes
A5: 1 | B5: 2 | C5: 3 | D5: 4 | E5: 5 | F5: 6 (4*5) | G5: 7
A6: 12. | B6: HLORU SATUROŠS DEZINFEKCIJAS LĪDZEKLIS TABLETĒS | C6: aizpilda pretendents | D6: 150000 | E6: aizpilda pretendents | F6: =IFERROR(D6*E6,0) -> 0
B7: Iesniedzamie dokumenti: • Latvijas Vides, Ģeoloģijas un Meteoroloģijas centra biocīda inventarizācijas numurs ar apstiprinoša dokumenta kopiju • Dezinfekcijas līdzekļu ražotāja etiķetes paraugs • Drošības datu lapa latviešu valodā atbilstoša REACH Regulas 1907/2006 EK 31.pantam • Pretendenta apstiprinātu dezinfekcijas līdzekļa aprakstu ražotājvalsts un latviešu valodā. • Dati par iedarbību pret veģetatīvām baktērijām, sēnītēm, HIV, hepatītu B un C vīrusiem, Mycobacteria, bezapvalka vīrusiem un sporām (sporicīdās ietekmes noteikšanai - EN17126) • Pēc konkursa komisijas pieprasījuma papildu jāiesniedz produkta mikrobioloģiskās, toksikoloģiskās un ekoloģiskās izpētes datu kopijas • Pēc konkursa komisijas pieprasījuma iesniegt līdzekli praktiskai testēšanai
B8: Sastāvs: • Nepieciešamais hlora daudzums vienā vienībā: 1500 ppm • Līdzeklim jābūt iedarbībai pret veģetatīvām baktērijām, sēnītēm, HIV, hepatītu B un C vīrusiem, Mycobacteria, bezapvalka vīrusiem un sporām (sporicīdās ietekmes noteikšanai - EN17126)
B9: Piezīmes: • Jānodrošina ar iespēju bez papildu izmaksām, alerģisku reakciju gadījumā mainīt līdzekli ne vairāk kā 5% no kopējā apjoma, nosaucot cita ražotāja ekvivalento līdzekli • Iepakojumu cenām jābūt atbilstošām norādītajai 1 tabletes cenai, t.i. iepakojuma cena jāaprēķina ņemot vērā 1 tabletes cenu • Preces jāpiegādā iepakojumā, kas nodrošinās preces saglabāšanu tās pārvadāšanas un glabāšanas laikā atbilstoši ražotāja noteiktām prasībām un spēkā esošiem normatīvajiem aktiem
A10: Iepakojuma lielums | B10: Pretendenta piedāvātais tilpums | C10: Ref.Nr. | D10: Plānotais vienību daudzums patēriņam 24 mēnešiem | E10: Preces cena par vienu vienību EUR (bez PVN)
A11: Līdz 300 tabletēm | B11: aizpilda pretendents | C11: aizpilda pretendents | D11: 150000 | E11: aizpilda pretendents

Sheet 13.pozīcija
A1: Ražotājfirma: | B1: Aizpilda pretendents | C1: →uz Saturu
A2: Pretendents: | B2: Aizpilda pretendents
A3: Reģistrācijas Nr. | B3: Aizpilda pretendents
A4: Nr. | B4: Dezinfekcijas līdzekļa apraksts | C4: Dezinfekcijas līdzekļa nosaukums | D4: Plānotais darba šķīduma daudzums (L) 24 mēnešiem | E4: Viena litra cena EUR (bez PVN) | F4: Kopējā plānotā apjoma summa, EUR (bez PVN) | G4: Piezīmes
A5: 1 | B5: 2 | C5: 3 | D5: 4 | E5: 5 | F5: 6 (4*5) | G5: 7
A6: 13. | B6: VIRSMU DEZINFEKCIJAS LĪDZEKĻI (KONCENTRĀTS) UN ELEKTRONISKIE DOZATORI | C6: aizpilda pretendents | D6: 1700000 | E6: aizpilda pretendents | F6: =IFERROR(D6*E6,0) -> 0
B7: Iesniedzamie dokumenti: • Eiropas Komisijas NANDO (New Approach Notified and Designated Organisations) sarakstā esošas paziņotas struktūras (notified body – angļu val.) izdots CE sertifikāts, kas apliecina produkta atbilstību medicīnas preces IIa klasei atbilstoši Eiropas Parlamenta un Padomes Regulai 2017/745 vai Eiropas Komisijas Direktīvai 93/42/EEK •Latvijas Vides, Ģeoloģijas un Meteoroloģijas centra biocīda inventarizācijas numurs ar apstiprinoša dokumenta kopiju • Dezinfekcijas līdzekļu ražotāja etiķetes paraugs • Drošības datu lapa latviešu valodā atbilstoša REACH Regulas 1907/2006 EK 31.pantam • Pretendenta apstiprinātu dezinfekcijas līdzekļa aprakstu ražotājvalsts un latviešu valodā • Dati par iedarbību pret veģetatīvām baktērijām, sēnītēm, HIV, hepatītu B un C vīrusiem, Mycobacteria, un bezapvalka vīrusiem (rotavīrusu, papova, norovīrusu) • Pēc konkursa komisijas pieprasījuma papildu jāiesniedz produkta mikrobioloģiskās, toksikoloģiskās un ekoloģiskās izpētes datu kopijas • Pēc konkursa komisijas pieprasījuma iesniegt līdzekli praktiskai testēšanai
B8: Sastāvs: • Līdzeklim jābūt uz alkilamīnderivātu bāzes • Nepiedāvāt aldehīdus un to savienojumus saturošus preparātus, hloru saturošus savienojumus, un enzīmus • Iedarbojas līdz 15 min pie koncentrācijas ne lielākas par 0,25% ekspozīcijā uz baktērijām, tai skaitā multirezistentajām MRSA, Ac.Baumanii, K.pneumoniae, ESBL, raugiem, kā arī uz HBV, HCV, HIV, Rota un Poliomas vīrusiem (EN 13727; EN 13624), kā arī 1h ekspozīcijā uz tuberkulozi atb. EN 14348, Noro vīrusu atb. EN 14476, Adeno un Korona vīrusiem.
B9: Piezīmes: • Kolonnā Nr.5 jānorāda viena litra cena neatkarīgi no dezinfekcijas līdzekļa iepakojuma tilpuma • Jāpiedāvā iepakojums 1-2 litri ar iebūvētu dozatoru un līdz 10 litri. Iepakojumu cenām jābūt atbilstošām norādītajai 1 l cenai, t.i. iepakojuma cena jāaprēķina ņemot vērā 1 l cenu • Plānotais sadalījums pa tilpumiem (atkarīgs no pretendentu piedāvātajiem tilpumiem, bet jāiekļaujas kopējā darba škīduma plānotajā daudzumā) - 700 000 L pa 1-2 L (ar iebūvētu dozatoru), 1 000 000 L iepakojumos līdz 10 L. • Jānodrošina manuālo dozatoru un vismaz divdesmit piecu elektronisko dozatoru (dozēšana darba šķīdumam) uzstādīšanu bez maksas slimnīcā • Jānodrošina ar iespēju bez papildu izmaksām, alerģisku reakciju gadījumā mainīt līdzekli ne vairāk kā 5% no kopējā apjoma, nosaucot cita ražotāja ekvivalento līdzekli • Preces jāpiegādā iepakojumā, kas nodrošinās preces saglabāšanu tās pārvadāšanas un glabāšanas laikā atbilstoši ražotāja noteiktām prasībām un spēkā esošiem normatīvajiem aktiem. • Vienas pozīcijas ietvaros visiem līdzekļiem jābūt no viena ražotāja, lai izslēgtu produktu nesavietojamību. • Piedāvājot savu produktu/preci attiecīgajā pozīcijā obligāti ir jāaizpilda visas nepieciešamās apakšpozīcijas.
A10: Iepakojuma lielums | B10: Pretendenta piedāvātais tilpums | C10: Ref.Nr. | D10: Plānotais vienību daudzums patēriņam 24 mēnešiem | E10: Darba šķīduma koncentrācija | F10: Darba šķīduma 1 L cena EUR (bez PVN) 15 minūšu ekspozīcijai, kas nodrošina iedarbību pret visu prasīto spektru | G10: Preces cena par vienu iepakojumu EUR (bez PVN)
A11: 1-2 litri (ar iebūvētu dozatoru) | B11: aizpilda pretendents | C11: aizpilda pretendents | D11: aprēķina pretendents | E11: aizpilda pretendents | F11: aizpilda pretendents | G11: aizpilda pretendents
A12: līdz 10 litri | B12: aizpilda pretendents | C12: aizpilda pretendents | D12: aprēķina pretendents | E12: aizpilda pretendents | F12: aizpilda pretendents | G12: aizpilda pretendents

Sheet 14.pozīcija
A1: Ražotājfirma: | B1: Aizpilda pretendents | C1: →uz Saturu
A2: Pretendents: | B2: Aizpilda pretendents
A3: Reģistrācijas Nr. | B3: Aizpilda pretendents
A4: Nr. | B4: Dezinfekcijas līdzekļa apraksts | C4: Dezinfekcijas līdzekļa nosaukums | D4: Plānotais darba šķīduma daudzums (L/kg) 24 mēnešiem | E4: Viena litra cena EUR (bez PVN) | F4: Kopējā plānotā apjoma summa, EUR (bez PVN) | G4: Piezīmes
A5: 1 | B5: 2 | C5: 3 | D5: 4 | E5: 5 | F5: 6 (4*5) | G5: 7
A6: 14. | B6: VIRSMU DEZINFEKCIJAS LĪDZEKLIS UZ AKTĪVĀ SKĀBEKĻA BĀZES | C6: aizpilda pretendents | D6: 10000 | E6: aizpilda pretendents | F6: =IFERROR(D6*E6,0) -> 0
B7: Iesniedzamie dokumenti: • Eiropas Komisijas NANDO (New Approach Notified and Designated Organisations) sarakstā esošas paziņotas struktūras (notified body – angļu val.) izdots CE sertifikāts, kas apliecina produkta atbilstību medicīnas preces IIa klasei atbilstoši Eiropas Parlamenta un Padomes Regulai 2017/745 vai Eiropas Komisijas Direktīvai 93/42/EEK •Latvijas Vides, Ģeoloģijas un Meteoroloģijas centra biocīda inventarizācijas numurs ar apstiprinoša dokumenta kopiju • Dezinfekcijas līdzekļu ražotāja etiķetes paraugs • Drošības datu lapa latviešu valodā atbilstoša REACH Regulas 1907/2006 EK 31.pantam • Pretendenta apstiprinātu dezinfekcijas līdzekļa aprakstu ražotājvalsts un latviešu valodā. • Dati par iedarbību pret veģetatīvām baktērijām, sēnītēm, HIV, hepatītu B un C vīrusiem, Mycobacteria, bezapvalka vīrusiem un sporām (sporicīdās ietekmes noteikšanai - EN17126) • Pēc konkursa komisijas pieprasījuma papildu jāiesniedz produkta mikrobioloģiskās, toksikoloģiskās un ekoloģiskās izpētes datu kopijas • Pēc konkursa komisijas pieprasījuma iesniegt līdzekli praktiskai testēšanai
B8: Sastāvs: • Līdzeklim jābūt iedarbībai pret veģetatīvām baktērijām, sēnītēm, HIV, hepatītu B un C vīrusiem, Mycobacteria, bezapvalka vīrusiem un sporām (sporicīdās ietekmes noteikšanai - EN17126)
B9: Piezīmes: • Kolonnā Nr.5 jānorāda viena litra cena neatkarīgi no dezinfekcijas līdzekļa iepakojuma tilpuma • Nepiedāvāt aldehīdus un to savienojumus saturošus preparātus, hloru saturošus savienojumus, kvartāros amīnus saturošus savienojumus un enzīmus • Jāpiedāvā iepakojums līdz 10 litri/kg. Iepakojumu cenām jābūt atbilstošām norādītajai 1 l cenai, t.i. iepakojuma cena jāaprēķina ņemot vērā 1 l cenu • Jānodrošina ar iespēju bez papildu izmaksām, alerģisku reakciju gadījumā mainīt līdzekli ne vairāk kā 5% no kopējā apjoma, nosaucot cita ražotāja ekvivalento līdzekli • Preces jāpiegādā iepakojumā, kas nodrošinās preces saglabāšanu tās pārvadāšanas un glabāšanas laikā atbilstoši ražotāja noteiktām prasībām un spēkā esošiem normatīvajiem aktiem
A10: Iepakojuma lielums | B10: Pretendenta piedāvātais tilpums | C10: Ref.Nr. | D10: Plānotais vienību daudzums patēriņam 24 mēnešiem | E10: Darba šķīduma koncentrācija | F10: Darba šķīduma 1 L cena EUR (bez PVN) 15 minūšu ekspozīcijai, kas nodrošina iedarbību pret visu prasīto spektru | G10: Preces cena par vienu iepakojumu EUR (bez PVN)
A11: līdz 10 litri/kg | B11: aizpilda pretendents | C11: aizpilda pretendents | D11: aprēķina pretendents | E11: aizpilda pretendents | F11: aizpilda pretendents | G11: aizpilda pretendents

Sheet 15.pozīcija
A1: Ražotājfirma: | B1: Aizpilda pretendents | C1: →uz Saturu
A2: Pretendents: | B2: Aizpilda pretendents
A3: Reģistrācijas Nr. | B3: Aizpilda pretendents
A4: Nr. | B4: Dezinfekcijas līdzekļa apraksts | C4: Dezinfekcijas līdzekļa nosaukums | D4: Plānotais darba šķīduma daudzums (L/kg) 24 mēnešiem | E4: Viena litra cena EUR (bez PVN) | F4: Kopējā plānotā apjoma summa, EUR (bez PVN) | G4: Piezīmes
A5: 1 | B5: 2 | C5: 3 | D5: 4 | E5: 5 | F5: 6 (4*5) | G5: 7
A6: 15. | B6: AUGSTA LĪMEŅA INSTRUMENTU DEZINFEKCIJAS LĪDZEKLIS | C6: aizpilda pretendents | D6: 9000 | E6: aizpilda pretendents | F6: =IFERROR(D6*E6,0) -> 0
B7: Iesniedzamie dokumenti: • Eiropas Komisijas NANDO (New Approach Notified and Designated Organisations) sarakstā esošas paziņotas struktūras (notified body – angļu val.) izdots CE sertifikāts, kas apliecina produkta atbilstību medicīnas preces IIb klasei atbilstoši Eiropas Parlamenta un Padomes Regulai 2017/745 vai Padomes Direktīvai 93/42/EEK ar sertifikāta derīguma termiņa pagarinājumu, ja ir izpildīti nosacījumi, kas minēti 2023. gada 15. marta Regulā (ES) 2023/607, ar ko groza Regulas (ES) 2017/745 un (ES) 2017/746 attiecībā uz pārejas noteikumiem, kas piemērojami noteiktām medicīniskām ierīcēm un in vitro diagnostikas medicīniskām ierīcēm. • Dezinfekcijas līdzekļu ražotāja etiķetes paraugs • Drošības datu lapa latviešu valodā atbilstoša REACH Regulas 1907/2006 EK 31.pantam • Pretendenta apstiprinātu dezinfekcijas līdzekļa aprakstu ražotājvalsts un latviešu valodā. • Dati par iedarbību pret veģetatīvām baktērijām, sēnītēm, HIV, hepatītu B un C vīrusiem, Mycobacteria, bezapvalka vīrusiem un sporām (sporicīdās ietekmes noteikšanai - EN17126) • Pēc konkursa komisijas pieprasījuma papildu jāiesniedz produkta mikrobioloģiskās, toksikoloģiskās un ekoloģiskās izpētes datu kopijas • Pēc konkursa komisijas pieprasījuma iesniegt līdzekli praktiskai testēšanai
B8: Sastāvs: • Uz aktīvā skābekļa bāze, bez hlora, aldehīdiem, kvartārajiem amonija savienojumiem un enzīmiem • Līdzeklim jābūt iedarbībai pret veģetatīvām baktērijām, sēnītēm, HIV, hepatītu B un C vīrusiem, Mycobacteria, bezapvalka vīrusiem un sporām (sporicīdās ietekmes noteikšanai - EN17126).
B9: Piezīmes: • Kolonnā Nr.5 jānorāda viena litra cena neatkarīgi no dezinfekcijas līdzekļa iepakojuma tilpuma • Jāpiedāvā iepakojums līdz 10 litri/kg. Iepakojumu cenām jābūt atbilstošām norādītajai 1 l/kg cenai, t.i. iepakojuma cena jāaprēķina ņemot vērā 1 l/kg cenu • Preces jāpiegādā iepakojumā, kas nodrošinās preces saglabāšanu tās pārvadāšanas un glabāšanas laikā atbilstoši ražotāja noteiktām prasībām un spēkā esošiem normatīvajiem aktiem
A10: Iepakojuma lielums | B10: Pretendenta piedāvātais tilpums | C10: Ref.Nr. | D10: Plānotais vienību daudzums patēriņam 24 mēnešiem | E10: Darba šķīduma koncentrācija | F10: Darba šķīduma 1 L cena EUR (bez PVN) 15 minūšu ekspozīcijai, kas nodrošina iedarbību pret visu prasīto spektru | G10: Preces cena par vienu iepakojumu EUR (bez PVN)
A11: līdz 10 litri/kg | B11: aizpilda pretendents | C11: aizpilda pretendents | D11: aprēķina pretendents | E11: aizpilda pretendents | F11: aizpilda pretendents | G11: aizpilda pretendents

Sheet 16.pozīcija
A1: Ražotājfirma: | B1: Aizpilda pretendents | C1: →uz Saturu
A2: Pretendents: | B2: Aizpilda pretendents
A3: Reģistrācijas Nr. | B3: Aizpilda pretendents
A4: Nr. | B4: Dezinfekcijas līdzekļa apraksts | C4: Dezinfekcijas līdzekļa nosaukums | D4: Plānotais darba šķīduma daudzums (L) 24 mēnešiem | E4: Viena litra cena EUR (bez PVN) | F4: Kopējā plānotā apjoma summa, EUR (bez PVN) | G4: Piezīmes
A5: 1 | B5: 2 | C5: 3 | D5: 4 | E5: 5 | F5: 6 (4*5) | G5: 7
A6: 16. | B6: AKTĪVI TĪROŠS INSTRUMENTU DEZINFEKCIJAS LĪDZEKLIS | C6: aizpilda pretendents | D6: 2000000 | E6: aizpilda pretendents | F6: =IFERROR(D6*E6,0) -> 0
B7: Iesniedzamie dokumenti: • Eiropas Komisijas NANDO (New Approach Notified and Designated Organisations) sarakstā esošas paziņotas struktūras (notified body – angļu val.) izdots CE sertifikāts, kas apliecina produkta atbilstību medicīnas preces IIb klasei atbilstoši Eiropas Parlamenta un Padomes Regulai 2017/745 vai Eiropas Komisijas Direktīvai 93/42/EEK • Dezinfekcijas līdzekļu ražotāja etiķetes paraugs • Drošības datu lapa latviešu valodā atbilstoša REACH Regulas 1907/2006 EK 31.pantam • Pretendenta apstiprinātu dezinfekcijas līdzekļa aprakstu ražotājvalsts un latviešu valodā. • Dati par iedarbību pret veģetatīvām baktērijām, sēnītēm, HIV, hepatītu B un C vīrusiem, Mycobacteria un bezapvalka vīrusiem. Pierādīta bioplēves aktivitāte atbilstoši ISO 1588-5 standartam. • Pēc konkursa komisijas pieprasījuma papildu jāiesniedz produkta mikrobioloģiskās, toksikoloģiskās un ekoloģiskās izpētes datu kopijas • Pēc konkursa komisijas pieprasījuma iesniegt līdzekli praktiskai testēšanai
B8: Sastāvs: • Bez hlora, aldehīdiem un kvartārajiem aminosavienojumiem, enzīmiem, EDTA, bāzēts uz alkilamīnu derivātiem, ar mazgājošu efektu un antikorozīvu darbību • Līdzeklim jābūt iedarbībai pret veģetatīvām baktērijām, sēnītēm, HIV, hepatītu B un C vīrusiem, Mycobacteria un bezapvalka vīrusiem
B9: Piezīmes: • Kolonnā Nr.5 jānorāda viena litra cena neatkarīgi no dezinfekcijas līdzekļa iepakojuma tilpuma • Jāpiedāvā 1 -2 litru/kg un 5-10 litru/kg iepakojumos. Iepakojumu cenām jābūt atbilstošām norādītajai 1 l cenai, t.i. iepakojuma cena jāaprēķina ņemot vērā 1 l cenu • Plānotais sadalījums pa tilpumiem (atkarīgs no pretendentu piedāvātajiem tilpumiem, bet jāiekļaujas kopējā darba škīduma plānotajā daudzumā) - 500 000 L pa 1-2 L (ar iebūvētu dozatoru), 1 500 000 L. • Preces jāpiegādā iepakojumā, kas nodrošinās preces saglabāšanu tās pārvadāšanas un glabāšanas laikā atbilstoši ražotāja noteiktām prasībām un spēkā esošiem normatīvajiem aktiem • Vienas pozīcijas ietvaros visiem līdzekļiem jābūt no viena ražotāja, lai izslēgtu produktu nesavietojamību. • Piedāvājot savu produktu/preci attiecīgajā pozīcijā obligāti ir jāaizpilda visas nepieciešamās apakšpozīcijas.
A10: Iepakojuma lielums | B10: Pretendenta piedāvātais tilpums | C10: Ref.Nr. | D10: Plānotais vienību daudzums patēriņam 24 mēnešiem | E10: Darba šķīduma koncentrācija | F10: Darba šķīduma 1 L cena EUR (bez PVN) 15 minūšu ekspozīcijai, kas nodrošina iedarbību pret visu prasīto spektru | G10: Preces cena par vienu iepakojumu EUR (bez PVN)
A11: 1-2 litri (ar iebūvētu dozatoru) | B11: aizpilda pretendents | C11: aizpilda pretendents | D11: aizpilda pretendents | E11: aizpilda pretendents | F11: aizpilda pretendents | G11: aizpilda pretendents
A12: līdz 10 litri | B12: aizpilda pretendents | C12: aizpilda pretendents | D12: aizpilda pretendents | E12: aizpilda pretendents | F12: aizpilda pretendents | G12: aizpilda pretendents

Sheet 17.pozīcija
A1: Ražotājfirma: | B1: Aizpilda pretendents | C1: →uz Saturu
A2: Pretendents: | B2: Aizpilda pretendents
A3: Reģistrācijas Nr. | B3: Aizpilda pretendents
A4: Nr. | B4: Dezinfekcijas līdzekļa apraksts | C4: Dezinfekcijas līdzekļa nosaukums | D4: Plānotais darba šķīduma daudzums (L) 24 mēnešiem | E4: Viena litra cena EUR (bez PVN) | F4: Kopējā plānotā apjoma summa, EUR (bez PVN) | G4: Piezīmes
A5: 1 | B5: 2 | C5: 3 | D5: 4 | E5: 5 | F5: 6 (4*5) | G5: 7
A6: 17. | B6: INSTRUMENTU DEZINFEKCIJAS LĪDZEKLIS AR ENZĪMU KOMPLEKSU | C6: aizpilda pretendents | D6: 230000 | E6: aizpilda pretendents | F6: =IFERROR(D6*E6,0) -> 0
B7: Iesniedzamie dokumenti: • Eiropas Komisijas NANDO (New Approach Notified and Designated Organisations) sarakstā esošas paziņotas struktūras (notified body – angļu val.) izdots CE sertifikāts, kas apliecina produkta atbilstību medicīnas preces IIb klasei atbilstoši Eiropas Parlamenta un Padomes Regulai 2017/745 vai Eiropas Komisijas Direktīvai 93/42/EEK • Dezinfekcijas līdzekļu ražotāja etiķetes paraugs • Drošības datu lapa latviešu valodā atbilstoša REACH Regulas 1907/2006 EK 31.pantam • Pretendenta apstiprinātu dezinfekcijas līdzekļa aprakstu ražotājvalsts un latviešu valodā. • Dati par iedarbību pret veģetatīvām baktērijām, sēnītēm, HIV, hepatītu B un C vīrusiem, Mycobacteria un bezapvalka vīrusiem. Pierādīta bioplēves aktivitāte atbilstoši ISO 1588-5 standartam. • Pēc konkursa komisijas pieprasījuma papildu jāiesniedz produkta mikrobioloģiskās, toksikoloģiskās un ekoloģiskās izpētes datu kopijas • Pēc konkursa komisijas pieprasījuma iesniegt līdzekli praktiskai testēšanai
B8: Sastāvs: • Bez hlora un aldehīdiem, ar enzīmu kompleksu • Līdzeklim jābūt iedarbībai pret veģetatīvām baktērijām, sēnītēm, HIV, hepatītu B un C vīrusiem un Mycobacteria
B9: Piezīmes: • Kolonnā Nr.5 jānorāda viena litra cena neatkarīgi no dezinfekcijas līdzekļa iepakojuma tilpuma • Jāpiedāvā iepakojumā līdz 5 litri ar dozatoru. Iepakojumu cenām jābūt atbilstošām norādītajai 1 l cenai, t.i. iepakojuma cena jāaprēķina ņemot vērā 1 l cenu • Preces jāpiegādā iepakojumā, kas nodrošinās preces saglabāšanu tās pārvadāšanas un glabāšanas laikā atbilstoši ražotāja noteiktām prasībām un spēkā esošiem normatīvajiem aktiem • Vienas pozīcijas ietvaros visiem līdzekļiem jābūt no viena ražotāja, lai izslēgtu produktu nesavietojamību.
