Workbook

Sheet Saturs
B1: Pielikums Nr. 3 atklāta konkursa „Papildus dezinfekcijas līdzekļu piegāde” (ID Nr. RAKUS 2025/2K) nolikumam
B2: Tehniskās specifikācijas pēdējās aktuālizācijas datums: 2025. gada 20. janvāris
B4: Tehniskā specifikācija / Tehniskais - finanšu piedāvājums (FORMA)
B5: Atklāts konkurss „Papildus dezinfekcijas līdzekļu piegāde”
A7: Pozīcijas Nr.p.k. | B7: Nosaukums | C7: Kopsumma par pozīciju, EUR (bez PVN)
A8: 1.pozīcija | B8: SAUDZĒJOŠS ROKU HIGIĒNISKĀS UN ĶIRURĢISKĀS DEZINFEKCIJAS LĪDZEKLIS | C8: ='1.pozīcija'!F6 -> 0
A9: 2.pozīcija | B9: ĪPAŠI SAUDZĒJOŠS ROKU HIGIĒNISKĀS UN ĶIRURĢISKĀS DEZINFEKCIJAS LĪDZEKLIS | C9: ='2.pozīcija'!F6 -> 0
A10: 3.pozīcija | B10: OPERĀCIJAS LAUKA APSTRĀDES LĪDZEKLIS (1. iekrāsots preparāts un 2. neiekrāsots preparāts) | C10: ='3.pozīcija'!F21 -> 0
A11: 4.pozīcija | B11: ĀDAS DEZINFEKCIJAS LĪDZEKLIS PIRMS INTRAVASKULĀRO KATETRU IEVIETOŠANAS | C11: ='4.pozīcija'!F6 -> 0
A12: 5.pozīcija | B12: GĻOTĀDU ANTISEPTIĶIS | C12: ='5.pozīcija'!F6 -> 0
A13: 6.pozīcija | B13: ĪPAŠI SAUDZĒJOŠS ROKU ĀDU MAZGĀJAMAIS LĪDZEKLIS | C13: ='6.pozīcija'!F6 -> 0
A14: 7.pozīcija | B14: ROKU UN ĀDAS MITRINOŠS UN REĢENERĒJOŠS KOPŠANAS LĪDZEKLIS | C14: ='7.pozīcija'!F6 -> 0
A15: 8.pozīcija | B15: LIETOŠANAI GATAVS VIRSMU DEZINFEKCIJAS LĪDZEKLIS BEZ ALKOHOLA AR SPORICĪDU EFEKTU | C15: ='8.pozīcija'!F6 -> 0
A16: 9.pozīcija | B16: NĀTRIJA HIPOHLORĪTS VIRSMU DEZINFEKCIJAI | C16: ='9.pozīcija'!F6 -> 0
A17: 10.pozīcija | B17: DEZINFEKCIJAS UN MAZGĀŠANAS LĪDZEKLIS STOMATOLOĢISKĀM UN CIRKULATĪVA TIPA IEKĀRTĀM | C17: ='10.pozīcija'!F6 -> 0
A18: 11.pozīcija | B18: ĀTRAS IEDARBĪBAS DEZINFEKCIJAS LĪDZEKLIS VIRSMĀM | C18: ='11.pozīcija'!F6 -> 0
A19: 12.pozīcija | B19: HLORU SATUROŠS DEZINFEKCIJAS LĪDZEKLIS TABLETĒS | C19: ='12.pozīcija'!F6 -> 0
A20: 13.pozīcija | B20: VIRSMU DEZINFEKCIJAS LĪDZEKĻI (KONCENTRĀTS) UN ELEKTRONISKIE DOZATORI | C20: ='13.pozīcija'!F6 -> 0
A21: 14.pozīcija | B21: VIRSMU DEZINFEKCIJAS LĪDZEKLIS UZ AKTĪVĀ SKĀBEKĻA BĀZES | C21: ='14.pozīcija'!F6 -> 0
A22: 15.pozīcija | B22: AUGSTA LĪMEŅA INSTRUMENTU DEZINFEKCIJAS LĪDZEKLIS | C22: ='15.pozīcija'!F6 -> 0
A23: 16.pozīcija | B23: AKTĪVI TĪROŠS INSTRUMENTU DEZINFEKCIJAS LĪDZEKLIS | C23: ='16.pozīcija'!F6 -> 0
A24: 17.pozīcija | B24: INSTRUMENTU DEZINFEKCIJAS LĪDZEKLIS AR ENZĪMU KOMPLEKSU | C24: ='17.pozīcija'!F6 -> 0
A25: 18.pozīcija | B25: ALKOHOLA - HLORHEKSIDĪNA MITRĀS SALVETES centrālo un perifēro KATETRU APSTRĀDEI | C25: ='18.pozīcija'!F6 -> 0
A26: 19.pozīcija | B26: ALKOHOLU NESATUROŠAS SPORICĪDĀS MITRĀS SALVETES VIRSMU APSTRĀDEI | C26: ='19.pozīcija'!F6 -> 0
A27: 20.pozīcija | B27: ALKOHOLU NESATUROŠAS MITRĀS SALVETES VIRSMU APSTRĀDEI | C27: ='20.pozīcija'!F6 -> 0
A28: 21.pozīcija | B28: ALKOHOLU SATUROŠAS MITRĀS SALVETES VIRSMU APSTRĀDEI | C28: ='21.pozīcija'!F6 -> 0
A29: 22.pozīcija | B29: ALKOHOLU SATUROŠAS MITRĀS SALVETES (1.) UN ALKOHOLU NESATUROŠAS MITRĀS SALVETES (2.) ULTRASKAŅAS MEDICĪNISKO IERĪČU APSTRĀDEI NO NEAUSTĀ MATERIĀLA | C29: ='22.pozīcija'!F17 -> 0
A30: 23.pozīcija | B30: SAUSĀS SALVETES (1.) UN TRAUKI SALVEŠU IEVIETOŠANAI (2.) VIRSMU UN MEDICĪNAS IERĪČU ĀTRAI DEZINFEKCIJAI UN TĪRĪŠANAI | C30: ='23.pozīcija'!F15 -> 0
A31: 24.pozīcija | B31: LIETOŠANAI GATAVS TRAUKU DEZINFEKCIJAS LĪDZEKLIS | C31: ='24.pozīcija'!F6 -> 0
A32: 25.pozīcija | B32: DEZINFEKCIJAS LĪDZEKĻI UN SALVETES CILVĒKA AUDU UN ŠŪNU TRANSPLANTĀCIJAS CENTRA DARBĪBAS NODROŠINĀŠANAI | C32: ='25.pozīcija'!I17 -> 0
A33: 26.pozīcija | B33: DEZINFEKCIJAS LĪDZEKĻI UN SALVETES STAC.LATVIJAS ONKOLOĢIJAS CENTRS SLĒGTA TIPA APTIEKAS ASEPTISKĀ BLOKA DARBĪBAS NODROŠINĀŠANAI | C33: ='26.pozīcija'!I12 -> 0
C34: =SUM(C8:C33) -> 0

Sheet 1.pozīcija
A1: Ražotājfirma: | B1: Aizpilda pretendents | C1: →uz Saturu
A2: Pretendents: | B2: Aizpilda pretendents
A3: Reģistrācijas Nr. | B3: Aizpilda pretendents
A4: Nr. | B4: Dezinfekcijas līdzekļa apraksts | C4: Dezinfekcijas līdzekļa nosaukums | D4: Kopējais lietošanai gatavā šķīduma plānotais daudzums (L) 24 mēnešiem | E4: Viena litra cena EUR (bez PVN) | F4: Kopējā plānotā apjoma summa, EUR (bez PVN) | G4: Piezīmes
A5: 1 | B5: 2 | C5: 3 | D5: 4 | E5: 5 | F5: 6 (4*5) | G5: 7
A6: 1. | B6: SAUDZĒJOŠS ROKU HIGIĒNISKĀS UN ĶIRURĢISKĀS DEZINFEKCIJAS LĪDZEKLIS | C6: aizpilda pretendents | D6: 50000 | E6: aizpilda pretendents | F6: =IFERROR(D6*E6,0) -> 0
B7: Iesniedzamie dokumenti: · Latvijas Vides, Ģeoloģijas un Meteoroloģijas centra biocīda inventarizācijas numurs ar apstiprinoša dokumenta kopiju · Dezinfekcijas līdzekļu ražotāja etiķetes paraugs · Drošības datu lapa latviešu valodā atbilstoša REACH Regulas 1907/2006 EK 31.pantam · Pretendenta apstiprinātu dezinfekcijas līdzekļa aprakstu ražotājvalsts un latviešu valodā · Dati par iedarbību pret veģetatīvām baktērijām, sēnītēm, HIV, hepatītu B un C vīrusiem, Mycobacteria un bezapvalka vīrusiem (rotavīrusu, norovīrusu, adenovīrusu, poliovīrusu) · Pēc konkursa komisijas pieprasījuma papildu jāiesniedz produkta mikrobioloģiskās, toksikoloģiskās un ekoloģiskās izpētes datu kopijas · Pēc konkursa komisijas pieprasījuma iesniegt līdzekli praktiskai testēšanai
B8: Sastāvs: · Dezinfekcijas līdzeklim ir jāsatur 80-90 gramus etanola uz 100 g šķīduma un roku ādu saudzējošas piedevas (t.sk.glicerīns) · Līdzeklim jābūt iedarbībai līdz 20 sekundēm pret veģetatīvām baktērijām atbilstoši EN 13727, raugiem atbilstoši EN 13624, HIV, hepatītu B un C vīrusiem, rotavīrusu, norovīrusu, kā arī Mycobacteria atbilstoši EN 14348; efektivitāte pret pilnu virucidālo spektru (adeno un poliovīrusi) – līdz 30 sek.
B9: Piezīmes: · Kolonnā Nr.5 jānorāda viena litra cena neatkarīgi no dezinfekcijas līdzekļa iepakojuma tilpuma · Jānodrošina ar elkoni darbināmiem un plaukstu darbināmiem dozatoriem, turētājiem pie virsmām (sienas, gultas), to kvalitatīva darbība un bezmaksas nomaiņa bojājuma gadījumā · Nepieciešamais, plānotais ar elkoni darbināmo dozatoru un turētāju skaits – 900; nepieciešamais, plānotais ar plaukstu darbināmo dozatoru un turētāju skaits - 4750 · Plānotais sadalījums pa tilpumiem (atkarīgs no pretendentu piedāvātajiem tilpumiem, bet jāiekļaujas kopējā gatavā škīduma plānotajā daudzumā) - 5650 gab. līdz 250 ml, 5000 gab. 500 ml, 440 gab. 1000 ml, 7100 gab. līdz 6000 ml. · Iepakojumu cenām jābūt atbilstošām norādītajai 1 l cenai, t.i. iepakojuma cena jāaprēķina ņemot vērā 1 l cenu · Līdzeklim jābūt efektīvam roku higiēniskai dezinfekcijai atbilstoši EN 1500 – 20 sek un roku ķirurģiskai dezinfekcijai atbilstoši EN12791 – 90 sek. · Dozatoriem un turētājiem ir jābūt piemērotiem 500ml un 1000ml iepakojumu lietošanai · Jānodrošina ar iespēju bez papildu izmaksām, alerģisku reakciju gadījumā mainīt līdzekli ne vairāk kā 5% no kopējā apjoma, nosaucot cita ražotāja ekvivalento līdzekli · Preces jāpiegādā iepakojumā, kas nodrošinās preces saglabāšanu tās pārvadāšanas un glabāšanas laikā atbilstoši ražotāja noteiktām prasībām un spēkā esošiem normatīvajiem aktiem · Vienas pozīcijas ietvaros visiem līdzekļiem jābūt no viena ražotāja, lai izslēgtu produktu nesavietojamību. · Piedāvājot savu produktu/preci attiecīgajā pozīcijā obligāti ir jāaizpilda visas nepieciešamās apakšpozīcijas.
A10: Iepakojuma lielums | B10: Pretendenta piedāvātais tilpums | C10: Ref.Nr. | D10: Plāntotais daudzums 24 mēnešiem, L | E10: Preces cena par vienu vienību EUR (bez PVN)
A11: līdz 250 ml | B11: aizpilda pretendents | C11: aizpilda pretendents | D11: aprēķina pretendents | E11: aizpilda pretendents
A12: 500 ml | B12: 500 ml | C12: aizpilda pretendents | D12: 5000 | E12: aizpilda pretendents
A13: 1000 ml | B13: 1000 ml | C13: aizpilda pretendents | D13: 440 | E13: aizpilda pretendents
A14: līdz 6000 ml | B14: aizpilda pretendents | C14: aizpilda pretendents | D14: aprēķina pretendents | E14: aizpilda pretendents

Sheet 2.pozīcija
A1: Ražotājfirma: | B1: Aizpilda pretendents | C1: →uz Saturu
A2: Pretendents: | B2: Aizpilda pretendents
A3: Reģistrācijas Nr. | B3: Aizpilda pretendents
A4: Nr. | B4: Dezinfekcijas līdzekļa apraksts | C4: Dezinfekcijas līdzekļa nosaukums | D4: Kopējais lietošanai gatavā šķīduma plānotais daudzums (L) 24 mēnešiem | E4: Viena litra cena EUR (bez PVN) | F4: Kopējā plānotā apjoma summa, EUR (bez PVN) | G4: Piezīmes
A5: 1 | B5: 2 | C5: 3 | D5: 4 | E5: 5 | F5: 6 (4*5) | G5: 7
A6: 2. | B6: ĪPAŠI SAUDZĒJOŠS ROKU HIGIĒNISKĀS UN ĶIRURĢISKĀS DEZINFEKCIJAS LĪDZEKLIS (GELVEIDA) | C6: aizpilda pretendents | D6: 50000 | E6: aizpilda pretendents | F6: =IFERROR(D6*E6,0) -> 0
B7: Iesniedzamie dokumenti: · Latvijas Vides, Ģeoloģijas un Meteoroloģijas centra biocīda inventarizācijas numurs ar apstiprinoša dokumenta kopiju · Dezinfekcijas līdzekļu ražotāja etiķetes paraugs · Drošības datu lapa latviešu valodā atbilstoša REACH Regulas 1907/2006 EK 31.pantam · Pretendenta apstiprinātu dezinfekcijas līdzekļa aprakstu ražotājvalsts un latviešu valodā · Dati par iedarbību pret veģetatīvām baktērijām, sēnītēm, mikobakterijām un bezapvalka vīrusiem (norovīrusu, adenovīrusu, poliovīrusu) · Pēc konkursa komisijas pieprasījuma papildu jāiesniedz produkta mikrobioloģiskās, toksikoloģiskās un ekoloģiskās izpētes datu kopijas · Pēc konkursa komisijas pieprasījuma iesniegt līdzekli praktiskai testēšanai
B8: Sastāvs: · Dezinfekcijas līdzeklim ir jāsatur vismaz 70 g etanola uz 100 g šķīduma un roku ādu saudzējošas piedevas (t.sk.glicerīns) · Jāpiedāvā hlorheksidīnu, triklozānu un kvartāros amonija savienojumus nesaturošs preparāts · Līdzeklim jābūt efektīvam roku ķirurģiskai dezinfekcijai atbilstoši EN12791 – 90 sek. · Līdzeklim jābūt iedarbībai līdz 30 sekundēm pret veģetatīvām baktērijām atbilstoši EN 13727, raugiem atbilstoši EN 13624 – 30 sek, pret Mycobacteria atbilstoši EN 14348 - 30 sek., pilna virucīdā iedarbība EN 14476 – 60 sek.
B9: Piezīmes: · Kolonnā Nr.5 jānorāda viena litra cena neatkarīgi no dezinfekcijas līdzekļa iepakojuma tilpuma · Iepakojumu cenām jābūt atbilstošām norādītajai 1 l cenai, t.i. iepakojuma cena jāaprēķina ņemot vērā 1 l cenu · Jānodrošina ar elkoni darbināmiem dozatoriem, to kvalitatīva darbība un bezmaksas nomaiņa bojājuma gadījumā · Nepieciešamais, plānotais ar elkoni darbināmo dozatoru un turētāju skaits – 900 · Dozatoriem un turētājiem ir jābūt piemērotiem 500ml un 1000ml iepakojumu lietošanai · Plānotais sadalījums pa tilpumiem (atkarīgs no pretendentu piedāvātajiem tilpumiem, bet jāiekļaujas kopējā gatavā škīduma plānotajā daudzumā) - 5650 gab. līdz 250 ml, 5000 gab. 500 ml, 440 gab. 1000 ml, 7100 gab. līdz 6000 ml. · Jānodrošina ar iespēju bez papildu izmaksām, alerģisku reakciju gadījumā mainīt līdzekli ne vairāk kā 5% no kopējā apjoma, nosaucot cita ražotāja ekvivalento līdzekli · Preces jāpiegādā iepakojumā, kas nodrošinās preces saglabāšanu tās pārvadāšanas un glabāšanas laikā atbilstoši ražotāja noteiktām prasībām un spēkā esošiem normatīvajiem aktiem · Vienas pozīcijas ietvaros visiem līdzekļiem jābūt no viena ražotāja, lai izslēgtu produktu nesavietojamību. · Piedāvājot savu produktu/preci attiecīgajā pozīcijā obligāti ir jāaizpilda visas nepieciešamās apakšpozīcijas.
A10: Iepakojuma lielums | B10: Pretendenta piedāvātais tilpums | C10: Ref.Nr. | D10: Plānotais daudzums 24 mēnešiem, L | E10: Preces cena par vienu vienību EUR (bez PVN)
A11: līdz 250 ml | B11: aizpilda pretendents | C11: aizpilda pretendents | D11: aprēķina pretendents | E11: aizpilda pretendents
A12: 500 ml | B12: 500 ml | C12: aizpilda pretendents | D12: 5000 | E12: aizpilda pretendents
A13: 1000 ml | B13: 1000 ml | C13: aizpilda pretendents | D13: 440 | E13: aizpilda pretendents
A14: līdz 6000 ml | B14: aizpilda pretendents | C14: aizpilda pretendents | D14: aprēķina pretendents | E14: aizpilda pretendents

Sheet 3.pozīcija
A1: Ražotājfirma: | B1: Aizpilda pretendents | C1: →uz Saturu
A2: Pretendents: | B2: Aizpilda pretendents
A3: Reģistrācijas Nr. | B3: Aizpilda pretendents
A4: Nr. | B4: Dezinfekcijas līdzekļa apraksts | C4: Dezinfekcijas līdzekļa nosaukums | D4: Kopējais lietošanai gatavā šķīduma plānotais daudzums (L) 24 mēnešiem | E4: Viena litra cena EUR (bez PVN) | F4: Kopējā plānotā apjoma summa, EUR (bez PVN) | G4: Piezīmes
A5: 1 | B5: 2 | C5: 3 | D5: 4 | E5: 5 | F5: 6 (4*5) | G5: 7
A6: 3. | B6: OPERĀCIJAS LAUKA APSTRĀDES LĪDZEKLIS (1. iekrāsots preparāts un 2. neiekrāsots preparāts)
A7: 3.1. | B7: Iekrāsots preparāts | C7: aizpilda pretendents | D7: 12000 | E7: aizpilda pretendents | F7: =IFERROR(D7*E7,0) -> 0
A8: 3.2. | B8: Neiekrāsots preparāts | C8: aizpilda pretendents | D8: 16000 | E8: aizpilda pretendents | F8: =IFERROR(D8*E8,0) -> 0
B9: Iesniedzamie dokumenti: • Latvijas Vides, Ģeoloģijas un Meteoroloģijas centra biocīda inventarizācijas numurs ar apstiprinoša dokumenta kopiju • Dezinfekcijas līdzekļu ražotāja etiķetes paraugs • Drošības datu lapa latviešu valodā atbilstoša REACH Regulas 1907/2006 EK 31.pantam • Pretendenta apstiprinātu dezinfekcijas līdzekļa aprakstu ražotājvalsts un latviešu valodā • Dati par iedarbību pret veģetatīvām baktērijām, sēnītēm, HIV, hepatītu B un C vīrusiem, Mycobacteria un bezapvalka vīrusiem (rotavīrusu) • Pēc konkursa komisijas pieprasījuma papildu jāiesniedz produkta mikrobioloģiskās, toksikoloģiskās un ekoloģiskās izpētes datu kopijas • Pēc konkursa komisijas pieprasījuma iesniegt līdzekli praktiskai testēšanai
B10: Sastāvs: • Dezinfekcijas līdzeklim ir jāsatur ne mazāk kā 70 g etanola, benzopropanola un izopraponola kombinācija uz 100 g šķīduma. • Jāpiedāvā jodu, triklozānu un kvartāros amonija savienojumus nesaturošs preparāts • Līdzeklim jābūt iedarbībai pret veģetatīvām baktērijām, sēnītēm, HIV, hepatītu B un C vīrusiem, Mycobacteria un bezapvalka vīrusiem (rotavīrusu)
B11: Piezīmes: • Kolonnā Nr.5 jānorāda viena litra cena neatkarīgi no dezinfekcijas līdzekļa iepakojuma tilpuma • Ekspozīcija dezinfekcijai pirms injekcijām līdz 30 sekundēm, ekspozīcija dezinfekcijai pirms operācijām līdz 3 min • Jābūt autosterilam • Jāpiedāvā visi prasītie tilpumi: līdz 500ml, 1000ml un līdz 6 litri, neiekrāsots preparāts tilpumā līdz 500 ml jāpiedāvā arī ar smidzinātāju. Iepakojumu cenām jābūt atbilstošām norādītajai 1 l cenai, t.i. iepakojuma cena jāaprēķina ņemot vērā 1 l cenu • Plānotais sadalījums pa tilpumiem iekrāsotajam preparātam (atkarīgs no pretendentu piedāvātajiem tilpumiem, bet jāiekļaujas kopējā gatavā škīduma plānotajā daudzumā) - 500 L tilpumā līdz 500 ml, 4000 L pa 1000 ml, 7500 L līdz 6000 ml; neiekrāsotajam preparātam - 1500 L līdz 500 ml, 3000 L 1000 ml, 11500 L līdz 6000 ml. • Jānodrošina ar iespēju bez papildu izmaksām, alerģisku reakciju gadījumā mainīt līdzekli ne vairāk kā 5% no kopējā apjoma, nosaucot cita ražotāja ekvivalento līdzekli • Preces jāpiegādā iepakojumā, kas nodrošinās preces saglabāšanu tās pārvadāšanas un glabāšanas laikā atbilstoši ražotāja noteiktām prasībām un spēkā esošiem normatīvajiem aktiem • Vienas pozīcijas ietvaros visiem līdzekļiem jābūt no viena ražotāja, lai izslēgtu produktu nesavietojamību. • Piedāvājot savu produktu/preci attiecīgajā pozīcijā obligāti ir jāaizpilda visas nepieciešamās apakšpozīcijas.
A12: Iepakojuma lielums | B12: Pretendenta piedāvātais tilpums | C12: Ref.Nr. | D12: Plānotais daudzums 24 mēnešiem, L | E12: Preces cena par vienu vienību EUR (bez PVN)
A13: Iekrāsots preparāts:
A14: līdz 500 ml | B14: aizpilda pretendents | C14: aizpilda pretendents | D14: aprēķina pretendents | E14: aizpilda pretendents
A15: 1000 ml | B15: 1000 ml | C15: aizpilda pretendents | D15: 4000 | E15: aizpilda pretendents
A16: līdz 6000 ml | B16: aizpilda pretendents | C16: aizpilda pretendents | D16: aprēķina pretendents | E16: aizpilda pretendents
A17: Neiekrāsots preparāts:
A18: līdz 500 ml | B18: aizpilda pretendents | C18: aizpilda pretendents | D18: 1500 | E18: aizpilda pretendents
A19: 1000 ml | B19: 1000 ml | C19: aizpilda pretendents | D19: 3000 | E19: aizpilda pretendents
A20: līdz 6000 ml | B20: aizpilda pretendents | C20: aizpilda pretendents | D20: aprēķina pretendents | E20: aizpilda pretendents
A21: Kopsumma par 3.pozīciju EUR (bez PVN): | F21: =SUM(F7:F8) -> 0

Sheet 4.pozīcija
A1: Ražotājfirma: | B1: Aizpilda pretendents | C1: →uz Saturu
A2: Pretendents: | B2: Aizpilda pretendents
A3: Reģistrācijas Nr. | B3: Aizpilda pretendents
A4: Nr. | B4: Dezinfekcijas līdzekļa apraksts | C4: Dezinfekcijas līdzekļa nosaukums | D4: Kopējais lietošanai gatavā šķīduma plānotais daudzums (L) 24 mēnešiem | E4: Viena litra cena EUR (bez PVN) | F4: Kopējā plānotā apjoma summa, EUR (bez PVN) | G4: Piezīmes
A5: 1 | B5: 2 | C5: 3 | D5: 4 | E5: 5 | F5: 6 (4*5) | G5: 7
A6: 4. | B6: ĀDAS DEZINFEKCIJAS LĪDZEKLIS PIRMS INTRAVASKULĀRO KATETRU IEVIETOŠANAS | C6: aizpilda pretendents | D6: 10000 | E6: aizpilda pretendents | F6: =IFERROR(D6*E6,0) -> 0
B7: Iesniedzamie dokumenti: • Eiropas Komisijas NANDO (New Approach Notified and Designated Organisations) sarakstā esošas paziņotas struktūras (notified body – angļu val.) izdots CE sertifikāts, kas apliecina produkta atbilstību medicīnas preces IIa klasei atbilstoši Eiropas Parlamenta un Padomes Regulai 2017/745 vai Eiropas Komisijas Direktīvai 93/42/EEK •Latvijas Vides, Ģeoloģijas un Meteoroloģijas centra biocīda inventarizācijas numurs ar apstiprinoša dokumenta kopiju • Dezinfekcijas līdzekļu ražotāja etiķetes paraugs • Drošības datu lapa latviešu valodā atbilstoša REACH Regulas 1907/2006 EK 31.pantam • Pretendenta apstiprinātu dezinfekcijas līdzekļa aprakstu ražotājvalsts un latviešu valodā • Dati par iedarbību pret veģetatīvām baktērijām, sēnītēm, HIV, hepatītu B un C vīrusiem, Mycobacteria un bezapvalka vīrusiem • Pēc konkursa komisijas pieprasījuma papildu jāiesniedz produkta mikrobioloģiskās, toksikoloģiskās un ekoloģiskās izpētes datu kopijas • Pēc konkursa komisijas pieprasījuma iesniegt līdzekli praktiskai testēšanai
B8: Sastāvs: • Alkohola bāzes (ne mazāk kā 70 g uz 100 g šķīduma) dezinfekcijas līdzeklis ar ne mazāk kā 2 g hlorheksidīna. bez triklozāna un kvartāros amonija savienojumus saturošs preparāts • Līdzeklim jābūt iedarbībai līdz 30 sek. pret veģetatīvām baktērijām atbilstoši EN 13727, EN 14561; sēnītēm, raugiem atbilstoši EN 13624, EN 14562; HIV, hepatītu B un C vīrusiem, Mycobacteria atbilstoši EN 14348 un bezapvalka vīrusiem. Piemērojams arī roku higiēniskai dezinfekcijai atbilstoši EN 1500.
B9: Piezīmes: • Kolonnā Nr.5 jānorāda viena litra cena neatkarīgi no dezinfekcijas līdzekļa iepakojuma tilpuma • Jāpiedāvā tilpumi līdz 500ml ar smidzinātāju un 500 ml ar pumpi tamponam. Iepakojumu cenām jābūt atbilstošām norādītajai 1 l cenai, t.i. iepakojuma cena jāaprēķina ņemot vērā 1 l cenu • Jānodrošina ar iespēju bez papildu izmaksām, alerģisku reakciju gadījumā mainīt līdzekli ne vairāk kā 5% no kopējā apjoma, nosaucot cita ražotāja ekvivalento līdzekli • Preces jāpiegādā iepakojumā, kas nodrošinās preces saglabāšanu tās pārvadāšanas un glabāšanas laikā atbilstoši ražotāja noteiktām prasībām un spēkā esošiem normatīvajiem aktiem • Vienas pozīcijas ietvaros visiem līdzekļiem jābūt no viena ražotāja, lai izslēgtu produktu nesavietojamību. • Piedāvājot savu produktu/preci attiecīgajā pozīcijā obligāti ir jāaizpilda visas nepieciešamās apakšpozīcijas.
A10: Iepakojuma lielums | B10: Pretendenta piedāvātais tilpums | C10: Ref.Nr. | D10: Plānotais daudzums 24 mēnešiem, L | E10: Preces cena par vienu vienību EUR (bez PVN)
A11: 250 ml ar smidzinātāju | B11: aizpilda pretendents | C11: aizpilda pretendents | D11: 2500 | E11: aizpilda pretendents
A12: 500 ml ar pumpi tamponam | B12: aizpilda pretendents | C12: aizpilda pretendents | D12: 7500 | E12: aizpilda pretendents

Sheet 5.pozīcija
A1: Ražotājfirma: | B1: Aizpilda pretendents | C1: →uz Saturu
A2: Pretendents: | B2: Aizpilda pretendents
A3: Reģistrācijas Nr. | B3: Aizpilda pretendents
A4: Nr. | B4: Dezinfekcijas līdzekļa apraksts | C4: Dezinfekcijas līdzekļa nosaukums | D4: Kopējais lietošanai gatavā šķīduma plānotais daudzums (L) 24 mēnešiem | E4: Viena litra cena EUR (bez PVN) | F4: Kopējā plānotā apjoma summa, EUR (bez PVN) | G4: Piezīmes
A5: 1 | B5: 2 | C5: 3 | D5: 4 | E5: 5 | F5: 6 (4*5) | G5: 7
A6: 5. | B6: GĻOTĀDU ANTISEPTIĶIS | C6: aizpilda pretendents | D6: 450 | E6: aizpilda pretendents | F6: =IFERROR(D6*E6,0) -> 0
B7: Iesniedzamie dokumenti: • Eiropas Komisijas NANDO (New Approach Notified and Designated Organisations) sarakstā esošas paziņotas struktūras (notified body – angļu val.) izdots CE sertifikāts, kas apliecina produkta atbilstību medicīnas preces IIa klasei atbilstoši Eiropas Parlamenta un Padomes Regulai 2017/745 vai Eiropas Komisijas Direktīvai 93/42/EEK •Latvijas Vides, Ģeoloģijas un Meteoroloģijas centra biocīda inventarizācijas numurs ar apstiprinoša dokumenta kopiju • Dezinfekcijas līdzekļu ražotāja etiķetes paraugs • Drošības datu lapa latviešu valodā atbilstoša REACH Regulas 1907/2006 EK 31.pantam • Pretendenta apstiprinātu dezinfekcijas līdzekļa aprakstu ražotājvalsts un latviešu valodā • Dati par iedarbību pret veģetatīvām baktērijām, sēnītēm, HIV, hepatītu B un C vīrusiem, Mycobacteria un bezapvalka vīrusiem • Pēc konkursa komisijas pieprasījuma papildu jāiesniedz produkta mikrobioloģiskās, toksikoloģiskās un ekoloģiskās izpētes datu kopijas • Pēc konkursa komisijas pieprasījuma iesniegt līdzekli praktiskai testēšanai
B8: Sastāvs: • Alkohola bāzes (ne mazāk kā 70 gramu uz 100 gramiem šķīduma) dezinfekcijas līdzeklis ar ne mazāk kā 2 gramiem hlorheksidīna. bez triklozāna un kvartāros amonija savienojumus saturošs preparāts • Līdzeklim jābūt iedarbībai līdz 30 sek. pret veģetatīvām baktērijām atbilstoši EN 13727, EN 14561; sēnītēm, raugiem atbilstoši EN 13624, EN 14562; HIV, hepatītu B un C vīrusiem, Mycobacteria atbilstoši EN 14348 un bezapvalka vīrusiem. Piemērojams arī roku higiēniskai dezinfekcijai atbilstoši EN 1500.
B9: Piezīmes: • Kolonnā Nr.5 jānorāda viena litra cena neatkarīgi no dezinfekcijas līdzekļa iepakojuma tilpuma • Jāpiedāvā tilpumi līdz 500ml ar smidzinātāju un virs 500 ml. Iepakojumu cenām jābūt atbilstošām norādītajai 1 l cenai, t.i. iepakojuma cena jāaprēķina ņemot vērā 1 l cenu • Jānodrošina ar iespēju bez papildu izmaksām, alerģisku reakciju gadījumā mainīt līdzekli ne vairāk kā 5% no kopējā apjoma, nosaucot cita ražotāja ekvivalento līdzekli • Preces jāpiegādā iepakojumā, kas nodrošinās preces saglabāšanu tās pārvadāšanas un glabāšanas laikā atbilstoši ražotāja noteiktām prasībām un spēkā esošiem normatīvajiem aktiem • Vienas pozīcijas ietvaros visiem līdzekļiem jābūt no viena ražotāja, lai izslēgtu produktu nesavietojamību. • Piedāvājot savu produktu/preci attiecīgajā pozīcijā obligāti ir jāaizpilda visas nepieciešamās apakšpozīcijas.
A10: Iepakojuma lielums | B10: Pretendenta piedāvātais tilpums | C10: Ref.Nr. | D10: Plānotais daudzums 24 mēnešiem, L | E10: Preces cena par vienu vienību EUR (bez PVN)
A11: Līdz 500 ml | B11: aizpilda pretendents | C11: aizpilda pretendents | D11: 450 | E11: aizpilda pretendents

Sheet 6.pozīcija
A1: Ražotājfirma: | B1: Aizpilda pretendents | C1: →uz Saturu
A2: Pretendents: | B2: Aizpilda pretendents
A3: Reģistrācijas Nr. | B3: Aizpilda pretendents
A4: Nr. | B4: Dezinfekcijas līdzekļa apraksts | C4: Dezinfekcijas līdzekļa nosaukums | D4: Kopējais lietošanai gatavā šķīduma plānotais daudzums (L) 24 mēnešiem | E4: Viena litra cena EUR (bez PVN) | F4: Kopējā plānotā apjoma summa, EUR (bez PVN) | G4: Piezīmes
A5: 1 | B5: 2 | C5: 3 | D5: 4 | E5: 5 | F5: 6 (4*5) | G5: 7
A6: 6. | B6: ĪPAŠI SAUDZĒJOŠS ROKU ĀDU MAZGĀJAMAIS LĪDZEKLIS | C6: aizpilda pretendents | D6: 30000 | E6: aizpilda pretendents | F6: =IFERROR(D6*E6,0) -> 0
B7: Iesniedzamie dokumenti: • Pretendenta apstiprinātu līdzekļa aprakstu ražotājvalsts un latviešu valodā • Pēc konkursa komisijas pieprasījuma papildu jāiesniedz produkta mikrobioloģiskās, toksikoloģiskās un ekoloģiskās izpētes datu kopijas • Pēc konkursa komisijas pieprasījuma iesniegt līdzekli praktiskai testēšanai
B8: Sastāvs: • pH no 5.0 līdz 5.5, nesatur krāsvielas, smaržvielas un sārmus
B9: Piezīmes: • Kolonnā Nr.5 jānorāda viena litra cena neatkarīgi no līdzekļa iepakojuma tilpuma • Jānodrošina ar elkoni darbināmiem un plaukstu darbināmiem dozatoriem, turētājiem pie virsmām (sienas) un to kvalitatīva darbība un bezmaksas nomaiņa bojājuma gadījumā • Nepieciešamais, plānotais ar elkoni darbināmo dozatoru un turētāju skaits – 260; nepieciešamais, plānotais ar plaukstu darbināmo dozatoru un turētāju skaits - 2720 • Jāpiedāvā visi prasītie tilpumi: 500ml, 1000ml, un līdz 6 litri. Iepakojumu cenām jābūt atbilstošām norādītajai 1 l cenai, t.i. iepakojuma cena jāaprēķina ņemot vērā 1 l cenu • Plānotais iepakojumu tilpums: 500 ml – 4900 iepakojumi; 1000 ml – 200 iepakojumi, pārējais daudzums iepakojumā līdz 6 litri • Dozatoriem un turētājiem ir jābūt piemērotiem 500ml un 1000ml iepakojumu lietošanai • Jānodrošina ar iespēju bez papildu izmaksām, alerģisku reakciju gadījumā mainīt līdzekli ne vairāk kā 5% no kopējā apjoma, nosaucot cita ražotāja ekvivalento līdzekli • Piemērots lietošanai klīnikās un ārstu praksē, pirms ķirurģiskās un pēc higiēniskās roku dezinfekcijas, zīdaiņu kopšanai. • Preces jāpiegādā iepakojumā, kas nodrošinās preces saglabāšanu tās pārvadāšanas un glabāšanas laikā atbilstoši ražotāja noteiktām prasībām un spēkā esošiem normatīvajiem aktiem • Vienas pozīcijas ietvaros visiem līdzekļiem jābūt no viena ražotāja, lai izslēgtu produktu nesavietojamību. • Piedāvājot savu produktu/preci attiecīgajā pozīcijā obligāti ir jāaizpilda visas nepieciešamās apakšpozīcijas.
A10: Iepakojuma lielums | B10: Pretendenta piedāvātais tilpums | C10: Ref.Nr. | D10: Plānotais daudzums 24 mēnešiem (L) | E10: Preces cena par vienu vienību EUR (bez PVN)
A11: 500 ml | B11: aizpilda pretendents | C11: aizpilda pretendents | D11: 2450 | E11: aizpilda pretendents
A12: 1000 ml | B12: aizpilda pretendents | C12: aizpilda pretendents | D12: 200 | E12: aizpilda pretendents
A13: līdz 6000 ml | B13: aizpilda pretendents | C13: aizpilda pretendents | D13: 22350 | E13: aizpilda pretendents

Sheet 7.pozīcija
A1: Ražotājfirma: | B1: Aizpilda pretendents | C1: →uz Saturu
A2: Pretendents: | B2: Aizpilda pretendents
A3: Reģistrācijas Nr. | B3: Aizpilda pretendents
A4: Nr. | B4: Dezinfekcijas līdzekļa apraksts | C4: Dezinfekcijas līdzekļa nosaukums | D4: Kopējais lietošanai gatavā šķīduma plānotais daudzums (L) 24 mēnešiem | E4: Viena litra cena EUR (bez PVN) | F4: Kopējā plānotā apjoma summa, EUR (bez PVN) | G4: Piezīmes
A5: 1 | B5: 2 | C5: 3 | D5: 4 | E5: 5 | F5: 6 (4*5) | G5: 7
A6: 7. | B6: ROKU UN ĀDAS MITRINOŠS UN REĢENERĒJOŠS KOPŠANAS LĪDZEKLIS | C6: aizpilda pretendents | D6: 3500 | E6: aizpilda pretendents | F6: =IFERROR(D6*E6,0) -> 0
B7: Iesniedzamie dokumenti: • Pretendenta apstiprinātu roku kopšanas līdzekļa aprakstu ražotājvalsts un latviešu valodā • Pēc konkursa komisijas pieprasījuma papildu jāiesniedz produkta mikrobioloģiskās, toksikoloģiskās un ekoloģiskās izpētes datu kopijas • Pēc konkursa komisijas pieprasījuma iesniegt līdzekli praktiskai testēšanai
B8: Sastāvs: Hipoalerģisks un dermatoloģiski pārbaudīts sastāvs, satur ādu saudzējošas vielas (piemēram, hialuronskābe, Urea)
B9: Piezīmes: • Kolonnā Nr.5 jānorāda viena litra cena neatkarīgi no līdzekļa iepakojuma tilpuma • Ar ādu reģenerējošu efektu 500 ml iepakojumos. Iepakojumu cenām jābūt atbilstošām norādītajai 1 l cenai, t.i. iepakojuma cena jāaprēķina ņemot vērā 1 l cenu • Ar plaukstu darbināmu dozatoru ar maināmu vienreizējās dozēšanas režīmu no 0,5 ml – 1,5 ml, turētājiem pie virsmām (sienas), kā arī jāgarantē to kvalitatīva darbība un bezmaksas nomaiņa bojājuma gadījumā • Jānodrošina ar iespēju bez papildu izmaksām, alerģisku reakciju gadījumā mainīt līdzekli ne vairāk kā 5% no kopējā apjoma, nosaucot cita ražotāja ekvivalento līdzekli • Preces jāpiegādā iepakojumā, kas nodrošinās preces saglabāšanu tās pārvadāšanas un glabāšanas laikā atbilstoši ražotāja noteiktām prasībām un spēkā esošiem normatīvajiem aktiem • Vienas pozīcijas ietvaros visiem līdzekļiem jābūt no viena ražotāja, lai izslēgtu produktu nesavietojamību.
A10: Iepakojuma lielums | B10: Pretendenta piedāvātais tilpums | C10: Ref.Nr. | D10: Plānotais daudzums 24 mēnešiem (L) | E10: Preces cena par vienu vienību EUR (bez PVN)
A11: 500 ml | B11: aizpilda pretendents | C11: aizpilda pretendents | D11: 3500 | E11: aizpilda pretendents

Sheet 8.pozīcija
A1: Ražotājfirma: | B1: Aizpilda pretendents | C1: →uz Saturu
A2: Pretendents: | B2: Aizpilda pretendents
A3: Reģistrācijas Nr. | B3: Aizpilda pretendents
A4: Nr. | B4: Dezinfekcijas līdzekļa apraksts | C4: Dezinfekcijas līdzekļa nosaukums | D4: Kopējais lietošanai gatavā šķīduma plānotais daudzums (L) 24 mēnešiem | E4: Viena litra cena EUR (bez PVN) | F4: Kopējā plānotā apjoma summa, EUR (bez PVN) | G4: Piezīmes
A5: 1 | B5: 2 | C5: 3 | D5: 4 | E5: 5 | F5: 6 (4*5) | G5: 7
A6: 8. | B6: LIETOŠANAI GATAVS VIRSMU DEZINFEKCIJAS LĪDZEKLIS BEZ ALKOHOLA AR SPORICĪDU EFEKTU | C6: aizpilda pretendents | D6: 4000 | E6: aizpilda pretendents | F6: =IFERROR(D6*E6,0) -> 0
B7: Iesniedzamie dokumenti: • Eiropas Komisijas NANDO (New Approach Notified and Designated Organisations) sarakstā esošas paziņotas struktūras (notified body – angļu val.) izdots CE sertifikāts, kas apliecina produkta atbilstību medicīnas preces IIb klasei atbilstoši Eiropas Parlamenta un Padomes Regulai 2017/745 vai Eiropas Komisijas Direktīvai 93/42/EEK •Latvijas Vides, Ģeoloģijas un Meteoroloģijas centra biocīda inventarizācijas numurs ar apstiprinoša dokumenta kopiju • Dezinfekcijas līdzekļu ražotāja etiķetes paraugs • Drošības datu lapa latviešu valodā atbilstoša REACH Regulas 1907/2006 EK 31.pantam • Pretendenta apstiprinātu dezinfekcijas līdzekļa aprakstu ražotājvalsts un latviešu valodā. • Dati par iedarbību un tās ātrumu pret veģetatīvām baktērijām, sēnītēm, HIV, hepatītu B un C vīrusiem, Mycobacteria un apvalka un bezapvalka vīrusiem, sporām • Pēc konkursa komisijas pieprasījuma papildu jāiesniedz produkta mikrobioloģiskās, toksikoloģiskās un ekoloģiskās izpētes datu kopijas • Pēc konkursa komisijas pieprasījuma iesniegt līdzekli praktiskai testēšanai
B8: Sastāvs: • Aktīvā viela - ūdeņraža pārskābe, nesatur alkoholu, aldehīdus, enzīmus un hloru. • Mikrobioloģiskā efektivitāte: Līdz 5 min ekspozīcijā: EN 13727, EN 16615 (baktericīds), EN 13624, EN 16615 (levurocīds), EN 13624, EN 16615 (fungicīds), EN 14348 (tuberkulocīds), aktīvs uz HIV, HBV, HCV, Rota, Adeno un Papova vīrusiem; sporām (sporicīdās ietekmes noteikšanai - EN17126 30 min.)
B9: Piezīmes: • Kolonnā Nr.5 jānorāda viena litra cena neatkarīgi no dezinfekcijas līdzekļa iepakojuma tilpuma • Jāpiedāvā 500 ml – 1 litra tilpumā ar smidzinātāju, kas neveido aerosolu. Iepakojumu cenām jābūt atbilstošām norādītajai 1 l cenai, t.i. iepakojuma cena jāaprēķina ņemot vērā 1 l cenu • Nepiedāvāt aldehīdus, hloru un to savienojumus saturošus preparātus • Jānodrošina ar iespēju bez papildu izmaksām, alerģisku reakciju gadījumā mainīt līdzekli ne vairāk kā 5% no kopējā apjoma, nosaucot cita ražotāja ekvivalento līdzekli • Preces jāpiegādā iepakojumā, kas nodrošinās preces saglabāšanu tās pārvadāšanas un glabāšanas laikā atbilstoši ražotāja noteiktām prasībām un spēkā esošiem normatīvajiem aktiem
A10: Iepakojuma lielums | B10: Pretendenta piedāvātais tilpums | C10: Ref.Nr. | D10: Plānotais daudzums 24 mēnešiem (L) | E10: Preces cena par vienu vienību EUR (bez PVN)
A11: 500 ml-1000 ml (ar izsmidzinātāju) | B11: aizpilda pretendents | C11: aizpilda pretendents | D11: aprēķina pretendents | E11: aizpilda pretendents

Sheet 9.pozīcija
A1: Ražotājfirma: | B1: Aizpilda pretendents | C1: →uz Saturu
A2: Pretendents: | B2: Aizpilda pretendents
A3: Reģistrācijas Nr. | B3: Aizpilda pretendents
A4: Nr. | B4: Dezinfekcijas līdzekļa apraksts | C4: Dezinfekcijas līdzekļa nosaukums | D4: Kopējais lietošanai gatavā šķīduma plānotais daudzums (L) 24 mēnešiem | E4: Viena litra cena EUR (bez PVN) | F4: Kopējā plānotā apjoma summa, EUR (bez PVN) | G4: Piezīmes
A5: 1 | B5: 2 | C5: 3 | D5: 4 | E5: 5 | F5: 6 (4*5) | G5: 7
A6: 9. | B6: NĀTRIJA HIPOHLORĪTS VIRSMU DEZINFEKCIJAI | C6: aizpilda pretendents | D6: 25000 | E6: aizpilda pretendents | F6: =IFERROR(D6*E6,0) -> 0
B7: Iesniedzamie dokumenti: • Eiropas Komisijas NANDO (New Approach Notified and Designated Organisations) sarakstā esošas paziņotas struktūras (notified body – angļu val.) izdots CE sertifikāts, kas apliecina produkta atbilstību medicīnas preces IIa klasei atbilstoši Eiropas Parlamenta un Padomes Regulai 2017/745 vai Eiropas Komisijas Direktīvai 93/42/EEK •Latvijas Vides, Ģeoloģijas un Meteoroloģijas centra biocīda inventarizācijas numurs ar apstiprinoša dokumenta kopiju • Dezinfekcijas līdzekļu ražotāja etiķetes paraugs • Drošības datu lapa latviešu valodā atbilstoša REACH Regulas 1907/2006 EK 31.pantam • Pretendenta apstiprinātu dezinfekcijas līdzekļa aprakstu ražotājvalsts un latviešu valodā. • Dati par iedarbību pret veģetatīvām baktērijām, sēnītēm, HIV, hepatītu B un C vīrusiem, Mycobacteria, bezapvalka vīrusiem un sporām • Pēc konkursa komisijas pieprasījuma papildu jāiesniedz produkta mikrobioloģiskās, toksikoloģiskās un ekoloģiskās izpētes datu kopijas • Pēc konkursa komisijas pieprasījuma iesniegt līdzekli praktiskai testēšanai
B8: Sastāvs: • Plānotais darba šķīdums paredzēts koncentrācijai no 0.053 – 0.062 % (aktīvā hlora saturs 248 – 291 ppm) līdz 0.53 – 0,62 % (aktīvā hlora saturs 2483 – 2909 ppm) • Līdzeklim jābūt iedarbībai pret veģetatīvām baktērijām, sēnītēm, HIV, hepatītu B un C vīrusiem, Mycobacteria, bezapvalka vīrusiem un sporām
B9: Piezīmes: • Kolonnā Nr. 5 jānorāda viena litra cena neatkarīgi no dezinfekcijas līdzekļa iepakojuma tilpuma • Nepiedāvāt koncentrātu virs 6 % • Piedāvāt iepakojumā līdz 5 – 10 litriem. Iepakojumu cenām jābūt atbilstošām norādītajai 1 l cenai, t.i. iepakojuma cena jāaprēķina ņemot vērā 1 l cenu • Jānodrošina ar iespēju bez papildu izmaksām, alerģisku reakciju gadījumā mainīt līdzekli ne vairāk kā 5% no kopējā apjoma, nosaucot cita ražotāja ekvivalento līdzekli • Preces jāpiegādā iepakojumā, kas nodrošinās preces saglabāšanu tās pārvadāšanas un glabāšanas laikā atbilstoši ražotāja noteiktām prasībām un spēkā esošiem normatīvajiem aktiem
A10: Iepakojuma lielums | B10: Pretendenta piedāvātais tilpums | C10: Ref.Nr. | D10: Plānotais daudzums 24 mēnešiem (L) | E10: Preces cena par vienu vienību EUR (bez PVN)
A11: 5-6 litri | B11: aizpilda pretendents | C11: aizpilda pretendents | D11: aprēķina pretendents | E11: aizpilda pretendents

Sheet 10.pozīcija
A1: Ražotājfirma: | B1: Aizpilda pretendents | C1: →uz Saturu
A2: Pretendents: | B2: Aizpilda pretendents
A3: Reģistrācijas Nr. | B3: Aizpilda pretendents
A4: Nr. | B4: Dezinfekcijas līdzekļa apraksts | C4: Dezinfekcijas līdzekļa nosaukums | D4: Kopējais lietošanai gatavā šķīduma plānotais daudzums (L) 24 mēnešiem | E4: Viena litra cena EUR (bez PVN) | F4: Kopējā plānotā apjoma summa, EUR (bez PVN) | G4: Piezīmes
A5: 1 | B5: 2 | C5: 3 | D5: 4 | E5: 5 | F5: 6 (4*5) | G5: 7
A6: 10. | B6: DEZINFEKCIJAS UN MAZGĀŠANAS LĪDZEKLIS STOMATOLOĢISKĀM UN CIRKULATĪVA TIPA IEKĀRTĀM | C6: aizpilda pretendents | D6: 20 | E6: aizpilda pretendents | F6: =IFERROR(D6*E6,0) -> 0
B7: Iesniedzamie dokumenti: · Eiropas Komisijas NANDO (New Approach Notified and Designated Organisations) sarakstā esošas paziņotas struktūras (notified body – angļu val.) izdots CE sertifikāts, kas apliecina produkta atbilstību medicīnas preces IIa klasei atbilstoši Eiropas Parlamenta un Padomes Regulai 2017/745 vai Eiropas Komisijas Direktīvai 93/42/EEK · Dezinfekcijas līdzekļu ražotāja etiķetes paraugs · Drošības datu lapa latviešu valodā atbilstoša REACH Regulas 1907/2006 EK 31.pantam · Pretendenta apstiprinātu dezinfekcijas līdzekļa aprakstu ražotājvalsts un latviešu valodā · Dati par iedarbību pret veģetatīvām baktērijām, sēnītēm, HIV, hepatītu B un C vīrusiem, Mycobacteria un bezapvalka vīrusiem (rotavīrusu, norovīrusu, adenovīrusu, poliovīrusu) · Pēc konkursa komisijas pieprasījuma papildu jāiesniedz produkta mikrobioloģiskās, toksikoloģiskās un ekoloģiskās izpētes datu kopijas · Pēc konkursa komisijas pieprasījuma iesniegt līdzekli praktiskai testēšanai
B8: Sastāvs: • Ir sārmu saturošs dezinfekcijas līdzeklis, ko izmanto stomatoloģisko iekārtu atsūcējsistēmu mazgāšanai un dezinfekcijai, kā arī izmanto visa veida slēgtu cirkulatīva tipa iekārtu dezinfekcijai • Nesatur hloru, aldehīdus, protamīnu un fenolus • Līdzeklim jābūt iedarbībai pret veģetatīvām baktērijām (EN 13727/EN14561), sēnītēm,(EN 13624/EN 14562) , tuberkulocīds (EN 14348/EN 14563), un apvalkotiem vīrusiem (EN 14476/EN 17111)
B9: Piezīmes: • Kolonnā Nr.5 jānorāda viena litra cena neatkarīgi no dezinfekcijas līdzekļa iepakojuma tilpuma • Jāpiedāvā tilpumi līdz 1 litram un 5 – 6 litriem. Iepakojumu cenām jābūt atbilstošām norādītajai 1 l cenai, t.i. iepakojuma cena jāaprēķina ņemot vērā 1 l cenu • Darba šķīduma izmantošana telpās esošiem cilvēkiem nav kaitīga, alerģizācijas pakāpe samazināta līdz minimumam; • Pēc lietošanas viegli izskalojas no sistēmas, neputojošs. • Preparāts bioloģiski sadalās un atlikumus var liet kanalizācijā • Preces jāpiegādā iepakojumā, kas nodrošinās preces saglabāšanu tās pārvadāšanas un glabāšanas laikā atbilstoši ražotāja noteiktām prasībām un spēkā esošiem normatīvajiem aktiem • Vienas pozīcijas ietvaros visiem līdzekļiem jābūt no viena ražotāja, lai izslēgtu produktu nesavietojamību. • Piedāvājot savu produktu/preci attiecīgajā pozīcijā obligāti ir jāaizpilda visas nepieciešamās apakšpozīcijas.
A10: Iepakojuma lielums | B10: Pretendenta piedāvātais tilpums | C10: Ref.Nr. | D10: Plānotais daudzums 24 mēnešiem (L) | E10: Preces cena par vienu vienību EUR (bez PVN)
A11: 1 litrs | B11: aizpilda pretendents | C11: aizpilda pretendents | D11: 10 | E11: aizpilda pretendents
A12: 5-6 litri | B12: aizpilda pretendents | C12: aizpilda pretendents | D12: 10 | E12: aizpilda pretendents

Sheet 11.pozīcija
A1: Ražotājfirma: | B1: Aizpilda pretendents | C1: →uz Saturu
A2: Pretendents: | B2: Aizpilda pretendents
A3: Reģistrācijas Nr. | B3: Aizpilda pretendents
A4: Nr. | B4: Dezinfekcijas līdzekļa apraksts | C4: Dezinfekcijas līdzekļa nosaukums | D4: Kopējais lietošanai gatavā šķīduma plānotais daudzums (L) 24 mēnešiem | E4: Viena litra cena EUR (bez PVN) | F4: Kopējā plānotā apjoma summa, EUR (bez PVN) | G4: Piezīmes
A5: 1 | B5: 2 | C5: 3 | D5: 4 | E5: 5 | F5: 6 (4*5) | G5: 7
A6: 11. | B6: ĀTRAS IEDARBĪBAS DEZINFEKCIJAS LĪDZEKLIS VIRSMĀM | C6: aizpilda pretendents | D6: 30000 | E6: aizpilda pretendents | F6: =IFERROR(D6*E6,0) -> 0
B7: Iesniedzamie dokumenti: • Eiropas Komisijas NANDO (New Approach Notified and Designated Organisations) sarakstā esošas paziņotas struktūras (notified body – angļu val.) izdots CE sertifikāts, kas apliecina produkta atbilstību medicīnas preces IIa klasei atbilstoši Eiropas Parlamenta un Padomes Regulai 2017/745 vai Eiropas Komisijas Direktīvai 93/42/EEK • Dezinfekcijas līdzekļu ražotāja etiķetes paraugs • Drošības datu lapa latviešu valodā atbilstoša REACH Regulas 1907/2006 EK 31.pantam • Pretendenta apstiprināts dezinfekcijas līdzekļa apraksts ražotājvalsts un latviešu valodā • Pēc konkursa komisijas pieprasījuma papildu jāiesniedz produkta mikrobioloģiskās, toksikoloģiskās un ekoloģiskās izpētes datu kopijas • Dati par iedarbību pret veģetatīvām baktērijām, sēnītēm, HIV, hepatītu B un C vīrusiem, Mycobacteria un bezapvalka vīrusiem
B8: Sastāvs: • Sastāvs: aktīvā viela etanols vai etanola/propanola maisījums vismaz 70g/100g • Mikrobioloģiskā efektivitāte: Līdz 30 sekundēm ekspozīcijā: EN 13727, EN 16615 (baktericīds), līdz 5 minūtēm EN 14348 (tuberkulocīds),līdz 30 sekundēm EN14476 (virucīds); pretsēnīšu iedarbība (C.albicans) līdz 30 sekundēm, Aspergillus niger līdz 5 minūtēm, EN 13624
B9: Piezīmes: • Kolonnā Nr.5 jānorāda viena litra cena neatkarīgi no dezinfekcijas līdzekļa iepakojuma tilpuma • Ātras iedarbības spirtu saturošs virsmu dezinfekcijas līdzeklis - gatavs lietošanai • Plānotais iepakojumu sadalījums pa tilpumiem: līdz 1000 ml – 10 000 L, 5-6 litri - 20 000 L • Bez krāsas • Preces jāpiegādā iepakojumā, kas nodrošinās preces saglabāšanu tās pārvadāšanas un glabāšanas laikā atbilstoši ražotāja noteiktām prasībām un spēkā esošiem normatīvajiem aktiem. • Vienas pozīcijas ietvaros visiem līdzekļiem jābūt no viena ražotāja, lai izslēgtu produktu nesavietojamību. • Piedāvājot savu produktu/preci attiecīgajā pozīcijā obligāti ir jāaizpilda visas nepieciešamās apakšpozīcijas.
A10: Iepakojuma lielums | B10: Pretendenta piedāvātais tilpums | C10: Ref.Nr. | D10: Plānotais daudzums 24 mēnešiem (L) | E10: Preces cena par vienu vienību EUR (bez PVN)
A11: līdz 1000 ml ar smidzinātāju | B11: aizpilda pretendents | C11: aizpilda pretendents | D11: aprēķina pretendents | E11: aizpilda pretendents
A12: 5-6 litri | B12: aizpilda pretendents | C12: aizpilda pretendents | D12: aprēķina pretendents | E12: aizpilda pretendents

Sheet 12.pozīcija
A1: Ražotājfirma: | B1: Aizpilda pretendents | C1: →uz Saturu
A2: Pretendents: | B2: Aizpilda pretendents
A3: Reģistrācijas Nr. | B3: Aizpilda pretendents
A4: Nr. | B4: Dezinfekcijas līdzekļa apraksts | C4: Dezinfekcijas līdzekļa nosaukums | D4: Plānotais vienību daudzums patēriņam (tabl.) 24 mēnešiem | E4: Viena litra cena EUR (bez PVN) | F4: Kopējā plānotā apjoma summa, EUR (bez PVN) | G4: Piezīmes
A5: 1 | B5: 2 | C5: 3 | D5: 4 | E5: 5 | F5: 6 (4*5) | G5: 7
A6: 12. | B6: HLORU SATUROŠS DEZINFEKCIJAS LĪDZEKLIS TABLETĒS | C6: aizpilda pretendents | D6: 150000 | E6: aizpilda pretendents | F6: =IFERROR(D6*E6,0) -> 0
B7: Iesniedzamie dokumenti: • Latvijas Vides, Ģeoloģijas un Meteoroloģijas centra biocīda inventarizācijas numurs ar apstiprinoša dokumenta kopiju • Dezinfekcijas līdzekļu ražotāja etiķetes paraugs • Drošības datu lapa latviešu valodā atbilstoša REACH Regulas 1907/2006 EK 31.pantam • Pretendenta apstiprinātu dezinfekcijas līdzekļa aprakstu ražotājvalsts un latviešu valodā. • Dati par iedarbību pret veģetatīvām baktērijām, sēnītēm, HIV, hepatītu B un C vīrusiem, Mycobacteria, bezapvalka vīrusiem un sporām (sporicīdās ietekmes noteikšanai - EN17126) • Pēc konkursa komisijas pieprasījuma papildu jāiesniedz produkta mikrobioloģiskās, toksikoloģiskās un ekoloģiskās izpētes datu kopijas • Pēc konkursa komisijas pieprasījuma iesniegt līdzekli praktiskai testēšanai
B8: Sastāvs: • Nepieciešamais hlora daudzums vienā vienībā: 1500 ppm • Līdzeklim jābūt iedarbībai pret veģetatīvām baktērijām, sēnītēm, HIV, hepatītu B un C vīrusiem, Mycobacteria, bezapvalka vīrusiem un sporām (sporicīdās ietekmes noteikšanai - EN17126)
B9: Piezīmes: • Jānodrošina ar iespēju bez papildu izmaksām, alerģisku reakciju gadījumā mainīt līdzekli ne vairāk kā 5% no kopējā apjoma, nosaucot cita ražotāja ekvivalento līdzekli • Iepakojumu cenām jābūt atbilstošām norādītajai 1 tabletes cenai, t.i. iepakojuma cena jāaprēķina ņemot vērā 1 tabletes cenu • Preces jāpiegādā iepakojumā, kas nodrošinās preces saglabāšanu tās pārvadāšanas un glabāšanas laikā atbilstoši ražotāja noteiktām prasībām un spēkā esošiem normatīvajiem aktiem
A10: Iepakojuma lielums | B10: Pretendenta piedāvātais tilpums | C10: Ref.Nr. | D10: Plānotais vienību daudzums patēriņam 24 mēnešiem | E10: Preces cena par vienu vienību EUR (bez PVN)
A11: Līdz 300 tabletēm | B11: aizpilda pretendents | C11: aizpilda pretendents | D11: 150000 | E11: aizpilda pretendents

Sheet 13.pozīcija
A1: Ražotājfirma: | B1: Aizpilda pretendents | C1: →uz Saturu
A2: Pretendents: | B2: Aizpilda pretendents
A3: Reģistrācijas Nr. | B3: Aizpilda pretendents
A4: Nr. | B4: Dezinfekcijas līdzekļa apraksts | C4: Dezinfekcijas līdzekļa nosaukums | D4: Plānotais darba šķīduma daudzums (L) 24 mēnešiem | E4: Viena litra cena EUR (bez PVN) | F4: Kopējā plānotā apjoma summa, EUR (bez PVN) | G4: Piezīmes
A5: 1 | B5: 2 | C5: 3 | D5: 4 | E5: 5 | F5: 6 (4*5) | G5: 7
A6: 13. | B6: VIRSMU DEZINFEKCIJAS LĪDZEKĻI (KONCENTRĀTS) UN ELEKTRONISKIE DOZATORI | C6: aizpilda pretendents | D6: 1700000 | E6: aizpilda pretendents | F6: =IFERROR(D6*E6,0) -> 0
B7: Iesniedzamie dokumenti: • Eiropas Komisijas NANDO (New Approach Notified and Designated Organisations) sarakstā esošas paziņotas struktūras (notified body – angļu val.) izdots CE sertifikāts, kas apliecina produkta atbilstību medicīnas preces IIa klasei atbilstoši Eiropas Parlamenta un Padomes Regulai 2017/745 vai Eiropas Komisijas Direktīvai 93/42/EEK •Latvijas Vides, Ģeoloģijas un Meteoroloģijas centra biocīda inventarizācijas numurs ar apstiprinoša dokumenta kopiju • Dezinfekcijas līdzekļu ražotāja etiķetes paraugs • Drošības datu lapa latviešu valodā atbilstoša REACH Regulas 1907/2006 EK 31.pantam • Pretendenta apstiprinātu dezinfekcijas līdzekļa aprakstu ražotājvalsts un latviešu valodā • Dati par iedarbību pret veģetatīvām baktērijām, sēnītēm, HIV, hepatītu B un C vīrusiem, Mycobacteria, un bezapvalka vīrusiem (rotavīrusu, papova, norovīrusu) • Pēc konkursa komisijas pieprasījuma papildu jāiesniedz produkta mikrobioloģiskās, toksikoloģiskās un ekoloģiskās izpētes datu kopijas • Pēc konkursa komisijas pieprasījuma iesniegt līdzekli praktiskai testēšanai
B8: Sastāvs: • Līdzeklim jābūt uz alkilamīnderivātu bāzes • Nepiedāvāt aldehīdus un to savienojumus saturošus preparātus, hloru saturošus savienojumus, un enzīmus • Iedarbojas līdz 15 min pie koncentrācijas ne lielākas par 0,25% ekspozīcijā uz baktērijām, tai skaitā multirezistentajām MRSA, Ac.Baumanii, K.pneumoniae, ESBL, raugiem, kā arī uz HBV, HCV, HIV, Rota un Poliomas vīrusiem (EN 13727; EN 13624), kā arī 1h ekspozīcijā uz tuberkulozi atb. EN 14348, Noro vīrusu atb. EN 14476, Adeno un Korona vīrusiem.
B9: Piezīmes: • Kolonnā Nr.5 jānorāda viena litra cena neatkarīgi no dezinfekcijas līdzekļa iepakojuma tilpuma • Jāpiedāvā iepakojums 1-2 litri ar iebūvētu dozatoru un līdz 10 litri. Iepakojumu cenām jābūt atbilstošām norādītajai 1 l cenai, t.i. iepakojuma cena jāaprēķina ņemot vērā 1 l cenu • Plānotais sadalījums pa tilpumiem (atkarīgs no pretendentu piedāvātajiem tilpumiem, bet jāiekļaujas kopējā darba škīduma plānotajā daudzumā) - 700 000 L pa 1-2 L (ar iebūvētu dozatoru), 1 000 000 L iepakojumos līdz 10 L. • Jānodrošina manuālo dozatoru un vismaz divdesmit piecu elektronisko dozatoru (dozēšana darba šķīdumam) uzstādīšanu bez maksas slimnīcā • Jānodrošina ar iespēju bez papildu izmaksām, alerģisku reakciju gadījumā mainīt līdzekli ne vairāk kā 5% no kopējā apjoma, nosaucot cita ražotāja ekvivalento līdzekli • Preces jāpiegādā iepakojumā, kas nodrošinās preces saglabāšanu tās pārvadāšanas un glabāšanas laikā atbilstoši ražotāja noteiktām prasībām un spēkā esošiem normatīvajiem aktiem. • Vienas pozīcijas ietvaros visiem līdzekļiem jābūt no viena ražotāja, lai izslēgtu produktu nesavietojamību. • Piedāvājot savu produktu/preci attiecīgajā pozīcijā obligāti ir jāaizpilda visas nepieciešamās apakšpozīcijas.
A10: Iepakojuma lielums | B10: Pretendenta piedāvātais tilpums | C10: Ref.Nr. | D10: Plānotais vienību daudzums patēriņam 24 mēnešiem | E10: Darba šķīduma koncentrācija | F10: Darba šķīduma 1 L cena EUR (bez PVN) 15 minūšu ekspozīcijai, kas nodrošina iedarbību pret visu prasīto spektru | G10: Preces cena par vienu iepakojumu EUR (bez PVN)
A11: 1-2 litri (ar iebūvētu dozatoru) | B11: aizpilda pretendents | C11: aizpilda pretendents | D11: aprēķina pretendents | E11: aizpilda pretendents | F11: aizpilda pretendents | G11: aizpilda pretendents
A12: līdz 10 litri | B12: aizpilda pretendents | C12: aizpilda pretendents | D12: aprēķina pretendents | E12: aizpilda pretendents | F12: aizpilda pretendents | G12: aizpilda pretendents

Sheet 14.pozīcija
A1: Ražotājfirma: | B1: Aizpilda pretendents | C1: →uz Saturu
A2: Pretendents: | B2: Aizpilda pretendents
A3: Reģistrācijas Nr. | B3: Aizpilda pretendents
A4: Nr. | B4: Dezinfekcijas līdzekļa apraksts | C4: Dezinfekcijas līdzekļa nosaukums | D4: Plānotais darba šķīduma daudzums (L/kg) 24 mēnešiem | E4: Viena litra cena EUR (bez PVN) | F4: Kopējā plānotā apjoma summa, EUR (bez PVN) | G4: Piezīmes
A5: 1 | B5: 2 | C5: 3 | D5: 4 | E5: 5 | F5: 6 (4*5) | G5: 7
A6: 14. | B6: VIRSMU DEZINFEKCIJAS LĪDZEKLIS UZ AKTĪVĀ SKĀBEKĻA BĀZES | C6: aizpilda pretendents | D6: 10000 | E6: aizpilda pretendents | F6: =IFERROR(D6*E6,0) -> 0
B7: Iesniedzamie dokumenti: • Eiropas Komisijas NANDO (New Approach Notified and Designated Organisations) sarakstā esošas paziņotas struktūras (notified body – angļu val.) izdots CE sertifikāts, kas apliecina produkta atbilstību medicīnas preces IIa klasei atbilstoši Eiropas Parlamenta un Padomes Regulai 2017/745 vai Eiropas Komisijas Direktīvai 93/42/EEK •Latvijas Vides, Ģeoloģijas un Meteoroloģijas centra biocīda inventarizācijas numurs ar apstiprinoša dokumenta kopiju • Dezinfekcijas līdzekļu ražotāja etiķetes paraugs • Drošības datu lapa latviešu valodā atbilstoša REACH Regulas 1907/2006 EK 31.pantam • Pretendenta apstiprinātu dezinfekcijas līdzekļa aprakstu ražotājvalsts un latviešu valodā. • Dati par iedarbību pret veģetatīvām baktērijām, sēnītēm, HIV, hepatītu B un C vīrusiem, Mycobacteria, bezapvalka vīrusiem un sporām (sporicīdās ietekmes noteikšanai - EN17126) • Pēc konkursa komisijas pieprasījuma papildu jāiesniedz produkta mikrobioloģiskās, toksikoloģiskās un ekoloģiskās izpētes datu kopijas • Pēc konkursa komisijas pieprasījuma iesniegt līdzekli praktiskai testēšanai
B8: Sastāvs: • Līdzeklim jābūt iedarbībai pret veģetatīvām baktērijām, sēnītēm, HIV, hepatītu B un C vīrusiem, Mycobacteria, bezapvalka vīrusiem un sporām (sporicīdās ietekmes noteikšanai - EN17126)
B9: Piezīmes: • Kolonnā Nr.5 jānorāda viena litra cena neatkarīgi no dezinfekcijas līdzekļa iepakojuma tilpuma • Nepiedāvāt aldehīdus un to savienojumus saturošus preparātus, hloru saturošus savienojumus, kvartāros amīnus saturošus savienojumus un enzīmus • Jāpiedāvā iepakojums līdz 10 litri/kg. Iepakojumu cenām jābūt atbilstošām norādītajai 1 l cenai, t.i. iepakojuma cena jāaprēķina ņemot vērā 1 l cenu • Jānodrošina ar iespēju bez papildu izmaksām, alerģisku reakciju gadījumā mainīt līdzekli ne vairāk kā 5% no kopējā apjoma, nosaucot cita ražotāja ekvivalento līdzekli • Preces jāpiegādā iepakojumā, kas nodrošinās preces saglabāšanu tās pārvadāšanas un glabāšanas laikā atbilstoši ražotāja noteiktām prasībām un spēkā esošiem normatīvajiem aktiem
A10: Iepakojuma lielums | B10: Pretendenta piedāvātais tilpums | C10: Ref.Nr. | D10: Plānotais vienību daudzums patēriņam 24 mēnešiem | E10: Darba šķīduma koncentrācija | F10: Darba šķīduma 1 L cena EUR (bez PVN) 15 minūšu ekspozīcijai, kas nodrošina iedarbību pret visu prasīto spektru | G10: Preces cena par vienu iepakojumu EUR (bez PVN)
A11: līdz 10 litri/kg | B11: aizpilda pretendents | C11: aizpilda pretendents | D11: aprēķina pretendents | E11: aizpilda pretendents | F11: aizpilda pretendents | G11: aizpilda pretendents

Sheet 15.pozīcija
A1: Ražotājfirma: | B1: Aizpilda pretendents | C1: →uz Saturu
A2: Pretendents: | B2: Aizpilda pretendents
A3: Reģistrācijas Nr. | B3: Aizpilda pretendents
A4: Nr. | B4: Dezinfekcijas līdzekļa apraksts | C4: Dezinfekcijas līdzekļa nosaukums | D4: Plānotais darba šķīduma daudzums (L/kg) 24 mēnešiem | E4: Viena litra cena EUR (bez PVN) | F4: Kopējā plānotā apjoma summa, EUR (bez PVN) | G4: Piezīmes
A5: 1 | B5: 2 | C5: 3 | D5: 4 | E5: 5 | F5: 6 (4*5) | G5: 7
A6: 15. | B6: AUGSTA LĪMEŅA INSTRUMENTU DEZINFEKCIJAS LĪDZEKLIS | C6: aizpilda pretendents | D6: 9000 | E6: aizpilda pretendents | F6: =IFERROR(D6*E6,0) -> 0
B7: Iesniedzamie dokumenti: • Eiropas Komisijas NANDO (New Approach Notified and Designated Organisations) sarakstā esošas paziņotas struktūras (notified body – angļu val.) izdots CE sertifikāts, kas apliecina produkta atbilstību medicīnas preces IIb klasei atbilstoši Eiropas Parlamenta un Padomes Regulai 2017/745 vai Padomes Direktīvai 93/42/EEK ar sertifikāta derīguma termiņa pagarinājumu, ja ir izpildīti nosacījumi, kas minēti 2023. gada 15. marta Regulā (ES) 2023/607, ar ko groza Regulas (ES) 2017/745 un (ES) 2017/746 attiecībā uz pārejas noteikumiem, kas piemērojami noteiktām medicīniskām ierīcēm un in vitro diagnostikas medicīniskām ierīcēm. • Dezinfekcijas līdzekļu ražotāja etiķetes paraugs • Drošības datu lapa latviešu valodā atbilstoša REACH Regulas 1907/2006 EK 31.pantam • Pretendenta apstiprinātu dezinfekcijas līdzekļa aprakstu ražotājvalsts un latviešu valodā. • Dati par iedarbību pret veģetatīvām baktērijām, sēnītēm, HIV, hepatītu B un C vīrusiem, Mycobacteria, bezapvalka vīrusiem un sporām (sporicīdās ietekmes noteikšanai - EN17126) • Pēc konkursa komisijas pieprasījuma papildu jāiesniedz produkta mikrobioloģiskās, toksikoloģiskās un ekoloģiskās izpētes datu kopijas • Pēc konkursa komisijas pieprasījuma iesniegt līdzekli praktiskai testēšanai
B8: Sastāvs: • Uz aktīvā skābekļa bāze, bez hlora, aldehīdiem, kvartārajiem amonija savienojumiem un enzīmiem • Līdzeklim jābūt iedarbībai pret veģetatīvām baktērijām, sēnītēm, HIV, hepatītu B un C vīrusiem, Mycobacteria, bezapvalka vīrusiem un sporām (sporicīdās ietekmes noteikšanai - EN17126).
B9: Piezīmes: • Kolonnā Nr.5 jānorāda viena litra cena neatkarīgi no dezinfekcijas līdzekļa iepakojuma tilpuma • Jāpiedāvā iepakojums līdz 10 litri/kg. Iepakojumu cenām jābūt atbilstošām norādītajai 1 l/kg cenai, t.i. iepakojuma cena jāaprēķina ņemot vērā 1 l/kg cenu • Preces jāpiegādā iepakojumā, kas nodrošinās preces saglabāšanu tās pārvadāšanas un glabāšanas laikā atbilstoši ražotāja noteiktām prasībām un spēkā esošiem normatīvajiem aktiem
A10: Iepakojuma lielums | B10: Pretendenta piedāvātais tilpums | C10: Ref.Nr. | D10: Plānotais vienību daudzums patēriņam 24 mēnešiem | E10: Darba šķīduma koncentrācija | F10: Darba šķīduma 1 L cena EUR (bez PVN) 15 minūšu ekspozīcijai, kas nodrošina iedarbību pret visu prasīto spektru | G10: Preces cena par vienu iepakojumu EUR (bez PVN)
A11: līdz 10 litri/kg | B11: aizpilda pretendents | C11: aizpilda pretendents | D11: aprēķina pretendents | E11: aizpilda pretendents | F11: aizpilda pretendents | G11: aizpilda pretendents

Sheet 16.pozīcija
A1: Ražotājfirma: | B1: Aizpilda pretendents | C1: →uz Saturu
A2: Pretendents: | B2: Aizpilda pretendents
A3: Reģistrācijas Nr. | B3: Aizpilda pretendents
A4: Nr. | B4: Dezinfekcijas līdzekļa apraksts | C4: Dezinfekcijas līdzekļa nosaukums | D4: Plānotais darba šķīduma daudzums (L) 24 mēnešiem | E4: Viena litra cena EUR (bez PVN) | F4: Kopējā plānotā apjoma summa, EUR (bez PVN) | G4: Piezīmes
A5: 1 | B5: 2 | C5: 3 | D5: 4 | E5: 5 | F5: 6 (4*5) | G5: 7
A6: 16. | B6: AKTĪVI TĪROŠS INSTRUMENTU DEZINFEKCIJAS LĪDZEKLIS | C6: aizpilda pretendents | D6: 2000000 | E6: aizpilda pretendents | F6: =IFERROR(D6*E6,0) -> 0
B7: Iesniedzamie dokumenti: • Eiropas Komisijas NANDO (New Approach Notified and Designated Organisations) sarakstā esošas paziņotas struktūras (notified body – angļu val.) izdots CE sertifikāts, kas apliecina produkta atbilstību medicīnas preces IIb klasei atbilstoši Eiropas Parlamenta un Padomes Regulai 2017/745 vai Eiropas Komisijas Direktīvai 93/42/EEK • Dezinfekcijas līdzekļu ražotāja etiķetes paraugs • Drošības datu lapa latviešu valodā atbilstoša REACH Regulas 1907/2006 EK 31.pantam • Pretendenta apstiprinātu dezinfekcijas līdzekļa aprakstu ražotājvalsts un latviešu valodā. • Dati par iedarbību pret veģetatīvām baktērijām, sēnītēm, HIV, hepatītu B un C vīrusiem, Mycobacteria un bezapvalka vīrusiem. Pierādīta bioplēves aktivitāte atbilstoši ISO 1588-5 standartam. • Pēc konkursa komisijas pieprasījuma papildu jāiesniedz produkta mikrobioloģiskās, toksikoloģiskās un ekoloģiskās izpētes datu kopijas • Pēc konkursa komisijas pieprasījuma iesniegt līdzekli praktiskai testēšanai
B8: Sastāvs: • Bez hlora, aldehīdiem un kvartārajiem aminosavienojumiem, enzīmiem, EDTA, bāzēts uz alkilamīnu derivātiem, ar mazgājošu efektu un antikorozīvu darbību • Līdzeklim jābūt iedarbībai pret veģetatīvām baktērijām, sēnītēm, HIV, hepatītu B un C vīrusiem, Mycobacteria un bezapvalka vīrusiem
B9: Piezīmes: • Kolonnā Nr.5 jānorāda viena litra cena neatkarīgi no dezinfekcijas līdzekļa iepakojuma tilpuma • Jāpiedāvā 1 -2 litru/kg un 5-10 litru/kg iepakojumos. Iepakojumu cenām jābūt atbilstošām norādītajai 1 l cenai, t.i. iepakojuma cena jāaprēķina ņemot vērā 1 l cenu • Plānotais sadalījums pa tilpumiem (atkarīgs no pretendentu piedāvātajiem tilpumiem, bet jāiekļaujas kopējā darba škīduma plānotajā daudzumā) - 500 000 L pa 1-2 L (ar iebūvētu dozatoru), 1 500 000 L. • Preces jāpiegādā iepakojumā, kas nodrošinās preces saglabāšanu tās pārvadāšanas un glabāšanas laikā atbilstoši ražotāja noteiktām prasībām un spēkā esošiem normatīvajiem aktiem • Vienas pozīcijas ietvaros visiem līdzekļiem jābūt no viena ražotāja, lai izslēgtu produktu nesavietojamību. • Piedāvājot savu produktu/preci attiecīgajā pozīcijā obligāti ir jāaizpilda visas nepieciešamās apakšpozīcijas.
A10: Iepakojuma lielums | B10: Pretendenta piedāvātais tilpums | C10: Ref.Nr. | D10: Plānotais vienību daudzums patēriņam 24 mēnešiem | E10: Darba šķīduma koncentrācija | F10: Darba šķīduma 1 L cena EUR (bez PVN) 15 minūšu ekspozīcijai, kas nodrošina iedarbību pret visu prasīto spektru | G10: Preces cena par vienu iepakojumu EUR (bez PVN)
A11: 1-2 litri (ar iebūvētu dozatoru) | B11: aizpilda pretendents | C11: aizpilda pretendents | D11: aizpilda pretendents | E11: aizpilda pretendents | F11: aizpilda pretendents | G11: aizpilda pretendents
A12: līdz 10 litri | B12: aizpilda pretendents | C12: aizpilda pretendents | D12: aizpilda pretendents | E12: aizpilda pretendents | F12: aizpilda pretendents | G12: aizpilda pretendents

Sheet 17.pozīcija
A1: Ražotājfirma: | B1: Aizpilda pretendents | C1: →uz Saturu
A2: Pretendents: | B2: Aizpilda pretendents
A3: Reģistrācijas Nr. | B3: Aizpilda pretendents
A4: Nr. | B4: Dezinfekcijas līdzekļa apraksts | C4: Dezinfekcijas līdzekļa nosaukums | D4: Plānotais darba šķīduma daudzums (L) 24 mēnešiem | E4: Viena litra cena EUR (bez PVN) | F4: Kopējā plānotā apjoma summa, EUR (bez PVN) | G4: Piezīmes
A5: 1 | B5: 2 | C5: 3 | D5: 4 | E5: 5 | F5: 6 (4*5) | G5: 7
A6: 17. | B6: INSTRUMENTU DEZINFEKCIJAS LĪDZEKLIS AR ENZĪMU KOMPLEKSU | C6: aizpilda pretendents | D6: 230000 | E6: aizpilda pretendents | F6: =IFERROR(D6*E6,0) -> 0
B7: Iesniedzamie dokumenti: • Eiropas Komisijas NANDO (New Approach Notified and Designated Organisations) sarakstā esošas paziņotas struktūras (notified body – angļu val.) izdots CE sertifikāts, kas apliecina produkta atbilstību medicīnas preces IIb klasei atbilstoši Eiropas Parlamenta un Padomes Regulai 2017/745 vai Eiropas Komisijas Direktīvai 93/42/EEK • Dezinfekcijas līdzekļu ražotāja etiķetes paraugs • Drošības datu lapa latviešu valodā atbilstoša REACH Regulas 1907/2006 EK 31.pantam • Pretendenta apstiprinātu dezinfekcijas līdzekļa aprakstu ražotājvalsts un latviešu valodā. • Dati par iedarbību pret veģetatīvām baktērijām, sēnītēm, HIV, hepatītu B un C vīrusiem, Mycobacteria un bezapvalka vīrusiem. Pierādīta bioplēves aktivitāte atbilstoši ISO 1588-5 standartam. • Pēc konkursa komisijas pieprasījuma papildu jāiesniedz produkta mikrobioloģiskās, toksikoloģiskās un ekoloģiskās izpētes datu kopijas • Pēc konkursa komisijas pieprasījuma iesniegt līdzekli praktiskai testēšanai
B8: Sastāvs: • Bez hlora un aldehīdiem, ar enzīmu kompleksu • Līdzeklim jābūt iedarbībai pret veģetatīvām baktērijām, sēnītēm, HIV, hepatītu B un C vīrusiem un Mycobacteria
B9: Piezīmes: • Kolonnā Nr.5 jānorāda viena litra cena neatkarīgi no dezinfekcijas līdzekļa iepakojuma tilpuma • Jāpiedāvā iepakojumā līdz 5 litri ar dozatoru. Iepakojumu cenām jābūt atbilstošām norādītajai 1 l cenai, t.i. iepakojuma cena jāaprēķina ņemot vērā 1 l cenu • Preces jāpiegādā iepakojumā, kas nodrošinās preces saglabāšanu tās pārvadāšanas un glabāšanas laikā atbilstoši ražotāja noteiktām prasībām un spēkā esošiem normatīvajiem aktiem • Vienas pozīcijas ietvaros visiem līdzekļiem jābūt no viena ražotāja, lai izslēgtu produktu nesavietojamību.
A10: Iepakojuma lielums | B10: Pretendenta piedāvātais tilpums | C10: Ref.Nr. | D10: Plānotais vienību daudzums patēriņam 24 mēnešiem | E10: Darba šķīduma koncentrācija | F10: Darba šķīduma 1 L cena EUR (bez PVN) 15 minūšu ekspozīcijai, kas nodrošina iedarbību pret visu prasīto spektru | G10: Preces cena par vienu iepakojumu EUR (bez PVN)
A11: 5 litri (ar dozatoru) | B11: aizpilda pretendents | C11: aizpilda pretendents | D11: 230000 | E11: aizpilda pretendents | F11: aizpilda pretendents | G11: aizpilda pretendents

Sheet 18.pozīcija
A1: Ražotājfirma: | B1: Aizpilda pretendents | C1: →uz Saturu
A2: Pretendents: | B2: Aizpilda pretendents
A3: Reģistrācijas Nr. | B3: Aizpilda pretendents
A4: Nr. | B4: Dezinfekcijas līdzekļa apraksts | C4: Dezinfekcijas līdzekļa nosaukums | D4: Plānotais daudzums (gab.) 24 mēnešiem | E4: Vienas vienības cena EUR (bez PVN) | F4: Kopējā plānotā apjoma summa, EUR (bez PVN) | G4: Piezīmes
A5: 1 | B5: 2 | C5: 3 | D5: 4 | E5: 5 | F5: 6 (4*5) | G5: 7
A6: 18. | B6: ALKOHOLA - HLORHEKSIDĪNA MITRĀS SALVETES centrālo un perifēro KATETRU APSTRĀDEI | C6: aizpilda pretendents | D6: 500000 | E6: aizpilda pretendents | F6: =IFERROR(D6*E6,0) -> 0
B7: Iesniedzamie dokumenti: • Eiropas Komisijas NANDO (New Approach Notified and Designated Organisations) sarakstā esošas paziņotas struktūras (notified body – angļu val.) izdots CE sertifikāts, kas apliecina produkta atbilstību medicīnas preces IIa klasei atbilstoši Eiropas Parlamenta un Padomes Regulai 2017/745 vai Eiropas Komisijas Direktīvai 93/42/EEK • Pretendenta apstiprinātu dezinfekcijas līdzekļa aprakstu ražotājvalsts un latviešu valodā • Drošības datu lapa latviešu valodā atbilstoša REACH Regulas 1907/2006 EK 31.pantam • Dezinfekcijas līdzekļu ražotāja etiķetes paraugus • Dati par iedarbību pret veģetatīvām baktērijām, sēnītēm, HIV, hepatītu B un C vīrusiem, Mycobacteria un bezapvalka vīrusiem (rotavīrusu) • Pēc konkursa komisijas pieprasījuma papildu jāiesniedz produkta mikrobioloģiskās, toksikoloģiskās un ekoloģiskās izpētes datu kopijas • Pēc konkursa komisijas pieprasījuma iesniegt līdzekli praktiskai testēšanai
B8: Sastāvs: • Šķīdums ar vismaz 70 % alkohola un 2% hlorheksidīna • Līdzeklim jābūt iedarbībai pret veģetatīvām baktērijām, raugiem, HIV, hepatītu B un C vīrusiem un Mycobacteria; atbilst EN 13727 un EN 13624
B9: Piezīmes: •Kolonnā Nr.5 jānorāda 1 salvetes cena •Nepiedāvāt aldehīdus, hloru un to savienojumus saturošus preparātus, kvartāros amīnus saturošus savienojumus, triklozānu saturošus savienojumus. • Salvetes izmērs: 1,5x1,6cm (+/- 1 cm). • Ir jāpiedāvā salvetes kārbās ar 100 – 200 individuāli iepakotām salvetēm. Iepakojumu cenām jābūt atbilstošām norādītajai 1 salvetes cenai, t.i. iepakojuma cena jāaprēķina ņemot vērā 1 salvetes cenu • Jānodrošina ar iespēju bez papildu izmaksām, alerģisku reakciju gadījumā mainīt līdzekli ne vairāk kā 5% no kopējā apjoma, nosaucot cita ražotāja ekvivalento līdzekli • Preces jāpiegādā iepakojumā, kas nodrošinās preces saglabāšanu tās pārvadāšanas un glabāšanas laikā atbilstoši ražotāja noteiktām prasībām un spēkā esošiem normatīvajiem aktiem
A10: Iepakojuma lielums | B10: Pretendenta piedāvātais tilpums | C10: Ref.Nr. | D10: Plānotais vienību daudzums patēriņam 24 mēnešiem | E10: Preces cena par vienu iepakojumu EUR (bez PVN)
A11: 100-200 salvetes | B11: aizpilda pretendents | C11: aizpilda pretendents | D11: 500000 | E11: aizpilda pretendents

Sheet 19.pozīcija
A1: Ražotājfirma: | B1: Aizpilda pretendents | C1: →uz Saturu
A2: Pretendents: | B2: Aizpilda pretendents
A3: Reģistrācijas Nr. | B3: Aizpilda pretendents
A4: Nr. | B4: Dezinfekcijas līdzekļa apraksts | C4: Dezinfekcijas līdzekļa nosaukums | D4: Plānotais daudzums (gab.) 24 mēnešiem | E4: Vienas vienības cena EUR (bez PVN) | F4: Kopējā plānotā apjoma summa, EUR (bez PVN) | G4: Piezīmes
A5: 1 | B5: 2 | C5: 3 | D5: 4 | E5: 5 | F5: 6 (4*5) | G5: 7
A6: 19. | B6: ALKOHOLU NESATUROŠAS SPORICĪDĀS MITRĀS SALVETES VIRSMU APSTRĀDEI | C6: aizpilda pretendents | D6: 2000000 | E6: aizpilda pretendents | F6: =IFERROR(D6*E6,0) -> 0
B7: Iesniedzamie dokumenti: • Eiropas Komisijas NANDO (New Approach Notified and Designated Organisations) sarakstā esošas paziņotas struktūras (notified body – angļu val.) izdots CE sertifikāts, kas apliecina produkta atbilstību medicīnas preces IIa klasei atbilstoši Eiropas Parlamenta un Padomes Regulai 2017/745 vai Padomes Direktīvai 93/42/EEK ar sertifikāta derīguma termiņa pagarinājumu, ja ir izpildīti nosacījumi, kas minēti 2023. gada 15. marta Regulā (ES) 2023/607, ar ko groza Regulas (ES) 2017/745 un (ES) 2017/746 attiecībā uz pārejas noteikumiem, kas piemērojami noteiktām medicīniskām ierīcēm un in vitro diagnostikas medicīniskām ierīcēm. • Pretendenta apstiprinātu dezinfekcijas līdzekļa aprakstu ražotājvalsts un latviešu valodā • Dezinfekcijas līdzekļu ražotāja etiķetes paraugus • Drošības datu lapa latviešu valodā atbilstoša REACH Regulas 1907/2006 EK 31.pantam • Dati par iedarbību pret veģetatīvām baktērijām, sēnītēm, HIV, hepatītu B un C vīrusiem, Mycobacteria, bezapvalka vīrusiem un sporām • Pēc konkursa komisijas pieprasījuma papildu jāiesniedz produkta mikrobioloģiskās, toksikoloģiskās un ekoloģiskās izpētes datu kopijas • Pēc konkursa komisijas pieprasījuma iesniegt līdzekli praktiskai testēšanai
B8: Sastāvs: • Aktīvā viela - ūdeņraža pārskābe vai nātrija hipohlorīts • Mikrobioloģiskā efektivitāte: Līdz 5 min ekspozīcijā: EN 13727, EN 16615 (baktericīds), EN 13624, EN 16615 (levurocīds/fungicīds), aktīvs pret HIV, HBV, HCV, tuberkulozi, Adeno vīrusiem; sporām (sporicīdās ietekmes noteikšanai - EN17126 vai EN16615).
B9: Piezīmes: • Kolonnā Nr.5 jānorāda 1 salvetes cena •Nepiedāvāt aldehīdus, nepiedāvāt alkoholu saturošus savienojumus, triklozānu saturošus savienojumus, kvartāros amīnus saturošus savienojumus • Salvetes izmērs 20x20 cm (+/- 2 cm); salvetes materiāls neveido plūksnu • Ir jāpiedāvā salvetes aizveramā iepakojumā ar 25 -200 salvetēm. Iepakojuma cenai jābūt atbilstošām norādītajai 1 salvetes cenai, t.i. iepakojuma cena jāaprēķina ņemot vērā 1 salvetes cenu • Jānodrošina ar iespēju bez papildu izmaksām, alerģisku reakciju gadījumā mainīt līdzekli ne vairāk kā 5% no kopējā apjoma, nosaucot cita ražotāja ekvivalento līdzekli • Preces jāpiegādā iepakojumā, kas nodrošinās preces saglabāšanu tās pārvadāšanas un glabāšanas laikā atbilstoši ražotāja noteiktām prasībām un spēkā esošiem normatīvajiem aktiem
A10: Iepakojuma lielums | B10: Pretendenta piedāvātais tilpums | C10: Ref.Nr. | D10: Plānotais vienību daudzums patēriņam 24 mēnešiem | E10: Preces cena par vienu iepakojumu EUR (bez PVN)
A11: 25-200 salvetes | B11: aizpilda pretendents | C11: aizpilda pretendents | D11: 2000000 | E11: aizpilda pretendents

Sheet 20.pozīcija
A1: Ražotājfirma: | B1: Aizpilda pretendents | C1: →uz Saturu
A2: Pretendents: | B2: Aizpilda pretendents
A3: Reģistrācijas Nr. | B3: Aizpilda pretendents
A4: Nr. | B4: Dezinfekcijas līdzekļa apraksts | C4: Dezinfekcijas līdzekļa nosaukums | D4: Plānotais daudzums (gab.) 24 mēnešiem | E4: Vienas vienības cena EUR (bez PVN) | F4: Kopējā plānotā apjoma summa, EUR (bez PVN) | G4: Piezīmes
A5: 1 | B5: 2 | C5: 3 | D5: 4 | E5: 5 | F5: 6 (4*5) | G5: 7
A6: 20 | B6: ALKOHOLU NESATUROŠAS MITRĀS SALVETES VIRSMU APSTRĀDEI | C6: aizpilda pretendents | D6: 2000000 | E6: aizpilda pretendents | F6: =IFERROR(D6*E6,0) -> 0
B7: Iesniedzamie dokumenti: • Eiropas Komisijas NANDO (New Approach Notified and Designated Organisations) sarakstā esošas paziņotas struktūras (notified body – angļu val.) izdots CE sertifikāts, kas apliecina produkta atbilstību medicīnas preces IIa klasei atbilstoši Eiropas Parlamenta un Padomes Regulai 2017/745 vai Padomes Direktīvai 93/42/EEK ar sertifikāta derīguma termiņa pagarinājumu, ja ir izpildīti nosacījumi, kas minēti 2023. gada 15. marta Regulā (ES) 2023/607, ar ko groza Regulas (ES) 2017/745 un (ES) 2017/746 attiecībā uz pārejas noteikumiem, kas piemērojami noteiktām medicīniskām ierīcēm un in vitro diagnostikas medicīniskām ierīcēm. • Pretendenta apstiprinātu dezinfekcijas līdzekļa aprakstu ražotājvalsts un latviešu valodā • Dezinfekcijas līdzekļu ražotāja etiķetes paraugus • Drošības datu lapa latviešu valodā atbilstoša REACH Regulas 1907/2006 EK 31.pantam • Dati par iedarbību pret veģetatīvām baktērijām, sēnītēm, HIV, hepatītu B un C vīrusiem, Mycobacteria, bezapvalka vīrusiem un sporām • Pēc konkursa komisijas pieprasījuma papildu jāiesniedz produkta mikrobioloģiskās, toksikoloģiskās un ekoloģiskās izpētes datu kopijas • Pēc konkursa komisijas pieprasījuma iesniegt līdzekli praktiskai testēšanai
B8: Sastāvs: • Aktīvā viela - ūdeņraža pārskābe (vismaz 1,5g /100g) • Mikrobioloģiskā efektivitāte: Līdz 5 min ekspozīcijā: EN 13727, EN 16615 (baktericīds), EN 13624, EN 16615 (levurocīds), EN 13624, EN 16615 (fungicīds), EN 14348 (tuberkulocīds), aktīvs pret HIV, HBV, HCV, Rota, Adeno un Papova vīrusiem.
B9: Piezīmes: • Kolonnā Nr.5 jānorāda 1 salvetes cena •Nepiedāvāt aldehīdus, hloru un to savienojumus saturošus preparātus, nepiedāvāt alkoholu saturošus savienojumus, nepiedāvāt triklozānu saturošus savienojumus, kvartāros amīnus saturošus savienojumus • Ir jāpiedāvā salvetes aizveramā iepakojumā ar 25 -200 salvetēm. Iepakojuma cenai jābūt atbilstošām norādītajai 1 salvetes cenai, t.i. iepakojuma cena jāaprēķina ņemot vērā 1 salvetes cenu • Jānodrošina ar iespēju bez papildu izmaksām, alerģisku reakciju gadījumā mainīt līdzekli ne vairāk kā 5% no kopējā apjoma, nosaucot cita ražotāja ekvivalento līdzekli • Preces jāpiegādā iepakojumā, kas nodrošinās preces saglabāšanu tās pārvadāšanas un glabāšanas laikā atbilstoši ražotāja noteiktām prasībām un spēkā esošiem normatīvajiem aktiem
A10: Iepakojuma lielums | B10: Pretendenta piedāvātais tilpums | C10: Ref.Nr. | D10: Plānotais vienību daudzums patēriņam 24 mēnešiem | E10: Preces cena par vienu iepakojumu EUR (bez PVN)
A11: 100-200 salvetes | B11: aizpilda pretendents | C11: aizpilda pretendents | D11: 2000000 | E11: aizpilda pretendents

Sheet 21.pozīcija
A1: Ražotājfirma: | B1: Aizpilda pretendents | C1: →uz Saturu
A2: Pretendents: | B2: Aizpilda pretendents
A3: Reģistrācijas Nr. | B3: Aizpilda pretendents
A4: Nr. | B4: Dezinfekcijas līdzekļa apraksts | C4: Dezinfekcijas līdzekļa nosaukums | D4: Plānotais daudzums (gab.) 24 mēnešiem | E4: Vienas vienības cena EUR (bez PVN) | F4: Kopējā plānotā apjoma summa, EUR (bez PVN) | G4: Piezīmes
A5: 1 | B5: 2 | C5: 3 | D5: 4 | E5: 5 | F5: 6 (4*5) | G5: 7
A6: 21. | B6: ALKOHOLU SATUROŠAS MITRĀS SALVETES VIRSMU APSTRĀDEI (SATUR KVARTĀROS AMĪNUS) | C6: aizpilda pretendents | D6: 10000000 | E6: aizpilda pretendents | F6: =IFERROR(D6*E6,0) -> 0
B7: Iesniedzamie dokumenti: • Eiropas Komisijas NANDO (New Approach Notified and Designated Organisations) sarakstā esošas paziņotas struktūras (notified body – angļu val.) izdots CE sertifikāts, kas apliecina produkta atbilstību medicīnas preces IIa klasei atbilstoši Eiropas Parlamenta un Padomes Regulai 2017/745 vai Padomes Direktīvai 93/42/EEK •Latvijas Vides, Ģeoloģijas un Meteoroloģijas centra biocīda inventarizācijas numurs ar apstiprinoša dokumenta kopiju • Pretendenta apstiprinātu dezinfekcijas līdzekļa aprakstu ražotājvalsts un latviešu valodā • Drošības datu lapa latviešu valodā atbilstoša REACH Regulas 1907/2006 EK 31.pantam • Dezinfekcijas līdzekļu ražotāja etiķetes paraugus • Dati par iedarbību pret veģetatīvām baktērijām, sēnītēm, HIV, hepatītu B un C vīrusiem, Mycobacteria un bezapvalka vīrusiem (rotavīrusu) • Pēc konkursa komisijas pieprasījuma papildu jāiesniedz produkta mikrobioloģiskās, toksikoloģiskās un ekoloģiskās izpētes datu kopijas • Pēc konkursa komisijas pieprasījuma iesniegt līdzekli praktiskai testēšanai
B8: Sastāvs: • Aktīvā viela: vismaz 70 g etanols/ 100g; satur vismaz 3 aktīvās vielas • Līdzeklim jābūt iedarbībai pret veģetatīvām baktērijām, sēnītēm, HIV, hepatītu B un C vīrusiem, Mycobacteria un bezapvalka vīrusiem (rotavīrusu)
B9: Piezīmes: • Kolonnā Nr.5 jānorāda 1 salvetes cena •Salvetes blīvums 28-30 g/m2 • Salvetes izmērs: ne mazāks par 20x20 cm (+/- 2cm) • Satur kvartārā amonija savienojumus • Ir jāpiedāvā salvetes kārbās un rezerves iepakojumi ar 100 - 200 salvetēm. Iepakojumu cenām jābūt atbilstošām norādītajai 1 salvetes cenai, t.i. iepakojuma cena jāaprēķina ņemot vērā 1 salvetes cenu • Jānodrošina ar iespēju bez papildu izmaksām, alerģisku reakciju gadījumā mainīt līdzekli ne vairāk kā 5% no kopējā apjoma, nosaucot cita ražotāja ekvivalento līdzekli • Preces jāpiegādā iepakojumā, kas nodrošinās preces saglabāšanu tās pārvadāšanas un glabāšanas laikā atbilstoši ražotāja noteiktām prasībām un spēkā esošiem normatīvajiem aktiem
A10: Iepakojuma lielums | B10: Pretendenta piedāvātais tilpums | C10: Ref.Nr. | D10: Preces cena par vienu iepakojumu EUR (bez PVN)
A11: 100-200 salvetes (kārba) | B11: aizpilda pretendents | C11: aizpilda pretendents | D11: aizpilda pretendents
A12: 100-200 salvetes (rezerves iepakojums) | B12: aizpilda pretendents | C12: aizpilda pretendents | D12: aizpilda pretendents
A13: 500-600 salvetes (spainis) | B13: aizpilda pretendents | C13: aizpilda pretendents | D13: aizpilda pretendents

Sheet 22.pozīcija
A1: Ražotājfirma: | B1: Aizpilda pretendents | C1: →uz Saturu
A2: Pretendents: | B2: Aizpilda pretendents
A3: Reģistrācijas Nr. | B3: Aizpilda pretendents
A4: Nr. | B4: Dezinfekcijas līdzekļa apraksts | C4: Dezinfekcijas līdzekļa nosaukums | D4: Plānotais daudzums (gab.) 24 mēnešiem | E4: Vienas vienības cena EUR (bez PVN) | F4: Kopējā plānotā apjoma summa, EUR (bez PVN) | G4: Piezīmes
A5: 1 | B5: 2 | C5: 3 | D5: 4 | E5: 5 | F5: 6 (4*5) | G5: 7
A6: 22. | B6: ALKOHOLU SATUROŠAS MITRĀS SALVETES (1.) UN ALKOHOLU NESATUROŠAS MITRĀS SALVETES (2.) ULTRASKAŅAS MEDICĪNISKO IERĪČU APSTRĀDEI NO NEAUSTĀ MATERIĀLA
A7: 22.1. | B7: ALKOHOLU SATUROŠAS MITRĀS SALVETES NO NEAUSTĀ MATERIĀLA | C7: aizpilda pretendents | D7: 10000000 | E7: aizpilda pretendents | F7: =IFERROR(D7*E7,0) -> 0
A8: 22.2. | B8: ALKOHOLU NESATUROŠAS MITRĀS SALVETES ULTRASKAŅAS MEDICĪNISKO IERĪČU APSTRĀDEI NO NEAUSTĀ MATERIĀLA | C8: aizpilda pretendents | D8: 3000000 | E8: aizpilda pretendents | F8: =IFERROR(D8*E8,0) -> 0
B9: Iesniedzamie dokumenti: • Eiropas Komisijas NANDO (New Approach Notified and Designated Organisations) sarakstā esošas paziņotas struktūras (notified body – angļu val.) izdots CE sertifikāts, kas apliecina produkta atbilstību medicīnas preces IIa klasei, atbilstoši 93/42/EEK direktīvai vai Padomes Direktīvai 93/42/EEK ar sertifikāta derīguma termiņa pagarinājumu, ja ir izpildīti nosacījumi, kas minēti 2023. gada 15. marta Regulā (ES) 2023/607, ar ko groza Regulas (ES) 2017/745 un (ES) 2017/746 attiecībā uz pārejas noteikumiem, kas piemērojami noteiktām medicīniskām ierīcēm un in vitro diagnostikas medicīniskām ierīcēm. • Pretendenta apstiprinātu dezinfekcijas līdzekļa aprakstu ražotājvalsts un latviešu valodā • Dezinfekcijas līdzekļu ražotāja etiķetes paraugus • Drošības datu lapa latviešu valodā atbilstoši REACH Regulas 1907/2006 EK 31.pantam • Dati par iedarbību pret veģetatīvām baktērijām, sēnītēm, HIV, hepatītu B un C vīrusiem, Mycobacteria un bezapvalka vīrusiem • Pēc pieprasījuma papildu jāiesniedz produkta mikrobioloģiskās, toksikoloģiskās un ekoloģiskās izpētes datu kopijas • Pēc pieprasījuma iesniegt līdzekli praktiskai testēšanai
B10: Sastāvs: • Līdzeklim jābūt iedarbībai pret veģetatīvām baktērijām, sēnītēm, HIV, hepatītu B un C vīrusiem, Mycobacteria un bezapvalka vīrusiem • Nepiedāvāt aldehīdus, hloru un to savienojumus, alkoholu un ūdeņraža peroksīdu, kā arī kvartārā amonija saturošus savienojumus
B11: Piezīmes: • Kolonnā Nr.5 jānorāda 1 salvetes cena •Salvetes neveido plūksnu; salvetes no 100% polipropilēna materiāla • 21.2. pozīcijas salvetēm jābūt saderīgām ar ultraskaņas ierīcēm • Salvetes izmērs: ne mazāks par 20x20 cm (+/- 2cm) • Ir jāpiedāvā salvetes kārbās un rezerves iepakojumi ar 100 - 200 salvetēm. Iepakojumu cenām jābūt atbilstošām norādītajai 1 salvetes cenai, t.i. iepakojuma cena jāaprēķina ņemot vērā 1 salvetes cenu • Jānodrošina ar iespēju bez papildu izmaksām, alerģisku reakciju gadījumā mainīt līdzekli ne vairāk kā 5% no kopējā apjoma, nosaucot cita ražotāja ekvivalento līdzekli • Preces jāpiegādā iepakojumā, kas nodrošinās preces saglabāšanu tās pārvadāšanas un glabāšanas laikā atbilstoši ražotāja noteiktām prasībām un spēkā esošiem normatīvajiem aktiem
A12: Iepakojuma lielums | B12: Pretendenta piedāvātais tilpums | C12: Ref.Nr. | D12: Plānotais vienību daudzums patēriņam 24 mēnešiem | E12: Preces cena par vienu iepakojumu EUR (bez PVN)
A13: ALKOHOLU SATUROŠAS MITRĀS SALVETES NO NEAUSTĀ MATERIĀLA
A14: 100-200 salvetes | B14: aizpilda pretendents | C14: aizpilda pretendents | D14: 10000000 | E14: aizpilda pretendents
A15: ALKOHOLU NESATUROŠAS MITRĀS SALVETES ULTRASKAŅAS MEDICĪNISKO IERĪČU APSTRĀDEI NO NEAUSTĀ MATERIĀLA
A16: 100-200 salvetes | B16: aizpilda pretendents | C16: aizpilda pretendents | D16: 3000000 | E16: aizpilda pretendents
A17: Kopsumma par 22. pozīciju EUR (bez PVN): | F17: =SUM(F7:F8) -> 0

Sheet 23.pozīcija
A1: Ražotājfirma: | B1: Aizpilda pretendents | C1: →uz Saturu
A2: Pretendents: | B2: Aizpilda pretendents
A3: Reģistrācijas Nr. | B3: Aizpilda pretendents
A4: Nr. | B4: Dezinfekcijas līdzekļa apraksts | C4: Dezinfekcijas līdzekļa nosaukums | D4: Plānotais daudzums (gab.) 24 mēnešiem | E4: Vienas vienības cena EUR (bez PVN) | F4: Kopējā plānotā apjoma summa, EUR (bez PVN) | G4: Piezīmes
A5: 1 | B5: 2 | C5: 3 | D5: 4 | E5: 5 | F5: 6 (4*5) | G5: 7
A6: 23. | B6: SAUSĀS SALVETES (1.) UN TRAUKI SALVEŠU IEVIETOŠANAI (2.) VIRSMU UN MEDICĪNAS IERĪČU ĀTRAI DEZINFEKCIJAI UN TĪRĪŠANAI
A7: 23.1. | B7: SAUSĀS SALVETES VIRSMU UN MEDICĪNAS IERĪČU ĀTRAI DEZINFEKCIJAI UN TĪRĪŠANAI | C7: aizpilda pretendents | D7: 4500000 | E7: aizpilda pretendents | F7: =IFERROR(D7*E7,0) -> 0
A8: 23.2. | B8: TRAUKI SALVEŠU IEVIETOŠANAI VIRSMU UN MEDICĪNAS IERĪČU ĀTRAI DEZINFEKCIJAI UN TĪRĪŠANAI | C8: aizpilda pretendents | D8: 1000 | E8: aizpilda pretendents | F8: =IFERROR(D8*E8,0) -> 0
B9: Apraksts: • Iesniedzamie dokumenti: Eiropas Komisijas NANDO (New Approach Notified and Designated Organisations) sarakstā esošas paziņotas struktūras (notified body – angļu val.) izdots CE sertifikāts, kas apliecina produkta atbilstību medicīnas preces I klasei atbilstoši Eiropas Parlamenta un Padomes Regulai 2017/745 vai Padomes Direktīvai 93/42/EEK • Salvetes no augstas kvalitātes neausta materiāla, ar vismaz 60 g/m2, satītas rullī pa 90 un vairāk salvetēm iepakojumā • Vienas salvetes izmērs 19x36 cm (pieļaujamas novirzes salvetes izmērā 2 cm robežās) • Trauka salvešu ievietošanai izmērs: augstums 23,5cm (+/-5cm), diametrs18cm ( +/- 5cm) • Salvetēm un traukam salvešu ievietošanai ir jābūt savstarpēji savienojamiem, kārbām jābūt ar iespēju marķēt tās vismaz 4 pielietojuma zonām (dažādu krāsu kārbas vai to vāki) un uzlīmēm sagatavotā šķīduma parametru un derīguma termiņa norādīšanai. • Salvetes impregnējamas ar dezinfekcijas līdzekli, kā arī lietojamas bez impregnēšanas • Salvetes derīgas ne mazāk kā 28 dienas kopš tās ir impregnētas ar dezinfekcijas līdzekli Piezīmes: • Kolonnā Nr.5 jānorāda 1 salvetes (23.1.) un 1 trauka (23.2.) cena •Iepakojumu cenām jābūt atbilstošām norādītajai 1 salvetes cenai, t.i. iepakojuma cena jāaprēķina ņemot vērā 1 salvetes (23.1.) cenu •Preces jāpiegādā iepakojumā, kas nodrošinās preces saglabāšanu tās pārvadāšanas un glabāšanas laikā atbilstoši ražotāja noteiktām prasībām un spēkā esošiem normatīvajiem aktiem
A10: Iepakojuma lielums | B10: Pretendenta piedāvātais tilpums | C10: Ref.Nr. | D10: Plānotais vienību daudzums patēriņam 24 mēnešiem | E10: Preces cena par vienu iepakojumu EUR (bez PVN)
A11: SAUSĀS SALVETES VIRSMU UN MEDICĪNAS IERĪČU ĀTRAI DEZINFEKCIJAI UN TĪRĪŠANAI
A12: Vismaz 90 salvetes | B12: aizpilda pretendents | C12: aizpilda pretendents | D12: 4500000 | E12: aizpilda pretendents
A13: TRAUKI SALVEŠU IEVIETOŠANAI VIRSMU UN MEDICĪNAS IERĪČU ĀTRAI DEZINFEKCIJAI UN TĪRĪŠANAI
A14: Trauks ievietošanai | B14: aizpilda pretendents | C14: aizpilda pretendents | D14: 1000 | E14: aizpilda pretendents
A15: Kopsumma par 23.pozīciju EUR (bez PVN): | F15: =SUM(F7:F8) -> 0

Sheet 24.pozīcija
A1: Ražotājfirma: | B1: Aizpilda pretendents | C1: →uz Saturu
A2: Pretendents: | B2: Aizpilda pretendents
A3: Reģistrācijas Nr. | B3: Aizpilda pretendents
A4: Nr. | B4: Dezinfekcijas līdzekļa apraksts | C4: Dezinfekcijas līdzekļa nosaukums | D4: Kopējais lietošanai gatavā šķīduma plānotais daudzums (L) 24 mēnešiem | E4: Viena litra cena EUR (bez PVN) | F4: Kopējā plānotā apjoma summa, EUR (bez PVN) | G4: Piezīmes
A5: 1 | B5: 2 | C5: 3 | D5: 4 | E5: 5 | F5: 6 (4*5) | G5: 7
A6: 24. | B6: TRAUKU DEZINFEKCIJAS LĪDZEKLIS | C6: aizpilda pretendents | D6: 250 | E6: aprēķina pretendents | F6: =IFERROR(D6*E6,0) -> 0
B7: Iesniedzamie dokumenti: • Latvijas Vides, Ģeoloģijas un Meteoroloģijas centra biocīda inventarizācijas numurs ar apstiprinoša dokumenta kopiju • Dezinfekcijas līdzekļu ražotāja etiķetes paraugs • Drošības datu lapa latviešu valodā atbilstoša REACH Regulas 1907/2006 EK 31.pantam • Pretendenta apstiprinātu dezinfekcijas līdzekļa aprakstu latviešu valodā. • Dati par iedarbību un tās ātrumu pret veģetatīvām baktērijām, sēnītēm, HIV, hepatītu B un C vīrusiem • Pēc konkursa komisijas pieprasījuma papildu jāiesniedz produkta mikrobioloģiskās, toksikoloģiskās un ekoloģiskās izpētes datu kopijas • Pēc konkursa komisijas pieprasījuma iesniegt līdzekli praktiskai testēšanai
B8: Sastāvs: • Aktīvā viela - kvartārā amonija savienojumi • Fungicīda, virucīda un baktericīda iedarbība (Gram (+) un Gram (-) baktērijas, HBV, HIV, Herpes, HCV, MRSA u.c.)
B9: Piezīmes: • Kolonnā Nr.5 jānorāda viena litra cena neatkarīgi no dezinfekcijas līdzekļa iepakojuma tilpuma • Jāpiedāvā 5-6 litru tilpumā. Iepakojumu cenām jābūt atbilstošām norādītajai 1 l cenai, t.i. iepakojuma cena jāaprēķina ņemot vērā 1 l cenu •Darba šķīduma koncentrācija ne lielāka par 0.5%. Iedarbības laiks līdz 15 min. • Jānodrošina ar iespēju bez papildu izmaksām, alerģisku reakciju gadījumā mainīt līdzekli ne vairāk kā 5% no kopējā apjoma, nosaucot cita ražotāja ekvivalento līdzekli • Preces jāpiegādā iepakojumā, kas nodrošinās preces saglabāšanu tās pārvadāšanas un glabāšanas laikā atbilstoši ražotāja noteiktām prasībām un spēkā esošiem normatīvajiem aktiem
A10: Iepakojuma lielums | B10: Pretendenta piedāvātais tilpums | C10: Ref.Nr. | D10: Plānotais daudzums 24 mēnešiem (L) | E10: Preces cena par vienu vienību EUR (bez PVN)
A11: 5-6 litri | B11: aizpilda pretendents | C11: aizpilda pretendents | D11: 250 | E11: aizpilda pretendents

Sheet 25.pozīcija
A1: Ražotājfirma: | B1: Aizpilda pretendents | C1: →uz Saturu
A2: Pretendents: | B2: Aizpilda pretendents
A3: Reģistrācijas Nr. | B3: Aizpilda pretendents
A4: 25. | B4: DEZINFEKCIJAS LĪDZEKĻI (1.) UN SALVETES (2.) CILVĒKA AUDU UN ŠŪNU TRANSPLANTĀCIJAS CENTRA DARBĪBAS NODROŠINĀŠANAI
B5: Iesniedzamie dokumenti: • Latvijas Vides, Ģeoloģijas un Meteoroloģijas centra biocīda inventarizācijas numurs ar apstiprinoša dokumenta kopiju • Dezinfekcijas līdzekļu ražotāja etiķetes paraugs • Drošības datu lapa latviešu valodā atbilstoša REACH Regulas 1907/2006 EK 31.pantam • Pretendenta apstiprinātu dezinfekcijas līdzekļa aprakstu ražotājvalsts un latviešu valodā. • Dati par iedarbību un tās ātrumu pret veģetatīvām baktērijām, sēnītēm, HIV, hepatītu B un C vīrusiem • Pēc konkursa komisijas pieprasījuma papildu jāiesniedz produkta mikrobioloģiskās, toksikoloģiskās un ekoloģiskās izpētes datu kopijas • Pēc konkursa komisijas pieprasījuma iesniegt līdzekli praktiskai testēšanai
B6: Piezīmes: • Kolonnā Nr.7 jānorāda viena litra vai vienas salvetes cena neatkarīgi no dezinfekcijas līdzekļa iepakojuma tilpuma • Jānodrošina ar iespēju bez papildu izmaksām, alerģisku reakciju gadījumā mainīt līdzekli ne vairāk kā 5% no kopējā apjoma, nosaucot cita ražotāja ekvivalento līdzekli • Preces jāpiegādā iepakojumā, kas nodrošinās preces saglabāšanu tās pārvadāšanas un glabāšanas laikā atbilstoši ražotāja noteiktām prasībām un spēkā esošiem normatīvajiem aktiem
A7: 25.1. | B7: DEZINFEKCIJAS LĪDZEKĻI CILVĒKA AUDU UN ŠŪNU TRANSPLANTĀCIJAS CENTRA DARBĪBAS NODROŠINĀŠANAI | C7: Dezinfekcijas līdzekļa nosaukums | D7: Plānotais daudzums 24 mēnešiem (L) | E7: Pretendenta piedāvātais tilpums | F7: Ref.Nr. | G7: Viena litra cena EUR (bez PVN) | H7: Preces cena par vienu vienību (iepakojumu) EUR (bez PVN) | I7: Kopējā plānotā apjoma summa, EUR (bez PVN) | J7: Piezīmes
A8: 1 | B8: 2 | C8: 3 | D8: 4 | E8: 5 | F8: 6 | G8: 7 | H8: 8 | I8: 9 (4*7) | J8: 10
A9: 25.1.1. | B9: Smidzinātāji ar sterili 70% etanola maisījumu ar WFI (ūdeni injekcijām), trīskaršā iepakojumā, sterilizēti ar y-radiāciju, bakteriālo endotoksnu saturs <0.25 IU/mL, 1000 mL | C9: aizpilda pretendents | D9: 36 | E9: aizpilda pretendents | F9: aizpilda pretendents | G9: aprēķina pretendents | H9: aizpilda pretendents | I9: =IFERROR(D9*G9,0) -> 0
A10: 25.1.2. | B10: Smidzinātāji ar sterili filtrētu ūdeņraža peroksīda 6% maisījumu ar WFI (ūdeni injekcijām). Maisījums ir 0,2 mikronu filtrēts un sterils, piepildīts A klases laminārā plūsmā un trīskārši iesaiņots B / ISO klases 5. klases tīrā telpā. Paredzēts dezinfekcijai lielām un mazām virsmām, ieskaitot, bet neaprobežojoties ar vietām, kur saskaras ar produktiem, un pārvietošanas dezinfekciju. Efektivitāte: baktericīds, raugoīds, fungicīds, virucīds un sporicīds. Atliekas: zema atlikuma profila produkts. Bakteriālo endotoksīnu saturs <0.25 IU/mL. Nodrošināta satura sterilitātes saglabāšana visā lietošanas laikā. Tilpums: 1000 mL. | C10: aizpilda pretendents | D10: 15 | E10: aizpilda pretendents | F10: aizpilda pretendents | G10: aprēķina pretendents | H10: aizpilda pretendents | I10: =IFERROR(D10*G10,0) -> 0
A11: 25.1.3. | B11: Smidzinātāji ar pH neitrālo deterģentu, dubultā vai trīskaršā iepakojumā, sterilizēti ar y-radiāciju. Īpašības - nejonu, nekodīgs, zemas putošanas , bez krāsvielām vai smaržām, paredzēts lietošanai uz cietām, neporainām virsmām, notīra eļļu, lipīgus atlikumus. Tilpums: 1000 mL | C11: aizpilda pretendents | D11: 30 | E11: aizpilda pretendents | F11: aizpilda pretendents | G11: aprēķina pretendents | H11: aizpilda pretendents | I11: =IFERROR(D11*G11,0) -> 0
A12: 25.1.4. | B12: Sterils četrazivietotā amonija dezinfekcijas līdzekļa koncentrāts, kas pagatavots ar injekcijas ūdeni un sterili filtrēts, katrs iepakojums ir paredzēts 5 L darba šķīduma sagatavošanai. Maisījums ir 0,2 mikronu filtrēts un sterils, pildīts saskaņā ar A klases lamināro plūsmu un divreiz iesaiņots iepakojumos B klases tīrā telpā. | C12: aizpilda pretendents | D12: 300 | E12: aizpilda pretendents | F12: aizpilda pretendents | G12: aprēķina pretendents | H12: aizpilda pretendents | I12: =IFERROR(D12*G12,0) -> 0
A13: 25.1.5. | B13: Sterils pH neitrals deterģents, koncentrāts, katrs iepakojums paredzēts 5 l darba šķīduma pagatavošanai | C13: aizpilda pretendents | D13: 150 | E13: aizpilda pretendents | F13: aizpilda pretendents | G13: aprēķina pretendents | H13: aizpilda pretendents | I13: =IFERROR(D13*G13,0) -> 0
A14: 25.2. | B14: SALVETES CILVĒKA AUDU UN ŠŪNU TRANSPLANTĀCIJAS CENTRA DARBĪBAS NODROŠINĀŠANAI | D14: Plānotais daudzums 24 mēnešiem, gab. | E14: Pretendenta piedāvātais tilpums | F14: Ref.nr. | G14: Vienas salvetes cena EUR (bez PVN) | H14: Preces cena par vienu vienību (iepakojumu) EUR (bez PVN) | I14: Kopējā plānotā apjoma summa, EUR (bez PVN) | J14: Piezīmes
A15: 25.2.1. | B15: Sterilas salvetes, kas neizdala mehāniskās daļiņas, 300 x 300 mm. Sterilizēts ar y-radiāciju C/ISO klases 5. klases tīrā telpā. Ultrasoniski noslēgtas malas. Salvešu svars: 120-140 gsm. | C15: aizpilda pretendents | D15: 450 | E15: aizpilda pretendents | F15: aizpilda pretendents | G15: aprēķina pretendents | H15: aizpilda pretendents | I15: =IFERROR(D15*G15,0) -> 0
A16: 25.2.2. | B16: Sterilas salvetes, kas neizdala mehāniskās daļiņas, 200 x 200 mm. Salvešu iepakojums ir iepakots C kategorijas tīrā telpā, sterilizēts ar y-radiāciju . | C16: aizpilda pretendents | D16: 1710 | E16: aizpilda pretendents | F16: aizpilda pretendents | G16: aprēķina pretendents | H16: aizpilda pretendents | I16: =IFERROR(D16*G16,0) -> 0
A17: Kopsumma par 25. pozīciju EUR (bez PVN): | I17: =SUM(I9:I13,I15:I16) -> 0

Sheet 26.pozīcija
A1: Ražotājfirma: | B1: Aizpilda pretendents | C1: →uz Saturu
A2: Pretendents: | B2: Aizpilda pretendents
A3: Reģistrācijas Nr. | B3: Aizpilda pretendents
A4: 26. | B4: DEZINFEKCIJAS LĪDZEKĻI STAC.LATVIJAS ONKOLOĢIJAS CENTRS SLĒGTA TIPA APTIEKAS ASEPTISKĀ BLOKA DARBĪBAS NODROŠINĀŠANAI
B5: Iesniedzamie dokumenti: • Latvijas Vides, Ģeoloģijas un Meteoroloģijas centra biocīda inventarizācijas numurs ar apstiprinoša dokumenta kopiju • Dezinfekcijas līdzekļu ražotāja etiķetes paraugs • Drošības datu lapa latviešu valodā atbilstoša REACH Regulas 1907/2006 EK 31.pantam • Pretendenta apstiprinātu dezinfekcijas līdzekļa aprakstu ražotājvalsts un latviešu valodā. • Dati par iedarbību un tās ātrumu pret veģetatīvām baktērijām, sēnītēm, HIV, hepatītu B un C vīrusiem • Pēc konkursa komisijas pieprasījuma papildu jāiesniedz produkta mikrobioloģiskās, toksikoloģiskās un ekoloģiskās izpētes datu kopijas • Pēc konkursa komisijas pieprasījuma iesniegt līdzekli praktiskai testēšanai
B6: Piezīmes: • Kolonnā Nr.7 jānorāda viena litra vai vienas salvetes cena neatkarīgi no dezinfekcijas līdzekļa iepakojuma tilpuma • Jānodrošina ar iespēju bez papildu izmaksām, alerģisku reakciju gadījumā mainīt līdzekli ne vairāk kā 5% no kopējā apjoma, nosaucot cita ražotāja ekvivalento līdzekli • Preces jāpiegādā iepakojumā, kas nodrošinās preces saglabāšanu tās pārvadāšanas un glabāšanas laikā atbilstoši ražotāja noteiktām prasībām un spēkā esošiem normatīvajiem aktiem
A7: 26.1. | B7: DEZINFEKCIJAS LĪDZEKĻI STAC.LATVIJAS ONKOLOĢIJAS CENTRS SLĒGTA TIPA APTIEKAS ASEPTISKĀ BLOKA DARBĪBAS NODROŠINĀŠANAI | C7: Dezinfekcijas līdzekļa nosaukums | D7: Plānotais daudzums 24 mēnešiem (L) | E7: Pretendenta piedāvātais tilpums | F7: Ref.Nr. | G7: Viena litra cena EUR (bez PVN) | H7: Preces cena par vienu vienību (iepakojumu) EUR (bez PVN) | I7: Kopējā plānotā apjoma summa, EUR (bez PVN) | J7: Piezīmes
A8: 1 | B8: 2 | C8: 3 | D8: 4 | E8: 5 | F8: 6 | G8: 7 | H8: 8 | I8: 9 (4*7) | J8: 10
A9: 26.1.1. | B9: Sterils dezinfekcijas līdzeklis, kas satur 70% spirtu un peroksīdu attiecība 70/30. Dezinfekcijas līdzeklis ir reģistrēts kā biocīds un atbilst Eiropas Parlamenta un Padomes (ES) Regulai 528/2012, kas attiecas uz biocīdu piedāvāšanu tirgū un lietošanu. Jābūt savienojamam ar KiroOncology automātiskām jaukšanās iekārtām, ja nav-piegadātājs nodrošina validāciju. | C9: aizpilda pretendents | D9: 700 | E9: aizpilda pretendents | F9: aizpilda pretendents | G9: aprēķina pretendents | H9: aizpilda pretendents | I9: =IFERROR(D9*G9,0) -> 0
A10: 26.1.2. | B10: Sterils dezinfekcijas līdzeklis, kas satur peroksīdu un peretiķskābi. Dezinfekcijas līdzeklis ir reģistrēts kā biocīds un atbilst Eiropas Parlamenta un Padomes (ES) Regulai 528/2012, kas attiecas uz biocīdu piedāvāšanu tirgū un lietošanu. Tilpums: 850 ml. Jābūt savienojamam ar KiroOncology automātiskām jaukšanās iekārtām, ja nav-piegadātājs nodrošina validāciju. | C10: aizpilda pretendents | D10: 480 | E10: aizpilda pretendents | F10: aizpilda pretendents | G10: aprēķina pretendents | H10: aizpilda pretendents | I10: =IFERROR(D10*G10,0) -> 0
A11: 26.1.3. | B11: Sterils dezinfekcijas līdzeklis, kas satur peroksīdu un peretiķskābi. Dezinfekcijas līdzeklis ir reģistrēts kā biocīds un atblist Eiropas Parlamenta un Padomes (ES) Regulai 528/2012, kas attiecas uz biocīdu piedāvāšanu tirgū un lietošanu. Tilpums: 3.2L. Jābūt savienojamam ar KiroOncology automātiskām jaukšanās iekārtām, ja nav-piegadātājs nodrošina validāciju. | C11: aizpilda pretendents | D11: 4320 | E11: aizpilda pretendents | F11: aizpilda pretendents | G11: aprēķina pretendents | H11: aizpilda pretendents | I11: =IFERROR(D11*G11,0) -> 0
A12: Kopsumma par 26. pozīciju EUR(bez PVN): | I12: =IFERROR(SUM(I9:I11),0) -> 0
